{"text_format":"1","workbook":"xlsx","n_sheets":18,"sheets":["MENU","Mode Opératoire","POT_Spid","Paramètres","PTA","Arbitre_Tranche_Horaire","P.T.A. Indiv.","Recap_ARB","Recap_PTA_Arb","Arbitres CFA","Arbitres","Récap NF FFTT","Note de Frais","PTA_Nom_Arb","Récap NF ORGA","Récap NF ORGA Prest","Prépa_Equipes","Module1"],"not_rendered":{"charts":0,"images":30,"macros":1,"external_links":0,"defined_names":147,"comments":8,"pivot_tables":0},"unopened":[{"sheet":"Module1","index":17,"reason":"part_missing"}],"bounds":{"document_bytes":16777216,"sheet_cells":100000,"rows_first":2000,"rows_last":500,"rows_between":2000,"halvings":0,"cell_chars":16384,"cell_head_chars":4096},"cells_cut":0,"cells_raw":0,"read":"whole","date_system":"1900"}

{"sheet":"MENU","index":0,"n_rows":19,"n_cols":4,"rows_kept":19,"cut":false,"hidden":false,"merged":[[0,0,0,1]]}
["TABLE DES MATIERES",null,"Fichier : ",{"$f":"LEFT(MID(CELL(\"nomfichier\",D1),FIND(\"[\",CELL(\"nomfichier\",D1))+1,999),FIND(\"]\",MID(CELL(\"nomfichier\",D1),FIND(\"[\",CELL(\"nomfichier\",D1))+1,999))-5)","v":"GESTPTA_Ver_XLSM_08_2025."}]
[null,"Mise à jour Application le 01/08/2025"]
["Onglet","Commentaires"]
["Mode Opératoire","Mode Opératoire de GESTPTA"]
["POT_Spid","Copie du POT de Spid"]
[]
["Paramètres","Paramètres"]
["PTA","PTA (N° des Arbitres, Format A1, A2, etc…"]
["Arbitre_Tranche_Horaire","Arbitres (Noms) par Tranche Horaire"]
["P.T.A. Indivividuel","PTA Fiche Individuelle"]
["PTA_Nom_Arb","PTA (avec Noms des  Arbitres)"]
["Recap_ARB","Suivi du nbre de parties arbitrées par arbitres (N°)"]
["Recap_PTA_Arb","Récap PTA avec repos : - Colonnes : N° Arbitres                                                                         …................................- Lignes : horaires"]
[]
["Arbitres CFA","Liste des arbitres nommés par la CFA"]
["Arbitres","Gestion de tous les Arbitres (numérotation et listes)"]
[]
["Note de Frais","Note de frais individuelle"]
["Récap NF FFTT","Récap des prestations pour FFTT"]

{"sheet":"Mode Opératoire","index":1,"n_rows":246,"n_cols":16,"rows_kept":246,"cut":false,"hidden":false,"merged":[[77,14,78,14],[77,15,78,15],[80,14,81,17],[209,0,209,5],[29,9,31,12],[129,7,129,8],[131,7,131,8],[166,0,167,5]]}
[]
[]
[]
[]
["Paramètres compétition et application",null,null,null,null,"page 1"]
["Gestion des arbitres",null,null,null,null,"page 2",null,"Important : pas d'insertion ou suppression de lignes "]
["PTA",null,null,null,null,"page 3",null,null,null,"sur les différentes feuilles de GESTPTA"]
["Impressions",null,null,null,null,"page 4"]
["Boîte à outils",null,null,null,null,"page 6"]
["Mémo Outils Feuille PTA",null,null,null,null,"page 7",null,"Note de frais et divers",null,null,"page 5","Supprimé"]
[]
["Il faut utiliser un classeur par jour  de compétition .",null,null,null,"Après ouverture de GESTPTAV, le renommer GESTPTAV xxxxx (xxxxx=jour) .",null,null,null,null,null,"(pour conserver le modèle)"]
[]
["1 - Renseigner les informations de la compétition dans la feuille \"Paramètres\" dans les cellules vertes ."]
["Date de l'épreuve"]
["(Ne pas oublier d'indiquer le 1er horaire du PTA et horaire de fin)"]
["Etablir l'horaire de base du PTA en cliquant sur celui désiré exemple si tranche majoritaire de 30 mn cliquer sur le bouton Horaire 30 minutes (Paramètres) ."]
[]
["Les horaires dans divers1, divers2, divers3 et divers4 sont modifiables au début de la mise en place du PTA uniquement ."]
["Ils servent à modifier des tranches horaires en cliquant sur les boutons concernés (sur Feuille PTA)"]
[]
["Si Chambre Appel mettre à OUI, cliquer sur le bouton Oui dans Feuille Paramètres, sinon laisser sur Non ou cliquer sur NON"]
[]
["Gestion des réserves par salle, indiquer Oui. Pour avoir plus de 2 réserves, mettre Chambre Appel à Oui et utiliser les colonnes concernées dans le PTA ."]
["Indiquer N° salle dans les cases concernée (1,2, etc)",null,null,null,"(Possibilité jusqu'à 8 réserves)",null,null,null,null,"Modification sur Feuille PTA en utilisant les Boutons "]
[]
["Autres paramètres modifiables :"]
[" - modifier le N° de la 1ère table"]
[]
[" - indication de Adjoint à oui  pour parties finales avec tranche horaire adjoint",null,null,null,null,null," -","Mise à blanc du PTA",null,"ces 2 outils sont sélectifs et permettent de ne pas tour refaire"]
[]
[" - indication de désignation complète sur PTA  à oui ou non",null,null,null,null," -","Mise à blanc  des horaires du PTA"]
[]
[]
["2 - Renseigner les informations des arbitres dans les feuilles \"Arbitres CFA\" (arbitres nationaux), \"Arbitres\" (arbitres régionaux)."]
[]
["Récupérer la liste des arbitres nationaux (Fichier FFTT), sélectionner la zone à partir du nom de Juge Arbitre et jusqu'à la fin des arbitres avec les renseignements et faire copier"]
["Aller sur la feuille \"Arbitres CFA\" et cliquer sur la macro en Rouge Récup liste arbitres CFA",null,null,null,null,null,null,"La liste des arbitres se mettra à jour automatiqement"]
["ainsi que sur les feuilles \"Arbitres\" et toutes les feuilles récap \" Note de Frais\"",null,null,null,null,null,null,"Si nombre de jours différent de la durée de la compétition, indiquer sur feuille \"Arbitres CFA\""]
[null,null,null,null,null,null,null,null,null,null," colonne K en face de l'arbitre concerné"]
["2_1 - Inscrire ou récupérer la liste des régionaux  à partie de la cellule K55 dans la feuille \"Arbitres\" ."]
[]
["2_2"]
[]
["2_2_1 Arbitrage individuel  indiquer le N°  arbitre (Col H) dans colonne A"]
[]
["2_2_2 Si arbitrage à 2  indiquer le N°  arbitre (Col H) dans colonnes A et D .",null,null,null,null,null,"Ex Championnat France Individuels"]
["2_2_3 Si arbitrage par équipes de 2 ou 3,  indiquer le nbre d'équipes prévues dans cellule N1"]
[null," Cette formule permet d'arbitrer 2 tables par une équipe de 3 en désignant individuellement un arbitre pour chaque table"]
[null,"Indiquer le N°  arbitre (Col H) dans les  colonnes A, D et  F ."]
[]
["Pour les 3  cas, la numérotation Alpha numérique de la colonne B se fera automatiquement  en phase 3",null,null,null,null,null,null,null,null,"( Il toujours possible de la faire manuellement )"]
["Pour les 2 premiers cas, sous la forme : A1, A2, ….,A6, B1 ,B2, etc…. 6 N° par lettre  ou A1, A2,..A4, B1, B2;.... 4 N° par lettre"]
["Pour le 3ième cas  :",null," A1  A2  A3  B1  B2 - etc",null,null,null,null,null,"Quand la saisie des N° d'arbitres est faite, passer à la phase 3"]
[]
["3 -","GESTION de la préparation Numérotation Alpha Numérique et impression des Listes d'équipes et d'arbitres "]
[]
["3_1","Si arbitrage individuel (cas N°1)",null,null,"cliquer sur bouton Prépa Num Alphanumérique",null,null,null,null,"numérotation automatique colonne B"]
[]
["3_2","Si arbitrage par  équipe  de 2 (Cas N°2)",null,null,null,"\"\"         puis","cliquer sur bouton Prépa Liste Equipe",null,null,null,"idem et  constitution de la liste des Equipes"]
[]
["3_3","Si arbitrage par équipe de 3 et  N°alphanumérique  individuel (Cas N° 3) ",null,null,null,null,null,"cliquer sur bouton Prépa Liste Equipes et Arbitres Individuels"]
[null,null,null,null,null,null,"numérotation automatique colonne B pour tous les arbitres et constitution de la liste des Equipes"]
[null,"Pour le 3ème cas, possibilité de remettre à l'état Initial les colonnes A à G à partir de la liste de droite ",null,null,null,null,null,null,null,"en cliquant sur bouton dans feuille Arbitres"]
[]
[null,"Les impressions des équipes se font à l'aide des boutons prévus à cet effet ( sous Rubrique Gestion des équipes)"]
[]
[]
[" 2ème liste d'équipe d'arbitres pour parties finales ",null,null,null,null,"(Saisie manuelle)",null,"Indiquer un N° Equipe qui n'existe pas"]
["A partir de A79, possibilité de créer d' autres équipes, quand modification PTA en fin de journée (arbitrage parties finales)"]
["Cette nouvelle liste pourra être imprimée en cliquant avec  le Bouton Impression Equipes et Arbitres Parties Finales"]
[]
["3 - Feuille \"PTA\" ",null,null,null,null,null,"Indication de la date du PTA Cellule A4 (par menu déroulant)"]
[]
["Sur la feuille PTA, le nombre de tables maximum est de 56, possibilité 8,9,16, 24, 32 ou 48 tables, aller dans Paramètres et cliquer sur bouton concerné ."]
["Revenir à 56 tables, pour reparamétrer le nbre de table désiré "]
["Possibilité de masquer des colonnes non utilisées de tables, réserve ou autre en utilisant format, colonne , masquer (menu Excel)"]
["Ne pas oublier d'indiquer le nbre de tables montées",null,null,null,null,null,null,null,null,null,null,null,null,null,"Nouveauté","2019-11-01"]
[]
["La création automatique des horaires sur le PTA a déjà été faite à partir de la Feuille Paramètres (25mn, 30mn, 45mn, 1h00)"]
["Pour modifier une tranche horaire se positionner sur l'horaire à modifier et cliquer sur le Bouton de l'horaire souhaîté en haut à gauche de la feuille PTA .",null,null,null,null,null,null,null,null,null,null,null,null,null,"Gestion des horaires qui se chevauchent"]
[]
["Remplir la grille PTA en indiquant le N° de l'Arbitre ou de l'Equipe  : exemple A1 . Si table non occupée mettre X .",null,null,null,null,null,null,null,null,null,null,null,null,null,"1er cas"]
["Si on indique 2 fois le même arbitre sur la même ligne, indication en rouge des 2 arbitres indiqués en double .",null,null,null,null,null,null,null,null,null,null,null,null,null,"Partie de 30 mn avec des parties de 45 mn"]
["Si on indique 2 fois le même arbitre sur 2 lignes à suivre et table différente, indication en violet sur le N° de l'arbitre précédent .",null,null,null,null,null,null,null,null,null,"En sélectionnant le N° arbitre ou Equipe",null,null,null,"D'autres parties débutent après celles de 30mn"]
["Tout en remplissant la grille PTA, on peut consulter dans Feuille \"Récap_ARB\" le nombre de parties arbitrées ou de réserve ,",null,null,null,null,null,null,null,null,null,null,null,null,null,"mettre une étoile (*) dans la case concernée"]
[null,null,null,null,null,null,null,null,null,null,null,null,null,null,"pour les parties de 45mn"]
["Si en fin de journée, arbitrage à deux (exemple critérium fédéral) :  2 possibilités"]
["Soit de créer faire horaire adjoint, se positionner après le 1er horaire et cliquer sur le bouton Horaire adjoint .",null,null,null,null,null,null,null,null,null,null,null,null,null,"2ème cas"]
["L'horaire indiqué sera le même que l'horaire précédent et le Numéro du tour sera complété par la lettre A . Fiche individuelle alimentée ",null,null,null,null,null,null,null,null,null,null,null,null,null,"Partie de 30 mn avec des parties de 45 mn"]
["Attention, vérifiez la possibité du positionnement de l'adjoint car pas contrôle avec les horaires précédents",null,null,null,null,null,null,null,null,null,null,null,null,null,"pas de partie après les 30mn"]
[null,null,null,null,null,null,null,null,null,null,null,null,null,null,"numérotation du tour en indiquant avec la mention B"]
["Soit faire la procédure (voir ligne 67 ci-dessus)",null,null,null," 2ème liste d'équipe d'arbitres pour parties finales ",null,null,null,null,null,"permet de visionner sur le PTA l'Arbitre",null,null,null,null,"exemple  20B"]
[null,null,null,null,null,null,null,null,null,null,"ou l'Equipe et de voir la cohérence.",null,null,null,"mettre une étoile (*) dans la case concernée"]
["Quand le PTA est rempli, masquer les lignes inutiles ."]
["Se positionner sur celles-ci et cliquer sur le Bouton Masquer lignes",null,null,null,null,null,null,null,null,null,null,null,null,null,"Quand on met une étoile, la case s'agrandit (plus de bordure entre 2 zones)"]
["Pour démasquer des lignes cachées, se positionner sur les lignes de chaque côté et cliquer sur le Bouton Afficher lignes .",null,null,null,null,null,null,null,null,null,null,null,null,null,"Sur la fiche individuelle, la mention du n° de table est complétée avec Suite"]
["Pour les Colonnes, pour les afficher ou les masquer, le faire avec le menu Excel"]
[null,null,null,null,null,null,null,null,null,null,null,null,null,null,"Dans récap , le nbre de parties est correct."]
["Quelques outils à disposition sur la Feuille PTA",null,null,null,null,null,null,"Vérification avec le POT issu de SPIDD"]
[]
["Masquer ou afficher des lignes      -",null,null,"Enlever ou remettre quadrillage",null,null,null,"Il est possible de copier le POT issu de SPIDD dans la feuille POT-Spid"]
[null,null,null,null,null,null,null,"Cela permet de vérifier les principaux horaires du POT ave le PTA"]
["Création zone de texte en faisant CTRL+T",null,null,null,null,null,null,"Les horaires en rouge sur la feuille POT_Spid peuvent être ceux non concernés par une "]
["Compléter cette zone avec le libellé désiré",null,null,null,null,null,null,"tranche horaire d'un tour de compétition."]
["Cette action déprotège le feuille",null,null,"Cliquer sur le bouton protéger Feuille",null,null,null,"Si écart entre PTA et POT_Spid, l'horaire concerné sur PTA est en jaune pâle"]
[]
["Voir aussi",null,null,null,null,null,null,"Cela permet aussi d'avoir les parties arbitrées sur PTA individuel"]
["Feuille Récap PTA Arbitre : ",null,null,"permet de voir en global le PTA de chaque arbitre"]
[null,null,null,"Aide pour la gestion des repos"]
[]
["4 - Impression des PTA Individuels ou de chaque équipe (Feuille P.T.A. Indiv.)",null,null,null,null,null,null,null,null,"Feuille personnalisée"]
[]
["Cette feuille est alimentée automatiquement par le PTA"]
[]
["Impression PTA  individuel"]
["2 possiblités :",null,null,"1 - Impression feuille par feuille "]
[null,null,null,"2 - Impression de toutes les feuilles"]
[]
["Tout d'abord, masquer les lignes inutiles, même procédure que dans le PTA, avec les  boutons dans feuille \"P.T.A. Indiv.\""]
[]
["1 - Impression feuille par feuille ",null,null,"Se positionner sur la cellule Verte N10 pour choisir le N° Arbitre ou de l'équipe et imprimer"]
[null,null,null,"La fiche individuelle se met à jour automatiquemnt par rapport au N° équipe ou arbitre choisi"]
["2 - Impression de toutes les feuilles",null,null,"Cliquer sur ",null,null,"      une imprimante vous sera proposée, la choisir et l'impression se fera automatiquement"]
[null,null,null,null,null,null,"     (petit astuce , choisir une imprimante PDF pour faciliter l'impression "]
["      ou liste du bas si 2 listes d'atbitres ou équipes",null,null,null,null,null,"     et gérer les éventuels incidents d'imprimante) ."]
[]
[]
["Lors de la journée Finale, Désignation non faites pour les parties finales,"]
["Pour éviter que les arbitres partent avant la fin",null,null,null,null,null,null,"Désignation  Complète"]
["indiquer Non dans Feuille Paramètres",null,null,null,"Une mention sera indiquée"]
["sinon laisser à OUI",null,null,null,"sur le PTA et PTA Individuel",null,null,"NON"]
[]
["Impression Feuille Arbitre_Tranche_Horaire"]
[]
["Permet d'imprimer la liste des tables avec les arbitres pour une tranche horaire choisie",null,null,"(Feuille alimentée ensuite automatiquement)"]
["Choisir le N° du tour concerné en C1",null,null,"Colonnes O et P"]
["Pour info, Tours et Horaires :"]
["Affichage de base de 4 tranche horaires"]
[]
["Voir feuille  Arbitre_Tranche_Horaire, cellule R1 et R12"]
[]
["Affichage 3 arbitres "]
["Voir feuille  Arbitre_Tranche_Horaire, cellule W1 et W12"]
[]
["Feuille PTA_Nom_Arbitre (feuille alimentée automatiquement)"]
["PTA avec les noms des arbitres"]
[]
["Feuille Paramètres"]
["Numérotation de la 1ère Table à préciser"]
["Numérotation table libre (ex: 25 à 56)"]
[]
["5 - Gestion Note de Frais et Récap"]
[]
["Feuille Note de Frais"]
["Toutes les informations de l'Arbitre ou JA seront récupérées automatiquement à partir de le feuille Arbitres CFA"]
["Avant impression fiche note de frais",null,null,null,"Si le nbre de jour de l'arbitre est différent de la compétition, saisir le nbre de jour dans feuille Arbitre CFA colonne K \""]
[null,null,null,null,null,null,null,null,null,null,null,"pour l'arbitre concerné"]
["Possibilité d'imprimer chaque note de frais avec les prestations en sélectionnant le nom de l'Arbitre pour diffusion",null,null,null,null,null,null,null,"ou","d'imprimer toutes les fiches des arbitres sur un seul clic"]
[null,null,null,null,null,null,null,null,null,"(petit astuce , choisir une imprimante PDF pour faciliter "]
[null,null,null,null,null,null,null,null,null,"l'impression et gérer les éventuels incidents d'imprimante) ."]
[]
["Feuille Récap NF FFTT"]
["Aucune saisie, récupération automatique"]
[]
[]
["6 - Boîte à Outils"]
[]
[]
["Permet d'apporter des précisions sur des boutons macros"]
["et de faire différentes manipulations automatiques "]
[]
["Feuille Paramètres"]
["Les différents boutons sont expliqués sur la même  feuille et sur le mode opératoire page 1"]
["Surtout ne pas oublier d'indiquer l'heure du début et fin sous la forme 08:30 , affichage à l'écran 08 H 30"]
[]
["Feuille PTA",null,null,"(Voir également Page 3)"]
[]
[null,null,null,"Ce bouton permet de créer un horaire adjoint"]
[null,"Se positionner en dessous de l'horaire  que l'on veut dupliquer et cliquer sur le bouton Tranche adjoint"]
[null,"Cette action, dupliquera l'horaire au dessus et le N° du tour sera complété par un A et sera couleur saumon"]
[]
[null,"Cellule  verte sous N° Arb ou Eq"]
[null,"En indiquant le N° de l'Arbitre ou de l'Equipe dans cette cellule, cela permet de voir où est positionné ce N° sur le PTA"]
[]
[]
[null,"A tout moment, possibilité de créer une zone de texte (exemple pour indiquer une pause ou changement de PMS)"]
[null,"Faire CTRL+T",null,"une zone apparait en haut de la feuille sous la forme suivante",null,null,null,null,null,null,"Cette action déprotège la feuille"]
[null,"vous pouvez inclure du texte, agrandir cette zone  et la positionner où vous voulez",null,null,null,null,null,null,null,null,"Cliquer sur le bouton protéger Feuille"]
[]
[null,null,null,"permet de colorier une zone avec un encadrement"]
[null,null,null,"exemple : faire apparaitre distinctement 2 arbitres (Principal et Adjoint)"]
[null,null,null,null,null,null,null,"Autres couleurs disponibles :"]
[null,"Cliquer sur le bouton en haut de la feuille PTA identique à"]
[null,"Les 2 cellules seront  en couleur  et encadrées comme ci joint"]
[null,"Pour revenir à la forme initiale"]
[null,null,null,"Cliquer sur Enlever quadrillage, puis Remettre quadrillage"]
[null,null,null,null,null,null,null,"Griser des zones du PTA non concernées par N° arbitre ou X"]
[null,"Griser une Zone",null,"se positionner sur la zone à griser et",null,null,null,"Griser en faisant CTRL+MAJ+G"]
[null,"Dégriser une zone",null,"se positionner sur la zone à dégriser et",null,null,null,"Dégriser  \"\"       CTRL+MAJ+D"]
[]
["Feuilles P.T.A. Indiv.",null,null,"et","Note de Frais"]
[null,"Impression de la totalité des  PTA individuels et des Notes de frais"]
[null,"Dans les 2 cas,on peut imprimer l'ensemble des PTA de chaque arbitre et des  notes de frais "]
[null,"en cliquant sur les boutons concernés"]
[null,"La macro demande choisir l'imprimante : il vaut mieux choisir une imprimante PDF, car en cas de disfonctionnement"]
[null,"on peu reprendre plus facilement l'impression avec le fichier PDF"]
[]
[]
["MEMO Outils Feuille PTA"]
[]
["Gestion des horaires ponctuels"]
["Les horaires ponctuels peuvent être modifiés avant de faire le PTA"]
["ensuite, il ne faut plus les modifier pendant toute la gestion du PTA de la journée concernée"]
[]
[]
[]
[]
["Se positionner sur l'horaire à modifier et cliquer sur l'un des horaires choisi"]
[]
["Possibilité d'encadrer des zones du PTA "]
["Exemple :pour encadrer Arbitre principal et Adjoint"]
["(cas de la tranche horaire adjoint)"]
[]
[]
["Pour enlever l'encadrement et la couleur, se servir des boutons"]
["Enlever Quadrillage et Remettre Quadrillage"]
[]
["Afficher et masquer une ou plusieurs lignes",null,null,null,null,null,null,null,null,"Gestion colonne Chambre Appel"]
[]
["Masquer",null,null,null,null,null,null,null,null,"Il est possible de moduler le Nbre de colonnes"]
["Se positionner sur les lignes pour masquer et cliquer sur le bouton",null,null,null,null,null,null,null,null,"de la Chambre Appel  en cliquant sur "]
[null,null,null,null,null,null,null,null,null,"sur les boutons suivants sur feuille PTA"]
["Afficher"]
["Se positionner en encadrant les lignes à afficher et cliquer sur le bouton "]
[]
[]
[null,"Permet de voir le nom de l'arbitre ou de l'équipe"]
[null,"ainsi que la cohérence du placement de l'arbitre ou de l'équipe"]
[]
[null,"A tout moment, possibilité de créer une zone de texte (exemple pour indiquer une pause ou changement de PMS)"]
[null,"Faire CTRL+T",null,"une zone apparait en haut de la feuille sous la forme suivante",null,null,null,null,null,null,"Cette action déprotège la feuille"]
[null,"vous pouvez inclure du texte, agrandir cette zone  et la positionner où vous voulez",null,null,null,null,null,null,null,null,"Cliquer sur le bouton protéger Feuille"]
[null,null,null,null,null,null,null,"Griser des zones du PTA non concernées par N° arbitre ou X"]
[null,"Griser une Zone",null,"se positionner sur la zone à griser et",null,null,null,"Griser en faisant CTRL+MAJ+G"]
[null,"Dégriser une zone",null,"se positionner sur la zone à dégriser et",null,null,null,"Dégriser  \"\"       CTRL+MAJ+D"]

{"sheet":"POT_Spid","index":2,"n_rows":200,"n_cols":2,"rows_kept":200,"cut":false,"hidden":false,"merged":[]}
[]
[]
[]
[{"$f":"IF(C4=\"\",\"\",HOUR(C4)&\",\"&MINUTE(C4))","v":""},{"$f":"IF($A4=\"\",\"\",IF(ISNA(VLOOKUP(A4,H_PTA,1,FALSE))=TRUE,\"\",VLOOKUP(A4,H_PTA,1,FALSE)))","v":""}]
["",""]
["",""]
["",""]
[{"$f":"IF(C8=\"\",\"\",HOUR(C8)&\",\"&MINUTE(C8))","v":""},""]
["",""]
["",""]
["",""]
["",""]
["",""]
["",""]
["",""]
["",""]
["",""]
["",""]
["",""]
["",""]
["",""]
["",""]
["",""]
["",""]
["",""]
["",{"$f":"IF($A26=\"\",\"\",IF(ISNA(VLOOKUP(A26,H_PTA,1,FALSE))=TRUE,\"\",VLOOKUP(A26,H_PTA,1,FALSE)))","v":""}]
["",""]
["",""]
["",""]
["",""]
["",""]
["",""]
["",""]
["",""]
["",""]
["",""]
["",""]
["",""]
["",""]
[{"$f":"IF(C40=\"\",\"\",HOUR(C40)&\",\"&MINUTE(C40))","v":""},""]
["",""]
["",""]
["",""]
["",""]
["",""]
["",""]
["",""]
["",""]
["",""]
["",""]
["",""]
["",""]
["",""]
["",""]
["",""]
["",""]
["",""]
["",""]
["",""]
["",""]
["",""]
["",""]
["",""]
["",""]
["",""]
["",""]
["",""]
["",{"$f":"IF($A68=\"\",\"\",IF(ISNA(VLOOKUP(A68,H_PTA,1,FALSE))=TRUE,\"\",VLOOKUP(A68,H_PTA,1,FALSE)))","v":""}]
["",""]
["",""]
["",""]
[{"$f":"IF(C72=\"\",\"\",HOUR(C72)&\",\"&MINUTE(C72))","v":""},""]
["",""]
["",""]
["",""]
["",""]
["",""]
["",""]
["",""]
["",""]
["",""]
["",""]
["",""]
["",""]
["",""]
["",""]
["",""]
["",""]
["",""]
["",""]
["",""]
["",""]
["",""]
["",""]
["",""]
["",""]
["",""]
["",""]
["",""]
["",""]
["",""]
["",""]
["",""]
[{"$f":"IF(C104=\"\",\"\",HOUR(C104)&\",\"&MINUTE(C104))","v":""},""]
["",""]
["",""]
["",""]
["",""]
["",""]
["",""]
["",""]
["",""]
["",""]
["",""]
["",""]
["",""]
["",""]
["",""]
["",""]
["",""]
["",""]
["",""]
["",""]
["",""]
["",""]
["",""]
["",""]
["",""]
["",""]
["",""]
["",""]
["",{"$f":"IF($A132=\"\",\"\",IF(ISNA(VLOOKUP(A132,H_PTA,1,FALSE))=TRUE,\"\",VLOOKUP(A132,H_PTA,1,FALSE)))","v":""}]
["",""]
["",""]
["",""]
[{"$f":"IF(C136=\"\",\"\",HOUR(C136)&\",\"&MINUTE(C136))","v":""},""]
["",""]
["",""]
["",""]
["",""]
["",""]
["",""]
["",""]
["",""]
["",""]
["",""]
["",""]
["",""]
["",""]
["",""]
["",""]
["",""]
["",""]
["",""]
["",""]
["",""]
["",""]
["",""]
["",""]
["",""]
["",""]
["",""]
["",""]
["",""]
["",""]
["",""]
["",""]
[{"$f":"IF(C168=\"\",\"\",HOUR(C168)&\",\"&MINUTE(C168))","v":""},""]
["",""]
["",""]
["",""]
["",""]
["",""]
["",""]
["",""]
["",""]
["",""]
["",""]
["",""]
["",""]
["",""]
["",""]
["",""]
["",""]
["",""]
["",""]
["",""]
["",""]
["",""]
["",""]
["",""]
["",""]
["",""]
["",""]
["",""]
["",{"$f":"IF($A196=\"\",\"\",IF(ISNA(VLOOKUP(A196,H_PTA,1,FALSE))=TRUE,\"\",VLOOKUP(A196,H_PTA,1,FALSE)))","v":""}]
["",""]
["",""]
["",""]
["",""]

{"sheet":"Paramètres","index":3,"n_rows":68,"n_cols":12,"rows_kept":68,"cut":false,"hidden":false,"merged":[[43,2,44,3],[42,5,44,7],[35,5,37,7],[5,5,5,6],[5,7,5,8],[2,5,2,9],[5,9,5,10],[3,5,3,6],[3,7,3,8],[3,9,3,10],[4,9,4,10],[21,0,21,1],[21,9,21,11],[4,7,4,8],[39,9,41,11],[37,0,37,1],[36,2,37,3],[22,6,24,8],[34,9,35,11],[4,5,4,6],[26,4,27,4],[24,4,25,4],[18,4,18,5]]}
["Compétition :",null,"Date1",null,"Nbre  de jours",null,"date Fin",{"$f":"IF(F1=2,D2,IF(F1=3,D3,IF(F1=4,D4,IF(F1=5,D5,IF(F1=6,D6,IF(F1=7,D7))))))","v":false}]
["Lieu :",null,"Date2",{"$f":"IF($F$1>=2,D1+1,\"\")","v":""},"Date complète ",{"$f":"IF(D1=\"\",\"\",DAY(D1)&\"/\"&MONTH(D1)&\" au \"&DAY(H1)&\"/\"&MONTH(H1)&\"/\"&YEAR(H1))","v":""}]
["Saison :","2025/2026","Date3",{"$f":"IF($F$1>=3,D2+1,\"\")","v":""},null,"Paramétrage des Salles /Tables",null,null,null,null,32]
[{"$f":"IF('Arbitres CFA'!C2=\"\",\"Juge-Arbitre\",'Arbitres CFA'!A2)","v":"Juge-Arbitre"},{"$f":"'Arbitres CFA'!C2","v":0},"Date4",{"$f":"IF($F$1>=4,D3+1,\"\")","v":""},null,"Salle 1",null,"Salle 2",null,"Salle 3"]
[{"$f":"IF('Arbitres CFA'!C3=\"\",\"JA Adjoint\",'Arbitres CFA'!A3)","v":"JA Adjoint"},{"$f":"'Arbitres CFA'!C3","v":0},"Date5",{"$f":"IF($F$1>=5,D4+1,\"\")","v":""},null,"Tables",null,"Tables",null,"Tables"]
[{"$f":"IF('Arbitres CFA'!C4=\"\",\"JA Adjoint\",'Arbitres CFA'!A4)","v":"JA Adjoint"},{"$f":"'Arbitres CFA'!C4","v":0},"Date6",{"$f":"IF($F$1>=6,D5+1,\"\")","v":""},null,"indiquer 1ère et dernière table",null,"indiquer 1ère et dernière table",null,"indiquer 1ère et dernière table"]
[{"$f":"IF('Arbitres CFA'!C5=\"\",\"RA\",'Arbitres CFA'!A5)","v":"RA"},{"$f":"'Arbitres CFA'!C5","v":0},"Date7",{"$f":"IF($F$1>=7,D6+1,\"\")","v":""}]
[{"$f":"IF('Arbitres CFA'!C6=\"\",\"RE\",'Arbitres CFA'!A6)","v":"RE"},{"$f":"'Arbitres CFA'!C6","v":0},null,"Chambre Appel","Gestion"]
[null,null,null,null,"Réserve"]
[{"$f":"IF('Arbitres CFA'!C11=\"\",\"RE\",'Arbitres CFA'!A11)","v":"RE"},{"$f":"'Arbitres CFA'!C11","v":0},null,null,"par salle"]
["25 minutes","00:25:00"]
["30 minutes","00:30:00",null,"oui","OUI"]
["45 minutes","00:45:00"]
["1 H 00","01:00:00",null,"N° 1ère Table"]
["Divers 1","00:30:00",null,1]
["Divers 2","00:40:00",null,"Arbitre Adjoint"]
["Divers 3","00:45:00",null,"OUI",null,null,null,null,null,null,null,"²"]
["Divers 4","01:00:00"]
["Horaire Adjoint","00:00:00",null,null,"Désignation  Complète"]
["1er Horaire du PTA",null,"FIN",null,"OUI"]
[]
["Paramétrage globale des Horaires et Tables",null,"GESTION DES ONGLETS : Mise à blanc globale ou partielle"]
[null,null,null,null,null,null,"Mise à blanc Renseignements Compétition, cliquer sur"]
[]
[null,null,null,null,"Mettre le fichier vierge"]
[null,null,"Mise à blanc du PTA, cliquer sur"]
[null,null,null,null,"Cliquer sur les boutons suivants"]
[]
[null,null,null,1,6]
[null,null,"Mise à blanc des horaires"]
[]
[]
[null,null,null,2]
[]
[]
[]
[null,null,"Mise à blanc de la liste des arbitres cliquer sur"]
["Modifier le nombre de Tables"]
[]
[]
[null,null,null,3]
[]
[]
[null,null,"Mise à blanc des Chiffres Arbitres (3 colonnes)"]
[]
[]
["Revenir à 56 tables"]
[null,null,null,4]
[]
[]
[]
[null,null,"Mise à blanc des N° Equipes ou Arbitres"]
["Masquage N° de table"]
["mettre X au dessus du N° de table sur Feuille PTA"]
[]
[null,null,null,5]
[]
[]
[]
[]
["Paramètres Note de Frais"]
["Ind Km","Motif Déplacement","Montant Prestation"]
[0.13,"Arbitre",25]
[0.25,"Juge Arbitre",40]
[0,"Juge Arbitre Adjoint",35]
[null,"Contrôle Raquettes",35]
[null,"Superviseur",35,"JAA"]
[null,"Superviseur JAN",40,"Juge Arbitre"]

{"sheet":"PTA","index":4,"n_rows":54,"n_cols":163,"rows_kept":54,"cut":false,"hidden":false,"merged":[[0,4,0,9],[0,60,0,61],[0,10,0,11],[0,70,0,71],[3,4,3,11],[5,75,5,80],[50,0,51,3],[5,1,6,1],[3,0,3,3],[1,0,1,2],[5,60,5,61],[1,4,1,9],[1,15,1,19],[5,70,6,70],[50,70,51,70],[5,71,5,74],[2,4,2,9],[50,4,51,11]]}
[{"$f":"Part4","v":"00:30:00"},{"$f":"Part5","v":"00:40:00"},{"$f":"Part6","v":"00:45:00"},{"$f":"Part8","v":"01:00:00"},null,null,null,null,null,null,"Masquer ou afficher lignes",null,null,{"$f":"IF(Paramètres!F7=\"\",\"\",Paramètres!F4)","v":""},{"$f":"IF(Paramètres!F7=\"\",\"\",Paramètres!F7&\" à \"&Paramètres!G7)","v":""},{"$f":"Paramètres!G7+1","v":1},{"$f":"IF(Paramètres!H7=\"\",\"\",Paramètres!H4)","v":""},{"$f":"IF(Paramètres!H7=\"\",\"\",Paramètres!H7&\" à \"&Paramètres!I7)","v":""},{"$f":"Paramètres!I7+1","v":1},{"$f":"IF(Paramètres!J7=\"\",\"\",Paramètres!J4)","v":""},{"$f":"IF(Paramètres!J7=\"\",\"\",Paramètres!J7&\" à \"&Paramètres!K7)","v":""},{"$f":"Paramètres!K7+1","v":1},null,null,null,null,null,null,null,null,null,null,null,null,null,null,null,null,null,null,null,null,null,null,null,null,null,null,null,null,null,null,null,null,null,null,null,null,null,null,null,null,null,null,null,null,null,null,null,null,"Si Gestion Réserve par salle, indiquer N° Salle Ligne 4 au-dessus Réserve",null,null,null,null,null,null,null,null,null,null,null," ",null,null,null,null,null,null,null,null,null,null,null,null,null,null,null,null,null,null,null,null,null,null,null,null,null,null,null,null,null,null,null,null,null,null,null,null,null,null,null,null,null,null,null,null,null,null,null,null,null,null,null,null,null,null,null,null,null,null,null,null,null,null,null,null,null,null,null,null,null,null,null,null,null,null,null,null,null,null,null,"Choix nbre CA ou Réserve"]
[{"$f":"Comp","v":0},null,null,null,{"$f":"IF($D$3=\"\",\"\",IF(ISNA(VLOOKUP($D$3,Arbitres!B4:C103,2,FALSE))=TRUE,\"\",VLOOKUP($D$3,Arbitres!B4:C103,2,FALSE)))","v":""},null,null,null,null,null,null,null,null,null,null,{"$f":"IF(A4=\"\",\"\",A4)","v":""}]
[{"$f":"Lieu","v":0},null,null,"I1",{"$f":"IF($D$3=\"\",\"\",IF(ISNA(VLOOKUP($D$3,Arbitres!B4:E82,4,FALSE))=TRUE,\"\",VLOOKUP($D$3,Arbitres!B4:E103,4,FALSE)))","v":""},null,null,null,null,null,null,null,null,null,null,null,null,null,null,null,null,null,null,null,null,null,null,null,null,null,null,null,null,null,null,null,null,null,null,null,null,null,null,null,null,null,null,null,null,null,null,null,null,null,null,null,null,null,null,null,{"$f":"IF(Gest_res=\"OUI\",\"Gestion des Salles/Réserves\",\"\")","v":"Gestion des Salles/Réserves"}]
[null,null,null,null,"PLAN DE TRAVAIL DES ARBITRES"]
[null,null,null,null,null,null,null,null,null,null,null,null,null,{"$f":"IF(Des_comp=\"Non\",\"Désignation des Parties Finales       non faite\",\"\")","v":""}]
["Tour","Heures","Tables","Tables",null,null,null,null,null,null,null,null,null,null,null,null,null,null,null,null,null,null,null,null,null,null,null,null,null,null,null,null,null,null,null,null,null,null,null,null,null,null,null,null,null,null,null,null,null,null,null,null,null,null,null,null,null,null,null,null,"Réserve",null,{"$f":"IF(AND(CHAP=\"oui\",Gest_res=\"OUI\"),\"(suite)\",IF(CHAP=\"oui\",\"CA/Réserve\",\"\"))","v":"(suite)"},null,null,null,null,null,null,null,"Heures","Repos",null,null,null,"(Suite)",null,null,null,null,null,null,null,null,null,null,null,null,null,null,null,null,null,null,null,null,null,null,null,null,null,null,null,null,null,null,null,null,null,null,null,null,null,null,null,null,null,null,null,null,null,null,null,null,null,null,null,null,null,null,null,null,null,null,null,null,null,null,null,null,null,null,null,null,null,null,null,null,null,null,null,null,null,null,null,null,null,null,null,null,null,{"$f":"IF(POT_Spid!C5<>\"\",\"OK\",\"KO\")","v":"KO"}," "]
["N°",null,"Montées","Utilisées",{"$f":"Num1T","v":1},{"$f":"E7+1","v":2},{"$f":"F7+1","v":3},4,5,6,7,8,9,10,11,12,13,14,15,16,17,18,19,20,21,22,23,24,25,26,27,28,29,30,31,32,33,34,35,36,37,38,39,40,41,42,43,44,45,46,47,48,49,50,51,52,53,54,55,56,"R1","R2",{"$f":"IF(Gest_res=\"OUI\",\"R3\",IF(CHAP=\"oui\",\"CA1\",\"\"))","v":"R3"},{"$f":"IF(Gest_res=\"OUI\",\"R4\",IF(CHAP=\"oui\",\"CA2\",\"\"))","v":"R4"},{"$f":"IF(Gest_res=\"OUI\",\"R5\",IF(CHAP=\"oui\",\"CA3\",\"\"))","v":"R5"},{"$f":"IF(Gest_res=\"OUI\",\"R6\",IF(CHAP=\"oui\",\"CA4\",\"\"))","v":"R6"},{"$f":"IF(Gest_res=\"OUI\",\"R7\",IF(CHAP=\"oui\",\"CA5\",\"\"))","v":"R7"},{"$f":"IF(Gest_res=\"OUI\",\"R8\",IF(CHAP=\"oui\",\"CA6\",\"\"))","v":"R8"},{"$f":"IF(Gest_res=\"OUI\",\"R9\",IF(CHAP=\"oui\",\"CA7\",\"\"))","v":"R9"},{"$f":"IF(Gest_res=\"OUI\",\"R10\",IF(CHAP=\"oui\",\"CA8\",\"\"))","v":"R10"},null,null,null,null,null,null,null,null,null,null,null,null,null,"*",null,null,null,{"$f":"Num1T","v":1},{"$f":"CJ7+1","v":2},{"$f":"CK7+1","v":3},4,5,6,7,8,9,10,11,12,13,14,15,16,17,18,19,20,21,22,23,24,25,26,27,28,29,30,31,32,33,34,35,36,37,38,39,40,41,42,43,44,45,46,47,48,49,50,51,52,53,54,55,56,57,58,59,60,61,62,63,64,65,66,67,{"$f":"EX7+1","v":68},69,70,71,72,73,74]
[{"$f":"IF(hor1pta<>\"\",1,\"\")","v":""},{"$f":"hor1pta","v":"00:00:00"},32,{"$f":"IF(C8=0,0,(COUNTA(E8:BH8)-(COUNTIF(E8:BH8,\"=x\"))))","v":0},null,null,null,null,null,null,null,null,null,null,null,null,null,null,null,null,null,null,null,null,null,null,null,null,null,null,null,null,null,null,null,null,null,null,null,null,null,null,null,null,null,null,null,null,null,null,null,null,null,null,null,null,null,null,null,null,null,null,null,null,null,null,null,null,null,null,{"$f":"B8","v":"00:00:00"},null,null,null,null,null,null,null,null,null,null,null,{"$f":"IF(ISNA(MATCH(CG8,CJ8:FE8,0)=TRUE),\"\",MATCH(CG8,CJ8:FE8,0))","v":""},{"$f":"CG8&$CF$7","v":"*"},{"$f":"ARB&Tour","v":""},{"$f":"IF(ISNA(MATCH(CF8,CJ8:FE8,0)=TRUE),\"\",MATCH(CF8,CJ8:FE8,0))","v":1},{"$f":"IF(CH8<1,\"\",IF(CH8=CE8,CE8,CH8&\" Suite\"))","v":"1 Suite"},{"$f":"IF(OR(E8=\"\",E8=\"X\"),\"X1\",IF(E8<>\"*\",E8&Tour,IF(AND(E8=\"*\",E7=\"*\"),E6&Tour&\"*\",E7&Tour&\"*\")))","v":"X1"},{"$f":"IF(OR(F8=\"\",F8=\"X\"),\"X1\",IF(F8<>\"*\",F8&Tour,IF(AND(F8=\"*\",F7=\"*\"),F6&Tour&\"*\",F7&Tour&\"*\")))","v":"X1"},{"$f":"IF(OR(G8=\"\",G8=\"X\"),\"X1\",IF(G8<>\"*\",G8&Tour,IF(AND(G8=\"*\",G7=\"*\"),G6&Tour&\"*\",G7&Tour&\"*\")))","v":"X1"},{"$f":"IF(OR(H8=\"\",H8=\"X\"),\"X1\",IF(H8<>\"*\",H8&Tour,IF(AND(H8=\"*\",H7=\"*\"),H6&Tour&\"*\",H7&Tour&\"*\")))","v":"X1"},{"$f":"IF(OR(I8=\"\",I8=\"X\"),\"X1\",IF(I8<>\"*\",I8&Tour,IF(AND(I8=\"*\",I7=\"*\"),I6&Tour&\"*\",I7&Tour&\"*\")))","v":"X1"},{"$f":"IF(OR(J8=\"\",J8=\"X\"),\"X1\",IF(J8<>\"*\",J8&Tour,IF(AND(J8=\"*\",J7=\"*\"),J6&Tour&\"*\",J7&Tour&\"*\")))","v":"X1"},{"$f":"IF(OR(K8=\"\",K8=\"X\"),\"X1\",IF(K8<>\"*\",K8&Tour,IF(AND(K8=\"*\",K7=\"*\"),K6&Tour&\"*\",K7&Tour&\"*\")))","v":"X1"},{"$f":"IF(OR(L8=\"\",L8=\"X\"),\"X1\",IF(L8<>\"*\",L8&Tour,IF(AND(L8=\"*\",L7=\"*\"),L6&Tour&\"*\",L7&Tour&\"*\")))","v":"X1"},{"$f":"IF(OR(M8=\"\",M8=\"X\"),\"X1\",IF(M8<>\"*\",M8&Tour,IF(AND(M8=\"*\",M7=\"*\"),M6&Tour&\"*\",M7&Tour&\"*\")))","v":"X1"},{"$f":"IF(OR(N8=\"\",N8=\"X\"),\"X1\",IF(N8<>\"*\",N8&Tour,IF(AND(N8=\"*\",N7=\"*\"),N6&Tour&\"*\",N7&Tour&\"*\")))","v":"X1"},{"$f":"IF(OR(O8=\"\",O8=\"X\"),\"X1\",IF(O8<>\"*\",O8&Tour,IF(AND(O8=\"*\",O7=\"*\"),O6&Tour&\"*\",O7&Tour&\"*\")))","v":"X1"},{"$f":"IF(OR(P8=\"\",P8=\"X\"),\"X1\",IF(P8<>\"*\",P8&Tour,IF(AND(P8=\"*\",P7=\"*\"),P6&Tour&\"*\",P7&Tour&\"*\")))","v":"X1"},{"$f":"IF(OR(Q8=\"\",Q8=\"X\"),\"X1\",IF(Q8<>\"*\",Q8&Tour,IF(AND(Q8=\"*\",Q7=\"*\"),Q6&Tour&\"*\",Q7&Tour&\"*\")))","v":"X1"},{"$f":"IF(OR(R8=\"\",R8=\"X\"),\"X1\",IF(R8<>\"*\",R8&Tour,IF(AND(R8=\"*\",R7=\"*\"),R6&Tour&\"*\",R7&Tour&\"*\")))","v":"X1"},{"$f":"IF(OR(S8=\"\",S8=\"X\"),\"X1\",IF(S8<>\"*\",S8&Tour,IF(AND(S8=\"*\",S7=\"*\"),S6&Tour&\"*\",S7&Tour&\"*\")))","v":"X1"},{"$f":"IF(OR(T8=\"\",T8=\"X\"),\"X1\",IF(T8<>\"*\",T8&Tour,IF(AND(T8=\"*\",T7=\"*\"),T6&Tour&\"*\",T7&Tour&\"*\")))","v":"X1"},{"$f":"IF(OR(U8=\"\",U8=\"X\"),\"X1\",IF(U8<>\"*\",U8&Tour,IF(AND(U8=\"*\",U7=\"*\"),U6&Tour&\"*\",U7&Tour&\"*\")))","v":"X1"},{"$f":"IF(OR(V8=\"\",V8=\"X\"),\"X1\",IF(V8<>\"*\",V8&Tour,IF(AND(V8=\"*\",V7=\"*\"),V6&Tour&\"*\",V7&Tour&\"*\")))","v":"X1"},{"$f":"IF(OR(W8=\"\",W8=\"X\"),\"X1\",IF(W8<>\"*\",W8&Tour,IF(AND(W8=\"*\",W7=\"*\"),W6&Tour&\"*\",W7&Tour&\"*\")))","v":"X1"},{"$f":"IF(OR(X8=\"\",X8=\"X\"),\"X1\",IF(X8<>\"*\",X8&Tour,IF(AND(X8=\"*\",X7=\"*\"),X6&Tour&\"*\",X7&Tour&\"*\")))","v":"X1"},{"$f":"IF(OR(Y8=\"\",Y8=\"X\"),\"X1\",IF(Y8<>\"*\",Y8&Tour,IF(AND(Y8=\"*\",Y7=\"*\"),Y6&Tour&\"*\",Y7&Tour&\"*\")))","v":"X1"},{"$f":"IF(OR(Z8=\"\",Z8=\"X\"),\"X1\",IF(Z8<>\"*\",Z8&Tour,IF(AND(Z8=\"*\",Z7=\"*\"),Z6&Tour&\"*\",Z7&Tour&\"*\")))","v":"X1"},{"$f":"IF(OR(AA8=\"\",AA8=\"X\"),\"X1\",IF(AA8<>\"*\",AA8&Tour,IF(AND(AA8=\"*\",AA7=\"*\"),AA6&Tour&\"*\",AA7&Tour&\"*\")))","v":"X1"},{"$f":"IF(OR(AB8=\"\",AB8=\"X\"),\"X1\",IF(AB8<>\"*\",AB8&Tour,IF(AND(AB8=\"*\",AB7=\"*\"),AB6&Tour&\"*\",AB7&Tour&\"*\")))","v":"X1"},{"$f":"IF(OR(AC8=\"\",AC8=\"X\"),\"X1\",IF(AC8<>\"*\",AC8&Tour,IF(AND(AC8=\"*\",AC7=\"*\"),AC6&Tour&\"*\",AC7&Tour&\"*\")))","v":"X1"},{"$f":"IF(OR(AD8=\"\",AD8=\"X\"),\"X1\",IF(AD8<>\"*\",AD8&Tour,IF(AND(AD8=\"*\",AD7=\"*\"),AD6&Tour&\"*\",AD7&Tour&\"*\")))","v":"X1"},{"$f":"IF(OR(AE8=\"\",AE8=\"X\"),\"X1\",IF(AE8<>\"*\",AE8&Tour,IF(AND(AE8=\"*\",AE7=\"*\"),AE6&Tour&\"*\",AE7&Tour&\"*\")))","v":"X1"},{"$f":"IF(OR(AF8=\"\",AF8=\"X\"),\"X1\",IF(AF8<>\"*\",AF8&Tour,IF(AND(AF8=\"*\",AF7=\"*\"),AF6&Tour&\"*\",AF7&Tour&\"*\")))","v":"X1"},{"$f":"IF(OR(AG8=\"\",AG8=\"X\"),\"X1\",IF(AG8<>\"*\",AG8&Tour,IF(AND(AG8=\"*\",AG7=\"*\"),AG6&Tour&\"*\",AG7&Tour&\"*\")))","v":"X1"},{"$f":"IF(OR(AH8=\"\",AH8=\"X\"),\"X1\",IF(AH8<>\"*\",AH8&Tour,IF(AND(AH8=\"*\",AH7=\"*\"),AH6&Tour&\"*\",AH7&Tour&\"*\")))","v":"X1"},{"$f":"IF(OR(AI8=\"\",AI8=\"X\"),\"X1\",IF(AI8<>\"*\",AI8&Tour,IF(AND(AI8=\"*\",AI7=\"*\"),AI6&Tour&\"*\",AI7&Tour&\"*\")))","v":"X1"},{"$f":"IF(OR(AJ8=\"\",AJ8=\"X\"),\"X1\",IF(AJ8<>\"*\",AJ8&Tour,IF(AND(AJ8=\"*\",AJ7=\"*\"),AJ6&Tour&\"*\",AJ7&Tour&\"*\")))","v":"X1"},{"$f":"IF(OR(AK8=\"\",AK8=\"X\"),\"X1\",IF(AK8<>\"*\",AK8&Tour,IF(AND(AK8=\"*\",AK7=\"*\"),AK6&Tour&\"*\",AK7&Tour&\"*\")))","v":"X1"},{"$f":"IF(OR(AL8=\"\",AL8=\"X\"),\"X1\",IF(AL8<>\"*\",AL8&Tour,IF(AND(AL8=\"*\",AL7=\"*\"),AL6&Tour&\"*\",AL7&Tour&\"*\")))","v":"X1"},{"$f":"IF(OR(AM8=\"\",AM8=\"X\"),\"X1\",IF(AM8<>\"*\",AM8&Tour,IF(AND(AM8=\"*\",AM7=\"*\"),AM6&Tour&\"*\",AM7&Tour&\"*\")))","v":"X1"},{"$f":"IF(OR(AN8=\"\",AN8=\"X\"),\"X1\",IF(AN8<>\"*\",AN8&Tour,IF(AND(AN8=\"*\",AN7=\"*\"),AN6&Tour&\"*\",AN7&Tour&\"*\")))","v":"X1"},{"$f":"IF(OR(AO8=\"\",AO8=\"X\"),\"X1\",IF(AO8<>\"*\",AO8&Tour,IF(AND(AO8=\"*\",AO7=\"*\"),AO6&Tour&\"*\",AO7&Tour&\"*\")))","v":"X1"},{"$f":"IF(OR(AP8=\"\",AP8=\"X\"),\"X1\",IF(AP8<>\"*\",AP8&Tour,IF(AND(AP8=\"*\",AP7=\"*\"),AP6&Tour&\"*\",AP7&Tour&\"*\")))","v":"X1"},{"$f":"IF(OR(AQ8=\"\",AQ8=\"X\"),\"X1\",IF(AQ8<>\"*\",AQ8&Tour,IF(AND(AQ8=\"*\",AQ7=\"*\"),AQ6&Tour&\"*\",AQ7&Tour&\"*\")))","v":"X1"},{"$f":"IF(OR(AR8=\"\",AR8=\"X\"),\"X1\",IF(AR8<>\"*\",AR8&Tour,IF(AND(AR8=\"*\",AR7=\"*\"),AR6&Tour&\"*\",AR7&Tour&\"*\")))","v":"X1"},{"$f":"IF(OR(AS8=\"\",AS8=\"X\"),\"X1\",IF(AS8<>\"*\",AS8&Tour,IF(AND(AS8=\"*\",AS7=\"*\"),AS6&Tour&\"*\",AS7&Tour&\"*\")))","v":"X1"},{"$f":"IF(OR(AT8=\"\",AT8=\"X\"),\"X1\",IF(AT8<>\"*\",AT8&Tour,IF(AND(AT8=\"*\",AT7=\"*\"),AT6&Tour&\"*\",AT7&Tour&\"*\")))","v":"X1"},{"$f":"IF(OR(AU8=\"\",AU8=\"X\"),\"X1\",IF(AU8<>\"*\",AU8&Tour,IF(AND(AU8=\"*\",AU7=\"*\"),AU6&Tour&\"*\",AU7&Tour&\"*\")))","v":"X1"},{"$f":"IF(OR(AV8=\"\",AV8=\"X\"),\"X1\",IF(AV8<>\"*\",AV8&Tour,IF(AND(AV8=\"*\",AV7=\"*\"),AV6&Tour&\"*\",AV7&Tour&\"*\")))","v":"X1"},{"$f":"IF(OR(AW8=\"\",AW8=\"X\"),\"X1\",IF(AW8<>\"*\",AW8&Tour,IF(AND(AW8=\"*\",AW7=\"*\"),AW6&Tour&\"*\",AW7&Tour&\"*\")))","v":"X1"},{"$f":"IF(OR(AX8=\"\",AX8=\"X\"),\"X1\",IF(AX8<>\"*\",AX8&Tour,IF(AND(AX8=\"*\",AX7=\"*\"),AX6&Tour&\"*\",AX7&Tour&\"*\")))","v":"X1"},{"$f":"IF(OR(AY8=\"\",AY8=\"X\"),\"X1\",IF(AY8<>\"*\",AY8&Tour,IF(AND(AY8=\"*\",AY7=\"*\"),AY6&Tour&\"*\",AY7&Tour&\"*\")))","v":"X1"},{"$f":"IF(OR(AZ8=\"\",AZ8=\"X\"),\"X1\",IF(AZ8<>\"*\",AZ8&Tour,IF(AND(AZ8=\"*\",AZ7=\"*\"),AZ6&Tour&\"*\",AZ7&Tour&\"*\")))","v":"X1"},{"$f":"IF(OR(BA8=\"\",BA8=\"X\"),\"X1\",IF(BA8<>\"*\",BA8&Tour,IF(AND(BA8=\"*\",BA7=\"*\"),BA6&Tour&\"*\",BA7&Tour&\"*\")))","v":"X1"},{"$f":"IF(OR(BB8=\"\",BB8=\"X\"),\"X1\",IF(BB8<>\"*\",BB8&Tour,IF(AND(BB8=\"*\",BB7=\"*\"),BB6&Tour&\"*\",BB7&Tour&\"*\")))","v":"X1"},{"$f":"IF(OR(BC8=\"\",BC8=\"X\"),\"X1\",IF(BC8<>\"*\",BC8&Tour,IF(AND(BC8=\"*\",BC7=\"*\"),BC6&Tour&\"*\",BC7&Tour&\"*\")))","v":"X1"},{"$f":"IF(OR(BD8=\"\",BD8=\"X\"),\"X1\",IF(BD8<>\"*\",BD8&Tour,IF(AND(BD8=\"*\",BD7=\"*\"),BD6&Tour&\"*\",BD7&Tour&\"*\")))","v":"X1"},{"$f":"IF(OR(BE8=\"\",BE8=\"X\"),\"X1\",IF(BE8<>\"*\",BE8&Tour,IF(AND(BE8=\"*\",BE7=\"*\"),BE6&Tour&\"*\",BE7&Tour&\"*\")))","v":"X1"},{"$f":"IF(OR(BF8=\"\",BF8=\"X\"),\"X1\",IF(BF8<>\"*\",BF8&Tour,IF(AND(BF8=\"*\",BF7=\"*\"),BF6&Tour&\"*\",BF7&Tour&\"*\")))","v":"X1"},{"$f":"IF(OR(BG8=\"\",BG8=\"X\"),\"X1\",IF(BG8<>\"*\",BG8&Tour,IF(AND(BG8=\"*\",BG7=\"*\"),BG6&Tour&\"*\",BG7&Tour&\"*\")))","v":"X1"},{"$f":"IF(OR(BH8=\"\",BH8=\"X\"),\"X1\",IF(BH8<>\"*\",BH8&Tour,IF(AND(BH8=\"*\",BH7=\"*\"),BH6&Tour&\"*\",BH7&Tour&\"*\")))","v":"X1"},{"$f":"IF(OR(BI8=\"\",BI8=\"X\"),\"X1\",IF(BI8<>\"*\",BI8&Tour,IF(AND(BI8=\"*\",BI7=\"*\"),BI6&Tour&\"*\",BI7&Tour&\"*\")))","v":"X1"},{"$f":"IF(OR(BJ8=\"\",BJ8=\"X\"),\"X1\",IF(BJ8<>\"*\",BJ8&Tour,IF(AND(BJ8=\"*\",BJ7=\"*\"),BJ6&Tour&\"*\",BJ7&Tour&\"*\")))","v":"X1"},{"$f":"IF(OR(BK8=\"\",BK8=\"X\"),\"X1\",IF(BK8<>\"*\",BK8&Tour,IF(AND(BK8=\"*\",BK7=\"*\"),BK6&Tour&\"*\",BK7&Tour&\"*\")))","v":"X1"},{"$f":"IF(OR(BL8=\"\",BL8=\"X\"),\"X1\",IF(BL8<>\"*\",BL8&Tour,IF(AND(BL8=\"*\",BL7=\"*\"),BL6&Tour&\"*\",BL7&Tour&\"*\")))","v":"X1"},{"$f":"IF(OR(BM8=\"\",BM8=\"X\"),\"X1\",IF(BM8<>\"*\",BM8&Tour,IF(AND(BM8=\"*\",BM7=\"*\"),BM6&Tour&\"*\",BM7&Tour&\"*\")))","v":"X1"},{"$f":"IF(OR(BN8=\"\",BN8=\"X\"),\"X1\",IF(BN8<>\"*\",BN8&Tour,IF(AND(BN8=\"*\",BN7=\"*\"),BN6&Tour&\"*\",BN7&Tour&\"*\")))","v":"X1"},{"$f":"IF(OR(BO8=\"\",BO8=\"X\"),\"X1\",IF(BO8<>\"*\",BO8&Tour,IF(AND(BO8=\"*\",BO7=\"*\"),BO6&Tour&\"*\",BO7&Tour&\"*\")))","v":"X1"},{"$f":"IF(OR(BP8=\"\",BP8=\"X\"),\"X1\",IF(BP8<>\"*\",BP8&Tour,IF(AND(BP8=\"*\",BP7=\"*\"),BP6&Tour&\"*\",BP7&Tour&\"*\")))","v":"X1"},{"$f":"IF(OR(BQ8=\"\",BQ8=\"X\"),\"X1\",IF(BQ8<>\"*\",BQ8&Tour,IF(AND(BQ8=\"*\",BQ7=\"*\"),BQ6&Tour&\"*\",BQ7&Tour&\"*\")))","v":"X1"},{"$f":"IF(OR(BR8=\"\",BR8=\"X\"),\"X1\",IF(BR8<>\"*\",BR8&Tour,IF(AND(BR8=\"*\",BR7=\"*\"),BR6&Tour&\"*\",BR7&Tour&\"*\")))","v":"X1"},{"$f":"IF(BT8=\"\",\"X1\",BT8&Tour)","v":"X1"},{"$f":"IF(BU8=\"\",\"X1\",BU8&Tour)","v":"X1"},{"$f":"IF(BV8=\"\",\"X1\",BV8&Tour)","v":"X1"},{"$f":"IF(BW8=\"\",\"X1\",BW8&Tour)","v":"X1"},{"$f":"IF(BX8=\"\",\"X1\",BX8&Tour)","v":"X1"},{"$f":"IF(BY8=\"\",\"X1\",BY8&Tour)","v":"X1"},{"$f":"IF(BZ8=\"\",\"X1\",BZ8&Tour)","v":"X1"},{"$f":"IF(CA8=\"\",\"X1\",CA8&Tour)","v":"X1"},{"$f":"IF($FF$6=\"KO\",\"\",IF($FF$6=\"OK\",IF(ISNA(VLOOKUP(HOUR(B8)&\",\"&MINUTE(B8),H_POT,1,FALSE))=TRUE,\"\",VLOOKUP(HOUR(B8)&\",\"&MINUTE(B8),H_POT,1,FALSE))))","v":""}]
[{"$f":"IF($A$8=\"\",\"\",IF(B9=B8,A8&\"A\",IF(RIGHT(A8,1)=\"A\",(A7+1),IF(RIGHT(A8,1)=\"B\",(A7+1),(A8+1)))))","v":""},null,32,0,null,null,null,null,null,null,null,null,null,null,null,null,null,null,null,null,null,null,null,null,null,null,null,null,null,null,null,null,null,null,null,null,null,null,null,null,null,null,null,null,null,null,null,null,null,null,null,null,null,null,null,null,null,null,null,null,null,null,null,null,null,null,null,null,null,null,{"$f":"B9","v":"00:00:00"},null,null,null,null,null,null,null,null,null,null,null,{"$f":"IF(ISNA(MATCH(CG9,CJ9:FE9,0)=TRUE),\"\",MATCH(CG9,CJ9:FE9,0))","v":""},{"$f":"CG9&$CF$7","v":"*"},"",{"$f":"IF(ISNA(MATCH(CF9,CJ9:FE9,0)=TRUE),\"\",MATCH(CF9,CJ9:FE9,0))","v":1},{"$f":"IF(CH9<1,\"\",IF(CH9=CE9,CE9,CH9&\" Suite\"))","v":"1 Suite"},"X1","X1","X1","X1","X1","X1","X1","X1","X1","X1","X1","X1","X1","X1","X1","X1","X1","X1","X1","X1","X1","X1","X1","X1","X1","X1","X1","X1","X1","X1","X1","X1","X1","X1","X1","X1","X1","X1","X1","X1","X1","X1","X1","X1","X1","X1","X1","X1","X1","X1","X1","X1","X1","X1","X1","X1","X1","X1","X1","X1","X1","X1","X1","X1","X1","X1","X1","X1","X1","X1","X1","X1","X1","X1",""]
["",null,32,0,null,null,null,null,null,null,null,null,null,null,null,null,null,null,null,null,null,null,null,null,null,null,null,null,null,null,null,null,null,null,null,null,null,null,null,null,null,null,null,null,null,null,null,null,null,null,null,null,null,null,null,null,null,null,null,null,null,null,null,null,null,null,null,null,null,null,{"$f":"B10","v":"00:00:00"},null,null,null,null,null,null,null,null,null,null,null,"","*","",1,"1 Suite","X1","X1","X1","X1","X1","X1","X1","X1","X1","X1","X1","X1","X1","X1","X1","X1","X1","X1","X1","X1","X1","X1","X1","X1","X1","X1","X1","X1","X1","X1","X1","X1","X1","X1","X1","X1","X1","X1","X1","X1","X1","X1","X1","X1","X1","X1","X1","X1","X1","X1","X1","X1","X1","X1","X1","X1","X1","X1","X1","X1","X1","X1","X1","X1","X1","X1","X1","X1","X1","X1","X1","X1","X1","X1",""]
["",null,32,0,null,null,null,null,null,null,null,null,null,null,null,null,null,null,null,null,null,null,null,null,null,null,null,null,null,null,null,null,null,null,null,null,null,null,null,null,null,null,null,null,null,null,null,null,null,null,null,null,null,null,null,null,null,null,null,null,null,null,null,null,null,null,null,null,null,null,"00:00:00",null,null,null,null,null,null,null,null,null,null,null,"","*","",1,"1 Suite","X1","X1","X1","X1","X1","X1","X1","X1","X1","X1","X1","X1","X1","X1","X1","X1","X1","X1","X1","X1","X1","X1","X1","X1","X1","X1","X1","X1","X1","X1","X1","X1","X1","X1","X1","X1","X1","X1","X1","X1","X1","X1","X1","X1","X1","X1","X1","X1","X1","X1","X1","X1","X1","X1","X1","X1","X1","X1","X1","X1","X1","X1","X1","X1","X1","X1","X1","X1","X1","X1","X1","X1","X1","X1",""]
["",null,32,0,null,null,null,null,null,null,null,null,null,null,null,null,null,null,null,null,null,null,null,null,null,null,null,null,null,null,null,null,null,null,null,null,null,null,null,null,null,null,null,null,null,null,null,null,null,null,null,null,null,null,null,null,null,null,null,null,null,null,null,null,null,null,null,null,null,null,"00:00:00",null,null,null,null,null,null,null,null,null,null,null,"","*","",1,"1 Suite","X1","X1","X1","X1","X1","X1","X1","X1","X1","X1","X1","X1","X1","X1","X1","X1","X1","X1","X1","X1","X1","X1","X1","X1","X1","X1","X1","X1","X1","X1","X1","X1","X1","X1","X1","X1","X1","X1","X1","X1","X1","X1","X1","X1","X1","X1","X1","X1","X1","X1","X1","X1","X1","X1","X1","X1","X1","X1","X1","X1","X1","X1","X1","X1","X1","X1","X1","X1","X1","X1","X1","X1","X1","X1",""]
["",null,32,0,null,null,null,null,null,null,null,null,null,null,null,null,null,null,null,null,null,null,null,null,null,null,null,null,null,null,null,null,null,null,null,null,null,null,null,null,null,null,null,null,null,null,null,null,null,null,null,null,null,null,null,null,null,null,null,null,null,null,null,null,null,null,null,null,null,null,"00:00:00",null,null,null,null,null,null,null,null,null,null,null,"","*","",1,"1 Suite","X1","X1","X1","X1","X1","X1","X1","X1","X1","X1","X1","X1","X1","X1","X1","X1","X1","X1","X1","X1","X1","X1","X1","X1","X1","X1","X1","X1","X1","X1","X1","X1","X1","X1","X1","X1","X1","X1","X1","X1","X1","X1","X1","X1","X1","X1","X1","X1","X1","X1","X1","X1","X1","X1","X1","X1","X1","X1","X1","X1","X1","X1","X1","X1","X1","X1","X1","X1","X1","X1","X1","X1","X1","X1",""]
["",null,32,0,null,null,null,null,null,null,null,null,null,null,null,null,null,null,null,null,null,null,null,null,null,null,null,null,null,null,null,null,null,null,null,null,null,null,null,null,null,null,null,null,null,null,null,null,null,null,null,null,null,null,null,null,null,null,null,null,null,null,null,null,null,null,null,null,null,null,"00:00:00",null,null,null,null,null,null,null,null,null,null,null,"","*","",1,"1 Suite","X1","X1","X1","X1","X1","X1","X1","X1","X1","X1","X1","X1","X1","X1","X1","X1","X1","X1","X1","X1","X1","X1","X1","X1","X1","X1","X1","X1","X1","X1","X1","X1","X1","X1","X1","X1","X1","X1","X1","X1","X1","X1","X1","X1","X1","X1","X1","X1","X1","X1","X1","X1","X1","X1","X1","X1","X1","X1","X1","X1","X1","X1","X1","X1","X1","X1","X1","X1","X1","X1","X1","X1","X1","X1",""]
["",null,32,0,null,null,null,null,null,null,null,null,null,null,null,null,null,null,null,null,null,null,null,null,null,null,null,null,null,null,null,null,null,null,null,null,null,null,null,null,null,null,null,null,null,null,null,null,null,null,null,null,null,null,null,null,null,null,null,null,null,null,null,null,null,null,null,null,null,null,"00:00:00",null,null,null,null,null,null,null,null,null,null,null,"","*","",1,"1 Suite","X1","X1","X1","X1","X1","X1","X1","X1","X1","X1","X1","X1","X1","X1","X1","X1","X1","X1","X1","X1","X1","X1","X1","X1","X1","X1","X1","X1","X1","X1","X1","X1","X1","X1","X1","X1","X1","X1","X1","X1","X1","X1","X1","X1","X1","X1","X1","X1","X1","X1","X1","X1","X1","X1","X1","X1","X1","X1","X1","X1","X1","X1","X1","X1","X1","X1","X1","X1","X1","X1","X1","X1","X1","X1",""]
["",null,32,0,null,null,null,null,null,null,null,null,null,null,null,null,null,null,null,null,null,null,null,null,null,null,null,null,null,null,null,null,null,null,null,null,null,null,null,null,null,null,null,null,null,null,null,null,null,null,null,null,null,null,null,null,null,null,null,null,null,null,null,null,null,null,null,null,null,null,"00:00:00",null,null,null,null,null,null,null,null,null,null,null,"","*","",1,"1 Suite","X1","X1","X1","X1","X1","X1","X1","X1","X1","X1","X1","X1","X1","X1","X1","X1","X1","X1","X1","X1","X1","X1","X1","X1","X1","X1","X1","X1","X1","X1","X1","X1","X1","X1","X1","X1","X1","X1","X1","X1","X1","X1","X1","X1","X1","X1","X1","X1","X1","X1","X1","X1","X1","X1","X1","X1","X1","X1","X1","X1","X1","X1","X1","X1","X1","X1","X1","X1","X1","X1","X1","X1","X1","X1",""]
["",null,32,{"$f":"IF(C17=0,0,(COUNTA(E17:BH17)-(COUNTIF(E17:BH17,\"=x\"))))","v":0},null,null,null,null,null,null,null,null,null,null,null,null,null,null,null,null,null,null,null,null,null,null,null,null,null,null,null,null,null,null,null,null,null,null,null,null,null,null,null,null,null,null,null,null,null,null,null,null,null,null,null,null,null,null,null,null,null,null,null,null,null,null,null,null,null,null,"00:00:00",null,null,null,null,null,null,null,null,null,null,null,"","*","",1,"1 Suite","X1","X1","X1","X1","X1","X1","X1","X1","X1","X1","X1","X1","X1","X1","X1","X1","X1","X1","X1","X1","X1","X1","X1","X1","X1","X1","X1","X1","X1","X1","X1","X1","X1","X1","X1","X1","X1","X1","X1","X1","X1","X1","X1","X1","X1","X1","X1","X1","X1","X1","X1","X1","X1","X1","X1","X1","X1","X1","X1","X1","X1","X1","X1","X1","X1","X1","X1","X1","X1","X1","X1","X1","X1","X1",""]
["",null,32,{"$f":"IF(C18=0,0,(COUNTA(E18:BH18)-(COUNTIF(E18:BH18,\"=x\"))))","v":0},null,null,null,null,null,null,null,null,null,null,null,null,null,null,null,null,null,null,null,null,null,null,null,null,null,null,null,null,null,null,null,null,null,null,null,null,null,null,null,null,null,null,null,null,null,null,null,null,null,null,null,null,null,null,null,null,null,null,null,null,null,null,null,null,null,null,"00:00:00",null,null,null,null,null,null,null,null,null,null,null,"","*","",1,"1 Suite","X1","X1","X1","X1","X1","X1","X1","X1","X1","X1","X1","X1","X1","X1","X1","X1","X1","X1","X1","X1","X1","X1","X1","X1","X1","X1","X1","X1","X1","X1","X1","X1","X1","X1","X1","X1","X1","X1","X1","X1","X1","X1","X1","X1","X1","X1","X1","X1","X1","X1","X1","X1","X1","X1","X1","X1","X1","X1","X1","X1","X1","X1","X1","X1","X1","X1","X1","X1","X1","X1","X1","X1","X1","X1",""]
["",null,32,{"$f":"IF(C19=0,0,(COUNTA(E19:BH19)-(COUNTIF(E19:BH19,\"=x\"))))","v":0},null,null,null,null,null,null,null,null,null,null,null,null,null,null,null,null,null,null,null,null,null,null,null,null,null,null,null,null,null,null,null,null,null,null,null,null,null,null,null,null,null,null,null,null,null,null,null,null,null,null,null,null,null,null,null,null,null,null,null,null,null,null,null,null,null,null,"00:00:00",null,null,null,null,null,null,null,null,null,null,null,"","*","",1,"1 Suite","X1","X1","X1","X1","X1","X1","X1","X1","X1","X1","X1","X1","X1","X1","X1","X1","X1","X1","X1","X1","X1","X1","X1","X1","X1","X1","X1","X1","X1","X1","X1","X1","X1","X1","X1","X1","X1","X1","X1","X1","X1","X1","X1","X1","X1","X1","X1","X1","X1","X1","X1","X1","X1","X1","X1","X1","X1","X1","X1","X1","X1","X1","X1","X1","X1","X1","X1","X1","X1","X1","X1","X1","X1","X1",""]
["",null,32,0,null,null,null,null,null,null,null,null,null,null,null,null,null,null,null,null,null,null,null,null,null,null,null,null,null,null,null,null,null,null,null,null,null,null,null,null,null,null,null,null,null,null,null,null,null,null,null,null,null,null,null,null,null,null,null,null,null,null,null,null,null,null,null,null,null,null,"00:00:00",null,null,null,null,null,null,null,null,null,null,null,"","*","",1,"1 Suite","X1","X1","X1","X1","X1","X1","X1","X1","X1","X1","X1","X1","X1","X1","X1","X1","X1","X1","X1","X1","X1","X1","X1","X1","X1","X1","X1","X1","X1","X1","X1","X1","X1","X1","X1","X1","X1","X1","X1","X1","X1","X1","X1","X1","X1","X1","X1","X1","X1","X1","X1","X1","X1","X1","X1","X1","X1","X1","X1","X1","X1","X1","X1","X1","X1","X1","X1","X1","X1","X1","X1","X1","X1","X1",""]
["",null,32,0,null,null,null,null,null,null,null,null,null,null,null,null,null,null,null,null,null,null,null,null,null,null,null,null,null,null,null,null,null,null,null,null,null,null,null,null,null,null,null,null,null,null,null,null,null,null,null,null,null,null,null,null,null,null,null,null,null,null,null,null,null,null,null,null,null,null,"00:00:00",null,null,null,null,null,null,null,null,null,null,null,"","*","",1,"1 Suite","X1","X1","X1","X1","X1","X1","X1","X1","X1","X1","X1","X1","X1","X1","X1","X1","X1","X1","X1","X1","X1","X1","X1","X1","X1","X1","X1","X1","X1","X1","X1","X1","X1","X1","X1","X1","X1","X1","X1","X1","X1","X1","X1","X1","X1","X1","X1","X1","X1","X1","X1","X1","X1","X1","X1","X1","X1","X1","X1","X1","X1","X1","X1","X1","X1","X1","X1","X1","X1","X1","X1","X1","X1","X1",""]
["",null,32,0,null,null,null,null,null,null,null,null,null,null,null,null,null,null,null,null,null,null,null,null,null,null,null,null,null,null,null,null,null,null,null,null,null,null,null,null,null,null,null,null,null,null,null,null,null,null,null,null,null,null,null,null,null,null,null,null,null,null,null,null,null,null,null,null,null,null,"00:00:00",null,null,null,null,null,null,null,null,null,null,null,"","*","",1,"1 Suite","X1","X1","X1","X1","X1","X1","X1","X1","X1","X1","X1","X1","X1","X1","X1","X1","X1","X1","X1","X1","X1","X1","X1","X1","X1","X1","X1","X1","X1","X1","X1","X1","X1","X1","X1","X1","X1","X1","X1","X1","X1","X1","X1","X1","X1","X1","X1","X1","X1","X1","X1","X1","X1","X1","X1","X1","X1","X1","X1","X1","X1","X1","X1","X1","X1","X1","X1","X1","X1","X1","X1","X1","X1","X1",""]
["",null,32,0,null,null,null,null,null,null,null,null,null,null,null,null,null,null,null,null,null,null,null,null,null,null,null,null,null,null,null,null,null,null,null,null,null,null,null,null,null,null,null,null,null,null,null,null,null,null,null,null,null,null,null,null,null,null,null,null,null,null,null,null,null,null,null,null,null,null,"00:00:00",null,null,null,null,null,null,null,null,null,null,null,"","*","",1,"1 Suite","X1","X1","X1","X1","X1","X1","X1","X1","X1","X1","X1","X1","X1","X1","X1","X1","X1","X1","X1","X1","X1","X1","X1","X1","X1","X1","X1","X1","X1","X1","X1","X1","X1","X1","X1","X1","X1","X1","X1","X1","X1","X1","X1","X1","X1","X1","X1","X1","X1","X1","X1","X1","X1","X1","X1","X1","X1","X1","X1","X1","X1","X1","X1","X1","X1","X1","X1","X1","X1","X1","X1","X1","X1","X1",""]
["",null,32,0,null,null,null,null,null,null,null,null,null,null,null,null,null,null,null,null,null,null,null,null,null,null,null,null,null,null,null,null,null,null,null,null,null,null,null,null,null,null,null,null,null,null,null,null,null,null,null,null,null,null,null,null,null,null,null,null,null,null,null,null,null,null,null,null,null,null,"00:00:00",null,null,null,null,null,null,null,null,null,null,null,"","*","",1,"1 Suite","X1","X1","X1","X1","X1","X1","X1","X1","X1","X1","X1","X1","X1","X1","X1","X1","X1","X1","X1","X1","X1","X1","X1","X1","X1","X1","X1","X1","X1","X1","X1","X1","X1","X1","X1","X1","X1","X1","X1","X1","X1","X1","X1","X1","X1","X1","X1","X1","X1","X1","X1","X1","X1","X1","X1","X1","X1","X1","X1","X1","X1","X1","X1","X1","X1","X1","X1","X1","X1","X1","X1","X1","X1","X1",""]
["",null,32,0,null,null,null,null,null,null,null,null,null,null,null,null,null,null,null,null,null,null,null,null,null,null,null,null,null,null,null,null,null,null,null,null,null,null,null,null,null,null,null,null,null,null,null,null,null,null,null,null,null,null,null,null,null,null,null,null,null,null,null,null,null,null,null,null,null,null,"00:00:00",null,null,null,null,null,null,null,null,null,null,null,"","*","",1,"1 Suite","X1","X1","X1","X1","X1","X1","X1","X1","X1","X1","X1","X1","X1","X1","X1","X1","X1","X1","X1","X1","X1","X1","X1","X1","X1","X1","X1","X1","X1","X1","X1","X1","X1","X1","X1","X1","X1","X1","X1","X1","X1","X1","X1","X1","X1","X1","X1","X1","X1","X1","X1","X1","X1","X1","X1","X1","X1","X1","X1","X1","X1","X1","X1","X1","X1","X1","X1","X1","X1","X1","X1","X1","X1","X1",""]
["",null,32,0,null,null,null,null,null,null,null,null,null,null,null,null,null,null,null,null,null,null,null,null,null,null,null,null,null,null,null,null,null,null,null,null,null,null,null,null,null,null,null,null,null,null,null,null,null,null,null,null,null,null,null,null,null,null,null,null,null,null,null,null,null,null,null,null,null,null,"00:00:00",null,null,null,null,null,null,null,null,null,null,null,"","*","",1,"1 Suite","X1","X1","X1","X1","X1","X1","X1","X1","X1","X1","X1","X1","X1","X1","X1","X1","X1","X1","X1","X1","X1","X1","X1","X1","X1","X1","X1","X1","X1","X1","X1","X1","X1","X1","X1","X1","X1","X1","X1","X1","X1","X1","X1","X1","X1","X1","X1","X1","X1","X1","X1","X1","X1","X1","X1","X1","X1","X1","X1","X1","X1","X1","X1","X1","X1","X1","X1","X1","X1","X1","X1","X1","X1","X1",""]
["",null,32,0,null,null,null,null,null,null,null,null,null,null,null,null,null,null,null,null,null,null,null,null,null,null,null,null,null,null,null,null,null,null,null,null,null,null,null,null,null,null,null,null,null,null,null,null,null,null,null,null,null,null,null,null,null,null,null,null,null,null,null,null,null,null,null,null,null,null,"00:00:00",null,null,null,null,null,null,null,null,null,null,null,"","*","",1,"1 Suite","X1","X1","X1","X1","X1","X1","X1","X1","X1","X1","X1","X1","X1","X1","X1","X1","X1","X1","X1","X1","X1","X1","X1","X1","X1","X1","X1","X1","X1","X1","X1","X1","X1","X1","X1","X1","X1","X1","X1","X1","X1","X1","X1","X1","X1","X1","X1","X1","X1","X1","X1","X1","X1","X1","X1","X1","X1","X1","X1","X1","X1","X1","X1","X1","X1","X1","X1","X1","X1","X1","X1","X1","X1","X1",""]
["",null,32,0,null,null,null,null,null,null,null,null,null,null,null,null,null,null,null,null,null,null,null,null,null,null,null,null,null,null,null,null,null,null,null,null,null,null,null,null,null,null,null,null,null,null,null,null,null,null,null,null,null,null,null,null,null,null,null,null,null,null,null,null,null,null,null,null,null,null,"00:00:00",null,null,null,null,null,null,null,null,null,null,null,"","*","",1,"1 Suite","X1","X1","X1","X1","X1","X1","X1","X1","X1","X1","X1","X1","X1","X1","X1","X1","X1","X1","X1","X1","X1","X1","X1","X1","X1","X1","X1","X1","X1","X1","X1","X1","X1","X1","X1","X1","X1","X1","X1","X1","X1","X1","X1","X1","X1","X1","X1","X1","X1","X1","X1","X1","X1","X1","X1","X1","X1","X1","X1","X1","X1","X1","X1","X1","X1","X1","X1","X1","X1","X1","X1","X1","X1","X1",""]
["",null,32,0,null,null,null,null,null,null,null,null,null,null,null,null,null,null,null,null,null,null,null,null,null,null,null,null,null,null,null,null,null,null,null,null,null,null,null,null,null,null,null,null,null,null,null,null,null,null,null,null,null,null,null,null,null,null,null,null,null,null,null,null,null,null,null,null,null,null,"00:00:00",null,null,null,null,null,null,null,null,null,null,null,"","*","",1,"1 Suite","X1","X1","X1","X1","X1","X1","X1","X1","X1","X1","X1","X1","X1","X1","X1","X1","X1","X1","X1","X1","X1","X1","X1","X1","X1","X1","X1","X1","X1","X1","X1","X1","X1","X1","X1","X1","X1","X1","X1","X1","X1","X1","X1","X1","X1","X1","X1","X1","X1","X1","X1","X1","X1","X1","X1","X1","X1","X1","X1","X1","X1","X1","X1","X1","X1","X1","X1","X1","X1","X1","X1","X1","X1","X1",""]
["",null,32,0,null,null,null,null,null,null,null,null,null,null,null,null,null,null,null,null,null,null,null,null,null,null,null,null,null,null,null,null,null,null,null,null,null,null,null,null,null,null,null,null,null,null,null,null,null,null,null,null,null,null,null,null,null,null,null,null,null,null,null,null,null,null,null,null,null,null,"00:00:00",null,null,null,null,null,null,null,null,null,null,null,"","*","",1,"1 Suite","X1","X1","X1","X1","X1","X1","X1","X1","X1","X1","X1","X1","X1","X1","X1","X1","X1","X1","X1","X1","X1","X1","X1","X1","X1","X1","X1","X1","X1","X1","X1","X1","X1","X1","X1","X1","X1","X1","X1","X1","X1","X1","X1","X1","X1","X1","X1","X1","X1","X1","X1","X1","X1","X1","X1","X1","X1","X1","X1","X1","X1","X1","X1","X1","X1","X1","X1","X1","X1","X1","X1","X1","X1","X1",""]
["",null,32,0,null,null,null,null,null,null,null,null,null,null,null,null,null,null,null,null,null,null,null,null,null,null,null,null,null,null,null,null,null,null,null,null,null,null,null,null,null,null,null,null,null,null,null,null,null,null,null,null,null,null,null,null,null,null,null,null,null,null,null,null,null,null,null,null,null,null,"00:00:00",null,null,null,null,null,null,null,null,null,null,null,"","*","",1,"1 Suite","X1","X1","X1","X1","X1","X1","X1","X1","X1","X1","X1","X1","X1","X1","X1","X1","X1","X1","X1","X1","X1","X1","X1","X1","X1","X1","X1","X1","X1","X1","X1","X1","X1","X1","X1","X1","X1","X1","X1","X1","X1","X1","X1","X1","X1","X1","X1","X1","X1","X1","X1","X1","X1","X1","X1","X1","X1","X1","X1","X1","X1","X1","X1","X1","X1","X1","X1","X1","X1","X1","X1","X1","X1","X1",""]
["",null,32,0,null,null,null,null,null,null,null,null,null,null,null,null,null,null,null,null,null,null,null,null,null,null,null,null,null,null,null,null,null,null,null,null,null,null,null,null,null,null,null,null,null,null,null,null,null,null,null,null,null,null,null,null,null,null,null,null,null,null,null,null,null,null,null,null,null,null,"00:00:00",null,null,null,null,null,null,null,null,null,null,null,"","*","",1,"1 Suite","X1","X1","X1","X1","X1","X1","X1","X1","X1","X1","X1","X1","X1","X1","X1","X1","X1","X1","X1","X1","X1","X1","X1","X1","X1","X1","X1","X1","X1","X1","X1","X1","X1","X1","X1","X1","X1","X1","X1","X1","X1","X1","X1","X1","X1","X1","X1","X1","X1","X1","X1","X1","X1","X1","X1","X1","X1","X1","X1","X1","X1","X1","X1","X1","X1","X1","X1","X1","X1","X1","X1","X1","X1","X1",""]
["",null,32,0,null,null,null,null,null,null,null,null,null,null,null,null,null,null,null,null,null,null,null,null,null,null,null,null,null,null,null,null,null,null,null,null,null,null,null,null,null,null,null,null,null,null,null,null,null,null,null,null,null,null,null,null,null,null,null,null,null,null,null,null,null,null,null,null,null,null,"00:00:00",null,null,null,null,null,null,null,null,null,null,null,"","*","",1,"1 Suite","X1","X1","X1","X1","X1","X1","X1","X1","X1","X1","X1","X1","X1","X1","X1","X1","X1","X1","X1","X1","X1","X1","X1","X1","X1","X1","X1","X1","X1","X1","X1","X1","X1","X1","X1","X1","X1","X1","X1","X1","X1","X1","X1","X1","X1","X1","X1","X1","X1","X1","X1","X1","X1","X1","X1","X1","X1","X1","X1","X1","X1","X1","X1","X1","X1","X1","X1","X1","X1","X1","X1","X1","X1","X1",""]
["",null,32,0,null,null,null,null,null,null,null,null,null,null,null,null,null,null,null,null,null,null,null,null,null,null,null,null,null,null,null,null,null,null,null,null,null,null,null,null,null,null,null,null,null,null,null,null,null,null,null,null,null,null,null,null,null,null,null,null,null,null,null,null,null,null,null,null,null,null,"00:00:00",null,null,null,null,null,null,null,null,null,null,null,"","*","",1,"1 Suite","X1","X1","X1","X1","X1","X1","X1","X1","X1","X1","X1","X1","X1","X1","X1","X1","X1","X1","X1","X1","X1","X1","X1","X1","X1","X1","X1","X1","X1","X1","X1","X1","X1","X1","X1","X1","X1","X1","X1","X1","X1","X1","X1","X1","X1","X1","X1","X1","X1","X1","X1","X1","X1","X1","X1","X1","X1","X1","X1","X1","X1","X1","X1","X1","X1","X1","X1","X1","X1","X1","X1","X1","X1","X1",""]
["",null,32,0,null,null,null,null,null,null,null,null,null,null,null,null,null,null,null,null,null,null,null,null,null,null,null,null,null,null,null,null,null,null,null,null,null,null,null,null,null,null,null,null,null,null,null,null,null,null,null,null,null,null,null,null,null,null,null,null,null,null,null,null,null,null,null,null,null,null,"00:00:00",null,null,null,null,null,null,null,null,null,null,null,"","*","",1,"1 Suite","X1","X1","X1","X1","X1","X1","X1","X1","X1","X1","X1","X1","X1","X1","X1","X1","X1","X1","X1","X1","X1","X1","X1","X1","X1","X1","X1","X1","X1","X1","X1","X1","X1","X1","X1","X1","X1","X1","X1","X1","X1","X1","X1","X1","X1","X1","X1","X1","X1","X1","X1","X1","X1","X1","X1","X1","X1","X1","X1","X1","X1","X1","X1","X1","X1","X1","X1","X1","X1","X1","X1","X1","X1","X1",""]
["",null,32,0,null,null,null,null,null,null,null,null,null,null,null,null,null,null,null,null,null,null,null,null,null,null,null,null,null,null,null,null,null,null,null,null,null,null,null,null,null,null,null,null,null,null,null,null,null,null,null,null,null,null,null,null,null,null,null,null,null,null,null,null,null,null,null,null,null,null,"00:00:00",null,null,null,null,null,null,null,null,null,null,null,"","*","",1,"1 Suite","X1","X1","X1","X1","X1","X1","X1","X1","X1","X1","X1","X1","X1","X1","X1","X1","X1","X1","X1","X1","X1","X1","X1","X1","X1","X1","X1","X1","X1","X1","X1","X1","X1","X1","X1","X1","X1","X1","X1","X1","X1","X1","X1","X1","X1","X1","X1","X1","X1","X1","X1","X1","X1","X1","X1","X1","X1","X1","X1","X1","X1","X1","X1","X1","X1","X1","X1","X1","X1","X1","X1","X1","X1","X1",""]
["",null,32,0,null,null,null,null,null,null,null,null,null,null,null,null,null,null,null,null,null,null,null,null,null,null,null,null,null,null,null,null,null,null,null,null,null,null,null,null,null,null,null,null,null,null,null,null,null,null,null,null,null,null,null,null,null,null,null,null,null,null,null,null,null,null,null,null,null,null,"00:00:00",null,null,null,null,null,null,null,null,null,null,null,"","*","",1,"1 Suite","X1","X1","X1","X1","X1","X1","X1","X1","X1","X1","X1","X1","X1","X1","X1","X1","X1","X1","X1","X1","X1","X1","X1","X1","X1","X1","X1","X1","X1","X1","X1","X1","X1","X1","X1","X1","X1","X1","X1","X1","X1","X1","X1","X1","X1","X1","X1","X1","X1","X1","X1","X1","X1","X1","X1","X1","X1","X1","X1","X1","X1","X1","X1","X1","X1","X1","X1","X1","X1","X1","X1","X1","X1","X1",""]
["",null,32,0,null,null,null,null,null,null,null,null,null,null,null,null,null,null,null,null,null,null,null,null,null,null,null,null,null,null,null,null,null,null,null,null,null,null,null,null,null,null,null,null,null,null,null,null,null,null,null,null,null,null,null,null,null,null,null,null,null,null,null,null,null,null,null,null,null,null,"00:00:00",null,null,null,null,null,null,null,null,null,null,null,"","*","",1,"1 Suite","X1","X1","X1","X1","X1","X1","X1","X1","X1","X1","X1","X1","X1","X1","X1","X1","X1","X1","X1","X1","X1","X1","X1","X1","X1","X1","X1","X1","X1","X1","X1","X1","X1","X1","X1","X1","X1","X1","X1","X1","X1","X1","X1","X1","X1","X1","X1","X1","X1","X1","X1","X1","X1","X1","X1","X1","X1","X1","X1","X1","X1","X1","X1","X1","X1","X1","X1","X1","X1","X1","X1","X1","X1","X1",""]
["",null,32,0,null,null,null,null,null,null,null,null,null,null,null,null,null,null,null,null,null,null,null,null,null,null,null,null,null,null,null,null,null,null,null,null,null,null,null,null,null,null,null,null,null,null,null,null,null,null,null,null,null,null,null,null,null,null,null,null,null,null,null,null,null,null,null,null,null,null,"00:00:00",null,null,null,null,null,null,null,null,null,null,null,"","*","",1,"1 Suite","X1","X1","X1","X1","X1","X1","X1","X1","X1","X1","X1","X1","X1","X1","X1","X1","X1","X1","X1","X1","X1","X1","X1","X1","X1","X1","X1","X1","X1","X1","X1","X1","X1","X1","X1","X1","X1","X1","X1","X1","X1","X1","X1","X1","X1","X1","X1","X1","X1","X1","X1","X1","X1","X1","X1","X1","X1","X1","X1","X1","X1","X1","X1","X1","X1","X1","X1","X1","X1","X1","X1","X1","X1","X1",""]
["",null,32,0,null,null,null,null,null,null,null,null,null,null,null,null,null,null,null,null,null,null,null,null,null,null,null,null,null,null,null,null,null,null,null,null,null,null,null,null,null,null,null,null,null,null,null,null,null,null,null,null,null,null,null,null,null,null,null,null,null,null,null,null,null,null,null,null,null,null,{"$f":"B40","v":"00:00:00"},null,null,null,null,null,null,null,null,null,null,null,"","*","",1,"1 Suite","X1","X1","X1","X1","X1","X1","X1","X1","X1","X1","X1","X1","X1","X1","X1","X1","X1","X1","X1","X1","X1","X1","X1","X1","X1","X1","X1","X1","X1","X1","X1","X1","X1","X1","X1","X1","X1","X1","X1","X1","X1","X1","X1","X1","X1","X1","X1","X1","X1","X1","X1","X1","X1","X1","X1","X1","X1","X1","X1","X1","X1","X1","X1","X1","X1","X1","X1","X1","X1","X1","X1","X1","X1","X1",""]
["",null,32,0,null,null,null,null,null,null,null,null,null,null,null,null,null,null,null,null,null,null,null,null,null,null,null,null,null,null,null,null,null,null,null,null,null,null,null,null,null,null,null,null,null,null,null,null,null,null,null,null,null,null,null,null,null,null,null,null,null,null,null,null,null,null,null,null,null,null,"00:00:00",null,null,null,null,null,null,null,null,null,null,null,"","*","",1,"1 Suite","X1","X1","X1","X1","X1","X1","X1","X1","X1","X1","X1","X1","X1","X1","X1","X1","X1","X1","X1","X1","X1","X1","X1","X1","X1","X1","X1","X1","X1","X1","X1","X1","X1","X1","X1","X1","X1","X1","X1","X1","X1","X1","X1","X1","X1","X1","X1","X1","X1","X1","X1","X1","X1","X1","X1","X1","X1","X1","X1","X1","X1","X1","X1","X1","X1","X1","X1","X1","X1","X1","X1","X1","X1","X1",""]
["",null,32,0,null,null,null,null,null,null,null,null,null,null,null,null,null,null,null,null,null,null,null,null,null,null,null,null,null,null,null,null,null,null,null,null,null,null,null,null,null,null,null,null,null,null,null,null,null,null,null,null,null,null,null,null,null,null,null,null,null,null,null,null,null,null,null,null,null,null,"00:00:00",null,null,null,null,null,null,null,null,null,null,null,"","*","",1,"1 Suite","X1","X1","X1","X1","X1","X1","X1","X1","X1","X1","X1","X1","X1","X1","X1","X1","X1","X1","X1","X1","X1","X1","X1","X1","X1","X1","X1","X1","X1","X1","X1","X1","X1","X1","X1","X1","X1","X1","X1","X1","X1","X1","X1","X1","X1","X1","X1","X1","X1","X1","X1","X1","X1","X1","X1","X1","X1","X1","X1","X1","X1","X1","X1","X1","X1","X1","X1","X1","X1","X1","X1","X1","X1","X1",""]
["",null,32,0,null,null,null,null,null,null,null,null,null,null,null,null,null,null,null,null,null,null,null,null,null,null,null,null,null,null,null,null,null,null,null,null,null,null,null,null,null,null,null,null,null,null,null,null,null,null,null,null,null,null,null,null,null,null,null,null,null,null,null,null,null,null,null,null,null,null,"00:00:00",null,null,null,null,null,null,null,null,null,null,null,"","*","",1,"1 Suite","X1","X1","X1","X1","X1","X1","X1","X1","X1","X1","X1","X1","X1","X1","X1","X1","X1","X1","X1","X1","X1","X1","X1","X1","X1","X1","X1","X1","X1","X1","X1","X1","X1","X1","X1","X1","X1","X1","X1","X1","X1","X1","X1","X1","X1","X1","X1","X1","X1","X1","X1","X1","X1","X1","X1","X1","X1","X1","X1","X1","X1","X1","X1","X1","X1","X1","X1","X1","X1","X1","X1","X1","X1","X1",""]
["",null,32,0,null,null,null,null,null,null,null,null,null,null,null,null,null,null,null,null,null,null,null,null,null,null,null,null,null,null,null,null,null,null,null,null,null,null,null,null,null,null,null,null,null,null,null,null,null,null,null,null,null,null,null,null,null,null,null,null,null,null,null,null,null,null,null,null,null,null,"00:00:00",null,null,null,null,null,null,null,null,null,null,null,"","*","",1,"1 Suite","X1","X1","X1","X1","X1","X1","X1","X1","X1","X1","X1","X1","X1","X1","X1","X1","X1","X1","X1","X1","X1","X1","X1","X1","X1","X1","X1","X1","X1","X1","X1","X1","X1","X1","X1","X1","X1","X1","X1","X1","X1","X1","X1","X1","X1","X1","X1","X1","X1","X1","X1","X1","X1","X1","X1","X1","X1","X1","X1","X1","X1","X1","X1","X1","X1","X1","X1","X1","X1","X1","X1","X1","X1","X1",""]
["",null,32,0,null,null,null,null,null,null,null,null,null,null,null,null,null,null,null,null,null,null,null,null,null,null,null,null,null,null,null,null,null,null,null,null,null,null,null,null,null,null,null,null,null,null,null,null,null,null,null,null,null,null,null,null,null,null,null,null,null,null,null,null,null,null,null,null,null,null,{"$f":"B45","v":"00:00:00"},null,null,null,null,null,null,null,null,null,null,null,"","*","",1,"1 Suite","X1","X1","X1","X1","X1","X1","X1","X1","X1","X1","X1","X1","X1","X1","X1","X1","X1","X1","X1","X1","X1","X1","X1","X1","X1","X1","X1","X1","X1","X1","X1","X1","X1","X1","X1","X1","X1","X1","X1","X1","X1","X1","X1","X1","X1","X1","X1","X1","X1","X1","X1","X1","X1","X1","X1","X1","X1","X1","X1","X1","X1","X1","X1","X1","X1","X1","X1","X1","X1","X1","X1","X1","X1","X1",""]
["",null,32,0,null,null,null,null,null,null,null,null,null,null,null,null,null,null,null,null,null,null,null,null,null,null,null,null,null,null,null,null,null,null,null,null,null,null,null,null,null,null,null,null,null,null,null,null,null,null,null,null,null,null,null,null,null,null,null,null,null,null,null,null,null,null,null,null,null,null,"00:00:00",null,null,null,null,null,null,null,null,null,null,null,"","*","",1,"1 Suite","X1","X1","X1","X1","X1","X1","X1","X1","X1","X1","X1","X1","X1","X1","X1","X1","X1","X1","X1","X1","X1","X1","X1","X1","X1","X1","X1","X1","X1","X1","X1","X1","X1","X1","X1","X1","X1","X1","X1","X1","X1","X1","X1","X1","X1","X1","X1","X1","X1","X1","X1","X1","X1","X1","X1","X1","X1","X1","X1","X1","X1","X1","X1","X1","X1","X1","X1","X1","X1","X1","X1","X1","X1","X1",""]
["",null,32,0,null,null,null,null,null,null,null,null,null,null,null,null,null,null,null,null,null,null,null,null,null,null,null,null,null,null,null,null,null,null,null,null,null,null,null,null,null,null,null,null,null,null,null,null,null,null,null,null,null,null,null,null,null,null,null,null,null,null,null,null,null,null,null,null,null,null,"00:00:00",null,null,null,null,null,null,null,null,null,null,null,"","*","",1,"1 Suite","X1","X1","X1","X1","X1","X1","X1","X1","X1","X1","X1","X1","X1","X1","X1","X1","X1","X1","X1","X1","X1","X1","X1","X1","X1","X1","X1","X1","X1","X1","X1","X1","X1","X1","X1","X1","X1","X1","X1","X1","X1","X1","X1","X1","X1","X1","X1","X1","X1","X1","X1","X1","X1","X1","X1","X1","X1","X1","X1","X1","X1","X1","X1","X1","X1","X1","X1","X1","X1","X1","X1","X1","X1","X1",""]
["",null,32,0,null,null,null,null,null,null,null,null,null,null,null,null,null,null,null,null,null,null,null,null,null,null,null,null,null,null,null,null,null,null,null,null,null,null,null,null,null,null,null,null,null,null,null,null,null,null,null,null,null,null,null,null,null,null,null,null,null,null,null,null,null,null,null,null,null,null,"00:00:00",null,null,null,null,null,null,null,null,null,null,null,"","*","",1,"1 Suite","X1","X1","X1","X1","X1","X1","X1","X1","X1","X1","X1","X1","X1","X1","X1","X1","X1","X1","X1","X1","X1","X1","X1","X1","X1","X1","X1","X1","X1","X1","X1","X1","X1","X1","X1","X1","X1","X1","X1","X1","X1","X1","X1","X1","X1","X1","X1","X1","X1","X1","X1","X1","X1","X1","X1","X1","X1","X1","X1","X1","X1","X1","X1","X1","X1","X1","X1","X1","X1","X1","X1","X1","X1","X1",""]
["",null,32,0,null,null,null,null,null,null,null,null,null,null,null,null,null,null,null,null,null,null,null,null,null,null,null,null,null,null,null,null,null,null,null,null,null,null,null,null,null,null,null,null,null,null,null,null,null,null,null,null,null,null,null,null,null,null,null,null,null,null,null,null,null,null,null,null,null,null,"00:00:00",null,null,null,null,null,null,null,null,null,null,null,"","*","",1,"1 Suite","X1","X1","X1","X1","X1","X1","X1","X1","X1","X1","X1","X1","X1","X1","X1","X1","X1","X1","X1","X1","X1","X1","X1","X1","X1","X1","X1","X1","X1","X1","X1","X1","X1","X1","X1","X1","X1","X1","X1","X1","X1","X1","X1","X1","X1","X1","X1","X1","X1","X1","X1","X1","X1","X1","X1","X1","X1","X1","X1","X1","X1","X1","X1","X1","X1","X1","X1","X1","X1","X1","X1","X1","X1","X1",""]
["",null,32,0,null,null,null,null,null,null,null,null,null,null,null,null,null,null,null,null,null,null,null,null,null,null,null,null,null,null,null,null,null,null,null,null,null,null,null,null,null,null,null,null,null,null,null,null,null,null,null,null,null,null,null,null,null,null,null,null,null,null,null,null,null,null,null,null,null,null,"00:00:00",null,null,null,null,null,null,null,null,null,null,null,"","*","",1,"1 Suite","X1","X1","X1","X1","X1","X1","X1","X1","X1","X1","X1","X1","X1","X1","X1","X1","X1","X1","X1","X1","X1","X1","X1","X1","X1","X1","X1","X1","X1","X1","X1","X1","X1","X1","X1","X1","X1","X1","X1","X1","X1","X1","X1","X1","X1","X1","X1","X1","X1","X1","X1","X1","X1","X1","X1","X1","X1","X1","X1","X1","X1","X1","X1","X1","X1","X1","X1","X1","X1","X1","X1","X1","X1","X1",""]
[{"$f":"Paramètres!D20","v":"00:00:00"},null,null,null,"FIN DE LA 1ère JOURNEE",null,null,null,null,null,null,null,null,null,null,null,null,null,null,null,null,null,null,null,null,null,null,null,null,null,null,null,null,null,null,null,null,null,null,null,null,null,null,null,null,null,null,null,null,null,null,null,null,null,null,null,null,null,null,null,null,null,null,null,null,null,null,null,null,null,{"$f":"A51","v":"00:00:00"},null,null,null,null,null,null,null,null,null,null,null,null,null,null,null,null,null,null,null,null,null,null,null,null,null,null,null,null,null,null,null,null,null,null,null,null,null,null,null,null,null,null,null,null,null,null,null,null,null,null,null,null,null,null,null,null,null,null,null,null,null,null,null,null,null,null,null,null,null,null,null,null,null,null,null,null,null,null,null,null,null,null,null,null,null,null,null,null,null,null,""]
[null,null,null,null,null,null,null,null,null,null,null,null,null,null,null,null,null,null,null,null,null,null,null,null,null,null,null,null,null,null,null,null,null,null,null,null,null,null,null,null,null,null,null,null,null,null,null,null,null,null,null,null,null,null,null,null,null,null,null,null,null,null,null,null,null,null,null,null,null,null,null,null,null,null,null,null,null,null,null,null,null,null,null,null,null,null,null,null,null,null,null,null,null,null,null,null,null,null,null,null,null,null,null,null,null,null,null,null,null,null,null,null,null,null,null,null,null,null,null,null,null,null,null,null,null,null,null,null,null,null,null,null,null,null,null,null,null,null,null,null,null,null,null,null,null,null,null,null,null,null,null,null,null,null,null,null,null,null,null,null,null,""]
[]
[null,null,null,null,"Mettre un X dans la case quand il n'y a pas de partie à disputer"]

{"sheet":"Arbitre_Tranche_Horaire","index":5,"n_rows":185,"n_cols":35,"rows_kept":185,"cut":false,"hidden":false,"merged":[[2,18,2,19],[3,18,3,19],[141,0,141,1],[141,6,141,7],[3,0,3,1],[2,14,2,15],[3,14,3,15],[72,0,72,1],[72,6,72,7],[0,8,0,10],[0,2,0,4],[2,16,2,17],[3,16,3,17],[1,8,1,10],[3,6,3,7]]}
[null,null,"Masquer 1 ou + lignes, se positionner  sur les lignes à masquer et cliquer sur ",null,null,null,null,null,"Afficher 1 ou + lignes masquées, se positionner  sur les lignes encadrant les lignes à afficher et cliquer sur ",null,null,null,null,null,null,null,null,null,null,null,null,"Pour affichage 6 tranches horaires",null,null,null,null,"Pour affichage du 3ème arbitre",null,null,null,null,null,{"$f":"PTA!P1","v":1},{"$f":"PTA!S1","v":1},{"$f":"PTA!V1","v":1}]
[null,null,null,null,null,null,null,null,"Affichage de toutes les lignes",null,null,null,null,null,null,null,null,null,null,null,null,"Déprotéger la feuille en cliquant sur bouton ci-dessous",null,null,null,null,"Déprotéger la feuille en cliquant sur bouton ci-dessous"]
[null,"Tour",1,null,null,{"$f":"PTA!A4","v":"00:00:00"},null,"Tour",{"$f":"IF(C3=\"\",\"\",C3+1)","v":2},null,null,null,null,{"$f":"11-COUNTIF(N5:N16,\"=0\")","v":0},"Pour Info",null,"Tranches horaires",null,"Tranches horaires",null,null,"Aller ligne 174 (A174)",null,null,null,null,"Aller cellule G1, cliquer sur le +"]
[null,null,"Tranche Horaire",null,{"$f":"IF(AND(RIGHT(C3,1)=\"A\",Marq=\"oui\"),\"Adjoint\",\"\")","v":""},null,null,null,"Tranche Horaire",null,{"$f":"IF(AND(RIGHT(I3,1)=\"A\",Marq=\"oui\"),\"Adjoint\",\"\")","v":""},null,null,null,"Tranches horaires",null,"(Suite)",null,"(Suite)",null,null,"cliquer sur le +",null,null,null,null,"Faire la même chose en M1"]
["Tables","N° Arbitre ou Equipe",{"$f":"IF(Num_TH=\"\",\"\",IF(VLOOKUP($C$3,Zone_pta,2,FALSE)>=Fin,\"\",VLOOKUP($C$3,Zone_pta,2,FALSE)))","v":{"$error":"#N/A"}},{"$f":"IF(E3<>\"\",\"N° Arbitre\",\"\")","v":""},null,null,"Tables","N° Arbitre ou Equipe",{"$f":"IF(VLOOKUP($I$3,Zone_pta,2,FALSE)>=Fin,\"\",VLOOKUP($I$3,Zone_pta,2,FALSE))","v":{"$error":"#N/A"}},{"$f":"IF(K3<>\"\",\"N° Arbitre\",\"\")","v":""},null,null,null,{"$f":"IF(OR(Fin=P6,Fin<P6,P6=\"\"),0,O6)","v":0},"Tour","Horaire","Tour","Horaire","Tour","Horaire",null,"Puis protéger la feuille en cliquant sur bouton ci-dessous",null,null,null,null,"Puis protéger la feuille en cliquant sur bouton ci-dessous"]
[{"$f":"PTA_Nom_Arb!E7","v":1},{"$f":"IF(OR(VLOOKUP($C$3,Zone_pta,$M6,FALSE)=\"\",VLOOKUP($C$3,Zone_pta,$M6,FALSE)=\"X\"),\"\",IF($C$3=\"\",\"\",VLOOKUP($C$3,Zone_pta,$M6,FALSE)))","v":{"$error":"#N/A"}},{"$f":"IF(B6=\"*\",\"Arb Tour Précédent\",IF(OR(VLOOKUP($C$3,Zone_pta,$M6,FALSE)=\"\",VLOOKUP($C$3,Zone_pta,$M6,FALSE)=\"X\"),\"\",VLOOKUP(VLOOKUP($C$3,Zone_pta,$M6,FALSE),AL_NUM_ARB,2,FALSE)))","v":{"$error":"#N/A"}},null,{"$f":"IF(B6=\"*\",\"\",IF(OR(VLOOKUP($C$3,Zone_pta,$M6,FALSE)=\"\",VLOOKUP($C$3,Zone_pta,$M6,FALSE)=\"X\"),\"\",IF($C$3=\"\",\"\",IF($E$3<>\"\",VLOOKUP(VLOOKUP($E$3,Zone_pta,$M6,FALSE),AL_NUM_ARB,2,FALSE),VLOOKUP(VLOOKUP($C$3,Zone_pta,$M6,FALSE),AL_NUM_ARB,4,FALSE)))))","v":{"$error":"#N/A"}},{"$f":"IF(OR(VLOOKUP($C$3,Zone_pta,$M6,FALSE)=\"\",VLOOKUP($C$3,Zone_pta,$M6,FALSE)=\"X\"),\"\",IF($E$3<>\"\",\"\",VLOOKUP(VLOOKUP($C$3,Zone_pta,$M6,FALSE),AL_NUM_ARB,6,FALSE)&\" - \"&VLOOKUP(VLOOKUP($C$3,Zone_pta,$M6,FALSE),AL_NUM_EQR,7,FALSE)))","v":{"$error":"#N/A"}},{"$f":"A6","v":1},{"$f":"IF(OR(VLOOKUP($I$3,Zone_pta,$M6,FALSE)=\"\",VLOOKUP($I$3,Zone_pta,$M6,FALSE)=\"X\"),\"\",IF($I$3=\"\",\"\",VLOOKUP($I$3,Zone_pta,$M6,FALSE)))","v":{"$error":"#N/A"}},{"$f":"IF(H6=\"*\",\"Arb Tour Précédent\",IF(OR(VLOOKUP($I$3,Zone_pta,$M6,FALSE)=\"\",VLOOKUP($I$3,Zone_pta,$M6,FALSE)=\"X\"),\"\",VLOOKUP(VLOOKUP($I$3,Zone_pta,$M6,FALSE),AL_NUM_ARB,2,FALSE)))","v":{"$error":"#N/A"}},{"$f":"IF(OR(VLOOKUP($I$3,Zone_pta,$M6,FALSE)=\"\",VLOOKUP($I$3,Zone_pta,$M6,FALSE)=\"X\"),\"\",IF($I$3=\"\",\"\",IF($J$3<>\"\",VLOOKUP($J$3,Zone_pta,$M6,FALSE),\"\")))","v":{"$error":"#N/A"}},{"$f":"IF(H6=\"*\",\"\",IF(OR(VLOOKUP($I$3,Zone_pta,$M6,FALSE)=\"\",VLOOKUP($I$3,Zone_pta,$M6,FALSE)=\"X\"),\"\",IF($I$3=\"\",\"\",IF($K$3<>\"\",VLOOKUP(VLOOKUP($K$3,Zone_pta,$M6,FALSE),AL_NUM_ARB,2,FALSE),VLOOKUP(VLOOKUP($I$3,Zone_pta,$M6,FALSE),AL_NUM_ARB,4,FALSE)))))","v":{"$error":"#N/A"}},{"$f":"IF(OR(VLOOKUP($I$3,Zone_pta,$M6,FALSE)=\"\",VLOOKUP($I$3,Zone_pta,$M6,FALSE)=\"X\"),\"\",IF($E$3<>\"\",\"\",VLOOKUP(VLOOKUP($I$3,Zone_pta,$M6,FALSE),AL_NUM_ARB,6,FALSE)&\" - \"&VLOOKUP(VLOOKUP($I$3,Zone_pta,$M6,FALSE),AL_NUM_EQR,7,FALSE)))","v":{"$error":"#N/A"}},{"$f":"A6+4","v":5},{"$f":"IF(OR(Fin=P10,Fin<P1,P6=\"\"),0,O10)","v":0},{"$f":"PTA!A8","v":""},{"$f":"VLOOKUP(O6,Zone_pta,2,FALSE)","v":"00:00:00"},{"$f":"O22","v":""},{"$f":"P22","v":"00:00:00"},{"$f":"O38","v":""},{"$f":"P38","v":"00:00:00"},{"$f":"O7","v":""}]
[{"$f":"PTA_Nom_Arb!F7","v":2},{"$error":"#N/A"},{"$error":"#N/A"},null,{"$error":"#N/A"},{"$error":"#N/A"},{"$f":"A7","v":2},{"$error":"#N/A"},{"$error":"#N/A"},{"$error":"#N/A"},{"$error":"#N/A"},{"$error":"#N/A"},{"$f":"A7+4","v":6},{"$f":"IF(OR(Fin=P14,Fin<P14,P6=\"\"),0,O14)","v":0},{"$f":"PTA!A9","v":""},"00:00:00",{"$f":"O23","v":""},{"$f":"P23","v":"00:00:00"},{"$f":"O39","v":""},"00:00:00",{"$f":"O8","v":""}]
[{"$f":"PTA_Nom_Arb!G7","v":3},{"$error":"#N/A"},{"$error":"#N/A"},null,{"$error":"#N/A"},{"$error":"#N/A"},3,{"$error":"#N/A"},{"$error":"#N/A"},{"$error":"#N/A"},{"$error":"#N/A"},{"$error":"#N/A"},7,{"$f":"IF(OR(Fin=P21,Fin<P21,P5=\"\"),0,O21)","v":0},{"$f":"PTA!A10","v":""},"00:00:00","","00:00:00",{"$f":"O40","v":""},"00:00:00","","Pour affichage que 4 tranches horaires",null,null,null,null,"Pour masquer la colonne 3ème arbitre"]
[{"$f":"PTA_Nom_Arb!H7","v":4},{"$error":"#N/A"},{"$error":"#N/A"},null,{"$error":"#N/A"},{"$error":"#N/A"},4,{"$error":"#N/A"},{"$error":"#N/A"},{"$error":"#N/A"},{"$error":"#N/A"},{"$error":"#N/A"},8,{"$f":"IF(OR(Fin=P22,Fin<P22,P6=\"\"),0,O22)","v":0},{"$f":"PTA!A11","v":""},"00:00:00","","00:00:00",{"$f":"O41","v":""},"00:00:00",""]
[{"$f":"PTA_Nom_Arb!I7","v":5},{"$error":"#N/A"},{"$error":"#N/A"},null,{"$error":"#N/A"},{"$error":"#N/A"},5,{"$error":"#N/A"},{"$error":"#N/A"},{"$error":"#N/A"},{"$error":"#N/A"},{"$error":"#N/A"},9,{"$f":"IF(OR(Fin=P26,Fin<P26,P6=\"\"),0,O26)","v":0},{"$f":"PTA!A12","v":""},"00:00:00","","00:00:00",{"$f":"O42","v":""},"00:00:00","","Déprotéger la feuille en cliquant sur bouton ci-dessous",null,null,null,null,"Déprotéger la feuille en cliquant sur bouton ci-dessous"]
[{"$f":"PTA_Nom_Arb!J7","v":6},{"$error":"#N/A"},{"$error":"#N/A"},null,{"$error":"#N/A"},{"$error":"#N/A"},6,{"$error":"#N/A"},{"$error":"#N/A"},{"$error":"#N/A"},{"$error":"#N/A"},{"$error":"#N/A"},10,{"$f":"IF(OR(Fin=P30,Fin<P30,P6=\"\"),0,O30)","v":0},{"$f":"PTA!A13","v":""},"00:00:00","","00:00:00",{"$f":"O43","v":""},"00:00:00",""]
[{"$f":"PTA_Nom_Arb!K7","v":7},{"$error":"#N/A"},{"$error":"#N/A"},null,{"$error":"#N/A"},{"$error":"#N/A"},7,{"$error":"#N/A"},{"$error":"#N/A"},{"$error":"#N/A"},{"$error":"#N/A"},{"$error":"#N/A"},11,{"$f":"IF(OR(Fin=P34,Fin<P34,P6=\"\"),0,O34)","v":0},{"$f":"PTA!A14","v":""},"00:00:00","","00:00:00",{"$f":"O44","v":""},"00:00:00",""]
[{"$f":"PTA_Nom_Arb!L7","v":8},{"$error":"#N/A"},{"$error":"#N/A"},null,{"$error":"#N/A"},{"$error":"#N/A"},8,{"$error":"#N/A"},{"$error":"#N/A"},{"$error":"#N/A"},{"$error":"#N/A"},{"$error":"#N/A"},12,{"$f":"IF(OR(Fin=P38,Fin<P38,P6=\"\"),0,O38)","v":0},{"$f":"PTA!A15","v":""},"00:00:00","","00:00:00",{"$f":"O45","v":""},"00:00:00","","Aller ligne 174 (A174)",null,null,null,null,"Aller cellule G1, cliquer sur le -"]
[{"$f":"PTA_Nom_Arb!M7","v":9},{"$error":"#N/A"},{"$error":"#N/A"},null,{"$error":"#N/A"},{"$error":"#N/A"},9,{"$error":"#N/A"},{"$error":"#N/A"},{"$error":"#N/A"},{"$error":"#N/A"},{"$error":"#N/A"},13,{"$f":"IF(OR(Fin=P42,Fin<P42,P6=\"\"),0,O42)","v":0},{"$f":"PTA!A16","v":""},"00:00:00","","00:00:00",{"$f":"O46","v":""},{"$f":"P46","v":"00:00:00"},"","cliquer sur le -",null,null,null,null,"Faire la même chose en M1"]
[{"$f":"PTA_Nom_Arb!N7","v":10},{"$error":"#N/A"},{"$error":"#N/A"},null,{"$error":"#N/A"},{"$error":"#N/A"},10,{"$error":"#N/A"},{"$error":"#N/A"},{"$error":"#N/A"},{"$error":"#N/A"},{"$error":"#N/A"},14,{"$f":"IF(OR(Fin=P46,Fin<P46,P6=\"\"),0,O46)","v":0},{"$f":"PTA!A17","v":""},"00:00:00","","00:00:00","","00:00:00","","Puis protéger la feuille en cliquant sur bouton ci-dessous",null,null,null,null,"Puis protéger la feuille en cliquant sur bouton ci-dessous"]
[{"$f":"PTA_Nom_Arb!O7","v":11},{"$error":"#N/A"},{"$error":"#N/A"},null,{"$error":"#N/A"},{"$error":"#N/A"},11,{"$error":"#N/A"},{"$error":"#N/A"},{"$error":"#N/A"},{"$error":"#N/A"},{"$error":"#N/A"},15,null,{"$f":"PTA!A18","v":""},"00:00:00","","00:00:00",{"$f":"O48","v":""},{"$f":"P48","v":"00:00:00"},"",null,null,null,null,{"$f":"IF(OR(Fin=P48,Fin<P48,P6=\"\"),\"\",O48)","v":""}]
[{"$f":"PTA_Nom_Arb!P7","v":12},{"$error":"#N/A"},{"$error":"#N/A"},null,{"$error":"#N/A"},{"$error":"#N/A"},12,{"$error":"#N/A"},{"$error":"#N/A"},{"$error":"#N/A"},{"$error":"#N/A"},{"$error":"#N/A"},16,null,{"$f":"PTA!A19","v":""},"00:00:00","","00:00:00",null,null,""]
[{"$f":"PTA_Nom_Arb!Q7","v":13},{"$error":"#N/A"},{"$error":"#N/A"},null,{"$error":"#N/A"},{"$error":"#N/A"},13,{"$error":"#N/A"},{"$error":"#N/A"},{"$error":"#N/A"},{"$error":"#N/A"},{"$error":"#N/A"},17,null,{"$f":"PTA!A20","v":""},"00:00:00","","00:00:00",null,null,""]
[{"$f":"PTA_Nom_Arb!R7","v":14},{"$error":"#N/A"},{"$error":"#N/A"},null,{"$error":"#N/A"},{"$error":"#N/A"},14,{"$error":"#N/A"},{"$error":"#N/A"},{"$error":"#N/A"},{"$error":"#N/A"},{"$error":"#N/A"},18,null,{"$f":"PTA!A21","v":""},"00:00:00","","00:00:00",null,null,""]
[{"$f":"PTA_Nom_Arb!S7","v":15},{"$error":"#N/A"},{"$error":"#N/A"},null,{"$error":"#N/A"},{"$error":"#N/A"},15,{"$error":"#N/A"},{"$error":"#N/A"},{"$error":"#N/A"},{"$error":"#N/A"},{"$error":"#N/A"},19,null,{"$f":"PTA!A22","v":""},"00:00:00","","00:00:00",null,null,""]
[{"$f":"PTA_Nom_Arb!T7","v":16},{"$error":"#N/A"},{"$error":"#N/A"},null,{"$error":"#N/A"},{"$error":"#N/A"},16,{"$error":"#N/A"},{"$error":"#N/A"},{"$error":"#N/A"},{"$error":"#N/A"},{"$error":"#N/A"},20,null,{"$f":"PTA!A23","v":""},"00:00:00","","00:00:00",null,null,""]
[{"$f":"PTA_Nom_Arb!U7","v":17},{"$error":"#N/A"},{"$error":"#N/A"},null,{"$error":"#N/A"},{"$error":"#N/A"},17,{"$error":"#N/A"},{"$error":"#N/A"},{"$error":"#N/A"},{"$error":"#N/A"},{"$error":"#N/A"},21,null,{"$f":"PTA!A24","v":""},"00:00:00",null,null,null,null,""]
[{"$f":"PTA_Nom_Arb!V7","v":18},{"$error":"#N/A"},{"$error":"#N/A"},null,{"$error":"#N/A"},{"$error":"#N/A"},18,{"$error":"#N/A"},{"$error":"#N/A"},{"$error":"#N/A"},{"$error":"#N/A"},{"$error":"#N/A"},22,null,{"$f":"PTA!A25","v":""},{"$f":"VLOOKUP(O23,Zone_pta,2,FALSE)","v":"00:00:00"},null,null,null,null,""]
[{"$f":"PTA_Nom_Arb!W7","v":19},{"$error":"#N/A"},{"$error":"#N/A"},null,{"$error":"#N/A"},{"$error":"#N/A"},19,{"$error":"#N/A"},{"$error":"#N/A"},{"$error":"#N/A"},{"$error":"#N/A"},{"$error":"#N/A"},23,null,{"$f":"PTA!A26","v":""},"00:00:00",null,null,null,null,""]
[{"$f":"PTA_Nom_Arb!X7","v":20},{"$error":"#N/A"},{"$error":"#N/A"},null,{"$error":"#N/A"},{"$error":"#N/A"},20,{"$error":"#N/A"},{"$error":"#N/A"},{"$error":"#N/A"},{"$error":"#N/A"},{"$error":"#N/A"},24,null,{"$f":"PTA!A27","v":""},{"$f":"VLOOKUP(O25,Zone_pta,2,FALSE)","v":"00:00:00"},null,null,null,null,""]
[{"$f":"PTA_Nom_Arb!Y7","v":21},{"$error":"#N/A"},{"$error":"#N/A"},null,{"$error":"#N/A"},{"$error":"#N/A"},21,{"$error":"#N/A"},{"$error":"#N/A"},{"$error":"#N/A"},{"$error":"#N/A"},{"$error":"#N/A"},25,null,{"$f":"PTA!A28","v":""},"00:00:00",null,null,null,null,""]
[{"$f":"PTA_Nom_Arb!Z7","v":22},{"$error":"#N/A"},{"$error":"#N/A"},null,{"$error":"#N/A"},{"$error":"#N/A"},22,{"$error":"#N/A"},{"$error":"#N/A"},{"$error":"#N/A"},{"$error":"#N/A"},{"$error":"#N/A"},26,null,{"$f":"PTA!A29","v":""},"00:00:00",null,null,null,null,""]
[{"$f":"PTA_Nom_Arb!AA7","v":23},{"$error":"#N/A"},{"$error":"#N/A"},null,{"$error":"#N/A"},{"$error":"#N/A"},23,{"$error":"#N/A"},{"$error":"#N/A"},{"$error":"#N/A"},{"$error":"#N/A"},{"$error":"#N/A"},27,null,{"$f":"PTA!A30","v":""},"00:00:00",null,null,null,null,""]
[{"$f":"PTA_Nom_Arb!AB7","v":24},{"$error":"#N/A"},{"$error":"#N/A"},null,{"$error":"#N/A"},{"$error":"#N/A"},24,{"$error":"#N/A"},{"$error":"#N/A"},{"$error":"#N/A"},{"$error":"#N/A"},{"$error":"#N/A"},28,null,{"$f":"PTA!A31","v":""},"00:00:00",null,null,null,null,""]
[{"$f":"PTA_Nom_Arb!AC7","v":25},{"$error":"#N/A"},{"$error":"#N/A"},null,{"$error":"#N/A"},{"$error":"#N/A"},25,{"$error":"#N/A"},{"$error":"#N/A"},{"$error":"#N/A"},{"$error":"#N/A"},{"$error":"#N/A"},29,null,{"$f":"PTA!A32","v":""},"00:00:00",null,null,null,null,""]
[{"$f":"PTA_Nom_Arb!AD7","v":26},{"$error":"#N/A"},{"$error":"#N/A"},null,{"$error":"#N/A"},{"$error":"#N/A"},26,{"$error":"#N/A"},{"$error":"#N/A"},{"$error":"#N/A"},{"$error":"#N/A"},{"$error":"#N/A"},30,null,{"$f":"PTA!A33","v":""},"00:00:00",null,null,null,null,""]
[{"$f":"PTA_Nom_Arb!AE7","v":27},{"$error":"#N/A"},{"$error":"#N/A"},null,{"$error":"#N/A"},{"$error":"#N/A"},27,{"$error":"#N/A"},{"$error":"#N/A"},{"$error":"#N/A"},{"$error":"#N/A"},{"$error":"#N/A"},31,null,{"$f":"PTA!A34","v":""},"00:00:00",null,null,null,null,""]
[{"$f":"PTA_Nom_Arb!AF7","v":28},{"$error":"#N/A"},{"$error":"#N/A"},null,{"$error":"#N/A"},{"$error":"#N/A"},28,{"$error":"#N/A"},{"$error":"#N/A"},{"$error":"#N/A"},{"$error":"#N/A"},{"$error":"#N/A"},32,null,{"$f":"PTA!A35","v":""},"00:00:00",null,null,null,null,""]
[{"$f":"PTA_Nom_Arb!AG7","v":29},{"$error":"#N/A"},{"$error":"#N/A"},null,{"$error":"#N/A"},{"$error":"#N/A"},29,{"$error":"#N/A"},{"$error":"#N/A"},{"$error":"#N/A"},{"$error":"#N/A"},{"$error":"#N/A"},33,null,{"$f":"PTA!A36","v":""},"00:00:00",null,null,null,null,""]
[{"$f":"PTA_Nom_Arb!AH7","v":30},{"$error":"#N/A"},{"$error":"#N/A"},null,{"$error":"#N/A"},{"$error":"#N/A"},30,{"$error":"#N/A"},{"$error":"#N/A"},{"$error":"#N/A"},{"$error":"#N/A"},{"$error":"#N/A"},34,null,{"$f":"PTA!A37","v":""},"00:00:00",null,null,null,null,""]
[{"$f":"PTA_Nom_Arb!AI7","v":31},{"$error":"#N/A"},{"$error":"#N/A"},null,{"$error":"#N/A"},{"$error":"#N/A"},31,{"$error":"#N/A"},{"$error":"#N/A"},{"$error":"#N/A"},{"$error":"#N/A"},{"$error":"#N/A"},35,null,{"$f":"PTA!A38","v":""},"00:00:00",null,null,null,null,""]
[{"$f":"PTA_Nom_Arb!AJ7","v":32},{"$error":"#N/A"},{"$error":"#N/A"},null,{"$error":"#N/A"},{"$error":"#N/A"},32,{"$error":"#N/A"},{"$error":"#N/A"},{"$error":"#N/A"},{"$error":"#N/A"},{"$error":"#N/A"},36,null,{"$f":"PTA!A39","v":""},"00:00:00"]
[33,{"$f":"IF(OR(VLOOKUP($C$3,Zone_pta,$M38,FALSE)=\"\",VLOOKUP($C$3,Zone_pta,$M38,FALSE)=\"X\"),\"\",IF($C$3=\"\",\"\",VLOOKUP($C$3,Zone_pta,$M38,FALSE)))","v":{"$error":"#N/A"}},{"$f":"IF(B38=\"*\",\"Arb Tour Précédent\",IF(OR(VLOOKUP($C$3,Zone_pta,$M38,FALSE)=\"\",VLOOKUP($C$3,Zone_pta,$M38,FALSE)=\"X\"),\"\",VLOOKUP(VLOOKUP($C$3,Zone_pta,$M38,FALSE),AL_NUM_ARB,2,FALSE)))","v":{"$error":"#N/A"}},null,{"$f":"IF(B38=\"*\",\"\",IF(OR(VLOOKUP($C$3,Zone_pta,$M38,FALSE)=\"\",VLOOKUP($C$3,Zone_pta,$M38,FALSE)=\"X\"),\"\",IF($C$3=\"\",\"\",IF($E$3<>\"\",VLOOKUP(VLOOKUP($E$3,Zone_pta,$M38,FALSE),AL_NUM_ARB,2,FALSE),VLOOKUP(VLOOKUP($C$3,Zone_pta,$M38,FALSE),AL_NUM_ARB,4,FALSE)))))","v":{"$error":"#N/A"}},{"$f":"IF(OR(VLOOKUP($C$3,Zone_pta,$M38,FALSE)=\"\",VLOOKUP($C$3,Zone_pta,$M38,FALSE)=\"X\"),\"\",IF($E$3<>\"\",\"\",VLOOKUP(VLOOKUP($C$3,Zone_pta,$M38,FALSE),AL_NUM_ARB,6,FALSE)&\" - \"&VLOOKUP(VLOOKUP($C$3,Zone_pta,$M38,FALSE),AL_NUM_EQR,7,FALSE)))","v":{"$error":"#N/A"}},33,{"$f":"IF(OR(VLOOKUP($I$3,Zone_pta,$M38,FALSE)=\"\",VLOOKUP($I$3,Zone_pta,$M38,FALSE)=\"X\"),\"\",IF($I$3=\"\",\"\",VLOOKUP($I$3,Zone_pta,$M38,FALSE)))","v":{"$error":"#N/A"}},{"$f":"IF(H38=\"*\",\"Arb Tour Précédent\",IF(OR(VLOOKUP($I$3,Zone_pta,$M38,FALSE)=\"\",VLOOKUP($I$3,Zone_pta,$M38,FALSE)=\"X\"),\"\",VLOOKUP(VLOOKUP($I$3,Zone_pta,$M38,FALSE),AL_NUM_ARB,2,FALSE)))","v":{"$error":"#N/A"}},{"$f":"IF(OR(VLOOKUP($I$3,Zone_pta,$M38,FALSE)=\"\",VLOOKUP($I$3,Zone_pta,$M38,FALSE)=\"X\"),\"\",IF($I$3=\"\",\"\",IF($J$3<>\"\",VLOOKUP($J$3,Zone_pta,$M38,FALSE),\"\")))","v":{"$error":"#N/A"}},{"$f":"IF(H38=\"*\",\"\",IF(OR(VLOOKUP($I$3,Zone_pta,$M38,FALSE)=\"\",VLOOKUP($I$3,Zone_pta,$M38,FALSE)=\"X\"),\"\",IF($I$3=\"\",\"\",IF($K$3<>\"\",VLOOKUP(VLOOKUP($K$3,Zone_pta,$M38,FALSE),AL_NUM_ARB,2,FALSE),VLOOKUP(VLOOKUP($I$3,Zone_pta,$M38,FALSE),AL_NUM_ARB,4,FALSE)))))","v":{"$error":"#N/A"}},{"$f":"IF(OR(VLOOKUP($I$3,Zone_pta,$M38,FALSE)=\"\",VLOOKUP($I$3,Zone_pta,$M38,FALSE)=\"X\"),\"\",IF($E$3<>\"\",\"\",VLOOKUP(VLOOKUP($I$3,Zone_pta,$M38,FALSE),AL_NUM_ARB,6,FALSE)&\" - \"&VLOOKUP(VLOOKUP($I$3,Zone_pta,$M38,FALSE),AL_NUM_EQR,7,FALSE)))","v":{"$error":"#N/A"}},37,null,{"$f":"PTA!A40","v":""},"00:00:00"]
[34,{"$error":"#N/A"},{"$error":"#N/A"},null,{"$error":"#N/A"},{"$error":"#N/A"},34,{"$error":"#N/A"},{"$error":"#N/A"},{"$error":"#N/A"},{"$error":"#N/A"},{"$error":"#N/A"},38,null,{"$f":"PTA!A41","v":""},"00:00:00"]
[35,{"$error":"#N/A"},{"$error":"#N/A"},null,{"$error":"#N/A"},{"$error":"#N/A"},35,{"$error":"#N/A"},{"$error":"#N/A"},{"$error":"#N/A"},{"$error":"#N/A"},{"$error":"#N/A"},39,null,{"$f":"PTA!A42","v":""},"00:00:00"]
[36,{"$error":"#N/A"},{"$error":"#N/A"},null,{"$error":"#N/A"},{"$error":"#N/A"},36,{"$error":"#N/A"},{"$error":"#N/A"},{"$error":"#N/A"},{"$error":"#N/A"},{"$error":"#N/A"},40,null,{"$f":"PTA!A43","v":""},"00:00:00"]
[37,{"$error":"#N/A"},{"$error":"#N/A"},null,{"$error":"#N/A"},{"$error":"#N/A"},37,{"$error":"#N/A"},{"$error":"#N/A"},{"$error":"#N/A"},{"$error":"#N/A"},{"$error":"#N/A"},41,null,{"$f":"PTA!A44","v":""},"00:00:00"]
[38,{"$error":"#N/A"},{"$error":"#N/A"},null,{"$error":"#N/A"},{"$error":"#N/A"},38,{"$error":"#N/A"},{"$error":"#N/A"},{"$error":"#N/A"},{"$error":"#N/A"},{"$error":"#N/A"},42,null,{"$f":"PTA!A45","v":""},"00:00:00"]
[39,{"$error":"#N/A"},{"$error":"#N/A"},null,{"$error":"#N/A"},{"$error":"#N/A"},39,{"$error":"#N/A"},{"$error":"#N/A"},{"$error":"#N/A"},{"$error":"#N/A"},{"$error":"#N/A"},43,null,{"$f":"PTA!A46","v":""},"00:00:00"]
[40,{"$error":"#N/A"},{"$error":"#N/A"},null,{"$error":"#N/A"},{"$error":"#N/A"},40,{"$error":"#N/A"},{"$error":"#N/A"},{"$error":"#N/A"},{"$error":"#N/A"},{"$error":"#N/A"},44,null,{"$f":"PTA!A47","v":""},"00:00:00"]
[41,{"$error":"#N/A"},{"$error":"#N/A"},null,{"$error":"#N/A"},{"$error":"#N/A"},41,{"$error":"#N/A"},{"$error":"#N/A"},{"$error":"#N/A"},{"$error":"#N/A"},{"$error":"#N/A"},45,null,{"$f":"PTA!A48","v":""},"00:00:00"]
[42,{"$error":"#N/A"},{"$error":"#N/A"},null,{"$error":"#N/A"},{"$error":"#N/A"},42,{"$error":"#N/A"},{"$error":"#N/A"},{"$error":"#N/A"},{"$error":"#N/A"},{"$error":"#N/A"},46,null,{"$f":"PTA!A49","v":""},"00:00:00"]
[43,{"$error":"#N/A"},{"$error":"#N/A"},null,{"$error":"#N/A"},{"$error":"#N/A"},43,{"$error":"#N/A"},{"$error":"#N/A"},{"$error":"#N/A"},{"$error":"#N/A"},{"$error":"#N/A"},47,null,{"$f":"PTA!A50","v":""},"00:00:00"]
[44,{"$error":"#N/A"},{"$error":"#N/A"},null,{"$error":"#N/A"},{"$error":"#N/A"},44,{"$error":"#N/A"},{"$error":"#N/A"},{"$error":"#N/A"},{"$error":"#N/A"},{"$error":"#N/A"},48]
[45,{"$error":"#N/A"},{"$error":"#N/A"},null,{"$error":"#N/A"},{"$error":"#N/A"},45,{"$error":"#N/A"},{"$error":"#N/A"},{"$error":"#N/A"},{"$error":"#N/A"},{"$error":"#N/A"},49]
[46,{"$error":"#N/A"},{"$error":"#N/A"},null,{"$error":"#N/A"},{"$error":"#N/A"},46,{"$error":"#N/A"},{"$error":"#N/A"},{"$error":"#N/A"},{"$error":"#N/A"},{"$error":"#N/A"},50]
[47,{"$error":"#N/A"},{"$error":"#N/A"},null,{"$error":"#N/A"},{"$error":"#N/A"},47,{"$error":"#N/A"},{"$error":"#N/A"},{"$error":"#N/A"},{"$error":"#N/A"},{"$error":"#N/A"},51]
[48,{"$error":"#N/A"},{"$error":"#N/A"},null,{"$error":"#N/A"},{"$error":"#N/A"},48,{"$error":"#N/A"},{"$error":"#N/A"},{"$error":"#N/A"},{"$error":"#N/A"},{"$error":"#N/A"},52]
[49,{"$error":"#N/A"},{"$error":"#N/A"},null,{"$error":"#N/A"},{"$error":"#N/A"},49,{"$error":"#N/A"},{"$error":"#N/A"},{"$error":"#N/A"},{"$error":"#N/A"},{"$error":"#N/A"},53]
[50,{"$error":"#N/A"},{"$error":"#N/A"},null,{"$error":"#N/A"},{"$error":"#N/A"},50,{"$error":"#N/A"},{"$error":"#N/A"},{"$error":"#N/A"},{"$error":"#N/A"},{"$error":"#N/A"},54]
[51,{"$error":"#N/A"},{"$error":"#N/A"},null,{"$error":"#N/A"},{"$error":"#N/A"},51,{"$error":"#N/A"},{"$error":"#N/A"},{"$error":"#N/A"},{"$error":"#N/A"},{"$error":"#N/A"},55]
[52,{"$error":"#N/A"},{"$error":"#N/A"},null,{"$error":"#N/A"},{"$error":"#N/A"},52,{"$error":"#N/A"},{"$error":"#N/A"},{"$error":"#N/A"},{"$error":"#N/A"},{"$error":"#N/A"},56]
[53,{"$error":"#N/A"},{"$error":"#N/A"},null,{"$error":"#N/A"},{"$error":"#N/A"},53,{"$error":"#N/A"},{"$error":"#N/A"},{"$error":"#N/A"},{"$error":"#N/A"},{"$error":"#N/A"},57]
[54,{"$error":"#N/A"},{"$error":"#N/A"},null,{"$error":"#N/A"},{"$error":"#N/A"},54,{"$error":"#N/A"},{"$error":"#N/A"},{"$error":"#N/A"},{"$error":"#N/A"},{"$error":"#N/A"},58]
[55,{"$error":"#N/A"},{"$error":"#N/A"},null,{"$error":"#N/A"},{"$error":"#N/A"},55,{"$error":"#N/A"},{"$error":"#N/A"},{"$error":"#N/A"},{"$error":"#N/A"},{"$error":"#N/A"},59]
[56,{"$error":"#N/A"},{"$error":"#N/A"},null,{"$error":"#N/A"},{"$error":"#N/A"},{"$f":"A61","v":56},{"$error":"#N/A"},{"$error":"#N/A"},{"$error":"#N/A"},{"$error":"#N/A"},{"$error":"#N/A"},60]
[{"$f":"IF(PTA!BI$4>0,PTA!BI$7&\" S\"&PTA!BI$4,PTA!BI$7)","v":"R1"},{"$error":"#N/A"},{"$f":"IF(OR(VLOOKUP($C$3,Zone_pta,$M62,FALSE)=\"\",VLOOKUP($C$3,Zone_pta,$M62,FALSE)=\"X\"),\"\",VLOOKUP(VLOOKUP($C$3,Zone_pta,$M62,FALSE),AL_NUM_ARB,2,FALSE))","v":{"$error":"#N/A"}},null,{"$error":"#N/A"},{"$error":"#N/A"},{"$f":"A62","v":"R1"},{"$error":"#N/A"},{"$error":"#N/A"},{"$error":"#N/A"},{"$error":"#N/A"},{"$error":"#N/A"},61]
[{"$f":"IF(PTA!BJ$4>0,PTA!BJ$7&\" S\"&PTA!BJ$4,PTA!BJ$7)","v":"R2"},{"$error":"#N/A"},{"$error":"#N/A"},null,{"$error":"#N/A"},{"$error":"#N/A"},{"$f":"A63","v":"R2"},{"$error":"#N/A"},{"$error":"#N/A"},{"$error":"#N/A"},{"$error":"#N/A"},{"$error":"#N/A"},62]
[{"$f":"IF(PTA!BK$4>0,PTA!BK$7&\" S\"&PTA!BK$4,PTA!BK$7)","v":"R3"},{"$error":"#N/A"},{"$error":"#N/A"},null,{"$error":"#N/A"},{"$error":"#N/A"},"R3",{"$error":"#N/A"},{"$error":"#N/A"},{"$error":"#N/A"},{"$error":"#N/A"},{"$error":"#N/A"},63]
[{"$f":"IF(PTA!BL$4>0,PTA!BL$7&\" S\"&PTA!BL$4,PTA!BL$7)","v":"R4"},{"$error":"#N/A"},{"$error":"#N/A"},null,{"$error":"#N/A"},{"$error":"#N/A"},"R4",{"$error":"#N/A"},{"$error":"#N/A"},{"$error":"#N/A"},{"$error":"#N/A"},{"$error":"#N/A"},64]
[{"$f":"IF(PTA!BM$4>0,PTA!BM$7&\" S\"&PTA!BM$4,PTA!BM$7)","v":"R5"},{"$error":"#N/A"},{"$error":"#N/A"},null,{"$error":"#N/A"},{"$error":"#N/A"},"R5",{"$error":"#N/A"},{"$error":"#N/A"},{"$error":"#N/A"},{"$error":"#N/A"},{"$error":"#N/A"},65]
[{"$f":"IF(PTA!BN$4>0,PTA!BN$7&\" S\"&PTA!BN$4,PTA!BN$7)","v":"R6"},{"$error":"#N/A"},{"$error":"#N/A"},null,{"$error":"#N/A"},{"$error":"#N/A"},"R6",{"$error":"#N/A"},{"$error":"#N/A"},{"$error":"#N/A"},{"$error":"#N/A"},{"$error":"#N/A"},66]
[{"$f":"IF(PTA!BO$4>0,PTA!BO$7&\" S\"&PTA!BO$4,PTA!BO$7)","v":"R7"},{"$error":"#N/A"},{"$error":"#N/A"},null,{"$error":"#N/A"},{"$error":"#N/A"},"R7",{"$error":"#N/A"},{"$error":"#N/A"},{"$error":"#N/A"},{"$error":"#N/A"},{"$error":"#N/A"},67]
[{"$f":"IF(PTA!BP$4>0,PTA!BP$7&\" S\"&PTA!BP$4,PTA!BP$7)","v":"R8"},{"$error":"#N/A"},{"$error":"#N/A"},null,{"$error":"#N/A"},{"$error":"#N/A"},"R8",{"$error":"#N/A"},{"$error":"#N/A"},{"$error":"#N/A"},{"$error":"#N/A"},{"$error":"#N/A"},68]
[{"$f":"IF(PTA!BQ$4>0,PTA!BQ$7&\" S\"&PTA!BQ$4,PTA!BQ$7)","v":"R9"},{"$error":"#N/A"},{"$error":"#N/A"},null,{"$error":"#N/A"},{"$error":"#N/A"},"R9",{"$error":"#N/A"},{"$f":"IF(H70=\"*\",\"Arb Tour Précédent\",IF(OR(VLOOKUP($I$3,Zone_pta,$M70,FALSE)=\"\",VLOOKUP($I$3,Zone_pta,$M70,FALSE)=\"X\"),\"\",VLOOKUP(VLOOKUP($I$3,Zone_pta,$M70,FALSE),AL_NUM_ARB,2,FALSE)))","v":{"$error":"#N/A"}},{"$error":"#N/A"},{"$error":"#N/A"},{"$error":"#N/A"},69]
[{"$f":"IF(PTA!BR$4>0,PTA!BR$7&\" S\"&PTA!BR$4,PTA!BR$7)","v":"R10"},{"$error":"#N/A"},{"$error":"#N/A"},null,{"$f":"IF(OR(VLOOKUP($C$3,Zone_pta,$M71,FALSE)=\"\",VLOOKUP($C$3,Zone_pta,$M71,FALSE)=\"X\"),\"\",IF($C$3=\"\",\"\",IF($E$3<>\"\",VLOOKUP(VLOOKUP($E$3,Zone_pta,$M71,FALSE),AL_NUM_ARB,2,FALSE),VLOOKUP(VLOOKUP($C$3,Zone_pta,$M71,FALSE),AL_NUM_ARB,4,FALSE))))","v":{"$error":"#N/A"}},{"$error":"#N/A"},"R10",{"$error":"#N/A"},{"$error":"#N/A"},{"$error":"#N/A"},{"$error":"#N/A"},{"$error":"#N/A"},70]
[null,"Tour",{"$f":"IF(C3=\"\",\"\",C3+2)","v":3},null,null,null,null,"Tour",{"$f":"IF(C3=\"\",\"\",C3+3)","v":4}]
[null,null,"Tranche Horaire",null,{"$f":"IF(AND(RIGHT(C72,1)=\"A\",Marq=\"oui\"),\"Adjoint\",\"\")","v":""},null,null,null,"Tranche Horaire",null,{"$f":"IF(AND(RIGHT(I72,1)=\"A\",Marq=\"oui\"),\"Adjoint\",\"\")","v":""}]
["Tables","N° Arbitre ou Equipe",{"$f":"IF(VLOOKUP($C$72,Zone_pta,2,FALSE)>=Fin,\"\",VLOOKUP($C$72,Zone_pta,2,FALSE))","v":{"$error":"#N/A"}},{"$f":"IF(E72<>\"\",\"N° Arbitre\",\"\")","v":""},null,null,"Tables","N° Arbitre ou Equipe",{"$f":"IF(VLOOKUP($I$72,Zone_pta,2,FALSE)>=Fin,\"\",VLOOKUP($I$72,Zone_pta,2,FALSE))","v":{"$error":"#N/A"}},{"$f":"IF(K72<>\"\",\"N° Arbitre\",\"\")","v":""}]
[{"$f":"A6","v":1},{"$f":"IF(OR(VLOOKUP($C$72,Zone_pta,$M75,FALSE)=\"\",VLOOKUP($C$72,Zone_pta,$M75,FALSE)=\"X\"),\"\",IF($C$72=\"\",\"\",VLOOKUP($C$72,Zone_pta,$M75,FALSE)))","v":{"$error":"#N/A"}},{"$f":"IF(B75=\"*\",\"Arb Tour Précédent\",IF(OR(VLOOKUP($C$72,Zone_pta,$M75,FALSE)=\"\",VLOOKUP($C$72,Zone_pta,$M75,FALSE)=\"X\"),\"\",VLOOKUP(VLOOKUP($C$72,Zone_pta,$M75,FALSE),AL_NUM_ARB,2,FALSE)))","v":{"$error":"#N/A"}},null,{"$f":"IF(B75=\"*\",\"\",IF(OR(VLOOKUP($C$72,Zone_pta,$M75,FALSE)=\"\",VLOOKUP($C$72,Zone_pta,$M75,FALSE)=\"X\"),\"\",IF($C$72=\"\",\"\",IF($E$3<>\"\",VLOOKUP(VLOOKUP($E$3,Zone_pta,$M75,FALSE),AL_NUM_ARB,2,FALSE),VLOOKUP(VLOOKUP($C$72,Zone_pta,$M75,FALSE),AL_NUM_ARB,4,FALSE)))))","v":{"$error":"#N/A"}},{"$f":"IF(OR(VLOOKUP($C$72,Zone_pta,$M75,FALSE)=\"\",VLOOKUP($C$72,Zone_pta,$M75,FALSE)=\"X\"),\"\",IF($E$3<>\"\",\"\",VLOOKUP(VLOOKUP($C$72,Zone_pta,$M75,FALSE),AL_NUM_ARB,6,FALSE)&\" - \"&VLOOKUP(VLOOKUP($C$72,Zone_pta,$M75,FALSE),AL_NUM_EQR,7,FALSE)))","v":{"$error":"#N/A"}},{"$f":"A6","v":1},{"$f":"IF(OR(VLOOKUP($I$72,Zone_pta,$M75,FALSE)=\"\",VLOOKUP($I$72,Zone_pta,$M75,FALSE)=\"X\"),\"\",IF($I$72=\"\",\"\",VLOOKUP($I$72,Zone_pta,$M75,FALSE)))","v":{"$error":"#N/A"}},{"$f":"IF(H75=\"*\",\"Arb Tour Précédent\",IF(OR(VLOOKUP($I$72,Zone_pta,$M75,FALSE)=\"\",VLOOKUP($I$72,Zone_pta,$M75,FALSE)=\"X\"),\"\",VLOOKUP(VLOOKUP($I$72,Zone_pta,$M75,FALSE),AL_NUM_ARB,2,FALSE)))","v":{"$error":"#N/A"}},{"$f":"IF(OR(VLOOKUP($I$72,Zone_pta,$M75,FALSE)=\"\",VLOOKUP($I$72,Zone_pta,$M75,FALSE)=\"X\"),\"\",IF($I$72=\"\",\"\",IF($J$3<>\"\",VLOOKUP($J$3,Zone_pta,$M75,FALSE),\"\")))","v":{"$error":"#N/A"}},{"$f":"IF(H75=\"*\",\"\",IF(OR(VLOOKUP($I$72,Zone_pta,$M75,FALSE)=\"\",VLOOKUP($I$72,Zone_pta,$M75,FALSE)=\"X\"),\"\",IF($I$72=\"\",\"\",IF($K$3<>\"\",VLOOKUP(VLOOKUP($K$3,Zone_pta,$M75,FALSE),AL_NUM_ARB,2,FALSE),VLOOKUP(VLOOKUP($I$72,Zone_pta,$M75,FALSE),AL_NUM_ARB,4,FALSE)))))","v":{"$error":"#N/A"}},{"$f":"IF(OR(VLOOKUP($I$72,Zone_pta,$M75,FALSE)=\"\",VLOOKUP($I$72,Zone_pta,$M75,FALSE)=\"X\"),\"\",IF($E$3<>\"\",\"\",VLOOKUP(VLOOKUP($I$72,Zone_pta,$M75,FALSE),AL_NUM_ARB,6,FALSE)&\" - \"&VLOOKUP(VLOOKUP($I$72,Zone_pta,$M75,FALSE),AL_NUM_EQR,7,FALSE)))","v":{"$error":"#N/A"}},5]
[2,{"$error":"#N/A"},{"$error":"#N/A"},null,{"$error":"#N/A"},{"$error":"#N/A"},2,{"$error":"#N/A"},{"$error":"#N/A"},{"$error":"#N/A"},{"$error":"#N/A"},{"$error":"#N/A"},6]
[3,{"$error":"#N/A"},{"$error":"#N/A"},null,{"$error":"#N/A"},{"$error":"#N/A"},3,{"$error":"#N/A"},{"$error":"#N/A"},{"$error":"#N/A"},{"$error":"#N/A"},{"$error":"#N/A"},7]
[4,{"$error":"#N/A"},{"$error":"#N/A"},null,{"$error":"#N/A"},{"$error":"#N/A"},4,{"$error":"#N/A"},{"$error":"#N/A"},{"$error":"#N/A"},{"$error":"#N/A"},{"$error":"#N/A"},8]
[5,{"$error":"#N/A"},{"$error":"#N/A"},null,{"$error":"#N/A"},{"$error":"#N/A"},5,{"$error":"#N/A"},{"$error":"#N/A"},{"$error":"#N/A"},{"$error":"#N/A"},{"$error":"#N/A"},9]
[6,{"$error":"#N/A"},{"$error":"#N/A"},null,{"$error":"#N/A"},{"$error":"#N/A"},6,{"$error":"#N/A"},{"$error":"#N/A"},{"$error":"#N/A"},{"$error":"#N/A"},{"$error":"#N/A"},10]
[7,{"$error":"#N/A"},{"$error":"#N/A"},null,{"$error":"#N/A"},{"$error":"#N/A"},7,{"$error":"#N/A"},{"$error":"#N/A"},{"$error":"#N/A"},{"$error":"#N/A"},{"$error":"#N/A"},11]
[8,{"$error":"#N/A"},{"$error":"#N/A"},null,{"$error":"#N/A"},{"$error":"#N/A"},8,{"$error":"#N/A"},{"$error":"#N/A"},{"$error":"#N/A"},{"$error":"#N/A"},{"$error":"#N/A"},12]
[9,{"$error":"#N/A"},{"$error":"#N/A"},null,{"$error":"#N/A"},{"$error":"#N/A"},9,{"$error":"#N/A"},{"$error":"#N/A"},{"$error":"#N/A"},{"$error":"#N/A"},{"$error":"#N/A"},13]
[10,{"$error":"#N/A"},{"$error":"#N/A"},null,{"$error":"#N/A"},{"$error":"#N/A"},10,{"$error":"#N/A"},{"$error":"#N/A"},{"$error":"#N/A"},{"$error":"#N/A"},{"$error":"#N/A"},14]
[11,{"$error":"#N/A"},{"$error":"#N/A"},null,{"$error":"#N/A"},{"$error":"#N/A"},11,{"$error":"#N/A"},{"$error":"#N/A"},{"$error":"#N/A"},{"$error":"#N/A"},{"$error":"#N/A"},15]
[12,{"$error":"#N/A"},{"$error":"#N/A"},null,{"$error":"#N/A"},{"$error":"#N/A"},12,{"$error":"#N/A"},{"$error":"#N/A"},{"$error":"#N/A"},{"$error":"#N/A"},{"$error":"#N/A"},16]
[13,{"$error":"#N/A"},{"$error":"#N/A"},null,{"$error":"#N/A"},{"$error":"#N/A"},13,{"$error":"#N/A"},{"$error":"#N/A"},{"$error":"#N/A"},{"$error":"#N/A"},{"$error":"#N/A"},17]
[14,{"$error":"#N/A"},{"$error":"#N/A"},null,{"$error":"#N/A"},{"$error":"#N/A"},14,{"$error":"#N/A"},{"$error":"#N/A"},{"$error":"#N/A"},{"$error":"#N/A"},{"$error":"#N/A"},18]
[15,{"$error":"#N/A"},{"$error":"#N/A"},null,{"$error":"#N/A"},{"$error":"#N/A"},15,{"$error":"#N/A"},{"$error":"#N/A"},{"$error":"#N/A"},{"$error":"#N/A"},{"$error":"#N/A"},19]
[16,{"$error":"#N/A"},{"$error":"#N/A"},null,{"$error":"#N/A"},{"$error":"#N/A"},16,{"$error":"#N/A"},{"$error":"#N/A"},{"$error":"#N/A"},{"$error":"#N/A"},{"$error":"#N/A"},20]
[17,{"$error":"#N/A"},{"$error":"#N/A"},null,{"$error":"#N/A"},{"$error":"#N/A"},17,{"$error":"#N/A"},{"$error":"#N/A"},{"$error":"#N/A"},{"$error":"#N/A"},{"$error":"#N/A"},21]
[18,{"$error":"#N/A"},{"$error":"#N/A"},null,{"$error":"#N/A"},{"$error":"#N/A"},18,{"$error":"#N/A"},{"$error":"#N/A"},{"$error":"#N/A"},{"$error":"#N/A"},{"$error":"#N/A"},22]
[19,{"$error":"#N/A"},{"$error":"#N/A"},null,{"$error":"#N/A"},{"$error":"#N/A"},19,{"$error":"#N/A"},{"$error":"#N/A"},{"$error":"#N/A"},{"$error":"#N/A"},{"$error":"#N/A"},23]
[20,{"$error":"#N/A"},{"$error":"#N/A"},null,{"$error":"#N/A"},{"$error":"#N/A"},20,{"$error":"#N/A"},{"$error":"#N/A"},{"$error":"#N/A"},{"$error":"#N/A"},{"$error":"#N/A"},24]
[21,{"$error":"#N/A"},{"$error":"#N/A"},null,{"$error":"#N/A"},{"$error":"#N/A"},21,{"$error":"#N/A"},{"$error":"#N/A"},{"$error":"#N/A"},{"$error":"#N/A"},{"$error":"#N/A"},25]
[22,{"$error":"#N/A"},{"$error":"#N/A"},null,{"$error":"#N/A"},{"$error":"#N/A"},22,{"$error":"#N/A"},{"$error":"#N/A"},{"$error":"#N/A"},{"$error":"#N/A"},{"$error":"#N/A"},26]
[23,{"$error":"#N/A"},{"$error":"#N/A"},null,{"$error":"#N/A"},{"$error":"#N/A"},23,{"$error":"#N/A"},{"$error":"#N/A"},{"$error":"#N/A"},{"$error":"#N/A"},{"$error":"#N/A"},27]
[24,{"$error":"#N/A"},{"$error":"#N/A"},null,{"$error":"#N/A"},{"$error":"#N/A"},24,{"$error":"#N/A"},{"$error":"#N/A"},{"$error":"#N/A"},{"$error":"#N/A"},{"$error":"#N/A"},28]
[25,{"$error":"#N/A"},{"$error":"#N/A"},null,{"$error":"#N/A"},{"$error":"#N/A"},25,{"$error":"#N/A"},{"$error":"#N/A"},{"$error":"#N/A"},{"$error":"#N/A"},{"$error":"#N/A"},29]
[26,{"$error":"#N/A"},{"$error":"#N/A"},null,{"$error":"#N/A"},{"$error":"#N/A"},26,{"$error":"#N/A"},{"$error":"#N/A"},{"$error":"#N/A"},{"$error":"#N/A"},{"$error":"#N/A"},30]
[27,{"$error":"#N/A"},{"$error":"#N/A"},null,{"$error":"#N/A"},{"$error":"#N/A"},27,{"$error":"#N/A"},{"$error":"#N/A"},{"$error":"#N/A"},{"$error":"#N/A"},{"$error":"#N/A"},31]
[28,{"$error":"#N/A"},{"$error":"#N/A"},null,{"$error":"#N/A"},{"$error":"#N/A"},28,{"$error":"#N/A"},{"$error":"#N/A"},{"$error":"#N/A"},{"$error":"#N/A"},{"$error":"#N/A"},32]
[29,{"$error":"#N/A"},{"$error":"#N/A"},null,{"$error":"#N/A"},{"$error":"#N/A"},29,{"$error":"#N/A"},{"$error":"#N/A"},{"$error":"#N/A"},{"$error":"#N/A"},{"$error":"#N/A"},33]
[30,{"$error":"#N/A"},{"$error":"#N/A"},null,{"$error":"#N/A"},{"$error":"#N/A"},30,{"$error":"#N/A"},{"$error":"#N/A"},{"$error":"#N/A"},{"$error":"#N/A"},{"$error":"#N/A"},34]
[31,{"$error":"#N/A"},{"$error":"#N/A"},null,{"$error":"#N/A"},{"$error":"#N/A"},31,{"$error":"#N/A"},{"$error":"#N/A"},{"$error":"#N/A"},{"$error":"#N/A"},{"$error":"#N/A"},35]
[32,{"$error":"#N/A"},{"$error":"#N/A"},null,{"$error":"#N/A"},{"$error":"#N/A"},32,{"$error":"#N/A"},{"$error":"#N/A"},{"$error":"#N/A"},{"$error":"#N/A"},{"$error":"#N/A"},36]
[{"$f":"A38","v":33},{"$f":"IF(OR(VLOOKUP($C$72,Zone_pta,$M107,FALSE)=\"\",VLOOKUP($C$72,Zone_pta,$M107,FALSE)=\"X\"),\"\",IF($C$72=\"\",\"\",VLOOKUP($C$72,Zone_pta,$M107,FALSE)))","v":{"$error":"#N/A"}},{"$f":"IF(B107=\"*\",\"Arb Tour Précédent\",IF(OR(VLOOKUP($C$72,Zone_pta,$M107,FALSE)=\"\",VLOOKUP($C$72,Zone_pta,$M107,FALSE)=\"X\"),\"\",VLOOKUP(VLOOKUP($C$72,Zone_pta,$M107,FALSE),AL_NUM_ARB,2,FALSE)))","v":{"$error":"#N/A"}},null,{"$f":"IF(B107=\"*\",\"\",IF(OR(VLOOKUP($C$72,Zone_pta,$M107,FALSE)=\"\",VLOOKUP($C$72,Zone_pta,$M107,FALSE)=\"X\"),\"\",IF($C$72=\"\",\"\",IF($E$3<>\"\",VLOOKUP(VLOOKUP($E$3,Zone_pta,$M107,FALSE),AL_NUM_ARB,2,FALSE),VLOOKUP(VLOOKUP($C$72,Zone_pta,$M107,FALSE),AL_NUM_ARB,4,FALSE)))))","v":{"$error":"#N/A"}},{"$f":"IF(OR(VLOOKUP($C$72,Zone_pta,$M107,FALSE)=\"\",VLOOKUP($C$72,Zone_pta,$M107,FALSE)=\"X\"),\"\",IF($E$3<>\"\",\"\",VLOOKUP(VLOOKUP($C$72,Zone_pta,$M107,FALSE),AL_NUM_ARB,6,FALSE)&\" - \"&VLOOKUP(VLOOKUP($C$72,Zone_pta,$M107,FALSE),AL_NUM_EQR,7,FALSE)))","v":{"$error":"#N/A"}},{"$f":"A38","v":33},{"$f":"IF(OR(VLOOKUP($I$72,Zone_pta,$M107,FALSE)=\"\",VLOOKUP($I$72,Zone_pta,$M107,FALSE)=\"X\"),\"\",IF($I$72=\"\",\"\",VLOOKUP($I$72,Zone_pta,$M107,FALSE)))","v":{"$error":"#N/A"}},{"$f":"IF(H107=\"*\",\"Arb Tour Précédent\",IF(OR(VLOOKUP($I$72,Zone_pta,$M107,FALSE)=\"\",VLOOKUP($I$72,Zone_pta,$M107,FALSE)=\"X\"),\"\",VLOOKUP(VLOOKUP($I$72,Zone_pta,$M107,FALSE),AL_NUM_ARB,2,FALSE)))","v":{"$error":"#N/A"}},{"$f":"IF(OR(VLOOKUP($I$72,Zone_pta,$M107,FALSE)=\"\",VLOOKUP($I$72,Zone_pta,$M107,FALSE)=\"X\"),\"\",IF($I$72=\"\",\"\",IF($J$3<>\"\",VLOOKUP($J$3,Zone_pta,$M107,FALSE),\"\")))","v":{"$error":"#N/A"}},{"$f":"IF(H107=\"*\",\"\",IF(OR(VLOOKUP($I$72,Zone_pta,$M107,FALSE)=\"\",VLOOKUP($I$72,Zone_pta,$M107,FALSE)=\"X\"),\"\",IF($I$72=\"\",\"\",IF($K$3<>\"\",VLOOKUP(VLOOKUP($K$3,Zone_pta,$M107,FALSE),AL_NUM_ARB,2,FALSE),VLOOKUP(VLOOKUP($I$72,Zone_pta,$M107,FALSE),AL_NUM_ARB,4,FALSE)))))","v":{"$error":"#N/A"}},{"$f":"IF(OR(VLOOKUP($I$72,Zone_pta,$M107,FALSE)=\"\",VLOOKUP($I$72,Zone_pta,$M107,FALSE)=\"X\"),\"\",IF($E$3<>\"\",\"\",VLOOKUP(VLOOKUP($I$72,Zone_pta,$M107,FALSE),AL_NUM_ARB,6,FALSE)&\" - \"&VLOOKUP(VLOOKUP($I$72,Zone_pta,$M107,FALSE),AL_NUM_EQR,7,FALSE)))","v":{"$error":"#N/A"}},37]
[34,{"$error":"#N/A"},{"$error":"#N/A"},null,{"$error":"#N/A"},{"$error":"#N/A"},34,{"$error":"#N/A"},{"$error":"#N/A"},{"$error":"#N/A"},{"$error":"#N/A"},{"$error":"#N/A"},38]
[35,{"$error":"#N/A"},{"$error":"#N/A"},null,{"$error":"#N/A"},{"$error":"#N/A"},35,{"$error":"#N/A"},{"$error":"#N/A"},{"$error":"#N/A"},{"$error":"#N/A"},{"$error":"#N/A"},39]
[36,{"$error":"#N/A"},{"$error":"#N/A"},null,{"$error":"#N/A"},{"$error":"#N/A"},36,{"$error":"#N/A"},{"$error":"#N/A"},{"$error":"#N/A"},{"$error":"#N/A"},{"$error":"#N/A"},40]
[37,{"$error":"#N/A"},{"$error":"#N/A"},null,{"$error":"#N/A"},{"$error":"#N/A"},37,{"$error":"#N/A"},{"$error":"#N/A"},{"$error":"#N/A"},{"$error":"#N/A"},{"$error":"#N/A"},41]
[38,{"$error":"#N/A"},{"$error":"#N/A"},null,{"$error":"#N/A"},{"$error":"#N/A"},38,{"$error":"#N/A"},{"$error":"#N/A"},{"$error":"#N/A"},{"$error":"#N/A"},{"$error":"#N/A"},42]
[39,{"$error":"#N/A"},{"$error":"#N/A"},null,{"$error":"#N/A"},{"$error":"#N/A"},39,{"$error":"#N/A"},{"$error":"#N/A"},{"$error":"#N/A"},{"$error":"#N/A"},{"$error":"#N/A"},43]
[40,{"$error":"#N/A"},{"$error":"#N/A"},null,{"$error":"#N/A"},{"$error":"#N/A"},40,{"$error":"#N/A"},{"$error":"#N/A"},{"$error":"#N/A"},{"$error":"#N/A"},{"$error":"#N/A"},44]
[41,{"$error":"#N/A"},{"$error":"#N/A"},null,{"$error":"#N/A"},{"$error":"#N/A"},41,{"$error":"#N/A"},{"$error":"#N/A"},{"$error":"#N/A"},{"$error":"#N/A"},{"$error":"#N/A"},45]
[42,{"$error":"#N/A"},{"$error":"#N/A"},null,{"$error":"#N/A"},{"$error":"#N/A"},42,{"$error":"#N/A"},{"$error":"#N/A"},{"$error":"#N/A"},{"$error":"#N/A"},{"$error":"#N/A"},46]
[43,{"$error":"#N/A"},{"$error":"#N/A"},null,{"$error":"#N/A"},{"$error":"#N/A"},43,{"$error":"#N/A"},{"$error":"#N/A"},{"$error":"#N/A"},{"$error":"#N/A"},{"$error":"#N/A"},47]
[44,{"$error":"#N/A"},{"$error":"#N/A"},null,{"$error":"#N/A"},{"$error":"#N/A"},44,{"$error":"#N/A"},{"$error":"#N/A"},{"$error":"#N/A"},{"$error":"#N/A"},{"$error":"#N/A"},48]
[45,{"$error":"#N/A"},{"$error":"#N/A"},null,{"$error":"#N/A"},{"$error":"#N/A"},45,{"$error":"#N/A"},{"$error":"#N/A"},{"$error":"#N/A"},{"$error":"#N/A"},{"$error":"#N/A"},49]
[46,{"$error":"#N/A"},{"$error":"#N/A"},null,{"$error":"#N/A"},{"$error":"#N/A"},46,{"$error":"#N/A"},{"$error":"#N/A"},{"$error":"#N/A"},{"$error":"#N/A"},{"$error":"#N/A"},50]
[47,{"$error":"#N/A"},{"$error":"#N/A"},null,{"$error":"#N/A"},{"$error":"#N/A"},47,{"$error":"#N/A"},{"$error":"#N/A"},{"$error":"#N/A"},{"$error":"#N/A"},{"$error":"#N/A"},51]
[48,{"$error":"#N/A"},{"$error":"#N/A"},null,{"$error":"#N/A"},{"$error":"#N/A"},48,{"$error":"#N/A"},{"$error":"#N/A"},{"$error":"#N/A"},{"$error":"#N/A"},{"$error":"#N/A"},52]
[49,{"$error":"#N/A"},{"$error":"#N/A"},null,{"$error":"#N/A"},{"$error":"#N/A"},49,{"$error":"#N/A"},{"$error":"#N/A"},{"$error":"#N/A"},{"$error":"#N/A"},{"$error":"#N/A"},53]
[50,{"$error":"#N/A"},{"$error":"#N/A"},null,{"$error":"#N/A"},{"$error":"#N/A"},50,{"$error":"#N/A"},{"$error":"#N/A"},{"$error":"#N/A"},{"$error":"#N/A"},{"$error":"#N/A"},54]
[51,{"$error":"#N/A"},{"$error":"#N/A"},null,{"$error":"#N/A"},{"$error":"#N/A"},51,{"$error":"#N/A"},{"$error":"#N/A"},{"$error":"#N/A"},{"$error":"#N/A"},{"$error":"#N/A"},55]
[52,{"$error":"#N/A"},{"$error":"#N/A"},null,{"$error":"#N/A"},{"$error":"#N/A"},52,{"$error":"#N/A"},{"$error":"#N/A"},{"$error":"#N/A"},{"$error":"#N/A"},{"$error":"#N/A"},56]
[53,{"$error":"#N/A"},{"$error":"#N/A"},null,{"$error":"#N/A"},{"$error":"#N/A"},53,{"$error":"#N/A"},{"$error":"#N/A"},{"$error":"#N/A"},{"$error":"#N/A"},{"$error":"#N/A"},57]
[54,{"$error":"#N/A"},{"$error":"#N/A"},null,{"$error":"#N/A"},{"$error":"#N/A"},54,{"$error":"#N/A"},{"$error":"#N/A"},{"$error":"#N/A"},{"$error":"#N/A"},{"$error":"#N/A"},58]
[55,{"$error":"#N/A"},{"$error":"#N/A"},null,{"$error":"#N/A"},{"$error":"#N/A"},55,{"$error":"#N/A"},{"$error":"#N/A"},{"$error":"#N/A"},{"$error":"#N/A"},{"$error":"#N/A"},59]
[56,{"$error":"#N/A"},{"$error":"#N/A"},null,{"$error":"#N/A"},{"$error":"#N/A"},56,{"$error":"#N/A"},{"$error":"#N/A"},{"$error":"#N/A"},{"$error":"#N/A"},{"$error":"#N/A"},60]
[{"$f":"A62","v":"R1"},{"$error":"#N/A"},{"$error":"#N/A"},null,{"$error":"#N/A"},{"$error":"#N/A"},{"$f":"A131","v":"R1"},{"$error":"#N/A"},{"$error":"#N/A"},{"$error":"#N/A"},{"$error":"#N/A"},{"$error":"#N/A"},61]
[{"$f":"A63","v":"R2"},{"$error":"#N/A"},{"$error":"#N/A"},null,{"$error":"#N/A"},{"$error":"#N/A"},{"$f":"A132","v":"R2"},{"$error":"#N/A"},{"$error":"#N/A"},{"$error":"#N/A"},{"$error":"#N/A"},{"$error":"#N/A"},62]
["R3",{"$error":"#N/A"},{"$error":"#N/A"},null,{"$error":"#N/A"},{"$error":"#N/A"},"R3",{"$error":"#N/A"},{"$error":"#N/A"},{"$error":"#N/A"},{"$error":"#N/A"},{"$error":"#N/A"},63]
["R4",{"$error":"#N/A"},{"$error":"#N/A"},null,{"$error":"#N/A"},{"$error":"#N/A"},"R4",{"$error":"#N/A"},{"$error":"#N/A"},{"$error":"#N/A"},{"$error":"#N/A"},{"$error":"#N/A"},64]
["R5",{"$error":"#N/A"},{"$error":"#N/A"},null,{"$error":"#N/A"},{"$error":"#N/A"},"R5",{"$error":"#N/A"},{"$error":"#N/A"},{"$error":"#N/A"},{"$error":"#N/A"},{"$error":"#N/A"},65]
["R6",{"$error":"#N/A"},{"$error":"#N/A"},null,{"$error":"#N/A"},{"$error":"#N/A"},"R6",{"$error":"#N/A"},{"$error":"#N/A"},{"$error":"#N/A"},{"$error":"#N/A"},{"$error":"#N/A"},66]
["R7",{"$error":"#N/A"},{"$error":"#N/A"},null,{"$error":"#N/A"},{"$error":"#N/A"},"R7",{"$error":"#N/A"},{"$error":"#N/A"},{"$error":"#N/A"},{"$error":"#N/A"},{"$error":"#N/A"},67]
["R8",{"$error":"#N/A"},{"$error":"#N/A"},null,{"$error":"#N/A"},{"$error":"#N/A"},"R8",{"$error":"#N/A"},{"$error":"#N/A"},{"$error":"#N/A"},{"$error":"#N/A"},{"$error":"#N/A"},68]
["R9",{"$error":"#N/A"},{"$f":"IF(B139=\"*\",\"Arb Tour Précédent\",IF(OR(VLOOKUP($C$72,Zone_pta,$M139,FALSE)=\"\",VLOOKUP($C$72,Zone_pta,$M139,FALSE)=\"X\"),\"\",VLOOKUP(VLOOKUP($C$72,Zone_pta,$M139,FALSE),AL_NUM_ARB,2,FALSE)))","v":{"$error":"#N/A"}},null,{"$error":"#N/A"},{"$error":"#N/A"},"R9",{"$error":"#N/A"},{"$f":"IF(H139=\"*\",\"Arb Tour Précédent\",IF(OR(VLOOKUP($I$72,Zone_pta,$M139,FALSE)=\"\",VLOOKUP($I$72,Zone_pta,$M139,FALSE)=\"X\"),\"\",VLOOKUP(VLOOKUP($I$72,Zone_pta,$M139,FALSE),AL_NUM_ARB,2,FALSE)))","v":{"$error":"#N/A"}},{"$error":"#N/A"},{"$f":"IF(H139=\"*\",\"\",IF(OR(VLOOKUP($I$72,Zone_pta,$M139,FALSE)=\"\",VLOOKUP($I$72,Zone_pta,$M139,FALSE)=\"X\"),\"\",IF($I$72=\"\",\"\",IF($K$3<>\"\",VLOOKUP(VLOOKUP($K$3,Zone_pta,$M139,FALSE),AL_NUM_ARB,2,FALSE),VLOOKUP(VLOOKUP($I$72,Zone_pta,$M139,FALSE),AL_NUM_ARB,4,FALSE)))))","v":{"$error":"#N/A"}},{"$error":"#N/A"},69]
["R10",{"$error":"#N/A"},{"$error":"#N/A"},null,{"$error":"#N/A"},{"$error":"#N/A"},"R10",{"$error":"#N/A"},{"$error":"#N/A"},{"$error":"#N/A"},{"$error":"#N/A"},{"$error":"#N/A"},70]
[null,"Tour",{"$f":"IF(C3=\"\",\"\",VLOOKUP($I$72,Tour_info_C,5,FALSE))","v":{"$error":"#N/A"}},null,null,null,null,"Tour",{"$f":"IF(C3=\"\",\"\",VLOOKUP($C$141,Tour_info_C,5,FALSE))","v":{"$error":"#N/A"}},null,{"$error":"#N/A"}]
[null,null,"Tranche Horaire",null,{"$f":"IF(AND(RIGHT(C141,1)=\"A\",Marq=\"oui\"),\"Adjoint\",\"\")","v":{"$error":"#N/A"}},null,null,null,"Tranche Horaire",null,{"$error":"#N/A"}]
["Tables","N° Arbitre ou Equipe",{"$f":"IF(VLOOKUP($C$141,Zone_pta,2,FALSE)>=Fin,\"\",VLOOKUP($C$141,Zone_pta,2,FALSE))","v":{"$error":"#N/A"}},{"$f":"IF(E141<>\"\",\"N° Arbitre\",\"\")","v":""},null,null,"Tables","N° Arbitre ou Equipe",{"$f":"IF(VLOOKUP($I$141,Zone_pta,2,FALSE)>=Fin,\"\",VLOOKUP($I$141,Zone_pta,2,FALSE))","v":{"$error":"#N/A"}},{"$f":"IF(K141<>\"\",\"N° Arbitre\",\"\")","v":{"$error":"#N/A"}},{"$error":"#N/A"}]
[{"$f":"A6","v":1},{"$f":"IF(OR(VLOOKUP($C$141,Zone_pta,5,FALSE)=\"\",VLOOKUP($C$141,Zone_pta,5,FALSE)=\"X\"),\"\",IF($C$141=\"\",\"\",VLOOKUP($C$141,Zone_pta,5,FALSE)))","v":{"$error":"#N/A"}},{"$f":"IF(OR(VLOOKUP($C$141,Zone_pta,5,FALSE)=\"\",VLOOKUP($C$141,Zone_pta,5,FALSE)=\"X\"),\"\",VLOOKUP(VLOOKUP($C$141,Zone_pta,5,FALSE),AL_NUM_ARB,2,FALSE))","v":{"$error":"#N/A"}},{"$f":"IF(OR(VLOOKUP($C$141,Zone_pta,5,FALSE)=\"\",VLOOKUP($C$141,Zone_pta,5,FALSE)=\"X\"),\"\",IF($C$141=\"\",\"\",IF($E$141<>\"\",VLOOKUP($E$141,Zone_pta,5,FALSE),\"\")))","v":{"$error":"#N/A"}},{"$f":"IF(OR(VLOOKUP($C$141,Zone_pta,5,FALSE)=\"\",VLOOKUP($C$141,Zone_pta,5,FALSE)=\"X\"),\"\",IF($C$141=\"\",\"\",IF($E$141<>\"\",VLOOKUP(VLOOKUP($E$141,Zone_pta,5,FALSE),AL_NUM_ARB,2,FALSE),VLOOKUP(VLOOKUP($C$141,Zone_pta,5,FALSE),AL_NUM_ARB,4,FALSE))))","v":{"$error":"#N/A"}},{"$f":"IF(OR(VLOOKUP($C$141,Zone_pta,5,FALSE)=\"\",VLOOKUP($C$141,Zone_pta,5,FALSE)=\"X\"),\"\",IF($E$141<>\"\",\"\",VLOOKUP(VLOOKUP($C$141,Zone_pta,5,FALSE),AL_NUM_ARB,6,FALSE)))","v":{"$error":"#N/A"}},{"$f":"A6","v":1},{"$f":"IF(OR(VLOOKUP($I$141,Zone_pta,5,FALSE)=\"\",VLOOKUP($I$141,Zone_pta,5,FALSE)=\"X\"),\"\",IF($I$141=\"\",\"\",VLOOKUP($I$141,Zone_pta,5,FALSE)))","v":{"$error":"#N/A"}},{"$f":"IF(OR(VLOOKUP($I$141,Zone_pta,5,FALSE)=\"\",VLOOKUP($I$141,Zone_pta,5,FALSE)=\"X\"),\"\",VLOOKUP(VLOOKUP($I$141,Zone_pta,5,FALSE),AL_NUM_ARB,2,FALSE))","v":{"$error":"#N/A"}},{"$f":"IF(OR(VLOOKUP($I$141,Zone_pta,5,FALSE)=\"\",VLOOKUP($I$141,Zone_pta,5,FALSE)=\"X\"),\"\",IF($I$141=\"\",\"\",IF($K$141<>\"\",VLOOKUP($K$141,Zone_pta,5,FALSE),\"\")))","v":{"$error":"#N/A"}},{"$error":"#N/A"},{"$f":"IF(OR(VLOOKUP($I$141,Zone_pta,5,FALSE)=\"\",VLOOKUP($I$141,Zone_pta,5,FALSE)=\"X\"),\"\",IF($K$141<>\"\",\"\",VLOOKUP(VLOOKUP($I$141,Zone_pta,5,FALSE),AL_NUM_ARB,6,FALSE)))","v":{"$error":"#N/A"}},5]
[{"$f":"A7","v":2},{"$f":"IF(OR(VLOOKUP($C$141,Zone_pta,6,FALSE)=\"\",VLOOKUP($C$141,Zone_pta,6,FALSE)=\"X\"),\"\",IF($C$141=\"\",\"\",VLOOKUP($C$141,Zone_pta,6,FALSE)))","v":{"$error":"#N/A"}},{"$f":"IF(OR(VLOOKUP($C$141,Zone_pta,6,FALSE)=\"\",VLOOKUP($C$141,Zone_pta,6,FALSE)=\"X\"),\"\",VLOOKUP(VLOOKUP($C$141,Zone_pta,6,FALSE),AL_NUM_ARB,2,FALSE))","v":{"$error":"#N/A"}},{"$f":"IF(OR(VLOOKUP($C$141,Zone_pta,6,FALSE)=\"\",VLOOKUP($C$141,Zone_pta,6,FALSE)=\"X\"),\"\",IF($C$141=\"\",\"\",IF($E$141<>\"\",VLOOKUP($E$141,Zone_pta,6,FALSE),\"\")))","v":{"$error":"#N/A"}},{"$f":"IF(OR(VLOOKUP($C$141,Zone_pta,6,FALSE)=\"\",VLOOKUP($C$141,Zone_pta,6,FALSE)=\"X\"),\"\",IF($C$141=\"\",\"\",IF($E$141<>\"\",VLOOKUP(VLOOKUP($E$141,Zone_pta,6,FALSE),AL_NUM_ARB,2,FALSE),VLOOKUP(VLOOKUP($C$141,Zone_pta,6,FALSE),AL_NUM_ARB,4,FALSE))))","v":{"$error":"#N/A"}},{"$f":"IF(OR(VLOOKUP($C$141,Zone_pta,6,FALSE)=\"\",VLOOKUP($C$141,Zone_pta,6,FALSE)=\"X\"),\"\",IF($E$141<>\"\",\"\",VLOOKUP(VLOOKUP($C$141,Zone_pta,6,FALSE),AL_NUM_ARB,6,FALSE)))","v":{"$error":"#N/A"}},{"$f":"A7","v":2},{"$f":"IF(OR(VLOOKUP($I$141,Zone_pta,6,FALSE)=\"\",VLOOKUP($I$141,Zone_pta,6,FALSE)=\"X\"),\"\",IF($I$141=\"\",\"\",VLOOKUP($I$141,Zone_pta,6,FALSE)))","v":{"$error":"#N/A"}},{"$f":"IF(OR(VLOOKUP($I$141,Zone_pta,6,FALSE)=\"\",VLOOKUP($I$141,Zone_pta,6,FALSE)=\"X\"),\"\",VLOOKUP(VLOOKUP($I$141,Zone_pta,6,FALSE),AL_NUM_ARB,2,FALSE))","v":{"$error":"#N/A"}},{"$f":"IF(OR(VLOOKUP($I$141,Zone_pta,6,FALSE)=\"\",VLOOKUP($I$141,Zone_pta,6,FALSE)=\"X\"),\"\",IF($I$141=\"\",\"\",IF($K$141<>\"\",VLOOKUP($K$141,Zone_pta,6,FALSE),\"\")))","v":{"$error":"#N/A"}},{"$error":"#N/A"},{"$f":"IF(OR(VLOOKUP($I$141,Zone_pta,6,FALSE)=\"\",VLOOKUP($I$141,Zone_pta,6,FALSE)=\"X\"),\"\",IF($K$141<>\"\",\"\",VLOOKUP(VLOOKUP($I$141,Zone_pta,6,FALSE),AL_NUM_ARB,6,FALSE)))","v":{"$error":"#N/A"}},6]
[3,{"$f":"IF(OR(VLOOKUP($C$141,Zone_pta,7,FALSE)=\"\",VLOOKUP($C$141,Zone_pta,7,FALSE)=\"X\"),\"\",IF($C$141=\"\",\"\",VLOOKUP($C$141,Zone_pta,7,FALSE)))","v":{"$error":"#N/A"}},{"$f":"IF(OR(VLOOKUP($C$141,Zone_pta,7,FALSE)=\"\",VLOOKUP($C$141,Zone_pta,7,FALSE)=\"X\"),\"\",VLOOKUP(VLOOKUP($C$141,Zone_pta,7,FALSE),AL_NUM_ARB,2,FALSE))","v":{"$error":"#N/A"}},{"$f":"IF(OR(VLOOKUP($C$141,Zone_pta,7,FALSE)=\"\",VLOOKUP($C$141,Zone_pta,7,FALSE)=\"X\"),\"\",IF($C$141=\"\",\"\",IF($E$141=\"\",\"\",VLOOKUP($E$141,Zone_pta,7,FALSE))))","v":{"$error":"#N/A"}},{"$f":"IF(OR(VLOOKUP($C$141,Zone_pta,7,FALSE)=\"\",VLOOKUP($C$141,Zone_pta,7,FALSE)=\"X\"),\"\",IF($C$141=\"\",\"\",IF($E$141<>\"\",VLOOKUP(VLOOKUP($E$141,Zone_pta,7,FALSE),AL_NUM_ARB,2,FALSE),VLOOKUP(VLOOKUP($C$141,Zone_pta,7,FALSE),AL_NUM_ARB,4,FALSE))))","v":{"$error":"#N/A"}},{"$f":"IF(OR(VLOOKUP($C$141,Zone_pta,7,FALSE)=\"\",VLOOKUP($C$141,Zone_pta,7,FALSE)=\"X\"),\"\",IF($E$141<>\"\",\"\",VLOOKUP(VLOOKUP($C$141,Zone_pta,7,FALSE),AL_NUM_ARB,6,FALSE)))","v":{"$error":"#N/A"}},3,{"$f":"IF(OR(VLOOKUP($I$141,Zone_pta,7,FALSE)=\"\",VLOOKUP($I$141,Zone_pta,7,FALSE)=\"X\"),\"\",IF($I$141=\"\",\"\",VLOOKUP($I$141,Zone_pta,7,FALSE)))","v":{"$error":"#N/A"}},{"$f":"IF(OR(VLOOKUP($I$141,Zone_pta,7,FALSE)=\"\",VLOOKUP($I$141,Zone_pta,7,FALSE)=\"X\"),\"\",VLOOKUP(VLOOKUP($I$141,Zone_pta,7,FALSE),AL_NUM_ARB,2,FALSE))","v":{"$error":"#N/A"}},{"$f":"IF(OR(VLOOKUP($I$141,Zone_pta,7,FALSE)=\"\",VLOOKUP($I$141,Zone_pta,7,FALSE)=\"X\"),\"\",IF($I$141=\"\",\"\",IF($K$141=\"\",\"\",VLOOKUP($K$141,Zone_pta,7,FALSE))))","v":{"$error":"#N/A"}},{"$error":"#N/A"},{"$f":"IF(OR(VLOOKUP($I$141,Zone_pta,7,FALSE)=\"\",VLOOKUP($I$141,Zone_pta,7,FALSE)=\"X\"),\"\",IF($K$141<>\"\",\"\",VLOOKUP(VLOOKUP($I$141,Zone_pta,7,FALSE),AL_NUM_ARB,6,FALSE)))","v":{"$error":"#N/A"}},7]
[4,{"$f":"IF(OR(VLOOKUP($C$141,Zone_pta,8,FALSE)=\"\",VLOOKUP($C$141,Zone_pta,8,FALSE)=\"X\"),\"\",IF($C$141=\"\",\"\",VLOOKUP($C$141,Zone_pta,8,FALSE)))","v":{"$error":"#N/A"}},{"$f":"IF(OR(VLOOKUP($C$141,Zone_pta,8,FALSE)=\"\",VLOOKUP($C$141,Zone_pta,8,FALSE)=\"X\"),\"\",VLOOKUP(VLOOKUP($C$141,Zone_pta,8,FALSE),AL_NUM_ARB,2,FALSE))","v":{"$error":"#N/A"}},{"$f":"IF(OR(VLOOKUP($C$141,Zone_pta,8,FALSE)=\"\",VLOOKUP($C$141,Zone_pta,8,FALSE)=\"X\"),\"\",IF($C$141=\"\",\"\",IF($E$141<>\"\",VLOOKUP($E$141,Zone_pta,8,FALSE),\"\")))","v":{"$error":"#N/A"}},{"$f":"IF(OR(VLOOKUP($C$141,Zone_pta,8,FALSE)=\"\",VLOOKUP($C$141,Zone_pta,8,FALSE)=\"X\"),\"\",IF($C$141=\"\",\"\",IF($E$141<>\"\",VLOOKUP(VLOOKUP($E$141,Zone_pta,8,FALSE),AL_NUM_ARB,2,FALSE),VLOOKUP(VLOOKUP($C$141,Zone_pta,8,FALSE),AL_NUM_ARB,4,FALSE))))","v":{"$error":"#N/A"}},{"$f":"IF(OR(VLOOKUP($C$141,Zone_pta,8,FALSE)=\"\",VLOOKUP($C$141,Zone_pta,8,FALSE)=\"X\"),\"\",IF($E$141<>\"\",\"\",VLOOKUP(VLOOKUP($C$141,Zone_pta,8,FALSE),AL_NUM_ARB,6,FALSE)))","v":{"$error":"#N/A"}},4,{"$f":"IF(OR(VLOOKUP($I$141,Zone_pta,8,FALSE)=\"\",VLOOKUP($I$141,Zone_pta,8,FALSE)=\"X\"),\"\",IF($I$141=\"\",\"\",VLOOKUP($I$141,Zone_pta,8,FALSE)))","v":{"$error":"#N/A"}},{"$f":"IF(OR(VLOOKUP($I$141,Zone_pta,8,FALSE)=\"\",VLOOKUP($I$141,Zone_pta,8,FALSE)=\"X\"),\"\",VLOOKUP(VLOOKUP($I$141,Zone_pta,8,FALSE),AL_NUM_ARB,2,FALSE))","v":{"$error":"#N/A"}},{"$f":"IF(OR(VLOOKUP($I$141,Zone_pta,8,FALSE)=\"\",VLOOKUP($I$141,Zone_pta,8,FALSE)=\"X\"),\"\",IF($I$141=\"\",\"\",IF($K$141<>\"\",VLOOKUP($K$141,Zone_pta,8,FALSE),\"\")))","v":{"$error":"#N/A"}},{"$error":"#N/A"},{"$f":"IF(OR(VLOOKUP($I$141,Zone_pta,8,FALSE)=\"\",VLOOKUP($I$141,Zone_pta,8,FALSE)=\"X\"),\"\",IF($K$141<>\"\",\"\",VLOOKUP(VLOOKUP($I$141,Zone_pta,8,FALSE),AL_NUM_ARB,6,FALSE)))","v":{"$error":"#N/A"}},8]
[5,{"$f":"IF(OR(VLOOKUP($C$141,Zone_pta,9,FALSE)=\"\",VLOOKUP($C$141,Zone_pta,9,FALSE)=\"X\"),\"\",IF($C$141=\"\",\"\",VLOOKUP($C$141,Zone_pta,9,FALSE)))","v":{"$error":"#N/A"}},{"$f":"IF(OR(VLOOKUP($C$141,Zone_pta,9,FALSE)=\"\",VLOOKUP($C$141,Zone_pta,9,FALSE)=\"X\"),\"\",VLOOKUP(VLOOKUP($C$141,Zone_pta,9,FALSE),AL_NUM_ARB,2,FALSE))","v":{"$error":"#N/A"}},{"$f":"IF(OR(VLOOKUP($C$141,Zone_pta,9,FALSE)=\"\",VLOOKUP($C$141,Zone_pta,9,FALSE)=\"X\"),\"\",IF($C$141=\"\",\"\",IF($E$141<>\"\",VLOOKUP($E$141,Zone_pta,9,FALSE),\"\")))","v":{"$error":"#N/A"}},{"$f":"IF(OR(VLOOKUP($C$141,Zone_pta,9,FALSE)=\"\",VLOOKUP($C$141,Zone_pta,9,FALSE)=\"X\"),\"\",IF($C$141=\"\",\"\",IF($E$141<>\"\",VLOOKUP(VLOOKUP($E$141,Zone_pta,9,FALSE),AL_NUM_ARB,2,FALSE),VLOOKUP(VLOOKUP($C$141,Zone_pta,9,FALSE),AL_NUM_ARB,4,FALSE))))","v":{"$error":"#N/A"}},{"$f":"IF(OR(VLOOKUP($C$141,Zone_pta,9,FALSE)=\"\",VLOOKUP($C$141,Zone_pta,9,FALSE)=\"X\"),\"\",IF($E$141<>\"\",\"\",VLOOKUP(VLOOKUP($C$141,Zone_pta,9,FALSE),AL_NUM_ARB,6,FALSE)))","v":{"$error":"#N/A"}},5,{"$f":"IF(OR(VLOOKUP($I$141,Zone_pta,9,FALSE)=\"\",VLOOKUP($I$141,Zone_pta,9,FALSE)=\"X\"),\"\",IF($I$141=\"\",\"\",VLOOKUP($I$141,Zone_pta,9,FALSE)))","v":{"$error":"#N/A"}},{"$f":"IF(OR(VLOOKUP($I$141,Zone_pta,9,FALSE)=\"\",VLOOKUP($I$141,Zone_pta,9,FALSE)=\"X\"),\"\",VLOOKUP(VLOOKUP($I$141,Zone_pta,9,FALSE),AL_NUM_ARB,2,FALSE))","v":{"$error":"#N/A"}},{"$f":"IF(OR(VLOOKUP($I$141,Zone_pta,9,FALSE)=\"\",VLOOKUP($I$141,Zone_pta,9,FALSE)=\"X\"),\"\",IF($I$141=\"\",\"\",IF($K$141<>\"\",VLOOKUP($K$141,Zone_pta,9,FALSE),\"\")))","v":{"$error":"#N/A"}},{"$error":"#N/A"},{"$f":"IF(OR(VLOOKUP($I$141,Zone_pta,9,FALSE)=\"\",VLOOKUP($I$141,Zone_pta,9,FALSE)=\"X\"),\"\",IF($K$141<>\"\",\"\",VLOOKUP(VLOOKUP($I$141,Zone_pta,9,FALSE),AL_NUM_ARB,6,FALSE)))","v":{"$error":"#N/A"}},9]
[6,{"$f":"IF(OR(VLOOKUP($C$141,Zone_pta,10,FALSE)=\"\",VLOOKUP($C$141,Zone_pta,10,FALSE)=\"X\"),\"\",IF($C$141=\"\",\"\",VLOOKUP($C$141,Zone_pta,10,FALSE)))","v":{"$error":"#N/A"}},{"$f":"IF(OR(VLOOKUP($C$141,Zone_pta,10,FALSE)=\"\",VLOOKUP($C$141,Zone_pta,10,FALSE)=\"X\"),\"\",VLOOKUP(VLOOKUP($C$141,Zone_pta,10,FALSE),AL_NUM_ARB,2,FALSE))","v":{"$error":"#N/A"}},{"$f":"IF(OR(VLOOKUP($C$141,Zone_pta,10,FALSE)=\"\",VLOOKUP($C$141,Zone_pta,10,FALSE)=\"X\"),\"\",IF($C$141=\"\",\"\",IF($E$141<>\"\",VLOOKUP($E$141,Zone_pta,10,FALSE),\"\")))","v":{"$error":"#N/A"}},{"$f":"IF(OR(VLOOKUP($C$141,Zone_pta,10,FALSE)=\"\",VLOOKUP($C$141,Zone_pta,10,FALSE)=\"X\"),\"\",IF($C$141=\"\",\"\",IF($E$141<>\"\",VLOOKUP(VLOOKUP($E$141,Zone_pta,10,FALSE),AL_NUM_ARB,2,FALSE),VLOOKUP(VLOOKUP($C$141,Zone_pta,10,FALSE),AL_NUM_ARB,4,FALSE))))","v":{"$error":"#N/A"}},{"$f":"IF(OR(VLOOKUP($C$141,Zone_pta,10,FALSE)=\"\",VLOOKUP($C$141,Zone_pta,10,FALSE)=\"X\"),\"\",IF($E$141<>\"\",\"\",VLOOKUP(VLOOKUP($C$141,Zone_pta,10,FALSE),AL_NUM_ARB,6,FALSE)))","v":{"$error":"#N/A"}},6,{"$f":"IF(OR(VLOOKUP($I$141,Zone_pta,10,FALSE)=\"\",VLOOKUP($I$141,Zone_pta,10,FALSE)=\"X\"),\"\",IF($I$141=\"\",\"\",VLOOKUP($I$141,Zone_pta,10,FALSE)))","v":{"$error":"#N/A"}},{"$f":"IF(OR(VLOOKUP($I$141,Zone_pta,10,FALSE)=\"\",VLOOKUP($I$141,Zone_pta,10,FALSE)=\"X\"),\"\",VLOOKUP(VLOOKUP($I$141,Zone_pta,10,FALSE),AL_NUM_ARB,2,FALSE))","v":{"$error":"#N/A"}},{"$f":"IF(OR(VLOOKUP($I$141,Zone_pta,10,FALSE)=\"\",VLOOKUP($I$141,Zone_pta,10,FALSE)=\"X\"),\"\",IF($I$141=\"\",\"\",IF($K$141<>\"\",VLOOKUP($K$141,Zone_pta,10,FALSE),\"\")))","v":{"$error":"#N/A"}},{"$error":"#N/A"},{"$f":"IF(OR(VLOOKUP($I$141,Zone_pta,10,FALSE)=\"\",VLOOKUP($I$141,Zone_pta,10,FALSE)=\"X\"),\"\",IF($K$141<>\"\",\"\",VLOOKUP(VLOOKUP($I$141,Zone_pta,10,FALSE),AL_NUM_ARB,6,FALSE)))","v":{"$error":"#N/A"}},10]
[7,{"$f":"IF(OR(VLOOKUP($C$141,Zone_pta,11,FALSE)=\"\",VLOOKUP($C$141,Zone_pta,11,FALSE)=\"X\"),\"\",IF($C$141=\"\",\"\",VLOOKUP($C$141,Zone_pta,11,FALSE)))","v":{"$error":"#N/A"}},{"$f":"IF(OR(VLOOKUP($C$141,Zone_pta,11,FALSE)=\"\",VLOOKUP($C$141,Zone_pta,11,FALSE)=\"X\"),\"\",VLOOKUP(VLOOKUP($C$141,Zone_pta,11,FALSE),AL_NUM_ARB,2,FALSE))","v":{"$error":"#N/A"}},{"$f":"IF(OR(VLOOKUP($C$141,Zone_pta,11,FALSE)=\"\",VLOOKUP($C$141,Zone_pta,11,FALSE)=\"X\"),\"\",IF($C$141=\"\",\"\",IF($E$141<>\"\",VLOOKUP($E$141,Zone_pta,11,FALSE),\"\")))","v":{"$error":"#N/A"}},{"$f":"IF(OR(VLOOKUP($C$141,Zone_pta,11,FALSE)=\"\",VLOOKUP($C$141,Zone_pta,11,FALSE)=\"X\"),\"\",IF($C$141=\"\",\"\",IF($E$141<>\"\",VLOOKUP(VLOOKUP($E$141,Zone_pta,11,FALSE),AL_NUM_ARB,2,FALSE),VLOOKUP(VLOOKUP($C$141,Zone_pta,11,FALSE),AL_NUM_ARB,4,FALSE))))","v":{"$error":"#N/A"}},{"$f":"IF(OR(VLOOKUP($C$141,Zone_pta,11,FALSE)=\"\",VLOOKUP($C$141,Zone_pta,11,FALSE)=\"X\"),\"\",IF($E$141<>\"\",\"\",VLOOKUP(VLOOKUP($C$141,Zone_pta,11,FALSE),AL_NUM_ARB,6,FALSE)))","v":{"$error":"#N/A"}},7,{"$f":"IF(OR(VLOOKUP($I$141,Zone_pta,11,FALSE)=\"\",VLOOKUP($I$141,Zone_pta,11,FALSE)=\"X\"),\"\",IF($I$141=\"\",\"\",VLOOKUP($I$141,Zone_pta,11,FALSE)))","v":{"$error":"#N/A"}},{"$f":"IF(OR(VLOOKUP($I$141,Zone_pta,11,FALSE)=\"\",VLOOKUP($I$141,Zone_pta,11,FALSE)=\"X\"),\"\",VLOOKUP(VLOOKUP($I$141,Zone_pta,11,FALSE),AL_NUM_ARB,2,FALSE))","v":{"$error":"#N/A"}},{"$f":"IF(OR(VLOOKUP($I$141,Zone_pta,11,FALSE)=\"\",VLOOKUP($I$141,Zone_pta,11,FALSE)=\"X\"),\"\",IF($I$141=\"\",\"\",IF($K$141<>\"\",VLOOKUP($K$141,Zone_pta,11,FALSE),\"\")))","v":{"$error":"#N/A"}},{"$error":"#N/A"},{"$f":"IF(OR(VLOOKUP($I$141,Zone_pta,11,FALSE)=\"\",VLOOKUP($I$141,Zone_pta,11,FALSE)=\"X\"),\"\",IF($K$141<>\"\",\"\",VLOOKUP(VLOOKUP($I$141,Zone_pta,11,FALSE),AL_NUM_ARB,6,FALSE)))","v":{"$error":"#N/A"}},11]
[8,{"$f":"IF(OR(VLOOKUP($C$141,Zone_pta,12,FALSE)=\"\",VLOOKUP($C$141,Zone_pta,12,FALSE)=\"X\"),\"\",IF($C$141=\"\",\"\",VLOOKUP($C$141,Zone_pta,12,FALSE)))","v":{"$error":"#N/A"}},{"$f":"IF(OR(VLOOKUP($C$141,Zone_pta,12,FALSE)=\"\",VLOOKUP($C$141,Zone_pta,12,FALSE)=\"X\"),\"\",VLOOKUP(VLOOKUP($C$141,Zone_pta,12,FALSE),AL_NUM_ARB,2,FALSE))","v":{"$error":"#N/A"}},{"$f":"IF(OR(VLOOKUP($C$141,Zone_pta,12,FALSE)=\"\",VLOOKUP($C$141,Zone_pta,12,FALSE)=\"X\"),\"\",IF($C$141=\"\",\"\",IF($E$141<>\"\",VLOOKUP($E$141,Zone_pta,12,FALSE),\"\")))","v":{"$error":"#N/A"}},{"$f":"IF(OR(VLOOKUP($C$141,Zone_pta,12,FALSE)=\"\",VLOOKUP($C$141,Zone_pta,12,FALSE)=\"X\"),\"\",IF($C$141=\"\",\"\",IF($E$141<>\"\",VLOOKUP(VLOOKUP($E$141,Zone_pta,12,FALSE),AL_NUM_ARB,2,FALSE),VLOOKUP(VLOOKUP($C$141,Zone_pta,12,FALSE),AL_NUM_ARB,4,FALSE))))","v":{"$error":"#N/A"}},{"$f":"IF(OR(VLOOKUP($C$141,Zone_pta,12,FALSE)=\"\",VLOOKUP($C$141,Zone_pta,12,FALSE)=\"X\"),\"\",IF($E$141<>\"\",\"\",VLOOKUP(VLOOKUP($C$141,Zone_pta,12,FALSE),AL_NUM_ARB,6,FALSE)))","v":{"$error":"#N/A"}},8,{"$f":"IF(OR(VLOOKUP($I$141,Zone_pta,12,FALSE)=\"\",VLOOKUP($I$141,Zone_pta,12,FALSE)=\"X\"),\"\",IF($I$141=\"\",\"\",VLOOKUP($I$141,Zone_pta,12,FALSE)))","v":{"$error":"#N/A"}},{"$f":"IF(OR(VLOOKUP($I$141,Zone_pta,12,FALSE)=\"\",VLOOKUP($I$141,Zone_pta,12,FALSE)=\"X\"),\"\",VLOOKUP(VLOOKUP($I$141,Zone_pta,12,FALSE),AL_NUM_ARB,2,FALSE))","v":{"$error":"#N/A"}},{"$f":"IF(OR(VLOOKUP($I$141,Zone_pta,12,FALSE)=\"\",VLOOKUP($I$141,Zone_pta,12,FALSE)=\"X\"),\"\",IF($I$141=\"\",\"\",IF($K$141<>\"\",VLOOKUP($K$141,Zone_pta,12,FALSE),\"\")))","v":{"$error":"#N/A"}},{"$error":"#N/A"},{"$f":"IF(OR(VLOOKUP($I$141,Zone_pta,12,FALSE)=\"\",VLOOKUP($I$141,Zone_pta,12,FALSE)=\"X\"),\"\",IF($K$141<>\"\",\"\",VLOOKUP(VLOOKUP($I$141,Zone_pta,12,FALSE),AL_NUM_ARB,6,FALSE)))","v":{"$error":"#N/A"}},12]
[9,{"$f":"IF(OR(VLOOKUP($C$141,Zone_pta,13,FALSE)=\"\",VLOOKUP($C$141,Zone_pta,13,FALSE)=\"X\"),\"\",IF($C$141=\"\",\"\",VLOOKUP($C$141,Zone_pta,13,FALSE)))","v":{"$error":"#N/A"}},{"$f":"IF(OR(VLOOKUP($C$141,Zone_pta,13,FALSE)=\"\",VLOOKUP($C$141,Zone_pta,13,FALSE)=\"X\"),\"\",VLOOKUP(VLOOKUP($C$141,Zone_pta,13,FALSE),AL_NUM_ARB,2,FALSE))","v":{"$error":"#N/A"}},{"$f":"IF(OR(VLOOKUP($C$141,Zone_pta,13,FALSE)=\"\",VLOOKUP($C$141,Zone_pta,13,FALSE)=\"X\"),\"\",IF($C$141=\"\",\"\",IF($E$141<>\"\",VLOOKUP($E$141,Zone_pta,13,FALSE),\"\")))","v":{"$error":"#N/A"}},{"$f":"IF(OR(VLOOKUP($C$141,Zone_pta,13,FALSE)=\"\",VLOOKUP($C$141,Zone_pta,13,FALSE)=\"X\"),\"\",IF($C$141=\"\",\"\",IF($E$141<>\"\",VLOOKUP(VLOOKUP($E$141,Zone_pta,13,FALSE),AL_NUM_ARB,2,FALSE),VLOOKUP(VLOOKUP($C$141,Zone_pta,13,FALSE),AL_NUM_ARB,4,FALSE))))","v":{"$error":"#N/A"}},{"$f":"IF(OR(VLOOKUP($C$141,Zone_pta,13,FALSE)=\"\",VLOOKUP($C$141,Zone_pta,13,FALSE)=\"X\"),\"\",IF($E$141<>\"\",\"\",VLOOKUP(VLOOKUP($C$141,Zone_pta,13,FALSE),AL_NUM_ARB,6,FALSE)))","v":{"$error":"#N/A"}},9,{"$f":"IF(OR(VLOOKUP($I$141,Zone_pta,13,FALSE)=\"\",VLOOKUP($I$141,Zone_pta,13,FALSE)=\"X\"),\"\",IF($I$141=\"\",\"\",VLOOKUP($I$141,Zone_pta,13,FALSE)))","v":{"$error":"#N/A"}},{"$f":"IF(OR(VLOOKUP($I$141,Zone_pta,13,FALSE)=\"\",VLOOKUP($I$141,Zone_pta,13,FALSE)=\"X\"),\"\",VLOOKUP(VLOOKUP($I$141,Zone_pta,13,FALSE),AL_NUM_ARB,2,FALSE))","v":{"$error":"#N/A"}},{"$f":"IF(OR(VLOOKUP($I$141,Zone_pta,13,FALSE)=\"\",VLOOKUP($I$141,Zone_pta,13,FALSE)=\"X\"),\"\",IF($I$141=\"\",\"\",IF($K$141<>\"\",VLOOKUP($K$141,Zone_pta,13,FALSE),\"\")))","v":{"$error":"#N/A"}},{"$error":"#N/A"},{"$f":"IF(OR(VLOOKUP($I$141,Zone_pta,13,FALSE)=\"\",VLOOKUP($I$141,Zone_pta,13,FALSE)=\"X\"),\"\",IF($K$141<>\"\",\"\",VLOOKUP(VLOOKUP($I$141,Zone_pta,13,FALSE),AL_NUM_ARB,6,FALSE)))","v":{"$error":"#N/A"}},13]
[10,{"$f":"IF(OR(VLOOKUP($C$141,Zone_pta,14,FALSE)=\"\",VLOOKUP($C$141,Zone_pta,14,FALSE)=\"X\"),\"\",IF($C$141=\"\",\"\",VLOOKUP($C$141,Zone_pta,14,FALSE)))","v":{"$error":"#N/A"}},{"$f":"IF(OR(VLOOKUP($C$141,Zone_pta,14,FALSE)=\"\",VLOOKUP($C$141,Zone_pta,14,FALSE)=\"X\"),\"\",VLOOKUP(VLOOKUP($C$141,Zone_pta,14,FALSE),AL_NUM_ARB,2,FALSE))","v":{"$error":"#N/A"}},{"$f":"IF(OR(VLOOKUP($C$141,Zone_pta,14,FALSE)=\"\",VLOOKUP($C$141,Zone_pta,14,FALSE)=\"X\"),\"\",IF($C$141=\"\",\"\",IF($E$141<>\"\",VLOOKUP($E$141,Zone_pta,14,FALSE),\"\")))","v":{"$error":"#N/A"}},{"$f":"IF(OR(VLOOKUP($C$141,Zone_pta,14,FALSE)=\"\",VLOOKUP($C$141,Zone_pta,14,FALSE)=\"X\"),\"\",IF($C$141=\"\",\"\",IF($E$141<>\"\",VLOOKUP(VLOOKUP($E$141,Zone_pta,14,FALSE),AL_NUM_ARB,2,FALSE),VLOOKUP(VLOOKUP($C$141,Zone_pta,14,FALSE),AL_NUM_ARB,4,FALSE))))","v":{"$error":"#N/A"}},{"$f":"IF(OR(VLOOKUP($C$141,Zone_pta,14,FALSE)=\"\",VLOOKUP($C$141,Zone_pta,14,FALSE)=\"X\"),\"\",IF($E$141<>\"\",\"\",VLOOKUP(VLOOKUP($C$141,Zone_pta,14,FALSE),AL_NUM_ARB,6,FALSE)))","v":{"$error":"#N/A"}},10,{"$f":"IF(OR(VLOOKUP($I$141,Zone_pta,14,FALSE)=\"\",VLOOKUP($I$141,Zone_pta,14,FALSE)=\"X\"),\"\",IF($I$141=\"\",\"\",VLOOKUP($I$141,Zone_pta,14,FALSE)))","v":{"$error":"#N/A"}},{"$f":"IF(OR(VLOOKUP($I$141,Zone_pta,14,FALSE)=\"\",VLOOKUP($I$141,Zone_pta,14,FALSE)=\"X\"),\"\",VLOOKUP(VLOOKUP($I$141,Zone_pta,14,FALSE),AL_NUM_ARB,2,FALSE))","v":{"$error":"#N/A"}},{"$f":"IF(OR(VLOOKUP($I$141,Zone_pta,14,FALSE)=\"\",VLOOKUP($I$141,Zone_pta,14,FALSE)=\"X\"),\"\",IF($I$141=\"\",\"\",IF($K$141<>\"\",VLOOKUP($K$141,Zone_pta,14,FALSE),\"\")))","v":{"$error":"#N/A"}},{"$error":"#N/A"},{"$f":"IF(OR(VLOOKUP($I$141,Zone_pta,14,FALSE)=\"\",VLOOKUP($I$141,Zone_pta,14,FALSE)=\"X\"),\"\",IF($K$141<>\"\",\"\",VLOOKUP(VLOOKUP($I$141,Zone_pta,14,FALSE),AL_NUM_ARB,6,FALSE)))","v":{"$error":"#N/A"}},14]
[11,{"$f":"IF(OR(VLOOKUP($C$141,Zone_pta,15,FALSE)=\"\",VLOOKUP($C$141,Zone_pta,15,FALSE)=\"X\"),\"\",IF($C$141=\"\",\"\",VLOOKUP($C$141,Zone_pta,15,FALSE)))","v":{"$error":"#N/A"}},{"$f":"IF(OR(VLOOKUP($C$141,Zone_pta,15,FALSE)=\"\",VLOOKUP($C$141,Zone_pta,15,FALSE)=\"X\"),\"\",VLOOKUP(VLOOKUP($C$141,Zone_pta,15,FALSE),AL_NUM_ARB,2,FALSE))","v":{"$error":"#N/A"}},{"$f":"IF(OR(VLOOKUP($C$141,Zone_pta,15,FALSE)=\"\",VLOOKUP($C$141,Zone_pta,15,FALSE)=\"X\"),\"\",IF($C$141=\"\",\"\",IF($E$141<>\"\",VLOOKUP($E$141,Zone_pta,15,FALSE),\"\")))","v":{"$error":"#N/A"}},{"$f":"IF(OR(VLOOKUP($C$141,Zone_pta,15,FALSE)=\"\",VLOOKUP($C$141,Zone_pta,15,FALSE)=\"X\"),\"\",IF($C$141=\"\",\"\",IF($E$141<>\"\",VLOOKUP(VLOOKUP($E$141,Zone_pta,15,FALSE),AL_NUM_ARB,2,FALSE),VLOOKUP(VLOOKUP($C$141,Zone_pta,15,FALSE),AL_NUM_ARB,4,FALSE))))","v":{"$error":"#N/A"}},{"$f":"IF(OR(VLOOKUP($C$141,Zone_pta,15,FALSE)=\"\",VLOOKUP($C$141,Zone_pta,15,FALSE)=\"X\"),\"\",IF($E$141<>\"\",\"\",VLOOKUP(VLOOKUP($C$141,Zone_pta,15,FALSE),AL_NUM_ARB,6,FALSE)))","v":{"$error":"#N/A"}},11,{"$f":"IF(OR(VLOOKUP($I$141,Zone_pta,15,FALSE)=\"\",VLOOKUP($I$141,Zone_pta,15,FALSE)=\"X\"),\"\",IF($I$141=\"\",\"\",VLOOKUP($I$141,Zone_pta,15,FALSE)))","v":{"$error":"#N/A"}},{"$f":"IF(OR(VLOOKUP($I$141,Zone_pta,15,FALSE)=\"\",VLOOKUP($I$141,Zone_pta,15,FALSE)=\"X\"),\"\",VLOOKUP(VLOOKUP($I$141,Zone_pta,15,FALSE),AL_NUM_ARB,2,FALSE))","v":{"$error":"#N/A"}},{"$f":"IF(OR(VLOOKUP($I$141,Zone_pta,15,FALSE)=\"\",VLOOKUP($I$141,Zone_pta,15,FALSE)=\"X\"),\"\",IF($I$141=\"\",\"\",IF($K$141<>\"\",VLOOKUP($K$141,Zone_pta,15,FALSE),\"\")))","v":{"$error":"#N/A"}},{"$error":"#N/A"},{"$f":"IF(OR(VLOOKUP($I$141,Zone_pta,15,FALSE)=\"\",VLOOKUP($I$141,Zone_pta,15,FALSE)=\"X\"),\"\",IF($K$141<>\"\",\"\",VLOOKUP(VLOOKUP($I$141,Zone_pta,15,FALSE),AL_NUM_ARB,6,FALSE)))","v":{"$error":"#N/A"}},15]
[12,{"$f":"IF(OR(VLOOKUP($C$141,Zone_pta,16,FALSE)=\"\",VLOOKUP($C$141,Zone_pta,16,FALSE)=\"X\"),\"\",IF($C$141=\"\",\"\",VLOOKUP($C$141,Zone_pta,16,FALSE)))","v":{"$error":"#N/A"}},{"$f":"IF(OR(VLOOKUP($C$141,Zone_pta,16,FALSE)=\"\",VLOOKUP($C$141,Zone_pta,16,FALSE)=\"X\"),\"\",VLOOKUP(VLOOKUP($C$141,Zone_pta,16,FALSE),AL_NUM_ARB,2,FALSE))","v":{"$error":"#N/A"}},{"$f":"IF(OR(VLOOKUP($C$141,Zone_pta,16,FALSE)=\"\",VLOOKUP($C$141,Zone_pta,16,FALSE)=\"X\"),\"\",IF($C$141=\"\",\"\",IF($E$141<>\"\",VLOOKUP($E$141,Zone_pta,16,FALSE),\"\")))","v":{"$error":"#N/A"}},{"$f":"IF(OR(VLOOKUP($C$141,Zone_pta,16,FALSE)=\"\",VLOOKUP($C$141,Zone_pta,16,FALSE)=\"X\"),\"\",IF($C$141=\"\",\"\",IF($E$141<>\"\",VLOOKUP(VLOOKUP($E$141,Zone_pta,16,FALSE),AL_NUM_ARB,2,FALSE),VLOOKUP(VLOOKUP($C$141,Zone_pta,16,FALSE),AL_NUM_ARB,4,FALSE))))","v":{"$error":"#N/A"}},{"$f":"IF(OR(VLOOKUP($C$141,Zone_pta,16,FALSE)=\"\",VLOOKUP($C$141,Zone_pta,16,FALSE)=\"X\"),\"\",IF($E$141<>\"\",\"\",VLOOKUP(VLOOKUP($C$141,Zone_pta,16,FALSE),AL_NUM_ARB,6,FALSE)))","v":{"$error":"#N/A"}},12,{"$f":"IF(OR(VLOOKUP($I$141,Zone_pta,16,FALSE)=\"\",VLOOKUP($I$141,Zone_pta,16,FALSE)=\"X\"),\"\",IF($I$141=\"\",\"\",VLOOKUP($I$141,Zone_pta,16,FALSE)))","v":{"$error":"#N/A"}},{"$f":"IF(OR(VLOOKUP($I$141,Zone_pta,16,FALSE)=\"\",VLOOKUP($I$141,Zone_pta,16,FALSE)=\"X\"),\"\",VLOOKUP(VLOOKUP($I$141,Zone_pta,16,FALSE),AL_NUM_ARB,2,FALSE))","v":{"$error":"#N/A"}},{"$f":"IF(OR(VLOOKUP($I$141,Zone_pta,16,FALSE)=\"\",VLOOKUP($I$141,Zone_pta,16,FALSE)=\"X\"),\"\",IF($I$141=\"\",\"\",IF($K$141<>\"\",VLOOKUP($K$141,Zone_pta,16,FALSE),\"\")))","v":{"$error":"#N/A"}},{"$error":"#N/A"},{"$f":"IF(OR(VLOOKUP($I$141,Zone_pta,16,FALSE)=\"\",VLOOKUP($I$141,Zone_pta,16,FALSE)=\"X\"),\"\",IF($K$141<>\"\",\"\",VLOOKUP(VLOOKUP($I$141,Zone_pta,16,FALSE),AL_NUM_ARB,6,FALSE)))","v":{"$error":"#N/A"}},16]
[13,{"$f":"IF(OR(VLOOKUP($C$141,Zone_pta,17,FALSE)=\"\",VLOOKUP($C$141,Zone_pta,17,FALSE)=\"X\"),\"\",IF($C$141=\"\",\"\",VLOOKUP($C$141,Zone_pta,17,FALSE)))","v":{"$error":"#N/A"}},{"$f":"IF(OR(VLOOKUP($C$141,Zone_pta,17,FALSE)=\"\",VLOOKUP($C$141,Zone_pta,17,FALSE)=\"X\"),\"\",VLOOKUP(VLOOKUP($C$141,Zone_pta,17,FALSE),AL_NUM_ARB,2,FALSE))","v":{"$error":"#N/A"}},{"$f":"IF(OR(VLOOKUP($C$141,Zone_pta,17,FALSE)=\"\",VLOOKUP($C$141,Zone_pta,17,FALSE)=\"X\"),\"\",IF($C$141=\"\",\"\",IF($E$141<>\"\",VLOOKUP($E$141,Zone_pta,17,FALSE),\"\")))","v":{"$error":"#N/A"}},{"$f":"IF(OR(VLOOKUP($C$141,Zone_pta,17,FALSE)=\"\",VLOOKUP($C$141,Zone_pta,17,FALSE)=\"X\"),\"\",IF($C$141=\"\",\"\",IF($E$141<>\"\",VLOOKUP(VLOOKUP($E$141,Zone_pta,17,FALSE),AL_NUM_ARB,2,FALSE),VLOOKUP(VLOOKUP($C$141,Zone_pta,17,FALSE),AL_NUM_ARB,4,FALSE))))","v":{"$error":"#N/A"}},{"$f":"IF(OR(VLOOKUP($C$141,Zone_pta,17,FALSE)=\"\",VLOOKUP($C$141,Zone_pta,17,FALSE)=\"X\"),\"\",IF($E$141<>\"\",\"\",VLOOKUP(VLOOKUP($C$141,Zone_pta,17,FALSE),AL_NUM_ARB,6,FALSE)))","v":{"$error":"#N/A"}},13,{"$f":"IF(OR(VLOOKUP($I$141,Zone_pta,17,FALSE)=\"\",VLOOKUP($I$141,Zone_pta,17,FALSE)=\"X\"),\"\",IF($I$141=\"\",\"\",VLOOKUP($I$141,Zone_pta,17,FALSE)))","v":{"$error":"#N/A"}},{"$f":"IF(OR(VLOOKUP($I$141,Zone_pta,17,FALSE)=\"\",VLOOKUP($I$141,Zone_pta,17,FALSE)=\"X\"),\"\",VLOOKUP(VLOOKUP($I$141,Zone_pta,17,FALSE),AL_NUM_ARB,2,FALSE))","v":{"$error":"#N/A"}},{"$f":"IF(OR(VLOOKUP($I$141,Zone_pta,17,FALSE)=\"\",VLOOKUP($I$141,Zone_pta,17,FALSE)=\"X\"),\"\",IF($I$141=\"\",\"\",IF($K$141<>\"\",VLOOKUP($K$141,Zone_pta,17,FALSE),\"\")))","v":{"$error":"#N/A"}},{"$error":"#N/A"},{"$f":"IF(OR(VLOOKUP($I$141,Zone_pta,17,FALSE)=\"\",VLOOKUP($I$141,Zone_pta,17,FALSE)=\"X\"),\"\",IF($K$141<>\"\",\"\",VLOOKUP(VLOOKUP($I$141,Zone_pta,17,FALSE),AL_NUM_ARB,6,FALSE)))","v":{"$error":"#N/A"}},17]
[14,{"$f":"IF(OR(VLOOKUP($C$141,Zone_pta,18,FALSE)=\"\",VLOOKUP($C$141,Zone_pta,18,FALSE)=\"X\"),\"\",IF($C$141=\"\",\"\",VLOOKUP($C$141,Zone_pta,18,FALSE)))","v":{"$error":"#N/A"}},{"$f":"IF(OR(VLOOKUP($C$141,Zone_pta,18,FALSE)=\"\",VLOOKUP($C$141,Zone_pta,18,FALSE)=\"X\"),\"\",VLOOKUP(VLOOKUP($C$141,Zone_pta,18,FALSE),AL_NUM_ARB,2,FALSE))","v":{"$error":"#N/A"}},{"$f":"IF(OR(VLOOKUP($C$141,Zone_pta,18,FALSE)=\"\",VLOOKUP($C$141,Zone_pta,18,FALSE)=\"X\"),\"\",IF($C$141=\"\",\"\",IF($E$141<>\"\",VLOOKUP($E$141,Zone_pta,18,FALSE),\"\")))","v":{"$error":"#N/A"}},{"$f":"IF(OR(VLOOKUP($C$141,Zone_pta,18,FALSE)=\"\",VLOOKUP($C$141,Zone_pta,18,FALSE)=\"X\"),\"\",IF($C$141=\"\",\"\",IF($E$141<>\"\",VLOOKUP(VLOOKUP($E$141,Zone_pta,18,FALSE),AL_NUM_ARB,2,FALSE),VLOOKUP(VLOOKUP($C$141,Zone_pta,18,FALSE),AL_NUM_ARB,4,FALSE))))","v":{"$error":"#N/A"}},{"$f":"IF(OR(VLOOKUP($C$141,Zone_pta,18,FALSE)=\"\",VLOOKUP($C$141,Zone_pta,18,FALSE)=\"X\"),\"\",IF($E$141<>\"\",\"\",VLOOKUP(VLOOKUP($C$141,Zone_pta,18,FALSE),AL_NUM_ARB,6,FALSE)))","v":{"$error":"#N/A"}},14,{"$f":"IF(OR(VLOOKUP($I$141,Zone_pta,18,FALSE)=\"\",VLOOKUP($I$141,Zone_pta,18,FALSE)=\"X\"),\"\",IF($I$141=\"\",\"\",VLOOKUP($I$141,Zone_pta,18,FALSE)))","v":{"$error":"#N/A"}},{"$f":"IF(OR(VLOOKUP($I$141,Zone_pta,18,FALSE)=\"\",VLOOKUP($I$141,Zone_pta,18,FALSE)=\"X\"),\"\",VLOOKUP(VLOOKUP($I$141,Zone_pta,18,FALSE),AL_NUM_ARB,2,FALSE))","v":{"$error":"#N/A"}},{"$f":"IF(OR(VLOOKUP($I$141,Zone_pta,18,FALSE)=\"\",VLOOKUP($I$141,Zone_pta,18,FALSE)=\"X\"),\"\",IF($I$141=\"\",\"\",IF($K$141<>\"\",VLOOKUP($K$141,Zone_pta,18,FALSE),\"\")))","v":{"$error":"#N/A"}},{"$error":"#N/A"},{"$f":"IF(OR(VLOOKUP($I$141,Zone_pta,18,FALSE)=\"\",VLOOKUP($I$141,Zone_pta,18,FALSE)=\"X\"),\"\",IF($K$141<>\"\",\"\",VLOOKUP(VLOOKUP($I$141,Zone_pta,18,FALSE),AL_NUM_ARB,6,FALSE)))","v":{"$error":"#N/A"}},18]
[15,{"$f":"IF(OR(VLOOKUP($C$141,Zone_pta,19,FALSE)=\"\",VLOOKUP($C$141,Zone_pta,19,FALSE)=\"X\"),\"\",IF($C$141=\"\",\"\",VLOOKUP($C$141,Zone_pta,19,FALSE)))","v":{"$error":"#N/A"}},{"$f":"IF(OR(VLOOKUP($C$141,Zone_pta,19,FALSE)=\"\",VLOOKUP($C$141,Zone_pta,19,FALSE)=\"X\"),\"\",VLOOKUP(VLOOKUP($C$141,Zone_pta,19,FALSE),AL_NUM_ARB,2,FALSE))","v":{"$error":"#N/A"}},{"$f":"IF(OR(VLOOKUP($C$141,Zone_pta,19,FALSE)=\"\",VLOOKUP($C$141,Zone_pta,19,FALSE)=\"X\"),\"\",IF($C$141=\"\",\"\",IF($E$141<>\"\",VLOOKUP($E$141,Zone_pta,19,FALSE),\"\")))","v":{"$error":"#N/A"}},{"$f":"IF(OR(VLOOKUP($C$141,Zone_pta,19,FALSE)=\"\",VLOOKUP($C$141,Zone_pta,19,FALSE)=\"X\"),\"\",IF($C$141=\"\",\"\",IF($E$141<>\"\",VLOOKUP(VLOOKUP($E$141,Zone_pta,19,FALSE),AL_NUM_ARB,2,FALSE),VLOOKUP(VLOOKUP($C$141,Zone_pta,19,FALSE),AL_NUM_ARB,4,FALSE))))","v":{"$error":"#N/A"}},{"$f":"IF(OR(VLOOKUP($C$141,Zone_pta,19,FALSE)=\"\",VLOOKUP($C$141,Zone_pta,19,FALSE)=\"X\"),\"\",IF($E$141<>\"\",\"\",VLOOKUP(VLOOKUP($C$141,Zone_pta,19,FALSE),AL_NUM_ARB,6,FALSE)))","v":{"$error":"#N/A"}},15,{"$f":"IF(OR(VLOOKUP($I$141,Zone_pta,19,FALSE)=\"\",VLOOKUP($I$141,Zone_pta,19,FALSE)=\"X\"),\"\",IF($I$141=\"\",\"\",VLOOKUP($I$141,Zone_pta,19,FALSE)))","v":{"$error":"#N/A"}},{"$f":"IF(OR(VLOOKUP($I$141,Zone_pta,19,FALSE)=\"\",VLOOKUP($I$141,Zone_pta,19,FALSE)=\"X\"),\"\",VLOOKUP(VLOOKUP($I$141,Zone_pta,19,FALSE),AL_NUM_ARB,2,FALSE))","v":{"$error":"#N/A"}},{"$f":"IF(OR(VLOOKUP($I$141,Zone_pta,19,FALSE)=\"\",VLOOKUP($I$141,Zone_pta,19,FALSE)=\"X\"),\"\",IF($I$141=\"\",\"\",IF($K$141<>\"\",VLOOKUP($K$141,Zone_pta,19,FALSE),\"\")))","v":{"$error":"#N/A"}},{"$error":"#N/A"},{"$f":"IF(OR(VLOOKUP($I$141,Zone_pta,19,FALSE)=\"\",VLOOKUP($I$141,Zone_pta,19,FALSE)=\"X\"),\"\",IF($K$141<>\"\",\"\",VLOOKUP(VLOOKUP($I$141,Zone_pta,19,FALSE),AL_NUM_ARB,6,FALSE)))","v":{"$error":"#N/A"}},19]
[16,{"$f":"IF(OR(VLOOKUP($C$141,Zone_pta,20,FALSE)=\"\",VLOOKUP($C$141,Zone_pta,20,FALSE)=\"X\"),\"\",IF($C$141=\"\",\"\",VLOOKUP($C$141,Zone_pta,20,FALSE)))","v":{"$error":"#N/A"}},{"$f":"IF(OR(VLOOKUP($C$141,Zone_pta,20,FALSE)=\"\",VLOOKUP($C$141,Zone_pta,20,FALSE)=\"X\"),\"\",VLOOKUP(VLOOKUP($C$141,Zone_pta,20,FALSE),AL_NUM_ARB,2,FALSE))","v":{"$error":"#N/A"}},{"$f":"IF(OR(VLOOKUP($C$141,Zone_pta,20,FALSE)=\"\",VLOOKUP($C$141,Zone_pta,20,FALSE)=\"X\"),\"\",IF($C$141=\"\",\"\",IF($E$141<>\"\",VLOOKUP($E$141,Zone_pta,20,FALSE),\"\")))","v":{"$error":"#N/A"}},{"$f":"IF(OR(VLOOKUP($C$141,Zone_pta,20,FALSE)=\"\",VLOOKUP($C$141,Zone_pta,20,FALSE)=\"X\"),\"\",IF($C$141=\"\",\"\",IF($E$141<>\"\",VLOOKUP(VLOOKUP($E$141,Zone_pta,20,FALSE),AL_NUM_ARB,2,FALSE),VLOOKUP(VLOOKUP($C$141,Zone_pta,20,FALSE),AL_NUM_ARB,4,FALSE))))","v":{"$error":"#N/A"}},{"$f":"IF(OR(VLOOKUP($C$141,Zone_pta,20,FALSE)=\"\",VLOOKUP($C$141,Zone_pta,20,FALSE)=\"X\"),\"\",IF($E$141<>\"\",\"\",VLOOKUP(VLOOKUP($C$141,Zone_pta,20,FALSE),AL_NUM_ARB,6,FALSE)))","v":{"$error":"#N/A"}},16,{"$f":"IF(OR(VLOOKUP($I$141,Zone_pta,20,FALSE)=\"\",VLOOKUP($I$141,Zone_pta,20,FALSE)=\"X\"),\"\",IF($I$141=\"\",\"\",VLOOKUP($I$141,Zone_pta,20,FALSE)))","v":{"$error":"#N/A"}},{"$f":"IF(OR(VLOOKUP($I$141,Zone_pta,20,FALSE)=\"\",VLOOKUP($I$141,Zone_pta,20,FALSE)=\"X\"),\"\",VLOOKUP(VLOOKUP($I$141,Zone_pta,20,FALSE),AL_NUM_ARB,2,FALSE))","v":{"$error":"#N/A"}},{"$f":"IF(OR(VLOOKUP($I$141,Zone_pta,20,FALSE)=\"\",VLOOKUP($I$141,Zone_pta,20,FALSE)=\"X\"),\"\",IF($I$141=\"\",\"\",IF($K$141<>\"\",VLOOKUP($K$141,Zone_pta,20,FALSE),\"\")))","v":{"$error":"#N/A"}},{"$error":"#N/A"},{"$f":"IF(OR(VLOOKUP($I$141,Zone_pta,20,FALSE)=\"\",VLOOKUP($I$141,Zone_pta,20,FALSE)=\"X\"),\"\",IF($K$141<>\"\",\"\",VLOOKUP(VLOOKUP($I$141,Zone_pta,20,FALSE),AL_NUM_ARB,6,FALSE)))","v":{"$error":"#N/A"}},20]
[17,{"$f":"IF(OR(VLOOKUP($C$141,Zone_pta,21,FALSE)=\"\",VLOOKUP($C$141,Zone_pta,21,FALSE)=\"X\"),\"\",IF($C$141=\"\",\"\",VLOOKUP($C$141,Zone_pta,21,FALSE)))","v":{"$error":"#N/A"}},{"$f":"IF(OR(VLOOKUP($C$141,Zone_pta,21,FALSE)=\"\",VLOOKUP($C$141,Zone_pta,21,FALSE)=\"X\"),\"\",VLOOKUP(VLOOKUP($C$141,Zone_pta,21,FALSE),AL_NUM_ARB,2,FALSE))","v":{"$error":"#N/A"}},{"$f":"IF(OR(VLOOKUP($C$141,Zone_pta,21,FALSE)=\"\",VLOOKUP($C$141,Zone_pta,21,FALSE)=\"X\"),\"\",IF($C$141=\"\",\"\",IF($E$141<>\"\",VLOOKUP($E$141,Zone_pta,21,FALSE),\"\")))","v":{"$error":"#N/A"}},{"$f":"IF(OR(VLOOKUP($C$141,Zone_pta,21,FALSE)=\"\",VLOOKUP($C$141,Zone_pta,21,FALSE)=\"X\"),\"\",IF($C$141=\"\",\"\",IF($E$141<>\"\",VLOOKUP(VLOOKUP($E$141,Zone_pta,21,FALSE),AL_NUM_ARB,2,FALSE),VLOOKUP(VLOOKUP($C$141,Zone_pta,21,FALSE),AL_NUM_ARB,4,FALSE))))","v":{"$error":"#N/A"}},{"$f":"IF(OR(VLOOKUP($C$141,Zone_pta,21,FALSE)=\"\",VLOOKUP($C$141,Zone_pta,21,FALSE)=\"X\"),\"\",IF($E$141<>\"\",\"\",VLOOKUP(VLOOKUP($C$141,Zone_pta,21,FALSE),AL_NUM_ARB,6,FALSE)))","v":{"$error":"#N/A"}},17,{"$f":"IF(OR(VLOOKUP($I$141,Zone_pta,21,FALSE)=\"\",VLOOKUP($I$141,Zone_pta,21,FALSE)=\"X\"),\"\",IF($I$141=\"\",\"\",VLOOKUP($I$141,Zone_pta,21,FALSE)))","v":{"$error":"#N/A"}},{"$f":"IF(OR(VLOOKUP($I$141,Zone_pta,21,FALSE)=\"\",VLOOKUP($I$141,Zone_pta,21,FALSE)=\"X\"),\"\",VLOOKUP(VLOOKUP($I$141,Zone_pta,21,FALSE),AL_NUM_ARB,2,FALSE))","v":{"$error":"#N/A"}},{"$f":"IF(OR(VLOOKUP($I$141,Zone_pta,21,FALSE)=\"\",VLOOKUP($I$141,Zone_pta,21,FALSE)=\"X\"),\"\",IF($I$141=\"\",\"\",IF($K$141<>\"\",VLOOKUP($K$141,Zone_pta,21,FALSE),\"\")))","v":{"$error":"#N/A"}},{"$error":"#N/A"},{"$f":"IF(OR(VLOOKUP($I$141,Zone_pta,21,FALSE)=\"\",VLOOKUP($I$141,Zone_pta,21,FALSE)=\"X\"),\"\",IF($K$141<>\"\",\"\",VLOOKUP(VLOOKUP($I$141,Zone_pta,21,FALSE),AL_NUM_ARB,6,FALSE)))","v":{"$error":"#N/A"}},21]
[18,{"$f":"IF(OR(VLOOKUP($C$141,Zone_pta,22,FALSE)=\"\",VLOOKUP($C$141,Zone_pta,22,FALSE)=\"X\"),\"\",IF($C$141=\"\",\"\",VLOOKUP($C$141,Zone_pta,22,FALSE)))","v":{"$error":"#N/A"}},{"$f":"IF(OR(VLOOKUP($C$141,Zone_pta,22,FALSE)=\"\",VLOOKUP($C$141,Zone_pta,22,FALSE)=\"X\"),\"\",VLOOKUP(VLOOKUP($C$141,Zone_pta,22,FALSE),AL_NUM_ARB,2,FALSE))","v":{"$error":"#N/A"}},{"$f":"IF(OR(VLOOKUP($C$141,Zone_pta,22,FALSE)=\"\",VLOOKUP($C$141,Zone_pta,22,FALSE)=\"X\"),\"\",IF($C$141=\"\",\"\",IF($E$141<>\"\",VLOOKUP($E$141,Zone_pta,22,FALSE),\"\")))","v":{"$error":"#N/A"}},{"$f":"IF(OR(VLOOKUP($C$141,Zone_pta,22,FALSE)=\"\",VLOOKUP($C$141,Zone_pta,22,FALSE)=\"X\"),\"\",IF($C$141=\"\",\"\",IF($E$141<>\"\",VLOOKUP(VLOOKUP($E$141,Zone_pta,22,FALSE),AL_NUM_ARB,2,FALSE),VLOOKUP(VLOOKUP($C$141,Zone_pta,22,FALSE),AL_NUM_ARB,4,FALSE))))","v":{"$error":"#N/A"}},{"$f":"IF(OR(VLOOKUP($C$141,Zone_pta,22,FALSE)=\"\",VLOOKUP($C$141,Zone_pta,22,FALSE)=\"X\"),\"\",IF($E$141<>\"\",\"\",VLOOKUP(VLOOKUP($C$141,Zone_pta,22,FALSE),AL_NUM_ARB,6,FALSE)))","v":{"$error":"#N/A"}},18,{"$f":"IF(OR(VLOOKUP($I$141,Zone_pta,22,FALSE)=\"\",VLOOKUP($I$141,Zone_pta,22,FALSE)=\"X\"),\"\",IF($I$141=\"\",\"\",VLOOKUP($I$141,Zone_pta,22,FALSE)))","v":{"$error":"#N/A"}},{"$f":"IF(OR(VLOOKUP($I$141,Zone_pta,22,FALSE)=\"\",VLOOKUP($I$141,Zone_pta,22,FALSE)=\"X\"),\"\",VLOOKUP(VLOOKUP($I$141,Zone_pta,22,FALSE),AL_NUM_ARB,2,FALSE))","v":{"$error":"#N/A"}},{"$f":"IF(OR(VLOOKUP($I$141,Zone_pta,22,FALSE)=\"\",VLOOKUP($I$141,Zone_pta,22,FALSE)=\"X\"),\"\",IF($I$141=\"\",\"\",IF($K$141<>\"\",VLOOKUP($K$141,Zone_pta,22,FALSE),\"\")))","v":{"$error":"#N/A"}},{"$error":"#N/A"},{"$f":"IF(OR(VLOOKUP($I$141,Zone_pta,22,FALSE)=\"\",VLOOKUP($I$141,Zone_pta,22,FALSE)=\"X\"),\"\",IF($K$141<>\"\",\"\",VLOOKUP(VLOOKUP($I$141,Zone_pta,22,FALSE),AL_NUM_ARB,6,FALSE)))","v":{"$error":"#N/A"}},22]
[19,{"$f":"IF(OR(VLOOKUP($C$141,Zone_pta,23,FALSE)=\"\",VLOOKUP($C$141,Zone_pta,23,FALSE)=\"X\"),\"\",IF($C$141=\"\",\"\",VLOOKUP($C$141,Zone_pta,23,FALSE)))","v":{"$error":"#N/A"}},{"$f":"IF(OR(VLOOKUP($C$141,Zone_pta,23,FALSE)=\"\",VLOOKUP($C$141,Zone_pta,23,FALSE)=\"X\"),\"\",VLOOKUP(VLOOKUP($C$141,Zone_pta,23,FALSE),AL_NUM_ARB,2,FALSE))","v":{"$error":"#N/A"}},{"$f":"IF(OR(VLOOKUP($C$141,Zone_pta,23,FALSE)=\"\",VLOOKUP($C$141,Zone_pta,23,FALSE)=\"X\"),\"\",IF($C$141=\"\",\"\",IF($E$141<>\"\",VLOOKUP($E$141,Zone_pta,23,FALSE),\"\")))","v":{"$error":"#N/A"}},{"$f":"IF(OR(VLOOKUP($C$141,Zone_pta,23,FALSE)=\"\",VLOOKUP($C$141,Zone_pta,23,FALSE)=\"X\"),\"\",IF($C$141=\"\",\"\",IF($E$141<>\"\",VLOOKUP(VLOOKUP($E$141,Zone_pta,23,FALSE),AL_NUM_ARB,2,FALSE),VLOOKUP(VLOOKUP($C$141,Zone_pta,23,FALSE),AL_NUM_ARB,4,FALSE))))","v":{"$error":"#N/A"}},{"$f":"IF(OR(VLOOKUP($C$141,Zone_pta,23,FALSE)=\"\",VLOOKUP($C$141,Zone_pta,23,FALSE)=\"X\"),\"\",IF($E$141<>\"\",\"\",VLOOKUP(VLOOKUP($C$141,Zone_pta,23,FALSE),AL_NUM_ARB,6,FALSE)))","v":{"$error":"#N/A"}},19,{"$f":"IF(OR(VLOOKUP($I$141,Zone_pta,23,FALSE)=\"\",VLOOKUP($I$141,Zone_pta,23,FALSE)=\"X\"),\"\",IF($I$141=\"\",\"\",VLOOKUP($I$141,Zone_pta,23,FALSE)))","v":{"$error":"#N/A"}},{"$f":"IF(OR(VLOOKUP($I$141,Zone_pta,23,FALSE)=\"\",VLOOKUP($I$141,Zone_pta,23,FALSE)=\"X\"),\"\",VLOOKUP(VLOOKUP($I$141,Zone_pta,23,FALSE),AL_NUM_ARB,2,FALSE))","v":{"$error":"#N/A"}},{"$f":"IF(OR(VLOOKUP($I$141,Zone_pta,23,FALSE)=\"\",VLOOKUP($I$141,Zone_pta,23,FALSE)=\"X\"),\"\",IF($I$141=\"\",\"\",IF($K$141<>\"\",VLOOKUP($K$141,Zone_pta,23,FALSE),\"\")))","v":{"$error":"#N/A"}},{"$error":"#N/A"},{"$f":"IF(OR(VLOOKUP($I$141,Zone_pta,23,FALSE)=\"\",VLOOKUP($I$141,Zone_pta,23,FALSE)=\"X\"),\"\",IF($K$141<>\"\",\"\",VLOOKUP(VLOOKUP($I$141,Zone_pta,23,FALSE),AL_NUM_ARB,6,FALSE)))","v":{"$error":"#N/A"}},23]
[20,{"$f":"IF(OR(VLOOKUP($C$141,Zone_pta,24,FALSE)=\"\",VLOOKUP($C$141,Zone_pta,24,FALSE)=\"X\"),\"\",IF($C$141=\"\",\"\",VLOOKUP($C$141,Zone_pta,24,FALSE)))","v":{"$error":"#N/A"}},{"$f":"IF(OR(VLOOKUP($C$141,Zone_pta,24,FALSE)=\"\",VLOOKUP($C$141,Zone_pta,24,FALSE)=\"X\"),\"\",VLOOKUP(VLOOKUP($C$141,Zone_pta,24,FALSE),AL_NUM_ARB,2,FALSE))","v":{"$error":"#N/A"}},{"$f":"IF(OR(VLOOKUP($C$141,Zone_pta,24,FALSE)=\"\",VLOOKUP($C$141,Zone_pta,24,FALSE)=\"X\"),\"\",IF($C$141=\"\",\"\",IF($E$141<>\"\",VLOOKUP($E$141,Zone_pta,24,FALSE),\"\")))","v":{"$error":"#N/A"}},{"$f":"IF(OR(VLOOKUP($C$141,Zone_pta,24,FALSE)=\"\",VLOOKUP($C$141,Zone_pta,24,FALSE)=\"X\"),\"\",IF($C$141=\"\",\"\",IF($E$141<>\"\",VLOOKUP(VLOOKUP($E$141,Zone_pta,24,FALSE),AL_NUM_ARB,2,FALSE),VLOOKUP(VLOOKUP($C$141,Zone_pta,24,FALSE),AL_NUM_ARB,4,FALSE))))","v":{"$error":"#N/A"}},{"$f":"IF(OR(VLOOKUP($C$141,Zone_pta,24,FALSE)=\"\",VLOOKUP($C$141,Zone_pta,24,FALSE)=\"X\"),\"\",IF($E$141<>\"\",\"\",VLOOKUP(VLOOKUP($C$141,Zone_pta,24,FALSE),AL_NUM_ARB,6,FALSE)))","v":{"$error":"#N/A"}},20,{"$f":"IF(OR(VLOOKUP($I$141,Zone_pta,24,FALSE)=\"\",VLOOKUP($I$141,Zone_pta,24,FALSE)=\"X\"),\"\",IF($I$141=\"\",\"\",VLOOKUP($I$141,Zone_pta,24,FALSE)))","v":{"$error":"#N/A"}},{"$f":"IF(OR(VLOOKUP($I$141,Zone_pta,24,FALSE)=\"\",VLOOKUP($I$141,Zone_pta,24,FALSE)=\"X\"),\"\",VLOOKUP(VLOOKUP($I$141,Zone_pta,24,FALSE),AL_NUM_ARB,2,FALSE))","v":{"$error":"#N/A"}},{"$f":"IF(OR(VLOOKUP($I$141,Zone_pta,24,FALSE)=\"\",VLOOKUP($I$141,Zone_pta,24,FALSE)=\"X\"),\"\",IF($I$141=\"\",\"\",IF($K$141<>\"\",VLOOKUP($K$141,Zone_pta,24,FALSE),\"\")))","v":{"$error":"#N/A"}},{"$error":"#N/A"},{"$f":"IF(OR(VLOOKUP($I$141,Zone_pta,24,FALSE)=\"\",VLOOKUP($I$141,Zone_pta,24,FALSE)=\"X\"),\"\",IF($K$141<>\"\",\"\",VLOOKUP(VLOOKUP($I$141,Zone_pta,24,FALSE),AL_NUM_ARB,6,FALSE)))","v":{"$error":"#N/A"}},24]
[21,{"$f":"IF(OR(VLOOKUP($C$141,Zone_pta,25,FALSE)=\"\",VLOOKUP($C$141,Zone_pta,25,FALSE)=\"X\"),\"\",IF($C$141=\"\",\"\",VLOOKUP($C$141,Zone_pta,25,FALSE)))","v":{"$error":"#N/A"}},{"$f":"IF(OR(VLOOKUP($C$141,Zone_pta,25,FALSE)=\"\",VLOOKUP($C$141,Zone_pta,25,FALSE)=\"X\"),\"\",VLOOKUP(VLOOKUP($C$141,Zone_pta,25,FALSE),AL_NUM_ARB,2,FALSE))","v":{"$error":"#N/A"}},{"$f":"IF(OR(VLOOKUP($C$141,Zone_pta,25,FALSE)=\"\",VLOOKUP($C$141,Zone_pta,25,FALSE)=\"X\"),\"\",IF($C$141=\"\",\"\",IF($E$141<>\"\",VLOOKUP($E$141,Zone_pta,25,FALSE),\"\")))","v":{"$error":"#N/A"}},{"$f":"IF(OR(VLOOKUP($C$141,Zone_pta,25,FALSE)=\"\",VLOOKUP($C$141,Zone_pta,25,FALSE)=\"X\"),\"\",IF($C$141=\"\",\"\",IF($E$141<>\"\",VLOOKUP(VLOOKUP($E$141,Zone_pta,25,FALSE),AL_NUM_ARB,2,FALSE),VLOOKUP(VLOOKUP($C$141,Zone_pta,25,FALSE),AL_NUM_ARB,4,FALSE))))","v":{"$error":"#N/A"}},{"$f":"IF(OR(VLOOKUP($C$141,Zone_pta,25,FALSE)=\"\",VLOOKUP($C$141,Zone_pta,25,FALSE)=\"X\"),\"\",IF($E$141<>\"\",\"\",VLOOKUP(VLOOKUP($C$141,Zone_pta,25,FALSE),AL_NUM_ARB,6,FALSE)))","v":{"$error":"#N/A"}},21,{"$f":"IF(OR(VLOOKUP($I$141,Zone_pta,25,FALSE)=\"\",VLOOKUP($I$141,Zone_pta,25,FALSE)=\"X\"),\"\",IF($I$141=\"\",\"\",VLOOKUP($I$141,Zone_pta,25,FALSE)))","v":{"$error":"#N/A"}},{"$f":"IF(OR(VLOOKUP($I$141,Zone_pta,25,FALSE)=\"\",VLOOKUP($I$141,Zone_pta,25,FALSE)=\"X\"),\"\",VLOOKUP(VLOOKUP($I$141,Zone_pta,25,FALSE),AL_NUM_ARB,2,FALSE))","v":{"$error":"#N/A"}},{"$f":"IF(OR(VLOOKUP($I$141,Zone_pta,25,FALSE)=\"\",VLOOKUP($I$141,Zone_pta,25,FALSE)=\"X\"),\"\",IF($I$141=\"\",\"\",IF($K$141<>\"\",VLOOKUP($K$141,Zone_pta,25,FALSE),\"\")))","v":{"$error":"#N/A"}},{"$error":"#N/A"},{"$f":"IF(OR(VLOOKUP($I$141,Zone_pta,25,FALSE)=\"\",VLOOKUP($I$141,Zone_pta,25,FALSE)=\"X\"),\"\",IF($K$141<>\"\",\"\",VLOOKUP(VLOOKUP($I$141,Zone_pta,25,FALSE),AL_NUM_ARB,6,FALSE)))","v":{"$error":"#N/A"}},25]
[22,{"$f":"IF(OR(VLOOKUP($C$141,Zone_pta,26,FALSE)=\"\",VLOOKUP($C$141,Zone_pta,26,FALSE)=\"X\"),\"\",IF($C$141=\"\",\"\",VLOOKUP($C$141,Zone_pta,26,FALSE)))","v":{"$error":"#N/A"}},{"$f":"IF(OR(VLOOKUP($C$141,Zone_pta,26,FALSE)=\"\",VLOOKUP($C$141,Zone_pta,26,FALSE)=\"X\"),\"\",VLOOKUP(VLOOKUP($C$141,Zone_pta,26,FALSE),AL_NUM_ARB,2,FALSE))","v":{"$error":"#N/A"}},{"$f":"IF(OR(VLOOKUP($C$141,Zone_pta,26,FALSE)=\"\",VLOOKUP($C$141,Zone_pta,26,FALSE)=\"X\"),\"\",IF($C$141=\"\",\"\",IF($E$141<>\"\",VLOOKUP($E$141,Zone_pta,26,FALSE),\"\")))","v":{"$error":"#N/A"}},{"$f":"IF(OR(VLOOKUP($C$141,Zone_pta,26,FALSE)=\"\",VLOOKUP($C$141,Zone_pta,26,FALSE)=\"X\"),\"\",IF($C$141=\"\",\"\",IF($E$141<>\"\",VLOOKUP(VLOOKUP($E$141,Zone_pta,26,FALSE),AL_NUM_ARB,2,FALSE),VLOOKUP(VLOOKUP($C$141,Zone_pta,26,FALSE),AL_NUM_ARB,4,FALSE))))","v":{"$error":"#N/A"}},{"$f":"IF(OR(VLOOKUP($C$141,Zone_pta,26,FALSE)=\"\",VLOOKUP($C$141,Zone_pta,26,FALSE)=\"X\"),\"\",IF($E$141<>\"\",\"\",VLOOKUP(VLOOKUP($C$141,Zone_pta,26,FALSE),AL_NUM_ARB,6,FALSE)))","v":{"$error":"#N/A"}},22,{"$f":"IF(OR(VLOOKUP($I$141,Zone_pta,26,FALSE)=\"\",VLOOKUP($I$141,Zone_pta,26,FALSE)=\"X\"),\"\",IF($I$141=\"\",\"\",VLOOKUP($I$141,Zone_pta,26,FALSE)))","v":{"$error":"#N/A"}},{"$f":"IF(OR(VLOOKUP($I$141,Zone_pta,26,FALSE)=\"\",VLOOKUP($I$141,Zone_pta,26,FALSE)=\"X\"),\"\",VLOOKUP(VLOOKUP($I$141,Zone_pta,26,FALSE),AL_NUM_ARB,2,FALSE))","v":{"$error":"#N/A"}},{"$f":"IF(OR(VLOOKUP($I$141,Zone_pta,26,FALSE)=\"\",VLOOKUP($I$141,Zone_pta,26,FALSE)=\"X\"),\"\",IF($I$141=\"\",\"\",IF($K$141<>\"\",VLOOKUP($K$141,Zone_pta,26,FALSE),\"\")))","v":{"$error":"#N/A"}},{"$error":"#N/A"},{"$f":"IF(OR(VLOOKUP($I$141,Zone_pta,26,FALSE)=\"\",VLOOKUP($I$141,Zone_pta,26,FALSE)=\"X\"),\"\",IF($K$141<>\"\",\"\",VLOOKUP(VLOOKUP($I$141,Zone_pta,26,FALSE),AL_NUM_ARB,6,FALSE)))","v":{"$error":"#N/A"}},26]
[23,{"$f":"IF(OR(VLOOKUP($C$141,Zone_pta,27,FALSE)=\"\",VLOOKUP($C$141,Zone_pta,27,FALSE)=\"X\"),\"\",IF($C$141=\"\",\"\",VLOOKUP($C$141,Zone_pta,27,FALSE)))","v":{"$error":"#N/A"}},{"$f":"IF(OR(VLOOKUP($C$141,Zone_pta,27,FALSE)=\"\",VLOOKUP($C$141,Zone_pta,27,FALSE)=\"X\"),\"\",VLOOKUP(VLOOKUP($C$141,Zone_pta,27,FALSE),AL_NUM_ARB,2,FALSE))","v":{"$error":"#N/A"}},{"$f":"IF(OR(VLOOKUP($C$141,Zone_pta,27,FALSE)=\"\",VLOOKUP($C$141,Zone_pta,27,FALSE)=\"X\"),\"\",IF($C$141=\"\",\"\",IF($E$141<>\"\",VLOOKUP($E$141,Zone_pta,27,FALSE),\"\")))","v":{"$error":"#N/A"}},{"$f":"IF(OR(VLOOKUP($C$141,Zone_pta,27,FALSE)=\"\",VLOOKUP($C$141,Zone_pta,27,FALSE)=\"X\"),\"\",IF($C$141=\"\",\"\",IF($E$141<>\"\",VLOOKUP(VLOOKUP($E$141,Zone_pta,27,FALSE),AL_NUM_ARB,2,FALSE),VLOOKUP(VLOOKUP($C$141,Zone_pta,27,FALSE),AL_NUM_ARB,4,FALSE))))","v":{"$error":"#N/A"}},{"$f":"IF(OR(VLOOKUP($C$141,Zone_pta,27,FALSE)=\"\",VLOOKUP($C$141,Zone_pta,27,FALSE)=\"X\"),\"\",IF($E$141<>\"\",\"\",VLOOKUP(VLOOKUP($C$141,Zone_pta,27,FALSE),AL_NUM_ARB,6,FALSE)))","v":{"$error":"#N/A"}},23,{"$f":"IF(OR(VLOOKUP($I$141,Zone_pta,27,FALSE)=\"\",VLOOKUP($I$141,Zone_pta,27,FALSE)=\"X\"),\"\",IF($I$141=\"\",\"\",VLOOKUP($I$141,Zone_pta,27,FALSE)))","v":{"$error":"#N/A"}},{"$f":"IF(OR(VLOOKUP($I$141,Zone_pta,27,FALSE)=\"\",VLOOKUP($I$141,Zone_pta,27,FALSE)=\"X\"),\"\",VLOOKUP(VLOOKUP($I$141,Zone_pta,27,FALSE),AL_NUM_ARB,2,FALSE))","v":{"$error":"#N/A"}},{"$f":"IF(OR(VLOOKUP($I$141,Zone_pta,27,FALSE)=\"\",VLOOKUP($I$141,Zone_pta,27,FALSE)=\"X\"),\"\",IF($I$141=\"\",\"\",IF($K$141<>\"\",VLOOKUP($K$141,Zone_pta,27,FALSE),\"\")))","v":{"$error":"#N/A"}},{"$error":"#N/A"},{"$f":"IF(OR(VLOOKUP($I$141,Zone_pta,27,FALSE)=\"\",VLOOKUP($I$141,Zone_pta,27,FALSE)=\"X\"),\"\",IF($K$141<>\"\",\"\",VLOOKUP(VLOOKUP($I$141,Zone_pta,27,FALSE),AL_NUM_ARB,6,FALSE)))","v":{"$error":"#N/A"}},27]
[24,{"$f":"IF(OR(VLOOKUP($C$141,Zone_pta,28,FALSE)=\"\",VLOOKUP($C$141,Zone_pta,28,FALSE)=\"X\"),\"\",IF($C$141=\"\",\"\",VLOOKUP($C$141,Zone_pta,28,FALSE)))","v":{"$error":"#N/A"}},{"$f":"IF(OR(VLOOKUP($C$141,Zone_pta,28,FALSE)=\"\",VLOOKUP($C$141,Zone_pta,28,FALSE)=\"X\"),\"\",VLOOKUP(VLOOKUP($C$141,Zone_pta,28,FALSE),AL_NUM_ARB,2,FALSE))","v":{"$error":"#N/A"}},{"$f":"IF(OR(VLOOKUP($C$141,Zone_pta,28,FALSE)=\"\",VLOOKUP($C$141,Zone_pta,28,FALSE)=\"X\"),\"\",IF($C$141=\"\",\"\",IF($E$141<>\"\",VLOOKUP($E$141,Zone_pta,28,FALSE),\"\")))","v":{"$error":"#N/A"}},{"$f":"IF(OR(VLOOKUP($C$141,Zone_pta,28,FALSE)=\"\",VLOOKUP($C$141,Zone_pta,28,FALSE)=\"X\"),\"\",IF($C$141=\"\",\"\",IF($E$141<>\"\",VLOOKUP(VLOOKUP($E$141,Zone_pta,28,FALSE),AL_NUM_ARB,2,FALSE),VLOOKUP(VLOOKUP($C$141,Zone_pta,28,FALSE),AL_NUM_ARB,4,FALSE))))","v":{"$error":"#N/A"}},{"$f":"IF(OR(VLOOKUP($C$141,Zone_pta,28,FALSE)=\"\",VLOOKUP($C$141,Zone_pta,28,FALSE)=\"X\"),\"\",IF($E$141<>\"\",\"\",VLOOKUP(VLOOKUP($C$141,Zone_pta,28,FALSE),AL_NUM_ARB,6,FALSE)))","v":{"$error":"#N/A"}},24,{"$f":"IF(OR(VLOOKUP($I$141,Zone_pta,28,FALSE)=\"\",VLOOKUP($I$141,Zone_pta,28,FALSE)=\"X\"),\"\",IF($I$141=\"\",\"\",VLOOKUP($I$141,Zone_pta,28,FALSE)))","v":{"$error":"#N/A"}},{"$f":"IF(OR(VLOOKUP($I$141,Zone_pta,28,FALSE)=\"\",VLOOKUP($I$141,Zone_pta,28,FALSE)=\"X\"),\"\",VLOOKUP(VLOOKUP($I$141,Zone_pta,28,FALSE),AL_NUM_ARB,2,FALSE))","v":{"$error":"#N/A"}},{"$f":"IF(OR(VLOOKUP($I$141,Zone_pta,28,FALSE)=\"\",VLOOKUP($I$141,Zone_pta,28,FALSE)=\"X\"),\"\",IF($I$141=\"\",\"\",IF($K$141<>\"\",VLOOKUP($K$141,Zone_pta,28,FALSE),\"\")))","v":{"$error":"#N/A"}},{"$error":"#N/A"},{"$f":"IF(OR(VLOOKUP($I$141,Zone_pta,28,FALSE)=\"\",VLOOKUP($I$141,Zone_pta,28,FALSE)=\"X\"),\"\",IF($K$141<>\"\",\"\",VLOOKUP(VLOOKUP($I$141,Zone_pta,28,FALSE),AL_NUM_ARB,6,FALSE)))","v":{"$error":"#N/A"}},28]
[25,{"$f":"IF(OR(VLOOKUP($C$141,Zone_pta,29,FALSE)=\"\",VLOOKUP($C$141,Zone_pta,29,FALSE)=\"X\"),\"\",IF($C$141=\"\",\"\",VLOOKUP($C$141,Zone_pta,29,FALSE)))","v":{"$error":"#N/A"}},{"$f":"IF(OR(VLOOKUP($C$141,Zone_pta,29,FALSE)=\"\",VLOOKUP($C$141,Zone_pta,29,FALSE)=\"X\"),\"\",VLOOKUP(VLOOKUP($C$141,Zone_pta,29,FALSE),AL_NUM_ARB,2,FALSE))","v":{"$error":"#N/A"}},{"$f":"IF(OR(VLOOKUP($C$141,Zone_pta,29,FALSE)=\"\",VLOOKUP($C$141,Zone_pta,29,FALSE)=\"X\"),\"\",IF($C$141=\"\",\"\",IF($E$141<>\"\",VLOOKUP($E$141,Zone_pta,29,FALSE),\"\")))","v":{"$error":"#N/A"}},{"$f":"IF(OR(VLOOKUP($C$141,Zone_pta,29,FALSE)=\"\",VLOOKUP($C$141,Zone_pta,29,FALSE)=\"X\"),\"\",IF($C$141=\"\",\"\",IF($E$141<>\"\",VLOOKUP(VLOOKUP($E$141,Zone_pta,29,FALSE),AL_NUM_ARB,2,FALSE),VLOOKUP(VLOOKUP($C$141,Zone_pta,29,FALSE),AL_NUM_ARB,4,FALSE))))","v":{"$error":"#N/A"}},{"$f":"IF(OR(VLOOKUP($C$141,Zone_pta,29,FALSE)=\"\",VLOOKUP($C$141,Zone_pta,29,FALSE)=\"X\"),\"\",IF($E$141<>\"\",\"\",VLOOKUP(VLOOKUP($C$141,Zone_pta,29,FALSE),AL_NUM_ARB,6,FALSE)))","v":{"$error":"#N/A"}},25,{"$f":"IF(OR(VLOOKUP($I$141,Zone_pta,29,FALSE)=\"\",VLOOKUP($I$141,Zone_pta,29,FALSE)=\"X\"),\"\",IF($I$141=\"\",\"\",VLOOKUP($I$141,Zone_pta,29,FALSE)))","v":{"$error":"#N/A"}},{"$f":"IF(OR(VLOOKUP($I$141,Zone_pta,29,FALSE)=\"\",VLOOKUP($I$141,Zone_pta,29,FALSE)=\"X\"),\"\",VLOOKUP(VLOOKUP($I$141,Zone_pta,29,FALSE),AL_NUM_ARB,2,FALSE))","v":{"$error":"#N/A"}},{"$f":"IF(OR(VLOOKUP($I$141,Zone_pta,29,FALSE)=\"\",VLOOKUP($I$141,Zone_pta,29,FALSE)=\"X\"),\"\",IF($I$141=\"\",\"\",IF($K$141<>\"\",VLOOKUP($K$141,Zone_pta,29,FALSE),\"\")))","v":{"$error":"#N/A"}},{"$error":"#N/A"},{"$f":"IF(OR(VLOOKUP($I$141,Zone_pta,29,FALSE)=\"\",VLOOKUP($I$141,Zone_pta,29,FALSE)=\"X\"),\"\",IF($K$141<>\"\",\"\",VLOOKUP(VLOOKUP($I$141,Zone_pta,29,FALSE),AL_NUM_ARB,6,FALSE)))","v":{"$error":"#N/A"}},29]
[26,{"$f":"IF(OR(VLOOKUP($C$141,Zone_pta,30,FALSE)=\"\",VLOOKUP($C$141,Zone_pta,30,FALSE)=\"X\"),\"\",IF($C$141=\"\",\"\",VLOOKUP($C$141,Zone_pta,30,FALSE)))","v":{"$error":"#N/A"}},{"$f":"IF(OR(VLOOKUP($C$141,Zone_pta,30,FALSE)=\"\",VLOOKUP($C$141,Zone_pta,30,FALSE)=\"X\"),\"\",VLOOKUP(VLOOKUP($C$141,Zone_pta,30,FALSE),AL_NUM_ARB,2,FALSE))","v":{"$error":"#N/A"}},{"$f":"IF(OR(VLOOKUP($C$141,Zone_pta,30,FALSE)=\"\",VLOOKUP($C$141,Zone_pta,30,FALSE)=\"X\"),\"\",IF($C$141=\"\",\"\",IF($E$141<>\"\",VLOOKUP($E$141,Zone_pta,30,FALSE),\"\")))","v":{"$error":"#N/A"}},{"$f":"IF(OR(VLOOKUP($C$141,Zone_pta,30,FALSE)=\"\",VLOOKUP($C$141,Zone_pta,30,FALSE)=\"X\"),\"\",IF($C$141=\"\",\"\",IF($E$141<>\"\",VLOOKUP(VLOOKUP($E$141,Zone_pta,30,FALSE),AL_NUM_ARB,2,FALSE),VLOOKUP(VLOOKUP($C$141,Zone_pta,30,FALSE),AL_NUM_ARB,4,FALSE))))","v":{"$error":"#N/A"}},{"$f":"IF(OR(VLOOKUP($C$141,Zone_pta,30,FALSE)=\"\",VLOOKUP($C$141,Zone_pta,30,FALSE)=\"X\"),\"\",IF($E$141<>\"\",\"\",VLOOKUP(VLOOKUP($C$141,Zone_pta,30,FALSE),AL_NUM_ARB,6,FALSE)))","v":{"$error":"#N/A"}},26,{"$f":"IF(OR(VLOOKUP($I$141,Zone_pta,30,FALSE)=\"\",VLOOKUP($I$141,Zone_pta,30,FALSE)=\"X\"),\"\",IF($I$141=\"\",\"\",VLOOKUP($I$141,Zone_pta,30,FALSE)))","v":{"$error":"#N/A"}},{"$f":"IF(OR(VLOOKUP($I$141,Zone_pta,30,FALSE)=\"\",VLOOKUP($I$141,Zone_pta,30,FALSE)=\"X\"),\"\",VLOOKUP(VLOOKUP($I$141,Zone_pta,30,FALSE),AL_NUM_ARB,2,FALSE))","v":{"$error":"#N/A"}},{"$f":"IF(OR(VLOOKUP($I$141,Zone_pta,30,FALSE)=\"\",VLOOKUP($I$141,Zone_pta,30,FALSE)=\"X\"),\"\",IF($I$141=\"\",\"\",IF($K$141<>\"\",VLOOKUP($K$141,Zone_pta,30,FALSE),\"\")))","v":{"$error":"#N/A"}},{"$error":"#N/A"},{"$f":"IF(OR(VLOOKUP($I$141,Zone_pta,30,FALSE)=\"\",VLOOKUP($I$141,Zone_pta,30,FALSE)=\"X\"),\"\",IF($K$141<>\"\",\"\",VLOOKUP(VLOOKUP($I$141,Zone_pta,30,FALSE),AL_NUM_ARB,6,FALSE)))","v":{"$error":"#N/A"}},30]
[27,{"$f":"IF(OR(VLOOKUP($C$141,Zone_pta,31,FALSE)=\"\",VLOOKUP($C$141,Zone_pta,31,FALSE)=\"X\"),\"\",IF($C$141=\"\",\"\",VLOOKUP($C$141,Zone_pta,31,FALSE)))","v":{"$error":"#N/A"}},{"$f":"IF(OR(VLOOKUP($C$141,Zone_pta,31,FALSE)=\"\",VLOOKUP($C$141,Zone_pta,31,FALSE)=\"X\"),\"\",VLOOKUP(VLOOKUP($C$141,Zone_pta,31,FALSE),AL_NUM_ARB,2,FALSE))","v":{"$error":"#N/A"}},{"$f":"IF(OR(VLOOKUP($C$141,Zone_pta,31,FALSE)=\"\",VLOOKUP($C$141,Zone_pta,31,FALSE)=\"X\"),\"\",IF($C$141=\"\",\"\",IF($E$141<>\"\",VLOOKUP($E$141,Zone_pta,31,FALSE),\"\")))","v":{"$error":"#N/A"}},{"$f":"IF(OR(VLOOKUP($C$141,Zone_pta,31,FALSE)=\"\",VLOOKUP($C$141,Zone_pta,31,FALSE)=\"X\"),\"\",IF($C$141=\"\",\"\",IF($E$141<>\"\",VLOOKUP(VLOOKUP($E$141,Zone_pta,31,FALSE),AL_NUM_ARB,2,FALSE),VLOOKUP(VLOOKUP($C$141,Zone_pta,31,FALSE),AL_NUM_ARB,4,FALSE))))","v":{"$error":"#N/A"}},{"$f":"IF(OR(VLOOKUP($C$141,Zone_pta,31,FALSE)=\"\",VLOOKUP($C$141,Zone_pta,31,FALSE)=\"X\"),\"\",IF($E$141<>\"\",\"\",VLOOKUP(VLOOKUP($C$141,Zone_pta,31,FALSE),AL_NUM_ARB,6,FALSE)))","v":{"$error":"#N/A"}},27,{"$f":"IF(OR(VLOOKUP($I$141,Zone_pta,31,FALSE)=\"\",VLOOKUP($I$141,Zone_pta,31,FALSE)=\"X\"),\"\",IF($I$141=\"\",\"\",VLOOKUP($I$141,Zone_pta,31,FALSE)))","v":{"$error":"#N/A"}},{"$f":"IF(OR(VLOOKUP($I$141,Zone_pta,31,FALSE)=\"\",VLOOKUP($I$141,Zone_pta,31,FALSE)=\"X\"),\"\",VLOOKUP(VLOOKUP($I$141,Zone_pta,31,FALSE),AL_NUM_ARB,2,FALSE))","v":{"$error":"#N/A"}},{"$f":"IF(OR(VLOOKUP($I$141,Zone_pta,31,FALSE)=\"\",VLOOKUP($I$141,Zone_pta,31,FALSE)=\"X\"),\"\",IF($I$141=\"\",\"\",IF($K$141<>\"\",VLOOKUP($K$141,Zone_pta,31,FALSE),\"\")))","v":{"$error":"#N/A"}},{"$error":"#N/A"},{"$f":"IF(OR(VLOOKUP($I$141,Zone_pta,31,FALSE)=\"\",VLOOKUP($I$141,Zone_pta,31,FALSE)=\"X\"),\"\",IF($K$141<>\"\",\"\",VLOOKUP(VLOOKUP($I$141,Zone_pta,31,FALSE),AL_NUM_ARB,6,FALSE)))","v":{"$error":"#N/A"}},31]
[28,{"$f":"IF(OR(VLOOKUP($C$141,Zone_pta,32,FALSE)=\"\",VLOOKUP($C$141,Zone_pta,32,FALSE)=\"X\"),\"\",IF($C$141=\"\",\"\",VLOOKUP($C$141,Zone_pta,32,FALSE)))","v":{"$error":"#N/A"}},{"$f":"IF(OR(VLOOKUP($C$141,Zone_pta,32,FALSE)=\"\",VLOOKUP($C$141,Zone_pta,32,FALSE)=\"X\"),\"\",VLOOKUP(VLOOKUP($C$141,Zone_pta,32,FALSE),AL_NUM_ARB,2,FALSE))","v":{"$error":"#N/A"}},{"$f":"IF(OR(VLOOKUP($C$141,Zone_pta,32,FALSE)=\"\",VLOOKUP($C$141,Zone_pta,32,FALSE)=\"X\"),\"\",IF($C$141=\"\",\"\",IF($E$141<>\"\",VLOOKUP($E$141,Zone_pta,32,FALSE),\"\")))","v":{"$error":"#N/A"}},{"$f":"IF(OR(VLOOKUP($C$141,Zone_pta,32,FALSE)=\"\",VLOOKUP($C$141,Zone_pta,32,FALSE)=\"X\"),\"\",IF($C$141=\"\",\"\",IF($E$141<>\"\",VLOOKUP(VLOOKUP($E$141,Zone_pta,32,FALSE),AL_NUM_ARB,2,FALSE),VLOOKUP(VLOOKUP($C$141,Zone_pta,32,FALSE),AL_NUM_ARB,4,FALSE))))","v":{"$error":"#N/A"}},{"$f":"IF(OR(VLOOKUP($C$141,Zone_pta,32,FALSE)=\"\",VLOOKUP($C$141,Zone_pta,32,FALSE)=\"X\"),\"\",IF($E$141<>\"\",\"\",VLOOKUP(VLOOKUP($C$141,Zone_pta,32,FALSE),AL_NUM_ARB,6,FALSE)))","v":{"$error":"#N/A"}},28,{"$f":"IF(OR(VLOOKUP($I$141,Zone_pta,32,FALSE)=\"\",VLOOKUP($I$141,Zone_pta,32,FALSE)=\"X\"),\"\",IF($I$141=\"\",\"\",VLOOKUP($I$141,Zone_pta,32,FALSE)))","v":{"$error":"#N/A"}},{"$f":"IF(OR(VLOOKUP($I$141,Zone_pta,32,FALSE)=\"\",VLOOKUP($I$141,Zone_pta,32,FALSE)=\"X\"),\"\",VLOOKUP(VLOOKUP($I$141,Zone_pta,32,FALSE),AL_NUM_ARB,2,FALSE))","v":{"$error":"#N/A"}},{"$f":"IF(OR(VLOOKUP($I$141,Zone_pta,32,FALSE)=\"\",VLOOKUP($I$141,Zone_pta,32,FALSE)=\"X\"),\"\",IF($I$141=\"\",\"\",IF($K$141<>\"\",VLOOKUP($K$141,Zone_pta,32,FALSE),\"\")))","v":{"$error":"#N/A"}},{"$f":"IF(H171=\"*\",\"\",IF(OR(VLOOKUP($I$72,Zone_pta,$M171,FALSE)=\"\",VLOOKUP($I$72,Zone_pta,$M171,FALSE)=\"X\"),\"\",IF($I$72=\"\",\"\",IF($K$3<>\"\",VLOOKUP(VLOOKUP($K$3,Zone_pta,$M171,FALSE),AL_NUM_ARB,2,FALSE),VLOOKUP(VLOOKUP($I$72,Zone_pta,$M171,FALSE),AL_NUM_ARB,4,FALSE)))))","v":{"$error":"#N/A"}},{"$f":"IF(OR(VLOOKUP($I$141,Zone_pta,32,FALSE)=\"\",VLOOKUP($I$141,Zone_pta,32,FALSE)=\"X\"),\"\",IF($K$141<>\"\",\"\",VLOOKUP(VLOOKUP($I$141,Zone_pta,32,FALSE),AL_NUM_ARB,6,FALSE)))","v":{"$error":"#N/A"}},32]
[29,{"$f":"IF(OR(VLOOKUP($C$141,Zone_pta,33,FALSE)=\"\",VLOOKUP($C$141,Zone_pta,33,FALSE)=\"X\"),\"\",IF($C$141=\"\",\"\",VLOOKUP($C$141,Zone_pta,33,FALSE)))","v":{"$error":"#N/A"}},{"$f":"IF(OR(VLOOKUP($C$141,Zone_pta,33,FALSE)=\"\",VLOOKUP($C$141,Zone_pta,33,FALSE)=\"X\"),\"\",VLOOKUP(VLOOKUP($C$141,Zone_pta,33,FALSE),AL_NUM_ARB,2,FALSE))","v":{"$error":"#N/A"}},{"$f":"IF(OR(VLOOKUP($C$141,Zone_pta,33,FALSE)=\"\",VLOOKUP($C$141,Zone_pta,33,FALSE)=\"X\"),\"\",IF($C$141=\"\",\"\",IF($E$141<>\"\",VLOOKUP($E$141,Zone_pta,33,FALSE),\"\")))","v":{"$error":"#N/A"}},{"$f":"IF(OR(VLOOKUP($C$141,Zone_pta,33,FALSE)=\"\",VLOOKUP($C$141,Zone_pta,33,FALSE)=\"X\"),\"\",IF($C$141=\"\",\"\",IF($E$141<>\"\",VLOOKUP(VLOOKUP($E$141,Zone_pta,33,FALSE),AL_NUM_ARB,2,FALSE),VLOOKUP(VLOOKUP($C$141,Zone_pta,33,FALSE),AL_NUM_ARB,4,FALSE))))","v":{"$error":"#N/A"}},{"$f":"IF(OR(VLOOKUP($C$141,Zone_pta,33,FALSE)=\"\",VLOOKUP($C$141,Zone_pta,33,FALSE)=\"X\"),\"\",IF($E$141<>\"\",\"\",VLOOKUP(VLOOKUP($C$141,Zone_pta,33,FALSE),AL_NUM_ARB,6,FALSE)))","v":{"$error":"#N/A"}},29,{"$f":"IF(OR(VLOOKUP($I$141,Zone_pta,33,FALSE)=\"\",VLOOKUP($I$141,Zone_pta,33,FALSE)=\"X\"),\"\",IF($I$141=\"\",\"\",VLOOKUP($I$141,Zone_pta,33,FALSE)))","v":{"$error":"#N/A"}},{"$f":"IF(OR(VLOOKUP($I$141,Zone_pta,33,FALSE)=\"\",VLOOKUP($I$141,Zone_pta,33,FALSE)=\"X\"),\"\",VLOOKUP(VLOOKUP($I$141,Zone_pta,33,FALSE),AL_NUM_ARB,2,FALSE))","v":{"$error":"#N/A"}},{"$f":"IF(OR(VLOOKUP($I$141,Zone_pta,33,FALSE)=\"\",VLOOKUP($I$141,Zone_pta,33,FALSE)=\"X\"),\"\",IF($I$141=\"\",\"\",IF($K$141<>\"\",VLOOKUP($K$141,Zone_pta,33,FALSE),\"\")))","v":{"$error":"#N/A"}},{"$error":"#N/A"},{"$f":"IF(OR(VLOOKUP($I$141,Zone_pta,33,FALSE)=\"\",VLOOKUP($I$141,Zone_pta,33,FALSE)=\"X\"),\"\",IF($K$141<>\"\",\"\",VLOOKUP(VLOOKUP($I$141,Zone_pta,33,FALSE),AL_NUM_ARB,6,FALSE)))","v":{"$error":"#N/A"}},33]
[30,{"$f":"IF(OR(VLOOKUP($C$141,Zone_pta,34,FALSE)=\"\",VLOOKUP($C$141,Zone_pta,34,FALSE)=\"X\"),\"\",IF($C$141=\"\",\"\",VLOOKUP($C$141,Zone_pta,34,FALSE)))","v":{"$error":"#N/A"}},{"$f":"IF(OR(VLOOKUP($C$141,Zone_pta,34,FALSE)=\"\",VLOOKUP($C$141,Zone_pta,34,FALSE)=\"X\"),\"\",VLOOKUP(VLOOKUP($C$141,Zone_pta,34,FALSE),AL_NUM_ARB,2,FALSE))","v":{"$error":"#N/A"}},{"$f":"IF(OR(VLOOKUP($C$141,Zone_pta,34,FALSE)=\"\",VLOOKUP($C$141,Zone_pta,34,FALSE)=\"X\"),\"\",IF($C$141=\"\",\"\",IF($E$141<>\"\",VLOOKUP($E$141,Zone_pta,34,FALSE),\"\")))","v":{"$error":"#N/A"}},{"$f":"IF(OR(VLOOKUP($C$141,Zone_pta,34,FALSE)=\"\",VLOOKUP($C$141,Zone_pta,34,FALSE)=\"X\"),\"\",IF($C$141=\"\",\"\",IF($E$141<>\"\",VLOOKUP(VLOOKUP($E$141,Zone_pta,34,FALSE),AL_NUM_ARB,2,FALSE),VLOOKUP(VLOOKUP($C$141,Zone_pta,34,FALSE),AL_NUM_ARB,4,FALSE))))","v":{"$error":"#N/A"}},{"$f":"IF(OR(VLOOKUP($C$141,Zone_pta,34,FALSE)=\"\",VLOOKUP($C$141,Zone_pta,34,FALSE)=\"X\"),\"\",IF($E$141<>\"\",\"\",VLOOKUP(VLOOKUP($C$141,Zone_pta,34,FALSE),AL_NUM_ARB,6,FALSE)))","v":{"$error":"#N/A"}},30,{"$f":"IF(OR(VLOOKUP($I$141,Zone_pta,34,FALSE)=\"\",VLOOKUP($I$141,Zone_pta,34,FALSE)=\"X\"),\"\",IF($I$141=\"\",\"\",VLOOKUP($I$141,Zone_pta,34,FALSE)))","v":{"$error":"#N/A"}},{"$f":"IF(OR(VLOOKUP($I$141,Zone_pta,34,FALSE)=\"\",VLOOKUP($I$141,Zone_pta,34,FALSE)=\"X\"),\"\",VLOOKUP(VLOOKUP($I$141,Zone_pta,34,FALSE),AL_NUM_ARB,2,FALSE))","v":{"$error":"#N/A"}},{"$f":"IF(OR(VLOOKUP($I$141,Zone_pta,34,FALSE)=\"\",VLOOKUP($I$141,Zone_pta,34,FALSE)=\"X\"),\"\",IF($I$141=\"\",\"\",IF($K$141<>\"\",VLOOKUP($K$141,Zone_pta,34,FALSE),\"\")))","v":{"$error":"#N/A"}},{"$error":"#N/A"},{"$f":"IF(OR(VLOOKUP($I$141,Zone_pta,34,FALSE)=\"\",VLOOKUP($I$141,Zone_pta,34,FALSE)=\"X\"),\"\",IF($K$141<>\"\",\"\",VLOOKUP(VLOOKUP($I$141,Zone_pta,34,FALSE),AL_NUM_ARB,6,FALSE)))","v":{"$error":"#N/A"}},34]
[31,{"$f":"IF(OR(VLOOKUP($C$141,Zone_pta,35,FALSE)=\"\",VLOOKUP($C$141,Zone_pta,35,FALSE)=\"X\"),\"\",IF($C$141=\"\",\"\",VLOOKUP($C$141,Zone_pta,35,FALSE)))","v":{"$error":"#N/A"}},{"$f":"IF(OR(VLOOKUP($C$141,Zone_pta,35,FALSE)=\"\",VLOOKUP($C$141,Zone_pta,35,FALSE)=\"X\"),\"\",VLOOKUP(VLOOKUP($C$141,Zone_pta,35,FALSE),AL_NUM_ARB,2,FALSE))","v":{"$error":"#N/A"}},{"$f":"IF(OR(VLOOKUP($C$141,Zone_pta,35,FALSE)=\"\",VLOOKUP($C$141,Zone_pta,35,FALSE)=\"X\"),\"\",IF($C$141=\"\",\"\",IF($E$141<>\"\",VLOOKUP($E$141,Zone_pta,35,FALSE),\"\")))","v":{"$error":"#N/A"}},{"$f":"IF(OR(VLOOKUP($C$141,Zone_pta,35,FALSE)=\"\",VLOOKUP($C$141,Zone_pta,35,FALSE)=\"X\"),\"\",IF($C$141=\"\",\"\",IF($E$141<>\"\",VLOOKUP(VLOOKUP($E$141,Zone_pta,35,FALSE),AL_NUM_ARB,2,FALSE),VLOOKUP(VLOOKUP($C$141,Zone_pta,35,FALSE),AL_NUM_ARB,4,FALSE))))","v":{"$error":"#N/A"}},{"$f":"IF(OR(VLOOKUP($C$141,Zone_pta,35,FALSE)=\"\",VLOOKUP($C$141,Zone_pta,35,FALSE)=\"X\"),\"\",IF($E$141<>\"\",\"\",VLOOKUP(VLOOKUP($C$141,Zone_pta,35,FALSE),AL_NUM_ARB,6,FALSE)))","v":{"$error":"#N/A"}},31,{"$f":"IF(OR(VLOOKUP($I$141,Zone_pta,35,FALSE)=\"\",VLOOKUP($I$141,Zone_pta,35,FALSE)=\"X\"),\"\",IF($I$141=\"\",\"\",VLOOKUP($I$141,Zone_pta,35,FALSE)))","v":{"$error":"#N/A"}},{"$f":"IF(OR(VLOOKUP($I$141,Zone_pta,35,FALSE)=\"\",VLOOKUP($I$141,Zone_pta,35,FALSE)=\"X\"),\"\",VLOOKUP(VLOOKUP($I$141,Zone_pta,35,FALSE),AL_NUM_ARB,2,FALSE))","v":{"$error":"#N/A"}},{"$f":"IF(OR(VLOOKUP($I$141,Zone_pta,35,FALSE)=\"\",VLOOKUP($I$141,Zone_pta,35,FALSE)=\"X\"),\"\",IF($I$141=\"\",\"\",IF($K$141<>\"\",VLOOKUP($K$141,Zone_pta,35,FALSE),\"\")))","v":{"$error":"#N/A"}},{"$error":"#N/A"},{"$f":"IF(OR(VLOOKUP($I$141,Zone_pta,35,FALSE)=\"\",VLOOKUP($I$141,Zone_pta,35,FALSE)=\"X\"),\"\",IF($K$141<>\"\",\"\",VLOOKUP(VLOOKUP($I$141,Zone_pta,35,FALSE),AL_NUM_ARB,6,FALSE)))","v":{"$error":"#N/A"}},35]
[32,{"$f":"IF(OR(VLOOKUP($C$141,Zone_pta,36,FALSE)=\"\",VLOOKUP($C$141,Zone_pta,36,FALSE)=\"X\"),\"\",IF($C$141=\"\",\"\",VLOOKUP($C$141,Zone_pta,36,FALSE)))","v":{"$error":"#N/A"}},{"$f":"IF(OR(VLOOKUP($C$141,Zone_pta,36,FALSE)=\"\",VLOOKUP($C$141,Zone_pta,36,FALSE)=\"X\"),\"\",VLOOKUP(VLOOKUP($C$141,Zone_pta,36,FALSE),AL_NUM_ARB,2,FALSE))","v":{"$error":"#N/A"}},{"$f":"IF(OR(VLOOKUP($C$141,Zone_pta,36,FALSE)=\"\",VLOOKUP($C$141,Zone_pta,36,FALSE)=\"X\"),\"\",IF($C$141=\"\",\"\",IF($E$141<>\"\",VLOOKUP($E$141,Zone_pta,36,FALSE),\"\")))","v":{"$error":"#N/A"}},{"$f":"IF(OR(VLOOKUP($C$141,Zone_pta,36,FALSE)=\"\",VLOOKUP($C$141,Zone_pta,36,FALSE)=\"X\"),\"\",IF($C$141=\"\",\"\",IF($E$141<>\"\",VLOOKUP(VLOOKUP($E$141,Zone_pta,36,FALSE),AL_NUM_ARB,2,FALSE),VLOOKUP(VLOOKUP($C$141,Zone_pta,36,FALSE),AL_NUM_ARB,4,FALSE))))","v":{"$error":"#N/A"}},{"$f":"IF(OR(VLOOKUP($C$141,Zone_pta,36,FALSE)=\"\",VLOOKUP($C$141,Zone_pta,36,FALSE)=\"X\"),\"\",IF($E$141<>\"\",\"\",VLOOKUP(VLOOKUP($C$141,Zone_pta,36,FALSE),AL_NUM_ARB,6,FALSE)))","v":{"$error":"#N/A"}},32,{"$f":"IF(OR(VLOOKUP($I$141,Zone_pta,36,FALSE)=\"\",VLOOKUP($I$141,Zone_pta,36,FALSE)=\"X\"),\"\",IF($I$141=\"\",\"\",VLOOKUP($I$141,Zone_pta,36,FALSE)))","v":{"$error":"#N/A"}},{"$f":"IF(OR(VLOOKUP($I$141,Zone_pta,36,FALSE)=\"\",VLOOKUP($I$141,Zone_pta,36,FALSE)=\"X\"),\"\",VLOOKUP(VLOOKUP($I$141,Zone_pta,36,FALSE),AL_NUM_ARB,2,FALSE))","v":{"$error":"#N/A"}},{"$f":"IF(OR(VLOOKUP($I$141,Zone_pta,36,FALSE)=\"\",VLOOKUP($I$141,Zone_pta,36,FALSE)=\"X\"),\"\",IF($I$141=\"\",\"\",IF($K$141<>\"\",VLOOKUP($K$141,Zone_pta,36,FALSE),\"\")))","v":{"$error":"#N/A"}},{"$error":"#N/A"},{"$f":"IF(OR(VLOOKUP($I$141,Zone_pta,36,FALSE)=\"\",VLOOKUP($I$141,Zone_pta,36,FALSE)=\"X\"),\"\",IF($K$141<>\"\",\"\",VLOOKUP(VLOOKUP($I$141,Zone_pta,36,FALSE),AL_NUM_ARB,6,FALSE)))","v":{"$error":"#N/A"}},36]
[{"$f":"A62","v":"R1"},{"$f":"IF(OR(VLOOKUP($C$141,Zone_pta,37,FALSE)=\"\",VLOOKUP($C$141,Zone_pta,37,FALSE)=\"X\"),\"\",IF($C$141=\"\",\"\",VLOOKUP($C$141,Zone_pta,37,FALSE)))","v":{"$error":"#N/A"}},{"$f":"IF(OR(VLOOKUP($C$141,Zone_pta,37,FALSE)=\"\",VLOOKUP($C$141,Zone_pta,37,FALSE)=\"X\"),\"\",VLOOKUP(VLOOKUP($C$141,Zone_pta,37,FALSE),AL_NUM_ARB,2,FALSE))","v":{"$error":"#N/A"}},{"$f":"IF(OR(VLOOKUP($C$141,Zone_pta,37,FALSE)=\"\",VLOOKUP($C$141,Zone_pta,37,FALSE)=\"X\"),\"\",IF($C$141=\"\",\"\",IF($E$141<>\"\",VLOOKUP($E$141,Zone_pta,37,FALSE),\"\")))","v":{"$error":"#N/A"}},{"$f":"IF(OR(VLOOKUP($C$141,Zone_pta,37,FALSE)=\"\",VLOOKUP($C$141,Zone_pta,37,FALSE)=\"X\"),\"\",IF($C$141=\"\",\"\",IF($E$141<>\"\",VLOOKUP(VLOOKUP($E$141,Zone_pta,37,FALSE),AL_NUM_ARB,2,FALSE),VLOOKUP(VLOOKUP($C$141,Zone_pta,37,FALSE),AL_NUM_ARB,4,FALSE))))","v":{"$error":"#N/A"}},{"$f":"IF(OR(VLOOKUP($C$141,Zone_pta,37,FALSE)=\"\",VLOOKUP($C$141,Zone_pta,37,FALSE)=\"X\"),\"\",IF($E$141<>\"\",\"\",VLOOKUP(VLOOKUP($C$141,Zone_pta,37,FALSE),AL_NUM_ARB,6,FALSE)))","v":{"$error":"#N/A"}},{"$f":"A176","v":"R1"},{"$f":"IF(OR(VLOOKUP($I$141,Zone_pta,37,FALSE)=\"\",VLOOKUP($I$141,Zone_pta,37,FALSE)=\"X\"),\"\",IF($I$141=\"\",\"\",VLOOKUP($I$141,Zone_pta,37,FALSE)))","v":{"$error":"#N/A"}},{"$f":"IF(OR(VLOOKUP($I$141,Zone_pta,37,FALSE)=\"\",VLOOKUP($I$141,Zone_pta,37,FALSE)=\"X\"),\"\",VLOOKUP(VLOOKUP($I$141,Zone_pta,37,FALSE),AL_NUM_ARB,2,FALSE))","v":{"$error":"#N/A"}},{"$f":"IF(OR(VLOOKUP($I$141,Zone_pta,37,FALSE)=\"\",VLOOKUP($I$141,Zone_pta,37,FALSE)=\"X\"),\"\",IF($I$141=\"\",\"\",IF($K$141<>\"\",VLOOKUP($K$141,Zone_pta,37,FALSE),\"\")))","v":{"$error":"#N/A"}},{"$error":"#N/A"},{"$f":"IF(OR(VLOOKUP($I$141,Zone_pta,37,FALSE)=\"\",VLOOKUP($I$141,Zone_pta,37,FALSE)=\"X\"),\"\",IF($K$141<>\"\",\"\",VLOOKUP(VLOOKUP($I$141,Zone_pta,37,FALSE),AL_NUM_ARB,6,FALSE)))","v":{"$error":"#N/A"}},61]
[{"$f":"A63","v":"R2"},{"$f":"IF(OR(VLOOKUP($C$141,Zone_pta,38,FALSE)=\"\",VLOOKUP($C$141,Zone_pta,38,FALSE)=\"X\"),\"\",IF($C$141=\"\",\"\",VLOOKUP($C$141,Zone_pta,38,FALSE)))","v":{"$error":"#N/A"}},{"$f":"IF(OR(VLOOKUP($C$141,Zone_pta,38,FALSE)=\"\",VLOOKUP($C$141,Zone_pta,38,FALSE)=\"X\"),\"\",VLOOKUP(VLOOKUP($C$141,Zone_pta,38,FALSE),AL_NUM_ARB,2,FALSE))","v":{"$error":"#N/A"}},{"$f":"IF(OR(VLOOKUP($C$141,Zone_pta,38,FALSE)=\"\",VLOOKUP($C$141,Zone_pta,38,FALSE)=\"X\"),\"\",IF($C$141=\"\",\"\",IF($E$141<>\"\",VLOOKUP($E$141,Zone_pta,38,FALSE),\"\")))","v":{"$error":"#N/A"}},{"$f":"IF(OR(VLOOKUP($C$141,Zone_pta,38,FALSE)=\"\",VLOOKUP($C$141,Zone_pta,38,FALSE)=\"X\"),\"\",IF($C$141=\"\",\"\",IF($E$141<>\"\",VLOOKUP(VLOOKUP($E$141,Zone_pta,38,FALSE),AL_NUM_ARB,2,FALSE),VLOOKUP(VLOOKUP($C$141,Zone_pta,38,FALSE),AL_NUM_ARB,4,FALSE))))","v":{"$error":"#N/A"}},{"$f":"IF(OR(VLOOKUP($C$141,Zone_pta,38,FALSE)=\"\",VLOOKUP($C$141,Zone_pta,38,FALSE)=\"X\"),\"\",IF($E$141<>\"\",\"\",VLOOKUP(VLOOKUP($C$141,Zone_pta,38,FALSE),AL_NUM_ARB,6,FALSE)))","v":{"$error":"#N/A"}},{"$f":"A177","v":"R2"},{"$f":"IF(OR(VLOOKUP($I$141,Zone_pta,38,FALSE)=\"\",VLOOKUP($I$141,Zone_pta,38,FALSE)=\"X\"),\"\",IF($I$141=\"\",\"\",VLOOKUP($I$141,Zone_pta,38,FALSE)))","v":{"$error":"#N/A"}},{"$f":"IF(OR(VLOOKUP($I$141,Zone_pta,38,FALSE)=\"\",VLOOKUP($I$141,Zone_pta,38,FALSE)=\"X\"),\"\",VLOOKUP(VLOOKUP($I$141,Zone_pta,38,FALSE),AL_NUM_ARB,2,FALSE))","v":{"$error":"#N/A"}},{"$f":"IF(OR(VLOOKUP($I$141,Zone_pta,38,FALSE)=\"\",VLOOKUP($I$141,Zone_pta,38,FALSE)=\"X\"),\"\",IF($I$141=\"\",\"\",IF($K$141<>\"\",VLOOKUP($K$141,Zone_pta,38,FALSE),\"\")))","v":{"$error":"#N/A"}},{"$error":"#N/A"},{"$f":"IF(OR(VLOOKUP($I$141,Zone_pta,38,FALSE)=\"\",VLOOKUP($I$141,Zone_pta,38,FALSE)=\"X\"),\"\",IF($K$141<>\"\",\"\",VLOOKUP(VLOOKUP($I$141,Zone_pta,38,FALSE),AL_NUM_ARB,6,FALSE)))","v":{"$error":"#N/A"}},62]
["R3",{"$f":"IF(OR(VLOOKUP($C$141,Zone_pta,39,FALSE)=\"\",VLOOKUP($C$141,Zone_pta,39,FALSE)=\"X\"),\"\",IF($C$141=\"\",\"\",VLOOKUP($C$141,Zone_pta,39,FALSE)))","v":{"$error":"#N/A"}},{"$f":"IF(OR(VLOOKUP($C$141,Zone_pta,39,FALSE)=\"\",VLOOKUP($C$141,Zone_pta,39,FALSE)=\"X\"),\"\",VLOOKUP(VLOOKUP($C$141,Zone_pta,39,FALSE),AL_NUM_ARB,2,FALSE))","v":{"$error":"#N/A"}},{"$f":"IF(OR(VLOOKUP($C$141,Zone_pta,39,FALSE)=\"\",VLOOKUP($C$141,Zone_pta,39,FALSE)=\"X\"),\"\",IF($C$141=\"\",\"\",IF($E$141<>\"\",VLOOKUP($E$141,Zone_pta,39,FALSE),\"\")))","v":{"$error":"#N/A"}},{"$f":"IF(OR(VLOOKUP($C$141,Zone_pta,39,FALSE)=\"\",VLOOKUP($C$141,Zone_pta,39,FALSE)=\"X\"),\"\",IF($C$141=\"\",\"\",IF($E$141<>\"\",VLOOKUP(VLOOKUP($E$141,Zone_pta,39,FALSE),AL_NUM_ARB,2,FALSE),VLOOKUP(VLOOKUP($C$141,Zone_pta,39,FALSE),AL_NUM_ARB,4,FALSE))))","v":{"$error":"#N/A"}},{"$f":"IF(OR(VLOOKUP($C$141,Zone_pta,39,FALSE)=\"\",VLOOKUP($C$141,Zone_pta,39,FALSE)=\"X\"),\"\",IF($E$141<>\"\",\"\",VLOOKUP(VLOOKUP($C$141,Zone_pta,39,FALSE),AL_NUM_ARB,6,FALSE)))","v":{"$error":"#N/A"}},"R3",{"$f":"IF(OR(VLOOKUP($I$141,Zone_pta,39,FALSE)=\"\",VLOOKUP($I$141,Zone_pta,39,FALSE)=\"X\"),\"\",IF($I$141=\"\",\"\",VLOOKUP($I$141,Zone_pta,39,FALSE)))","v":{"$error":"#N/A"}},{"$f":"IF(OR(VLOOKUP($I$141,Zone_pta,39,FALSE)=\"\",VLOOKUP($I$141,Zone_pta,39,FALSE)=\"X\"),\"\",VLOOKUP(VLOOKUP($I$141,Zone_pta,39,FALSE),AL_NUM_ARB,2,FALSE))","v":{"$error":"#N/A"}},{"$f":"IF(OR(VLOOKUP($I$141,Zone_pta,39,FALSE)=\"\",VLOOKUP($I$141,Zone_pta,39,FALSE)=\"X\"),\"\",IF($I$141=\"\",\"\",IF($K$141<>\"\",VLOOKUP($K$141,Zone_pta,39,FALSE),\"\")))","v":{"$error":"#N/A"}},{"$error":"#N/A"},{"$f":"IF(OR(VLOOKUP($I$141,Zone_pta,39,FALSE)=\"\",VLOOKUP($I$141,Zone_pta,39,FALSE)=\"X\"),\"\",IF($K$141<>\"\",\"\",VLOOKUP(VLOOKUP($I$141,Zone_pta,39,FALSE),AL_NUM_ARB,6,FALSE)))","v":{"$error":"#N/A"}},63]
["R4",{"$f":"IF(OR(VLOOKUP($C$141,Zone_pta,40,FALSE)=\"\",VLOOKUP($C$141,Zone_pta,40,FALSE)=\"X\"),\"\",IF($C$141=\"\",\"\",VLOOKUP($C$141,Zone_pta,40,FALSE)))","v":{"$error":"#N/A"}},{"$f":"IF(OR(VLOOKUP($C$141,Zone_pta,40,FALSE)=\"\",VLOOKUP($C$141,Zone_pta,40,FALSE)=\"X\"),\"\",VLOOKUP(VLOOKUP($C$141,Zone_pta,40,FALSE),AL_NUM_ARB,2,FALSE))","v":{"$error":"#N/A"}},{"$f":"IF(OR(VLOOKUP($C$141,Zone_pta,40,FALSE)=\"\",VLOOKUP($C$141,Zone_pta,40,FALSE)=\"X\"),\"\",IF($C$141=\"\",\"\",IF($E$141<>\"\",VLOOKUP($E$141,Zone_pta,40,FALSE),\"\")))","v":{"$error":"#N/A"}},{"$f":"IF(OR(VLOOKUP($C$141,Zone_pta,40,FALSE)=\"\",VLOOKUP($C$141,Zone_pta,40,FALSE)=\"X\"),\"\",IF($C$141=\"\",\"\",IF($E$141<>\"\",VLOOKUP(VLOOKUP($E$141,Zone_pta,40,FALSE),AL_NUM_ARB,2,FALSE),VLOOKUP(VLOOKUP($C$141,Zone_pta,40,FALSE),AL_NUM_ARB,4,FALSE))))","v":{"$error":"#N/A"}},{"$f":"IF(OR(VLOOKUP($C$141,Zone_pta,40,FALSE)=\"\",VLOOKUP($C$141,Zone_pta,40,FALSE)=\"X\"),\"\",IF($E$141<>\"\",\"\",VLOOKUP(VLOOKUP($C$141,Zone_pta,40,FALSE),AL_NUM_ARB,6,FALSE)))","v":{"$error":"#N/A"}},"R4",{"$f":"IF(OR(VLOOKUP($I$141,Zone_pta,40,FALSE)=\"\",VLOOKUP($I$141,Zone_pta,40,FALSE)=\"X\"),\"\",IF($I$141=\"\",\"\",VLOOKUP($I$141,Zone_pta,40,FALSE)))","v":{"$error":"#N/A"}},{"$f":"IF(OR(VLOOKUP($I$141,Zone_pta,40,FALSE)=\"\",VLOOKUP($I$141,Zone_pta,40,FALSE)=\"X\"),\"\",VLOOKUP(VLOOKUP($I$141,Zone_pta,40,FALSE),AL_NUM_ARB,2,FALSE))","v":{"$error":"#N/A"}},{"$f":"IF(OR(VLOOKUP($I$141,Zone_pta,40,FALSE)=\"\",VLOOKUP($I$141,Zone_pta,40,FALSE)=\"X\"),\"\",IF($I$141=\"\",\"\",IF($K$141<>\"\",VLOOKUP($K$141,Zone_pta,40,FALSE),\"\")))","v":{"$error":"#N/A"}},{"$error":"#N/A"},{"$f":"IF(OR(VLOOKUP($I$141,Zone_pta,40,FALSE)=\"\",VLOOKUP($I$141,Zone_pta,40,FALSE)=\"X\"),\"\",IF($K$141<>\"\",\"\",VLOOKUP(VLOOKUP($I$141,Zone_pta,40,FALSE),AL_NUM_ARB,6,FALSE)))","v":{"$error":"#N/A"}},64]
["R5",{"$f":"IF(OR(VLOOKUP($C$141,Zone_pta,41,FALSE)=\"\",VLOOKUP($C$141,Zone_pta,41,FALSE)=\"X\"),\"\",IF($C$141=\"\",\"\",VLOOKUP($C$141,Zone_pta,41,FALSE)))","v":{"$error":"#N/A"}},{"$f":"IF(OR(VLOOKUP($C$141,Zone_pta,41,FALSE)=\"\",VLOOKUP($C$141,Zone_pta,41,FALSE)=\"X\"),\"\",VLOOKUP(VLOOKUP($C$141,Zone_pta,41,FALSE),AL_NUM_ARB,2,FALSE))","v":{"$error":"#N/A"}},{"$f":"IF(OR(VLOOKUP($C$141,Zone_pta,41,FALSE)=\"\",VLOOKUP($C$141,Zone_pta,41,FALSE)=\"X\"),\"\",IF($C$141=\"\",\"\",IF($E$141<>\"\",VLOOKUP($E$141,Zone_pta,41,FALSE),\"\")))","v":{"$error":"#N/A"}},{"$f":"IF(OR(VLOOKUP($C$141,Zone_pta,41,FALSE)=\"\",VLOOKUP($C$141,Zone_pta,41,FALSE)=\"X\"),\"\",IF($C$141=\"\",\"\",IF($E$141<>\"\",VLOOKUP(VLOOKUP($E$141,Zone_pta,41,FALSE),AL_NUM_ARB,2,FALSE),VLOOKUP(VLOOKUP($C$141,Zone_pta,41,FALSE),AL_NUM_ARB,4,FALSE))))","v":{"$error":"#N/A"}},{"$f":"IF(OR(VLOOKUP($C$141,Zone_pta,41,FALSE)=\"\",VLOOKUP($C$141,Zone_pta,41,FALSE)=\"X\"),\"\",IF($E$141<>\"\",\"\",VLOOKUP(VLOOKUP($C$141,Zone_pta,41,FALSE),AL_NUM_ARB,6,FALSE)))","v":{"$error":"#N/A"}},"R5",{"$f":"IF(OR(VLOOKUP($I$141,Zone_pta,41,FALSE)=\"\",VLOOKUP($I$141,Zone_pta,41,FALSE)=\"X\"),\"\",IF($I$141=\"\",\"\",VLOOKUP($I$141,Zone_pta,41,FALSE)))","v":{"$error":"#N/A"}},{"$f":"IF(OR(VLOOKUP($I$141,Zone_pta,41,FALSE)=\"\",VLOOKUP($I$141,Zone_pta,41,FALSE)=\"X\"),\"\",VLOOKUP(VLOOKUP($I$141,Zone_pta,41,FALSE),AL_NUM_ARB,2,FALSE))","v":{"$error":"#N/A"}},{"$f":"IF(OR(VLOOKUP($I$141,Zone_pta,41,FALSE)=\"\",VLOOKUP($I$141,Zone_pta,41,FALSE)=\"X\"),\"\",IF($I$141=\"\",\"\",IF($K$141<>\"\",VLOOKUP($K$141,Zone_pta,41,FALSE),\"\")))","v":{"$error":"#N/A"}},{"$error":"#N/A"},{"$f":"IF(OR(VLOOKUP($I$141,Zone_pta,41,FALSE)=\"\",VLOOKUP($I$141,Zone_pta,41,FALSE)=\"X\"),\"\",IF($K$141<>\"\",\"\",VLOOKUP(VLOOKUP($I$141,Zone_pta,41,FALSE),AL_NUM_ARB,6,FALSE)))","v":{"$error":"#N/A"}},65]
["R6",{"$f":"IF(OR(VLOOKUP($C$141,Zone_pta,42,FALSE)=\"\",VLOOKUP($C$141,Zone_pta,42,FALSE)=\"X\"),\"\",IF($C$141=\"\",\"\",VLOOKUP($C$141,Zone_pta,42,FALSE)))","v":{"$error":"#N/A"}},{"$f":"IF(OR(VLOOKUP($C$141,Zone_pta,42,FALSE)=\"\",VLOOKUP($C$141,Zone_pta,42,FALSE)=\"X\"),\"\",VLOOKUP(VLOOKUP($C$141,Zone_pta,42,FALSE),AL_NUM_ARB,2,FALSE))","v":{"$error":"#N/A"}},{"$f":"IF(OR(VLOOKUP($C$141,Zone_pta,42,FALSE)=\"\",VLOOKUP($C$141,Zone_pta,42,FALSE)=\"X\"),\"\",IF($C$141=\"\",\"\",IF($E$141<>\"\",VLOOKUP($E$141,Zone_pta,42,FALSE),\"\")))","v":{"$error":"#N/A"}},{"$f":"IF(OR(VLOOKUP($C$141,Zone_pta,42,FALSE)=\"\",VLOOKUP($C$141,Zone_pta,42,FALSE)=\"X\"),\"\",IF($C$141=\"\",\"\",IF($E$141<>\"\",VLOOKUP(VLOOKUP($E$141,Zone_pta,42,FALSE),AL_NUM_ARB,2,FALSE),VLOOKUP(VLOOKUP($C$141,Zone_pta,42,FALSE),AL_NUM_ARB,4,FALSE))))","v":{"$error":"#N/A"}},{"$f":"IF(OR(VLOOKUP($C$141,Zone_pta,42,FALSE)=\"\",VLOOKUP($C$141,Zone_pta,42,FALSE)=\"X\"),\"\",IF($E$141<>\"\",\"\",VLOOKUP(VLOOKUP($C$141,Zone_pta,42,FALSE),AL_NUM_ARB,6,FALSE)))","v":{"$error":"#N/A"}},"R6",{"$f":"IF(OR(VLOOKUP($I$141,Zone_pta,42,FALSE)=\"\",VLOOKUP($I$141,Zone_pta,42,FALSE)=\"X\"),\"\",IF($I$141=\"\",\"\",VLOOKUP($I$141,Zone_pta,42,FALSE)))","v":{"$error":"#N/A"}},{"$f":"IF(OR(VLOOKUP($I$141,Zone_pta,42,FALSE)=\"\",VLOOKUP($I$141,Zone_pta,42,FALSE)=\"X\"),\"\",VLOOKUP(VLOOKUP($I$141,Zone_pta,42,FALSE),AL_NUM_ARB,2,FALSE))","v":{"$error":"#N/A"}},{"$f":"IF(OR(VLOOKUP($I$141,Zone_pta,42,FALSE)=\"\",VLOOKUP($I$141,Zone_pta,42,FALSE)=\"X\"),\"\",IF($I$141=\"\",\"\",IF($K$141<>\"\",VLOOKUP($K$141,Zone_pta,42,FALSE),\"\")))","v":{"$error":"#N/A"}},{"$error":"#N/A"},{"$f":"IF(OR(VLOOKUP($I$141,Zone_pta,42,FALSE)=\"\",VLOOKUP($I$141,Zone_pta,42,FALSE)=\"X\"),\"\",IF($K$141<>\"\",\"\",VLOOKUP(VLOOKUP($I$141,Zone_pta,42,FALSE),AL_NUM_ARB,6,FALSE)))","v":{"$error":"#N/A"}},66]
["R7",{"$f":"IF(OR(VLOOKUP($C$141,Zone_pta,42,FALSE)=\"\",VLOOKUP($C$141,Zone_pta,42,FALSE)=\"X\"),\"\",IF($C$141=\"\",\"\",VLOOKUP($C$141,Zone_pta,42,FALSE)))","v":{"$error":"#N/A"}},{"$f":"IF(OR(VLOOKUP($C$141,Zone_pta,42,FALSE)=\"\",VLOOKUP($C$141,Zone_pta,42,FALSE)=\"X\"),\"\",VLOOKUP(VLOOKUP($C$141,Zone_pta,42,FALSE),AL_NUM_ARB,2,FALSE))","v":{"$error":"#N/A"}},{"$f":"IF(OR(VLOOKUP($C$141,Zone_pta,42,FALSE)=\"\",VLOOKUP($C$141,Zone_pta,42,FALSE)=\"X\"),\"\",IF($C$141=\"\",\"\",IF($E$141<>\"\",VLOOKUP($E$141,Zone_pta,42,FALSE),\"\")))","v":{"$error":"#N/A"}},{"$f":"IF(OR(VLOOKUP($C$141,Zone_pta,42,FALSE)=\"\",VLOOKUP($C$141,Zone_pta,42,FALSE)=\"X\"),\"\",IF($C$141=\"\",\"\",IF($E$141<>\"\",VLOOKUP(VLOOKUP($E$141,Zone_pta,42,FALSE),AL_NUM_ARB,2,FALSE),VLOOKUP(VLOOKUP($C$141,Zone_pta,42,FALSE),AL_NUM_ARB,4,FALSE))))","v":{"$error":"#N/A"}},{"$f":"IF(OR(VLOOKUP($C$141,Zone_pta,42,FALSE)=\"\",VLOOKUP($C$141,Zone_pta,42,FALSE)=\"X\"),\"\",IF($E$141<>\"\",\"\",VLOOKUP(VLOOKUP($C$141,Zone_pta,42,FALSE),AL_NUM_ARB,6,FALSE)))","v":{"$error":"#N/A"}},"R7",{"$f":"IF(OR(VLOOKUP($I$141,Zone_pta,42,FALSE)=\"\",VLOOKUP($I$141,Zone_pta,42,FALSE)=\"X\"),\"\",IF($I$141=\"\",\"\",VLOOKUP($I$141,Zone_pta,42,FALSE)))","v":{"$error":"#N/A"}},{"$f":"IF(OR(VLOOKUP($I$141,Zone_pta,42,FALSE)=\"\",VLOOKUP($I$141,Zone_pta,42,FALSE)=\"X\"),\"\",VLOOKUP(VLOOKUP($I$141,Zone_pta,42,FALSE),AL_NUM_ARB,2,FALSE))","v":{"$error":"#N/A"}},{"$f":"IF(OR(VLOOKUP($I$141,Zone_pta,42,FALSE)=\"\",VLOOKUP($I$141,Zone_pta,42,FALSE)=\"X\"),\"\",IF($I$141=\"\",\"\",IF($K$141<>\"\",VLOOKUP($K$141,Zone_pta,42,FALSE),\"\")))","v":{"$error":"#N/A"}},{"$error":"#N/A"},{"$f":"IF(OR(VLOOKUP($I$141,Zone_pta,42,FALSE)=\"\",VLOOKUP($I$141,Zone_pta,42,FALSE)=\"X\"),\"\",IF($K$141<>\"\",\"\",VLOOKUP(VLOOKUP($I$141,Zone_pta,42,FALSE),AL_NUM_ARB,6,FALSE)))","v":{"$error":"#N/A"}},67]
["R8",{"$f":"IF(OR(VLOOKUP($C$141,Zone_pta,42,FALSE)=\"\",VLOOKUP($C$141,Zone_pta,42,FALSE)=\"X\"),\"\",IF($C$141=\"\",\"\",VLOOKUP($C$141,Zone_pta,42,FALSE)))","v":{"$error":"#N/A"}},{"$f":"IF(OR(VLOOKUP($C$141,Zone_pta,42,FALSE)=\"\",VLOOKUP($C$141,Zone_pta,42,FALSE)=\"X\"),\"\",VLOOKUP(VLOOKUP($C$141,Zone_pta,42,FALSE),AL_NUM_ARB,2,FALSE))","v":{"$error":"#N/A"}},{"$f":"IF(OR(VLOOKUP($C$141,Zone_pta,42,FALSE)=\"\",VLOOKUP($C$141,Zone_pta,42,FALSE)=\"X\"),\"\",IF($C$141=\"\",\"\",IF($E$141<>\"\",VLOOKUP($E$141,Zone_pta,42,FALSE),\"\")))","v":{"$error":"#N/A"}},{"$f":"IF(OR(VLOOKUP($C$141,Zone_pta,42,FALSE)=\"\",VLOOKUP($C$141,Zone_pta,42,FALSE)=\"X\"),\"\",IF($C$141=\"\",\"\",IF($E$141<>\"\",VLOOKUP(VLOOKUP($E$141,Zone_pta,42,FALSE),AL_NUM_ARB,2,FALSE),VLOOKUP(VLOOKUP($C$141,Zone_pta,42,FALSE),AL_NUM_ARB,4,FALSE))))","v":{"$error":"#N/A"}},{"$f":"IF(OR(VLOOKUP($C$141,Zone_pta,42,FALSE)=\"\",VLOOKUP($C$141,Zone_pta,42,FALSE)=\"X\"),\"\",IF($E$141<>\"\",\"\",VLOOKUP(VLOOKUP($C$141,Zone_pta,42,FALSE),AL_NUM_ARB,6,FALSE)))","v":{"$error":"#N/A"}},"R8",{"$f":"IF(OR(VLOOKUP($I$141,Zone_pta,42,FALSE)=\"\",VLOOKUP($I$141,Zone_pta,42,FALSE)=\"X\"),\"\",IF($I$141=\"\",\"\",VLOOKUP($I$141,Zone_pta,42,FALSE)))","v":{"$error":"#N/A"}},{"$f":"IF(OR(VLOOKUP($I$141,Zone_pta,42,FALSE)=\"\",VLOOKUP($I$141,Zone_pta,42,FALSE)=\"X\"),\"\",VLOOKUP(VLOOKUP($I$141,Zone_pta,42,FALSE),AL_NUM_ARB,2,FALSE))","v":{"$error":"#N/A"}},{"$f":"IF(OR(VLOOKUP($I$141,Zone_pta,42,FALSE)=\"\",VLOOKUP($I$141,Zone_pta,42,FALSE)=\"X\"),\"\",IF($I$141=\"\",\"\",IF($K$141<>\"\",VLOOKUP($K$141,Zone_pta,42,FALSE),\"\")))","v":{"$error":"#N/A"}},{"$error":"#N/A"},{"$f":"IF(OR(VLOOKUP($I$141,Zone_pta,42,FALSE)=\"\",VLOOKUP($I$141,Zone_pta,42,FALSE)=\"X\"),\"\",IF($K$141<>\"\",\"\",VLOOKUP(VLOOKUP($I$141,Zone_pta,42,FALSE),AL_NUM_ARB,6,FALSE)))","v":{"$error":"#N/A"}},68]
["R9",{"$f":"IF(OR(VLOOKUP($C$141,Zone_pta,42,FALSE)=\"\",VLOOKUP($C$141,Zone_pta,42,FALSE)=\"X\"),\"\",IF($C$141=\"\",\"\",VLOOKUP($C$141,Zone_pta,42,FALSE)))","v":{"$error":"#N/A"}},{"$f":"IF(OR(VLOOKUP($C$141,Zone_pta,42,FALSE)=\"\",VLOOKUP($C$141,Zone_pta,42,FALSE)=\"X\"),\"\",VLOOKUP(VLOOKUP($C$141,Zone_pta,42,FALSE),AL_NUM_ARB,2,FALSE))","v":{"$error":"#N/A"}},{"$f":"IF(OR(VLOOKUP($C$141,Zone_pta,42,FALSE)=\"\",VLOOKUP($C$141,Zone_pta,42,FALSE)=\"X\"),\"\",IF($C$141=\"\",\"\",IF($E$141<>\"\",VLOOKUP($E$141,Zone_pta,42,FALSE),\"\")))","v":{"$error":"#N/A"}},{"$f":"IF(OR(VLOOKUP($C$141,Zone_pta,42,FALSE)=\"\",VLOOKUP($C$141,Zone_pta,42,FALSE)=\"X\"),\"\",IF($C$141=\"\",\"\",IF($E$141<>\"\",VLOOKUP(VLOOKUP($E$141,Zone_pta,42,FALSE),AL_NUM_ARB,2,FALSE),VLOOKUP(VLOOKUP($C$141,Zone_pta,42,FALSE),AL_NUM_ARB,4,FALSE))))","v":{"$error":"#N/A"}},{"$f":"IF(OR(VLOOKUP($C$141,Zone_pta,42,FALSE)=\"\",VLOOKUP($C$141,Zone_pta,42,FALSE)=\"X\"),\"\",IF($E$141<>\"\",\"\",VLOOKUP(VLOOKUP($C$141,Zone_pta,42,FALSE),AL_NUM_ARB,6,FALSE)))","v":{"$error":"#N/A"}},"R9",{"$f":"IF(OR(VLOOKUP($I$141,Zone_pta,42,FALSE)=\"\",VLOOKUP($I$141,Zone_pta,42,FALSE)=\"X\"),\"\",IF($I$141=\"\",\"\",VLOOKUP($I$141,Zone_pta,42,FALSE)))","v":{"$error":"#N/A"}},{"$f":"IF(OR(VLOOKUP($I$141,Zone_pta,42,FALSE)=\"\",VLOOKUP($I$141,Zone_pta,42,FALSE)=\"X\"),\"\",VLOOKUP(VLOOKUP($I$141,Zone_pta,42,FALSE),AL_NUM_ARB,2,FALSE))","v":{"$error":"#N/A"}},{"$f":"IF(OR(VLOOKUP($I$141,Zone_pta,42,FALSE)=\"\",VLOOKUP($I$141,Zone_pta,42,FALSE)=\"X\"),\"\",IF($I$141=\"\",\"\",IF($K$141<>\"\",VLOOKUP($K$141,Zone_pta,42,FALSE),\"\")))","v":{"$error":"#N/A"}},{"$error":"#N/A"},{"$f":"IF(OR(VLOOKUP($I$141,Zone_pta,42,FALSE)=\"\",VLOOKUP($I$141,Zone_pta,42,FALSE)=\"X\"),\"\",IF($K$141<>\"\",\"\",VLOOKUP(VLOOKUP($I$141,Zone_pta,42,FALSE),AL_NUM_ARB,6,FALSE)))","v":{"$error":"#N/A"}},69]
["R10",{"$f":"IF(OR(VLOOKUP($C$141,Zone_pta,42,FALSE)=\"\",VLOOKUP($C$141,Zone_pta,42,FALSE)=\"X\"),\"\",IF($C$141=\"\",\"\",VLOOKUP($C$141,Zone_pta,42,FALSE)))","v":{"$error":"#N/A"}},{"$f":"IF(OR(VLOOKUP($C$141,Zone_pta,42,FALSE)=\"\",VLOOKUP($C$141,Zone_pta,42,FALSE)=\"X\"),\"\",VLOOKUP(VLOOKUP($C$141,Zone_pta,42,FALSE),AL_NUM_ARB,2,FALSE))","v":{"$error":"#N/A"}},{"$f":"IF(OR(VLOOKUP($C$141,Zone_pta,42,FALSE)=\"\",VLOOKUP($C$141,Zone_pta,42,FALSE)=\"X\"),\"\",IF($C$141=\"\",\"\",IF($E$141<>\"\",VLOOKUP($E$141,Zone_pta,42,FALSE),\"\")))","v":{"$error":"#N/A"}},{"$f":"IF(OR(VLOOKUP($C$141,Zone_pta,42,FALSE)=\"\",VLOOKUP($C$141,Zone_pta,42,FALSE)=\"X\"),\"\",IF($C$141=\"\",\"\",IF($E$141<>\"\",VLOOKUP(VLOOKUP($E$141,Zone_pta,42,FALSE),AL_NUM_ARB,2,FALSE),VLOOKUP(VLOOKUP($C$141,Zone_pta,42,FALSE),AL_NUM_ARB,4,FALSE))))","v":{"$error":"#N/A"}},{"$f":"IF(OR(VLOOKUP($C$141,Zone_pta,42,FALSE)=\"\",VLOOKUP($C$141,Zone_pta,42,FALSE)=\"X\"),\"\",IF($E$141<>\"\",\"\",VLOOKUP(VLOOKUP($C$141,Zone_pta,42,FALSE),AL_NUM_ARB,6,FALSE)))","v":{"$error":"#N/A"}},"R10",{"$f":"IF(OR(VLOOKUP($I$141,Zone_pta,42,FALSE)=\"\",VLOOKUP($I$141,Zone_pta,42,FALSE)=\"X\"),\"\",IF($I$141=\"\",\"\",VLOOKUP($I$141,Zone_pta,42,FALSE)))","v":{"$error":"#N/A"}},{"$f":"IF(OR(VLOOKUP($I$141,Zone_pta,42,FALSE)=\"\",VLOOKUP($I$141,Zone_pta,42,FALSE)=\"X\"),\"\",VLOOKUP(VLOOKUP($I$141,Zone_pta,42,FALSE),AL_NUM_ARB,2,FALSE))","v":{"$error":"#N/A"}},{"$f":"IF(OR(VLOOKUP($I$141,Zone_pta,42,FALSE)=\"\",VLOOKUP($I$141,Zone_pta,42,FALSE)=\"X\"),\"\",IF($I$141=\"\",\"\",IF($K$141<>\"\",VLOOKUP($K$141,Zone_pta,42,FALSE),\"\")))","v":{"$error":"#N/A"}},{"$error":"#N/A"},{"$f":"IF(OR(VLOOKUP($I$141,Zone_pta,42,FALSE)=\"\",VLOOKUP($I$141,Zone_pta,42,FALSE)=\"X\"),\"\",IF($K$141<>\"\",\"\",VLOOKUP(VLOOKUP($I$141,Zone_pta,42,FALSE),AL_NUM_ARB,6,FALSE)))","v":{"$error":"#N/A"}},70]

{"sheet":"P.T.A. Indiv.","index":6,"n_rows":52,"n_cols":34,"rows_kept":52,"cut":false,"hidden":false,"merged":[[2,15,2,16],[3,15,3,16],[3,13,3,14],[51,2,51,5],[2,3,2,6],[6,8,7,8],[2,13,2,14],[6,0,7,0],[6,7,7,7],[6,1,7,1],[6,2,7,2],[6,3,7,5],[0,0,0,1],[0,2,0,3],[0,4,0,5],[1,3,1,6],[3,3,3,6],[2,0,3,2]]}
["Masquer 1 ou + lignes, se positionner  sur les lignes à masquer et cliquer sur ",null,"Afficher 1 ou + lignes masquées, se positionner  sur les lignes encadrant les lignes à afficher et cliquer sur ",null,"Afficher toutes les lignes",null,null,null,null,null,null,null,null,"Arbitres","dont Adjoint","Réserve","Réserve ----  CH Appel",33,35,39,null,null,null,null,null,null,null,null,null,{"$f":"PTA!P1","v":1},{"$f":"PTA!S1","v":1},{"$f":"PTA!V1","v":1},57,{"$f":"IF(PTA!BI4=\"\",\"\",\"Salle \"&PTA!BI4)","v":""}]
["Voici votre plan de Travail pour :",null,null,{"$f":"Comp","v":0},null,null,null,{"$f":"IF(I2=\"Equipe\",\"Arbitres\",\"Arbitre\")","v":"Arbitre"},{"$f":"IF(AND(Arbitres!A4>0,Arbitres!D4>0),\"Equipe\",\"Arbitre\")","v":"Arbitre"},null,null,null,null,{"$f":"COUNTIF($C$9:$C$51,\">0\")","v":0},{"$f":"COUNTIF($E$9:$E$51,\"=AD\")","v":0},{"$f":"COUNTIF($C$9:$C$51,\"=RESERVE\")","v":0},{"$f":"COUNTIF($C$9:$C$51,\"=Réserve ----  CH Appel\")","v":0},{"$f":"PTA!EN7","v":57},{"$f":"PTA!EP7","v":59},{"$f":"PTA!EX7","v":67},null,null,null,null,null,"OUI",null,null,null,null,null,null,58,{"$f":"IF(PTA!BJ4=\"\",\"\",\"Salle \"&PTA!BJ4)","v":""}]
[{"$f":"IF(Des_comp=\"Non\",\"Désignation des Parties Finales       non faite\",\"\")","v":""},null,null,{"$f":"Lieu","v":0},null,null,null,{"$f":"IF(ARB=\"\",\"\",VLOOKUP(ARB,NARB,2,FALSE))","v":""},null,null,null,null,null,"Parties à afficher",null,"A partir de",null,null,null,null,null,null,null,null,null,"NON",null,null,null,null,null,null,59,{"$f":"IF(PTA!BK4=\"\",\"\",\"Salle \"&PTA!BK4)","v":""}]
[null,null,null,{"$f":"IF(PTA!A4=\"\",\"\",PTA!A4)","v":""},null,null,null,{"$f":"IF(ARB=\"\",\"\",VLOOKUP(ARB,NARB,4,FALSE))","v":""},null,null,null,null,null,"NON",null,null,null,null,null,null,null,null,null,null,null,null,null,null,null,null,null,null,60,{"$f":"IF(PTA!BL4=\"\",\"\",\"Salle \"&PTA!BL4)","v":""}]
[null,null,null,null,null,null,null,{"$f":"IF(ARB=\"\",\"\",VLOOKUP(ARB,NARB,6,FALSE))","v":""},null,null,null,null,null,null,null,null,null,null,null,null,null,null,null,null,null,null,null,null,null,null,null,null,61,{"$f":"IF(PTA!BM4=\"\",\"\",\"Salle \"&PTA!BM4)","v":""}]
[" "," ",{"$f":"ARB","v":0},null,null,null,null,{"$f":"IF(ARB=\"\",\"\",VLOOKUP(ARB,AL_NUM_EQR,7,FALSE))","v":""},null,null,null,null,null,null,null,null,null,null,null,null,null,null,null,null,null,null,null,null,null,null,null,null,62,{"$f":"IF(PTA!BN4=\"\",\"\",\"Salle \"&PTA!BN4)","v":""}]
["TOUR N°","HEURES","TABLES","OBSERVATIONS",null,null,null,"PARTIES","TABLE JUGE ARBITRAGE",null,null,null,null,null,null,null,null,null,null,8,null,null,{"$f":"VLOOKUP(T7,POT_Spid!A9:BH105,10,FALSE)","v":{"$error":"#N/A"}},null,null,null,null,null,null,null,null,null,63,{"$f":"IF(PTA!BO4=\"\",\"\",\"Salle \"&PTA!BO4)","v":""}]
[null,null,null,null,null,null,null,null,null,null,null,null,null,null,null,null,null,null,null,null,null,null,null,null,null,null,null,null,null,null,null,null,64,{"$f":"IF(PTA!BP4=\"\",\"\",\"Salle \"&PTA!BP4)","v":""}]
[{"$f":"PTA!A8","v":""},{"$f":"IF(OR(PTA!B8=Fin,PTA!B8>Fin,PTA!B8=\"\"),\"\",PTA!B8)","v":""},{"$f":"IF(ARB=\"\",\"\",IF(B9>=Fin,\"\",IF(A9=\"\",\"\",IF(VLOOKUP(ARB&A9,Edarb,2,FALSE)<PTAIV1,VLOOKUP(ARB&A9,Edarb,3,FALSE),IF(VLOOKUP(ARB&A9,Edarb,2,FALSE)<PTAIV2,\"RESERVE\",IF(AND(VLOOKUP(ARB&A9,Edarb,2,FALSE)<PTAIV3,CHAP=\"OUI\",Gest_res=\"OUI\"),\"RESERVE\",IF(AND(VLOOKUP(ARB&A9,Edarb,2,FALSE)<PTAIV3,CHAP=\"OUI\"),\"Chambre Appel\",\"REPOS\")))))))","v":""},{"$f":"IF(E9=\"AD\",\"\",IF(Marq=\"Oui\",IF(AND(E8=\"AD\",C9>0),\"Adjoint de \"&M9,IF(OR(M9=FALSE,M9=\"\"),\"\",IF(M9=\"X\",\"\",\"Avec \"&M9&\" Adj\")))))","v":""},{"$f":"IF(B9<>B10,\"\",IF(B9=B10,IF(AND(C10>0,C10<57),\"AD\",\"\")))","v":""},{"$f":"IF(C9<$AD$1,\"Salle 1\",IF(C9<$AE$1,\"Salle 2\",IF(C9<$AF$1,\"Salle 3\",IF(OR(L9=\"\",L9>66),\"\",VLOOKUP(L9,Tab_res,2,FALSE)))))","v":""},{"$f":"IF(B9>=Fin,\"\",IF(B9=B10,\"AD\",\"\"))","v":""},{"$f":"IF($N$4=\"Oui\",IF(B9>=$P$4,U9,\"\"))","v":false},"Juge arbitre",null,null,{"$f":"IF(Gest_res<>\"oui\",\"\",IF(ARB=\"\",\"\",IF(B9>=Fin,\"\",IF(A9=\"\",\"\",IF(AND(VLOOKUP(ARB&A9,Edarb,2,FALSE)>=PTAIV1,CHAP=\"OUI\"),VLOOKUP(ARB&A9,Edarb,2,FALSE),\"\")))))","v":""},{"$f":"IF(B9=\"\",\"\",IF(OR(C9<1,C9>\"A\"),\"\",IF(AND(G9=\"AD\",C9>0),IF(ISERROR(VLOOKUP(A10,PTA_Alpha,(C9+4),FALSE))=FALSE,VLOOKUP(A10,PTA_Alpha,(C9+4),FALSE)),IF(AND(RIGHT(A9,1)=\"A\",C9>0),IF(ISERROR(VLOOKUP(A8,PTA_Alpha,(C9+4),FALSE))=FALSE,VLOOKUP(A8,PTA_Alpha,(C9+4),FALSE),\"\")))))","v":""},null,null,null,null,null,null,{"$f":"HOUR(B9)&\",\"&MINUTE(B9)","v":{"$error":"#VALUE!"}},{"$f":"IF(ISERROR(W9)=TRUE,\"\",IF(X9<\"A\",\"\",W9&\" - \"&X9&\" / \"&Y9))","v":""},{"$f":"VLOOKUP(T9,POT_Spid!$A$1:$Q$120,1,FALSE)","v":{"$error":"#VALUE!"}},{"$f":"VLOOKUP(T9,POT_Spid!$A$1:$BB$120,$C9+5,FALSE)","v":{"$error":"#VALUE!"}},{"$f":"OFFSET(INDEX(POT_Spid!$A$1:$BB$120,MATCH(T9,POT_Spid!$A$1:$A$120,0),$C9+5),-1,0)","v":{"$error":"#VALUE!"}},{"$f":"OFFSET(INDEX(POT_Spid!$A$1:$BB$120,MATCH(T9,POT_Spid!$A$1:$A$120,0),$C9+5),1,0)","v":{"$error":"#VALUE!"}},null,null,null,null,null,null,null,65,{"$f":"IF(PTA!BQ4=\"\",\"\",\"Salle \"&PTA!BQ4)","v":""}]
[{"$f":"PTA!A9","v":""},{"$f":"IF(OR(PTA!B9=Fin,PTA!B9>Fin,PTA!B9=\"\"),\"\",PTA!B9)","v":""},"","",{"$f":"IF(B10<>B11,\"\",IF(B10=B11,IF(AND(C11>0,C11<57),\"AD\",\"\")))","v":""},"","",{"$f":"IF($N$4=\"Oui\",IF(B10>=$P$4,U10,\"\"))","v":false},{"$f":"Ja","v":0},{"$f":"IF(B10=\"\",0,B10-B9)","v":"00:00:00"},{"$f":"MINUTE(J10)","v":0},{"$f":"IF(Gest_res<>\"oui\",\"\",IF(ARB=\"\",\"\",IF(B10>=Fin,\"\",IF(A10=\"\",\"\",IF(AND(VLOOKUP(ARB&A10,Edarb,2,FALSE)>=PTAIV1,CHAP=\"OUI\"),VLOOKUP(ARB&A10,Edarb,2,FALSE),\"\")))))","v":""},"",null,null,null,null,null,null,{"$error":"#VALUE!"},"",{"$f":"VLOOKUP(T10,POT_Spid!$A$1:$Q$120,1,FALSE)","v":{"$error":"#VALUE!"}},{"$f":"VLOOKUP(T10,POT_Spid!$A$1:$BB$120,$C10+5,FALSE)","v":{"$error":"#VALUE!"}},{"$f":"OFFSET(INDEX(POT_Spid!$A$1:$BB$120,MATCH(T10,POT_Spid!$A$1:$A$120,0),$C10+5),-1,0)","v":{"$error":"#VALUE!"}},{"$f":"OFFSET(INDEX(POT_Spid!$A$1:$BB$120,MATCH(T10,POT_Spid!$A$1:$A$120,0),$C10+5),1,0)","v":{"$error":"#VALUE!"}},null,null,null,null,null,null,null,66,{"$f":"IF(PTA!BR4=\"\",\"\",\"Salle \"&PTA!BR4)","v":""}]
[{"$f":"PTA!A10","v":""},{"$f":"IF(OR(PTA!B10=Fin,PTA!B10>Fin,PTA!B10=\"\"),\"\",PTA!B10)","v":""},"","",{"$f":"IF(B11<>B12,\"\",IF(B11=B12,IF(AND(C12>0,C12<57),\"AD\",\"\")))","v":""},"","",{"$f":"IF($N$4=\"Oui\",IF(B11>=$P$4,U11,\"\"))","v":false},{"$f":"Paramètres!A5","v":"JA Adjoint"},"00:00:00",{"$f":"MINUTE(J11)","v":0},{"$f":"IF(Gest_res<>\"oui\",\"\",IF(ARB=\"\",\"\",IF(B11>=Fin,\"\",IF(A11=\"\",\"\",IF(AND(VLOOKUP(ARB&A11,Edarb,2,FALSE)>=PTAIV1,CHAP=\"OUI\"),VLOOKUP(ARB&A11,Edarb,2,FALSE),\"\")))))","v":""},{"$f":"IF(B11=\"\",\"\",IF(OR(C11<1,C11>\"A\"),\"\",IF(AND(G11=\"AD\",C11>0),IF(ISERROR(VLOOKUP(A12,PTA_Alpha,(C11+4),FALSE))=FALSE,VLOOKUP(A12,PTA_Alpha,(C11+4),FALSE)),IF(AND(RIGHT(A11,1)=\"A\",C11>0),IF(ISERROR(VLOOKUP(A10,PTA_Alpha,(C11+4),FALSE))=FALSE,VLOOKUP(A10,PTA_Alpha,(C11+4),FALSE),\"\")))))","v":""},null,null,null,null,null,null,{"$error":"#VALUE!"},"",{"$f":"VLOOKUP(T11,POT_Spid!$A$1:$Q$120,1,FALSE)","v":{"$error":"#VALUE!"}},{"$f":"VLOOKUP(T11,POT_Spid!$A$1:$BB$120,$C11+5,FALSE)","v":{"$error":"#VALUE!"}},{"$f":"OFFSET(INDEX(POT_Spid!$A$1:$BB$120,MATCH(T11,POT_Spid!$A$1:$A$120,0),$C11+5),-1,0)","v":{"$error":"#VALUE!"}},{"$f":"OFFSET(INDEX(POT_Spid!$A$1:$BB$120,MATCH(T11,POT_Spid!$A$1:$A$120,0),$C11+5),1,0)","v":{"$error":"#VALUE!"}}]
[{"$f":"PTA!A11","v":""},{"$f":"IF(OR(PTA!B11=Fin,PTA!B11>Fin,PTA!B11=\"\"),\"\",PTA!B11)","v":""},"","",{"$f":"IF(B12<>B13,\"\",IF(B12=B13,IF(AND(C13>0,C13<57),\"AD\",\"\")))","v":""},"","",false,{"$f":"Paramètres!B5","v":0},"00:00:00",0,"","",null,null,null,null,null,null,{"$error":"#VALUE!"},"",{"$f":"VLOOKUP(T12,POT_Spid!$A$1:$Q$120,1,FALSE)","v":{"$error":"#VALUE!"}},{"$f":"VLOOKUP(T12,POT_Spid!$A$1:$BB$120,$C12+5,FALSE)","v":{"$error":"#VALUE!"}},{"$f":"OFFSET(INDEX(POT_Spid!$A$1:$BB$120,MATCH(T12,POT_Spid!$A$1:$A$120,0),$C12+5),-1,0)","v":{"$error":"#VALUE!"}},{"$f":"OFFSET(INDEX(POT_Spid!$A$1:$BB$120,MATCH(T12,POT_Spid!$A$1:$A$120,0),$C12+5),1,0)","v":{"$error":"#VALUE!"}}]
[{"$f":"PTA!A12","v":""},{"$f":"IF(OR(PTA!B12=Fin,PTA!B12>Fin,PTA!B12=\"\"),\"\",PTA!B12)","v":""},"","","","","",false,{"$f":"Paramètres!A6","v":"JA Adjoint"},"00:00:00",0,"","",null,null,null,null,null,null,{"$error":"#VALUE!"},"",{"$f":"VLOOKUP(T13,POT_Spid!$A$1:$Q$120,1,FALSE)","v":{"$error":"#VALUE!"}},{"$f":"VLOOKUP(T13,POT_Spid!$A$1:$BB$120,$C13+5,FALSE)","v":{"$error":"#VALUE!"}},{"$f":"OFFSET(INDEX(POT_Spid!$A$1:$BB$120,MATCH(T13,POT_Spid!$A$1:$A$120,0),$C13+5),-1,0)","v":{"$error":"#VALUE!"}},{"$f":"OFFSET(INDEX(POT_Spid!$A$1:$BB$120,MATCH(T13,POT_Spid!$A$1:$A$120,0),$C13+5),1,0)","v":{"$error":"#VALUE!"}}]
[{"$f":"PTA!A13","v":""},{"$f":"IF(OR(PTA!B13=Fin,PTA!B13>Fin,PTA!B13=\"\"),\"\",PTA!B13)","v":""},"","","","","",false,{"$f":"Paramètres!B6","v":0},"00:00:00",0,"","",null,null,null,null,null,null,{"$error":"#VALUE!"},"",{"$f":"VLOOKUP(T14,POT_Spid!$A$1:$Q$120,1,FALSE)","v":{"$error":"#VALUE!"}},{"$f":"VLOOKUP(T14,POT_Spid!$A$1:$BB$120,$C14+5,FALSE)","v":{"$error":"#VALUE!"}},{"$f":"OFFSET(INDEX(POT_Spid!$A$1:$BB$120,MATCH(T14,POT_Spid!$A$1:$A$120,0),$C14+5),-1,0)","v":{"$error":"#VALUE!"}},{"$f":"OFFSET(INDEX(POT_Spid!$A$1:$BB$120,MATCH(T14,POT_Spid!$A$1:$A$120,0),$C14+5),1,0)","v":{"$error":"#VALUE!"}}]
[{"$f":"PTA!A14","v":""},{"$f":"IF(OR(PTA!B14=Fin,PTA!B14>Fin,PTA!B14=\"\"),\"\",PTA!B14)","v":""},"","","","","",false,{"$f":"Paramètres!A7","v":"RA"},"00:00:00",0,"","",null,null,null,null,null,null,{"$f":"HOUR(B15)&\",\"&MINUTE(B15)","v":{"$error":"#VALUE!"}},"",{"$f":"VLOOKUP(T15,POT_Spid!$A$1:$Q$120,1,FALSE)","v":{"$error":"#VALUE!"}},{"$f":"VLOOKUP(T15,POT_Spid!$A$1:$BB$120,$C15+5,FALSE)","v":{"$error":"#VALUE!"}},{"$f":"OFFSET(INDEX(POT_Spid!$A$1:$BB$120,MATCH(T15,POT_Spid!$A$1:$A$120,0),$C15+5),-1,0)","v":{"$error":"#VALUE!"}},{"$f":"OFFSET(INDEX(POT_Spid!$A$1:$BB$120,MATCH(T15,POT_Spid!$A$1:$A$120,0),$C15+5),1,0)","v":{"$error":"#VALUE!"}}]
[{"$f":"PTA!A15","v":""},{"$f":"IF(OR(PTA!B15=Fin,PTA!B15>Fin,PTA!B15=\"\"),\"\",PTA!B15)","v":""},"","","","","",false,{"$f":"Paramètres!B7","v":0},"00:00:00",0,"","",null,null,null,null,null,null,{"$error":"#VALUE!"},"",{"$f":"VLOOKUP(T16,POT_Spid!$A$1:$Q$120,1,FALSE)","v":{"$error":"#VALUE!"}},{"$f":"VLOOKUP(T16,POT_Spid!$A$1:$BB$120,$C16+5,FALSE)","v":{"$error":"#VALUE!"}},{"$f":"OFFSET(INDEX(POT_Spid!$A$1:$BB$120,MATCH(T16,POT_Spid!$A$1:$A$120,0),$C16+5),-1,0)","v":{"$error":"#VALUE!"}},{"$f":"OFFSET(INDEX(POT_Spid!$A$1:$BB$120,MATCH(T16,POT_Spid!$A$1:$A$120,0),$C16+5),1,0)","v":{"$error":"#VALUE!"}}]
[{"$f":"PTA!A16","v":""},{"$f":"IF(OR(PTA!B16=Fin,PTA!B16>Fin,PTA!B16=\"\"),\"\",PTA!B16)","v":""},"","","","","",false,{"$f":"Paramètres!A8","v":"RE"},"00:00:00",0,"","",null,null,null,null,null,null,{"$error":"#VALUE!"},"",{"$f":"VLOOKUP(T17,POT_Spid!$A$1:$Q$120,1,FALSE)","v":{"$error":"#VALUE!"}},{"$f":"VLOOKUP(T17,POT_Spid!$A$1:$BB$120,$C17+5,FALSE)","v":{"$error":"#VALUE!"}},{"$f":"OFFSET(INDEX(POT_Spid!$A$1:$BB$120,MATCH(T17,POT_Spid!$A$1:$A$120,0),$C17+5),-1,0)","v":{"$error":"#VALUE!"}},{"$f":"OFFSET(INDEX(POT_Spid!$A$1:$BB$120,MATCH(T17,POT_Spid!$A$1:$A$120,0),$C17+5),1,0)","v":{"$error":"#VALUE!"}}]
[{"$f":"PTA!A17","v":""},{"$f":"IF(OR(PTA!B17=Fin,PTA!B17>Fin,PTA!B17=\"\"),\"\",PTA!B17)","v":""},"","","","","",false,{"$f":"Paramètres!B8","v":0},"00:00:00",0,"","",null,null,null,null,null,null,{"$error":"#VALUE!"},"",{"$f":"VLOOKUP(T18,POT_Spid!$A$1:$Q$120,1,FALSE)","v":{"$error":"#VALUE!"}},{"$f":"VLOOKUP(T18,POT_Spid!$A$1:$BB$120,$C18+5,FALSE)","v":{"$error":"#VALUE!"}},{"$f":"OFFSET(INDEX(POT_Spid!$A$1:$BB$120,MATCH(T18,POT_Spid!$A$1:$A$120,0),$C18+5),-1,0)","v":{"$error":"#VALUE!"}},{"$f":"OFFSET(INDEX(POT_Spid!$A$1:$BB$120,MATCH(T18,POT_Spid!$A$1:$A$120,0),$C18+5),1,0)","v":{"$error":"#VALUE!"}}]
[{"$f":"PTA!A18","v":""},{"$f":"IF(OR(PTA!B18=Fin,PTA!B18>Fin,PTA!B18=\"\"),\"\",PTA!B18)","v":""},"","","","","",false,{"$f":"IF(Paramètres!B9<\"A\",\"\",Paramètres!A9)","v":""},"00:00:00",0,"","",null,null,null,null,null,null,{"$error":"#VALUE!"},"",{"$f":"VLOOKUP(T19,POT_Spid!$A$1:$Q$120,1,FALSE)","v":{"$error":"#VALUE!"}},{"$f":"VLOOKUP(T19,POT_Spid!$A$1:$BB$120,$C19+5,FALSE)","v":{"$error":"#VALUE!"}},{"$f":"OFFSET(INDEX(POT_Spid!$A$1:$BB$120,MATCH(T19,POT_Spid!$A$1:$A$120,0),$C19+5),-1,0)","v":{"$error":"#VALUE!"}},{"$f":"OFFSET(INDEX(POT_Spid!$A$1:$BB$120,MATCH(T19,POT_Spid!$A$1:$A$120,0),$C19+5),1,0)","v":{"$error":"#VALUE!"}}]
[{"$f":"PTA!A19","v":""},{"$f":"IF(OR(PTA!B19=Fin,PTA!B19>Fin,PTA!B19=\"\"),\"\",PTA!B19)","v":""},"","",{"$f":"IF(B20<>B21,\"\",IF(B20=B21,IF(AND(C21>0,C21<57),\"AD\",\"\")))","v":""},{"$f":"IF(C20<$AD$1,\"Salle 1\",IF(C20<$AE$1,\"Salle 2\",IF(C20<$AF$1,\"Salle 3\",IF(OR(L20=\"\",L20>66),\"\",VLOOKUP(L20,Tab_res,2,FALSE)))))","v":""},{"$f":"IF(B20>=Fin,\"\",IF(B20=B21,\"AD\",\"\"))","v":""},{"$f":"IF($N$4=\"Oui\",IF(B20>=$P$4,U20,\"\"))","v":false},{"$f":"IF(Paramètres!B9=\"\",\"\",Paramètres!B9)","v":""},"00:00:00",0,"","",null,null,null,null,null,null,{"$error":"#VALUE!"},"",{"$f":"VLOOKUP(T20,POT_Spid!$A$1:$Q$120,1,FALSE)","v":{"$error":"#VALUE!"}},{"$f":"VLOOKUP(T20,POT_Spid!$A$1:$BB$120,$C20+5,FALSE)","v":{"$error":"#VALUE!"}},{"$f":"OFFSET(INDEX(POT_Spid!$A$1:$BB$120,MATCH(T20,POT_Spid!$A$1:$A$120,0),$C20+5),-1,0)","v":{"$error":"#VALUE!"}},{"$f":"OFFSET(INDEX(POT_Spid!$A$1:$BB$120,MATCH(T20,POT_Spid!$A$1:$A$120,0),$C20+5),1,0)","v":{"$error":"#VALUE!"}}]
[{"$f":"PTA!A20","v":""},{"$f":"IF(OR(PTA!B20=Fin,PTA!B20>Fin,PTA!B20=\"\"),\"\",PTA!B20)","v":""},"","","","","",false,null,"00:00:00",0,"","",null,null,null,null,null,null,{"$error":"#VALUE!"},"",{"$f":"VLOOKUP(T21,POT_Spid!$A$1:$Q$120,1,FALSE)","v":{"$error":"#VALUE!"}},{"$f":"VLOOKUP(T21,POT_Spid!$A$1:$BB$120,$C21+5,FALSE)","v":{"$error":"#VALUE!"}},{"$f":"OFFSET(INDEX(POT_Spid!$A$1:$BB$120,MATCH(T21,POT_Spid!$A$1:$A$120,0),$C21+5),-1,0)","v":{"$error":"#VALUE!"}},{"$f":"OFFSET(INDEX(POT_Spid!$A$1:$BB$120,MATCH(T21,POT_Spid!$A$1:$A$120,0),$C21+5),1,0)","v":{"$error":"#VALUE!"}}]
[{"$f":"PTA!A21","v":""},{"$f":"IF(OR(PTA!B21=Fin,PTA!B21>Fin,PTA!B21=\"\"),\"\",PTA!B21)","v":""},"","","","","",false,null,"00:00:00",0,"","",null,null,null,null,null,null,{"$error":"#VALUE!"},"",{"$f":"VLOOKUP(T22,POT_Spid!$A$1:$Q$120,1,FALSE)","v":{"$error":"#VALUE!"}},{"$f":"VLOOKUP(T22,POT_Spid!$A$1:$BB$120,$C22+5,FALSE)","v":{"$error":"#VALUE!"}},{"$f":"OFFSET(INDEX(POT_Spid!$A$1:$BB$120,MATCH(T22,POT_Spid!$A$1:$A$120,0),$C22+5),-1,0)","v":{"$error":"#VALUE!"}},{"$f":"OFFSET(INDEX(POT_Spid!$A$1:$BB$120,MATCH(T22,POT_Spid!$A$1:$A$120,0),$C22+5),1,0)","v":{"$error":"#VALUE!"}}]
[{"$f":"PTA!A22","v":""},{"$f":"IF(OR(PTA!B22=Fin,PTA!B22>Fin,PTA!B22=\"\"),\"\",PTA!B22)","v":""},"","","","","",false,null,"00:00:00",0,"","",null,null,null,null,null,null,{"$error":"#VALUE!"},"",{"$f":"VLOOKUP(T23,POT_Spid!$A$1:$Q$120,1,FALSE)","v":{"$error":"#VALUE!"}},{"$f":"VLOOKUP(T23,POT_Spid!$A$1:$BB$120,$C23+5,FALSE)","v":{"$error":"#VALUE!"}},{"$f":"OFFSET(INDEX(POT_Spid!$A$1:$BB$120,MATCH(T23,POT_Spid!$A$1:$A$120,0),$C23+5),-1,0)","v":{"$error":"#VALUE!"}},{"$f":"OFFSET(INDEX(POT_Spid!$A$1:$BB$120,MATCH(T23,POT_Spid!$A$1:$A$120,0),$C23+5),1,0)","v":{"$error":"#VALUE!"}}]
[{"$f":"PTA!A23","v":""},{"$f":"IF(OR(PTA!B23=Fin,PTA!B23>Fin,PTA!B23=\"\"),\"\",PTA!B23)","v":""},"","","","","",false,null,"00:00:00",0,"","",null,null,null,null,null,null,{"$error":"#VALUE!"},"",{"$f":"VLOOKUP(T24,POT_Spid!$A$1:$Q$120,1,FALSE)","v":{"$error":"#VALUE!"}},{"$f":"VLOOKUP(T24,POT_Spid!$A$1:$BB$120,$C24+5,FALSE)","v":{"$error":"#VALUE!"}},{"$f":"OFFSET(INDEX(POT_Spid!$A$1:$BB$120,MATCH(T24,POT_Spid!$A$1:$A$120,0),$C24+5),-1,0)","v":{"$error":"#VALUE!"}},{"$f":"OFFSET(INDEX(POT_Spid!$A$1:$BB$120,MATCH(T24,POT_Spid!$A$1:$A$120,0),$C24+5),1,0)","v":{"$error":"#VALUE!"}}]
[{"$f":"PTA!A24","v":""},{"$f":"IF(OR(PTA!B24=Fin,PTA!B24>Fin,PTA!B24=\"\"),\"\",PTA!B24)","v":""},"","","","","",false,null,"00:00:00",0,"","",null,null,null,null,null,null,{"$error":"#VALUE!"},"",{"$f":"VLOOKUP(T25,POT_Spid!$A$1:$Q$120,1,FALSE)","v":{"$error":"#VALUE!"}},{"$f":"VLOOKUP(T25,POT_Spid!$A$1:$BB$120,$C25+5,FALSE)","v":{"$error":"#VALUE!"}},{"$f":"OFFSET(INDEX(POT_Spid!$A$1:$BB$120,MATCH(T25,POT_Spid!$A$1:$A$120,0),$C25+5),-1,0)","v":{"$error":"#VALUE!"}},{"$f":"OFFSET(INDEX(POT_Spid!$A$1:$BB$120,MATCH(T25,POT_Spid!$A$1:$A$120,0),$C25+5),1,0)","v":{"$error":"#VALUE!"}}]
[{"$f":"PTA!A25","v":""},{"$f":"IF(OR(PTA!B25=Fin,PTA!B25>Fin,PTA!B25=\"\"),\"\",PTA!B25)","v":""},"","","","","",false,null,"00:00:00",0,"","",null,null,null,null,null,null,{"$error":"#VALUE!"},"",{"$f":"VLOOKUP(T26,POT_Spid!$A$1:$Q$120,1,FALSE)","v":{"$error":"#VALUE!"}},{"$f":"VLOOKUP(T26,POT_Spid!$A$1:$BB$120,$C26+5,FALSE)","v":{"$error":"#VALUE!"}},{"$f":"OFFSET(INDEX(POT_Spid!$A$1:$BB$120,MATCH(T26,POT_Spid!$A$1:$A$120,0),$C26+5),-1,0)","v":{"$error":"#VALUE!"}},{"$f":"OFFSET(INDEX(POT_Spid!$A$1:$BB$120,MATCH(T26,POT_Spid!$A$1:$A$120,0),$C26+5),1,0)","v":{"$error":"#VALUE!"}}]
[{"$f":"PTA!A26","v":""},{"$f":"IF(OR(PTA!B26=Fin,PTA!B26>Fin,PTA!B26=\"\"),\"\",PTA!B26)","v":""},"","","","","",false,null,"00:00:00",0,"","",null,null,null,null,null,null,{"$error":"#VALUE!"},"",{"$f":"VLOOKUP(T27,POT_Spid!$A$1:$Q$120,1,FALSE)","v":{"$error":"#VALUE!"}},{"$f":"VLOOKUP(T27,POT_Spid!$A$1:$BB$120,$C27+5,FALSE)","v":{"$error":"#VALUE!"}},{"$f":"OFFSET(INDEX(POT_Spid!$A$1:$BB$120,MATCH(T27,POT_Spid!$A$1:$A$120,0),$C27+5),-1,0)","v":{"$error":"#VALUE!"}},{"$f":"OFFSET(INDEX(POT_Spid!$A$1:$BB$120,MATCH(T27,POT_Spid!$A$1:$A$120,0),$C27+5),1,0)","v":{"$error":"#VALUE!"}}]
[{"$f":"PTA!A27","v":""},{"$f":"IF(OR(PTA!B27=Fin,PTA!B27>Fin,PTA!B27=\"\"),\"\",PTA!B27)","v":""},"","","","","",false,null,"00:00:00",0,"","",null,null,null,null,null,null,{"$error":"#VALUE!"},"",{"$f":"VLOOKUP(T28,POT_Spid!$A$1:$Q$120,1,FALSE)","v":{"$error":"#VALUE!"}},{"$f":"VLOOKUP(T28,POT_Spid!$A$1:$BB$120,$C28+5,FALSE)","v":{"$error":"#VALUE!"}},{"$f":"OFFSET(INDEX(POT_Spid!$A$1:$BB$120,MATCH(T28,POT_Spid!$A$1:$A$120,0),$C28+5),-1,0)","v":{"$error":"#VALUE!"}},{"$f":"OFFSET(INDEX(POT_Spid!$A$1:$BB$120,MATCH(T28,POT_Spid!$A$1:$A$120,0),$C28+5),1,0)","v":{"$error":"#VALUE!"}}]
[{"$f":"PTA!A28","v":""},{"$f":"IF(OR(PTA!B28=Fin,PTA!B28>Fin,PTA!B28=\"\"),\"\",PTA!B28)","v":""},"","","","","",false,null,"00:00:00",0,"","",null,null,null,null,null,null,{"$error":"#VALUE!"},"",{"$f":"VLOOKUP(T29,POT_Spid!$A$1:$Q$120,1,FALSE)","v":{"$error":"#VALUE!"}},{"$f":"VLOOKUP(T29,POT_Spid!$A$1:$BB$120,$C29+5,FALSE)","v":{"$error":"#VALUE!"}},{"$f":"OFFSET(INDEX(POT_Spid!$A$1:$BB$120,MATCH(T29,POT_Spid!$A$1:$A$120,0),$C29+5),-1,0)","v":{"$error":"#VALUE!"}},{"$f":"OFFSET(INDEX(POT_Spid!$A$1:$BB$120,MATCH(T29,POT_Spid!$A$1:$A$120,0),$C29+5),1,0)","v":{"$error":"#VALUE!"}}]
[{"$f":"PTA!A29","v":""},{"$f":"IF(OR(PTA!B29=Fin,PTA!B29>Fin,PTA!B29=\"\"),\"\",PTA!B29)","v":""},"","","","","",false,null,"00:00:00",0,"","",null,null,null,null,null,null,{"$error":"#VALUE!"},"",{"$f":"VLOOKUP(T30,POT_Spid!$A$1:$Q$120,1,FALSE)","v":{"$error":"#VALUE!"}},{"$f":"VLOOKUP(T30,POT_Spid!$A$1:$BB$120,$C30+5,FALSE)","v":{"$error":"#VALUE!"}},{"$f":"OFFSET(INDEX(POT_Spid!$A$1:$BB$120,MATCH(T30,POT_Spid!$A$1:$A$120,0),$C30+5),-1,0)","v":{"$error":"#VALUE!"}},{"$f":"OFFSET(INDEX(POT_Spid!$A$1:$BB$120,MATCH(T30,POT_Spid!$A$1:$A$120,0),$C30+5),1,0)","v":{"$error":"#VALUE!"}}]
[{"$f":"PTA!A30","v":""},{"$f":"IF(OR(PTA!B30=Fin,PTA!B30>Fin,PTA!B30=\"\"),\"\",PTA!B30)","v":""},"","","","","",false,null,"00:00:00",0,"","",null,null,null,null,null,null,{"$error":"#VALUE!"},{"$f":"IF(ISERROR(W31)=TRUE,\"\",W31&\" - \"&X31&\" / \"&Y31)","v":""},{"$f":"VLOOKUP(T31,POT_Spid!$A$1:$Q$120,1,FALSE)","v":{"$error":"#VALUE!"}},{"$f":"VLOOKUP(T31,POT_Spid!$A$1:$BB$120,$C31+5,FALSE)","v":{"$error":"#VALUE!"}},{"$f":"OFFSET(INDEX(POT_Spid!$A$1:$BB$120,MATCH(T31,POT_Spid!$A$1:$A$120,0),$C31+5),-1,0)","v":{"$error":"#VALUE!"}},{"$f":"OFFSET(INDEX(POT_Spid!$A$1:$BB$120,MATCH(T31,POT_Spid!$A$1:$A$120,0),$C31+5),1,0)","v":{"$error":"#VALUE!"}}]
[{"$f":"PTA!A31","v":""},{"$f":"IF(OR(PTA!B31=Fin,PTA!B31>Fin,PTA!B31=\"\"),\"\",PTA!B31)","v":""},"","","","","",false,null,"00:00:00",0,"","",null,null,null,null,null,null,{"$error":"#VALUE!"},"",{"$f":"VLOOKUP(T32,POT_Spid!$A$1:$Q$120,1,FALSE)","v":{"$error":"#VALUE!"}},{"$f":"VLOOKUP(T32,POT_Spid!$A$1:$BB$120,$C32+5,FALSE)","v":{"$error":"#VALUE!"}},{"$f":"OFFSET(INDEX(POT_Spid!$A$1:$BB$120,MATCH(T32,POT_Spid!$A$1:$A$120,0),$C32+5),-1,0)","v":{"$error":"#VALUE!"}},{"$f":"OFFSET(INDEX(POT_Spid!$A$1:$BB$120,MATCH(T32,POT_Spid!$A$1:$A$120,0),$C32+5),1,0)","v":{"$error":"#VALUE!"}}]
[{"$f":"PTA!A32","v":""},{"$f":"IF(OR(PTA!B32=Fin,PTA!B32>Fin,PTA!B32=\"\"),\"\",PTA!B32)","v":""},"","","","","",false,null,"00:00:00",0,"","",null,null,null,null,null,null,{"$error":"#VALUE!"},"",{"$f":"VLOOKUP(T33,POT_Spid!$A$1:$Q$120,1,FALSE)","v":{"$error":"#VALUE!"}},{"$f":"VLOOKUP(T33,POT_Spid!$A$1:$BB$120,$C33+5,FALSE)","v":{"$error":"#VALUE!"}},{"$f":"OFFSET(INDEX(POT_Spid!$A$1:$BB$120,MATCH(T33,POT_Spid!$A$1:$A$120,0),$C33+5),-1,0)","v":{"$error":"#VALUE!"}},{"$f":"OFFSET(INDEX(POT_Spid!$A$1:$BB$120,MATCH(T33,POT_Spid!$A$1:$A$120,0),$C33+5),1,0)","v":{"$error":"#VALUE!"}}]
[{"$f":"PTA!A33","v":""},{"$f":"IF(OR(PTA!B33=Fin,PTA!B33>Fin,PTA!B33=\"\"),\"\",PTA!B33)","v":""},"","","","","",false,null,"00:00:00",0,"","",null,null,null,null,null,null,{"$error":"#VALUE!"},"",{"$f":"VLOOKUP(T34,POT_Spid!$A$1:$Q$120,1,FALSE)","v":{"$error":"#VALUE!"}},{"$f":"VLOOKUP(T34,POT_Spid!$A$1:$BB$120,$C34+5,FALSE)","v":{"$error":"#VALUE!"}},{"$f":"OFFSET(INDEX(POT_Spid!$A$1:$BB$120,MATCH(T34,POT_Spid!$A$1:$A$120,0),$C34+5),-1,0)","v":{"$error":"#VALUE!"}},{"$f":"OFFSET(INDEX(POT_Spid!$A$1:$BB$120,MATCH(T34,POT_Spid!$A$1:$A$120,0),$C34+5),1,0)","v":{"$error":"#VALUE!"}}]
[{"$f":"PTA!A34","v":""},{"$f":"IF(OR(PTA!B34=Fin,PTA!B34>Fin,PTA!B34=\"\"),\"\",PTA!B34)","v":""},"","","","","",false,null,"00:00:00",0,"","",null,null,null,null,null,null,{"$error":"#VALUE!"},"",{"$f":"VLOOKUP(T35,POT_Spid!$A$1:$Q$120,1,FALSE)","v":{"$error":"#VALUE!"}},{"$f":"VLOOKUP(T35,POT_Spid!$A$1:$BB$120,$C35+5,FALSE)","v":{"$error":"#VALUE!"}},{"$f":"OFFSET(INDEX(POT_Spid!$A$1:$BB$120,MATCH(T35,POT_Spid!$A$1:$A$120,0),$C35+5),-1,0)","v":{"$error":"#VALUE!"}},{"$f":"OFFSET(INDEX(POT_Spid!$A$1:$BB$120,MATCH(T35,POT_Spid!$A$1:$A$120,0),$C35+5),1,0)","v":{"$error":"#VALUE!"}}]
[{"$f":"PTA!A35","v":""},{"$f":"IF(OR(PTA!B35=Fin,PTA!B35>Fin,PTA!B35=\"\"),\"\",PTA!B35)","v":""},"","","","","",false,null,"00:00:00",0,"","",null,null,null,null,null,null,{"$error":"#VALUE!"},"",{"$f":"VLOOKUP(T36,POT_Spid!$A$1:$Q$120,1,FALSE)","v":{"$error":"#VALUE!"}},{"$f":"VLOOKUP(T36,POT_Spid!$A$1:$BB$120,$C36+5,FALSE)","v":{"$error":"#VALUE!"}},{"$f":"OFFSET(INDEX(POT_Spid!$A$1:$BB$120,MATCH(T36,POT_Spid!$A$1:$A$120,0),$C36+5),-1,0)","v":{"$error":"#VALUE!"}},{"$f":"OFFSET(INDEX(POT_Spid!$A$1:$BB$120,MATCH(T36,POT_Spid!$A$1:$A$120,0),$C36+5),1,0)","v":{"$error":"#VALUE!"}}]
[{"$f":"PTA!A36","v":""},{"$f":"IF(OR(PTA!B36=Fin,PTA!B36>Fin,PTA!B36=\"\"),\"\",PTA!B36)","v":""},"","","","","",false,null,"00:00:00",0,"","",null,null,null,null,null,null,{"$error":"#VALUE!"},"",{"$f":"VLOOKUP(T37,POT_Spid!$A$1:$Q$120,1,FALSE)","v":{"$error":"#VALUE!"}},{"$f":"VLOOKUP(T37,POT_Spid!$A$1:$BB$120,$C37+5,FALSE)","v":{"$error":"#VALUE!"}},{"$f":"OFFSET(INDEX(POT_Spid!$A$1:$BB$120,MATCH(T37,POT_Spid!$A$1:$A$120,0),$C37+5),-1,0)","v":{"$error":"#VALUE!"}},{"$f":"OFFSET(INDEX(POT_Spid!$A$1:$BB$120,MATCH(T37,POT_Spid!$A$1:$A$120,0),$C37+5),1,0)","v":{"$error":"#VALUE!"}}]
[{"$f":"PTA!A37","v":""},{"$f":"IF(OR(PTA!B37=Fin,PTA!B37>Fin,PTA!B37=\"\"),\"\",PTA!B37)","v":""},"","","","","",false,null,"00:00:00",0,"","",null,null,null,null,null,null,{"$error":"#VALUE!"},"",{"$f":"VLOOKUP(T38,POT_Spid!$A$1:$Q$120,1,FALSE)","v":{"$error":"#VALUE!"}},{"$f":"VLOOKUP(T38,POT_Spid!$A$1:$BB$120,$C38+5,FALSE)","v":{"$error":"#VALUE!"}},{"$f":"OFFSET(INDEX(POT_Spid!$A$1:$BB$120,MATCH(T38,POT_Spid!$A$1:$A$120,0),$C38+5),-1,0)","v":{"$error":"#VALUE!"}},{"$f":"OFFSET(INDEX(POT_Spid!$A$1:$BB$120,MATCH(T38,POT_Spid!$A$1:$A$120,0),$C38+5),1,0)","v":{"$error":"#VALUE!"}}]
[{"$f":"PTA!A38","v":""},{"$f":"IF(OR(PTA!B38=Fin,PTA!B38>Fin,PTA!B38=\"\"),\"\",PTA!B38)","v":""},"","","","","",false,null,"00:00:00",0,"","",null,null,null,null,null,null,{"$error":"#VALUE!"},"",{"$f":"VLOOKUP(T39,POT_Spid!$A$1:$Q$120,1,FALSE)","v":{"$error":"#VALUE!"}},{"$f":"VLOOKUP(T39,POT_Spid!$A$1:$BB$120,$C39+5,FALSE)","v":{"$error":"#VALUE!"}},{"$f":"OFFSET(INDEX(POT_Spid!$A$1:$BB$120,MATCH(T39,POT_Spid!$A$1:$A$120,0),$C39+5),-1,0)","v":{"$error":"#VALUE!"}},{"$f":"OFFSET(INDEX(POT_Spid!$A$1:$BB$120,MATCH(T39,POT_Spid!$A$1:$A$120,0),$C39+5),1,0)","v":{"$error":"#VALUE!"}}]
[{"$f":"PTA!A39","v":""},{"$f":"IF(OR(PTA!B39=Fin,PTA!B39>Fin,PTA!B39=\"\"),\"\",PTA!B39)","v":""},"","","","","",false,null,"00:00:00",{"$f":"MINUTE(J40)","v":0},{"$f":"IF(Gest_res<>\"oui\",\"\",IF(ARB=\"\",\"\",IF(B40>=Fin,\"\",IF(A40=\"\",\"\",IF(AND(VLOOKUP(ARB&A40,Edarb,2,FALSE)>=PTAIV1,CHAP=\"OUI\"),VLOOKUP(ARB&A40,Edarb,2,FALSE),\"\")))))","v":""},{"$f":"IF(B40=\"\",\"\",IF(OR(C40<1,C40>\"A\"),\"\",IF(AND(G40=\"AD\",C40>0),IF(ISERROR(VLOOKUP(A41,PTA_Alpha,(C40+4),FALSE))=FALSE,VLOOKUP(A41,PTA_Alpha,(C40+4),FALSE)),IF(AND(RIGHT(A40,1)=\"A\",C40>0),IF(ISERROR(VLOOKUP(A39,PTA_Alpha,(C40+4),FALSE))=FALSE,VLOOKUP(A39,PTA_Alpha,(C40+4),FALSE),\"\")))))","v":""},null,null,null,null,null,null,{"$error":"#VALUE!"},"",{"$f":"VLOOKUP(T40,POT_Spid!$A$1:$Q$120,1,FALSE)","v":{"$error":"#VALUE!"}},{"$f":"VLOOKUP(T40,POT_Spid!$A$1:$BB$120,$C40+5,FALSE)","v":{"$error":"#VALUE!"}},{"$f":"OFFSET(INDEX(POT_Spid!$A$1:$BB$120,MATCH(T40,POT_Spid!$A$1:$A$120,0),$C40+5),-1,0)","v":{"$error":"#VALUE!"}},{"$f":"OFFSET(INDEX(POT_Spid!$A$1:$BB$120,MATCH(T40,POT_Spid!$A$1:$A$120,0),$C40+5),1,0)","v":{"$error":"#VALUE!"}}]
[{"$f":"PTA!A40","v":""},{"$f":"IF(OR(PTA!B40=Fin,PTA!B40>Fin,PTA!B40=\"\"),\"\",PTA!B40)","v":""},"","","","","",false,null,"00:00:00",0,"","",null,null,null,null,null,null,{"$f":"HOUR(B41)&\",\"&MINUTE(B41)","v":{"$error":"#VALUE!"}},{"$f":"IF(ISERROR(W41)=TRUE,\"\",W41&\" - \"&X41&\" / \"&Y41)","v":""},{"$f":"VLOOKUP(T41,POT_Spid!$A$1:$Q$120,1,FALSE)","v":{"$error":"#VALUE!"}},{"$f":"VLOOKUP(T41,POT_Spid!$A$1:$BB$120,$C41+5,FALSE)","v":{"$error":"#VALUE!"}},{"$f":"OFFSET(INDEX(POT_Spid!$A$1:$BB$120,MATCH(T41,POT_Spid!$A$1:$A$120,0),$C41+5),-1,0)","v":{"$error":"#VALUE!"}},{"$f":"OFFSET(INDEX(POT_Spid!$A$1:$BB$120,MATCH(T41,POT_Spid!$A$1:$A$120,0),$C41+5),1,0)","v":{"$error":"#VALUE!"}}]
[{"$f":"PTA!A41","v":""},{"$f":"IF(OR(PTA!B41=Fin,PTA!B41>Fin,PTA!B41=\"\"),\"\",PTA!B41)","v":""},"","","","","",false,null,"00:00:00",0,"","",null,null,null,null,null,null,{"$error":"#VALUE!"},"",{"$f":"VLOOKUP(T42,POT_Spid!$A$1:$Q$120,1,FALSE)","v":{"$error":"#VALUE!"}},{"$f":"VLOOKUP(T42,POT_Spid!$A$1:$BB$120,$C42+5,FALSE)","v":{"$error":"#VALUE!"}},{"$f":"OFFSET(INDEX(POT_Spid!$A$1:$BB$120,MATCH(T42,POT_Spid!$A$1:$A$120,0),$C42+5),-1,0)","v":{"$error":"#VALUE!"}},{"$f":"OFFSET(INDEX(POT_Spid!$A$1:$BB$120,MATCH(T42,POT_Spid!$A$1:$A$120,0),$C42+5),1,0)","v":{"$error":"#VALUE!"}}]
[{"$f":"PTA!A42","v":""},{"$f":"IF(OR(PTA!B42=Fin,PTA!B42>Fin,PTA!B42=\"\"),\"\",PTA!B42)","v":""},"","","","","",false,null,"00:00:00",0,"","",null,null,null,null,null,null,{"$error":"#VALUE!"},"",{"$f":"VLOOKUP(T43,POT_Spid!$A$1:$Q$120,1,FALSE)","v":{"$error":"#VALUE!"}},{"$f":"VLOOKUP(T43,POT_Spid!$A$1:$BB$120,$C43+5,FALSE)","v":{"$error":"#VALUE!"}},{"$f":"OFFSET(INDEX(POT_Spid!$A$1:$BB$120,MATCH(T43,POT_Spid!$A$1:$A$120,0),$C43+5),-1,0)","v":{"$error":"#VALUE!"}},{"$f":"OFFSET(INDEX(POT_Spid!$A$1:$BB$120,MATCH(T43,POT_Spid!$A$1:$A$120,0),$C43+5),1,0)","v":{"$error":"#VALUE!"}}]
[{"$f":"PTA!A43","v":""},{"$f":"IF(OR(PTA!B43=Fin,PTA!B43>Fin,PTA!B43=\"\"),\"\",PTA!B43)","v":""},"","","","","",false,null,"00:00:00",0,"","",null,null,null,null,null,null,{"$error":"#VALUE!"},"",{"$f":"VLOOKUP(T44,POT_Spid!$A$1:$Q$120,1,FALSE)","v":{"$error":"#VALUE!"}},{"$f":"VLOOKUP(T44,POT_Spid!$A$1:$BB$120,$C44+5,FALSE)","v":{"$error":"#VALUE!"}},{"$f":"OFFSET(INDEX(POT_Spid!$A$1:$BB$120,MATCH(T44,POT_Spid!$A$1:$A$120,0),$C44+5),-1,0)","v":{"$error":"#VALUE!"}},{"$f":"OFFSET(INDEX(POT_Spid!$A$1:$BB$120,MATCH(T44,POT_Spid!$A$1:$A$120,0),$C44+5),1,0)","v":{"$error":"#VALUE!"}}]
[{"$f":"PTA!A44","v":""},{"$f":"IF(OR(PTA!B44=Fin,PTA!B44>Fin,PTA!B44=\"\"),\"\",PTA!B44)","v":""},"","","","","",false,null,"00:00:00",0,"","",null,null,null,null,null,null,{"$error":"#VALUE!"},"",{"$f":"VLOOKUP(T45,POT_Spid!$A$1:$Q$120,1,FALSE)","v":{"$error":"#VALUE!"}},{"$f":"VLOOKUP(T45,POT_Spid!$A$1:$BB$120,$C45+5,FALSE)","v":{"$error":"#VALUE!"}},{"$f":"OFFSET(INDEX(POT_Spid!$A$1:$BB$120,MATCH(T45,POT_Spid!$A$1:$A$120,0),$C45+5),-1,0)","v":{"$error":"#VALUE!"}},{"$f":"OFFSET(INDEX(POT_Spid!$A$1:$BB$120,MATCH(T45,POT_Spid!$A$1:$A$120,0),$C45+5),1,0)","v":{"$error":"#VALUE!"}}]
[{"$f":"PTA!A45","v":""},{"$f":"IF(OR(PTA!B45=Fin,PTA!B45>Fin,PTA!B45=\"\"),\"\",PTA!B45)","v":""},"","","","","",false,null,"00:00:00",0,"","",null,null,null,null,null,null,{"$f":"HOUR(B46)&\",\"&MINUTE(B46)","v":{"$error":"#VALUE!"}},{"$f":"IF(ISERROR(W46)=TRUE,\"\",W46&\" - \"&X46&\" / \"&Y46)","v":""},{"$f":"VLOOKUP(T46,POT_Spid!$A$1:$Q$120,1,FALSE)","v":{"$error":"#VALUE!"}},{"$f":"VLOOKUP(T46,POT_Spid!$A$1:$BB$120,$C46+5,FALSE)","v":{"$error":"#VALUE!"}},{"$f":"OFFSET(INDEX(POT_Spid!$A$1:$BB$120,MATCH(T46,POT_Spid!$A$1:$A$120,0),$C46+5),-1,0)","v":{"$error":"#VALUE!"}},{"$f":"OFFSET(INDEX(POT_Spid!$A$1:$BB$120,MATCH(T46,POT_Spid!$A$1:$A$120,0),$C46+5),1,0)","v":{"$error":"#VALUE!"}}]
[{"$f":"PTA!A46","v":""},{"$f":"IF(OR(PTA!B46=Fin,PTA!B46>Fin,PTA!B46=\"\"),\"\",PTA!B46)","v":""},"","","","","",false,null,"00:00:00",0,"","",null,null,null,null,null,null,{"$error":"#VALUE!"},"",{"$f":"VLOOKUP(T47,POT_Spid!$A$1:$Q$120,1,FALSE)","v":{"$error":"#VALUE!"}},{"$f":"VLOOKUP(T47,POT_Spid!$A$1:$BB$120,$C47+5,FALSE)","v":{"$error":"#VALUE!"}},{"$f":"OFFSET(INDEX(POT_Spid!$A$1:$BB$120,MATCH(T47,POT_Spid!$A$1:$A$120,0),$C47+5),-1,0)","v":{"$error":"#VALUE!"}},{"$f":"OFFSET(INDEX(POT_Spid!$A$1:$BB$120,MATCH(T47,POT_Spid!$A$1:$A$120,0),$C47+5),1,0)","v":{"$error":"#VALUE!"}}]
[{"$f":"PTA!A47","v":""},{"$f":"IF(OR(PTA!B47=Fin,PTA!B47>Fin,PTA!B47=\"\"),\"\",PTA!B47)","v":""},"","","","","",false,null,"00:00:00",0,"","",null,null,null,null,null,null,{"$error":"#VALUE!"},"",{"$f":"VLOOKUP(T48,POT_Spid!$A$1:$Q$120,1,FALSE)","v":{"$error":"#VALUE!"}},{"$f":"VLOOKUP(T48,POT_Spid!$A$1:$BB$120,$C48+5,FALSE)","v":{"$error":"#VALUE!"}},{"$f":"OFFSET(INDEX(POT_Spid!$A$1:$BB$120,MATCH(T48,POT_Spid!$A$1:$A$120,0),$C48+5),-1,0)","v":{"$error":"#VALUE!"}},{"$f":"OFFSET(INDEX(POT_Spid!$A$1:$BB$120,MATCH(T48,POT_Spid!$A$1:$A$120,0),$C48+5),1,0)","v":{"$error":"#VALUE!"}}]
[{"$f":"PTA!A48","v":""},{"$f":"IF(OR(PTA!B48=Fin,PTA!B48>Fin,PTA!B48=\"\"),\"\",PTA!B48)","v":""},"","","","","",false,null,"00:00:00",0,"","",null,null,null,null,null,null,{"$error":"#VALUE!"},"",{"$f":"VLOOKUP(T49,POT_Spid!$A$1:$Q$120,1,FALSE)","v":{"$error":"#VALUE!"}},{"$f":"VLOOKUP(T49,POT_Spid!$A$1:$BB$120,$C49+5,FALSE)","v":{"$error":"#VALUE!"}},{"$f":"OFFSET(INDEX(POT_Spid!$A$1:$BB$120,MATCH(T49,POT_Spid!$A$1:$A$120,0),$C49+5),-1,0)","v":{"$error":"#VALUE!"}},{"$f":"OFFSET(INDEX(POT_Spid!$A$1:$BB$120,MATCH(T49,POT_Spid!$A$1:$A$120,0),$C49+5),1,0)","v":{"$error":"#VALUE!"}}]
[{"$f":"PTA!A49","v":""},{"$f":"IF(OR(PTA!B49=Fin,PTA!B49>Fin,PTA!B49=\"\"),\"\",PTA!B49)","v":""},"","","","","",false,null,"00:00:00",0,"","",null,null,null,null,null,null,{"$error":"#VALUE!"},"",{"$f":"VLOOKUP(T50,POT_Spid!$A$1:$Q$120,1,FALSE)","v":{"$error":"#VALUE!"}},{"$f":"VLOOKUP(T50,POT_Spid!$A$1:$BB$120,$C50+5,FALSE)","v":{"$error":"#VALUE!"}},{"$f":"OFFSET(INDEX(POT_Spid!$A$1:$BB$120,MATCH(T50,POT_Spid!$A$1:$A$120,0),$C50+5),-1,0)","v":{"$error":"#VALUE!"}},{"$f":"OFFSET(INDEX(POT_Spid!$A$1:$BB$120,MATCH(T50,POT_Spid!$A$1:$A$120,0),$C50+5),1,0)","v":{"$error":"#VALUE!"}}]
[{"$f":"PTA!A50","v":""},{"$f":"IF(OR(PTA!B50=Fin,PTA!B50>Fin,PTA!B50=\"\"),\"\",PTA!B50)","v":""},"","",{"$f":"IF(B51<>B52,\"\",IF(B51=B52,IF(AND(C52>0,C52<57),\"AD\",\"\")))","v":""},{"$f":"IF(C51<$AD$1,\"Salle 1\",IF(C51<$AE$1,\"Salle 2\",IF(C51<$AF$1,\"Salle 3\",IF(OR(L51=\"\",L51>66),\"\",VLOOKUP(L51,Tab_res,2,FALSE)))))","v":""},{"$f":"IF(B51>=Fin,\"\",IF(B51=B52,\"AD\",\"\"))","v":""},{"$f":"IF($N$4=\"Oui\",IF(B51>=$P$4,U51,\"\"))","v":false},null,{"$f":"IF(B51=\"\",0,B51-B50)","v":"00:00:00"},0,"","",null,null,null,null,null,null,{"$error":"#VALUE!"},"",{"$f":"VLOOKUP(T51,POT_Spid!$A$1:$Q$120,1,FALSE)","v":{"$error":"#VALUE!"}},{"$f":"VLOOKUP(T51,POT_Spid!$A$1:$BB$120,$C51+5,FALSE)","v":{"$error":"#VALUE!"}},{"$f":"OFFSET(INDEX(POT_Spid!$A$1:$BB$120,MATCH(T51,POT_Spid!$A$1:$A$120,0),$C51+5),-1,0)","v":{"$error":"#VALUE!"}},{"$f":"OFFSET(INDEX(POT_Spid!$A$1:$BB$120,MATCH(T51,POT_Spid!$A$1:$A$120,0),$C51+5),1,0)","v":{"$error":"#VALUE!"}}]
[null,{"$f":"PTA!A51","v":"00:00:00"},{"$f":"PTA!E51","v":"FIN DE LA 1ère JOURNEE"},null,null,null,null,null,null,null,null,null,{"$f":"IF(AND(RIGHT(A52,1)=\"A\",C52>0),VLOOKUP(A51,PTA_Alpha,(C52+4),FALSE),\"\")","v":""}]

{"sheet":"Recap_ARB","index":7,"n_rows":101,"n_cols":10,"rows_kept":101,"cut":false,"hidden":false,"merged":[[0,7,0,8],[25,7,25,8],[35,7,35,8]]}
["N° Arbitre","Arbitrage",{"$f":"IF(CHAP<>\"oui\",\"\",\"CA/Réserve\")","v":"CA/Réserve"},"Réserve","Repos","Contrôle par le Nbre",0," de tours arbitrage"]
[{"$f":"IF(Arbitres!B4=\"\",\"\",Arbitres!B4)","v":""},{"$f":"IF(A2=\"\",\"\",COUNTIF(ZONE_ARB,$A2))","v":""},{"$f":"IF(A2=\"\",0,COUNTIF(Zone_CA,$A2))","v":0},{"$f":"IF(A2=\"\",0,COUNTIF(ZONE_RES,$A2))","v":0},{"$f":"IF(A2=\"\",\"\",COUNTIF(ZONE_REP,$A2))","v":""},{"$f":"C2+D2","v":0},null,"Nb Tours","Nb Arb/Eq"]
[{"$f":"IF(Arbitres!B5=\"\",\"\",Arbitres!B5)","v":""},"",{"$f":"IF(A3=\"\",0,COUNTIF(Zone_CA,$A3))","v":0},0,"",{"$f":"C3+D3","v":0},null,0,{"$f":"COUNTIF(Rec_nbarb,Nbct)","v":0}]
[{"$f":"IF(Arbitres!B6=\"\",\"\",Arbitres!B6)","v":""},"",0,0,"",0,null,1,0]
[{"$f":"IF(Arbitres!B7=\"\",\"\",Arbitres!B7)","v":""},"",0,0,"",0,null,2,0]
[{"$f":"IF(Arbitres!B8=\"\",\"\",Arbitres!B8)","v":""},"",0,0,"",0,null,3,0]
[{"$f":"IF(Arbitres!B9=\"\",\"\",Arbitres!B9)","v":""},"",0,0,"",0,null,4,0]
[{"$f":"IF(Arbitres!B10=\"\",\"\",Arbitres!B10)","v":""},"",0,0,"",0,null,5,0]
[{"$f":"IF(Arbitres!B11=\"\",\"\",Arbitres!B11)","v":""},{"$f":"IF(A9=\"\",\"\",COUNTIF(ZONE_ARB,$A9))","v":""},0,0,"",0,null,6,0]
[{"$f":"IF(Arbitres!B12=\"\",\"\",Arbitres!B12)","v":""},"",0,0,"",0,null,7,0]
[{"$f":"IF(Arbitres!B13=\"\",\"\",Arbitres!B13)","v":""},"",0,0,"",0,null,8,0]
[{"$f":"IF(Arbitres!B14=\"\",\"\",Arbitres!B14)","v":""},"",0,0,"",0,null,9,0]
[{"$f":"IF(Arbitres!B15=\"\",\"\",Arbitres!B15)","v":""},"",0,0,"",0,null,10,0]
[{"$f":"IF(Arbitres!B16=\"\",\"\",Arbitres!B16)","v":""},"",0,0,"",0,null,11,0]
[{"$f":"IF(Arbitres!B17=\"\",\"\",Arbitres!B17)","v":""},"",0,0,"",0,null,12,0]
[{"$f":"IF(Arbitres!B18=\"\",\"\",Arbitres!B18)","v":""},"",0,0,"",0,null,13,0]
[{"$f":"IF(Arbitres!B19=\"\",\"\",Arbitres!B19)","v":""},"",0,0,"",0,null,14,0]
[{"$f":"IF(Arbitres!B20=\"\",\"\",Arbitres!B20)","v":""},"",0,0,"",0,null,15,0]
[{"$f":"IF(Arbitres!B21=\"\",\"\",Arbitres!B21)","v":""},"",0,0,"",0,null,16,0]
[{"$f":"IF(Arbitres!B22=\"\",\"\",Arbitres!B22)","v":""},"",0,0,"",0,null,17,0]
[{"$f":"IF(Arbitres!B23=\"\",\"\",Arbitres!B23)","v":""},"",0,0,"",0,null,18,0]
[{"$f":"IF(Arbitres!B24=\"\",\"\",Arbitres!B24)","v":""},"",0,0,"",0,null,19,0]
[{"$f":"IF(Arbitres!B25=\"\",\"\",Arbitres!B25)","v":""},"",0,0,"",0,null,20,0]
[{"$f":"IF(Arbitres!B26=\"\",\"\",Arbitres!B26)","v":""},"",0,0,"",0]
[{"$f":"IF(Arbitres!B27=\"\",\"\",Arbitres!B27)","v":""},"",0,0,"",0,0]
[{"$f":"IF(Arbitres!B28=\"\",\"\",Arbitres!B28)","v":""},"",0,0,"",0,null," de tours de réserve"]
[{"$f":"IF(Arbitres!B29=\"\",\"\",Arbitres!B29)","v":""},"",0,0,"",0,null,"Nb Tours","Nb Arb/Eq",{"$f":"72-(SUM(I3:I23))","v":72}]
[{"$f":"IF(Arbitres!B30=\"\",\"\",Arbitres!B30)","v":""},"",0,0,"",0,null,0,{"$f":"COUNTIF(Rec_res,Ct_res)-J27","v":0}]
[{"$f":"IF(Arbitres!B31=\"\",\"\",Arbitres!B31)","v":""},"",0,0,"",0,null,1,{"$f":"COUNTIF(Rec_res,Ct_res)","v":0}]
[{"$f":"IF(Arbitres!B32=\"\",\"\",Arbitres!B32)","v":""},"",0,0,"",0,null,2,0]
[{"$f":"IF(Arbitres!B33=\"\",\"\",Arbitres!B33)","v":""},"",0,0,"",0,null,3,0]
[{"$f":"IF(Arbitres!B34=\"\",\"\",Arbitres!B34)","v":""},"",0,0,"",0,null,4,0]
[{"$f":"IF(Arbitres!B35=\"\",\"\",Arbitres!B35)","v":""},"",0,0,"",0,null,5,0]
[{"$f":"IF(Arbitres!B36=\"\",\"\",Arbitres!B36)","v":""},{"$f":"IF(A34=\"\",\"\",COUNTIF(ZONE_ARB,$A34))","v":""},{"$f":"IF(A34=\"\",0,COUNTIF(Zone_CA,$A34))","v":0},{"$f":"IF(A34=\"\",0,COUNTIF(ZONE_RES,$A34))","v":0},{"$f":"IF(A34=\"\",\"\",COUNTIF(ZONE_REP,$A34))","v":""},0]
[{"$f":"IF(Arbitres!B37=\"\",\"\",Arbitres!B37)","v":""},"",0,0,"",0,0]
[{"$f":"IF(Arbitres!B38=\"\",\"\",Arbitres!B38)","v":""},"",0,0,"",0,null," de tours de CA/Réserve"]
[{"$f":"IF(Arbitres!B39=\"\",\"\",Arbitres!B39)","v":""},"",0,0,"",0,null,"Nb Tours","Nb Arb/Eq"]
[{"$f":"IF(Arbitres!B40=\"\",\"\",Arbitres!B40)","v":""},"",0,0,"",0,null,0,{"$f":"IF(CHAP=\"Non\",\"\",COUNTIF(Rec_ca,Ct_CA))-J27","v":0}]
[{"$f":"IF(Arbitres!B41=\"\",\"\",Arbitres!B41)","v":""},"",0,0,"",0,null,1,{"$f":"IF(CHAP=\"Non\",\"\",COUNTIF(Rec_ca,Ct_CA))","v":0}]
[{"$f":"IF(Arbitres!B42=\"\",\"\",Arbitres!B42)","v":""},"",0,0,"",0,null,2,0]
[{"$f":"IF(Arbitres!B43=\"\",\"\",Arbitres!B43)","v":""},"",0,0,"",0,null,3,0]
[{"$f":"IF(Arbitres!B44=\"\",\"\",Arbitres!B44)","v":""},"",0,0,"",0,null,4,0]
[{"$f":"IF(Arbitres!B45=\"\",\"\",Arbitres!B45)","v":""},"",0,0,"",0,null,5,0]
[{"$f":"IF(Arbitres!B46=\"\",\"\",Arbitres!B46)","v":""},"",0,0,"",0,null,6,0]
[{"$f":"IF(Arbitres!B47=\"\",\"\",Arbitres!B47)","v":""},"",0,0,"",0,null,7,0]
[{"$f":"IF(Arbitres!B48=\"\",\"\",Arbitres!B48)","v":""},"",0,0,"",0,null,8,0]
[{"$f":"IF(Arbitres!B49=\"\",\"\",Arbitres!B49)","v":""},"",0,0,"",0,null,9,0]
[{"$f":"IF(Arbitres!B50=\"\",\"\",Arbitres!B50)","v":""},"",0,0,"",0,null,10,0]
[{"$f":"IF(Arbitres!B51=\"\",\"\",Arbitres!B51)","v":""},"",0,0,"",0]
[{"$f":"IF(Arbitres!B52=\"\",\"\",Arbitres!B52)","v":""},"",0,0,"",0]
[{"$f":"IF(Arbitres!B53=\"\",\"\",Arbitres!B53)","v":""},"",0,0,"",0]
[{"$f":"IF(Arbitres!B54=\"\",\"\",Arbitres!B54)","v":""},"",0,0,"",0]
[{"$f":"IF(Arbitres!B55=\"\",\"\",Arbitres!B55)","v":""},"",0,0,"",0]
[{"$f":"IF(Arbitres!B56=\"\",\"\",Arbitres!B56)","v":""},{"$f":"IF(A54=\"\",\"\",COUNTIF(ZONE_ARB,$A54))","v":""},0,0,"",0]
[{"$f":"IF(Arbitres!B57=\"\",\"\",Arbitres!B57)","v":""},"",0,0,"",0]
[{"$f":"IF(Arbitres!B58=\"\",\"\",Arbitres!B58)","v":""},"",0,0,"",0]
[{"$f":"IF(Arbitres!B59=\"\",\"\",Arbitres!B59)","v":""},"",0,0,"",0]
[{"$f":"IF(Arbitres!B60=\"\",\"\",Arbitres!B60)","v":""},"",0,0,"",0]
[{"$f":"IF(Arbitres!B61=\"\",\"\",Arbitres!B61)","v":""},"",0,0,"",0]
[{"$f":"IF(Arbitres!B62=\"\",\"\",Arbitres!B62)","v":""},"",0,0,"",0]
[{"$f":"IF(Arbitres!B63=\"\",\"\",Arbitres!B63)","v":""},"",0,0,"",0]
[{"$f":"IF(Arbitres!B64=\"\",\"\",Arbitres!B64)","v":""},"",0,0,"",0]
[{"$f":"IF(Arbitres!B65=\"\",\"\",Arbitres!B65)","v":""},"",0,0,"",0]
[{"$f":"IF(Arbitres!B66=\"\",\"\",Arbitres!B66)","v":""},"",0,0,"",0]
[{"$f":"IF(Arbitres!B67=\"\",\"\",Arbitres!B67)","v":""},"",0,0,"",0]
[{"$f":"IF(Arbitres!B68=\"\",\"\",Arbitres!B68)","v":""},"",{"$f":"IF(A66=\"\",0,COUNTIF(Zone_CA,$A66))","v":0},{"$f":"IF(A66=\"\",0,COUNTIF(ZONE_RES,$A66))","v":0},"",0]
[{"$f":"IF(Arbitres!B69=\"\",\"\",Arbitres!B69)","v":""},"",0,0,"",{"$f":"C67+D67","v":0}]
[{"$f":"IF(Arbitres!B70=\"\",\"\",Arbitres!B70)","v":""},"",0,0,"",0]
[{"$f":"IF(Arbitres!B71=\"\",\"\",Arbitres!B71)","v":""},"",0,0,"",0]
[{"$f":"IF(Arbitres!B72=\"\",\"\",Arbitres!B72)","v":""},"",0,0,"",0]
[{"$f":"IF(Arbitres!B73=\"\",\"\",Arbitres!B73)","v":""},"",0,0,"",0]
[{"$f":"IF(Arbitres!B74=\"\",\"\",Arbitres!B74)","v":""},"",0,0,"",0]
[{"$f":"IF(Arbitres!B75=\"\",\"\",Arbitres!B75)","v":""},"",0,0,"",0]
[{"$f":"IF(Arbitres!B76=\"\",\"\",Arbitres!B76)","v":""},"",{"$f":"IF(A74=\"\",\"\",COUNTIF(Zone_CA,$A74))","v":""},{"$f":"IF(A74=\"\",\"\",COUNTIF(ZONE_RES,$A74))","v":""},{"$f":"IF(A74=\"\",\"\",COUNTIF(ZONE_REP,$A74))","v":""}]
[{"$f":"IF(Arbitres!B77=\"\",\"\",Arbitres!B77)","v":""},"",{"$f":"IF(A75=\"\",\"\",COUNTIF(Zone_CA,$A75))","v":""},{"$f":"IF(A75=\"\",\"\",COUNTIF(ZONE_RES,$A75))","v":""},""]
[{"$f":"IF(Arbitres!B78=\"\",\"\",Arbitres!B78)","v":""},"",{"$f":"IF(A76=\"\",\"\",COUNTIF(Zone_CA,$A76))","v":""},{"$f":"IF(A76=\"\",\"\",COUNTIF(ZONE_RES,$A76))","v":""},""]
[{"$f":"IF(Arbitres!B79=\"\",\"\",Arbitres!B79)","v":""},"",{"$f":"IF(A77=\"\",0,COUNTIF(Zone_CA,$A77))","v":0},{"$f":"IF(A77=\"\",0,COUNTIF(ZONE_RES,$A77))","v":0},"",{"$f":"C77+D77","v":0}]
[{"$f":"IF(Arbitres!B80=\"\",\"\",Arbitres!B80)","v":""},"",0,0,"",0]
[{"$f":"IF(Arbitres!B81=\"\",\"\",Arbitres!B81)","v":""},"",0,0,"",0]
[{"$f":"IF(Arbitres!B82=\"\",\"\",Arbitres!B82)","v":""},"",0,0,"",0]
[{"$f":"IF(Arbitres!B83=\"\",\"\",Arbitres!B83)","v":""},"",0,0,"",0]
[{"$f":"IF(Arbitres!B84=\"\",\"\",Arbitres!B84)","v":""},"",0,0,{"$f":"IF(A82=\"\",\"\",COUNTIF(ZONE_REP,$A82))","v":""},0]
[{"$f":"IF(Arbitres!B85=\"\",\"\",Arbitres!B85)","v":""},"",0,0,"",0]
[{"$f":"IF(Arbitres!B86=\"\",\"\",Arbitres!B86)","v":""},"",0,0,"",0]
[{"$f":"IF(Arbitres!B87=\"\",\"\",Arbitres!B87)","v":""},"",0,0,"",0]
[{"$f":"IF(Arbitres!B88=\"\",\"\",Arbitres!B88)","v":""},"",0,0,"",0]
[{"$f":"IF(Arbitres!B89=\"\",\"\",Arbitres!B89)","v":""},"",0,0,"",0]
[{"$f":"IF(Arbitres!B90=\"\",\"\",Arbitres!B90)","v":""},"",0,0,"",0]
[{"$f":"IF(Arbitres!B91=\"\",\"\",Arbitres!B91)","v":""},"",0,0,"",0]
[{"$f":"IF(Arbitres!B92=\"\",\"\",Arbitres!B92)","v":""},"",0,0,"",0]
[{"$f":"IF(Arbitres!B93=\"\",\"\",Arbitres!B93)","v":""},"",0,0,"",0]
[{"$f":"IF(Arbitres!B94=\"\",\"\",Arbitres!B94)","v":""},"",0,0,"",0]
[{"$f":"IF(Arbitres!B95=\"\",\"\",Arbitres!B95)","v":""},"",0,0,"",0]
[{"$f":"IF(Arbitres!B96=\"\",\"\",Arbitres!B96)","v":""},"",0,0,"",0]
[{"$f":"IF(Arbitres!B97=\"\",\"\",Arbitres!B97)","v":""},"",0,0,"",0]
[{"$f":"IF(Arbitres!B98=\"\",\"\",Arbitres!B98)","v":""},"",0,0,"",0]
[{"$f":"IF(Arbitres!B99=\"\",\"\",Arbitres!B99)","v":""},"",0,0,"",0]
[{"$f":"IF(Arbitres!B100=\"\",\"\",Arbitres!B100)","v":""},"",0,0,"",0]
[{"$f":"IF(Arbitres!B101=\"\",\"\",Arbitres!B101)","v":""},"",0,0,"",0]
[{"$f":"IF(Arbitres!B102=\"\",\"\",Arbitres!B102)","v":""},"",0,0,"",0]
[{"$f":"IF(Arbitres!B103=\"\",\"\",Arbitres!B103)","v":""},"",0,0,"",0]

{"sheet":"Recap_PTA_Arb","index":8,"n_rows":2,"n_cols":3,"rows_kept":2,"cut":false,"hidden":false,"merged":[]}
[]
[null,null,{"$f":"IF(B4=\"\",\"\",\"RECAP PTA des ARBITRES et Situation des Repos\")","v":""}]

{"sheet":"Arbitres CFA","index":9,"n_rows":84,"n_cols":14,"rows_kept":84,"cut":false,"hidden":false,"merged":[]}
[null,null,null,null,null,null,null,null,null,null,"NBJ","Modification"]
["JA",null,null,null,null,null,null,null,null,"Juge Arbitre",{"$f":"IF(C2=\"\",\"\",IF(L2=\"\",NB_JP+1,L2+1))","v":""},null,null,{"$f":"IF(C2=\"\",\"\",C2)","v":""}]
["JAA",null,null,null,null,null,null,null,null,"Juge Arbitre Adjoint",{"$f":"IF(C3=\"\",\"\",IF(L3=\"\",NB_JP,L3))","v":""},null,null,""]
["JAA",null,null,null,null,null,null,null,null,"Juge Arbitre Adjoint","",null,null,""]
["RE",null,null,null,null,null,null,null,null,"Juge Arbitre Adjoint","",null,null,""]
["RA",null,null,null,null,null,null,null,null,"Juge Arbitre Adjoint","",null,null,""]
[null,null,null,null,null,null,null,null,null,"Juge Arbitre Adjoint",{"$f":"IF(C11=\"\",\"\",IF(L7=\"\",NB_JP,L7))","v":""},null,null,{"$f":"IF(C11=\"\",\"\",C11)","v":""}]
[null,null,null,null,null,null,null,null,null,"Juge Arbitre Adjoint",{"$f":"IF(C12=\"\",\"\",IF(L8=\"\",NB_JP,L8))","v":""},null,null,{"$f":"IF(C12=\"\",\"\",C12)","v":""}]
[null,null,null,null,null,null,null,null,null,null,""]
[null,null,null,null,null,null,null,null,null,null,""]
["Superviseur",null,null,null,null,null,null,null,null,{"$f":"A11","v":"Superviseur"},""]
["Superviseur",null,null,null,null,null,null,null,null,{"$f":"A12","v":"Superviseur"},{"$f":"IF(C16=\"\",\"\",IF(L12=\"\",NB_JP,L12))","v":""}]
["Arbitres",null,null,null,null,null,null,null,null,null,{"$f":"IF(C17=\"\",\"\",IF(L13=\"\",NB_JP,L13))","v":""}]
[0,1,null,null,null,null,null,null,null,{"$f":"IF(C14>\"A\",\"Arbitre\",\"\")","v":""},""]
[0,2,null,null,null,null,null,null,null,"",""]
[0,3,null,null,null,null,null,null,null,"",""]
[0,4,null,null,null,null,null,null,null,"",""]
[0,5,null,null,null,null,null,null,null,"",""]
[0,6,null,null,null,null,null,null,null,"",""]
[0,7,null,null,null,null,null,null,null,"",""]
[0,8,null,null,null,null,null,null,null,"",""]
[0,9,null,null,null,null,null,null,null,"",""]
[0,10,null,null,null,null,null,null,null,"",""]
[0,11,null,null,null,null,null,null,null,"",""]
[0,12,null,null,null,null,null,null,null,"",""]
[0,13,null,null,null,null,null,null,null,"",""]
[0,14,null,null,null,null,null,null,null,"",""]
[0,15,null,null,null,null,null,null,null,"",""]
[0,16,null,null,null,null,null,null,null,"",""]
[0,17,null,null,null,null,null,null,null,"",""]
[0,18,null,null,null,null,null,null,null,"",""]
[0,19,null,null,null,null,null,null,null,"",""]
[0,20,null,null,null,null,null,null,null,"",""]
["",21,null,null,null,null,null,null,null,"",{"$f":"IF(C34=\"\",\"\",IF(L34=\"\",NB_JP,L34))","v":""}]
[null,22,null,null,null,null,null,null,null,"",""]
[null,23,null,null,null,null,null,null,null,"",""]
[null,24,null,null,null,null,null,null,null,"",""]
[null,25,null,null,null,null,null,null,null,"",""]
[null,26,null,null,null,null,null,null,null,"",""]
[null,27,null,null,null,null,null,null,null,"",""]
[null,28,null,null,null,null,null,null,null,"",""]
[null,29,null,null,null,null,null,null,null,{"$f":"IF(C42>\"A\",\"Arbitre\",\"\")","v":""},""]
[null,30,null,null,null,null,null,null,null,"",""]
[null,31,null,null,null,null,null,null,null,"",""]
[null,32,null,null,null,null,null,null,null,"",""]
[null,33,null,null,null,null,null,null,null,"",""]
[null,34,null,null,null,null,null,null,null,"",""]
[null,35,null,null,null,null,null,null,null,"",""]
[null,36,null,null,null,null,null,null,null,"",""]
[null,37,null,null,null,null,null,null,null,"",""]
[null,38,null,null,null,null,null,null,null,"",""]
[null,39,null,null,null,null,null,null,null,"",""]
[null,40,null,null,null,null,null,null,null,"",""]
[null,41,null,null,null,null,null,null,null,"",""]
[null,42,null,null,null,null,null,null,null,"",""]
[null,43,null,null,null,null,null,null,null,"",""]
[null,44,null,null,null,null,null,null,null,"",""]
[null,45,null,null,null,null,null,null,null,"",""]
[null,46,null,null,null,null,null,null,null,"",""]
[null,47,null,null,null,null,null,null,null,"",""]
[null,48,null,null,null,null,null,null,null,"",""]
[null,49,null,null,null,null,null,null,null,"",""]
[null,50,null,null,null,null,null,null,null,"",""]
[null,51,null,null,null,null,null,null,null,"",""]
[null,52,null,null,null,null,null,null,null,"",""]
[null,53,null,null,null,null,null,null,null,"",{"$f":"IF(C66=\"\",\"\",IF(L66=\"\",NB_JP,L66))","v":""}]
[null,54,null,null,null,null,null,null,null,"",""]
[null,55,null,null,null,null,null,null,null,"",""]
[null,56,null,null,null,null,null,null,null,"",""]
[null,57,null,null,null,null,null,null,null,"",""]
[null,58,null,null,null,null,null,null,null,"",""]
[null,59,null,null,null,null,null,null,null,"",""]
[null,60,null,null,null,null,null,null,null,"",""]
[null,61,null,"Pascal",null,null,null,null,null,"",""]
[null,62,null,"Alain",null,null,null,null,null,"",""]
[null,63,null,"Bénédicte",null,null,null,null,null,"",""]
[null,64,null,"Christian",null,null,null,null,null,"",""]
[null,65,null,"Jean Luck",null,null,null,null,null,{"$f":"IF(C78>\"A\",\"Arbitre\",\"\")","v":""},""]
[null,66,null,"Joceleine",null,null,null,null,null,"",""]
[null,67,null,"Nicolas",null,null,null,null,null,"",""]
[null,68,null,"Cédric",null,null,null,null,null,{"$f":"IF(C81>\"A\",\"Arbitre\",\"\")","v":""},""]
[null,69,null,"Jean",null,null,null,null,null,"",""]
[null,70,null,"Aurélien",null,null,null,null,null,"",""]
[null,71,null,"Anne Catherine"]

{"sheet":"Arbitres","index":10,"n_rows":105,"n_cols":37,"rows_kept":105,"cut":false,"hidden":false,"merged":[[21,21,24,23],[8,21,9,23],[11,21,12,23],[75,2,77,2],[14,21,16,23],[18,21,19,23],[30,21,31,23],[1,28,2,28],[1,16,2,16],[0,17,0,24],[6,21,6,23],[4,21,4,23],[5,21,5,23],[1,21,1,23],[3,21,3,23]]}
["N° 1er Arbitre","N° Arbitre ou Equipe",null,"N° 2ème Arbitre",null,"N°3ème Arbitre",null,null,"Provenant de la liste FFTT ou de la Région",null,"Nom","Prénom","Renseigner le Nbre d'équipes  prévues :                                             (72 arbitres maximum 24 Eq de 3        - 48 arbitres maximum Eq de 2)",16,null,null,null,"GESTION  des Equipes et préparation des listes                    (permet d'alimenter à droite le tableau pour un document prêt à imprimer)"]
[1,null,{"$f":"Comp","v":0},null,null,null,null,null,null,null,null,null,null,null,null,null,null,null,null,null,null,"Prépare la numérotation Alpha numérique dans colonne B",null,null,null,null,{"$f":"Comp","v":0},null,{"$f":"IF(AA4=\"\",\"\",\"Listes des équipes d'arbitres\")","v":""}]
[1,null,{"$f":"+Lieu","v":0},null,{"$f":"IF(E4=\"\",\"Liste des Arbitres\",\"Listes des équipes d'arbitres\")","v":"Liste des Arbitres"},null,{"$f":"IF(PTA!A4=\"\",\"\",PTA!A4)","v":""},null,null,null,null,null,null,null,null,null,null,null,null,null,null,null,null,null,null,null,{"$f":"+Lieu","v":0},null,null,null,{"$f":"IF(PTA!A4=\"\",\"\",PTA!A4)","v":""},null,"4ème Arbitre"]
[null,"",{"$f":"IF(A4=\"\",\"\",IF(ISNA(VLOOKUP(A4,Base_arbi,2,FALSE)=TRUE),\"\",VLOOKUP(A4,Base_arbi,2,FALSE)))","v":""},null,{"$f":"IF(D4=\"\",\"\",IF(ISNA(VLOOKUP(D4,Base_arbi,2,FALSE)=TRUE),\"\",VLOOKUP(D4,Base_arbi,2,FALSE)))","v":""},null,{"$f":"IF(F4=\"\",\"\",IF(ISNA(VLOOKUP(F4,Base_arbi,2,FALSE)=TRUE),\"\",VLOOKUP(F4,Base_arbi,2,FALSE)))","v":""},1,{"$f":"K4&\" \"&L4","v":" "},null,{"$f":"IF('Arbitres CFA'!C14=\"\",\"\",'Arbitres CFA'!C14)","v":""},null,null,null,null,null,null,null,null,null,null,"Impression des équipe de 2 arbitres",null,null,null,null,null,null,null,null,null,{"$f":"IF(AG4=\"\",\"\",IF(ISNA(VLOOKUP(AG4,Base_arbi,2,FALSE)=TRUE),\"\",VLOOKUP(AG4,Base_arbi,2,FALSE)))","v":""},null,{"$f":"IF(AB4<>\"\",AB4,\"\")","v":""},{"$f":"IF(AB4=\"\",\"\",LEFT(Z4,1)&2)","v":""},{"$f":"IF(AD4<>\"\",AD4,\"\")","v":""},{"$f":"IF(AD4=\"\",\"\",LEFT(Z4,1)&3)","v":""}]
[null,"","",null,"",null,"",2,{"$f":"K5&\" \"&L5","v":" "},null,{"$f":"IF('Arbitres CFA'!C15=\"\",\"\",'Arbitres CFA'!C15)","v":""},null,null,null,null,null,null,null,null,null,null,"Prépare la liste des équipes et affecte N° Alpha numérique",null,null,null,null,null,null,null,null,null,"",null,{"$f":"IF(AB5<>\"\",AB5,\"\")","v":""},{"$f":"IF(AB5=\"\",\"\",LEFT(Z5,1)&2)","v":""},{"$f":"IF(AD5<>\"\",AD5,\"\")","v":""},{"$f":"IF(AD5=\"\",\"\",LEFT(Z5,1)&3)","v":""}]
[null,"","",null,"",null,"",3," ",null,{"$f":"IF('Arbitres CFA'!C16=\"\",\"\",'Arbitres CFA'!C16)","v":""},null,null,null,null,null,null,null,null,null,null,"tous les arbitres sont dans les colonnes A et B",null,null,null,null,null,null,null,null,null,"",null,"","","",""]
[null,"","",null,"",null,"",4," ",null,{"$f":"IF('Arbitres CFA'!C17=\"\",\"\",'Arbitres CFA'!C17)","v":""},null,null,null,null,null,null,null,"24 équipes de 3 Max",null,null,"Facilite la saisie individuelle sur la feuille PTA",null,null,null,null,null,null,null,null,null,"",null,"","","",""]
[null,"","",null,"",null,"",5," ",null,{"$f":"IF('Arbitres CFA'!C18=\"\",\"\",'Arbitres CFA'!C18)","v":""},null,null,null,null,null,null,null,"24 équipes de 2 Max",null,null,null,null,null,null,null,null,null,null,null,null,"",null,"","","",""]
[null,"","",null,"",null,"",6," ",null,{"$f":"IF('Arbitres CFA'!C19=\"\",\"\",'Arbitres CFA'!C19)","v":""},null,null,null,null,null,null,null,null,null,null,"Impression des Equipes  à droite",null,null,null,null,null,null,null,null,null,"",null,"","","",""]
[null,"","",null,"",null,"",7," ",null,{"$f":"IF('Arbitres CFA'!C20=\"\",\"\",'Arbitres CFA'!C20)","v":""},null,null,null,null,null,null,null,null,null,null,null,null,null,null,null,null,null,null,null,null,"",null,"","","",""]
[null,"","",null,"",null,"",8," ",null,{"$f":"IF('Arbitres CFA'!C21=\"\",\"\",'Arbitres CFA'!C21)","v":""},null,null,null,null,null,null,null,null,null,null,null,null,null,null,null,null,null,null,null,null,"",null,"","","",""]
[null,"","",null,"",null,"",9," ",null,{"$f":"IF('Arbitres CFA'!C22=\"\",\"\",'Arbitres CFA'!C22)","v":""},null,null,null,null,null,null,null,null,null,null,"Impression des arbitres se situant colonne A à  G avec N° alpha numérique",null,null,null,null,null,null,null,null,null,"",null,"","","",""]
[null,"","",null,"",null,"",10," ",null,{"$f":"IF('Arbitres CFA'!C23=\"\",\"\",'Arbitres CFA'!C23)","v":""},null,null,null,null,null,null,null,null,null,null,null,null,null,null,null,null,null,null,null,null,"",null,"","","",""]
[null,"","",null,"",null,"",11," ",null,{"$f":"IF('Arbitres CFA'!C24=\"\",\"\",'Arbitres CFA'!C24)","v":""},null,null,null,null,null,null,null,null,null,null,null,null,null,null,null,null,null,null,null,null,"",null,"","","",""]
[null,"","",null,"",null,"",12," ",null,{"$f":"IF('Arbitres CFA'!C25=\"\",\"\",'Arbitres CFA'!C25)","v":""},null,null,null,null,null,null,null,null,null,null,null,null,null,null,null,null,null,null,null,null,"",null,"","","",""]
[null,"","",null,"",null,"",13," ",null,{"$f":"IF('Arbitres CFA'!C26=\"\",\"\",'Arbitres CFA'!C26)","v":""},null,null,null,null,null,null,null,null,null,null,null,null,null,null,null,null,null,null,null,null,"",null,"","","",""]
[null,"","",null,"",null,"",14," ",null,{"$f":"IF('Arbitres CFA'!C27=\"\",\"\",'Arbitres CFA'!C27)","v":""},null,null,null,null,null,null,null,null,null,null,null,null,null,null,null,null,null,null,null,null,"",null,"","","",""]
[null,"","",null,"",null,"",15," ",null,{"$f":"IF('Arbitres CFA'!C28=\"\",\"\",'Arbitres CFA'!C28)","v":""},null,null,null,null,null,null,null,null,null,null,null,null,null,null,null,null,null,null,null,null,"",null,"","","",""]
[null,"",{"$f":"IF(A19=\"\",\"\",IF(ISNA(VLOOKUP(A19,Base_arbi,2,FALSE)=TRUE),\"\",VLOOKUP(A19,Base_arbi,2,FALSE)))","v":""},null,{"$f":"IF(D19=\"\",\"\",IF(ISNA(VLOOKUP(D19,Base_arbi,2,FALSE)=TRUE),\"\",VLOOKUP(D19,Base_arbi,2,FALSE)))","v":""},null,"",16," ",null,{"$f":"IF('Arbitres CFA'!C29=\"\",\"\",'Arbitres CFA'!C29)","v":""},null,null,null,null,null,null,null,null,null,null,"Permet de remettre à l'état Initial les colonnes A à G à partir de la liste de droite",null,null,null,null,null,null,null,null,null,"",null,"","","",""]
[null,"","",null,"",null,{"$f":"IF(F20=\"\",\"\",IF(ISNA(VLOOKUP(F20,Base_arbi,2,FALSE)=TRUE),\"\",VLOOKUP(F20,Base_arbi,2,FALSE)))","v":""},17," ",null,{"$f":"IF('Arbitres CFA'!C30=\"\",\"\",'Arbitres CFA'!C30)","v":""},null,null,null,null,null,null,null,null,null,null,null,null,null,null,null,null,null,null,null,null,"",null,"","","",""]
[null,"","",null,"",null,"",18," ",null,{"$f":"IF('Arbitres CFA'!C31=\"\",\"\",'Arbitres CFA'!C31)","v":""},null,null,null,null,null,null,null,null,null,null,null,null,null,null,null,null,null,null,null,null,"",null,"","","",""]
[null,"","",null,"",null,"",19," ",null,{"$f":"IF('Arbitres CFA'!C32=\"\",\"\",'Arbitres CFA'!C32)","v":""},null,null,null,null,null,null,null,null,null,null,null,null,null,null,null,null,null,null,null,null,"",null,"","","",""]
[null,"","",null,"",null,"",20," ",null,{"$f":"IF('Arbitres CFA'!C33=\"\",\"\",'Arbitres CFA'!C33)","v":""},null,null,null,null,null,null,null,null,null,null,null,null,null,null,null,null,null,null,null,null,"",null,"","","",""]
[null,"","",null,"",null,"",21," ",null,{"$f":"IF('Arbitres CFA'!C34=\"\",\"\",'Arbitres CFA'!C34)","v":""},null,null,null,null,null,null,null,null,null,null,null,null,null,null,null,null,null,null,null,null,"",null,"","","",""]
[null,"","",null,"",null,"",22," ",null,{"$f":"IF('Arbitres CFA'!C35=\"\",\"\",'Arbitres CFA'!C35)","v":""},null,null,null,null,null,null,null,null,null,null,null,null,null,null,null,null,null,null,null,null,"",null,"","","",""]
[null,"","",null,"",null,"",23," ",null,{"$f":"IF('Arbitres CFA'!C36=\"\",\"\",'Arbitres CFA'!C36)","v":""},null,null,null,null,null,null,null,null,null,null,null,null,null,null,null,null,null,null,null,null,"",null,"","","",""]
[null,"","",null,"",null,"",24," ",null,{"$f":"IF('Arbitres CFA'!C37=\"\",\"\",'Arbitres CFA'!C37)","v":""},null,null,null,null,null,null,null,null,null,null,null,null,null,null,null,null,null,null,null,null,"",null,"","","",""]
[null,"","",null,"",null,"",25," ",null,{"$f":"IF('Arbitres CFA'!C38=\"\",\"\",'Arbitres CFA'!C38)","v":""},null,null,null,null,null,null,null,null,null,null,null,null,null,null,null,null,null,null,null,null,null,null,{"$f":"IF(AD28<>\"\",AD28,\"\")","v":""},{"$f":"IF(AD28=\"\",\"\",LEFT(Z28,1)&3)","v":""}]
[null,"","",null,{"$f":"IF(D29=\"\",\"\",IF(ISNA(VLOOKUP(D29,Base_arbi,2,FALSE)=TRUE),\"\",VLOOKUP(D29,Base_arbi,2,FALSE)))","v":""},null,{"$f":"IF(F29=\"\",\"\",IF(ISNA(VLOOKUP(F29,Base_arbi,2,FALSE)=TRUE),\"\",VLOOKUP(F29,Base_arbi,2,FALSE)))","v":""},26," ",null,{"$f":"IF('Arbitres CFA'!C39=\"\",\"\",'Arbitres CFA'!C39)","v":""}]
[null,"","",null,"",null,"",27," ",null,{"$f":"IF('Arbitres CFA'!C40=\"\",\"\",'Arbitres CFA'!C40)","v":""},null,null,null,null,null,null,null,null,null,null,null,null,null,null,{"$f":"Comp","v":0},null,null,null,""]
[null,"","",null,"",null,"",28," ",null,{"$f":"IF('Arbitres CFA'!C41=\"\",\"\",'Arbitres CFA'!C41)","v":""},null,null,null,null,null,null,null,null,null,null,"Impression des Equipes  désignées pour les partie finales",null,null,null,{"$f":"IF($A$79=\"\",\"\",Lieu)","v":""},null,{"$f":"IF($A$79=\"\",\"\",\"Liste des Equipes d'Arbitres pour les Parties Finales\")","v":""}]
[null,"","",null,"",null,"",29," ",null,{"$f":"IF('Arbitres CFA'!C42=\"\",\"\",'Arbitres CFA'!C42)","v":""},null,null,null,null,null,null,null,null,null,null,null,null,null,"",{"$f":"IF(A79=\"\",\"\",B79)","v":""},{"$f":"IF(A79=\"\",\"\",C79)","v":""},null,{"$f":"IF($A79=\"\",\"\",E79)","v":""},{"$f":"IF($A79=\"\",\"\",G79)","v":""}]
[null,"","",null,"",null,"",30," ",null,{"$f":"IF('Arbitres CFA'!C43=\"\",\"\",'Arbitres CFA'!C43)","v":""},null,null,null,null,null,null,null,null,null,null,null,null,null,"","","",null,{"$f":"IF(A80=\"\",\"\",E80)","v":""},""]
[null,"",{"$f":"IF(A34=\"\",\"\",IF(ISNA(VLOOKUP(A34,Base_arbi,2,FALSE)=TRUE),\"\",VLOOKUP(A34,Base_arbi,2,FALSE)))","v":""},null,"",null,"",31," ",null,{"$f":"IF('Arbitres CFA'!C44=\"\",\"\",'Arbitres CFA'!C44)","v":""},null,null,null,null,null,null,null,null,null,null,null,null,null,"","","",null,"",""]
[null,"","",null,"",null,"",32," ",null,{"$f":"IF('Arbitres CFA'!C45=\"\",\"\",'Arbitres CFA'!C45)","v":""},null,null,null,null,null,null,null,null,null,null,null,null,null,"","","",null,"",""]
[null,"","",null,"",null,"",33," ",null,{"$f":"IF('Arbitres CFA'!C46=\"\",\"\",'Arbitres CFA'!C46)","v":""},null,null,null,null,null,null,null,null,null,null,null,null,null,"","","",null,"",""]
[null,"","",null,"",null,"",34," ",null,{"$f":"IF('Arbitres CFA'!C47=\"\",\"\",'Arbitres CFA'!C47)","v":""},null,null,null,null,null,null,null,null,null,null,null,null,null,"","","",null,"",""]
[null,"","",null,"",null,"",35," ",null,{"$f":"IF('Arbitres CFA'!C48=\"\",\"\",'Arbitres CFA'!C48)","v":""},null,null,null,null,null,null,null,null,null,null,null,null,null,"","","",null,"",""]
[null,"","",null,"",null,"",36," ",null,{"$f":"IF('Arbitres CFA'!C49=\"\",\"\",'Arbitres CFA'!C49)","v":""},null,null,null,null,null,null,null,null,null,null,null,null,null,"","","",null,"",""]
[null,"","",null,"",null,"",37," ",null,{"$f":"IF('Arbitres CFA'!C50=\"\",\"\",'Arbitres CFA'!C50)","v":""},null,null,null,null,null,null,null,null,null,null,null,null,null,"","","",null,"",""]
[null,"","",null,"",null,"",38," ",null,{"$f":"IF('Arbitres CFA'!C51=\"\",\"\",'Arbitres CFA'!C51)","v":""},null,null,null,null,null,null,null,null,null,null,null,null,null,"","","",null,"",""]
[null,"","",null,"",null,"",39," ",null,{"$f":"IF('Arbitres CFA'!C52=\"\",\"\",'Arbitres CFA'!C52)","v":""},null,null,null,null,null,null,null,null,null,null,null,null,null,"",{"$f":"IF(A89=\"\",\"\",B89)","v":""},{"$f":"IF(A89=\"\",\"\",C89)","v":""},null,{"$f":"IF(A89=\"\",\"\",E89)","v":""},{"$f":"IF($A89=\"\",\"\",G89)","v":""}]
[null,"","",null,"",null,"",40," ",null,{"$f":"IF('Arbitres CFA'!C53=\"\",\"\",'Arbitres CFA'!C53)","v":""},null,null,null,null,null,null,null,null,null,null,null,null,null,"","","",null,"",""]
[null,"","",null,"",null,"",41," ",null,{"$f":"IF('Arbitres CFA'!C54=\"\",\"\",'Arbitres CFA'!C54)","v":""},null,null,null,null,null,null,null,null,null,null,null,null,null,"","","",null,"",""]
[null,"","",null,"",null,"",42," ",null,{"$f":"IF('Arbitres CFA'!C55=\"\",\"\",'Arbitres CFA'!C55)","v":""},null,null,null,null,null,null,null,null,null,null,null,null,null,"","","",null,"",""]
[null,"","",null,"",null,"",43," ",null,{"$f":"IF('Arbitres CFA'!C56=\"\",\"\",'Arbitres CFA'!C56)","v":""},null,null,null,null,null,null,null,null,null,null,null,null,null,"","","",null,"",""]
[null,"","",null,"",null,"",44," ",null,{"$f":"IF('Arbitres CFA'!C57=\"\",\"\",'Arbitres CFA'!C57)","v":""},null,null,null,null,null,null,null,null,null,null,null,null,null,"","","",null,"",""]
[null,"","",null,"",null,"",45," ",null,{"$f":"IF('Arbitres CFA'!C58=\"\",\"\",'Arbitres CFA'!C58)","v":""},null,null,null,null,null,null,null,null,null,null,null,null,null,"","","",null,"",""]
[null,"","",null,"",null,"",46," ",null,{"$f":"IF('Arbitres CFA'!C59=\"\",\"\",'Arbitres CFA'!C59)","v":""},null,null,null,null,null,null,null,null,null,null,null,null,null,"","","",null,"",""]
[null,"","",null,"",null,"",47," ",null,{"$f":"IF('Arbitres CFA'!C60=\"\",\"\",'Arbitres CFA'!C60)","v":""},null,null,null,null,null,null,null,null,null,null,null,null,null,"","","",null,"",""]
[null,"","",null,"",null,"",48," ",null,{"$f":"IF('Arbitres CFA'!C61=\"\",\"\",'Arbitres CFA'!C61)","v":""},null,null,null,null,null,null,null,null,null,null,null,null,null,"","","",null,"",""]
[null,"","",null,"",null,"","Régionaux"," ",null,null,null,null,null,null,null,null,null,null,null,null,null,null,null,"","","",null,"",""]
[null,"","",null,"",null,"",49," ",null,null,null,null,null,null,null,null,null,null,null,null,null,null,null,"","","",null,"",""]
[null,"","",null,"",null,"",50,{"$f":"K54&\" \"&L54","v":" "},null,null,null,null,null,null,null,null,null,null,null,null,null,null,null,"","","",null,"",""]
[null,"","",null,"",null,"",51," ",null,null,null,null,null,null,null,null,null,null,null,null,null,null,null,"","","",null,"",""]
[null,"","",null,"",null,"",52," ",null,null,null,null,null,null,null,null,null,null,null,null,null,null,null,"","","",null,"",""]
[null,"","",null,"",null,"",53," "]
[null,"","",null,"",null,"",54," "]
[null,"","",null,"",null,"",55," "]
[null,"","",null,"",null,"",56," "]
[null,"","",null,"",null,"",57," "]
[null,"","",null,"",null,"",58," "]
[null,"","",null,"",null,"",59," "]
[null,"","",null,"",null,"",60," "]
[null,"","",null,"",null,"",61," "]
[null,"","",null,"",null,"",62," "]
[null,"","",null,"",null,"",63," "]
[null,"","",null,"",null,"",64," "]
[null,"","",null,"",null,"",65," "]
[null,"","",null,"",null,"",66," "]
[null,"","",null,"",null,"",67," "]
[null,"","",null,"",null,"",68," "]
[null,"","",null,"",null,"",69," "]
[null,"","",null,"",null,"",70," "]
[null,"","",null,"",null,"",71," "]
[null,null,"EQUIPES désignées pour les parties Finales",null,"Indiquer N° équipe Colonne B",null,null,72," "]
[null,null,null,null,"N° arbitre Colonnes A et D",null,null,73," "]
[null,null,null,null,null,null,null,74," "]
[null,null,{"$f":"IF(A79=\"\",\"\",IF(ISNA(VLOOKUP(A79,Base_arbi,2,FALSE)=TRUE),\"\",VLOOKUP(A79,Base_arbi,2,FALSE)))","v":""},null,{"$f":"IF(D79=\"\",\"\",IF(ISNA(VLOOKUP(D79,Base_arbi,2,FALSE)=TRUE),\"\",VLOOKUP(D79,Base_arbi,2,FALSE)))","v":""},null,{"$f":"IF(F79=\"\",\"\",IF(ISNA(VLOOKUP(F79,Base_arbi,2,FALSE)=TRUE),\"\",VLOOKUP(F79,Base_arbi,2,FALSE)))","v":""},75," "]
[null,null,"",null,"",null,"",76," "]
[null,null,"",null,"",null,"",77," "]
[null,null,"",null,"",null,"",78," "]
[null,null,"",null,"",null,"",79," "]
[null,null,"",null,"",null,"",80," "]
[null,null,"",null,"",null,"",81," "]
[null,null,"",null,"",null,"",82," "]
[null,null,"",null,"",null,"",83," "]
[null,null,"",null,"",null,"",84," "]
[null,null,"",null,"",null,"",85," "]
[null,null,"",null,"",null,"",86," "]
[null,null,"",null,"",null,"",87," "]
[null,null,"",null,"",null,"",88," "]
[null,null,"",null,"",null,"",89," "]
[null,null,"",null,"",null,"",90," "]
[null,null,"",null,"",null,"",91," "]
[null,null,"",null,"",null,"",92," "]
[null,null,"",null,"",null,"",93," "]
[null,null,"",null,"",null,"",94," "]
[null,null,"",null,"",null,"",95," "]
[null,null,"",null,"",null,"",96," "]
[null,null,"",null,"",null,"",97,{"$f":"K101&\" \"&L101","v":" "}]
[null,null,"",null,"",null,"",98,{"$f":"K102&\" \"&L102","v":" "}]
[null,null,"",null,"",null,"",99,{"$f":"K103&\" \"&L103","v":" "}]
["AA"]
["AA"]

{"sheet":"Récap NF FFTT","index":11,"n_rows":84,"n_cols":16,"rows_kept":84,"cut":false,"hidden":true,"merged":[[50,1,50,2],[56,1,56,2],[75,1,75,2],[61,1,61,2],[62,1,62,2],[53,1,53,2],[51,1,51,2],[55,1,55,2],[67,1,67,2],[63,1,63,2],[57,1,57,2],[70,1,70,2],[64,1,64,2],[60,1,60,2],[59,1,59,2],[58,1,58,2],[66,1,66,2],[65,1,65,2],[84,4,84,11],[82,4,82,11],[83,4,83,11],[81,4,81,11],[80,4,80,11],[78,1,78,2],[68,1,68,2],[77,1,77,3],[69,1,69,2],[74,1,74,2],[76,1,76,2],[72,1,72,2],[73,1,73,2],[71,1,71,2],[36,1,36,2],[54,1,54,2],[44,1,44,2],[45,1,45,2],[52,1,52,2],[41,1,41,2],[37,1,37,2],[38,1,38,2],[49,1,49,2],[43,1,43,2],[42,1,42,2],[39,1,39,2],[40,1,40,2],[46,1,46,2],[48,1,48,2],[47,1,47,2],[32,1,32,2],[28,1,28,2],[24,1,24,2],[9,4,9,11],[14,1,14,2],[10,7,11,7],[10,8,11,8],[10,11,11,11],[12,1,12,12],[9,12,11,12],[10,9,11,9],[4,4,4,11],[25,1,25,12],[10,4,10,5],[10,10,11,10],[10,6,11,6],[18,1,18,2],[23,1,23,2],[22,1,22,2],[21,1,21,2],[19,1,19,2],[35,1,35,2],[20,1,20,2],[6,1,6,2],[7,1,7,2],[9,1,11,2],[34,1,34,2],[27,1,27,2],[30,1,30,2],[13,1,13,2],[16,1,16,2],[17,1,17,2],[15,1,15,2],[29,1,29,2],[26,1,26,2],[33,1,33,2],[31,1,31,2]]}
[null,"FEDERATION FRANCAISE DE TENNIS DE TABLE",null,null,null,null,null,null,null,null,null,null,{"$f":"'Récap NF ORGA'!K2","v":"Saison 2025/2026"}]
[null,"3 rue Dieudonné  Costes  - B.P. 40348  -  75625   PARIS  Cedex  13"]
[null,"Tél : 01 53 94 50 16",null,null,null,null,null,null,null,null,null,null,"ARB. 2.5"]
[]
[null,null,null,null,"RECAPITULATIF DES PRESTATIONS D'ARBITRAGE"]
[]
[null,"Epreuve",null,{"$f":"'Récap NF ORGA'!C8","v":0},null,null,null,null,null,null,null,{"$f":"'Récap NF ORGA'!J8","v":""}]
[null,"Lieu",null,{"$f":"Lieu","v":0}]
[]
[null,"Nom - Prénom",null,null,"I N D E M N I T E S",null,null,null,null,null,null,null,"SIGNATURES"]
[null,null,null,"Motif","Déplacements",null,"Péage","Repas","Hôtel","Divers","Prestations","Total"]
[null,null,null,null,"Voiture","S.N.C.F.",null,null,null,null,null,null,null,null,null,"NB"]
[null,"T A B L E    A R B I T R A G E",null,null,null,null,null,null,null,null,null,null,null,null,null,"Jours"]
[1,{"$f":"'Arbitres CFA'!C2","v":0},null,{"$f":"IF(B14<\"A\",\"\",VLOOKUP(B14,Base_arb_NF,8,FALSE))","v":""},{"$f":"'Récap NF ORGA'!C15","v":0},{"$f":"'Récap NF ORGA'!D15","v":0},{"$f":"'Récap NF ORGA'!E15","v":0},{"$f":"'Récap NF ORGA'!F15","v":0},{"$f":"'Récap NF ORGA'!G15","v":0},{"$f":"'Récap NF ORGA'!I15","v":0},{"$f":"IF(B14<\"A\",\"\",IF(P14>0,$P14*(VLOOKUP(D14,Prest_NF,2,FALSE)),0))","v":""},{"$f":"SUM(E14:K14)","v":0},null,null,null,{"$f":"IF(B14<\"A\",\"\",VLOOKUP(B14,Base_arb_NF,9,FALSE))","v":""}]
[2,{"$f":"'Arbitres CFA'!C3","v":0},null,"",{"$f":"'Récap NF ORGA'!C16","v":0},{"$f":"'Récap NF ORGA'!D16","v":0},{"$f":"'Récap NF ORGA'!E16","v":0},{"$f":"'Récap NF ORGA'!F16","v":0},{"$f":"'Récap NF ORGA'!G16","v":0},{"$f":"'Récap NF ORGA'!I16","v":0},"",0,null,null,null,""]
[3,{"$f":"'Arbitres CFA'!C4","v":0},null,"",{"$f":"'Récap NF ORGA'!C17","v":0},{"$f":"'Récap NF ORGA'!D17","v":0},{"$f":"'Récap NF ORGA'!E17","v":0},{"$f":"'Récap NF ORGA'!F17","v":0},{"$f":"'Récap NF ORGA'!G17","v":0},{"$f":"'Récap NF ORGA'!I17","v":0},"",0,null,null,null,""]
[4,{"$f":"'Arbitres CFA'!C5","v":0},null,"",{"$f":"'Récap NF ORGA'!C18","v":0},{"$f":"'Récap NF ORGA'!D18","v":0},{"$f":"'Récap NF ORGA'!E18","v":0},{"$f":"'Récap NF ORGA'!F18","v":0},{"$f":"'Récap NF ORGA'!G18","v":0},{"$f":"'Récap NF ORGA'!I18","v":0},"",0,null,null,null,""]
[5,{"$f":"'Arbitres CFA'!C6","v":0},null,"",{"$f":"'Récap NF ORGA'!C19","v":0},{"$f":"'Récap NF ORGA'!D19","v":0},{"$f":"'Récap NF ORGA'!E19","v":0},{"$f":"'Récap NF ORGA'!F19","v":0},{"$f":"'Récap NF ORGA'!G19","v":0},{"$f":"'Récap NF ORGA'!I19","v":0},"",0,null,null,null,""]
[6,{"$f":"'Arbitres CFA'!C7","v":0},null,"",{"$f":"'Récap NF ORGA'!C20","v":0},{"$f":"'Récap NF ORGA'!D20","v":0},{"$f":"'Récap NF ORGA'!E20","v":0},{"$f":"'Récap NF ORGA'!F20","v":0},{"$f":"'Récap NF ORGA'!G20","v":0},{"$f":"'Récap NF ORGA'!I20","v":0},"",0,null,null,null,""]
[7,{"$f":"'Arbitres CFA'!C8","v":0},null,"",{"$f":"'Récap NF ORGA'!C21","v":0},{"$f":"'Récap NF ORGA'!D21","v":0},{"$f":"'Récap NF ORGA'!E21","v":0},{"$f":"'Récap NF ORGA'!F21","v":0},{"$f":"'Récap NF ORGA'!G21","v":0},null,"",0,null,null,null,""]
[null,"Sous Total Table",null,null,{"$f":"SUM(E14:E20)","v":0},{"$f":"SUM(F14:F20)","v":0},0,0,0,0,0,0]
[null,{"$f":"'Arbitres CFA'!C10","v":0},null,{"$f":"IF(B22<\"A\",\"\",VLOOKUP(B22,Base_arb_NF,8,FALSE))","v":""},{"$f":"'Récap NF ORGA'!C24","v":0},{"$f":"'Récap NF ORGA'!D24","v":0},{"$f":"'Récap NF ORGA'!E24","v":0},{"$f":"'Récap NF ORGA'!F24","v":0},{"$f":"'Récap NF ORGA'!G24","v":0},null,"",{"$f":"SUM(E22:K22)","v":0},null,null,null,{"$f":"IF(B22<\"A\",\"\",VLOOKUP(B22,Base_arb_NF,9,FALSE))","v":""}]
[9,{"$f":"'Arbitres CFA'!C11","v":0},null,{"$f":"IF(B23<\"A\",\"\",VLOOKUP(B23,Base_arb_NF,8,FALSE))","v":""},{"$f":"'Récap NF ORGA'!C25","v":0},{"$f":"'Récap NF ORGA'!D25","v":0},{"$f":"'Récap NF ORGA'!E25","v":0},{"$f":"'Récap NF ORGA'!F25","v":0},{"$f":"'Récap NF ORGA'!G25","v":0},null,"",{"$f":"SUM(E23:K23)","v":0},null,null,null,{"$f":"IF(B23<\"A\",\"\",VLOOKUP(B23,Base_arb_NF,9,FALSE))","v":""}]
[null,{"$f":"'Arbitres CFA'!C12","v":0},null,{"$f":"IF(B24<\"A\",\"\",VLOOKUP(B24,Base_arb_NF,8,FALSE))","v":""},{"$f":"'Récap NF ORGA'!C26","v":0},{"$f":"'Récap NF ORGA'!D26","v":0},{"$f":"'Récap NF ORGA'!E26","v":0},{"$f":"'Récap NF ORGA'!F26","v":0},{"$f":"'Récap NF ORGA'!G26","v":0},null,"",{"$f":"SUM(E24:K24)","v":0},null,null,null,{"$f":"IF(B24<\"A\",\"\",VLOOKUP(B24,Base_arb_NF,9,FALSE))","v":""}]
[null,"Sous Total Supervision",null,null,{"$f":"SUM(E23:E24)","v":0},0,0,0,0,0,0,0]
[null,"A R B I T R E S "]
[1,{"$f":"'Récap NF ORGA'!B28","v":0},null,{"$f":"IF(B27<\"A\",\"\",VLOOKUP(B27,Base_arb_NF,8,FALSE))","v":""},{"$f":"'Récap NF ORGA'!C28","v":0},{"$f":"'Récap NF ORGA'!D28","v":0},{"$f":"'Récap NF ORGA'!E28","v":0},{"$f":"'Récap NF ORGA'!F28","v":0},{"$f":"'Récap NF ORGA'!G28","v":0},{"$f":"'Récap NF ORGA'!I28","v":0},{"$f":"IF(B27<\"A\",\"\",IF(P27>0,$P27*(VLOOKUP(D27,Prest_NF,2,FALSE)),0))","v":""},{"$f":"SUM(E27:K27)","v":0},null,null,null,{"$f":"IF(B27<\"A\",\"\",VLOOKUP(B27,Base_arb_NF,9,FALSE))","v":""}]
[2,{"$f":"'Récap NF ORGA'!B29","v":0},null,"",{"$f":"'Récap NF ORGA'!C29","v":0},{"$f":"'Récap NF ORGA'!D29","v":0},{"$f":"'Récap NF ORGA'!E29","v":0},{"$f":"'Récap NF ORGA'!F29","v":0},{"$f":"'Récap NF ORGA'!G29","v":0},{"$f":"'Récap NF ORGA'!I29","v":0},"",{"$f":"SUM(E28:K28)","v":0},null,null,null,""]
[3,{"$f":"'Récap NF ORGA'!B30","v":0},null,"",{"$f":"'Récap NF ORGA'!C30","v":0},{"$f":"'Récap NF ORGA'!D30","v":0},{"$f":"'Récap NF ORGA'!E30","v":0},{"$f":"'Récap NF ORGA'!F30","v":0},{"$f":"'Récap NF ORGA'!G30","v":0},{"$f":"'Récap NF ORGA'!I30","v":0},"",0,null,null,null,""]
[4,{"$f":"'Récap NF ORGA'!B31","v":0},null,"",{"$f":"'Récap NF ORGA'!C31","v":0},{"$f":"'Récap NF ORGA'!D31","v":0},{"$f":"'Récap NF ORGA'!E31","v":0},{"$f":"'Récap NF ORGA'!F31","v":0},{"$f":"'Récap NF ORGA'!G31","v":0},{"$f":"'Récap NF ORGA'!I31","v":0},"",0,null,null,null,""]
[5,{"$f":"'Récap NF ORGA'!B32","v":0},null,"",{"$f":"'Récap NF ORGA'!C32","v":0},{"$f":"'Récap NF ORGA'!D32","v":0},{"$f":"'Récap NF ORGA'!E32","v":0},{"$f":"'Récap NF ORGA'!F32","v":0},{"$f":"'Récap NF ORGA'!G32","v":0},{"$f":"'Récap NF ORGA'!I32","v":0},"",0,null,null,null,""]
[6,{"$f":"'Récap NF ORGA'!B33","v":0},null,"",{"$f":"'Récap NF ORGA'!C33","v":0},{"$f":"'Récap NF ORGA'!D33","v":0},{"$f":"'Récap NF ORGA'!E33","v":0},{"$f":"'Récap NF ORGA'!F33","v":0},{"$f":"'Récap NF ORGA'!G33","v":0},{"$f":"'Récap NF ORGA'!I33","v":0},"",0,null,null,null,""]
[7,{"$f":"'Récap NF ORGA'!B34","v":0},null,"",{"$f":"'Récap NF ORGA'!C34","v":0},{"$f":"'Récap NF ORGA'!D34","v":0},{"$f":"'Récap NF ORGA'!E34","v":0},{"$f":"'Récap NF ORGA'!F34","v":0},{"$f":"'Récap NF ORGA'!G34","v":0},{"$f":"'Récap NF ORGA'!I34","v":0},"",0,null,null,null,""]
[8,{"$f":"'Récap NF ORGA'!B35","v":0},null,"",{"$f":"'Récap NF ORGA'!C35","v":0},{"$f":"'Récap NF ORGA'!D35","v":0},{"$f":"'Récap NF ORGA'!E35","v":0},{"$f":"'Récap NF ORGA'!F35","v":0},{"$f":"'Récap NF ORGA'!G35","v":0},{"$f":"'Récap NF ORGA'!I35","v":0},"",0,null,null,null,""]
[9,{"$f":"'Récap NF ORGA'!B36","v":0},null,"",{"$f":"'Récap NF ORGA'!C36","v":0},{"$f":"'Récap NF ORGA'!D36","v":0},{"$f":"'Récap NF ORGA'!E36","v":0},{"$f":"'Récap NF ORGA'!F36","v":0},{"$f":"'Récap NF ORGA'!G36","v":0},{"$f":"'Récap NF ORGA'!I36","v":0},"",0,null,null,null,""]
[10,{"$f":"'Récap NF ORGA'!B37","v":0},null,"",{"$f":"'Récap NF ORGA'!C37","v":0},{"$f":"'Récap NF ORGA'!D37","v":0},{"$f":"'Récap NF ORGA'!E37","v":0},{"$f":"'Récap NF ORGA'!F37","v":0},{"$f":"'Récap NF ORGA'!G37","v":0},{"$f":"'Récap NF ORGA'!I37","v":0},"",0,null,null,null,""]
[11,{"$f":"'Récap NF ORGA'!B38","v":0},null,"",{"$f":"'Récap NF ORGA'!C38","v":0},{"$f":"'Récap NF ORGA'!D38","v":0},{"$f":"'Récap NF ORGA'!E38","v":0},{"$f":"'Récap NF ORGA'!F38","v":0},{"$f":"'Récap NF ORGA'!G38","v":0},{"$f":"'Récap NF ORGA'!I38","v":0},"",0,null,null,null,""]
[12,{"$f":"'Récap NF ORGA'!B39","v":0},null,"",{"$f":"'Récap NF ORGA'!C39","v":0},{"$f":"'Récap NF ORGA'!D39","v":0},{"$f":"'Récap NF ORGA'!E39","v":0},{"$f":"'Récap NF ORGA'!F39","v":0},{"$f":"'Récap NF ORGA'!G39","v":0},{"$f":"'Récap NF ORGA'!I39","v":0},"",0,null,null,null,""]
[13,{"$f":"'Récap NF ORGA'!B40","v":0},null,"",{"$f":"'Récap NF ORGA'!C40","v":0},{"$f":"'Récap NF ORGA'!D40","v":0},{"$f":"'Récap NF ORGA'!E40","v":0},{"$f":"'Récap NF ORGA'!F40","v":0},{"$f":"'Récap NF ORGA'!G40","v":0},null,"",0,null,null,null,""]
[14,{"$f":"'Récap NF ORGA'!B41","v":0},null,"",{"$f":"'Récap NF ORGA'!C41","v":0},{"$f":"'Récap NF ORGA'!D41","v":0},{"$f":"'Récap NF ORGA'!E41","v":0},{"$f":"'Récap NF ORGA'!F41","v":0},{"$f":"'Récap NF ORGA'!G41","v":0},{"$f":"'Récap NF ORGA'!I41","v":0},"",0,null,null,null,""]
[15,{"$f":"'Récap NF ORGA'!B42","v":0},null,"",{"$f":"'Récap NF ORGA'!C42","v":0},{"$f":"'Récap NF ORGA'!D42","v":0},{"$f":"'Récap NF ORGA'!E42","v":0},{"$f":"'Récap NF ORGA'!F42","v":0},{"$f":"'Récap NF ORGA'!G42","v":0},{"$f":"'Récap NF ORGA'!I42","v":0},"",0,null,null,null,""]
[16,{"$f":"'Récap NF ORGA'!B43","v":0},null,"",{"$f":"'Récap NF ORGA'!C43","v":0},{"$f":"'Récap NF ORGA'!D43","v":0},{"$f":"'Récap NF ORGA'!E43","v":0},{"$f":"'Récap NF ORGA'!F43","v":0},{"$f":"'Récap NF ORGA'!G43","v":0},{"$f":"'Récap NF ORGA'!I43","v":0},"",0,null,null,null,""]
[17,{"$f":"'Récap NF ORGA'!B44","v":0},null,"",{"$f":"'Récap NF ORGA'!C44","v":0},{"$f":"'Récap NF ORGA'!D44","v":0},{"$f":"'Récap NF ORGA'!E44","v":0},{"$f":"'Récap NF ORGA'!F44","v":0},{"$f":"'Récap NF ORGA'!G44","v":0},{"$f":"'Récap NF ORGA'!I44","v":0},"",0,null,null,null,""]
[18,{"$f":"'Récap NF ORGA'!B45","v":0},null,"",{"$f":"'Récap NF ORGA'!C45","v":0},{"$f":"'Récap NF ORGA'!D45","v":0},{"$f":"'Récap NF ORGA'!E45","v":0},{"$f":"'Récap NF ORGA'!F45","v":0},{"$f":"'Récap NF ORGA'!G45","v":0},{"$f":"'Récap NF ORGA'!I45","v":0},"",0,null,null,null,""]
[19,{"$f":"'Récap NF ORGA'!B46","v":0},null,"",{"$f":"'Récap NF ORGA'!C46","v":0},{"$f":"'Récap NF ORGA'!D46","v":0},{"$f":"'Récap NF ORGA'!E46","v":0},{"$f":"'Récap NF ORGA'!F46","v":0},{"$f":"'Récap NF ORGA'!G46","v":0},{"$f":"'Récap NF ORGA'!I46","v":0},"",0,null,null,null,""]
[20,{"$f":"'Récap NF ORGA'!B47","v":0},null,"",{"$f":"'Récap NF ORGA'!C47","v":0},{"$f":"'Récap NF ORGA'!D47","v":0},{"$f":"'Récap NF ORGA'!E47","v":0},{"$f":"'Récap NF ORGA'!F47","v":0},{"$f":"'Récap NF ORGA'!G47","v":0},{"$f":"'Récap NF ORGA'!I47","v":0},"",0,null,null,null,""]
[21,{"$f":"'Récap NF ORGA'!B48","v":0},null,"",{"$f":"'Récap NF ORGA'!C48","v":0},{"$f":"'Récap NF ORGA'!D48","v":0},{"$f":"'Récap NF ORGA'!E48","v":0},{"$f":"'Récap NF ORGA'!F48","v":0},{"$f":"'Récap NF ORGA'!G48","v":0},{"$f":"'Récap NF ORGA'!I48","v":0},"",0,null,null,null,""]
[22,{"$f":"'Récap NF ORGA'!B49","v":0},null,"",{"$f":"'Récap NF ORGA'!C49","v":0},{"$f":"'Récap NF ORGA'!D49","v":0},{"$f":"'Récap NF ORGA'!E49","v":0},{"$f":"'Récap NF ORGA'!F49","v":0},{"$f":"'Récap NF ORGA'!G49","v":0},{"$f":"'Récap NF ORGA'!I49","v":0},"",0,null,null,null,""]
[23,{"$f":"'Récap NF ORGA'!B50","v":0},null,"",{"$f":"'Récap NF ORGA'!C50","v":0},{"$f":"'Récap NF ORGA'!D50","v":0},{"$f":"'Récap NF ORGA'!E50","v":0},{"$f":"'Récap NF ORGA'!F50","v":0},{"$f":"'Récap NF ORGA'!G50","v":0},{"$f":"'Récap NF ORGA'!I50","v":0},"",0,null,null,null,""]
[24,{"$f":"'Récap NF ORGA'!B51","v":0},null,"",{"$f":"'Récap NF ORGA'!C51","v":0},{"$f":"'Récap NF ORGA'!D51","v":0},{"$f":"'Récap NF ORGA'!E51","v":0},{"$f":"'Récap NF ORGA'!F51","v":0},{"$f":"'Récap NF ORGA'!G51","v":0},{"$f":"'Récap NF ORGA'!I51","v":0},"",0,null,null,null,""]
[25,{"$f":"'Récap NF ORGA'!B52","v":0},null,"",{"$f":"'Récap NF ORGA'!C52","v":0},{"$f":"'Récap NF ORGA'!D52","v":0},{"$f":"'Récap NF ORGA'!E52","v":0},{"$f":"'Récap NF ORGA'!F52","v":0},{"$f":"'Récap NF ORGA'!G52","v":0},{"$f":"'Récap NF ORGA'!I52","v":0},"",{"$f":"SUM(E51:K51)","v":0},null,null,null,""]
[26,{"$f":"'Récap NF ORGA'!B53","v":0},null,"",{"$f":"'Récap NF ORGA'!C53","v":0},{"$f":"'Récap NF ORGA'!D53","v":0},{"$f":"'Récap NF ORGA'!E53","v":0},{"$f":"'Récap NF ORGA'!F53","v":0},{"$f":"'Récap NF ORGA'!G53","v":0},{"$f":"'Récap NF ORGA'!I53","v":0},"",0,null,null,null,""]
[27,{"$f":"'Récap NF ORGA'!B54","v":0},null,"",{"$f":"'Récap NF ORGA'!C54","v":0},{"$f":"'Récap NF ORGA'!D54","v":0},{"$f":"'Récap NF ORGA'!E54","v":0},{"$f":"'Récap NF ORGA'!F54","v":0},{"$f":"'Récap NF ORGA'!G54","v":0},{"$f":"'Récap NF ORGA'!I54","v":0},"",0,null,null,null,""]
[28,{"$f":"'Récap NF ORGA'!B55","v":0},null,"",{"$f":"'Récap NF ORGA'!C55","v":0},{"$f":"'Récap NF ORGA'!D55","v":0},{"$f":"'Récap NF ORGA'!E55","v":0},{"$f":"'Récap NF ORGA'!F55","v":0},{"$f":"'Récap NF ORGA'!G55","v":0},{"$f":"'Récap NF ORGA'!I55","v":0},"",0,null,null,null,""]
[29,{"$f":"'Récap NF ORGA'!B56","v":0},null,"",{"$f":"'Récap NF ORGA'!C56","v":0},{"$f":"'Récap NF ORGA'!D56","v":0},{"$f":"'Récap NF ORGA'!E56","v":0},{"$f":"'Récap NF ORGA'!F56","v":0},{"$f":"'Récap NF ORGA'!G56","v":0},{"$f":"'Récap NF ORGA'!I56","v":0},"",0,null,null,null,""]
[30,{"$f":"'Récap NF ORGA'!B57","v":0},null,"",{"$f":"'Récap NF ORGA'!C57","v":0},{"$f":"'Récap NF ORGA'!D57","v":0},{"$f":"'Récap NF ORGA'!E57","v":0},{"$f":"'Récap NF ORGA'!F57","v":0},{"$f":"'Récap NF ORGA'!G57","v":0},{"$f":"'Récap NF ORGA'!I57","v":0},"",0,null,null,null,""]
[31,{"$f":"'Récap NF ORGA'!B58","v":0},null,"",{"$f":"'Récap NF ORGA'!C58","v":0},{"$f":"'Récap NF ORGA'!D58","v":0},{"$f":"'Récap NF ORGA'!E58","v":0},{"$f":"'Récap NF ORGA'!F58","v":0},{"$f":"'Récap NF ORGA'!G58","v":0},{"$f":"'Récap NF ORGA'!I58","v":0},"",{"$f":"SUM(E57:K57)","v":0},null,null,null,""]
[32,{"$f":"'Récap NF ORGA'!B59","v":0},null,"",{"$f":"'Récap NF ORGA'!C59","v":0},{"$f":"'Récap NF ORGA'!D59","v":0},{"$f":"'Récap NF ORGA'!E59","v":0},{"$f":"'Récap NF ORGA'!F59","v":0},{"$f":"'Récap NF ORGA'!G59","v":0},{"$f":"'Récap NF ORGA'!I59","v":0},"",0,null,null,null,""]
[33,{"$f":"'Récap NF ORGA'!B60","v":0},null,{"$f":"IF(B59<\"A\",\"\",VLOOKUP(B59,Base_arb_NF,8,FALSE))","v":""},{"$f":"'Récap NF ORGA'!C60","v":0},{"$f":"'Récap NF ORGA'!D60","v":0},{"$f":"'Récap NF ORGA'!E60","v":0},{"$f":"'Récap NF ORGA'!F60","v":0},{"$f":"'Récap NF ORGA'!G60","v":0},{"$f":"'Récap NF ORGA'!I60","v":0},"",0,null,null,null,{"$f":"IF(B59<\"A\",\"\",VLOOKUP(B59,Base_arb_NF,9,FALSE))","v":""}]
[34,{"$f":"'Récap NF ORGA'!B61","v":0},null,"",{"$f":"'Récap NF ORGA'!C61","v":0},{"$f":"'Récap NF ORGA'!D61","v":0},{"$f":"'Récap NF ORGA'!E61","v":0},{"$f":"'Récap NF ORGA'!F61","v":0},{"$f":"'Récap NF ORGA'!G61","v":0},{"$f":"'Récap NF ORGA'!I61","v":0},"",0,null,null,null,""]
[35,{"$f":"'Récap NF ORGA'!B62","v":0},null,"",{"$f":"'Récap NF ORGA'!C62","v":0},{"$f":"'Récap NF ORGA'!D62","v":0},{"$f":"'Récap NF ORGA'!E62","v":0},{"$f":"'Récap NF ORGA'!F62","v":0},{"$f":"'Récap NF ORGA'!G62","v":0},{"$f":"'Récap NF ORGA'!I62","v":0},"",0,null,null,null,""]
[36,{"$f":"'Récap NF ORGA'!B63","v":0},null,"",{"$f":"'Récap NF ORGA'!C63","v":0},{"$f":"'Récap NF ORGA'!D63","v":0},{"$f":"'Récap NF ORGA'!E63","v":0},{"$f":"'Récap NF ORGA'!F63","v":0},{"$f":"'Récap NF ORGA'!G63","v":0},{"$f":"'Récap NF ORGA'!I63","v":0},"",0,null,null,null,""]
[37,{"$f":"'Récap NF ORGA'!B64","v":0},null,"",{"$f":"'Récap NF ORGA'!C64","v":0},{"$f":"'Récap NF ORGA'!D64","v":0},{"$f":"'Récap NF ORGA'!E64","v":0},{"$f":"'Récap NF ORGA'!F64","v":0},{"$f":"'Récap NF ORGA'!G64","v":0},{"$f":"'Récap NF ORGA'!I64","v":0},"",0,null,null,null,""]
[38,{"$f":"'Récap NF ORGA'!B65","v":0},null,"",{"$f":"'Récap NF ORGA'!C65","v":0},{"$f":"'Récap NF ORGA'!D65","v":0},{"$f":"'Récap NF ORGA'!E65","v":0},{"$f":"'Récap NF ORGA'!F65","v":0},{"$f":"'Récap NF ORGA'!G65","v":0},{"$f":"'Récap NF ORGA'!I65","v":0},"",0,null,null,null,""]
[39,{"$f":"'Récap NF ORGA'!B66","v":0},null,"",{"$f":"'Récap NF ORGA'!C66","v":0},{"$f":"'Récap NF ORGA'!D66","v":0},{"$f":"'Récap NF ORGA'!E66","v":0},{"$f":"'Récap NF ORGA'!F66","v":0},{"$f":"'Récap NF ORGA'!G66","v":0},{"$f":"'Récap NF ORGA'!I66","v":0},"",0,null,null,null,""]
[40,{"$f":"'Récap NF ORGA'!B67","v":0},null,"",{"$f":"'Récap NF ORGA'!C67","v":0},{"$f":"'Récap NF ORGA'!D67","v":0},{"$f":"'Récap NF ORGA'!E67","v":0},{"$f":"'Récap NF ORGA'!F67","v":0},{"$f":"'Récap NF ORGA'!G67","v":0},{"$f":"'Récap NF ORGA'!I67","v":0},"",0,null,null,null,""]
[41,{"$f":"'Récap NF ORGA'!B68","v":0},null,"",{"$f":"'Récap NF ORGA'!C68","v":0},{"$f":"'Récap NF ORGA'!D68","v":0},{"$f":"'Récap NF ORGA'!E68","v":0},{"$f":"'Récap NF ORGA'!F68","v":0},{"$f":"'Récap NF ORGA'!G68","v":0},{"$f":"'Récap NF ORGA'!I68","v":0},"",0,null,null,null,""]
[42,{"$f":"'Récap NF ORGA'!B69","v":0},null,"",{"$f":"'Récap NF ORGA'!C69","v":0},{"$f":"'Récap NF ORGA'!D69","v":0},{"$f":"'Récap NF ORGA'!E69","v":0},{"$f":"'Récap NF ORGA'!F69","v":0},{"$f":"'Récap NF ORGA'!G69","v":0},{"$f":"'Récap NF ORGA'!I69","v":0},"",0,null,null,null,""]
[43,{"$f":"'Récap NF ORGA'!B70","v":0},null,"",{"$f":"'Récap NF ORGA'!C70","v":0},{"$f":"'Récap NF ORGA'!D70","v":0},{"$f":"'Récap NF ORGA'!E70","v":0},{"$f":"'Récap NF ORGA'!F70","v":0},{"$f":"'Récap NF ORGA'!G70","v":0},{"$f":"'Récap NF ORGA'!I70","v":0},"",0,null,null,null,""]
[44,{"$f":"'Récap NF ORGA'!B71","v":0},null,"",{"$f":"'Récap NF ORGA'!C71","v":0},{"$f":"'Récap NF ORGA'!D71","v":0},{"$f":"'Récap NF ORGA'!E71","v":0},{"$f":"'Récap NF ORGA'!F71","v":0},{"$f":"'Récap NF ORGA'!G71","v":0},{"$f":"'Récap NF ORGA'!I71","v":0},"",0,null,null,null,""]
[45,{"$f":"'Récap NF ORGA'!B72","v":0},null,"",{"$f":"'Récap NF ORGA'!C72","v":0},{"$f":"'Récap NF ORGA'!D72","v":0},{"$f":"'Récap NF ORGA'!E72","v":0},{"$f":"'Récap NF ORGA'!F72","v":0},{"$f":"'Récap NF ORGA'!G72","v":0},{"$f":"'Récap NF ORGA'!I72","v":0},"",0,null,null,null,""]
[46,{"$f":"'Récap NF ORGA'!B73","v":0},null,"",{"$f":"'Récap NF ORGA'!C73","v":0},{"$f":"'Récap NF ORGA'!D73","v":0},{"$f":"'Récap NF ORGA'!E73","v":0},{"$f":"'Récap NF ORGA'!F73","v":0},{"$f":"'Récap NF ORGA'!G73","v":0},{"$f":"'Récap NF ORGA'!I73","v":0},"",{"$f":"SUM(E72:K72)","v":0},null,null,null,""]
[47,{"$f":"'Récap NF ORGA'!B74","v":0},null,"",{"$f":"'Récap NF ORGA'!C74","v":0},{"$f":"'Récap NF ORGA'!D74","v":0},{"$f":"'Récap NF ORGA'!E74","v":0},{"$f":"'Récap NF ORGA'!F74","v":0},{"$f":"'Récap NF ORGA'!G74","v":0},{"$f":"'Récap NF ORGA'!I74","v":0},"",{"$f":"SUM(E73:K73)","v":0},null,null,null,""]
[48,{"$f":"'Récap NF ORGA'!B75","v":0},null,"",{"$f":"'Récap NF ORGA'!C75","v":0},null,{"$f":"'Récap NF ORGA'!E75","v":0},{"$f":"'Récap NF ORGA'!F75","v":0},{"$f":"'Récap NF ORGA'!G75","v":0},{"$f":"'Récap NF ORGA'!I75","v":0},"",{"$f":"SUM(E74:K74)","v":0},null,null,null,""]
[49,{"$f":"'Récap NF ORGA'!B76","v":0},null,"",{"$f":"'Récap NF ORGA'!C76","v":0},{"$f":"'Récap NF ORGA'!D76","v":0},{"$f":"'Récap NF ORGA'!E76","v":0},{"$f":"'Récap NF ORGA'!F76","v":0},{"$f":"'Récap NF ORGA'!G76","v":0},{"$f":"'Récap NF ORGA'!I76","v":0},"",{"$f":"SUM(E75:K75)","v":0},null,null,null,""]
[50,{"$f":"'Récap NF ORGA'!B77","v":0},null,"",{"$f":"'Récap NF ORGA'!C77","v":0},{"$f":"'Récap NF ORGA'!D77","v":0},{"$f":"'Récap NF ORGA'!E77","v":0},{"$f":"'Récap NF ORGA'!F77","v":0},{"$f":"'Récap NF ORGA'!G77","v":0},{"$f":"'Récap NF ORGA'!I77","v":0},"",{"$f":"SUM(E76:K76)","v":0},null,null,null,""]
[null,"Sous  Total   Arbitres",null,null,{"$f":"SUM(E27:E76)","v":0},0,0,0,0,0,0,0,null,null,null,{"$f":"IF(F77<\"A\",\"\",VLOOKUP(F77,Base_arb_NF,8,FALSE))","v":""}]
[]
[null,"TOTAL",null,null,{"$f":"E77+E21+E25","v":0},0,0,0,0,0,0,0]
[]
[null,"Dossier à envoyer à",null,null,"RAECKELBOOM Claude"]
[null,null,null,null,"29 rue Auguste Bartholdi"]
[null,null,null,null,"59930   LA CHAPELLE D'ARMENTIERES"]
[null,null,null,null,"claude.raeckelboom@wanadoo.fr"]

{"sheet":"Note de Frais","index":12,"n_rows":65,"n_cols":8,"rows_kept":65,"cut":false,"hidden":true,"merged":[[21,3,21,6],[17,6,17,7],[17,2,17,4],[9,2,9,4],[9,6,9,7],[11,2,11,7],[13,4,13,7],[15,2,15,4],[19,4,19,7],[26,3,26,5],[40,4,40,5],[32,4,32,5],[34,4,34,5],[36,2,36,5],[38,4,38,5],[28,3,28,5],[30,4,30,5]]}
[null,null,"FEDERATION FRANCAISE",null,null,null,null,{"$f":"\"Saison \"&Saison","v":"Saison 2025/2026"}]
[null,null,"DE TENNIS DE TABLE"]
[null,null,"3, rue Dieudonné Costes - BP40348",null,null,null,null,"ARB. 2.5.2.1"]
[null,null,"75625 PARIS CEDEX 13"]
[null,null,"Tél : 01 53 94 50 00"]
[null,null,"E-mail : comsportive@fftt.email"]
[]
[null,null,"NOTE INDIVIDUELLE DE FRAIS D'ARBITRAGE",null,null,null,null," "]
[]
[null,"Nom :",{"$f":"IF($A$10=\"\",\"\",VLOOKUP($A$10,Base_arb_NF,1,FALSE))","v":""}]
[]
[null,"Adresse :",{"$f":"IF($A$10=\"\",\"\",VLOOKUP($A$10,Base_arb_NF,2,FALSE))","v":""},null,null,{"$f":"IF($A$10=\"\",\"\",VLOOKUP($A$10,base_arb,2,FALSE))","v":""}]
[]
[null,"Code Postal :",{"$f":"IF($A$10=\"\",\"\",VLOOKUP($A$10,Base_arb_NF,3,FALSE))","v":""},"Ville :",{"$f":"IF($A$10=\"\",\"\",VLOOKUP($A$10,Base_arb_NF,4,FALSE))","v":""},{"$f":"IF($A$10=\"\",\"\",VLOOKUP($A$10,base_arb,5,FALSE))","v":""},{"$f":"IF($A$10=\"\",\"\",VLOOKUP($A$10,base_arb,5,FALSE))","v":""},{"$f":"IF($A$10=\"\",\"\",VLOOKUP($A$10,base_arb,5,FALSE))","v":""}]
[]
[null,"Tél : ",{"$f":"IF($A$10=\"\",\"\",VLOOKUP($A$10,Base_arb_NF,5,FALSE))","v":""},{"$f":"IF($A$10=\"\",\"\",VLOOKUP($A$10,base_arb,5,FALSE))","v":""},{"$f":"IF($A$10=\"\",\"\",VLOOKUP($A$10,base_arb,5,FALSE))","v":""}]
[]
[null,"Epreuve :",{"$f":"Comp","v":0},null,null,"Lieu :",{"$f":"Lieu","v":0}]
[]
[null,"Motif du déplacement ou Fonction dans l'Epreuve :",null,null,{"$f":"IF($A$10=\"\",\"\",VLOOKUP($A$10,Base_arb_NF,8,FALSE))","v":""}]
[]
[null,null,"Date :",{"$f":"Date_comp","v":""}]
[]
["NB Jours","NATURE DES FRAIS :"]
[null,null,"Indemnités d'arbitrage :",{"$f":"IF(A10=\"\",\"\",VLOOKUP(E20,Prest_NF,2,FALSE))","v":""},"x Nb jours",{"$f":"IF($A$10=\"\",\"\",VLOOKUP($A$10,Base_arb_NF,9,FALSE))","v":""},null,{"$f":"IF(D25=\"\",\"\",D25*F25)","v":""}]
[]
[null,null,"Hébergement :"]
[]
[null,null,"Repas :"]
[]
[null,null,"Transport :","S.N.C.F. :"]
[]
[null,null,null,"Voiture :",null,null,null,{"$f":"E33*G33","v":0}]
[]
[null,null,"Nom des personnes transportées :"]
[]
[]
[]
[null,null,null,"Frais d'Autoroute :",null,null,null,{"$f":"E39","v":0}]
[]
[null,null,"Autres frais ( sur justificatif uniquement )",null,null,null,null,{"$f":"E41","v":0}]
["Montant Affiché(O/N)"]
["OUI","(Joindre toutes les pièces nécessaires)",null,null,null,"MONTANT TOTAL :",null,{"$f":"IF(A43=\"OUI\",SUM(H24:H41),\"\")","v":0}]
[]
[null,"Signature de l'Arbitre ",null,null,null,"Signature du Délégué"]
[null,null,null,null,null,"Fédéral"]
[]
[]
[]
[null,"IMPUTATION DES ECRITURES (Réservée à la F.F.T.T.)"]
[]
[]
[]
[]
[]
[]
[]
[]
[null,"AVIS ou VISAS DIVERS",null,null,"MODE DE REGLEMENT"]
[]
[null,"TRESORIER :",null,null,"VIREMENT POSTAL"]
[]
[null,"D.T.N. :",null,null,"CHEQUE BANCAIRE"]
[]
[null,"D.A. :",null,null,"ESPECES"]

{"sheet":"PTA_Nom_Arb","index":13,"n_rows":51,"n_cols":75,"rows_kept":51,"cut":false,"hidden":false,"merged":[[4,4,4,11],[50,74,51,74],[50,1,51,1],[5,74,6,74],[50,4,51,11],[0,0,0,3],[1,0,1,3],[1,6,1,10],[3,4,3,11],[3,0,3,3],[2,4,2,5]]}
[null,null,null,null,null,null,"Masquer ou afficher lignes",null,null,"Oter quadrillage ou quadriller","CTR+T  pour créer une zone de texte",null,null,null,null,{"$f":"PTA!P1","v":1},null,null,{"$f":"PTA!S1","v":1},null,null,{"$f":"PTA!V1","v":1},null,null,null,null,null,null,null,null,null,null,null,null,null,null,null,null,null,null,null,null,null,null,null,null,null,null,null,null,null,null,null,null,null,null,null,null,null,"  "]
[{"$f":"Comp","v":0},null,null,null,null,null,{"$f":"IF(Des_comp=\"Non\",\"Désignation des Parties Finales       non faite\",\"\")","v":""}]
[{"$f":"Lieu","v":0}]
[{"$f":"PTA!A4","v":"00:00:00"},null,null,null,"PLAN DE TRAVAIL DES ARBITRES",null,null,null,null,null,null,null,null,"  ",null,null,null,null,null,null,null,null,null,null,null,null,null,null,null,null,null,null,null,null,null,null,null,null,null,null,null,null,null,null,null,null,null,null,null,null,null,null,null,null,null,null,null,null,null,null,null,{"$f":"PTA!BJ4","v":0},{"$f":"PTA!BK4","v":0},{"$f":"PTA!BL4","v":0},{"$f":"PTA!BM4","v":0},{"$f":"PTA!BN4","v":0},{"$f":"PTA!BO4","v":0},{"$f":"PTA!BP4","v":0},{"$f":"PTA!BQ4","v":0},{"$f":"PTA!BR4","v":0}]
[null,null,null,null,"avec Nom "]
["Tour","Heures","Tables","Tables",null,null,null,null,null,null,null,null,null,null,null,null,null,null,null,null,null,null,null,null,null,null,null,null,null,null,null,null,null,null,null,null,null,null,null,null,null,null,null,null,null,null,null,null,null,null,null,null,null,null,null,null,null,null,null,null,"Réserve",null,{"$f":"IF(AND(CHAP=\"oui\",Gest_res=\"OUI\"),\"(suite)\",IF(CHAP=\"oui\",\"CA/Réserve\",\"\"))","v":"(suite)"},null,null,null,null,null,null,null,"Repos",null,null,null,"Heures"]
["N°","Heures","Montées","Utilisées",{"$f":"PTA!E7","v":1},{"$f":"PTA!F7","v":2},{"$f":"PTA!G7","v":3},{"$f":"PTA!H7","v":4},{"$f":"PTA!I7","v":5},{"$f":"PTA!J7","v":6},{"$f":"PTA!K7","v":7},{"$f":"PTA!L7","v":8},{"$f":"PTA!M7","v":9},{"$f":"PTA!N7","v":10},{"$f":"PTA!O7","v":11},{"$f":"PTA!P7","v":12},{"$f":"PTA!Q7","v":13},{"$f":"PTA!R7","v":14},{"$f":"PTA!S7","v":15},{"$f":"PTA!T7","v":16},{"$f":"PTA!U7","v":17},{"$f":"PTA!V7","v":18},{"$f":"PTA!W7","v":19},{"$f":"PTA!X7","v":20},{"$f":"PTA!Y7","v":21},{"$f":"PTA!Z7","v":22},{"$f":"PTA!AA7","v":23},{"$f":"PTA!AB7","v":24},{"$f":"PTA!AC7","v":25},{"$f":"PTA!AD7","v":26},{"$f":"PTA!AE7","v":27},{"$f":"PTA!AF7","v":28},{"$f":"PTA!AG7","v":29},{"$f":"PTA!AH7","v":30},{"$f":"PTA!AI7","v":31},{"$f":"PTA!AJ7","v":32},{"$f":"PTA!AK7","v":33},{"$f":"PTA!AL7","v":34},{"$f":"PTA!AM7","v":35},{"$f":"PTA!AN7","v":36},{"$f":"PTA!AO7","v":37},{"$f":"PTA!AP7","v":38},{"$f":"PTA!AQ7","v":39},{"$f":"PTA!AR7","v":40},{"$f":"PTA!AS7","v":41},{"$f":"PTA!AT7","v":42},{"$f":"PTA!AU7","v":43},{"$f":"PTA!AV7","v":44},{"$f":"PTA!AW7","v":45},{"$f":"PTA!AX7","v":46},{"$f":"PTA!AY7","v":47},{"$f":"PTA!AZ7","v":48},{"$f":"PTA!BA7","v":49},{"$f":"PTA!BB7","v":50},{"$f":"PTA!BC7","v":51},{"$f":"PTA!BD7","v":52},{"$f":"PTA!BE7","v":53},{"$f":"PTA!BF7","v":54},{"$f":"PTA!BG7","v":55},{"$f":"PTA!BH7","v":56},"R1","R2",{"$f":"PTA!BK7","v":"R3"},{"$f":"PTA!BL7","v":"R4"},{"$f":"PTA!BM7","v":"R5"},{"$f":"PTA!BN7","v":"R6"},{"$f":"PTA!BO7","v":"R7"},{"$f":"PTA!BP7","v":"R8"},{"$f":"PTA!BQ7","v":"R9"},{"$f":"PTA!BR7","v":"R10"}]
[{"$f":"PTA!A8","v":""},{"$f":"PTA!B8","v":"00:00:00"},{"$f":"PTA!C8","v":32},{"$f":"PTA!D8","v":0},{"$f":"IF(OR(PTA!E8=\"\",PTA!E8=\"X\"),\"X\",IF(PTA!E8=\"*\",\"*\",VLOOKUP(PTA!E8,AL_NUM_ARB,2,FALSE)&\" \"&VLOOKUP(PTA!E8,AL_NUM_ARB,4,FALSE)&\" \"&VLOOKUP(PTA!E8,AL_NUM_ARB,6,FALSE)))","v":"X"},{"$f":"IF(OR(PTA!F8=\"\",PTA!F8=\"X\"),\"X\",IF(PTA!F8=\"*\",\"*\",VLOOKUP(PTA!F8,AL_NUM_ARB,2,FALSE)&\" \"&VLOOKUP(PTA!F8,AL_NUM_ARB,4,FALSE)&\" \"&VLOOKUP(PTA!F8,AL_NUM_ARB,6,FALSE)))","v":"X"},{"$f":"IF(OR(PTA!G8=\"\",PTA!G8=\"X\"),\"X\",IF(PTA!G8=\"*\",\"*\",VLOOKUP(PTA!G8,AL_NUM_ARB,2,FALSE)&\" \"&VLOOKUP(PTA!G8,AL_NUM_ARB,4,FALSE)&\" \"&VLOOKUP(PTA!G8,AL_NUM_ARB,6,FALSE)))","v":"X"},{"$f":"IF(OR(PTA!H8=\"\",PTA!H8=\"X\"),\"X\",IF(PTA!H8=\"*\",\"*\",VLOOKUP(PTA!H8,AL_NUM_ARB,2,FALSE)&\" \"&VLOOKUP(PTA!H8,AL_NUM_ARB,4,FALSE)&\" \"&VLOOKUP(PTA!H8,AL_NUM_ARB,6,FALSE)))","v":"X"},{"$f":"IF(OR(PTA!I8=\"\",PTA!I8=\"X\"),\"X\",IF(PTA!I8=\"*\",\"*\",VLOOKUP(PTA!I8,AL_NUM_ARB,2,FALSE)&\" \"&VLOOKUP(PTA!I8,AL_NUM_ARB,4,FALSE)&\" \"&VLOOKUP(PTA!I8,AL_NUM_ARB,6,FALSE)))","v":"X"},{"$f":"IF(OR(PTA!J8=\"\",PTA!J8=\"X\"),\"X\",IF(PTA!J8=\"*\",\"*\",VLOOKUP(PTA!J8,AL_NUM_ARB,2,FALSE)&\" \"&VLOOKUP(PTA!J8,AL_NUM_ARB,4,FALSE)&\" \"&VLOOKUP(PTA!J8,AL_NUM_ARB,6,FALSE)))","v":"X"},{"$f":"IF(OR(PTA!K8=\"\",PTA!K8=\"X\"),\"X\",IF(PTA!K8=\"*\",\"*\",VLOOKUP(PTA!K8,AL_NUM_ARB,2,FALSE)&\" \"&VLOOKUP(PTA!K8,AL_NUM_ARB,4,FALSE)&\" \"&VLOOKUP(PTA!K8,AL_NUM_ARB,6,FALSE)))","v":"X"},{"$f":"IF(OR(PTA!L8=\"\",PTA!L8=\"X\"),\"X\",IF(PTA!L8=\"*\",\"*\",VLOOKUP(PTA!L8,AL_NUM_ARB,2,FALSE)&\" \"&VLOOKUP(PTA!L8,AL_NUM_ARB,4,FALSE)&\" \"&VLOOKUP(PTA!L8,AL_NUM_ARB,6,FALSE)))","v":"X"},{"$f":"IF(OR(PTA!M8=\"\",PTA!M8=\"X\"),\"X\",IF(PTA!M8=\"*\",\"*\",VLOOKUP(PTA!M8,AL_NUM_ARB,2,FALSE)&\" \"&VLOOKUP(PTA!M8,AL_NUM_ARB,4,FALSE)&\" \"&VLOOKUP(PTA!M8,AL_NUM_ARB,6,FALSE)))","v":"X"},{"$f":"IF(OR(PTA!N8=\"\",PTA!N8=\"X\"),\"X\",IF(PTA!N8=\"*\",\"*\",VLOOKUP(PTA!N8,AL_NUM_ARB,2,FALSE)&\" \"&VLOOKUP(PTA!N8,AL_NUM_ARB,4,FALSE)&\" \"&VLOOKUP(PTA!N8,AL_NUM_ARB,6,FALSE)))","v":"X"},{"$f":"IF(OR(PTA!O8=\"\",PTA!O8=\"X\"),\"X\",IF(PTA!O8=\"*\",\"*\",VLOOKUP(PTA!O8,AL_NUM_ARB,2,FALSE)&\" \"&VLOOKUP(PTA!O8,AL_NUM_ARB,4,FALSE)&\" \"&VLOOKUP(PTA!O8,AL_NUM_ARB,6,FALSE)))","v":"X"},{"$f":"IF(OR(PTA!P8=\"\",PTA!P8=\"X\"),\"X\",IF(PTA!P8=\"*\",\"*\",VLOOKUP(PTA!P8,AL_NUM_ARB,2,FALSE)&\" \"&VLOOKUP(PTA!P8,AL_NUM_ARB,4,FALSE)&\" \"&VLOOKUP(PTA!P8,AL_NUM_ARB,6,FALSE)))","v":"X"},{"$f":"IF(OR(PTA!Q8=\"\",PTA!Q8=\"X\"),\"X\",IF(PTA!Q8=\"*\",\"*\",VLOOKUP(PTA!Q8,AL_NUM_ARB,2,FALSE)&\" \"&VLOOKUP(PTA!Q8,AL_NUM_ARB,4,FALSE)&\" \"&VLOOKUP(PTA!Q8,AL_NUM_ARB,6,FALSE)))","v":"X"},{"$f":"IF(OR(PTA!R8=\"\",PTA!R8=\"X\"),\"X\",IF(PTA!R8=\"*\",\"*\",VLOOKUP(PTA!R8,AL_NUM_ARB,2,FALSE)&\" \"&VLOOKUP(PTA!R8,AL_NUM_ARB,4,FALSE)&\" \"&VLOOKUP(PTA!R8,AL_NUM_ARB,6,FALSE)))","v":"X"},{"$f":"IF(OR(PTA!S8=\"\",PTA!S8=\"X\"),\"X\",IF(PTA!S8=\"*\",\"*\",VLOOKUP(PTA!S8,AL_NUM_ARB,2,FALSE)&\" \"&VLOOKUP(PTA!S8,AL_NUM_ARB,4,FALSE)&\" \"&VLOOKUP(PTA!S8,AL_NUM_ARB,6,FALSE)))","v":"X"},{"$f":"IF(OR(PTA!T8=\"\",PTA!T8=\"X\"),\"X\",IF(PTA!T8=\"*\",\"*\",VLOOKUP(PTA!T8,AL_NUM_ARB,2,FALSE)&\" \"&VLOOKUP(PTA!T8,AL_NUM_ARB,4,FALSE)&\" \"&VLOOKUP(PTA!T8,AL_NUM_ARB,6,FALSE)))","v":"X"},{"$f":"IF(OR(PTA!U8=\"\",PTA!U8=\"X\"),\"X\",IF(PTA!U8=\"*\",\"*\",VLOOKUP(PTA!U8,AL_NUM_ARB,2,FALSE)&\" \"&VLOOKUP(PTA!U8,AL_NUM_ARB,4,FALSE)&\" \"&VLOOKUP(PTA!U8,AL_NUM_ARB,6,FALSE)))","v":"X"},{"$f":"IF(OR(PTA!V8=\"\",PTA!V8=\"X\"),\"X\",IF(PTA!V8=\"*\",\"*\",VLOOKUP(PTA!V8,AL_NUM_ARB,2,FALSE)&\" \"&VLOOKUP(PTA!V8,AL_NUM_ARB,4,FALSE)&\" \"&VLOOKUP(PTA!V8,AL_NUM_ARB,6,FALSE)))","v":"X"},{"$f":"IF(OR(PTA!W8=\"\",PTA!W8=\"X\"),\"X\",IF(PTA!W8=\"*\",\"*\",VLOOKUP(PTA!W8,AL_NUM_ARB,2,FALSE)&\" \"&VLOOKUP(PTA!W8,AL_NUM_ARB,4,FALSE)&\" \"&VLOOKUP(PTA!W8,AL_NUM_ARB,6,FALSE)))","v":"X"},{"$f":"IF(OR(PTA!X8=\"\",PTA!X8=\"X\"),\"X\",IF(PTA!X8=\"*\",\"*\",VLOOKUP(PTA!X8,AL_NUM_ARB,2,FALSE)&\" \"&VLOOKUP(PTA!X8,AL_NUM_ARB,4,FALSE)&\" \"&VLOOKUP(PTA!X8,AL_NUM_ARB,6,FALSE)))","v":"X"},{"$f":"IF(OR(PTA!Y8=\"\",PTA!Y8=\"X\"),\"X\",IF(PTA!Y8=\"*\",\"*\",VLOOKUP(PTA!Y8,AL_NUM_ARB,2,FALSE)&\" \"&VLOOKUP(PTA!Y8,AL_NUM_ARB,4,FALSE)&\" \"&VLOOKUP(PTA!Y8,AL_NUM_ARB,6,FALSE)))","v":"X"},{"$f":"IF(OR(PTA!Z8=\"\",PTA!Z8=\"X\"),\"X\",IF(PTA!Z8=\"*\",\"*\",VLOOKUP(PTA!Z8,AL_NUM_ARB,2,FALSE)&\" \"&VLOOKUP(PTA!Z8,AL_NUM_ARB,4,FALSE)&\" \"&VLOOKUP(PTA!Z8,AL_NUM_ARB,6,FALSE)))","v":"X"},{"$f":"IF(OR(PTA!AA8=\"\",PTA!AA8=\"X\"),\"X\",IF(PTA!AA8=\"*\",\"*\",VLOOKUP(PTA!AA8,AL_NUM_ARB,2,FALSE)&\" \"&VLOOKUP(PTA!AA8,AL_NUM_ARB,4,FALSE)&\" \"&VLOOKUP(PTA!AA8,AL_NUM_ARB,6,FALSE)))","v":"X"},{"$f":"IF(OR(PTA!AB8=\"\",PTA!AB8=\"X\"),\"X\",IF(PTA!AB8=\"*\",\"*\",VLOOKUP(PTA!AB8,AL_NUM_ARB,2,FALSE)&\" \"&VLOOKUP(PTA!AB8,AL_NUM_ARB,4,FALSE)&\" \"&VLOOKUP(PTA!AB8,AL_NUM_ARB,6,FALSE)))","v":"X"},{"$f":"IF(OR(PTA!AC8=\"\",PTA!AC8=\"X\"),\"X\",IF(PTA!AC8=\"*\",\"*\",VLOOKUP(PTA!AC8,AL_NUM_ARB,2,FALSE)&\" \"&VLOOKUP(PTA!AC8,AL_NUM_ARB,4,FALSE)&\" \"&VLOOKUP(PTA!AC8,AL_NUM_ARB,6,FALSE)))","v":"X"},{"$f":"IF(OR(PTA!AD8=\"\",PTA!AD8=\"X\"),\"X\",IF(PTA!AD8=\"*\",\"*\",VLOOKUP(PTA!AD8,AL_NUM_ARB,2,FALSE)&\" \"&VLOOKUP(PTA!AD8,AL_NUM_ARB,4,FALSE)&\" \"&VLOOKUP(PTA!AD8,AL_NUM_ARB,6,FALSE)))","v":"X"},{"$f":"IF(OR(PTA!AE8=\"\",PTA!AE8=\"X\"),\"X\",IF(PTA!AE8=\"*\",\"*\",VLOOKUP(PTA!AE8,AL_NUM_ARB,2,FALSE)&\" \"&VLOOKUP(PTA!AE8,AL_NUM_ARB,4,FALSE)&\" \"&VLOOKUP(PTA!AE8,AL_NUM_ARB,6,FALSE)))","v":"X"},{"$f":"IF(OR(PTA!AF8=\"\",PTA!AF8=\"X\"),\"X\",IF(PTA!AF8=\"*\",\"*\",VLOOKUP(PTA!AF8,AL_NUM_ARB,2,FALSE)&\" \"&VLOOKUP(PTA!AF8,AL_NUM_ARB,4,FALSE)&\" \"&VLOOKUP(PTA!AF8,AL_NUM_ARB,6,FALSE)))","v":"X"},{"$f":"IF(OR(PTA!AG8=\"\",PTA!AG8=\"X\"),\"X\",IF(PTA!AG8=\"*\",\"*\",VLOOKUP(PTA!AG8,AL_NUM_ARB,2,FALSE)&\" \"&VLOOKUP(PTA!AG8,AL_NUM_ARB,4,FALSE)&\" \"&VLOOKUP(PTA!AG8,AL_NUM_ARB,6,FALSE)))","v":"X"},{"$f":"IF(OR(PTA!AH8=\"\",PTA!AH8=\"X\"),\"X\",IF(PTA!AH8=\"*\",\"*\",VLOOKUP(PTA!AH8,AL_NUM_ARB,2,FALSE)&\" \"&VLOOKUP(PTA!AH8,AL_NUM_ARB,4,FALSE)&\" \"&VLOOKUP(PTA!AH8,AL_NUM_ARB,6,FALSE)))","v":"X"},{"$f":"IF(OR(PTA!AI8=\"\",PTA!AI8=\"X\"),\"X\",IF(PTA!AI8=\"*\",\"*\",VLOOKUP(PTA!AI8,AL_NUM_ARB,2,FALSE)&\" \"&VLOOKUP(PTA!AI8,AL_NUM_ARB,4,FALSE)&\" \"&VLOOKUP(PTA!AI8,AL_NUM_ARB,6,FALSE)))","v":"X"},{"$f":"IF(OR(PTA!AJ8=\"\",PTA!AJ8=\"X\"),\"X\",IF(PTA!AJ8=\"*\",\"*\",VLOOKUP(PTA!AJ8,AL_NUM_ARB,2,FALSE)&\" \"&VLOOKUP(PTA!AJ8,AL_NUM_ARB,4,FALSE)&\" \"&VLOOKUP(PTA!AJ8,AL_NUM_ARB,6,FALSE)))","v":"X"},{"$f":"IF(OR(PTA!AK8=\"\",PTA!AK8=\"X\"),\"X\",IF(PTA!AK8=\"*\",\"*\",VLOOKUP(PTA!AK8,AL_NUM_ARB,2,FALSE)&\" \"&VLOOKUP(PTA!AK8,AL_NUM_ARB,4,FALSE)&\" \"&VLOOKUP(PTA!AK8,AL_NUM_ARB,6,FALSE)))","v":"X"},{"$f":"IF(OR(PTA!AL8=\"\",PTA!AL8=\"X\"),\"X\",IF(PTA!AL8=\"*\",\"*\",VLOOKUP(PTA!AL8,AL_NUM_ARB,2,FALSE)&\" \"&VLOOKUP(PTA!AL8,AL_NUM_ARB,4,FALSE)&\" \"&VLOOKUP(PTA!AL8,AL_NUM_ARB,6,FALSE)))","v":"X"},{"$f":"IF(OR(PTA!AM8=\"\",PTA!AM8=\"X\"),\"X\",IF(PTA!AM8=\"*\",\"*\",VLOOKUP(PTA!AM8,AL_NUM_ARB,2,FALSE)&\" \"&VLOOKUP(PTA!AM8,AL_NUM_ARB,4,FALSE)&\" \"&VLOOKUP(PTA!AM8,AL_NUM_ARB,6,FALSE)))","v":"X"},{"$f":"IF(OR(PTA!AN8=\"\",PTA!AN8=\"X\"),\"X\",IF(PTA!AN8=\"*\",\"*\",VLOOKUP(PTA!AN8,AL_NUM_ARB,2,FALSE)&\" \"&VLOOKUP(PTA!AN8,AL_NUM_ARB,4,FALSE)&\" \"&VLOOKUP(PTA!AN8,AL_NUM_ARB,6,FALSE)))","v":"X"},{"$f":"IF(OR(PTA!AO8=\"\",PTA!AO8=\"X\"),\"X\",IF(PTA!AO8=\"*\",\"*\",VLOOKUP(PTA!AO8,AL_NUM_ARB,2,FALSE)&\" \"&VLOOKUP(PTA!AO8,AL_NUM_ARB,4,FALSE)&\" \"&VLOOKUP(PTA!AO8,AL_NUM_ARB,6,FALSE)))","v":"X"},{"$f":"IF(OR(PTA!AP8=\"\",PTA!AP8=\"X\"),\"X\",IF(PTA!AP8=\"*\",\"*\",VLOOKUP(PTA!AP8,AL_NUM_ARB,2,FALSE)&\" \"&VLOOKUP(PTA!AP8,AL_NUM_ARB,4,FALSE)&\" \"&VLOOKUP(PTA!AP8,AL_NUM_ARB,6,FALSE)))","v":"X"},{"$f":"IF(OR(PTA!AQ8=\"\",PTA!AQ8=\"X\"),\"X\",IF(PTA!AQ8=\"*\",\"*\",VLOOKUP(PTA!AQ8,AL_NUM_ARB,2,FALSE)&\" \"&VLOOKUP(PTA!AQ8,AL_NUM_ARB,4,FALSE)&\" \"&VLOOKUP(PTA!AQ8,AL_NUM_ARB,6,FALSE)))","v":"X"},{"$f":"IF(OR(PTA!AR8=\"\",PTA!AR8=\"X\"),\"X\",IF(PTA!AR8=\"*\",\"*\",VLOOKUP(PTA!AR8,AL_NUM_ARB,2,FALSE)&\" \"&VLOOKUP(PTA!AR8,AL_NUM_ARB,4,FALSE)&\" \"&VLOOKUP(PTA!AR8,AL_NUM_ARB,6,FALSE)))","v":"X"},{"$f":"IF(OR(PTA!AS8=\"\",PTA!AS8=\"X\"),\"X\",IF(PTA!AS8=\"*\",\"*\",VLOOKUP(PTA!AS8,AL_NUM_ARB,2,FALSE)&\" \"&VLOOKUP(PTA!AS8,AL_NUM_ARB,4,FALSE)&\" \"&VLOOKUP(PTA!AS8,AL_NUM_ARB,6,FALSE)))","v":"X"},{"$f":"IF(OR(PTA!AT8=\"\",PTA!AT8=\"X\"),\"X\",IF(PTA!AT8=\"*\",\"*\",VLOOKUP(PTA!AT8,AL_NUM_ARB,2,FALSE)&\" \"&VLOOKUP(PTA!AT8,AL_NUM_ARB,4,FALSE)&\" \"&VLOOKUP(PTA!AT8,AL_NUM_ARB,6,FALSE)))","v":"X"},{"$f":"IF(OR(PTA!AU8=\"\",PTA!AU8=\"X\"),\"X\",IF(PTA!AU8=\"*\",\"*\",VLOOKUP(PTA!AU8,AL_NUM_ARB,2,FALSE)&\" \"&VLOOKUP(PTA!AU8,AL_NUM_ARB,4,FALSE)&\" \"&VLOOKUP(PTA!AU8,AL_NUM_ARB,6,FALSE)))","v":"X"},{"$f":"IF(OR(PTA!AV8=\"\",PTA!AV8=\"X\"),\"X\",IF(PTA!AV8=\"*\",\"*\",VLOOKUP(PTA!AV8,AL_NUM_ARB,2,FALSE)&\" \"&VLOOKUP(PTA!AV8,AL_NUM_ARB,4,FALSE)&\" \"&VLOOKUP(PTA!AV8,AL_NUM_ARB,6,FALSE)))","v":"X"},{"$f":"IF(OR(PTA!AW8=\"\",PTA!AW8=\"X\"),\"X\",IF(PTA!AW8=\"*\",\"*\",VLOOKUP(PTA!AW8,AL_NUM_ARB,2,FALSE)&\" \"&VLOOKUP(PTA!AW8,AL_NUM_ARB,4,FALSE)&\" \"&VLOOKUP(PTA!AW8,AL_NUM_ARB,6,FALSE)))","v":"X"},{"$f":"IF(OR(PTA!AX8=\"\",PTA!AX8=\"X\"),\"X\",IF(PTA!AX8=\"*\",\"*\",VLOOKUP(PTA!AX8,AL_NUM_ARB,2,FALSE)&\" \"&VLOOKUP(PTA!AX8,AL_NUM_ARB,4,FALSE)&\" \"&VLOOKUP(PTA!AX8,AL_NUM_ARB,6,FALSE)))","v":"X"},{"$f":"IF(OR(PTA!AY8=\"\",PTA!AY8=\"X\"),\"X\",IF(PTA!AY8=\"*\",\"*\",VLOOKUP(PTA!AY8,AL_NUM_ARB,2,FALSE)&\" \"&VLOOKUP(PTA!AY8,AL_NUM_ARB,4,FALSE)&\" \"&VLOOKUP(PTA!AY8,AL_NUM_ARB,6,FALSE)))","v":"X"},{"$f":"IF(OR(PTA!AZ8=\"\",PTA!AZ8=\"X\"),\"X\",IF(PTA!AZ8=\"*\",\"*\",VLOOKUP(PTA!AZ8,AL_NUM_ARB,2,FALSE)&\" \"&VLOOKUP(PTA!AZ8,AL_NUM_ARB,4,FALSE)&\" \"&VLOOKUP(PTA!AZ8,AL_NUM_ARB,6,FALSE)))","v":"X"},{"$f":"IF(OR(PTA!BA8=\"\",PTA!BA8=\"X\"),\"X\",IF(PTA!BA8=\"*\",\"*\",VLOOKUP(PTA!BA8,AL_NUM_ARB,2,FALSE)&\" \"&VLOOKUP(PTA!BA8,AL_NUM_ARB,4,FALSE)&\" \"&VLOOKUP(PTA!BA8,AL_NUM_ARB,6,FALSE)))","v":"X"},{"$f":"IF(OR(PTA!BB8=\"\",PTA!BB8=\"X\"),\"X\",IF(PTA!BB8=\"*\",\"*\",VLOOKUP(PTA!BB8,AL_NUM_ARB,2,FALSE)&\" \"&VLOOKUP(PTA!BB8,AL_NUM_ARB,4,FALSE)&\" \"&VLOOKUP(PTA!BB8,AL_NUM_ARB,6,FALSE)))","v":"X"},{"$f":"IF(OR(PTA!BC8=\"\",PTA!BC8=\"X\"),\"X\",IF(PTA!BC8=\"*\",\"*\",VLOOKUP(PTA!BC8,AL_NUM_ARB,2,FALSE)&\" \"&VLOOKUP(PTA!BC8,AL_NUM_ARB,4,FALSE)&\" \"&VLOOKUP(PTA!BC8,AL_NUM_ARB,6,FALSE)))","v":"X"},{"$f":"IF(OR(PTA!BD8=\"\",PTA!BD8=\"X\"),\"X\",IF(PTA!BD8=\"*\",\"*\",VLOOKUP(PTA!BD8,AL_NUM_ARB,2,FALSE)&\" \"&VLOOKUP(PTA!BD8,AL_NUM_ARB,4,FALSE)&\" \"&VLOOKUP(PTA!BD8,AL_NUM_ARB,6,FALSE)))","v":"X"},{"$f":"IF(OR(PTA!BE8=\"\",PTA!BE8=\"X\"),\"X\",IF(PTA!BE8=\"*\",\"*\",VLOOKUP(PTA!BE8,AL_NUM_ARB,2,FALSE)&\" \"&VLOOKUP(PTA!BE8,AL_NUM_ARB,4,FALSE)&\" \"&VLOOKUP(PTA!BE8,AL_NUM_ARB,6,FALSE)))","v":"X"},{"$f":"IF(OR(PTA!BF8=\"\",PTA!BF8=\"X\"),\"X\",IF(PTA!BF8=\"*\",\"*\",VLOOKUP(PTA!BF8,AL_NUM_ARB,2,FALSE)&\" \"&VLOOKUP(PTA!BF8,AL_NUM_ARB,4,FALSE)&\" \"&VLOOKUP(PTA!BF8,AL_NUM_ARB,6,FALSE)))","v":"X"},{"$f":"IF(OR(PTA!BG8=\"\",PTA!BG8=\"X\"),\"X\",IF(PTA!BG8=\"*\",\"*\",VLOOKUP(PTA!BG8,AL_NUM_ARB,2,FALSE)&\" \"&VLOOKUP(PTA!BG8,AL_NUM_ARB,4,FALSE)&\" \"&VLOOKUP(PTA!BG8,AL_NUM_ARB,6,FALSE)))","v":"X"},{"$f":"IF(OR(PTA!BH8=\"\",PTA!BH8=\"X\"),\"X\",IF(PTA!BH8=\"*\",\"*\",VLOOKUP(PTA!BH8,AL_NUM_ARB,2,FALSE)&\" \"&VLOOKUP(PTA!BH8,AL_NUM_ARB,4,FALSE)&\" \"&VLOOKUP(PTA!BH8,AL_NUM_ARB,6,FALSE)))","v":"X"},{"$f":"IF(OR(PTA!BI8=\"\",PTA!BI8=\"X\"),\"X\",IF(PTA!BI8=\"*\",\"*\",VLOOKUP(PTA!BI8,AL_NUM_ARB,2,FALSE)&\" \"&VLOOKUP(PTA!BI8,AL_NUM_ARB,4,FALSE)&\" \"&VLOOKUP(PTA!BI8,AL_NUM_ARB,6,FALSE)))","v":"X"},{"$f":"IF(OR(PTA!BJ8=\"\",PTA!BJ8=\"X\"),\"X\",IF(PTA!BJ8=\"*\",\"*\",VLOOKUP(PTA!BJ8,AL_NUM_ARB,2,FALSE)&\" \"&VLOOKUP(PTA!BJ8,AL_NUM_ARB,4,FALSE)&\" \"&VLOOKUP(PTA!BJ8,AL_NUM_ARB,6,FALSE)))","v":"X"},{"$f":"IF(OR(PTA!BK8=\"\",PTA!BK8=\"X\"),\"X\",IF(PTA!BK8=\"*\",\"*\",VLOOKUP(PTA!BK8,AL_NUM_ARB,2,FALSE)&\" \"&VLOOKUP(PTA!BK8,AL_NUM_ARB,4,FALSE)&\" \"&VLOOKUP(PTA!BK8,AL_NUM_ARB,6,FALSE)))","v":"X"},{"$f":"IF(OR(PTA!BL8=\"\",PTA!BL8=\"X\"),\"X\",IF(PTA!BL8=\"*\",\"*\",VLOOKUP(PTA!BL8,AL_NUM_ARB,2,FALSE)&\" \"&VLOOKUP(PTA!BL8,AL_NUM_ARB,4,FALSE)&\" \"&VLOOKUP(PTA!BL8,AL_NUM_ARB,6,FALSE)))","v":"X"},{"$f":"IF(OR(PTA!BM8=\"\",PTA!BM8=\"X\"),\"X\",IF(PTA!BM8=\"*\",\"*\",VLOOKUP(PTA!BM8,AL_NUM_ARB,2,FALSE)&\" \"&VLOOKUP(PTA!BM8,AL_NUM_ARB,4,FALSE)&\" \"&VLOOKUP(PTA!BM8,AL_NUM_ARB,6,FALSE)))","v":"X"},{"$f":"IF(OR(PTA!BN8=\"\",PTA!BN8=\"X\"),\"X\",IF(PTA!BN8=\"*\",\"*\",VLOOKUP(PTA!BN8,AL_NUM_ARB,2,FALSE)&\" \"&VLOOKUP(PTA!BN8,AL_NUM_ARB,4,FALSE)&\" \"&VLOOKUP(PTA!BN8,AL_NUM_ARB,6,FALSE)))","v":"X"},{"$f":"IF(OR(PTA!BO8=\"\",PTA!BO8=\"X\"),\"X\",IF(PTA!BO8=\"*\",\"*\",VLOOKUP(PTA!BO8,AL_NUM_ARB,2,FALSE)&\" \"&VLOOKUP(PTA!BO8,AL_NUM_ARB,4,FALSE)&\" \"&VLOOKUP(PTA!BO8,AL_NUM_ARB,6,FALSE)))","v":"X"},{"$f":"IF(OR(PTA!BP8=\"\",PTA!BP8=\"X\"),\"X\",IF(PTA!BP8=\"*\",\"*\",VLOOKUP(PTA!BP8,AL_NUM_ARB,2,FALSE)&\" \"&VLOOKUP(PTA!BP8,AL_NUM_ARB,4,FALSE)&\" \"&VLOOKUP(PTA!BP8,AL_NUM_ARB,6,FALSE)))","v":"X"},{"$f":"IF(OR(PTA!BQ8=\"\",PTA!BQ8=\"X\"),\"X\",IF(PTA!BQ8=\"*\",\"*\",VLOOKUP(PTA!BQ8,AL_NUM_ARB,2,FALSE)&\" \"&VLOOKUP(PTA!BQ8,AL_NUM_ARB,4,FALSE)&\" \"&VLOOKUP(PTA!BQ8,AL_NUM_ARB,6,FALSE)))","v":"X"},{"$f":"IF(OR(PTA!BR8=\"\",PTA!BR8=\"X\"),\"X\",IF(PTA!BR8=\"*\",\"*\",VLOOKUP(PTA!BR8,AL_NUM_ARB,2,FALSE)&\" \"&VLOOKUP(PTA!BR8,AL_NUM_ARB,4,FALSE)&\" \"&VLOOKUP(PTA!BR8,AL_NUM_ARB,6,FALSE)))","v":"X"},{"$f":"IF(OR(PTA!BT8=\"\",PTA!BT8=\"X\"),\"X\",VLOOKUP(PTA!BT8,AL_NUM_ARB,2,FALSE)&\" \"&VLOOKUP(PTA!BT8,AL_NUM_ARB,4,FALSE)&\" \"&VLOOKUP(PTA!BT8,AL_NUM_ARB,6,FALSE))","v":"X"},{"$f":"IF(OR(PTA!BU8=\"\",PTA!BU8=\"X\"),\"X\",VLOOKUP(PTA!BU8,AL_NUM_ARB,2,FALSE)&\" \"&VLOOKUP(PTA!BU8,AL_NUM_ARB,4,FALSE)&\" \"&VLOOKUP(PTA!BU8,AL_NUM_ARB,6,FALSE))","v":"X"},{"$f":"IF(OR(PTA!BV8=\"\",PTA!BV8=\"X\"),\"X\",VLOOKUP(PTA!BV8,AL_NUM_ARB,2,FALSE)&\" \"&VLOOKUP(PTA!BV8,AL_NUM_ARB,4,FALSE)&\" \"&VLOOKUP(PTA!BV8,AL_NUM_ARB,6,FALSE))","v":"X"},{"$f":"IF(OR(PTA!BW8=\"\",PTA!BW8=\"X\"),\"X\",VLOOKUP(PTA!BW8,AL_NUM_ARB,2,FALSE)&\" \"&VLOOKUP(PTA!BW8,AL_NUM_ARB,4,FALSE)&\" \"&VLOOKUP(PTA!BW8,AL_NUM_ARB,6,FALSE))","v":"X"},{"$f":"B8","v":"00:00:00"}]
[{"$f":"PTA!A9","v":""},{"$f":"PTA!B9","v":"00:00:00"},{"$f":"PTA!C9","v":32},{"$f":"PTA!D9","v":0},{"$f":"IF(OR(PTA!E9=\"\",PTA!E9=\"X\"),\"X\",IF(PTA!E9=\"*\",\"*\",VLOOKUP(PTA!E9,AL_NUM_ARB,2,FALSE)&\" \"&VLOOKUP(PTA!E9,AL_NUM_ARB,4,FALSE)&\" \"&VLOOKUP(PTA!E9,AL_NUM_ARB,6,FALSE)))","v":"X"},{"$f":"IF(OR(PTA!F9=\"\",PTA!F9=\"X\"),\"X\",IF(PTA!F9=\"*\",\"*\",VLOOKUP(PTA!F9,AL_NUM_ARB,2,FALSE)&\" \"&VLOOKUP(PTA!F9,AL_NUM_ARB,4,FALSE)&\" \"&VLOOKUP(PTA!F9,AL_NUM_ARB,6,FALSE)))","v":"X"},{"$f":"IF(OR(PTA!G9=\"\",PTA!G9=\"X\"),\"X\",IF(PTA!G9=\"*\",\"*\",VLOOKUP(PTA!G9,AL_NUM_ARB,2,FALSE)&\" \"&VLOOKUP(PTA!G9,AL_NUM_ARB,4,FALSE)&\" \"&VLOOKUP(PTA!G9,AL_NUM_ARB,6,FALSE)))","v":"X"},{"$f":"IF(OR(PTA!H9=\"\",PTA!H9=\"X\"),\"X\",IF(PTA!H9=\"*\",\"*\",VLOOKUP(PTA!H9,AL_NUM_ARB,2,FALSE)&\" \"&VLOOKUP(PTA!H9,AL_NUM_ARB,4,FALSE)&\" \"&VLOOKUP(PTA!H9,AL_NUM_ARB,6,FALSE)))","v":"X"},{"$f":"IF(OR(PTA!I9=\"\",PTA!I9=\"X\"),\"X\",IF(PTA!I9=\"*\",\"*\",VLOOKUP(PTA!I9,AL_NUM_ARB,2,FALSE)&\" \"&VLOOKUP(PTA!I9,AL_NUM_ARB,4,FALSE)&\" \"&VLOOKUP(PTA!I9,AL_NUM_ARB,6,FALSE)))","v":"X"},{"$f":"IF(OR(PTA!J9=\"\",PTA!J9=\"X\"),\"X\",IF(PTA!J9=\"*\",\"*\",VLOOKUP(PTA!J9,AL_NUM_ARB,2,FALSE)&\" \"&VLOOKUP(PTA!J9,AL_NUM_ARB,4,FALSE)&\" \"&VLOOKUP(PTA!J9,AL_NUM_ARB,6,FALSE)))","v":"X"},{"$f":"IF(OR(PTA!K9=\"\",PTA!K9=\"X\"),\"X\",IF(PTA!K9=\"*\",\"*\",VLOOKUP(PTA!K9,AL_NUM_ARB,2,FALSE)&\" \"&VLOOKUP(PTA!K9,AL_NUM_ARB,4,FALSE)&\" \"&VLOOKUP(PTA!K9,AL_NUM_ARB,6,FALSE)))","v":"X"},{"$f":"IF(OR(PTA!L9=\"\",PTA!L9=\"X\"),\"X\",IF(PTA!L9=\"*\",\"*\",VLOOKUP(PTA!L9,AL_NUM_ARB,2,FALSE)&\" \"&VLOOKUP(PTA!L9,AL_NUM_ARB,4,FALSE)&\" \"&VLOOKUP(PTA!L9,AL_NUM_ARB,6,FALSE)))","v":"X"},{"$f":"IF(OR(PTA!M9=\"\",PTA!M9=\"X\"),\"X\",IF(PTA!M9=\"*\",\"*\",VLOOKUP(PTA!M9,AL_NUM_ARB,2,FALSE)&\" \"&VLOOKUP(PTA!M9,AL_NUM_ARB,4,FALSE)&\" \"&VLOOKUP(PTA!M9,AL_NUM_ARB,6,FALSE)))","v":"X"},{"$f":"IF(OR(PTA!N9=\"\",PTA!N9=\"X\"),\"X\",IF(PTA!N9=\"*\",\"*\",VLOOKUP(PTA!N9,AL_NUM_ARB,2,FALSE)&\" \"&VLOOKUP(PTA!N9,AL_NUM_ARB,4,FALSE)&\" \"&VLOOKUP(PTA!N9,AL_NUM_ARB,6,FALSE)))","v":"X"},{"$f":"IF(OR(PTA!O9=\"\",PTA!O9=\"X\"),\"X\",IF(PTA!O9=\"*\",\"*\",VLOOKUP(PTA!O9,AL_NUM_ARB,2,FALSE)&\" \"&VLOOKUP(PTA!O9,AL_NUM_ARB,4,FALSE)&\" \"&VLOOKUP(PTA!O9,AL_NUM_ARB,6,FALSE)))","v":"X"},{"$f":"IF(OR(PTA!P9=\"\",PTA!P9=\"X\"),\"X\",IF(PTA!P9=\"*\",\"*\",VLOOKUP(PTA!P9,AL_NUM_ARB,2,FALSE)&\" \"&VLOOKUP(PTA!P9,AL_NUM_ARB,4,FALSE)&\" \"&VLOOKUP(PTA!P9,AL_NUM_ARB,6,FALSE)))","v":"X"},{"$f":"IF(OR(PTA!Q9=\"\",PTA!Q9=\"X\"),\"X\",IF(PTA!Q9=\"*\",\"*\",VLOOKUP(PTA!Q9,AL_NUM_ARB,2,FALSE)&\" \"&VLOOKUP(PTA!Q9,AL_NUM_ARB,4,FALSE)&\" \"&VLOOKUP(PTA!Q9,AL_NUM_ARB,6,FALSE)))","v":"X"},{"$f":"IF(OR(PTA!R9=\"\",PTA!R9=\"X\"),\"X\",IF(PTA!R9=\"*\",\"*\",VLOOKUP(PTA!R9,AL_NUM_ARB,2,FALSE)&\" \"&VLOOKUP(PTA!R9,AL_NUM_ARB,4,FALSE)&\" \"&VLOOKUP(PTA!R9,AL_NUM_ARB,6,FALSE)))","v":"X"},{"$f":"IF(OR(PTA!S9=\"\",PTA!S9=\"X\"),\"X\",IF(PTA!S9=\"*\",\"*\",VLOOKUP(PTA!S9,AL_NUM_ARB,2,FALSE)&\" \"&VLOOKUP(PTA!S9,AL_NUM_ARB,4,FALSE)&\" \"&VLOOKUP(PTA!S9,AL_NUM_ARB,6,FALSE)))","v":"X"},{"$f":"IF(OR(PTA!T9=\"\",PTA!T9=\"X\"),\"X\",IF(PTA!T9=\"*\",\"*\",VLOOKUP(PTA!T9,AL_NUM_ARB,2,FALSE)&\" \"&VLOOKUP(PTA!T9,AL_NUM_ARB,4,FALSE)&\" \"&VLOOKUP(PTA!T9,AL_NUM_ARB,6,FALSE)))","v":"X"},{"$f":"IF(OR(PTA!U9=\"\",PTA!U9=\"X\"),\"X\",IF(PTA!U9=\"*\",\"*\",VLOOKUP(PTA!U9,AL_NUM_ARB,2,FALSE)&\" \"&VLOOKUP(PTA!U9,AL_NUM_ARB,4,FALSE)&\" \"&VLOOKUP(PTA!U9,AL_NUM_ARB,6,FALSE)))","v":"X"},{"$f":"IF(OR(PTA!V9=\"\",PTA!V9=\"X\"),\"X\",IF(PTA!V9=\"*\",\"*\",VLOOKUP(PTA!V9,AL_NUM_ARB,2,FALSE)&\" \"&VLOOKUP(PTA!V9,AL_NUM_ARB,4,FALSE)&\" \"&VLOOKUP(PTA!V9,AL_NUM_ARB,6,FALSE)))","v":"X"},{"$f":"IF(OR(PTA!W9=\"\",PTA!W9=\"X\"),\"X\",IF(PTA!W9=\"*\",\"*\",VLOOKUP(PTA!W9,AL_NUM_ARB,2,FALSE)&\" \"&VLOOKUP(PTA!W9,AL_NUM_ARB,4,FALSE)&\" \"&VLOOKUP(PTA!W9,AL_NUM_ARB,6,FALSE)))","v":"X"},{"$f":"IF(OR(PTA!X9=\"\",PTA!X9=\"X\"),\"X\",IF(PTA!X9=\"*\",\"*\",VLOOKUP(PTA!X9,AL_NUM_ARB,2,FALSE)&\" \"&VLOOKUP(PTA!X9,AL_NUM_ARB,4,FALSE)&\" \"&VLOOKUP(PTA!X9,AL_NUM_ARB,6,FALSE)))","v":"X"},{"$f":"IF(OR(PTA!Y9=\"\",PTA!Y9=\"X\"),\"X\",IF(PTA!Y9=\"*\",\"*\",VLOOKUP(PTA!Y9,AL_NUM_ARB,2,FALSE)&\" \"&VLOOKUP(PTA!Y9,AL_NUM_ARB,4,FALSE)&\" \"&VLOOKUP(PTA!Y9,AL_NUM_ARB,6,FALSE)))","v":"X"},{"$f":"IF(OR(PTA!Z9=\"\",PTA!Z9=\"X\"),\"X\",IF(PTA!Z9=\"*\",\"*\",VLOOKUP(PTA!Z9,AL_NUM_ARB,2,FALSE)&\" \"&VLOOKUP(PTA!Z9,AL_NUM_ARB,4,FALSE)&\" \"&VLOOKUP(PTA!Z9,AL_NUM_ARB,6,FALSE)))","v":"X"},{"$f":"IF(OR(PTA!AA9=\"\",PTA!AA9=\"X\"),\"X\",IF(PTA!AA9=\"*\",\"*\",VLOOKUP(PTA!AA9,AL_NUM_ARB,2,FALSE)&\" \"&VLOOKUP(PTA!AA9,AL_NUM_ARB,4,FALSE)&\" \"&VLOOKUP(PTA!AA9,AL_NUM_ARB,6,FALSE)))","v":"X"},{"$f":"IF(OR(PTA!AB9=\"\",PTA!AB9=\"X\"),\"X\",IF(PTA!AB9=\"*\",\"*\",VLOOKUP(PTA!AB9,AL_NUM_ARB,2,FALSE)&\" \"&VLOOKUP(PTA!AB9,AL_NUM_ARB,4,FALSE)&\" \"&VLOOKUP(PTA!AB9,AL_NUM_ARB,6,FALSE)))","v":"X"},{"$f":"IF(OR(PTA!AC9=\"\",PTA!AC9=\"X\"),\"X\",IF(PTA!AC9=\"*\",\"*\",VLOOKUP(PTA!AC9,AL_NUM_ARB,2,FALSE)&\" \"&VLOOKUP(PTA!AC9,AL_NUM_ARB,4,FALSE)&\" \"&VLOOKUP(PTA!AC9,AL_NUM_ARB,6,FALSE)))","v":"X"},{"$f":"IF(OR(PTA!AD9=\"\",PTA!AD9=\"X\"),\"X\",IF(PTA!AD9=\"*\",\"*\",VLOOKUP(PTA!AD9,AL_NUM_ARB,2,FALSE)&\" \"&VLOOKUP(PTA!AD9,AL_NUM_ARB,4,FALSE)&\" \"&VLOOKUP(PTA!AD9,AL_NUM_ARB,6,FALSE)))","v":"X"},{"$f":"IF(OR(PTA!AE9=\"\",PTA!AE9=\"X\"),\"X\",IF(PTA!AE9=\"*\",\"*\",VLOOKUP(PTA!AE9,AL_NUM_ARB,2,FALSE)&\" \"&VLOOKUP(PTA!AE9,AL_NUM_ARB,4,FALSE)&\" \"&VLOOKUP(PTA!AE9,AL_NUM_ARB,6,FALSE)))","v":"X"},{"$f":"IF(OR(PTA!AF9=\"\",PTA!AF9=\"X\"),\"X\",IF(PTA!AF9=\"*\",\"*\",VLOOKUP(PTA!AF9,AL_NUM_ARB,2,FALSE)&\" \"&VLOOKUP(PTA!AF9,AL_NUM_ARB,4,FALSE)&\" \"&VLOOKUP(PTA!AF9,AL_NUM_ARB,6,FALSE)))","v":"X"},{"$f":"IF(OR(PTA!AG9=\"\",PTA!AG9=\"X\"),\"X\",IF(PTA!AG9=\"*\",\"*\",VLOOKUP(PTA!AG9,AL_NUM_ARB,2,FALSE)&\" \"&VLOOKUP(PTA!AG9,AL_NUM_ARB,4,FALSE)&\" \"&VLOOKUP(PTA!AG9,AL_NUM_ARB,6,FALSE)))","v":"X"},{"$f":"IF(OR(PTA!AH9=\"\",PTA!AH9=\"X\"),\"X\",IF(PTA!AH9=\"*\",\"*\",VLOOKUP(PTA!AH9,AL_NUM_ARB,2,FALSE)&\" \"&VLOOKUP(PTA!AH9,AL_NUM_ARB,4,FALSE)&\" \"&VLOOKUP(PTA!AH9,AL_NUM_ARB,6,FALSE)))","v":"X"},{"$f":"IF(OR(PTA!AI9=\"\",PTA!AI9=\"X\"),\"X\",IF(PTA!AI9=\"*\",\"*\",VLOOKUP(PTA!AI9,AL_NUM_ARB,2,FALSE)&\" \"&VLOOKUP(PTA!AI9,AL_NUM_ARB,4,FALSE)&\" \"&VLOOKUP(PTA!AI9,AL_NUM_ARB,6,FALSE)))","v":"X"},{"$f":"IF(OR(PTA!AJ9=\"\",PTA!AJ9=\"X\"),\"X\",IF(PTA!AJ9=\"*\",\"*\",VLOOKUP(PTA!AJ9,AL_NUM_ARB,2,FALSE)&\" \"&VLOOKUP(PTA!AJ9,AL_NUM_ARB,4,FALSE)&\" \"&VLOOKUP(PTA!AJ9,AL_NUM_ARB,6,FALSE)))","v":"X"},{"$f":"IF(OR(PTA!AK9=\"\",PTA!AK9=\"X\"),\"X\",IF(PTA!AK9=\"*\",\"*\",VLOOKUP(PTA!AK9,AL_NUM_ARB,2,FALSE)&\" \"&VLOOKUP(PTA!AK9,AL_NUM_ARB,4,FALSE)&\" \"&VLOOKUP(PTA!AK9,AL_NUM_ARB,6,FALSE)))","v":"X"},{"$f":"IF(OR(PTA!AL9=\"\",PTA!AL9=\"X\"),\"X\",IF(PTA!AL9=\"*\",\"*\",VLOOKUP(PTA!AL9,AL_NUM_ARB,2,FALSE)&\" \"&VLOOKUP(PTA!AL9,AL_NUM_ARB,4,FALSE)&\" \"&VLOOKUP(PTA!AL9,AL_NUM_ARB,6,FALSE)))","v":"X"},{"$f":"IF(OR(PTA!AM9=\"\",PTA!AM9=\"X\"),\"X\",IF(PTA!AM9=\"*\",\"*\",VLOOKUP(PTA!AM9,AL_NUM_ARB,2,FALSE)&\" \"&VLOOKUP(PTA!AM9,AL_NUM_ARB,4,FALSE)&\" \"&VLOOKUP(PTA!AM9,AL_NUM_ARB,6,FALSE)))","v":"X"},{"$f":"IF(OR(PTA!AN9=\"\",PTA!AN9=\"X\"),\"X\",IF(PTA!AN9=\"*\",\"*\",VLOOKUP(PTA!AN9,AL_NUM_ARB,2,FALSE)&\" \"&VLOOKUP(PTA!AN9,AL_NUM_ARB,4,FALSE)&\" \"&VLOOKUP(PTA!AN9,AL_NUM_ARB,6,FALSE)))","v":"X"},{"$f":"IF(OR(PTA!AO9=\"\",PTA!AO9=\"X\"),\"X\",IF(PTA!AO9=\"*\",\"*\",VLOOKUP(PTA!AO9,AL_NUM_ARB,2,FALSE)&\" \"&VLOOKUP(PTA!AO9,AL_NUM_ARB,4,FALSE)&\" \"&VLOOKUP(PTA!AO9,AL_NUM_ARB,6,FALSE)))","v":"X"},{"$f":"IF(OR(PTA!AP9=\"\",PTA!AP9=\"X\"),\"X\",IF(PTA!AP9=\"*\",\"*\",VLOOKUP(PTA!AP9,AL_NUM_ARB,2,FALSE)&\" \"&VLOOKUP(PTA!AP9,AL_NUM_ARB,4,FALSE)&\" \"&VLOOKUP(PTA!AP9,AL_NUM_ARB,6,FALSE)))","v":"X"},{"$f":"IF(OR(PTA!AQ9=\"\",PTA!AQ9=\"X\"),\"X\",IF(PTA!AQ9=\"*\",\"*\",VLOOKUP(PTA!AQ9,AL_NUM_ARB,2,FALSE)&\" \"&VLOOKUP(PTA!AQ9,AL_NUM_ARB,4,FALSE)&\" \"&VLOOKUP(PTA!AQ9,AL_NUM_ARB,6,FALSE)))","v":"X"},{"$f":"IF(OR(PTA!AR9=\"\",PTA!AR9=\"X\"),\"X\",IF(PTA!AR9=\"*\",\"*\",VLOOKUP(PTA!AR9,AL_NUM_ARB,2,FALSE)&\" \"&VLOOKUP(PTA!AR9,AL_NUM_ARB,4,FALSE)&\" \"&VLOOKUP(PTA!AR9,AL_NUM_ARB,6,FALSE)))","v":"X"},{"$f":"IF(OR(PTA!AS9=\"\",PTA!AS9=\"X\"),\"X\",IF(PTA!AS9=\"*\",\"*\",VLOOKUP(PTA!AS9,AL_NUM_ARB,2,FALSE)&\" \"&VLOOKUP(PTA!AS9,AL_NUM_ARB,4,FALSE)&\" \"&VLOOKUP(PTA!AS9,AL_NUM_ARB,6,FALSE)))","v":"X"},{"$f":"IF(OR(PTA!AT9=\"\",PTA!AT9=\"X\"),\"X\",IF(PTA!AT9=\"*\",\"*\",VLOOKUP(PTA!AT9,AL_NUM_ARB,2,FALSE)&\" \"&VLOOKUP(PTA!AT9,AL_NUM_ARB,4,FALSE)&\" \"&VLOOKUP(PTA!AT9,AL_NUM_ARB,6,FALSE)))","v":"X"},{"$f":"IF(OR(PTA!AU9=\"\",PTA!AU9=\"X\"),\"X\",IF(PTA!AU9=\"*\",\"*\",VLOOKUP(PTA!AU9,AL_NUM_ARB,2,FALSE)&\" \"&VLOOKUP(PTA!AU9,AL_NUM_ARB,4,FALSE)&\" \"&VLOOKUP(PTA!AU9,AL_NUM_ARB,6,FALSE)))","v":"X"},{"$f":"IF(OR(PTA!AV9=\"\",PTA!AV9=\"X\"),\"X\",IF(PTA!AV9=\"*\",\"*\",VLOOKUP(PTA!AV9,AL_NUM_ARB,2,FALSE)&\" \"&VLOOKUP(PTA!AV9,AL_NUM_ARB,4,FALSE)&\" \"&VLOOKUP(PTA!AV9,AL_NUM_ARB,6,FALSE)))","v":"X"},{"$f":"IF(OR(PTA!AW9=\"\",PTA!AW9=\"X\"),\"X\",IF(PTA!AW9=\"*\",\"*\",VLOOKUP(PTA!AW9,AL_NUM_ARB,2,FALSE)&\" \"&VLOOKUP(PTA!AW9,AL_NUM_ARB,4,FALSE)&\" \"&VLOOKUP(PTA!AW9,AL_NUM_ARB,6,FALSE)))","v":"X"},{"$f":"IF(OR(PTA!AX9=\"\",PTA!AX9=\"X\"),\"X\",IF(PTA!AX9=\"*\",\"*\",VLOOKUP(PTA!AX9,AL_NUM_ARB,2,FALSE)&\" \"&VLOOKUP(PTA!AX9,AL_NUM_ARB,4,FALSE)&\" \"&VLOOKUP(PTA!AX9,AL_NUM_ARB,6,FALSE)))","v":"X"},{"$f":"IF(OR(PTA!AY9=\"\",PTA!AY9=\"X\"),\"X\",IF(PTA!AY9=\"*\",\"*\",VLOOKUP(PTA!AY9,AL_NUM_ARB,2,FALSE)&\" \"&VLOOKUP(PTA!AY9,AL_NUM_ARB,4,FALSE)&\" \"&VLOOKUP(PTA!AY9,AL_NUM_ARB,6,FALSE)))","v":"X"},{"$f":"IF(OR(PTA!AZ9=\"\",PTA!AZ9=\"X\"),\"X\",IF(PTA!AZ9=\"*\",\"*\",VLOOKUP(PTA!AZ9,AL_NUM_ARB,2,FALSE)&\" \"&VLOOKUP(PTA!AZ9,AL_NUM_ARB,4,FALSE)&\" \"&VLOOKUP(PTA!AZ9,AL_NUM_ARB,6,FALSE)))","v":"X"},{"$f":"IF(OR(PTA!BA9=\"\",PTA!BA9=\"X\"),\"X\",IF(PTA!BA9=\"*\",\"*\",VLOOKUP(PTA!BA9,AL_NUM_ARB,2,FALSE)&\" \"&VLOOKUP(PTA!BA9,AL_NUM_ARB,4,FALSE)&\" \"&VLOOKUP(PTA!BA9,AL_NUM_ARB,6,FALSE)))","v":"X"},{"$f":"IF(OR(PTA!BB9=\"\",PTA!BB9=\"X\"),\"X\",IF(PTA!BB9=\"*\",\"*\",VLOOKUP(PTA!BB9,AL_NUM_ARB,2,FALSE)&\" \"&VLOOKUP(PTA!BB9,AL_NUM_ARB,4,FALSE)&\" \"&VLOOKUP(PTA!BB9,AL_NUM_ARB,6,FALSE)))","v":"X"},{"$f":"IF(OR(PTA!BC9=\"\",PTA!BC9=\"X\"),\"X\",IF(PTA!BC9=\"*\",\"*\",VLOOKUP(PTA!BC9,AL_NUM_ARB,2,FALSE)&\" \"&VLOOKUP(PTA!BC9,AL_NUM_ARB,4,FALSE)&\" \"&VLOOKUP(PTA!BC9,AL_NUM_ARB,6,FALSE)))","v":"X"},{"$f":"IF(OR(PTA!BD9=\"\",PTA!BD9=\"X\"),\"X\",IF(PTA!BD9=\"*\",\"*\",VLOOKUP(PTA!BD9,AL_NUM_ARB,2,FALSE)&\" \"&VLOOKUP(PTA!BD9,AL_NUM_ARB,4,FALSE)&\" \"&VLOOKUP(PTA!BD9,AL_NUM_ARB,6,FALSE)))","v":"X"},{"$f":"IF(OR(PTA!BE9=\"\",PTA!BE9=\"X\"),\"X\",IF(PTA!BE9=\"*\",\"*\",VLOOKUP(PTA!BE9,AL_NUM_ARB,2,FALSE)&\" \"&VLOOKUP(PTA!BE9,AL_NUM_ARB,4,FALSE)&\" \"&VLOOKUP(PTA!BE9,AL_NUM_ARB,6,FALSE)))","v":"X"},{"$f":"IF(OR(PTA!BF9=\"\",PTA!BF9=\"X\"),\"X\",IF(PTA!BF9=\"*\",\"*\",VLOOKUP(PTA!BF9,AL_NUM_ARB,2,FALSE)&\" \"&VLOOKUP(PTA!BF9,AL_NUM_ARB,4,FALSE)&\" \"&VLOOKUP(PTA!BF9,AL_NUM_ARB,6,FALSE)))","v":"X"},{"$f":"IF(OR(PTA!BG9=\"\",PTA!BG9=\"X\"),\"X\",IF(PTA!BG9=\"*\",\"*\",VLOOKUP(PTA!BG9,AL_NUM_ARB,2,FALSE)&\" \"&VLOOKUP(PTA!BG9,AL_NUM_ARB,4,FALSE)&\" \"&VLOOKUP(PTA!BG9,AL_NUM_ARB,6,FALSE)))","v":"X"},{"$f":"IF(OR(PTA!BH9=\"\",PTA!BH9=\"X\"),\"X\",IF(PTA!BH9=\"*\",\"*\",VLOOKUP(PTA!BH9,AL_NUM_ARB,2,FALSE)&\" \"&VLOOKUP(PTA!BH9,AL_NUM_ARB,4,FALSE)&\" \"&VLOOKUP(PTA!BH9,AL_NUM_ARB,6,FALSE)))","v":"X"},{"$f":"IF(OR(PTA!BI9=\"\",PTA!BI9=\"X\"),\"X\",IF(PTA!BI9=\"*\",\"*\",VLOOKUP(PTA!BI9,AL_NUM_ARB,2,FALSE)&\" \"&VLOOKUP(PTA!BI9,AL_NUM_ARB,4,FALSE)&\" \"&VLOOKUP(PTA!BI9,AL_NUM_ARB,6,FALSE)))","v":"X"},{"$f":"IF(OR(PTA!BJ9=\"\",PTA!BJ9=\"X\"),\"X\",IF(PTA!BJ9=\"*\",\"*\",VLOOKUP(PTA!BJ9,AL_NUM_ARB,2,FALSE)&\" \"&VLOOKUP(PTA!BJ9,AL_NUM_ARB,4,FALSE)&\" \"&VLOOKUP(PTA!BJ9,AL_NUM_ARB,6,FALSE)))","v":"X"},{"$f":"IF(OR(PTA!BK9=\"\",PTA!BK9=\"X\"),\"X\",IF(PTA!BK9=\"*\",\"*\",VLOOKUP(PTA!BK9,AL_NUM_ARB,2,FALSE)&\" \"&VLOOKUP(PTA!BK9,AL_NUM_ARB,4,FALSE)&\" \"&VLOOKUP(PTA!BK9,AL_NUM_ARB,6,FALSE)))","v":"X"},{"$f":"IF(OR(PTA!BL9=\"\",PTA!BL9=\"X\"),\"X\",IF(PTA!BL9=\"*\",\"*\",VLOOKUP(PTA!BL9,AL_NUM_ARB,2,FALSE)&\" \"&VLOOKUP(PTA!BL9,AL_NUM_ARB,4,FALSE)&\" \"&VLOOKUP(PTA!BL9,AL_NUM_ARB,6,FALSE)))","v":"X"},{"$f":"IF(OR(PTA!BM9=\"\",PTA!BM9=\"X\"),\"X\",IF(PTA!BM9=\"*\",\"*\",VLOOKUP(PTA!BM9,AL_NUM_ARB,2,FALSE)&\" \"&VLOOKUP(PTA!BM9,AL_NUM_ARB,4,FALSE)&\" \"&VLOOKUP(PTA!BM9,AL_NUM_ARB,6,FALSE)))","v":"X"},{"$f":"IF(OR(PTA!BN9=\"\",PTA!BN9=\"X\"),\"X\",IF(PTA!BN9=\"*\",\"*\",VLOOKUP(PTA!BN9,AL_NUM_ARB,2,FALSE)&\" \"&VLOOKUP(PTA!BN9,AL_NUM_ARB,4,FALSE)&\" \"&VLOOKUP(PTA!BN9,AL_NUM_ARB,6,FALSE)))","v":"X"},{"$f":"IF(OR(PTA!BO9=\"\",PTA!BO9=\"X\"),\"X\",IF(PTA!BO9=\"*\",\"*\",VLOOKUP(PTA!BO9,AL_NUM_ARB,2,FALSE)&\" \"&VLOOKUP(PTA!BO9,AL_NUM_ARB,4,FALSE)&\" \"&VLOOKUP(PTA!BO9,AL_NUM_ARB,6,FALSE)))","v":"X"},{"$f":"IF(OR(PTA!BP9=\"\",PTA!BP9=\"X\"),\"X\",IF(PTA!BP9=\"*\",\"*\",VLOOKUP(PTA!BP9,AL_NUM_ARB,2,FALSE)&\" \"&VLOOKUP(PTA!BP9,AL_NUM_ARB,4,FALSE)&\" \"&VLOOKUP(PTA!BP9,AL_NUM_ARB,6,FALSE)))","v":"X"},{"$f":"IF(OR(PTA!BQ9=\"\",PTA!BQ9=\"X\"),\"X\",IF(PTA!BQ9=\"*\",\"*\",VLOOKUP(PTA!BQ9,AL_NUM_ARB,2,FALSE)&\" \"&VLOOKUP(PTA!BQ9,AL_NUM_ARB,4,FALSE)&\" \"&VLOOKUP(PTA!BQ9,AL_NUM_ARB,6,FALSE)))","v":"X"},{"$f":"IF(OR(PTA!BR9=\"\",PTA!BR9=\"X\"),\"X\",IF(PTA!BR9=\"*\",\"*\",VLOOKUP(PTA!BR9,AL_NUM_ARB,2,FALSE)&\" \"&VLOOKUP(PTA!BR9,AL_NUM_ARB,4,FALSE)&\" \"&VLOOKUP(PTA!BR9,AL_NUM_ARB,6,FALSE)))","v":"X"},{"$f":"IF(OR(PTA!BT9=\"\",PTA!BT9=\"X\"),\"X\",VLOOKUP(PTA!BT9,AL_NUM_ARB,2,FALSE)&\" \"&VLOOKUP(PTA!BT9,AL_NUM_ARB,4,FALSE)&\" \"&VLOOKUP(PTA!BT9,AL_NUM_ARB,6,FALSE))","v":"X"},{"$f":"IF(OR(PTA!BU9=\"\",PTA!BU9=\"X\"),\"X\",VLOOKUP(PTA!BU9,AL_NUM_ARB,2,FALSE)&\" \"&VLOOKUP(PTA!BU9,AL_NUM_ARB,4,FALSE)&\" \"&VLOOKUP(PTA!BU9,AL_NUM_ARB,6,FALSE))","v":"X"},{"$f":"IF(OR(PTA!BV9=\"\",PTA!BV9=\"X\"),\"X\",VLOOKUP(PTA!BV9,AL_NUM_ARB,2,FALSE)&\" \"&VLOOKUP(PTA!BV9,AL_NUM_ARB,4,FALSE)&\" \"&VLOOKUP(PTA!BV9,AL_NUM_ARB,6,FALSE))","v":"X"},{"$f":"IF(OR(PTA!BW9=\"\",PTA!BW9=\"X\"),\"X\",VLOOKUP(PTA!BW9,AL_NUM_ARB,2,FALSE)&\" \"&VLOOKUP(PTA!BW9,AL_NUM_ARB,4,FALSE)&\" \"&VLOOKUP(PTA!BW9,AL_NUM_ARB,6,FALSE))","v":"X"},{"$f":"BW8+Part1","v":"00:30:00"}]
[{"$f":"PTA!A10","v":""},{"$f":"PTA!B10","v":"00:00:00"},{"$f":"PTA!C10","v":32},{"$f":"PTA!D10","v":0},{"$f":"IF(OR(PTA!E10=\"\",PTA!E10=\"X\"),\"X\",IF(PTA!E10=\"*\",\"*\",VLOOKUP(PTA!E10,AL_NUM_ARB,2,FALSE)&\" \"&VLOOKUP(PTA!E10,AL_NUM_ARB,4,FALSE)&\" \"&VLOOKUP(PTA!E10,AL_NUM_ARB,6,FALSE)))","v":"X"},{"$f":"IF(OR(PTA!F10=\"\",PTA!F10=\"X\"),\"X\",IF(PTA!F10=\"*\",\"*\",VLOOKUP(PTA!F10,AL_NUM_ARB,2,FALSE)&\" \"&VLOOKUP(PTA!F10,AL_NUM_ARB,4,FALSE)&\" \"&VLOOKUP(PTA!F10,AL_NUM_ARB,6,FALSE)))","v":"X"},{"$f":"IF(OR(PTA!G10=\"\",PTA!G10=\"X\"),\"X\",IF(PTA!G10=\"*\",\"*\",VLOOKUP(PTA!G10,AL_NUM_ARB,2,FALSE)&\" \"&VLOOKUP(PTA!G10,AL_NUM_ARB,4,FALSE)&\" \"&VLOOKUP(PTA!G10,AL_NUM_ARB,6,FALSE)))","v":"X"},{"$f":"IF(OR(PTA!H10=\"\",PTA!H10=\"X\"),\"X\",IF(PTA!H10=\"*\",\"*\",VLOOKUP(PTA!H10,AL_NUM_ARB,2,FALSE)&\" \"&VLOOKUP(PTA!H10,AL_NUM_ARB,4,FALSE)&\" \"&VLOOKUP(PTA!H10,AL_NUM_ARB,6,FALSE)))","v":"X"},{"$f":"IF(OR(PTA!I10=\"\",PTA!I10=\"X\"),\"X\",IF(PTA!I10=\"*\",\"*\",VLOOKUP(PTA!I10,AL_NUM_ARB,2,FALSE)&\" \"&VLOOKUP(PTA!I10,AL_NUM_ARB,4,FALSE)&\" \"&VLOOKUP(PTA!I10,AL_NUM_ARB,6,FALSE)))","v":"X"},{"$f":"IF(OR(PTA!J10=\"\",PTA!J10=\"X\"),\"X\",IF(PTA!J10=\"*\",\"*\",VLOOKUP(PTA!J10,AL_NUM_ARB,2,FALSE)&\" \"&VLOOKUP(PTA!J10,AL_NUM_ARB,4,FALSE)&\" \"&VLOOKUP(PTA!J10,AL_NUM_ARB,6,FALSE)))","v":"X"},{"$f":"IF(OR(PTA!K10=\"\",PTA!K10=\"X\"),\"X\",IF(PTA!K10=\"*\",\"*\",VLOOKUP(PTA!K10,AL_NUM_ARB,2,FALSE)&\" \"&VLOOKUP(PTA!K10,AL_NUM_ARB,4,FALSE)&\" \"&VLOOKUP(PTA!K10,AL_NUM_ARB,6,FALSE)))","v":"X"},{"$f":"IF(OR(PTA!L10=\"\",PTA!L10=\"X\"),\"X\",IF(PTA!L10=\"*\",\"*\",VLOOKUP(PTA!L10,AL_NUM_ARB,2,FALSE)&\" \"&VLOOKUP(PTA!L10,AL_NUM_ARB,4,FALSE)&\" \"&VLOOKUP(PTA!L10,AL_NUM_ARB,6,FALSE)))","v":"X"},{"$f":"IF(OR(PTA!M10=\"\",PTA!M10=\"X\"),\"X\",IF(PTA!M10=\"*\",\"*\",VLOOKUP(PTA!M10,AL_NUM_ARB,2,FALSE)&\" \"&VLOOKUP(PTA!M10,AL_NUM_ARB,4,FALSE)&\" \"&VLOOKUP(PTA!M10,AL_NUM_ARB,6,FALSE)))","v":"X"},{"$f":"IF(OR(PTA!N10=\"\",PTA!N10=\"X\"),\"X\",IF(PTA!N10=\"*\",\"*\",VLOOKUP(PTA!N10,AL_NUM_ARB,2,FALSE)&\" \"&VLOOKUP(PTA!N10,AL_NUM_ARB,4,FALSE)&\" \"&VLOOKUP(PTA!N10,AL_NUM_ARB,6,FALSE)))","v":"X"},{"$f":"IF(OR(PTA!O10=\"\",PTA!O10=\"X\"),\"X\",IF(PTA!O10=\"*\",\"*\",VLOOKUP(PTA!O10,AL_NUM_ARB,2,FALSE)&\" \"&VLOOKUP(PTA!O10,AL_NUM_ARB,4,FALSE)&\" \"&VLOOKUP(PTA!O10,AL_NUM_ARB,6,FALSE)))","v":"X"},{"$f":"IF(OR(PTA!P10=\"\",PTA!P10=\"X\"),\"X\",IF(PTA!P10=\"*\",\"*\",VLOOKUP(PTA!P10,AL_NUM_ARB,2,FALSE)&\" \"&VLOOKUP(PTA!P10,AL_NUM_ARB,4,FALSE)&\" \"&VLOOKUP(PTA!P10,AL_NUM_ARB,6,FALSE)))","v":"X"},{"$f":"IF(OR(PTA!Q10=\"\",PTA!Q10=\"X\"),\"X\",IF(PTA!Q10=\"*\",\"*\",VLOOKUP(PTA!Q10,AL_NUM_ARB,2,FALSE)&\" \"&VLOOKUP(PTA!Q10,AL_NUM_ARB,4,FALSE)&\" \"&VLOOKUP(PTA!Q10,AL_NUM_ARB,6,FALSE)))","v":"X"},{"$f":"IF(OR(PTA!R10=\"\",PTA!R10=\"X\"),\"X\",IF(PTA!R10=\"*\",\"*\",VLOOKUP(PTA!R10,AL_NUM_ARB,2,FALSE)&\" \"&VLOOKUP(PTA!R10,AL_NUM_ARB,4,FALSE)&\" \"&VLOOKUP(PTA!R10,AL_NUM_ARB,6,FALSE)))","v":"X"},{"$f":"IF(OR(PTA!S10=\"\",PTA!S10=\"X\"),\"X\",IF(PTA!S10=\"*\",\"*\",VLOOKUP(PTA!S10,AL_NUM_ARB,2,FALSE)&\" \"&VLOOKUP(PTA!S10,AL_NUM_ARB,4,FALSE)&\" \"&VLOOKUP(PTA!S10,AL_NUM_ARB,6,FALSE)))","v":"X"},{"$f":"IF(OR(PTA!T10=\"\",PTA!T10=\"X\"),\"X\",IF(PTA!T10=\"*\",\"*\",VLOOKUP(PTA!T10,AL_NUM_ARB,2,FALSE)&\" \"&VLOOKUP(PTA!T10,AL_NUM_ARB,4,FALSE)&\" \"&VLOOKUP(PTA!T10,AL_NUM_ARB,6,FALSE)))","v":"X"},{"$f":"IF(OR(PTA!U10=\"\",PTA!U10=\"X\"),\"X\",IF(PTA!U10=\"*\",\"*\",VLOOKUP(PTA!U10,AL_NUM_ARB,2,FALSE)&\" \"&VLOOKUP(PTA!U10,AL_NUM_ARB,4,FALSE)&\" \"&VLOOKUP(PTA!U10,AL_NUM_ARB,6,FALSE)))","v":"X"},{"$f":"IF(OR(PTA!V10=\"\",PTA!V10=\"X\"),\"X\",IF(PTA!V10=\"*\",\"*\",VLOOKUP(PTA!V10,AL_NUM_ARB,2,FALSE)&\" \"&VLOOKUP(PTA!V10,AL_NUM_ARB,4,FALSE)&\" \"&VLOOKUP(PTA!V10,AL_NUM_ARB,6,FALSE)))","v":"X"},{"$f":"IF(OR(PTA!W10=\"\",PTA!W10=\"X\"),\"X\",IF(PTA!W10=\"*\",\"*\",VLOOKUP(PTA!W10,AL_NUM_ARB,2,FALSE)&\" \"&VLOOKUP(PTA!W10,AL_NUM_ARB,4,FALSE)&\" \"&VLOOKUP(PTA!W10,AL_NUM_ARB,6,FALSE)))","v":"X"},{"$f":"IF(OR(PTA!X10=\"\",PTA!X10=\"X\"),\"X\",IF(PTA!X10=\"*\",\"*\",VLOOKUP(PTA!X10,AL_NUM_ARB,2,FALSE)&\" \"&VLOOKUP(PTA!X10,AL_NUM_ARB,4,FALSE)&\" \"&VLOOKUP(PTA!X10,AL_NUM_ARB,6,FALSE)))","v":"X"},{"$f":"IF(OR(PTA!Y10=\"\",PTA!Y10=\"X\"),\"X\",IF(PTA!Y10=\"*\",\"*\",VLOOKUP(PTA!Y10,AL_NUM_ARB,2,FALSE)&\" \"&VLOOKUP(PTA!Y10,AL_NUM_ARB,4,FALSE)&\" \"&VLOOKUP(PTA!Y10,AL_NUM_ARB,6,FALSE)))","v":"X"},{"$f":"IF(OR(PTA!Z10=\"\",PTA!Z10=\"X\"),\"X\",IF(PTA!Z10=\"*\",\"*\",VLOOKUP(PTA!Z10,AL_NUM_ARB,2,FALSE)&\" \"&VLOOKUP(PTA!Z10,AL_NUM_ARB,4,FALSE)&\" \"&VLOOKUP(PTA!Z10,AL_NUM_ARB,6,FALSE)))","v":"X"},{"$f":"IF(OR(PTA!AA10=\"\",PTA!AA10=\"X\"),\"X\",IF(PTA!AA10=\"*\",\"*\",VLOOKUP(PTA!AA10,AL_NUM_ARB,2,FALSE)&\" \"&VLOOKUP(PTA!AA10,AL_NUM_ARB,4,FALSE)&\" \"&VLOOKUP(PTA!AA10,AL_NUM_ARB,6,FALSE)))","v":"X"},{"$f":"IF(OR(PTA!AB10=\"\",PTA!AB10=\"X\"),\"X\",IF(PTA!AB10=\"*\",\"*\",VLOOKUP(PTA!AB10,AL_NUM_ARB,2,FALSE)&\" \"&VLOOKUP(PTA!AB10,AL_NUM_ARB,4,FALSE)&\" \"&VLOOKUP(PTA!AB10,AL_NUM_ARB,6,FALSE)))","v":"X"},{"$f":"IF(OR(PTA!AC10=\"\",PTA!AC10=\"X\"),\"X\",IF(PTA!AC10=\"*\",\"*\",VLOOKUP(PTA!AC10,AL_NUM_ARB,2,FALSE)&\" \"&VLOOKUP(PTA!AC10,AL_NUM_ARB,4,FALSE)&\" \"&VLOOKUP(PTA!AC10,AL_NUM_ARB,6,FALSE)))","v":"X"},{"$f":"IF(OR(PTA!AD10=\"\",PTA!AD10=\"X\"),\"X\",IF(PTA!AD10=\"*\",\"*\",VLOOKUP(PTA!AD10,AL_NUM_ARB,2,FALSE)&\" \"&VLOOKUP(PTA!AD10,AL_NUM_ARB,4,FALSE)&\" \"&VLOOKUP(PTA!AD10,AL_NUM_ARB,6,FALSE)))","v":"X"},{"$f":"IF(OR(PTA!AE10=\"\",PTA!AE10=\"X\"),\"X\",IF(PTA!AE10=\"*\",\"*\",VLOOKUP(PTA!AE10,AL_NUM_ARB,2,FALSE)&\" \"&VLOOKUP(PTA!AE10,AL_NUM_ARB,4,FALSE)&\" \"&VLOOKUP(PTA!AE10,AL_NUM_ARB,6,FALSE)))","v":"X"},{"$f":"IF(OR(PTA!AF10=\"\",PTA!AF10=\"X\"),\"X\",IF(PTA!AF10=\"*\",\"*\",VLOOKUP(PTA!AF10,AL_NUM_ARB,2,FALSE)&\" \"&VLOOKUP(PTA!AF10,AL_NUM_ARB,4,FALSE)&\" \"&VLOOKUP(PTA!AF10,AL_NUM_ARB,6,FALSE)))","v":"X"},{"$f":"IF(OR(PTA!AG10=\"\",PTA!AG10=\"X\"),\"X\",IF(PTA!AG10=\"*\",\"*\",VLOOKUP(PTA!AG10,AL_NUM_ARB,2,FALSE)&\" \"&VLOOKUP(PTA!AG10,AL_NUM_ARB,4,FALSE)&\" \"&VLOOKUP(PTA!AG10,AL_NUM_ARB,6,FALSE)))","v":"X"},{"$f":"IF(OR(PTA!AH10=\"\",PTA!AH10=\"X\"),\"X\",IF(PTA!AH10=\"*\",\"*\",VLOOKUP(PTA!AH10,AL_NUM_ARB,2,FALSE)&\" \"&VLOOKUP(PTA!AH10,AL_NUM_ARB,4,FALSE)&\" \"&VLOOKUP(PTA!AH10,AL_NUM_ARB,6,FALSE)))","v":"X"},{"$f":"IF(OR(PTA!AI10=\"\",PTA!AI10=\"X\"),\"X\",IF(PTA!AI10=\"*\",\"*\",VLOOKUP(PTA!AI10,AL_NUM_ARB,2,FALSE)&\" \"&VLOOKUP(PTA!AI10,AL_NUM_ARB,4,FALSE)&\" \"&VLOOKUP(PTA!AI10,AL_NUM_ARB,6,FALSE)))","v":"X"},{"$f":"IF(OR(PTA!AJ10=\"\",PTA!AJ10=\"X\"),\"X\",IF(PTA!AJ10=\"*\",\"*\",VLOOKUP(PTA!AJ10,AL_NUM_ARB,2,FALSE)&\" \"&VLOOKUP(PTA!AJ10,AL_NUM_ARB,4,FALSE)&\" \"&VLOOKUP(PTA!AJ10,AL_NUM_ARB,6,FALSE)))","v":"X"},{"$f":"IF(OR(PTA!AK10=\"\",PTA!AK10=\"X\"),\"X\",IF(PTA!AK10=\"*\",\"*\",VLOOKUP(PTA!AK10,AL_NUM_ARB,2,FALSE)&\" \"&VLOOKUP(PTA!AK10,AL_NUM_ARB,4,FALSE)&\" \"&VLOOKUP(PTA!AK10,AL_NUM_ARB,6,FALSE)))","v":"X"},{"$f":"IF(OR(PTA!AL10=\"\",PTA!AL10=\"X\"),\"X\",IF(PTA!AL10=\"*\",\"*\",VLOOKUP(PTA!AL10,AL_NUM_ARB,2,FALSE)&\" \"&VLOOKUP(PTA!AL10,AL_NUM_ARB,4,FALSE)&\" \"&VLOOKUP(PTA!AL10,AL_NUM_ARB,6,FALSE)))","v":"X"},{"$f":"IF(OR(PTA!AM10=\"\",PTA!AM10=\"X\"),\"X\",IF(PTA!AM10=\"*\",\"*\",VLOOKUP(PTA!AM10,AL_NUM_ARB,2,FALSE)&\" \"&VLOOKUP(PTA!AM10,AL_NUM_ARB,4,FALSE)&\" \"&VLOOKUP(PTA!AM10,AL_NUM_ARB,6,FALSE)))","v":"X"},{"$f":"IF(OR(PTA!AN10=\"\",PTA!AN10=\"X\"),\"X\",IF(PTA!AN10=\"*\",\"*\",VLOOKUP(PTA!AN10,AL_NUM_ARB,2,FALSE)&\" \"&VLOOKUP(PTA!AN10,AL_NUM_ARB,4,FALSE)&\" \"&VLOOKUP(PTA!AN10,AL_NUM_ARB,6,FALSE)))","v":"X"},{"$f":"IF(OR(PTA!AO10=\"\",PTA!AO10=\"X\"),\"X\",IF(PTA!AO10=\"*\",\"*\",VLOOKUP(PTA!AO10,AL_NUM_ARB,2,FALSE)&\" \"&VLOOKUP(PTA!AO10,AL_NUM_ARB,4,FALSE)&\" \"&VLOOKUP(PTA!AO10,AL_NUM_ARB,6,FALSE)))","v":"X"},{"$f":"IF(OR(PTA!AP10=\"\",PTA!AP10=\"X\"),\"X\",IF(PTA!AP10=\"*\",\"*\",VLOOKUP(PTA!AP10,AL_NUM_ARB,2,FALSE)&\" \"&VLOOKUP(PTA!AP10,AL_NUM_ARB,4,FALSE)&\" \"&VLOOKUP(PTA!AP10,AL_NUM_ARB,6,FALSE)))","v":"X"},{"$f":"IF(OR(PTA!AQ10=\"\",PTA!AQ10=\"X\"),\"X\",IF(PTA!AQ10=\"*\",\"*\",VLOOKUP(PTA!AQ10,AL_NUM_ARB,2,FALSE)&\" \"&VLOOKUP(PTA!AQ10,AL_NUM_ARB,4,FALSE)&\" \"&VLOOKUP(PTA!AQ10,AL_NUM_ARB,6,FALSE)))","v":"X"},{"$f":"IF(OR(PTA!AR10=\"\",PTA!AR10=\"X\"),\"X\",IF(PTA!AR10=\"*\",\"*\",VLOOKUP(PTA!AR10,AL_NUM_ARB,2,FALSE)&\" \"&VLOOKUP(PTA!AR10,AL_NUM_ARB,4,FALSE)&\" \"&VLOOKUP(PTA!AR10,AL_NUM_ARB,6,FALSE)))","v":"X"},{"$f":"IF(OR(PTA!AS10=\"\",PTA!AS10=\"X\"),\"X\",IF(PTA!AS10=\"*\",\"*\",VLOOKUP(PTA!AS10,AL_NUM_ARB,2,FALSE)&\" \"&VLOOKUP(PTA!AS10,AL_NUM_ARB,4,FALSE)&\" \"&VLOOKUP(PTA!AS10,AL_NUM_ARB,6,FALSE)))","v":"X"},{"$f":"IF(OR(PTA!AT10=\"\",PTA!AT10=\"X\"),\"X\",IF(PTA!AT10=\"*\",\"*\",VLOOKUP(PTA!AT10,AL_NUM_ARB,2,FALSE)&\" \"&VLOOKUP(PTA!AT10,AL_NUM_ARB,4,FALSE)&\" \"&VLOOKUP(PTA!AT10,AL_NUM_ARB,6,FALSE)))","v":"X"},{"$f":"IF(OR(PTA!AU10=\"\",PTA!AU10=\"X\"),\"X\",IF(PTA!AU10=\"*\",\"*\",VLOOKUP(PTA!AU10,AL_NUM_ARB,2,FALSE)&\" \"&VLOOKUP(PTA!AU10,AL_NUM_ARB,4,FALSE)&\" \"&VLOOKUP(PTA!AU10,AL_NUM_ARB,6,FALSE)))","v":"X"},{"$f":"IF(OR(PTA!AV10=\"\",PTA!AV10=\"X\"),\"X\",IF(PTA!AV10=\"*\",\"*\",VLOOKUP(PTA!AV10,AL_NUM_ARB,2,FALSE)&\" \"&VLOOKUP(PTA!AV10,AL_NUM_ARB,4,FALSE)&\" \"&VLOOKUP(PTA!AV10,AL_NUM_ARB,6,FALSE)))","v":"X"},{"$f":"IF(OR(PTA!AW10=\"\",PTA!AW10=\"X\"),\"X\",IF(PTA!AW10=\"*\",\"*\",VLOOKUP(PTA!AW10,AL_NUM_ARB,2,FALSE)&\" \"&VLOOKUP(PTA!AW10,AL_NUM_ARB,4,FALSE)&\" \"&VLOOKUP(PTA!AW10,AL_NUM_ARB,6,FALSE)))","v":"X"},{"$f":"IF(OR(PTA!AX10=\"\",PTA!AX10=\"X\"),\"X\",IF(PTA!AX10=\"*\",\"*\",VLOOKUP(PTA!AX10,AL_NUM_ARB,2,FALSE)&\" \"&VLOOKUP(PTA!AX10,AL_NUM_ARB,4,FALSE)&\" \"&VLOOKUP(PTA!AX10,AL_NUM_ARB,6,FALSE)))","v":"X"},{"$f":"IF(OR(PTA!AY10=\"\",PTA!AY10=\"X\"),\"X\",IF(PTA!AY10=\"*\",\"*\",VLOOKUP(PTA!AY10,AL_NUM_ARB,2,FALSE)&\" \"&VLOOKUP(PTA!AY10,AL_NUM_ARB,4,FALSE)&\" \"&VLOOKUP(PTA!AY10,AL_NUM_ARB,6,FALSE)))","v":"X"},{"$f":"IF(OR(PTA!AZ10=\"\",PTA!AZ10=\"X\"),\"X\",IF(PTA!AZ10=\"*\",\"*\",VLOOKUP(PTA!AZ10,AL_NUM_ARB,2,FALSE)&\" \"&VLOOKUP(PTA!AZ10,AL_NUM_ARB,4,FALSE)&\" \"&VLOOKUP(PTA!AZ10,AL_NUM_ARB,6,FALSE)))","v":"X"},{"$f":"IF(OR(PTA!BA10=\"\",PTA!BA10=\"X\"),\"X\",IF(PTA!BA10=\"*\",\"*\",VLOOKUP(PTA!BA10,AL_NUM_ARB,2,FALSE)&\" \"&VLOOKUP(PTA!BA10,AL_NUM_ARB,4,FALSE)&\" \"&VLOOKUP(PTA!BA10,AL_NUM_ARB,6,FALSE)))","v":"X"},{"$f":"IF(OR(PTA!BB10=\"\",PTA!BB10=\"X\"),\"X\",IF(PTA!BB10=\"*\",\"*\",VLOOKUP(PTA!BB10,AL_NUM_ARB,2,FALSE)&\" \"&VLOOKUP(PTA!BB10,AL_NUM_ARB,4,FALSE)&\" \"&VLOOKUP(PTA!BB10,AL_NUM_ARB,6,FALSE)))","v":"X"},{"$f":"IF(OR(PTA!BC10=\"\",PTA!BC10=\"X\"),\"X\",IF(PTA!BC10=\"*\",\"*\",VLOOKUP(PTA!BC10,AL_NUM_ARB,2,FALSE)&\" \"&VLOOKUP(PTA!BC10,AL_NUM_ARB,4,FALSE)&\" \"&VLOOKUP(PTA!BC10,AL_NUM_ARB,6,FALSE)))","v":"X"},{"$f":"IF(OR(PTA!BD10=\"\",PTA!BD10=\"X\"),\"X\",IF(PTA!BD10=\"*\",\"*\",VLOOKUP(PTA!BD10,AL_NUM_ARB,2,FALSE)&\" \"&VLOOKUP(PTA!BD10,AL_NUM_ARB,4,FALSE)&\" \"&VLOOKUP(PTA!BD10,AL_NUM_ARB,6,FALSE)))","v":"X"},{"$f":"IF(OR(PTA!BE10=\"\",PTA!BE10=\"X\"),\"X\",IF(PTA!BE10=\"*\",\"*\",VLOOKUP(PTA!BE10,AL_NUM_ARB,2,FALSE)&\" \"&VLOOKUP(PTA!BE10,AL_NUM_ARB,4,FALSE)&\" \"&VLOOKUP(PTA!BE10,AL_NUM_ARB,6,FALSE)))","v":"X"},{"$f":"IF(OR(PTA!BF10=\"\",PTA!BF10=\"X\"),\"X\",IF(PTA!BF10=\"*\",\"*\",VLOOKUP(PTA!BF10,AL_NUM_ARB,2,FALSE)&\" \"&VLOOKUP(PTA!BF10,AL_NUM_ARB,4,FALSE)&\" \"&VLOOKUP(PTA!BF10,AL_NUM_ARB,6,FALSE)))","v":"X"},{"$f":"IF(OR(PTA!BG10=\"\",PTA!BG10=\"X\"),\"X\",IF(PTA!BG10=\"*\",\"*\",VLOOKUP(PTA!BG10,AL_NUM_ARB,2,FALSE)&\" \"&VLOOKUP(PTA!BG10,AL_NUM_ARB,4,FALSE)&\" \"&VLOOKUP(PTA!BG10,AL_NUM_ARB,6,FALSE)))","v":"X"},{"$f":"IF(OR(PTA!BH10=\"\",PTA!BH10=\"X\"),\"X\",IF(PTA!BH10=\"*\",\"*\",VLOOKUP(PTA!BH10,AL_NUM_ARB,2,FALSE)&\" \"&VLOOKUP(PTA!BH10,AL_NUM_ARB,4,FALSE)&\" \"&VLOOKUP(PTA!BH10,AL_NUM_ARB,6,FALSE)))","v":"X"},{"$f":"IF(OR(PTA!BI10=\"\",PTA!BI10=\"X\"),\"X\",IF(PTA!BI10=\"*\",\"*\",VLOOKUP(PTA!BI10,AL_NUM_ARB,2,FALSE)&\" \"&VLOOKUP(PTA!BI10,AL_NUM_ARB,4,FALSE)&\" \"&VLOOKUP(PTA!BI10,AL_NUM_ARB,6,FALSE)))","v":"X"},{"$f":"IF(OR(PTA!BJ10=\"\",PTA!BJ10=\"X\"),\"X\",IF(PTA!BJ10=\"*\",\"*\",VLOOKUP(PTA!BJ10,AL_NUM_ARB,2,FALSE)&\" \"&VLOOKUP(PTA!BJ10,AL_NUM_ARB,4,FALSE)&\" \"&VLOOKUP(PTA!BJ10,AL_NUM_ARB,6,FALSE)))","v":"X"},{"$f":"IF(OR(PTA!BK10=\"\",PTA!BK10=\"X\"),\"X\",IF(PTA!BK10=\"*\",\"*\",VLOOKUP(PTA!BK10,AL_NUM_ARB,2,FALSE)&\" \"&VLOOKUP(PTA!BK10,AL_NUM_ARB,4,FALSE)&\" \"&VLOOKUP(PTA!BK10,AL_NUM_ARB,6,FALSE)))","v":"X"},{"$f":"IF(OR(PTA!BL10=\"\",PTA!BL10=\"X\"),\"X\",IF(PTA!BL10=\"*\",\"*\",VLOOKUP(PTA!BL10,AL_NUM_ARB,2,FALSE)&\" \"&VLOOKUP(PTA!BL10,AL_NUM_ARB,4,FALSE)&\" \"&VLOOKUP(PTA!BL10,AL_NUM_ARB,6,FALSE)))","v":"X"},{"$f":"IF(OR(PTA!BM10=\"\",PTA!BM10=\"X\"),\"X\",IF(PTA!BM10=\"*\",\"*\",VLOOKUP(PTA!BM10,AL_NUM_ARB,2,FALSE)&\" \"&VLOOKUP(PTA!BM10,AL_NUM_ARB,4,FALSE)&\" \"&VLOOKUP(PTA!BM10,AL_NUM_ARB,6,FALSE)))","v":"X"},{"$f":"IF(OR(PTA!BN10=\"\",PTA!BN10=\"X\"),\"X\",IF(PTA!BN10=\"*\",\"*\",VLOOKUP(PTA!BN10,AL_NUM_ARB,2,FALSE)&\" \"&VLOOKUP(PTA!BN10,AL_NUM_ARB,4,FALSE)&\" \"&VLOOKUP(PTA!BN10,AL_NUM_ARB,6,FALSE)))","v":"X"},{"$f":"IF(OR(PTA!BO10=\"\",PTA!BO10=\"X\"),\"X\",IF(PTA!BO10=\"*\",\"*\",VLOOKUP(PTA!BO10,AL_NUM_ARB,2,FALSE)&\" \"&VLOOKUP(PTA!BO10,AL_NUM_ARB,4,FALSE)&\" \"&VLOOKUP(PTA!BO10,AL_NUM_ARB,6,FALSE)))","v":"X"},{"$f":"IF(OR(PTA!BP10=\"\",PTA!BP10=\"X\"),\"X\",IF(PTA!BP10=\"*\",\"*\",VLOOKUP(PTA!BP10,AL_NUM_ARB,2,FALSE)&\" \"&VLOOKUP(PTA!BP10,AL_NUM_ARB,4,FALSE)&\" \"&VLOOKUP(PTA!BP10,AL_NUM_ARB,6,FALSE)))","v":"X"},{"$f":"IF(OR(PTA!BQ10=\"\",PTA!BQ10=\"X\"),\"X\",IF(PTA!BQ10=\"*\",\"*\",VLOOKUP(PTA!BQ10,AL_NUM_ARB,2,FALSE)&\" \"&VLOOKUP(PTA!BQ10,AL_NUM_ARB,4,FALSE)&\" \"&VLOOKUP(PTA!BQ10,AL_NUM_ARB,6,FALSE)))","v":"X"},{"$f":"IF(OR(PTA!BR10=\"\",PTA!BR10=\"X\"),\"X\",IF(PTA!BR10=\"*\",\"*\",VLOOKUP(PTA!BR10,AL_NUM_ARB,2,FALSE)&\" \"&VLOOKUP(PTA!BR10,AL_NUM_ARB,4,FALSE)&\" \"&VLOOKUP(PTA!BR10,AL_NUM_ARB,6,FALSE)))","v":"X"},{"$f":"IF(OR(PTA!BT10=\"\",PTA!BT10=\"X\"),\"X\",VLOOKUP(PTA!BT10,AL_NUM_ARB,2,FALSE)&\" \"&VLOOKUP(PTA!BT10,AL_NUM_ARB,4,FALSE)&\" \"&VLOOKUP(PTA!BT10,AL_NUM_ARB,6,FALSE))","v":"X"},{"$f":"IF(OR(PTA!BU10=\"\",PTA!BU10=\"X\"),\"X\",VLOOKUP(PTA!BU10,AL_NUM_ARB,2,FALSE)&\" \"&VLOOKUP(PTA!BU10,AL_NUM_ARB,4,FALSE)&\" \"&VLOOKUP(PTA!BU10,AL_NUM_ARB,6,FALSE))","v":"X"},{"$f":"IF(OR(PTA!BV10=\"\",PTA!BV10=\"X\"),\"X\",VLOOKUP(PTA!BV10,AL_NUM_ARB,2,FALSE)&\" \"&VLOOKUP(PTA!BV10,AL_NUM_ARB,4,FALSE)&\" \"&VLOOKUP(PTA!BV10,AL_NUM_ARB,6,FALSE))","v":"X"},{"$f":"IF(OR(PTA!BW10=\"\",PTA!BW10=\"X\"),\"X\",VLOOKUP(PTA!BW10,AL_NUM_ARB,2,FALSE)&\" \"&VLOOKUP(PTA!BW10,AL_NUM_ARB,4,FALSE)&\" \"&VLOOKUP(PTA!BW10,AL_NUM_ARB,6,FALSE))","v":"X"},"01:00:00"]
[{"$f":"PTA!A11","v":""},{"$f":"PTA!B11","v":"00:00:00"},{"$f":"PTA!C11","v":32},{"$f":"PTA!D11","v":0},{"$f":"IF(OR(PTA!E11=\"\",PTA!E11=\"X\"),\"X\",IF(PTA!E11=\"*\",\"*\",VLOOKUP(PTA!E11,AL_NUM_ARB,2,FALSE)&\" \"&VLOOKUP(PTA!E11,AL_NUM_ARB,4,FALSE)&\" \"&VLOOKUP(PTA!E11,AL_NUM_ARB,6,FALSE)))","v":"X"},{"$f":"IF(OR(PTA!F11=\"\",PTA!F11=\"X\"),\"X\",IF(PTA!F11=\"*\",\"*\",VLOOKUP(PTA!F11,AL_NUM_ARB,2,FALSE)&\" \"&VLOOKUP(PTA!F11,AL_NUM_ARB,4,FALSE)&\" \"&VLOOKUP(PTA!F11,AL_NUM_ARB,6,FALSE)))","v":"X"},{"$f":"IF(OR(PTA!G11=\"\",PTA!G11=\"X\"),\"X\",IF(PTA!G11=\"*\",\"*\",VLOOKUP(PTA!G11,AL_NUM_ARB,2,FALSE)&\" \"&VLOOKUP(PTA!G11,AL_NUM_ARB,4,FALSE)&\" \"&VLOOKUP(PTA!G11,AL_NUM_ARB,6,FALSE)))","v":"X"},{"$f":"IF(OR(PTA!H11=\"\",PTA!H11=\"X\"),\"X\",IF(PTA!H11=\"*\",\"*\",VLOOKUP(PTA!H11,AL_NUM_ARB,2,FALSE)&\" \"&VLOOKUP(PTA!H11,AL_NUM_ARB,4,FALSE)&\" \"&VLOOKUP(PTA!H11,AL_NUM_ARB,6,FALSE)))","v":"X"},{"$f":"IF(OR(PTA!I11=\"\",PTA!I11=\"X\"),\"X\",IF(PTA!I11=\"*\",\"*\",VLOOKUP(PTA!I11,AL_NUM_ARB,2,FALSE)&\" \"&VLOOKUP(PTA!I11,AL_NUM_ARB,4,FALSE)&\" \"&VLOOKUP(PTA!I11,AL_NUM_ARB,6,FALSE)))","v":"X"},{"$f":"IF(OR(PTA!J11=\"\",PTA!J11=\"X\"),\"X\",IF(PTA!J11=\"*\",\"*\",VLOOKUP(PTA!J11,AL_NUM_ARB,2,FALSE)&\" \"&VLOOKUP(PTA!J11,AL_NUM_ARB,4,FALSE)&\" \"&VLOOKUP(PTA!J11,AL_NUM_ARB,6,FALSE)))","v":"X"},{"$f":"IF(OR(PTA!K11=\"\",PTA!K11=\"X\"),\"X\",IF(PTA!K11=\"*\",\"*\",VLOOKUP(PTA!K11,AL_NUM_ARB,2,FALSE)&\" \"&VLOOKUP(PTA!K11,AL_NUM_ARB,4,FALSE)&\" \"&VLOOKUP(PTA!K11,AL_NUM_ARB,6,FALSE)))","v":"X"},{"$f":"IF(OR(PTA!L11=\"\",PTA!L11=\"X\"),\"X\",IF(PTA!L11=\"*\",\"*\",VLOOKUP(PTA!L11,AL_NUM_ARB,2,FALSE)&\" \"&VLOOKUP(PTA!L11,AL_NUM_ARB,4,FALSE)&\" \"&VLOOKUP(PTA!L11,AL_NUM_ARB,6,FALSE)))","v":"X"},{"$f":"IF(OR(PTA!M11=\"\",PTA!M11=\"X\"),\"X\",IF(PTA!M11=\"*\",\"*\",VLOOKUP(PTA!M11,AL_NUM_ARB,2,FALSE)&\" \"&VLOOKUP(PTA!M11,AL_NUM_ARB,4,FALSE)&\" \"&VLOOKUP(PTA!M11,AL_NUM_ARB,6,FALSE)))","v":"X"},{"$f":"IF(OR(PTA!N11=\"\",PTA!N11=\"X\"),\"X\",IF(PTA!N11=\"*\",\"*\",VLOOKUP(PTA!N11,AL_NUM_ARB,2,FALSE)&\" \"&VLOOKUP(PTA!N11,AL_NUM_ARB,4,FALSE)&\" \"&VLOOKUP(PTA!N11,AL_NUM_ARB,6,FALSE)))","v":"X"},{"$f":"IF(OR(PTA!O11=\"\",PTA!O11=\"X\"),\"X\",IF(PTA!O11=\"*\",\"*\",VLOOKUP(PTA!O11,AL_NUM_ARB,2,FALSE)&\" \"&VLOOKUP(PTA!O11,AL_NUM_ARB,4,FALSE)&\" \"&VLOOKUP(PTA!O11,AL_NUM_ARB,6,FALSE)))","v":"X"},{"$f":"IF(OR(PTA!P11=\"\",PTA!P11=\"X\"),\"X\",IF(PTA!P11=\"*\",\"*\",VLOOKUP(PTA!P11,AL_NUM_ARB,2,FALSE)&\" \"&VLOOKUP(PTA!P11,AL_NUM_ARB,4,FALSE)&\" \"&VLOOKUP(PTA!P11,AL_NUM_ARB,6,FALSE)))","v":"X"},{"$f":"IF(OR(PTA!Q11=\"\",PTA!Q11=\"X\"),\"X\",IF(PTA!Q11=\"*\",\"*\",VLOOKUP(PTA!Q11,AL_NUM_ARB,2,FALSE)&\" \"&VLOOKUP(PTA!Q11,AL_NUM_ARB,4,FALSE)&\" \"&VLOOKUP(PTA!Q11,AL_NUM_ARB,6,FALSE)))","v":"X"},{"$f":"IF(OR(PTA!R11=\"\",PTA!R11=\"X\"),\"X\",IF(PTA!R11=\"*\",\"*\",VLOOKUP(PTA!R11,AL_NUM_ARB,2,FALSE)&\" \"&VLOOKUP(PTA!R11,AL_NUM_ARB,4,FALSE)&\" \"&VLOOKUP(PTA!R11,AL_NUM_ARB,6,FALSE)))","v":"X"},{"$f":"IF(OR(PTA!S11=\"\",PTA!S11=\"X\"),\"X\",IF(PTA!S11=\"*\",\"*\",VLOOKUP(PTA!S11,AL_NUM_ARB,2,FALSE)&\" \"&VLOOKUP(PTA!S11,AL_NUM_ARB,4,FALSE)&\" \"&VLOOKUP(PTA!S11,AL_NUM_ARB,6,FALSE)))","v":"X"},{"$f":"IF(OR(PTA!T11=\"\",PTA!T11=\"X\"),\"X\",IF(PTA!T11=\"*\",\"*\",VLOOKUP(PTA!T11,AL_NUM_ARB,2,FALSE)&\" \"&VLOOKUP(PTA!T11,AL_NUM_ARB,4,FALSE)&\" \"&VLOOKUP(PTA!T11,AL_NUM_ARB,6,FALSE)))","v":"X"},{"$f":"IF(OR(PTA!U11=\"\",PTA!U11=\"X\"),\"X\",IF(PTA!U11=\"*\",\"*\",VLOOKUP(PTA!U11,AL_NUM_ARB,2,FALSE)&\" \"&VLOOKUP(PTA!U11,AL_NUM_ARB,4,FALSE)&\" \"&VLOOKUP(PTA!U11,AL_NUM_ARB,6,FALSE)))","v":"X"},{"$f":"IF(OR(PTA!V11=\"\",PTA!V11=\"X\"),\"X\",IF(PTA!V11=\"*\",\"*\",VLOOKUP(PTA!V11,AL_NUM_ARB,2,FALSE)&\" \"&VLOOKUP(PTA!V11,AL_NUM_ARB,4,FALSE)&\" \"&VLOOKUP(PTA!V11,AL_NUM_ARB,6,FALSE)))","v":"X"},{"$f":"IF(OR(PTA!W11=\"\",PTA!W11=\"X\"),\"X\",IF(PTA!W11=\"*\",\"*\",VLOOKUP(PTA!W11,AL_NUM_ARB,2,FALSE)&\" \"&VLOOKUP(PTA!W11,AL_NUM_ARB,4,FALSE)&\" \"&VLOOKUP(PTA!W11,AL_NUM_ARB,6,FALSE)))","v":"X"},{"$f":"IF(OR(PTA!X11=\"\",PTA!X11=\"X\"),\"X\",IF(PTA!X11=\"*\",\"*\",VLOOKUP(PTA!X11,AL_NUM_ARB,2,FALSE)&\" \"&VLOOKUP(PTA!X11,AL_NUM_ARB,4,FALSE)&\" \"&VLOOKUP(PTA!X11,AL_NUM_ARB,6,FALSE)))","v":"X"},{"$f":"IF(OR(PTA!Y11=\"\",PTA!Y11=\"X\"),\"X\",IF(PTA!Y11=\"*\",\"*\",VLOOKUP(PTA!Y11,AL_NUM_ARB,2,FALSE)&\" \"&VLOOKUP(PTA!Y11,AL_NUM_ARB,4,FALSE)&\" \"&VLOOKUP(PTA!Y11,AL_NUM_ARB,6,FALSE)))","v":"X"},{"$f":"IF(OR(PTA!Z11=\"\",PTA!Z11=\"X\"),\"X\",IF(PTA!Z11=\"*\",\"*\",VLOOKUP(PTA!Z11,AL_NUM_ARB,2,FALSE)&\" \"&VLOOKUP(PTA!Z11,AL_NUM_ARB,4,FALSE)&\" \"&VLOOKUP(PTA!Z11,AL_NUM_ARB,6,FALSE)))","v":"X"},{"$f":"IF(OR(PTA!AA11=\"\",PTA!AA11=\"X\"),\"X\",IF(PTA!AA11=\"*\",\"*\",VLOOKUP(PTA!AA11,AL_NUM_ARB,2,FALSE)&\" \"&VLOOKUP(PTA!AA11,AL_NUM_ARB,4,FALSE)&\" \"&VLOOKUP(PTA!AA11,AL_NUM_ARB,6,FALSE)))","v":"X"},{"$f":"IF(OR(PTA!AB11=\"\",PTA!AB11=\"X\"),\"X\",IF(PTA!AB11=\"*\",\"*\",VLOOKUP(PTA!AB11,AL_NUM_ARB,2,FALSE)&\" \"&VLOOKUP(PTA!AB11,AL_NUM_ARB,4,FALSE)&\" \"&VLOOKUP(PTA!AB11,AL_NUM_ARB,6,FALSE)))","v":"X"},{"$f":"IF(OR(PTA!AC11=\"\",PTA!AC11=\"X\"),\"X\",IF(PTA!AC11=\"*\",\"*\",VLOOKUP(PTA!AC11,AL_NUM_ARB,2,FALSE)&\" \"&VLOOKUP(PTA!AC11,AL_NUM_ARB,4,FALSE)&\" \"&VLOOKUP(PTA!AC11,AL_NUM_ARB,6,FALSE)))","v":"X"},{"$f":"IF(OR(PTA!AD11=\"\",PTA!AD11=\"X\"),\"X\",IF(PTA!AD11=\"*\",\"*\",VLOOKUP(PTA!AD11,AL_NUM_ARB,2,FALSE)&\" \"&VLOOKUP(PTA!AD11,AL_NUM_ARB,4,FALSE)&\" \"&VLOOKUP(PTA!AD11,AL_NUM_ARB,6,FALSE)))","v":"X"},{"$f":"IF(OR(PTA!AE11=\"\",PTA!AE11=\"X\"),\"X\",IF(PTA!AE11=\"*\",\"*\",VLOOKUP(PTA!AE11,AL_NUM_ARB,2,FALSE)&\" \"&VLOOKUP(PTA!AE11,AL_NUM_ARB,4,FALSE)&\" \"&VLOOKUP(PTA!AE11,AL_NUM_ARB,6,FALSE)))","v":"X"},{"$f":"IF(OR(PTA!AF11=\"\",PTA!AF11=\"X\"),\"X\",IF(PTA!AF11=\"*\",\"*\",VLOOKUP(PTA!AF11,AL_NUM_ARB,2,FALSE)&\" \"&VLOOKUP(PTA!AF11,AL_NUM_ARB,4,FALSE)&\" \"&VLOOKUP(PTA!AF11,AL_NUM_ARB,6,FALSE)))","v":"X"},{"$f":"IF(OR(PTA!AG11=\"\",PTA!AG11=\"X\"),\"X\",IF(PTA!AG11=\"*\",\"*\",VLOOKUP(PTA!AG11,AL_NUM_ARB,2,FALSE)&\" \"&VLOOKUP(PTA!AG11,AL_NUM_ARB,4,FALSE)&\" \"&VLOOKUP(PTA!AG11,AL_NUM_ARB,6,FALSE)))","v":"X"},{"$f":"IF(OR(PTA!AH11=\"\",PTA!AH11=\"X\"),\"X\",IF(PTA!AH11=\"*\",\"*\",VLOOKUP(PTA!AH11,AL_NUM_ARB,2,FALSE)&\" \"&VLOOKUP(PTA!AH11,AL_NUM_ARB,4,FALSE)&\" \"&VLOOKUP(PTA!AH11,AL_NUM_ARB,6,FALSE)))","v":"X"},{"$f":"IF(OR(PTA!AI11=\"\",PTA!AI11=\"X\"),\"X\",IF(PTA!AI11=\"*\",\"*\",VLOOKUP(PTA!AI11,AL_NUM_ARB,2,FALSE)&\" \"&VLOOKUP(PTA!AI11,AL_NUM_ARB,4,FALSE)&\" \"&VLOOKUP(PTA!AI11,AL_NUM_ARB,6,FALSE)))","v":"X"},{"$f":"IF(OR(PTA!AJ11=\"\",PTA!AJ11=\"X\"),\"X\",IF(PTA!AJ11=\"*\",\"*\",VLOOKUP(PTA!AJ11,AL_NUM_ARB,2,FALSE)&\" \"&VLOOKUP(PTA!AJ11,AL_NUM_ARB,4,FALSE)&\" \"&VLOOKUP(PTA!AJ11,AL_NUM_ARB,6,FALSE)))","v":"X"},{"$f":"IF(OR(PTA!AK11=\"\",PTA!AK11=\"X\"),\"X\",IF(PTA!AK11=\"*\",\"*\",VLOOKUP(PTA!AK11,AL_NUM_ARB,2,FALSE)&\" \"&VLOOKUP(PTA!AK11,AL_NUM_ARB,4,FALSE)&\" \"&VLOOKUP(PTA!AK11,AL_NUM_ARB,6,FALSE)))","v":"X"},{"$f":"IF(OR(PTA!AL11=\"\",PTA!AL11=\"X\"),\"X\",IF(PTA!AL11=\"*\",\"*\",VLOOKUP(PTA!AL11,AL_NUM_ARB,2,FALSE)&\" \"&VLOOKUP(PTA!AL11,AL_NUM_ARB,4,FALSE)&\" \"&VLOOKUP(PTA!AL11,AL_NUM_ARB,6,FALSE)))","v":"X"},{"$f":"IF(OR(PTA!AM11=\"\",PTA!AM11=\"X\"),\"X\",IF(PTA!AM11=\"*\",\"*\",VLOOKUP(PTA!AM11,AL_NUM_ARB,2,FALSE)&\" \"&VLOOKUP(PTA!AM11,AL_NUM_ARB,4,FALSE)&\" \"&VLOOKUP(PTA!AM11,AL_NUM_ARB,6,FALSE)))","v":"X"},{"$f":"IF(OR(PTA!AN11=\"\",PTA!AN11=\"X\"),\"X\",IF(PTA!AN11=\"*\",\"*\",VLOOKUP(PTA!AN11,AL_NUM_ARB,2,FALSE)&\" \"&VLOOKUP(PTA!AN11,AL_NUM_ARB,4,FALSE)&\" \"&VLOOKUP(PTA!AN11,AL_NUM_ARB,6,FALSE)))","v":"X"},{"$f":"IF(OR(PTA!AO11=\"\",PTA!AO11=\"X\"),\"X\",IF(PTA!AO11=\"*\",\"*\",VLOOKUP(PTA!AO11,AL_NUM_ARB,2,FALSE)&\" \"&VLOOKUP(PTA!AO11,AL_NUM_ARB,4,FALSE)&\" \"&VLOOKUP(PTA!AO11,AL_NUM_ARB,6,FALSE)))","v":"X"},{"$f":"IF(OR(PTA!AP11=\"\",PTA!AP11=\"X\"),\"X\",IF(PTA!AP11=\"*\",\"*\",VLOOKUP(PTA!AP11,AL_NUM_ARB,2,FALSE)&\" \"&VLOOKUP(PTA!AP11,AL_NUM_ARB,4,FALSE)&\" \"&VLOOKUP(PTA!AP11,AL_NUM_ARB,6,FALSE)))","v":"X"},{"$f":"IF(OR(PTA!AQ11=\"\",PTA!AQ11=\"X\"),\"X\",IF(PTA!AQ11=\"*\",\"*\",VLOOKUP(PTA!AQ11,AL_NUM_ARB,2,FALSE)&\" \"&VLOOKUP(PTA!AQ11,AL_NUM_ARB,4,FALSE)&\" \"&VLOOKUP(PTA!AQ11,AL_NUM_ARB,6,FALSE)))","v":"X"},{"$f":"IF(OR(PTA!AR11=\"\",PTA!AR11=\"X\"),\"X\",IF(PTA!AR11=\"*\",\"*\",VLOOKUP(PTA!AR11,AL_NUM_ARB,2,FALSE)&\" \"&VLOOKUP(PTA!AR11,AL_NUM_ARB,4,FALSE)&\" \"&VLOOKUP(PTA!AR11,AL_NUM_ARB,6,FALSE)))","v":"X"},{"$f":"IF(OR(PTA!AS11=\"\",PTA!AS11=\"X\"),\"X\",IF(PTA!AS11=\"*\",\"*\",VLOOKUP(PTA!AS11,AL_NUM_ARB,2,FALSE)&\" \"&VLOOKUP(PTA!AS11,AL_NUM_ARB,4,FALSE)&\" \"&VLOOKUP(PTA!AS11,AL_NUM_ARB,6,FALSE)))","v":"X"},{"$f":"IF(OR(PTA!AT11=\"\",PTA!AT11=\"X\"),\"X\",IF(PTA!AT11=\"*\",\"*\",VLOOKUP(PTA!AT11,AL_NUM_ARB,2,FALSE)&\" \"&VLOOKUP(PTA!AT11,AL_NUM_ARB,4,FALSE)&\" \"&VLOOKUP(PTA!AT11,AL_NUM_ARB,6,FALSE)))","v":"X"},{"$f":"IF(OR(PTA!AU11=\"\",PTA!AU11=\"X\"),\"X\",IF(PTA!AU11=\"*\",\"*\",VLOOKUP(PTA!AU11,AL_NUM_ARB,2,FALSE)&\" \"&VLOOKUP(PTA!AU11,AL_NUM_ARB,4,FALSE)&\" \"&VLOOKUP(PTA!AU11,AL_NUM_ARB,6,FALSE)))","v":"X"},{"$f":"IF(OR(PTA!AV11=\"\",PTA!AV11=\"X\"),\"X\",IF(PTA!AV11=\"*\",\"*\",VLOOKUP(PTA!AV11,AL_NUM_ARB,2,FALSE)&\" \"&VLOOKUP(PTA!AV11,AL_NUM_ARB,4,FALSE)&\" \"&VLOOKUP(PTA!AV11,AL_NUM_ARB,6,FALSE)))","v":"X"},{"$f":"IF(OR(PTA!AW11=\"\",PTA!AW11=\"X\"),\"X\",IF(PTA!AW11=\"*\",\"*\",VLOOKUP(PTA!AW11,AL_NUM_ARB,2,FALSE)&\" \"&VLOOKUP(PTA!AW11,AL_NUM_ARB,4,FALSE)&\" \"&VLOOKUP(PTA!AW11,AL_NUM_ARB,6,FALSE)))","v":"X"},{"$f":"IF(OR(PTA!AX11=\"\",PTA!AX11=\"X\"),\"X\",IF(PTA!AX11=\"*\",\"*\",VLOOKUP(PTA!AX11,AL_NUM_ARB,2,FALSE)&\" \"&VLOOKUP(PTA!AX11,AL_NUM_ARB,4,FALSE)&\" \"&VLOOKUP(PTA!AX11,AL_NUM_ARB,6,FALSE)))","v":"X"},{"$f":"IF(OR(PTA!AY11=\"\",PTA!AY11=\"X\"),\"X\",IF(PTA!AY11=\"*\",\"*\",VLOOKUP(PTA!AY11,AL_NUM_ARB,2,FALSE)&\" \"&VLOOKUP(PTA!AY11,AL_NUM_ARB,4,FALSE)&\" \"&VLOOKUP(PTA!AY11,AL_NUM_ARB,6,FALSE)))","v":"X"},{"$f":"IF(OR(PTA!AZ11=\"\",PTA!AZ11=\"X\"),\"X\",IF(PTA!AZ11=\"*\",\"*\",VLOOKUP(PTA!AZ11,AL_NUM_ARB,2,FALSE)&\" \"&VLOOKUP(PTA!AZ11,AL_NUM_ARB,4,FALSE)&\" \"&VLOOKUP(PTA!AZ11,AL_NUM_ARB,6,FALSE)))","v":"X"},{"$f":"IF(OR(PTA!BA11=\"\",PTA!BA11=\"X\"),\"X\",IF(PTA!BA11=\"*\",\"*\",VLOOKUP(PTA!BA11,AL_NUM_ARB,2,FALSE)&\" \"&VLOOKUP(PTA!BA11,AL_NUM_ARB,4,FALSE)&\" \"&VLOOKUP(PTA!BA11,AL_NUM_ARB,6,FALSE)))","v":"X"},{"$f":"IF(OR(PTA!BB11=\"\",PTA!BB11=\"X\"),\"X\",IF(PTA!BB11=\"*\",\"*\",VLOOKUP(PTA!BB11,AL_NUM_ARB,2,FALSE)&\" \"&VLOOKUP(PTA!BB11,AL_NUM_ARB,4,FALSE)&\" \"&VLOOKUP(PTA!BB11,AL_NUM_ARB,6,FALSE)))","v":"X"},{"$f":"IF(OR(PTA!BC11=\"\",PTA!BC11=\"X\"),\"X\",IF(PTA!BC11=\"*\",\"*\",VLOOKUP(PTA!BC11,AL_NUM_ARB,2,FALSE)&\" \"&VLOOKUP(PTA!BC11,AL_NUM_ARB,4,FALSE)&\" \"&VLOOKUP(PTA!BC11,AL_NUM_ARB,6,FALSE)))","v":"X"},{"$f":"IF(OR(PTA!BD11=\"\",PTA!BD11=\"X\"),\"X\",IF(PTA!BD11=\"*\",\"*\",VLOOKUP(PTA!BD11,AL_NUM_ARB,2,FALSE)&\" \"&VLOOKUP(PTA!BD11,AL_NUM_ARB,4,FALSE)&\" \"&VLOOKUP(PTA!BD11,AL_NUM_ARB,6,FALSE)))","v":"X"},{"$f":"IF(OR(PTA!BE11=\"\",PTA!BE11=\"X\"),\"X\",IF(PTA!BE11=\"*\",\"*\",VLOOKUP(PTA!BE11,AL_NUM_ARB,2,FALSE)&\" \"&VLOOKUP(PTA!BE11,AL_NUM_ARB,4,FALSE)&\" \"&VLOOKUP(PTA!BE11,AL_NUM_ARB,6,FALSE)))","v":"X"},{"$f":"IF(OR(PTA!BF11=\"\",PTA!BF11=\"X\"),\"X\",IF(PTA!BF11=\"*\",\"*\",VLOOKUP(PTA!BF11,AL_NUM_ARB,2,FALSE)&\" \"&VLOOKUP(PTA!BF11,AL_NUM_ARB,4,FALSE)&\" \"&VLOOKUP(PTA!BF11,AL_NUM_ARB,6,FALSE)))","v":"X"},{"$f":"IF(OR(PTA!BG11=\"\",PTA!BG11=\"X\"),\"X\",IF(PTA!BG11=\"*\",\"*\",VLOOKUP(PTA!BG11,AL_NUM_ARB,2,FALSE)&\" \"&VLOOKUP(PTA!BG11,AL_NUM_ARB,4,FALSE)&\" \"&VLOOKUP(PTA!BG11,AL_NUM_ARB,6,FALSE)))","v":"X"},{"$f":"IF(OR(PTA!BH11=\"\",PTA!BH11=\"X\"),\"X\",IF(PTA!BH11=\"*\",\"*\",VLOOKUP(PTA!BH11,AL_NUM_ARB,2,FALSE)&\" \"&VLOOKUP(PTA!BH11,AL_NUM_ARB,4,FALSE)&\" \"&VLOOKUP(PTA!BH11,AL_NUM_ARB,6,FALSE)))","v":"X"},{"$f":"IF(OR(PTA!BI11=\"\",PTA!BI11=\"X\"),\"X\",IF(PTA!BI11=\"*\",\"*\",VLOOKUP(PTA!BI11,AL_NUM_ARB,2,FALSE)&\" \"&VLOOKUP(PTA!BI11,AL_NUM_ARB,4,FALSE)&\" \"&VLOOKUP(PTA!BI11,AL_NUM_ARB,6,FALSE)))","v":"X"},{"$f":"IF(OR(PTA!BJ11=\"\",PTA!BJ11=\"X\"),\"X\",IF(PTA!BJ11=\"*\",\"*\",VLOOKUP(PTA!BJ11,AL_NUM_ARB,2,FALSE)&\" \"&VLOOKUP(PTA!BJ11,AL_NUM_ARB,4,FALSE)&\" \"&VLOOKUP(PTA!BJ11,AL_NUM_ARB,6,FALSE)))","v":"X"},{"$f":"IF(OR(PTA!BK11=\"\",PTA!BK11=\"X\"),\"X\",IF(PTA!BK11=\"*\",\"*\",VLOOKUP(PTA!BK11,AL_NUM_ARB,2,FALSE)&\" \"&VLOOKUP(PTA!BK11,AL_NUM_ARB,4,FALSE)&\" \"&VLOOKUP(PTA!BK11,AL_NUM_ARB,6,FALSE)))","v":"X"},{"$f":"IF(OR(PTA!BL11=\"\",PTA!BL11=\"X\"),\"X\",IF(PTA!BL11=\"*\",\"*\",VLOOKUP(PTA!BL11,AL_NUM_ARB,2,FALSE)&\" \"&VLOOKUP(PTA!BL11,AL_NUM_ARB,4,FALSE)&\" \"&VLOOKUP(PTA!BL11,AL_NUM_ARB,6,FALSE)))","v":"X"},{"$f":"IF(OR(PTA!BM11=\"\",PTA!BM11=\"X\"),\"X\",IF(PTA!BM11=\"*\",\"*\",VLOOKUP(PTA!BM11,AL_NUM_ARB,2,FALSE)&\" \"&VLOOKUP(PTA!BM11,AL_NUM_ARB,4,FALSE)&\" \"&VLOOKUP(PTA!BM11,AL_NUM_ARB,6,FALSE)))","v":"X"},{"$f":"IF(OR(PTA!BN11=\"\",PTA!BN11=\"X\"),\"X\",IF(PTA!BN11=\"*\",\"*\",VLOOKUP(PTA!BN11,AL_NUM_ARB,2,FALSE)&\" \"&VLOOKUP(PTA!BN11,AL_NUM_ARB,4,FALSE)&\" \"&VLOOKUP(PTA!BN11,AL_NUM_ARB,6,FALSE)))","v":"X"},{"$f":"IF(OR(PTA!BO11=\"\",PTA!BO11=\"X\"),\"X\",IF(PTA!BO11=\"*\",\"*\",VLOOKUP(PTA!BO11,AL_NUM_ARB,2,FALSE)&\" \"&VLOOKUP(PTA!BO11,AL_NUM_ARB,4,FALSE)&\" \"&VLOOKUP(PTA!BO11,AL_NUM_ARB,6,FALSE)))","v":"X"},{"$f":"IF(OR(PTA!BP11=\"\",PTA!BP11=\"X\"),\"X\",IF(PTA!BP11=\"*\",\"*\",VLOOKUP(PTA!BP11,AL_NUM_ARB,2,FALSE)&\" \"&VLOOKUP(PTA!BP11,AL_NUM_ARB,4,FALSE)&\" \"&VLOOKUP(PTA!BP11,AL_NUM_ARB,6,FALSE)))","v":"X"},{"$f":"IF(OR(PTA!BQ11=\"\",PTA!BQ11=\"X\"),\"X\",IF(PTA!BQ11=\"*\",\"*\",VLOOKUP(PTA!BQ11,AL_NUM_ARB,2,FALSE)&\" \"&VLOOKUP(PTA!BQ11,AL_NUM_ARB,4,FALSE)&\" \"&VLOOKUP(PTA!BQ11,AL_NUM_ARB,6,FALSE)))","v":"X"},{"$f":"IF(OR(PTA!BR11=\"\",PTA!BR11=\"X\"),\"X\",IF(PTA!BR11=\"*\",\"*\",VLOOKUP(PTA!BR11,AL_NUM_ARB,2,FALSE)&\" \"&VLOOKUP(PTA!BR11,AL_NUM_ARB,4,FALSE)&\" \"&VLOOKUP(PTA!BR11,AL_NUM_ARB,6,FALSE)))","v":"X"},{"$f":"IF(OR(PTA!BT11=\"\",PTA!BT11=\"X\"),\"X\",VLOOKUP(PTA!BT11,AL_NUM_ARB,2,FALSE)&\" \"&VLOOKUP(PTA!BT11,AL_NUM_ARB,4,FALSE)&\" \"&VLOOKUP(PTA!BT11,AL_NUM_ARB,6,FALSE))","v":"X"},{"$f":"IF(OR(PTA!BU11=\"\",PTA!BU11=\"X\"),\"X\",VLOOKUP(PTA!BU11,AL_NUM_ARB,2,FALSE)&\" \"&VLOOKUP(PTA!BU11,AL_NUM_ARB,4,FALSE)&\" \"&VLOOKUP(PTA!BU11,AL_NUM_ARB,6,FALSE))","v":"X"},{"$f":"IF(OR(PTA!BV11=\"\",PTA!BV11=\"X\"),\"X\",VLOOKUP(PTA!BV11,AL_NUM_ARB,2,FALSE)&\" \"&VLOOKUP(PTA!BV11,AL_NUM_ARB,4,FALSE)&\" \"&VLOOKUP(PTA!BV11,AL_NUM_ARB,6,FALSE))","v":"X"},{"$f":"IF(OR(PTA!BW11=\"\",PTA!BW11=\"X\"),\"X\",VLOOKUP(PTA!BW11,AL_NUM_ARB,2,FALSE)&\" \"&VLOOKUP(PTA!BW11,AL_NUM_ARB,4,FALSE)&\" \"&VLOOKUP(PTA!BW11,AL_NUM_ARB,6,FALSE))","v":"X"},"01:30:00"]
[{"$f":"PTA!A12","v":""},{"$f":"PTA!B12","v":"00:00:00"},{"$f":"PTA!C12","v":32},{"$f":"PTA!D12","v":0},{"$f":"IF(OR(PTA!E12=\"\",PTA!E12=\"X\"),\"X\",IF(PTA!E12=\"*\",\"*\",VLOOKUP(PTA!E12,AL_NUM_ARB,2,FALSE)&\" \"&VLOOKUP(PTA!E12,AL_NUM_ARB,4,FALSE)&\" \"&VLOOKUP(PTA!E12,AL_NUM_ARB,6,FALSE)))","v":"X"},{"$f":"IF(OR(PTA!F12=\"\",PTA!F12=\"X\"),\"X\",IF(PTA!F12=\"*\",\"*\",VLOOKUP(PTA!F12,AL_NUM_ARB,2,FALSE)&\" \"&VLOOKUP(PTA!F12,AL_NUM_ARB,4,FALSE)&\" \"&VLOOKUP(PTA!F12,AL_NUM_ARB,6,FALSE)))","v":"X"},{"$f":"IF(OR(PTA!G12=\"\",PTA!G12=\"X\"),\"X\",IF(PTA!G12=\"*\",\"*\",VLOOKUP(PTA!G12,AL_NUM_ARB,2,FALSE)&\" \"&VLOOKUP(PTA!G12,AL_NUM_ARB,4,FALSE)&\" \"&VLOOKUP(PTA!G12,AL_NUM_ARB,6,FALSE)))","v":"X"},{"$f":"IF(OR(PTA!H12=\"\",PTA!H12=\"X\"),\"X\",IF(PTA!H12=\"*\",\"*\",VLOOKUP(PTA!H12,AL_NUM_ARB,2,FALSE)&\" \"&VLOOKUP(PTA!H12,AL_NUM_ARB,4,FALSE)&\" \"&VLOOKUP(PTA!H12,AL_NUM_ARB,6,FALSE)))","v":"X"},{"$f":"IF(OR(PTA!I12=\"\",PTA!I12=\"X\"),\"X\",IF(PTA!I12=\"*\",\"*\",VLOOKUP(PTA!I12,AL_NUM_ARB,2,FALSE)&\" \"&VLOOKUP(PTA!I12,AL_NUM_ARB,4,FALSE)&\" \"&VLOOKUP(PTA!I12,AL_NUM_ARB,6,FALSE)))","v":"X"},{"$f":"IF(OR(PTA!J12=\"\",PTA!J12=\"X\"),\"X\",IF(PTA!J12=\"*\",\"*\",VLOOKUP(PTA!J12,AL_NUM_ARB,2,FALSE)&\" \"&VLOOKUP(PTA!J12,AL_NUM_ARB,4,FALSE)&\" \"&VLOOKUP(PTA!J12,AL_NUM_ARB,6,FALSE)))","v":"X"},{"$f":"IF(OR(PTA!K12=\"\",PTA!K12=\"X\"),\"X\",IF(PTA!K12=\"*\",\"*\",VLOOKUP(PTA!K12,AL_NUM_ARB,2,FALSE)&\" \"&VLOOKUP(PTA!K12,AL_NUM_ARB,4,FALSE)&\" \"&VLOOKUP(PTA!K12,AL_NUM_ARB,6,FALSE)))","v":"X"},{"$f":"IF(OR(PTA!L12=\"\",PTA!L12=\"X\"),\"X\",IF(PTA!L12=\"*\",\"*\",VLOOKUP(PTA!L12,AL_NUM_ARB,2,FALSE)&\" \"&VLOOKUP(PTA!L12,AL_NUM_ARB,4,FALSE)&\" \"&VLOOKUP(PTA!L12,AL_NUM_ARB,6,FALSE)))","v":"X"},{"$f":"IF(OR(PTA!M12=\"\",PTA!M12=\"X\"),\"X\",IF(PTA!M12=\"*\",\"*\",VLOOKUP(PTA!M12,AL_NUM_ARB,2,FALSE)&\" \"&VLOOKUP(PTA!M12,AL_NUM_ARB,4,FALSE)&\" \"&VLOOKUP(PTA!M12,AL_NUM_ARB,6,FALSE)))","v":"X"},{"$f":"IF(OR(PTA!N12=\"\",PTA!N12=\"X\"),\"X\",IF(PTA!N12=\"*\",\"*\",VLOOKUP(PTA!N12,AL_NUM_ARB,2,FALSE)&\" \"&VLOOKUP(PTA!N12,AL_NUM_ARB,4,FALSE)&\" \"&VLOOKUP(PTA!N12,AL_NUM_ARB,6,FALSE)))","v":"X"},{"$f":"IF(OR(PTA!O12=\"\",PTA!O12=\"X\"),\"X\",IF(PTA!O12=\"*\",\"*\",VLOOKUP(PTA!O12,AL_NUM_ARB,2,FALSE)&\" \"&VLOOKUP(PTA!O12,AL_NUM_ARB,4,FALSE)&\" \"&VLOOKUP(PTA!O12,AL_NUM_ARB,6,FALSE)))","v":"X"},{"$f":"IF(OR(PTA!P12=\"\",PTA!P12=\"X\"),\"X\",IF(PTA!P12=\"*\",\"*\",VLOOKUP(PTA!P12,AL_NUM_ARB,2,FALSE)&\" \"&VLOOKUP(PTA!P12,AL_NUM_ARB,4,FALSE)&\" \"&VLOOKUP(PTA!P12,AL_NUM_ARB,6,FALSE)))","v":"X"},{"$f":"IF(OR(PTA!Q12=\"\",PTA!Q12=\"X\"),\"X\",IF(PTA!Q12=\"*\",\"*\",VLOOKUP(PTA!Q12,AL_NUM_ARB,2,FALSE)&\" \"&VLOOKUP(PTA!Q12,AL_NUM_ARB,4,FALSE)&\" \"&VLOOKUP(PTA!Q12,AL_NUM_ARB,6,FALSE)))","v":"X"},{"$f":"IF(OR(PTA!R12=\"\",PTA!R12=\"X\"),\"X\",IF(PTA!R12=\"*\",\"*\",VLOOKUP(PTA!R12,AL_NUM_ARB,2,FALSE)&\" \"&VLOOKUP(PTA!R12,AL_NUM_ARB,4,FALSE)&\" \"&VLOOKUP(PTA!R12,AL_NUM_ARB,6,FALSE)))","v":"X"},{"$f":"IF(OR(PTA!S12=\"\",PTA!S12=\"X\"),\"X\",IF(PTA!S12=\"*\",\"*\",VLOOKUP(PTA!S12,AL_NUM_ARB,2,FALSE)&\" \"&VLOOKUP(PTA!S12,AL_NUM_ARB,4,FALSE)&\" \"&VLOOKUP(PTA!S12,AL_NUM_ARB,6,FALSE)))","v":"X"},{"$f":"IF(OR(PTA!T12=\"\",PTA!T12=\"X\"),\"X\",IF(PTA!T12=\"*\",\"*\",VLOOKUP(PTA!T12,AL_NUM_ARB,2,FALSE)&\" \"&VLOOKUP(PTA!T12,AL_NUM_ARB,4,FALSE)&\" \"&VLOOKUP(PTA!T12,AL_NUM_ARB,6,FALSE)))","v":"X"},{"$f":"IF(OR(PTA!U12=\"\",PTA!U12=\"X\"),\"X\",IF(PTA!U12=\"*\",\"*\",VLOOKUP(PTA!U12,AL_NUM_ARB,2,FALSE)&\" \"&VLOOKUP(PTA!U12,AL_NUM_ARB,4,FALSE)&\" \"&VLOOKUP(PTA!U12,AL_NUM_ARB,6,FALSE)))","v":"X"},{"$f":"IF(OR(PTA!V12=\"\",PTA!V12=\"X\"),\"X\",IF(PTA!V12=\"*\",\"*\",VLOOKUP(PTA!V12,AL_NUM_ARB,2,FALSE)&\" \"&VLOOKUP(PTA!V12,AL_NUM_ARB,4,FALSE)&\" \"&VLOOKUP(PTA!V12,AL_NUM_ARB,6,FALSE)))","v":"X"},{"$f":"IF(OR(PTA!W12=\"\",PTA!W12=\"X\"),\"X\",IF(PTA!W12=\"*\",\"*\",VLOOKUP(PTA!W12,AL_NUM_ARB,2,FALSE)&\" \"&VLOOKUP(PTA!W12,AL_NUM_ARB,4,FALSE)&\" \"&VLOOKUP(PTA!W12,AL_NUM_ARB,6,FALSE)))","v":"X"},{"$f":"IF(OR(PTA!X12=\"\",PTA!X12=\"X\"),\"X\",IF(PTA!X12=\"*\",\"*\",VLOOKUP(PTA!X12,AL_NUM_ARB,2,FALSE)&\" \"&VLOOKUP(PTA!X12,AL_NUM_ARB,4,FALSE)&\" \"&VLOOKUP(PTA!X12,AL_NUM_ARB,6,FALSE)))","v":"X"},{"$f":"IF(OR(PTA!Y12=\"\",PTA!Y12=\"X\"),\"X\",IF(PTA!Y12=\"*\",\"*\",VLOOKUP(PTA!Y12,AL_NUM_ARB,2,FALSE)&\" \"&VLOOKUP(PTA!Y12,AL_NUM_ARB,4,FALSE)&\" \"&VLOOKUP(PTA!Y12,AL_NUM_ARB,6,FALSE)))","v":"X"},{"$f":"IF(OR(PTA!Z12=\"\",PTA!Z12=\"X\"),\"X\",IF(PTA!Z12=\"*\",\"*\",VLOOKUP(PTA!Z12,AL_NUM_ARB,2,FALSE)&\" \"&VLOOKUP(PTA!Z12,AL_NUM_ARB,4,FALSE)&\" \"&VLOOKUP(PTA!Z12,AL_NUM_ARB,6,FALSE)))","v":"X"},{"$f":"IF(OR(PTA!AA12=\"\",PTA!AA12=\"X\"),\"X\",IF(PTA!AA12=\"*\",\"*\",VLOOKUP(PTA!AA12,AL_NUM_ARB,2,FALSE)&\" \"&VLOOKUP(PTA!AA12,AL_NUM_ARB,4,FALSE)&\" \"&VLOOKUP(PTA!AA12,AL_NUM_ARB,6,FALSE)))","v":"X"},{"$f":"IF(OR(PTA!AB12=\"\",PTA!AB12=\"X\"),\"X\",IF(PTA!AB12=\"*\",\"*\",VLOOKUP(PTA!AB12,AL_NUM_ARB,2,FALSE)&\" \"&VLOOKUP(PTA!AB12,AL_NUM_ARB,4,FALSE)&\" \"&VLOOKUP(PTA!AB12,AL_NUM_ARB,6,FALSE)))","v":"X"},{"$f":"IF(OR(PTA!AC12=\"\",PTA!AC12=\"X\"),\"X\",IF(PTA!AC12=\"*\",\"*\",VLOOKUP(PTA!AC12,AL_NUM_ARB,2,FALSE)&\" \"&VLOOKUP(PTA!AC12,AL_NUM_ARB,4,FALSE)&\" \"&VLOOKUP(PTA!AC12,AL_NUM_ARB,6,FALSE)))","v":"X"},{"$f":"IF(OR(PTA!AD12=\"\",PTA!AD12=\"X\"),\"X\",IF(PTA!AD12=\"*\",\"*\",VLOOKUP(PTA!AD12,AL_NUM_ARB,2,FALSE)&\" \"&VLOOKUP(PTA!AD12,AL_NUM_ARB,4,FALSE)&\" \"&VLOOKUP(PTA!AD12,AL_NUM_ARB,6,FALSE)))","v":"X"},{"$f":"IF(OR(PTA!AE12=\"\",PTA!AE12=\"X\"),\"X\",IF(PTA!AE12=\"*\",\"*\",VLOOKUP(PTA!AE12,AL_NUM_ARB,2,FALSE)&\" \"&VLOOKUP(PTA!AE12,AL_NUM_ARB,4,FALSE)&\" \"&VLOOKUP(PTA!AE12,AL_NUM_ARB,6,FALSE)))","v":"X"},{"$f":"IF(OR(PTA!AF12=\"\",PTA!AF12=\"X\"),\"X\",IF(PTA!AF12=\"*\",\"*\",VLOOKUP(PTA!AF12,AL_NUM_ARB,2,FALSE)&\" \"&VLOOKUP(PTA!AF12,AL_NUM_ARB,4,FALSE)&\" \"&VLOOKUP(PTA!AF12,AL_NUM_ARB,6,FALSE)))","v":"X"},{"$f":"IF(OR(PTA!AG12=\"\",PTA!AG12=\"X\"),\"X\",IF(PTA!AG12=\"*\",\"*\",VLOOKUP(PTA!AG12,AL_NUM_ARB,2,FALSE)&\" \"&VLOOKUP(PTA!AG12,AL_NUM_ARB,4,FALSE)&\" \"&VLOOKUP(PTA!AG12,AL_NUM_ARB,6,FALSE)))","v":"X"},{"$f":"IF(OR(PTA!AH12=\"\",PTA!AH12=\"X\"),\"X\",IF(PTA!AH12=\"*\",\"*\",VLOOKUP(PTA!AH12,AL_NUM_ARB,2,FALSE)&\" \"&VLOOKUP(PTA!AH12,AL_NUM_ARB,4,FALSE)&\" \"&VLOOKUP(PTA!AH12,AL_NUM_ARB,6,FALSE)))","v":"X"},{"$f":"IF(OR(PTA!AI12=\"\",PTA!AI12=\"X\"),\"X\",IF(PTA!AI12=\"*\",\"*\",VLOOKUP(PTA!AI12,AL_NUM_ARB,2,FALSE)&\" \"&VLOOKUP(PTA!AI12,AL_NUM_ARB,4,FALSE)&\" \"&VLOOKUP(PTA!AI12,AL_NUM_ARB,6,FALSE)))","v":"X"},{"$f":"IF(OR(PTA!AJ12=\"\",PTA!AJ12=\"X\"),\"X\",IF(PTA!AJ12=\"*\",\"*\",VLOOKUP(PTA!AJ12,AL_NUM_ARB,2,FALSE)&\" \"&VLOOKUP(PTA!AJ12,AL_NUM_ARB,4,FALSE)&\" \"&VLOOKUP(PTA!AJ12,AL_NUM_ARB,6,FALSE)))","v":"X"},{"$f":"IF(OR(PTA!AK12=\"\",PTA!AK12=\"X\"),\"X\",IF(PTA!AK12=\"*\",\"*\",VLOOKUP(PTA!AK12,AL_NUM_ARB,2,FALSE)&\" \"&VLOOKUP(PTA!AK12,AL_NUM_ARB,4,FALSE)&\" \"&VLOOKUP(PTA!AK12,AL_NUM_ARB,6,FALSE)))","v":"X"},{"$f":"IF(OR(PTA!AL12=\"\",PTA!AL12=\"X\"),\"X\",IF(PTA!AL12=\"*\",\"*\",VLOOKUP(PTA!AL12,AL_NUM_ARB,2,FALSE)&\" \"&VLOOKUP(PTA!AL12,AL_NUM_ARB,4,FALSE)&\" \"&VLOOKUP(PTA!AL12,AL_NUM_ARB,6,FALSE)))","v":"X"},{"$f":"IF(OR(PTA!AM12=\"\",PTA!AM12=\"X\"),\"X\",IF(PTA!AM12=\"*\",\"*\",VLOOKUP(PTA!AM12,AL_NUM_ARB,2,FALSE)&\" \"&VLOOKUP(PTA!AM12,AL_NUM_ARB,4,FALSE)&\" \"&VLOOKUP(PTA!AM12,AL_NUM_ARB,6,FALSE)))","v":"X"},{"$f":"IF(OR(PTA!AN12=\"\",PTA!AN12=\"X\"),\"X\",IF(PTA!AN12=\"*\",\"*\",VLOOKUP(PTA!AN12,AL_NUM_ARB,2,FALSE)&\" \"&VLOOKUP(PTA!AN12,AL_NUM_ARB,4,FALSE)&\" \"&VLOOKUP(PTA!AN12,AL_NUM_ARB,6,FALSE)))","v":"X"},{"$f":"IF(OR(PTA!AO12=\"\",PTA!AO12=\"X\"),\"X\",IF(PTA!AO12=\"*\",\"*\",VLOOKUP(PTA!AO12,AL_NUM_ARB,2,FALSE)&\" \"&VLOOKUP(PTA!AO12,AL_NUM_ARB,4,FALSE)&\" \"&VLOOKUP(PTA!AO12,AL_NUM_ARB,6,FALSE)))","v":"X"},{"$f":"IF(OR(PTA!AP12=\"\",PTA!AP12=\"X\"),\"X\",IF(PTA!AP12=\"*\",\"*\",VLOOKUP(PTA!AP12,AL_NUM_ARB,2,FALSE)&\" \"&VLOOKUP(PTA!AP12,AL_NUM_ARB,4,FALSE)&\" \"&VLOOKUP(PTA!AP12,AL_NUM_ARB,6,FALSE)))","v":"X"},{"$f":"IF(OR(PTA!AQ12=\"\",PTA!AQ12=\"X\"),\"X\",IF(PTA!AQ12=\"*\",\"*\",VLOOKUP(PTA!AQ12,AL_NUM_ARB,2,FALSE)&\" \"&VLOOKUP(PTA!AQ12,AL_NUM_ARB,4,FALSE)&\" \"&VLOOKUP(PTA!AQ12,AL_NUM_ARB,6,FALSE)))","v":"X"},{"$f":"IF(OR(PTA!AR12=\"\",PTA!AR12=\"X\"),\"X\",IF(PTA!AR12=\"*\",\"*\",VLOOKUP(PTA!AR12,AL_NUM_ARB,2,FALSE)&\" \"&VLOOKUP(PTA!AR12,AL_NUM_ARB,4,FALSE)&\" \"&VLOOKUP(PTA!AR12,AL_NUM_ARB,6,FALSE)))","v":"X"},{"$f":"IF(OR(PTA!AS12=\"\",PTA!AS12=\"X\"),\"X\",IF(PTA!AS12=\"*\",\"*\",VLOOKUP(PTA!AS12,AL_NUM_ARB,2,FALSE)&\" \"&VLOOKUP(PTA!AS12,AL_NUM_ARB,4,FALSE)&\" \"&VLOOKUP(PTA!AS12,AL_NUM_ARB,6,FALSE)))","v":"X"},{"$f":"IF(OR(PTA!AT12=\"\",PTA!AT12=\"X\"),\"X\",IF(PTA!AT12=\"*\",\"*\",VLOOKUP(PTA!AT12,AL_NUM_ARB,2,FALSE)&\" \"&VLOOKUP(PTA!AT12,AL_NUM_ARB,4,FALSE)&\" \"&VLOOKUP(PTA!AT12,AL_NUM_ARB,6,FALSE)))","v":"X"},{"$f":"IF(OR(PTA!AU12=\"\",PTA!AU12=\"X\"),\"X\",IF(PTA!AU12=\"*\",\"*\",VLOOKUP(PTA!AU12,AL_NUM_ARB,2,FALSE)&\" \"&VLOOKUP(PTA!AU12,AL_NUM_ARB,4,FALSE)&\" \"&VLOOKUP(PTA!AU12,AL_NUM_ARB,6,FALSE)))","v":"X"},{"$f":"IF(OR(PTA!AV12=\"\",PTA!AV12=\"X\"),\"X\",IF(PTA!AV12=\"*\",\"*\",VLOOKUP(PTA!AV12,AL_NUM_ARB,2,FALSE)&\" \"&VLOOKUP(PTA!AV12,AL_NUM_ARB,4,FALSE)&\" \"&VLOOKUP(PTA!AV12,AL_NUM_ARB,6,FALSE)))","v":"X"},{"$f":"IF(OR(PTA!AW12=\"\",PTA!AW12=\"X\"),\"X\",IF(PTA!AW12=\"*\",\"*\",VLOOKUP(PTA!AW12,AL_NUM_ARB,2,FALSE)&\" \"&VLOOKUP(PTA!AW12,AL_NUM_ARB,4,FALSE)&\" \"&VLOOKUP(PTA!AW12,AL_NUM_ARB,6,FALSE)))","v":"X"},{"$f":"IF(OR(PTA!AX12=\"\",PTA!AX12=\"X\"),\"X\",IF(PTA!AX12=\"*\",\"*\",VLOOKUP(PTA!AX12,AL_NUM_ARB,2,FALSE)&\" \"&VLOOKUP(PTA!AX12,AL_NUM_ARB,4,FALSE)&\" \"&VLOOKUP(PTA!AX12,AL_NUM_ARB,6,FALSE)))","v":"X"},{"$f":"IF(OR(PTA!AY12=\"\",PTA!AY12=\"X\"),\"X\",IF(PTA!AY12=\"*\",\"*\",VLOOKUP(PTA!AY12,AL_NUM_ARB,2,FALSE)&\" \"&VLOOKUP(PTA!AY12,AL_NUM_ARB,4,FALSE)&\" \"&VLOOKUP(PTA!AY12,AL_NUM_ARB,6,FALSE)))","v":"X"},{"$f":"IF(OR(PTA!AZ12=\"\",PTA!AZ12=\"X\"),\"X\",IF(PTA!AZ12=\"*\",\"*\",VLOOKUP(PTA!AZ12,AL_NUM_ARB,2,FALSE)&\" \"&VLOOKUP(PTA!AZ12,AL_NUM_ARB,4,FALSE)&\" \"&VLOOKUP(PTA!AZ12,AL_NUM_ARB,6,FALSE)))","v":"X"},{"$f":"IF(OR(PTA!BA12=\"\",PTA!BA12=\"X\"),\"X\",IF(PTA!BA12=\"*\",\"*\",VLOOKUP(PTA!BA12,AL_NUM_ARB,2,FALSE)&\" \"&VLOOKUP(PTA!BA12,AL_NUM_ARB,4,FALSE)&\" \"&VLOOKUP(PTA!BA12,AL_NUM_ARB,6,FALSE)))","v":"X"},{"$f":"IF(OR(PTA!BB12=\"\",PTA!BB12=\"X\"),\"X\",IF(PTA!BB12=\"*\",\"*\",VLOOKUP(PTA!BB12,AL_NUM_ARB,2,FALSE)&\" \"&VLOOKUP(PTA!BB12,AL_NUM_ARB,4,FALSE)&\" \"&VLOOKUP(PTA!BB12,AL_NUM_ARB,6,FALSE)))","v":"X"},{"$f":"IF(OR(PTA!BC12=\"\",PTA!BC12=\"X\"),\"X\",IF(PTA!BC12=\"*\",\"*\",VLOOKUP(PTA!BC12,AL_NUM_ARB,2,FALSE)&\" \"&VLOOKUP(PTA!BC12,AL_NUM_ARB,4,FALSE)&\" \"&VLOOKUP(PTA!BC12,AL_NUM_ARB,6,FALSE)))","v":"X"},{"$f":"IF(OR(PTA!BD12=\"\",PTA!BD12=\"X\"),\"X\",IF(PTA!BD12=\"*\",\"*\",VLOOKUP(PTA!BD12,AL_NUM_ARB,2,FALSE)&\" \"&VLOOKUP(PTA!BD12,AL_NUM_ARB,4,FALSE)&\" \"&VLOOKUP(PTA!BD12,AL_NUM_ARB,6,FALSE)))","v":"X"},{"$f":"IF(OR(PTA!BE12=\"\",PTA!BE12=\"X\"),\"X\",IF(PTA!BE12=\"*\",\"*\",VLOOKUP(PTA!BE12,AL_NUM_ARB,2,FALSE)&\" \"&VLOOKUP(PTA!BE12,AL_NUM_ARB,4,FALSE)&\" \"&VLOOKUP(PTA!BE12,AL_NUM_ARB,6,FALSE)))","v":"X"},{"$f":"IF(OR(PTA!BF12=\"\",PTA!BF12=\"X\"),\"X\",IF(PTA!BF12=\"*\",\"*\",VLOOKUP(PTA!BF12,AL_NUM_ARB,2,FALSE)&\" \"&VLOOKUP(PTA!BF12,AL_NUM_ARB,4,FALSE)&\" \"&VLOOKUP(PTA!BF12,AL_NUM_ARB,6,FALSE)))","v":"X"},{"$f":"IF(OR(PTA!BG12=\"\",PTA!BG12=\"X\"),\"X\",IF(PTA!BG12=\"*\",\"*\",VLOOKUP(PTA!BG12,AL_NUM_ARB,2,FALSE)&\" \"&VLOOKUP(PTA!BG12,AL_NUM_ARB,4,FALSE)&\" \"&VLOOKUP(PTA!BG12,AL_NUM_ARB,6,FALSE)))","v":"X"},{"$f":"IF(OR(PTA!BH12=\"\",PTA!BH12=\"X\"),\"X\",IF(PTA!BH12=\"*\",\"*\",VLOOKUP(PTA!BH12,AL_NUM_ARB,2,FALSE)&\" \"&VLOOKUP(PTA!BH12,AL_NUM_ARB,4,FALSE)&\" \"&VLOOKUP(PTA!BH12,AL_NUM_ARB,6,FALSE)))","v":"X"},{"$f":"IF(OR(PTA!BI12=\"\",PTA!BI12=\"X\"),\"X\",IF(PTA!BI12=\"*\",\"*\",VLOOKUP(PTA!BI12,AL_NUM_ARB,2,FALSE)&\" \"&VLOOKUP(PTA!BI12,AL_NUM_ARB,4,FALSE)&\" \"&VLOOKUP(PTA!BI12,AL_NUM_ARB,6,FALSE)))","v":"X"},{"$f":"IF(OR(PTA!BJ12=\"\",PTA!BJ12=\"X\"),\"X\",IF(PTA!BJ12=\"*\",\"*\",VLOOKUP(PTA!BJ12,AL_NUM_ARB,2,FALSE)&\" \"&VLOOKUP(PTA!BJ12,AL_NUM_ARB,4,FALSE)&\" \"&VLOOKUP(PTA!BJ12,AL_NUM_ARB,6,FALSE)))","v":"X"},{"$f":"IF(OR(PTA!BK12=\"\",PTA!BK12=\"X\"),\"X\",IF(PTA!BK12=\"*\",\"*\",VLOOKUP(PTA!BK12,AL_NUM_ARB,2,FALSE)&\" \"&VLOOKUP(PTA!BK12,AL_NUM_ARB,4,FALSE)&\" \"&VLOOKUP(PTA!BK12,AL_NUM_ARB,6,FALSE)))","v":"X"},{"$f":"IF(OR(PTA!BL12=\"\",PTA!BL12=\"X\"),\"X\",IF(PTA!BL12=\"*\",\"*\",VLOOKUP(PTA!BL12,AL_NUM_ARB,2,FALSE)&\" \"&VLOOKUP(PTA!BL12,AL_NUM_ARB,4,FALSE)&\" \"&VLOOKUP(PTA!BL12,AL_NUM_ARB,6,FALSE)))","v":"X"},{"$f":"IF(OR(PTA!BM12=\"\",PTA!BM12=\"X\"),\"X\",IF(PTA!BM12=\"*\",\"*\",VLOOKUP(PTA!BM12,AL_NUM_ARB,2,FALSE)&\" \"&VLOOKUP(PTA!BM12,AL_NUM_ARB,4,FALSE)&\" \"&VLOOKUP(PTA!BM12,AL_NUM_ARB,6,FALSE)))","v":"X"},{"$f":"IF(OR(PTA!BN12=\"\",PTA!BN12=\"X\"),\"X\",IF(PTA!BN12=\"*\",\"*\",VLOOKUP(PTA!BN12,AL_NUM_ARB,2,FALSE)&\" \"&VLOOKUP(PTA!BN12,AL_NUM_ARB,4,FALSE)&\" \"&VLOOKUP(PTA!BN12,AL_NUM_ARB,6,FALSE)))","v":"X"},{"$f":"IF(OR(PTA!BO12=\"\",PTA!BO12=\"X\"),\"X\",IF(PTA!BO12=\"*\",\"*\",VLOOKUP(PTA!BO12,AL_NUM_ARB,2,FALSE)&\" \"&VLOOKUP(PTA!BO12,AL_NUM_ARB,4,FALSE)&\" \"&VLOOKUP(PTA!BO12,AL_NUM_ARB,6,FALSE)))","v":"X"},{"$f":"IF(OR(PTA!BP12=\"\",PTA!BP12=\"X\"),\"X\",IF(PTA!BP12=\"*\",\"*\",VLOOKUP(PTA!BP12,AL_NUM_ARB,2,FALSE)&\" \"&VLOOKUP(PTA!BP12,AL_NUM_ARB,4,FALSE)&\" \"&VLOOKUP(PTA!BP12,AL_NUM_ARB,6,FALSE)))","v":"X"},{"$f":"IF(OR(PTA!BQ12=\"\",PTA!BQ12=\"X\"),\"X\",IF(PTA!BQ12=\"*\",\"*\",VLOOKUP(PTA!BQ12,AL_NUM_ARB,2,FALSE)&\" \"&VLOOKUP(PTA!BQ12,AL_NUM_ARB,4,FALSE)&\" \"&VLOOKUP(PTA!BQ12,AL_NUM_ARB,6,FALSE)))","v":"X"},{"$f":"IF(OR(PTA!BR12=\"\",PTA!BR12=\"X\"),\"X\",IF(PTA!BR12=\"*\",\"*\",VLOOKUP(PTA!BR12,AL_NUM_ARB,2,FALSE)&\" \"&VLOOKUP(PTA!BR12,AL_NUM_ARB,4,FALSE)&\" \"&VLOOKUP(PTA!BR12,AL_NUM_ARB,6,FALSE)))","v":"X"},{"$f":"IF(OR(PTA!BT12=\"\",PTA!BT12=\"X\"),\"X\",VLOOKUP(PTA!BT12,AL_NUM_ARB,2,FALSE)&\" \"&VLOOKUP(PTA!BT12,AL_NUM_ARB,4,FALSE)&\" \"&VLOOKUP(PTA!BT12,AL_NUM_ARB,6,FALSE))","v":"X"},{"$f":"IF(OR(PTA!BU12=\"\",PTA!BU12=\"X\"),\"X\",VLOOKUP(PTA!BU12,AL_NUM_ARB,2,FALSE)&\" \"&VLOOKUP(PTA!BU12,AL_NUM_ARB,4,FALSE)&\" \"&VLOOKUP(PTA!BU12,AL_NUM_ARB,6,FALSE))","v":"X"},{"$f":"IF(OR(PTA!BV12=\"\",PTA!BV12=\"X\"),\"X\",VLOOKUP(PTA!BV12,AL_NUM_ARB,2,FALSE)&\" \"&VLOOKUP(PTA!BV12,AL_NUM_ARB,4,FALSE)&\" \"&VLOOKUP(PTA!BV12,AL_NUM_ARB,6,FALSE))","v":"X"},{"$f":"IF(OR(PTA!BW12=\"\",PTA!BW12=\"X\"),\"X\",VLOOKUP(PTA!BW12,AL_NUM_ARB,2,FALSE)&\" \"&VLOOKUP(PTA!BW12,AL_NUM_ARB,4,FALSE)&\" \"&VLOOKUP(PTA!BW12,AL_NUM_ARB,6,FALSE))","v":"X"},"02:00:00"]
[{"$f":"PTA!A13","v":""},{"$f":"PTA!B13","v":"00:00:00"},{"$f":"PTA!C13","v":32},{"$f":"PTA!D13","v":0},{"$f":"IF(OR(PTA!E13=\"\",PTA!E13=\"X\"),\"X\",IF(PTA!E13=\"*\",\"*\",VLOOKUP(PTA!E13,AL_NUM_ARB,2,FALSE)&\" \"&VLOOKUP(PTA!E13,AL_NUM_ARB,4,FALSE)&\" \"&VLOOKUP(PTA!E13,AL_NUM_ARB,6,FALSE)))","v":"X"},{"$f":"IF(OR(PTA!F13=\"\",PTA!F13=\"X\"),\"X\",IF(PTA!F13=\"*\",\"*\",VLOOKUP(PTA!F13,AL_NUM_ARB,2,FALSE)&\" \"&VLOOKUP(PTA!F13,AL_NUM_ARB,4,FALSE)&\" \"&VLOOKUP(PTA!F13,AL_NUM_ARB,6,FALSE)))","v":"X"},{"$f":"IF(OR(PTA!G13=\"\",PTA!G13=\"X\"),\"X\",IF(PTA!G13=\"*\",\"*\",VLOOKUP(PTA!G13,AL_NUM_ARB,2,FALSE)&\" \"&VLOOKUP(PTA!G13,AL_NUM_ARB,4,FALSE)&\" \"&VLOOKUP(PTA!G13,AL_NUM_ARB,6,FALSE)))","v":"X"},{"$f":"IF(OR(PTA!H13=\"\",PTA!H13=\"X\"),\"X\",IF(PTA!H13=\"*\",\"*\",VLOOKUP(PTA!H13,AL_NUM_ARB,2,FALSE)&\" \"&VLOOKUP(PTA!H13,AL_NUM_ARB,4,FALSE)&\" \"&VLOOKUP(PTA!H13,AL_NUM_ARB,6,FALSE)))","v":"X"},{"$f":"IF(OR(PTA!I13=\"\",PTA!I13=\"X\"),\"X\",IF(PTA!I13=\"*\",\"*\",VLOOKUP(PTA!I13,AL_NUM_ARB,2,FALSE)&\" \"&VLOOKUP(PTA!I13,AL_NUM_ARB,4,FALSE)&\" \"&VLOOKUP(PTA!I13,AL_NUM_ARB,6,FALSE)))","v":"X"},{"$f":"IF(OR(PTA!J13=\"\",PTA!J13=\"X\"),\"X\",IF(PTA!J13=\"*\",\"*\",VLOOKUP(PTA!J13,AL_NUM_ARB,2,FALSE)&\" \"&VLOOKUP(PTA!J13,AL_NUM_ARB,4,FALSE)&\" \"&VLOOKUP(PTA!J13,AL_NUM_ARB,6,FALSE)))","v":"X"},{"$f":"IF(OR(PTA!K13=\"\",PTA!K13=\"X\"),\"X\",IF(PTA!K13=\"*\",\"*\",VLOOKUP(PTA!K13,AL_NUM_ARB,2,FALSE)&\" \"&VLOOKUP(PTA!K13,AL_NUM_ARB,4,FALSE)&\" \"&VLOOKUP(PTA!K13,AL_NUM_ARB,6,FALSE)))","v":"X"},{"$f":"IF(OR(PTA!L13=\"\",PTA!L13=\"X\"),\"X\",IF(PTA!L13=\"*\",\"*\",VLOOKUP(PTA!L13,AL_NUM_ARB,2,FALSE)&\" \"&VLOOKUP(PTA!L13,AL_NUM_ARB,4,FALSE)&\" \"&VLOOKUP(PTA!L13,AL_NUM_ARB,6,FALSE)))","v":"X"},{"$f":"IF(OR(PTA!M13=\"\",PTA!M13=\"X\"),\"X\",IF(PTA!M13=\"*\",\"*\",VLOOKUP(PTA!M13,AL_NUM_ARB,2,FALSE)&\" \"&VLOOKUP(PTA!M13,AL_NUM_ARB,4,FALSE)&\" \"&VLOOKUP(PTA!M13,AL_NUM_ARB,6,FALSE)))","v":"X"},{"$f":"IF(OR(PTA!N13=\"\",PTA!N13=\"X\"),\"X\",IF(PTA!N13=\"*\",\"*\",VLOOKUP(PTA!N13,AL_NUM_ARB,2,FALSE)&\" \"&VLOOKUP(PTA!N13,AL_NUM_ARB,4,FALSE)&\" \"&VLOOKUP(PTA!N13,AL_NUM_ARB,6,FALSE)))","v":"X"},{"$f":"IF(OR(PTA!O13=\"\",PTA!O13=\"X\"),\"X\",IF(PTA!O13=\"*\",\"*\",VLOOKUP(PTA!O13,AL_NUM_ARB,2,FALSE)&\" \"&VLOOKUP(PTA!O13,AL_NUM_ARB,4,FALSE)&\" \"&VLOOKUP(PTA!O13,AL_NUM_ARB,6,FALSE)))","v":"X"},{"$f":"IF(OR(PTA!P13=\"\",PTA!P13=\"X\"),\"X\",IF(PTA!P13=\"*\",\"*\",VLOOKUP(PTA!P13,AL_NUM_ARB,2,FALSE)&\" \"&VLOOKUP(PTA!P13,AL_NUM_ARB,4,FALSE)&\" \"&VLOOKUP(PTA!P13,AL_NUM_ARB,6,FALSE)))","v":"X"},{"$f":"IF(OR(PTA!Q13=\"\",PTA!Q13=\"X\"),\"X\",IF(PTA!Q13=\"*\",\"*\",VLOOKUP(PTA!Q13,AL_NUM_ARB,2,FALSE)&\" \"&VLOOKUP(PTA!Q13,AL_NUM_ARB,4,FALSE)&\" \"&VLOOKUP(PTA!Q13,AL_NUM_ARB,6,FALSE)))","v":"X"},{"$f":"IF(OR(PTA!R13=\"\",PTA!R13=\"X\"),\"X\",IF(PTA!R13=\"*\",\"*\",VLOOKUP(PTA!R13,AL_NUM_ARB,2,FALSE)&\" \"&VLOOKUP(PTA!R13,AL_NUM_ARB,4,FALSE)&\" \"&VLOOKUP(PTA!R13,AL_NUM_ARB,6,FALSE)))","v":"X"},{"$f":"IF(OR(PTA!S13=\"\",PTA!S13=\"X\"),\"X\",IF(PTA!S13=\"*\",\"*\",VLOOKUP(PTA!S13,AL_NUM_ARB,2,FALSE)&\" \"&VLOOKUP(PTA!S13,AL_NUM_ARB,4,FALSE)&\" \"&VLOOKUP(PTA!S13,AL_NUM_ARB,6,FALSE)))","v":"X"},{"$f":"IF(OR(PTA!T13=\"\",PTA!T13=\"X\"),\"X\",IF(PTA!T13=\"*\",\"*\",VLOOKUP(PTA!T13,AL_NUM_ARB,2,FALSE)&\" \"&VLOOKUP(PTA!T13,AL_NUM_ARB,4,FALSE)&\" \"&VLOOKUP(PTA!T13,AL_NUM_ARB,6,FALSE)))","v":"X"},{"$f":"IF(OR(PTA!U13=\"\",PTA!U13=\"X\"),\"X\",IF(PTA!U13=\"*\",\"*\",VLOOKUP(PTA!U13,AL_NUM_ARB,2,FALSE)&\" \"&VLOOKUP(PTA!U13,AL_NUM_ARB,4,FALSE)&\" \"&VLOOKUP(PTA!U13,AL_NUM_ARB,6,FALSE)))","v":"X"},{"$f":"IF(OR(PTA!V13=\"\",PTA!V13=\"X\"),\"X\",IF(PTA!V13=\"*\",\"*\",VLOOKUP(PTA!V13,AL_NUM_ARB,2,FALSE)&\" \"&VLOOKUP(PTA!V13,AL_NUM_ARB,4,FALSE)&\" \"&VLOOKUP(PTA!V13,AL_NUM_ARB,6,FALSE)))","v":"X"},{"$f":"IF(OR(PTA!W13=\"\",PTA!W13=\"X\"),\"X\",IF(PTA!W13=\"*\",\"*\",VLOOKUP(PTA!W13,AL_NUM_ARB,2,FALSE)&\" \"&VLOOKUP(PTA!W13,AL_NUM_ARB,4,FALSE)&\" \"&VLOOKUP(PTA!W13,AL_NUM_ARB,6,FALSE)))","v":"X"},{"$f":"IF(OR(PTA!X13=\"\",PTA!X13=\"X\"),\"X\",IF(PTA!X13=\"*\",\"*\",VLOOKUP(PTA!X13,AL_NUM_ARB,2,FALSE)&\" \"&VLOOKUP(PTA!X13,AL_NUM_ARB,4,FALSE)&\" \"&VLOOKUP(PTA!X13,AL_NUM_ARB,6,FALSE)))","v":"X"},{"$f":"IF(OR(PTA!Y13=\"\",PTA!Y13=\"X\"),\"X\",IF(PTA!Y13=\"*\",\"*\",VLOOKUP(PTA!Y13,AL_NUM_ARB,2,FALSE)&\" \"&VLOOKUP(PTA!Y13,AL_NUM_ARB,4,FALSE)&\" \"&VLOOKUP(PTA!Y13,AL_NUM_ARB,6,FALSE)))","v":"X"},{"$f":"IF(OR(PTA!Z13=\"\",PTA!Z13=\"X\"),\"X\",IF(PTA!Z13=\"*\",\"*\",VLOOKUP(PTA!Z13,AL_NUM_ARB,2,FALSE)&\" \"&VLOOKUP(PTA!Z13,AL_NUM_ARB,4,FALSE)&\" \"&VLOOKUP(PTA!Z13,AL_NUM_ARB,6,FALSE)))","v":"X"},{"$f":"IF(OR(PTA!AA13=\"\",PTA!AA13=\"X\"),\"X\",IF(PTA!AA13=\"*\",\"*\",VLOOKUP(PTA!AA13,AL_NUM_ARB,2,FALSE)&\" \"&VLOOKUP(PTA!AA13,AL_NUM_ARB,4,FALSE)&\" \"&VLOOKUP(PTA!AA13,AL_NUM_ARB,6,FALSE)))","v":"X"},{"$f":"IF(OR(PTA!AB13=\"\",PTA!AB13=\"X\"),\"X\",IF(PTA!AB13=\"*\",\"*\",VLOOKUP(PTA!AB13,AL_NUM_ARB,2,FALSE)&\" \"&VLOOKUP(PTA!AB13,AL_NUM_ARB,4,FALSE)&\" \"&VLOOKUP(PTA!AB13,AL_NUM_ARB,6,FALSE)))","v":"X"},{"$f":"IF(OR(PTA!AC13=\"\",PTA!AC13=\"X\"),\"X\",IF(PTA!AC13=\"*\",\"*\",VLOOKUP(PTA!AC13,AL_NUM_ARB,2,FALSE)&\" \"&VLOOKUP(PTA!AC13,AL_NUM_ARB,4,FALSE)&\" \"&VLOOKUP(PTA!AC13,AL_NUM_ARB,6,FALSE)))","v":"X"},{"$f":"IF(OR(PTA!AD13=\"\",PTA!AD13=\"X\"),\"X\",IF(PTA!AD13=\"*\",\"*\",VLOOKUP(PTA!AD13,AL_NUM_ARB,2,FALSE)&\" \"&VLOOKUP(PTA!AD13,AL_NUM_ARB,4,FALSE)&\" \"&VLOOKUP(PTA!AD13,AL_NUM_ARB,6,FALSE)))","v":"X"},{"$f":"IF(OR(PTA!AE13=\"\",PTA!AE13=\"X\"),\"X\",IF(PTA!AE13=\"*\",\"*\",VLOOKUP(PTA!AE13,AL_NUM_ARB,2,FALSE)&\" \"&VLOOKUP(PTA!AE13,AL_NUM_ARB,4,FALSE)&\" \"&VLOOKUP(PTA!AE13,AL_NUM_ARB,6,FALSE)))","v":"X"},{"$f":"IF(OR(PTA!AF13=\"\",PTA!AF13=\"X\"),\"X\",IF(PTA!AF13=\"*\",\"*\",VLOOKUP(PTA!AF13,AL_NUM_ARB,2,FALSE)&\" \"&VLOOKUP(PTA!AF13,AL_NUM_ARB,4,FALSE)&\" \"&VLOOKUP(PTA!AF13,AL_NUM_ARB,6,FALSE)))","v":"X"},{"$f":"IF(OR(PTA!AG13=\"\",PTA!AG13=\"X\"),\"X\",IF(PTA!AG13=\"*\",\"*\",VLOOKUP(PTA!AG13,AL_NUM_ARB,2,FALSE)&\" \"&VLOOKUP(PTA!AG13,AL_NUM_ARB,4,FALSE)&\" \"&VLOOKUP(PTA!AG13,AL_NUM_ARB,6,FALSE)))","v":"X"},{"$f":"IF(OR(PTA!AH13=\"\",PTA!AH13=\"X\"),\"X\",IF(PTA!AH13=\"*\",\"*\",VLOOKUP(PTA!AH13,AL_NUM_ARB,2,FALSE)&\" \"&VLOOKUP(PTA!AH13,AL_NUM_ARB,4,FALSE)&\" \"&VLOOKUP(PTA!AH13,AL_NUM_ARB,6,FALSE)))","v":"X"},{"$f":"IF(OR(PTA!AI13=\"\",PTA!AI13=\"X\"),\"X\",IF(PTA!AI13=\"*\",\"*\",VLOOKUP(PTA!AI13,AL_NUM_ARB,2,FALSE)&\" \"&VLOOKUP(PTA!AI13,AL_NUM_ARB,4,FALSE)&\" \"&VLOOKUP(PTA!AI13,AL_NUM_ARB,6,FALSE)))","v":"X"},{"$f":"IF(OR(PTA!AJ13=\"\",PTA!AJ13=\"X\"),\"X\",IF(PTA!AJ13=\"*\",\"*\",VLOOKUP(PTA!AJ13,AL_NUM_ARB,2,FALSE)&\" \"&VLOOKUP(PTA!AJ13,AL_NUM_ARB,4,FALSE)&\" \"&VLOOKUP(PTA!AJ13,AL_NUM_ARB,6,FALSE)))","v":"X"},{"$f":"IF(OR(PTA!AK13=\"\",PTA!AK13=\"X\"),\"X\",IF(PTA!AK13=\"*\",\"*\",VLOOKUP(PTA!AK13,AL_NUM_ARB,2,FALSE)&\" \"&VLOOKUP(PTA!AK13,AL_NUM_ARB,4,FALSE)&\" \"&VLOOKUP(PTA!AK13,AL_NUM_ARB,6,FALSE)))","v":"X"},{"$f":"IF(OR(PTA!AL13=\"\",PTA!AL13=\"X\"),\"X\",IF(PTA!AL13=\"*\",\"*\",VLOOKUP(PTA!AL13,AL_NUM_ARB,2,FALSE)&\" \"&VLOOKUP(PTA!AL13,AL_NUM_ARB,4,FALSE)&\" \"&VLOOKUP(PTA!AL13,AL_NUM_ARB,6,FALSE)))","v":"X"},{"$f":"IF(OR(PTA!AM13=\"\",PTA!AM13=\"X\"),\"X\",IF(PTA!AM13=\"*\",\"*\",VLOOKUP(PTA!AM13,AL_NUM_ARB,2,FALSE)&\" \"&VLOOKUP(PTA!AM13,AL_NUM_ARB,4,FALSE)&\" \"&VLOOKUP(PTA!AM13,AL_NUM_ARB,6,FALSE)))","v":"X"},{"$f":"IF(OR(PTA!AN13=\"\",PTA!AN13=\"X\"),\"X\",IF(PTA!AN13=\"*\",\"*\",VLOOKUP(PTA!AN13,AL_NUM_ARB,2,FALSE)&\" \"&VLOOKUP(PTA!AN13,AL_NUM_ARB,4,FALSE)&\" \"&VLOOKUP(PTA!AN13,AL_NUM_ARB,6,FALSE)))","v":"X"},{"$f":"IF(OR(PTA!AO13=\"\",PTA!AO13=\"X\"),\"X\",IF(PTA!AO13=\"*\",\"*\",VLOOKUP(PTA!AO13,AL_NUM_ARB,2,FALSE)&\" \"&VLOOKUP(PTA!AO13,AL_NUM_ARB,4,FALSE)&\" \"&VLOOKUP(PTA!AO13,AL_NUM_ARB,6,FALSE)))","v":"X"},{"$f":"IF(OR(PTA!AP13=\"\",PTA!AP13=\"X\"),\"X\",IF(PTA!AP13=\"*\",\"*\",VLOOKUP(PTA!AP13,AL_NUM_ARB,2,FALSE)&\" \"&VLOOKUP(PTA!AP13,AL_NUM_ARB,4,FALSE)&\" \"&VLOOKUP(PTA!AP13,AL_NUM_ARB,6,FALSE)))","v":"X"},{"$f":"IF(OR(PTA!AQ13=\"\",PTA!AQ13=\"X\"),\"X\",IF(PTA!AQ13=\"*\",\"*\",VLOOKUP(PTA!AQ13,AL_NUM_ARB,2,FALSE)&\" \"&VLOOKUP(PTA!AQ13,AL_NUM_ARB,4,FALSE)&\" \"&VLOOKUP(PTA!AQ13,AL_NUM_ARB,6,FALSE)))","v":"X"},{"$f":"IF(OR(PTA!AR13=\"\",PTA!AR13=\"X\"),\"X\",IF(PTA!AR13=\"*\",\"*\",VLOOKUP(PTA!AR13,AL_NUM_ARB,2,FALSE)&\" \"&VLOOKUP(PTA!AR13,AL_NUM_ARB,4,FALSE)&\" \"&VLOOKUP(PTA!AR13,AL_NUM_ARB,6,FALSE)))","v":"X"},{"$f":"IF(OR(PTA!AS13=\"\",PTA!AS13=\"X\"),\"X\",IF(PTA!AS13=\"*\",\"*\",VLOOKUP(PTA!AS13,AL_NUM_ARB,2,FALSE)&\" \"&VLOOKUP(PTA!AS13,AL_NUM_ARB,4,FALSE)&\" \"&VLOOKUP(PTA!AS13,AL_NUM_ARB,6,FALSE)))","v":"X"},{"$f":"IF(OR(PTA!AT13=\"\",PTA!AT13=\"X\"),\"X\",IF(PTA!AT13=\"*\",\"*\",VLOOKUP(PTA!AT13,AL_NUM_ARB,2,FALSE)&\" \"&VLOOKUP(PTA!AT13,AL_NUM_ARB,4,FALSE)&\" \"&VLOOKUP(PTA!AT13,AL_NUM_ARB,6,FALSE)))","v":"X"},{"$f":"IF(OR(PTA!AU13=\"\",PTA!AU13=\"X\"),\"X\",IF(PTA!AU13=\"*\",\"*\",VLOOKUP(PTA!AU13,AL_NUM_ARB,2,FALSE)&\" \"&VLOOKUP(PTA!AU13,AL_NUM_ARB,4,FALSE)&\" \"&VLOOKUP(PTA!AU13,AL_NUM_ARB,6,FALSE)))","v":"X"},{"$f":"IF(OR(PTA!AV13=\"\",PTA!AV13=\"X\"),\"X\",IF(PTA!AV13=\"*\",\"*\",VLOOKUP(PTA!AV13,AL_NUM_ARB,2,FALSE)&\" \"&VLOOKUP(PTA!AV13,AL_NUM_ARB,4,FALSE)&\" \"&VLOOKUP(PTA!AV13,AL_NUM_ARB,6,FALSE)))","v":"X"},{"$f":"IF(OR(PTA!AW13=\"\",PTA!AW13=\"X\"),\"X\",IF(PTA!AW13=\"*\",\"*\",VLOOKUP(PTA!AW13,AL_NUM_ARB,2,FALSE)&\" \"&VLOOKUP(PTA!AW13,AL_NUM_ARB,4,FALSE)&\" \"&VLOOKUP(PTA!AW13,AL_NUM_ARB,6,FALSE)))","v":"X"},{"$f":"IF(OR(PTA!AX13=\"\",PTA!AX13=\"X\"),\"X\",IF(PTA!AX13=\"*\",\"*\",VLOOKUP(PTA!AX13,AL_NUM_ARB,2,FALSE)&\" \"&VLOOKUP(PTA!AX13,AL_NUM_ARB,4,FALSE)&\" \"&VLOOKUP(PTA!AX13,AL_NUM_ARB,6,FALSE)))","v":"X"},{"$f":"IF(OR(PTA!AY13=\"\",PTA!AY13=\"X\"),\"X\",IF(PTA!AY13=\"*\",\"*\",VLOOKUP(PTA!AY13,AL_NUM_ARB,2,FALSE)&\" \"&VLOOKUP(PTA!AY13,AL_NUM_ARB,4,FALSE)&\" \"&VLOOKUP(PTA!AY13,AL_NUM_ARB,6,FALSE)))","v":"X"},{"$f":"IF(OR(PTA!AZ13=\"\",PTA!AZ13=\"X\"),\"X\",IF(PTA!AZ13=\"*\",\"*\",VLOOKUP(PTA!AZ13,AL_NUM_ARB,2,FALSE)&\" \"&VLOOKUP(PTA!AZ13,AL_NUM_ARB,4,FALSE)&\" \"&VLOOKUP(PTA!AZ13,AL_NUM_ARB,6,FALSE)))","v":"X"},{"$f":"IF(OR(PTA!BA13=\"\",PTA!BA13=\"X\"),\"X\",IF(PTA!BA13=\"*\",\"*\",VLOOKUP(PTA!BA13,AL_NUM_ARB,2,FALSE)&\" \"&VLOOKUP(PTA!BA13,AL_NUM_ARB,4,FALSE)&\" \"&VLOOKUP(PTA!BA13,AL_NUM_ARB,6,FALSE)))","v":"X"},{"$f":"IF(OR(PTA!BB13=\"\",PTA!BB13=\"X\"),\"X\",IF(PTA!BB13=\"*\",\"*\",VLOOKUP(PTA!BB13,AL_NUM_ARB,2,FALSE)&\" \"&VLOOKUP(PTA!BB13,AL_NUM_ARB,4,FALSE)&\" \"&VLOOKUP(PTA!BB13,AL_NUM_ARB,6,FALSE)))","v":"X"},{"$f":"IF(OR(PTA!BC13=\"\",PTA!BC13=\"X\"),\"X\",IF(PTA!BC13=\"*\",\"*\",VLOOKUP(PTA!BC13,AL_NUM_ARB,2,FALSE)&\" \"&VLOOKUP(PTA!BC13,AL_NUM_ARB,4,FALSE)&\" \"&VLOOKUP(PTA!BC13,AL_NUM_ARB,6,FALSE)))","v":"X"},{"$f":"IF(OR(PTA!BD13=\"\",PTA!BD13=\"X\"),\"X\",IF(PTA!BD13=\"*\",\"*\",VLOOKUP(PTA!BD13,AL_NUM_ARB,2,FALSE)&\" \"&VLOOKUP(PTA!BD13,AL_NUM_ARB,4,FALSE)&\" \"&VLOOKUP(PTA!BD13,AL_NUM_ARB,6,FALSE)))","v":"X"},{"$f":"IF(OR(PTA!BE13=\"\",PTA!BE13=\"X\"),\"X\",IF(PTA!BE13=\"*\",\"*\",VLOOKUP(PTA!BE13,AL_NUM_ARB,2,FALSE)&\" \"&VLOOKUP(PTA!BE13,AL_NUM_ARB,4,FALSE)&\" \"&VLOOKUP(PTA!BE13,AL_NUM_ARB,6,FALSE)))","v":"X"},{"$f":"IF(OR(PTA!BF13=\"\",PTA!BF13=\"X\"),\"X\",IF(PTA!BF13=\"*\",\"*\",VLOOKUP(PTA!BF13,AL_NUM_ARB,2,FALSE)&\" \"&VLOOKUP(PTA!BF13,AL_NUM_ARB,4,FALSE)&\" \"&VLOOKUP(PTA!BF13,AL_NUM_ARB,6,FALSE)))","v":"X"},{"$f":"IF(OR(PTA!BG13=\"\",PTA!BG13=\"X\"),\"X\",IF(PTA!BG13=\"*\",\"*\",VLOOKUP(PTA!BG13,AL_NUM_ARB,2,FALSE)&\" \"&VLOOKUP(PTA!BG13,AL_NUM_ARB,4,FALSE)&\" \"&VLOOKUP(PTA!BG13,AL_NUM_ARB,6,FALSE)))","v":"X"},{"$f":"IF(OR(PTA!BH13=\"\",PTA!BH13=\"X\"),\"X\",IF(PTA!BH13=\"*\",\"*\",VLOOKUP(PTA!BH13,AL_NUM_ARB,2,FALSE)&\" \"&VLOOKUP(PTA!BH13,AL_NUM_ARB,4,FALSE)&\" \"&VLOOKUP(PTA!BH13,AL_NUM_ARB,6,FALSE)))","v":"X"},{"$f":"IF(OR(PTA!BI13=\"\",PTA!BI13=\"X\"),\"X\",IF(PTA!BI13=\"*\",\"*\",VLOOKUP(PTA!BI13,AL_NUM_ARB,2,FALSE)&\" \"&VLOOKUP(PTA!BI13,AL_NUM_ARB,4,FALSE)&\" \"&VLOOKUP(PTA!BI13,AL_NUM_ARB,6,FALSE)))","v":"X"},{"$f":"IF(OR(PTA!BJ13=\"\",PTA!BJ13=\"X\"),\"X\",IF(PTA!BJ13=\"*\",\"*\",VLOOKUP(PTA!BJ13,AL_NUM_ARB,2,FALSE)&\" \"&VLOOKUP(PTA!BJ13,AL_NUM_ARB,4,FALSE)&\" \"&VLOOKUP(PTA!BJ13,AL_NUM_ARB,6,FALSE)))","v":"X"},{"$f":"IF(OR(PTA!BK13=\"\",PTA!BK13=\"X\"),\"X\",IF(PTA!BK13=\"*\",\"*\",VLOOKUP(PTA!BK13,AL_NUM_ARB,2,FALSE)&\" \"&VLOOKUP(PTA!BK13,AL_NUM_ARB,4,FALSE)&\" \"&VLOOKUP(PTA!BK13,AL_NUM_ARB,6,FALSE)))","v":"X"},{"$f":"IF(OR(PTA!BL13=\"\",PTA!BL13=\"X\"),\"X\",IF(PTA!BL13=\"*\",\"*\",VLOOKUP(PTA!BL13,AL_NUM_ARB,2,FALSE)&\" \"&VLOOKUP(PTA!BL13,AL_NUM_ARB,4,FALSE)&\" \"&VLOOKUP(PTA!BL13,AL_NUM_ARB,6,FALSE)))","v":"X"},{"$f":"IF(OR(PTA!BM13=\"\",PTA!BM13=\"X\"),\"X\",IF(PTA!BM13=\"*\",\"*\",VLOOKUP(PTA!BM13,AL_NUM_ARB,2,FALSE)&\" \"&VLOOKUP(PTA!BM13,AL_NUM_ARB,4,FALSE)&\" \"&VLOOKUP(PTA!BM13,AL_NUM_ARB,6,FALSE)))","v":"X"},{"$f":"IF(OR(PTA!BN13=\"\",PTA!BN13=\"X\"),\"X\",IF(PTA!BN13=\"*\",\"*\",VLOOKUP(PTA!BN13,AL_NUM_ARB,2,FALSE)&\" \"&VLOOKUP(PTA!BN13,AL_NUM_ARB,4,FALSE)&\" \"&VLOOKUP(PTA!BN13,AL_NUM_ARB,6,FALSE)))","v":"X"},{"$f":"IF(OR(PTA!BO13=\"\",PTA!BO13=\"X\"),\"X\",IF(PTA!BO13=\"*\",\"*\",VLOOKUP(PTA!BO13,AL_NUM_ARB,2,FALSE)&\" \"&VLOOKUP(PTA!BO13,AL_NUM_ARB,4,FALSE)&\" \"&VLOOKUP(PTA!BO13,AL_NUM_ARB,6,FALSE)))","v":"X"},{"$f":"IF(OR(PTA!BP13=\"\",PTA!BP13=\"X\"),\"X\",IF(PTA!BP13=\"*\",\"*\",VLOOKUP(PTA!BP13,AL_NUM_ARB,2,FALSE)&\" \"&VLOOKUP(PTA!BP13,AL_NUM_ARB,4,FALSE)&\" \"&VLOOKUP(PTA!BP13,AL_NUM_ARB,6,FALSE)))","v":"X"},{"$f":"IF(OR(PTA!BQ13=\"\",PTA!BQ13=\"X\"),\"X\",IF(PTA!BQ13=\"*\",\"*\",VLOOKUP(PTA!BQ13,AL_NUM_ARB,2,FALSE)&\" \"&VLOOKUP(PTA!BQ13,AL_NUM_ARB,4,FALSE)&\" \"&VLOOKUP(PTA!BQ13,AL_NUM_ARB,6,FALSE)))","v":"X"},{"$f":"IF(OR(PTA!BR13=\"\",PTA!BR13=\"X\"),\"X\",IF(PTA!BR13=\"*\",\"*\",VLOOKUP(PTA!BR13,AL_NUM_ARB,2,FALSE)&\" \"&VLOOKUP(PTA!BR13,AL_NUM_ARB,4,FALSE)&\" \"&VLOOKUP(PTA!BR13,AL_NUM_ARB,6,FALSE)))","v":"X"},{"$f":"IF(OR(PTA!BT13=\"\",PTA!BT13=\"X\"),\"X\",VLOOKUP(PTA!BT13,AL_NUM_ARB,2,FALSE)&\" \"&VLOOKUP(PTA!BT13,AL_NUM_ARB,4,FALSE)&\" \"&VLOOKUP(PTA!BT13,AL_NUM_ARB,6,FALSE))","v":"X"},{"$f":"IF(OR(PTA!BU13=\"\",PTA!BU13=\"X\"),\"X\",VLOOKUP(PTA!BU13,AL_NUM_ARB,2,FALSE)&\" \"&VLOOKUP(PTA!BU13,AL_NUM_ARB,4,FALSE)&\" \"&VLOOKUP(PTA!BU13,AL_NUM_ARB,6,FALSE))","v":"X"},{"$f":"IF(OR(PTA!BV13=\"\",PTA!BV13=\"X\"),\"X\",VLOOKUP(PTA!BV13,AL_NUM_ARB,2,FALSE)&\" \"&VLOOKUP(PTA!BV13,AL_NUM_ARB,4,FALSE)&\" \"&VLOOKUP(PTA!BV13,AL_NUM_ARB,6,FALSE))","v":"X"},{"$f":"IF(OR(PTA!BW13=\"\",PTA!BW13=\"X\"),\"X\",VLOOKUP(PTA!BW13,AL_NUM_ARB,2,FALSE)&\" \"&VLOOKUP(PTA!BW13,AL_NUM_ARB,4,FALSE)&\" \"&VLOOKUP(PTA!BW13,AL_NUM_ARB,6,FALSE))","v":"X"},"02:30:00"]
[{"$f":"PTA!A14","v":""},{"$f":"PTA!B14","v":"00:00:00"},{"$f":"PTA!C14","v":32},{"$f":"PTA!D14","v":0},{"$f":"IF(OR(PTA!E14=\"\",PTA!E14=\"X\"),\"X\",IF(PTA!E14=\"*\",\"*\",VLOOKUP(PTA!E14,AL_NUM_ARB,2,FALSE)&\" \"&VLOOKUP(PTA!E14,AL_NUM_ARB,4,FALSE)&\" \"&VLOOKUP(PTA!E14,AL_NUM_ARB,6,FALSE)))","v":"X"},{"$f":"IF(OR(PTA!F14=\"\",PTA!F14=\"X\"),\"X\",IF(PTA!F14=\"*\",\"*\",VLOOKUP(PTA!F14,AL_NUM_ARB,2,FALSE)&\" \"&VLOOKUP(PTA!F14,AL_NUM_ARB,4,FALSE)&\" \"&VLOOKUP(PTA!F14,AL_NUM_ARB,6,FALSE)))","v":"X"},{"$f":"IF(OR(PTA!G14=\"\",PTA!G14=\"X\"),\"X\",IF(PTA!G14=\"*\",\"*\",VLOOKUP(PTA!G14,AL_NUM_ARB,2,FALSE)&\" \"&VLOOKUP(PTA!G14,AL_NUM_ARB,4,FALSE)&\" \"&VLOOKUP(PTA!G14,AL_NUM_ARB,6,FALSE)))","v":"X"},{"$f":"IF(OR(PTA!H14=\"\",PTA!H14=\"X\"),\"X\",IF(PTA!H14=\"*\",\"*\",VLOOKUP(PTA!H14,AL_NUM_ARB,2,FALSE)&\" \"&VLOOKUP(PTA!H14,AL_NUM_ARB,4,FALSE)&\" \"&VLOOKUP(PTA!H14,AL_NUM_ARB,6,FALSE)))","v":"X"},{"$f":"IF(OR(PTA!I14=\"\",PTA!I14=\"X\"),\"X\",IF(PTA!I14=\"*\",\"*\",VLOOKUP(PTA!I14,AL_NUM_ARB,2,FALSE)&\" \"&VLOOKUP(PTA!I14,AL_NUM_ARB,4,FALSE)&\" \"&VLOOKUP(PTA!I14,AL_NUM_ARB,6,FALSE)))","v":"X"},{"$f":"IF(OR(PTA!J14=\"\",PTA!J14=\"X\"),\"X\",IF(PTA!J14=\"*\",\"*\",VLOOKUP(PTA!J14,AL_NUM_ARB,2,FALSE)&\" \"&VLOOKUP(PTA!J14,AL_NUM_ARB,4,FALSE)&\" \"&VLOOKUP(PTA!J14,AL_NUM_ARB,6,FALSE)))","v":"X"},{"$f":"IF(OR(PTA!K14=\"\",PTA!K14=\"X\"),\"X\",IF(PTA!K14=\"*\",\"*\",VLOOKUP(PTA!K14,AL_NUM_ARB,2,FALSE)&\" \"&VLOOKUP(PTA!K14,AL_NUM_ARB,4,FALSE)&\" \"&VLOOKUP(PTA!K14,AL_NUM_ARB,6,FALSE)))","v":"X"},{"$f":"IF(OR(PTA!L14=\"\",PTA!L14=\"X\"),\"X\",IF(PTA!L14=\"*\",\"*\",VLOOKUP(PTA!L14,AL_NUM_ARB,2,FALSE)&\" \"&VLOOKUP(PTA!L14,AL_NUM_ARB,4,FALSE)&\" \"&VLOOKUP(PTA!L14,AL_NUM_ARB,6,FALSE)))","v":"X"},{"$f":"IF(OR(PTA!M14=\"\",PTA!M14=\"X\"),\"X\",IF(PTA!M14=\"*\",\"*\",VLOOKUP(PTA!M14,AL_NUM_ARB,2,FALSE)&\" \"&VLOOKUP(PTA!M14,AL_NUM_ARB,4,FALSE)&\" \"&VLOOKUP(PTA!M14,AL_NUM_ARB,6,FALSE)))","v":"X"},{"$f":"IF(OR(PTA!N14=\"\",PTA!N14=\"X\"),\"X\",IF(PTA!N14=\"*\",\"*\",VLOOKUP(PTA!N14,AL_NUM_ARB,2,FALSE)&\" \"&VLOOKUP(PTA!N14,AL_NUM_ARB,4,FALSE)&\" \"&VLOOKUP(PTA!N14,AL_NUM_ARB,6,FALSE)))","v":"X"},{"$f":"IF(OR(PTA!O14=\"\",PTA!O14=\"X\"),\"X\",IF(PTA!O14=\"*\",\"*\",VLOOKUP(PTA!O14,AL_NUM_ARB,2,FALSE)&\" \"&VLOOKUP(PTA!O14,AL_NUM_ARB,4,FALSE)&\" \"&VLOOKUP(PTA!O14,AL_NUM_ARB,6,FALSE)))","v":"X"},{"$f":"IF(OR(PTA!P14=\"\",PTA!P14=\"X\"),\"X\",IF(PTA!P14=\"*\",\"*\",VLOOKUP(PTA!P14,AL_NUM_ARB,2,FALSE)&\" \"&VLOOKUP(PTA!P14,AL_NUM_ARB,4,FALSE)&\" \"&VLOOKUP(PTA!P14,AL_NUM_ARB,6,FALSE)))","v":"X"},{"$f":"IF(OR(PTA!Q14=\"\",PTA!Q14=\"X\"),\"X\",IF(PTA!Q14=\"*\",\"*\",VLOOKUP(PTA!Q14,AL_NUM_ARB,2,FALSE)&\" \"&VLOOKUP(PTA!Q14,AL_NUM_ARB,4,FALSE)&\" \"&VLOOKUP(PTA!Q14,AL_NUM_ARB,6,FALSE)))","v":"X"},{"$f":"IF(OR(PTA!R14=\"\",PTA!R14=\"X\"),\"X\",IF(PTA!R14=\"*\",\"*\",VLOOKUP(PTA!R14,AL_NUM_ARB,2,FALSE)&\" \"&VLOOKUP(PTA!R14,AL_NUM_ARB,4,FALSE)&\" \"&VLOOKUP(PTA!R14,AL_NUM_ARB,6,FALSE)))","v":"X"},{"$f":"IF(OR(PTA!S14=\"\",PTA!S14=\"X\"),\"X\",IF(PTA!S14=\"*\",\"*\",VLOOKUP(PTA!S14,AL_NUM_ARB,2,FALSE)&\" \"&VLOOKUP(PTA!S14,AL_NUM_ARB,4,FALSE)&\" \"&VLOOKUP(PTA!S14,AL_NUM_ARB,6,FALSE)))","v":"X"},{"$f":"IF(OR(PTA!T14=\"\",PTA!T14=\"X\"),\"X\",IF(PTA!T14=\"*\",\"*\",VLOOKUP(PTA!T14,AL_NUM_ARB,2,FALSE)&\" \"&VLOOKUP(PTA!T14,AL_NUM_ARB,4,FALSE)&\" \"&VLOOKUP(PTA!T14,AL_NUM_ARB,6,FALSE)))","v":"X"},{"$f":"IF(OR(PTA!U14=\"\",PTA!U14=\"X\"),\"X\",IF(PTA!U14=\"*\",\"*\",VLOOKUP(PTA!U14,AL_NUM_ARB,2,FALSE)&\" \"&VLOOKUP(PTA!U14,AL_NUM_ARB,4,FALSE)&\" \"&VLOOKUP(PTA!U14,AL_NUM_ARB,6,FALSE)))","v":"X"},{"$f":"IF(OR(PTA!V14=\"\",PTA!V14=\"X\"),\"X\",IF(PTA!V14=\"*\",\"*\",VLOOKUP(PTA!V14,AL_NUM_ARB,2,FALSE)&\" \"&VLOOKUP(PTA!V14,AL_NUM_ARB,4,FALSE)&\" \"&VLOOKUP(PTA!V14,AL_NUM_ARB,6,FALSE)))","v":"X"},{"$f":"IF(OR(PTA!W14=\"\",PTA!W14=\"X\"),\"X\",IF(PTA!W14=\"*\",\"*\",VLOOKUP(PTA!W14,AL_NUM_ARB,2,FALSE)&\" \"&VLOOKUP(PTA!W14,AL_NUM_ARB,4,FALSE)&\" \"&VLOOKUP(PTA!W14,AL_NUM_ARB,6,FALSE)))","v":"X"},{"$f":"IF(OR(PTA!X14=\"\",PTA!X14=\"X\"),\"X\",IF(PTA!X14=\"*\",\"*\",VLOOKUP(PTA!X14,AL_NUM_ARB,2,FALSE)&\" \"&VLOOKUP(PTA!X14,AL_NUM_ARB,4,FALSE)&\" \"&VLOOKUP(PTA!X14,AL_NUM_ARB,6,FALSE)))","v":"X"},{"$f":"IF(OR(PTA!Y14=\"\",PTA!Y14=\"X\"),\"X\",IF(PTA!Y14=\"*\",\"*\",VLOOKUP(PTA!Y14,AL_NUM_ARB,2,FALSE)&\" \"&VLOOKUP(PTA!Y14,AL_NUM_ARB,4,FALSE)&\" \"&VLOOKUP(PTA!Y14,AL_NUM_ARB,6,FALSE)))","v":"X"},{"$f":"IF(OR(PTA!Z14=\"\",PTA!Z14=\"X\"),\"X\",IF(PTA!Z14=\"*\",\"*\",VLOOKUP(PTA!Z14,AL_NUM_ARB,2,FALSE)&\" \"&VLOOKUP(PTA!Z14,AL_NUM_ARB,4,FALSE)&\" \"&VLOOKUP(PTA!Z14,AL_NUM_ARB,6,FALSE)))","v":"X"},{"$f":"IF(OR(PTA!AA14=\"\",PTA!AA14=\"X\"),\"X\",IF(PTA!AA14=\"*\",\"*\",VLOOKUP(PTA!AA14,AL_NUM_ARB,2,FALSE)&\" \"&VLOOKUP(PTA!AA14,AL_NUM_ARB,4,FALSE)&\" \"&VLOOKUP(PTA!AA14,AL_NUM_ARB,6,FALSE)))","v":"X"},{"$f":"IF(OR(PTA!AB14=\"\",PTA!AB14=\"X\"),\"X\",IF(PTA!AB14=\"*\",\"*\",VLOOKUP(PTA!AB14,AL_NUM_ARB,2,FALSE)&\" \"&VLOOKUP(PTA!AB14,AL_NUM_ARB,4,FALSE)&\" \"&VLOOKUP(PTA!AB14,AL_NUM_ARB,6,FALSE)))","v":"X"},{"$f":"IF(OR(PTA!AC14=\"\",PTA!AC14=\"X\"),\"X\",IF(PTA!AC14=\"*\",\"*\",VLOOKUP(PTA!AC14,AL_NUM_ARB,2,FALSE)&\" \"&VLOOKUP(PTA!AC14,AL_NUM_ARB,4,FALSE)&\" \"&VLOOKUP(PTA!AC14,AL_NUM_ARB,6,FALSE)))","v":"X"},{"$f":"IF(OR(PTA!AD14=\"\",PTA!AD14=\"X\"),\"X\",IF(PTA!AD14=\"*\",\"*\",VLOOKUP(PTA!AD14,AL_NUM_ARB,2,FALSE)&\" \"&VLOOKUP(PTA!AD14,AL_NUM_ARB,4,FALSE)&\" \"&VLOOKUP(PTA!AD14,AL_NUM_ARB,6,FALSE)))","v":"X"},{"$f":"IF(OR(PTA!AE14=\"\",PTA!AE14=\"X\"),\"X\",IF(PTA!AE14=\"*\",\"*\",VLOOKUP(PTA!AE14,AL_NUM_ARB,2,FALSE)&\" \"&VLOOKUP(PTA!AE14,AL_NUM_ARB,4,FALSE)&\" \"&VLOOKUP(PTA!AE14,AL_NUM_ARB,6,FALSE)))","v":"X"},{"$f":"IF(OR(PTA!AF14=\"\",PTA!AF14=\"X\"),\"X\",IF(PTA!AF14=\"*\",\"*\",VLOOKUP(PTA!AF14,AL_NUM_ARB,2,FALSE)&\" \"&VLOOKUP(PTA!AF14,AL_NUM_ARB,4,FALSE)&\" \"&VLOOKUP(PTA!AF14,AL_NUM_ARB,6,FALSE)))","v":"X"},{"$f":"IF(OR(PTA!AG14=\"\",PTA!AG14=\"X\"),\"X\",IF(PTA!AG14=\"*\",\"*\",VLOOKUP(PTA!AG14,AL_NUM_ARB,2,FALSE)&\" \"&VLOOKUP(PTA!AG14,AL_NUM_ARB,4,FALSE)&\" \"&VLOOKUP(PTA!AG14,AL_NUM_ARB,6,FALSE)))","v":"X"},{"$f":"IF(OR(PTA!AH14=\"\",PTA!AH14=\"X\"),\"X\",IF(PTA!AH14=\"*\",\"*\",VLOOKUP(PTA!AH14,AL_NUM_ARB,2,FALSE)&\" \"&VLOOKUP(PTA!AH14,AL_NUM_ARB,4,FALSE)&\" \"&VLOOKUP(PTA!AH14,AL_NUM_ARB,6,FALSE)))","v":"X"},{"$f":"IF(OR(PTA!AI14=\"\",PTA!AI14=\"X\"),\"X\",IF(PTA!AI14=\"*\",\"*\",VLOOKUP(PTA!AI14,AL_NUM_ARB,2,FALSE)&\" \"&VLOOKUP(PTA!AI14,AL_NUM_ARB,4,FALSE)&\" \"&VLOOKUP(PTA!AI14,AL_NUM_ARB,6,FALSE)))","v":"X"},{"$f":"IF(OR(PTA!AJ14=\"\",PTA!AJ14=\"X\"),\"X\",IF(PTA!AJ14=\"*\",\"*\",VLOOKUP(PTA!AJ14,AL_NUM_ARB,2,FALSE)&\" \"&VLOOKUP(PTA!AJ14,AL_NUM_ARB,4,FALSE)&\" \"&VLOOKUP(PTA!AJ14,AL_NUM_ARB,6,FALSE)))","v":"X"},{"$f":"IF(OR(PTA!AK14=\"\",PTA!AK14=\"X\"),\"X\",IF(PTA!AK14=\"*\",\"*\",VLOOKUP(PTA!AK14,AL_NUM_ARB,2,FALSE)&\" \"&VLOOKUP(PTA!AK14,AL_NUM_ARB,4,FALSE)&\" \"&VLOOKUP(PTA!AK14,AL_NUM_ARB,6,FALSE)))","v":"X"},{"$f":"IF(OR(PTA!AL14=\"\",PTA!AL14=\"X\"),\"X\",IF(PTA!AL14=\"*\",\"*\",VLOOKUP(PTA!AL14,AL_NUM_ARB,2,FALSE)&\" \"&VLOOKUP(PTA!AL14,AL_NUM_ARB,4,FALSE)&\" \"&VLOOKUP(PTA!AL14,AL_NUM_ARB,6,FALSE)))","v":"X"},{"$f":"IF(OR(PTA!AM14=\"\",PTA!AM14=\"X\"),\"X\",IF(PTA!AM14=\"*\",\"*\",VLOOKUP(PTA!AM14,AL_NUM_ARB,2,FALSE)&\" \"&VLOOKUP(PTA!AM14,AL_NUM_ARB,4,FALSE)&\" \"&VLOOKUP(PTA!AM14,AL_NUM_ARB,6,FALSE)))","v":"X"},{"$f":"IF(OR(PTA!AN14=\"\",PTA!AN14=\"X\"),\"X\",IF(PTA!AN14=\"*\",\"*\",VLOOKUP(PTA!AN14,AL_NUM_ARB,2,FALSE)&\" \"&VLOOKUP(PTA!AN14,AL_NUM_ARB,4,FALSE)&\" \"&VLOOKUP(PTA!AN14,AL_NUM_ARB,6,FALSE)))","v":"X"},{"$f":"IF(OR(PTA!AO14=\"\",PTA!AO14=\"X\"),\"X\",IF(PTA!AO14=\"*\",\"*\",VLOOKUP(PTA!AO14,AL_NUM_ARB,2,FALSE)&\" \"&VLOOKUP(PTA!AO14,AL_NUM_ARB,4,FALSE)&\" \"&VLOOKUP(PTA!AO14,AL_NUM_ARB,6,FALSE)))","v":"X"},{"$f":"IF(OR(PTA!AP14=\"\",PTA!AP14=\"X\"),\"X\",IF(PTA!AP14=\"*\",\"*\",VLOOKUP(PTA!AP14,AL_NUM_ARB,2,FALSE)&\" \"&VLOOKUP(PTA!AP14,AL_NUM_ARB,4,FALSE)&\" \"&VLOOKUP(PTA!AP14,AL_NUM_ARB,6,FALSE)))","v":"X"},{"$f":"IF(OR(PTA!AQ14=\"\",PTA!AQ14=\"X\"),\"X\",IF(PTA!AQ14=\"*\",\"*\",VLOOKUP(PTA!AQ14,AL_NUM_ARB,2,FALSE)&\" \"&VLOOKUP(PTA!AQ14,AL_NUM_ARB,4,FALSE)&\" \"&VLOOKUP(PTA!AQ14,AL_NUM_ARB,6,FALSE)))","v":"X"},{"$f":"IF(OR(PTA!AR14=\"\",PTA!AR14=\"X\"),\"X\",IF(PTA!AR14=\"*\",\"*\",VLOOKUP(PTA!AR14,AL_NUM_ARB,2,FALSE)&\" \"&VLOOKUP(PTA!AR14,AL_NUM_ARB,4,FALSE)&\" \"&VLOOKUP(PTA!AR14,AL_NUM_ARB,6,FALSE)))","v":"X"},{"$f":"IF(OR(PTA!AS14=\"\",PTA!AS14=\"X\"),\"X\",IF(PTA!AS14=\"*\",\"*\",VLOOKUP(PTA!AS14,AL_NUM_ARB,2,FALSE)&\" \"&VLOOKUP(PTA!AS14,AL_NUM_ARB,4,FALSE)&\" \"&VLOOKUP(PTA!AS14,AL_NUM_ARB,6,FALSE)))","v":"X"},{"$f":"IF(OR(PTA!AT14=\"\",PTA!AT14=\"X\"),\"X\",IF(PTA!AT14=\"*\",\"*\",VLOOKUP(PTA!AT14,AL_NUM_ARB,2,FALSE)&\" \"&VLOOKUP(PTA!AT14,AL_NUM_ARB,4,FALSE)&\" \"&VLOOKUP(PTA!AT14,AL_NUM_ARB,6,FALSE)))","v":"X"},{"$f":"IF(OR(PTA!AU14=\"\",PTA!AU14=\"X\"),\"X\",IF(PTA!AU14=\"*\",\"*\",VLOOKUP(PTA!AU14,AL_NUM_ARB,2,FALSE)&\" \"&VLOOKUP(PTA!AU14,AL_NUM_ARB,4,FALSE)&\" \"&VLOOKUP(PTA!AU14,AL_NUM_ARB,6,FALSE)))","v":"X"},{"$f":"IF(OR(PTA!AV14=\"\",PTA!AV14=\"X\"),\"X\",IF(PTA!AV14=\"*\",\"*\",VLOOKUP(PTA!AV14,AL_NUM_ARB,2,FALSE)&\" \"&VLOOKUP(PTA!AV14,AL_NUM_ARB,4,FALSE)&\" \"&VLOOKUP(PTA!AV14,AL_NUM_ARB,6,FALSE)))","v":"X"},{"$f":"IF(OR(PTA!AW14=\"\",PTA!AW14=\"X\"),\"X\",IF(PTA!AW14=\"*\",\"*\",VLOOKUP(PTA!AW14,AL_NUM_ARB,2,FALSE)&\" \"&VLOOKUP(PTA!AW14,AL_NUM_ARB,4,FALSE)&\" \"&VLOOKUP(PTA!AW14,AL_NUM_ARB,6,FALSE)))","v":"X"},{"$f":"IF(OR(PTA!AX14=\"\",PTA!AX14=\"X\"),\"X\",IF(PTA!AX14=\"*\",\"*\",VLOOKUP(PTA!AX14,AL_NUM_ARB,2,FALSE)&\" \"&VLOOKUP(PTA!AX14,AL_NUM_ARB,4,FALSE)&\" \"&VLOOKUP(PTA!AX14,AL_NUM_ARB,6,FALSE)))","v":"X"},{"$f":"IF(OR(PTA!AY14=\"\",PTA!AY14=\"X\"),\"X\",IF(PTA!AY14=\"*\",\"*\",VLOOKUP(PTA!AY14,AL_NUM_ARB,2,FALSE)&\" \"&VLOOKUP(PTA!AY14,AL_NUM_ARB,4,FALSE)&\" \"&VLOOKUP(PTA!AY14,AL_NUM_ARB,6,FALSE)))","v":"X"},{"$f":"IF(OR(PTA!AZ14=\"\",PTA!AZ14=\"X\"),\"X\",IF(PTA!AZ14=\"*\",\"*\",VLOOKUP(PTA!AZ14,AL_NUM_ARB,2,FALSE)&\" \"&VLOOKUP(PTA!AZ14,AL_NUM_ARB,4,FALSE)&\" \"&VLOOKUP(PTA!AZ14,AL_NUM_ARB,6,FALSE)))","v":"X"},{"$f":"IF(OR(PTA!BA14=\"\",PTA!BA14=\"X\"),\"X\",IF(PTA!BA14=\"*\",\"*\",VLOOKUP(PTA!BA14,AL_NUM_ARB,2,FALSE)&\" \"&VLOOKUP(PTA!BA14,AL_NUM_ARB,4,FALSE)&\" \"&VLOOKUP(PTA!BA14,AL_NUM_ARB,6,FALSE)))","v":"X"},{"$f":"IF(OR(PTA!BB14=\"\",PTA!BB14=\"X\"),\"X\",IF(PTA!BB14=\"*\",\"*\",VLOOKUP(PTA!BB14,AL_NUM_ARB,2,FALSE)&\" \"&VLOOKUP(PTA!BB14,AL_NUM_ARB,4,FALSE)&\" \"&VLOOKUP(PTA!BB14,AL_NUM_ARB,6,FALSE)))","v":"X"},{"$f":"IF(OR(PTA!BC14=\"\",PTA!BC14=\"X\"),\"X\",IF(PTA!BC14=\"*\",\"*\",VLOOKUP(PTA!BC14,AL_NUM_ARB,2,FALSE)&\" \"&VLOOKUP(PTA!BC14,AL_NUM_ARB,4,FALSE)&\" \"&VLOOKUP(PTA!BC14,AL_NUM_ARB,6,FALSE)))","v":"X"},{"$f":"IF(OR(PTA!BD14=\"\",PTA!BD14=\"X\"),\"X\",IF(PTA!BD14=\"*\",\"*\",VLOOKUP(PTA!BD14,AL_NUM_ARB,2,FALSE)&\" \"&VLOOKUP(PTA!BD14,AL_NUM_ARB,4,FALSE)&\" \"&VLOOKUP(PTA!BD14,AL_NUM_ARB,6,FALSE)))","v":"X"},{"$f":"IF(OR(PTA!BE14=\"\",PTA!BE14=\"X\"),\"X\",IF(PTA!BE14=\"*\",\"*\",VLOOKUP(PTA!BE14,AL_NUM_ARB,2,FALSE)&\" \"&VLOOKUP(PTA!BE14,AL_NUM_ARB,4,FALSE)&\" \"&VLOOKUP(PTA!BE14,AL_NUM_ARB,6,FALSE)))","v":"X"},{"$f":"IF(OR(PTA!BF14=\"\",PTA!BF14=\"X\"),\"X\",IF(PTA!BF14=\"*\",\"*\",VLOOKUP(PTA!BF14,AL_NUM_ARB,2,FALSE)&\" \"&VLOOKUP(PTA!BF14,AL_NUM_ARB,4,FALSE)&\" \"&VLOOKUP(PTA!BF14,AL_NUM_ARB,6,FALSE)))","v":"X"},{"$f":"IF(OR(PTA!BG14=\"\",PTA!BG14=\"X\"),\"X\",IF(PTA!BG14=\"*\",\"*\",VLOOKUP(PTA!BG14,AL_NUM_ARB,2,FALSE)&\" \"&VLOOKUP(PTA!BG14,AL_NUM_ARB,4,FALSE)&\" \"&VLOOKUP(PTA!BG14,AL_NUM_ARB,6,FALSE)))","v":"X"},{"$f":"IF(OR(PTA!BH14=\"\",PTA!BH14=\"X\"),\"X\",IF(PTA!BH14=\"*\",\"*\",VLOOKUP(PTA!BH14,AL_NUM_ARB,2,FALSE)&\" \"&VLOOKUP(PTA!BH14,AL_NUM_ARB,4,FALSE)&\" \"&VLOOKUP(PTA!BH14,AL_NUM_ARB,6,FALSE)))","v":"X"},{"$f":"IF(OR(PTA!BI14=\"\",PTA!BI14=\"X\"),\"X\",IF(PTA!BI14=\"*\",\"*\",VLOOKUP(PTA!BI14,AL_NUM_ARB,2,FALSE)&\" \"&VLOOKUP(PTA!BI14,AL_NUM_ARB,4,FALSE)&\" \"&VLOOKUP(PTA!BI14,AL_NUM_ARB,6,FALSE)))","v":"X"},{"$f":"IF(OR(PTA!BJ14=\"\",PTA!BJ14=\"X\"),\"X\",IF(PTA!BJ14=\"*\",\"*\",VLOOKUP(PTA!BJ14,AL_NUM_ARB,2,FALSE)&\" \"&VLOOKUP(PTA!BJ14,AL_NUM_ARB,4,FALSE)&\" \"&VLOOKUP(PTA!BJ14,AL_NUM_ARB,6,FALSE)))","v":"X"},{"$f":"IF(OR(PTA!BK14=\"\",PTA!BK14=\"X\"),\"X\",IF(PTA!BK14=\"*\",\"*\",VLOOKUP(PTA!BK14,AL_NUM_ARB,2,FALSE)&\" \"&VLOOKUP(PTA!BK14,AL_NUM_ARB,4,FALSE)&\" \"&VLOOKUP(PTA!BK14,AL_NUM_ARB,6,FALSE)))","v":"X"},{"$f":"IF(OR(PTA!BL14=\"\",PTA!BL14=\"X\"),\"X\",IF(PTA!BL14=\"*\",\"*\",VLOOKUP(PTA!BL14,AL_NUM_ARB,2,FALSE)&\" \"&VLOOKUP(PTA!BL14,AL_NUM_ARB,4,FALSE)&\" \"&VLOOKUP(PTA!BL14,AL_NUM_ARB,6,FALSE)))","v":"X"},{"$f":"IF(OR(PTA!BM14=\"\",PTA!BM14=\"X\"),\"X\",IF(PTA!BM14=\"*\",\"*\",VLOOKUP(PTA!BM14,AL_NUM_ARB,2,FALSE)&\" \"&VLOOKUP(PTA!BM14,AL_NUM_ARB,4,FALSE)&\" \"&VLOOKUP(PTA!BM14,AL_NUM_ARB,6,FALSE)))","v":"X"},{"$f":"IF(OR(PTA!BN14=\"\",PTA!BN14=\"X\"),\"X\",IF(PTA!BN14=\"*\",\"*\",VLOOKUP(PTA!BN14,AL_NUM_ARB,2,FALSE)&\" \"&VLOOKUP(PTA!BN14,AL_NUM_ARB,4,FALSE)&\" \"&VLOOKUP(PTA!BN14,AL_NUM_ARB,6,FALSE)))","v":"X"},{"$f":"IF(OR(PTA!BO14=\"\",PTA!BO14=\"X\"),\"X\",IF(PTA!BO14=\"*\",\"*\",VLOOKUP(PTA!BO14,AL_NUM_ARB,2,FALSE)&\" \"&VLOOKUP(PTA!BO14,AL_NUM_ARB,4,FALSE)&\" \"&VLOOKUP(PTA!BO14,AL_NUM_ARB,6,FALSE)))","v":"X"},{"$f":"IF(OR(PTA!BP14=\"\",PTA!BP14=\"X\"),\"X\",IF(PTA!BP14=\"*\",\"*\",VLOOKUP(PTA!BP14,AL_NUM_ARB,2,FALSE)&\" \"&VLOOKUP(PTA!BP14,AL_NUM_ARB,4,FALSE)&\" \"&VLOOKUP(PTA!BP14,AL_NUM_ARB,6,FALSE)))","v":"X"},{"$f":"IF(OR(PTA!BQ14=\"\",PTA!BQ14=\"X\"),\"X\",IF(PTA!BQ14=\"*\",\"*\",VLOOKUP(PTA!BQ14,AL_NUM_ARB,2,FALSE)&\" \"&VLOOKUP(PTA!BQ14,AL_NUM_ARB,4,FALSE)&\" \"&VLOOKUP(PTA!BQ14,AL_NUM_ARB,6,FALSE)))","v":"X"},{"$f":"IF(OR(PTA!BR14=\"\",PTA!BR14=\"X\"),\"X\",IF(PTA!BR14=\"*\",\"*\",VLOOKUP(PTA!BR14,AL_NUM_ARB,2,FALSE)&\" \"&VLOOKUP(PTA!BR14,AL_NUM_ARB,4,FALSE)&\" \"&VLOOKUP(PTA!BR14,AL_NUM_ARB,6,FALSE)))","v":"X"},{"$f":"IF(OR(PTA!BT14=\"\",PTA!BT14=\"X\"),\"X\",VLOOKUP(PTA!BT14,AL_NUM_ARB,2,FALSE)&\" \"&VLOOKUP(PTA!BT14,AL_NUM_ARB,4,FALSE)&\" \"&VLOOKUP(PTA!BT14,AL_NUM_ARB,6,FALSE))","v":"X"},{"$f":"IF(OR(PTA!BU14=\"\",PTA!BU14=\"X\"),\"X\",VLOOKUP(PTA!BU14,AL_NUM_ARB,2,FALSE)&\" \"&VLOOKUP(PTA!BU14,AL_NUM_ARB,4,FALSE)&\" \"&VLOOKUP(PTA!BU14,AL_NUM_ARB,6,FALSE))","v":"X"},{"$f":"IF(OR(PTA!BV14=\"\",PTA!BV14=\"X\"),\"X\",VLOOKUP(PTA!BV14,AL_NUM_ARB,2,FALSE)&\" \"&VLOOKUP(PTA!BV14,AL_NUM_ARB,4,FALSE)&\" \"&VLOOKUP(PTA!BV14,AL_NUM_ARB,6,FALSE))","v":"X"},{"$f":"IF(OR(PTA!BW14=\"\",PTA!BW14=\"X\"),\"X\",VLOOKUP(PTA!BW14,AL_NUM_ARB,2,FALSE)&\" \"&VLOOKUP(PTA!BW14,AL_NUM_ARB,4,FALSE)&\" \"&VLOOKUP(PTA!BW14,AL_NUM_ARB,6,FALSE))","v":"X"},"03:00:00"]
[{"$f":"PTA!A15","v":""},{"$f":"PTA!B15","v":"00:00:00"},{"$f":"PTA!C15","v":32},{"$f":"PTA!D15","v":0},{"$f":"IF(OR(PTA!E15=\"\",PTA!E15=\"X\"),\"X\",IF(PTA!E15=\"*\",\"*\",VLOOKUP(PTA!E15,AL_NUM_ARB,2,FALSE)&\" \"&VLOOKUP(PTA!E15,AL_NUM_ARB,4,FALSE)&\" \"&VLOOKUP(PTA!E15,AL_NUM_ARB,6,FALSE)))","v":"X"},{"$f":"IF(OR(PTA!F15=\"\",PTA!F15=\"X\"),\"X\",IF(PTA!F15=\"*\",\"*\",VLOOKUP(PTA!F15,AL_NUM_ARB,2,FALSE)&\" \"&VLOOKUP(PTA!F15,AL_NUM_ARB,4,FALSE)&\" \"&VLOOKUP(PTA!F15,AL_NUM_ARB,6,FALSE)))","v":"X"},{"$f":"IF(OR(PTA!G15=\"\",PTA!G15=\"X\"),\"X\",IF(PTA!G15=\"*\",\"*\",VLOOKUP(PTA!G15,AL_NUM_ARB,2,FALSE)&\" \"&VLOOKUP(PTA!G15,AL_NUM_ARB,4,FALSE)&\" \"&VLOOKUP(PTA!G15,AL_NUM_ARB,6,FALSE)))","v":"X"},{"$f":"IF(OR(PTA!H15=\"\",PTA!H15=\"X\"),\"X\",IF(PTA!H15=\"*\",\"*\",VLOOKUP(PTA!H15,AL_NUM_ARB,2,FALSE)&\" \"&VLOOKUP(PTA!H15,AL_NUM_ARB,4,FALSE)&\" \"&VLOOKUP(PTA!H15,AL_NUM_ARB,6,FALSE)))","v":"X"},{"$f":"IF(OR(PTA!I15=\"\",PTA!I15=\"X\"),\"X\",IF(PTA!I15=\"*\",\"*\",VLOOKUP(PTA!I15,AL_NUM_ARB,2,FALSE)&\" \"&VLOOKUP(PTA!I15,AL_NUM_ARB,4,FALSE)&\" \"&VLOOKUP(PTA!I15,AL_NUM_ARB,6,FALSE)))","v":"X"},{"$f":"IF(OR(PTA!J15=\"\",PTA!J15=\"X\"),\"X\",IF(PTA!J15=\"*\",\"*\",VLOOKUP(PTA!J15,AL_NUM_ARB,2,FALSE)&\" \"&VLOOKUP(PTA!J15,AL_NUM_ARB,4,FALSE)&\" \"&VLOOKUP(PTA!J15,AL_NUM_ARB,6,FALSE)))","v":"X"},{"$f":"IF(OR(PTA!K15=\"\",PTA!K15=\"X\"),\"X\",IF(PTA!K15=\"*\",\"*\",VLOOKUP(PTA!K15,AL_NUM_ARB,2,FALSE)&\" \"&VLOOKUP(PTA!K15,AL_NUM_ARB,4,FALSE)&\" \"&VLOOKUP(PTA!K15,AL_NUM_ARB,6,FALSE)))","v":"X"},{"$f":"IF(OR(PTA!L15=\"\",PTA!L15=\"X\"),\"X\",IF(PTA!L15=\"*\",\"*\",VLOOKUP(PTA!L15,AL_NUM_ARB,2,FALSE)&\" \"&VLOOKUP(PTA!L15,AL_NUM_ARB,4,FALSE)&\" \"&VLOOKUP(PTA!L15,AL_NUM_ARB,6,FALSE)))","v":"X"},{"$f":"IF(OR(PTA!M15=\"\",PTA!M15=\"X\"),\"X\",IF(PTA!M15=\"*\",\"*\",VLOOKUP(PTA!M15,AL_NUM_ARB,2,FALSE)&\" \"&VLOOKUP(PTA!M15,AL_NUM_ARB,4,FALSE)&\" \"&VLOOKUP(PTA!M15,AL_NUM_ARB,6,FALSE)))","v":"X"},{"$f":"IF(OR(PTA!N15=\"\",PTA!N15=\"X\"),\"X\",IF(PTA!N15=\"*\",\"*\",VLOOKUP(PTA!N15,AL_NUM_ARB,2,FALSE)&\" \"&VLOOKUP(PTA!N15,AL_NUM_ARB,4,FALSE)&\" \"&VLOOKUP(PTA!N15,AL_NUM_ARB,6,FALSE)))","v":"X"},{"$f":"IF(OR(PTA!O15=\"\",PTA!O15=\"X\"),\"X\",IF(PTA!O15=\"*\",\"*\",VLOOKUP(PTA!O15,AL_NUM_ARB,2,FALSE)&\" \"&VLOOKUP(PTA!O15,AL_NUM_ARB,4,FALSE)&\" \"&VLOOKUP(PTA!O15,AL_NUM_ARB,6,FALSE)))","v":"X"},{"$f":"IF(OR(PTA!P15=\"\",PTA!P15=\"X\"),\"X\",IF(PTA!P15=\"*\",\"*\",VLOOKUP(PTA!P15,AL_NUM_ARB,2,FALSE)&\" \"&VLOOKUP(PTA!P15,AL_NUM_ARB,4,FALSE)&\" \"&VLOOKUP(PTA!P15,AL_NUM_ARB,6,FALSE)))","v":"X"},{"$f":"IF(OR(PTA!Q15=\"\",PTA!Q15=\"X\"),\"X\",IF(PTA!Q15=\"*\",\"*\",VLOOKUP(PTA!Q15,AL_NUM_ARB,2,FALSE)&\" \"&VLOOKUP(PTA!Q15,AL_NUM_ARB,4,FALSE)&\" \"&VLOOKUP(PTA!Q15,AL_NUM_ARB,6,FALSE)))","v":"X"},{"$f":"IF(OR(PTA!R15=\"\",PTA!R15=\"X\"),\"X\",IF(PTA!R15=\"*\",\"*\",VLOOKUP(PTA!R15,AL_NUM_ARB,2,FALSE)&\" \"&VLOOKUP(PTA!R15,AL_NUM_ARB,4,FALSE)&\" \"&VLOOKUP(PTA!R15,AL_NUM_ARB,6,FALSE)))","v":"X"},{"$f":"IF(OR(PTA!S15=\"\",PTA!S15=\"X\"),\"X\",IF(PTA!S15=\"*\",\"*\",VLOOKUP(PTA!S15,AL_NUM_ARB,2,FALSE)&\" \"&VLOOKUP(PTA!S15,AL_NUM_ARB,4,FALSE)&\" \"&VLOOKUP(PTA!S15,AL_NUM_ARB,6,FALSE)))","v":"X"},{"$f":"IF(OR(PTA!T15=\"\",PTA!T15=\"X\"),\"X\",IF(PTA!T15=\"*\",\"*\",VLOOKUP(PTA!T15,AL_NUM_ARB,2,FALSE)&\" \"&VLOOKUP(PTA!T15,AL_NUM_ARB,4,FALSE)&\" \"&VLOOKUP(PTA!T15,AL_NUM_ARB,6,FALSE)))","v":"X"},{"$f":"IF(OR(PTA!U15=\"\",PTA!U15=\"X\"),\"X\",IF(PTA!U15=\"*\",\"*\",VLOOKUP(PTA!U15,AL_NUM_ARB,2,FALSE)&\" \"&VLOOKUP(PTA!U15,AL_NUM_ARB,4,FALSE)&\" \"&VLOOKUP(PTA!U15,AL_NUM_ARB,6,FALSE)))","v":"X"},{"$f":"IF(OR(PTA!V15=\"\",PTA!V15=\"X\"),\"X\",IF(PTA!V15=\"*\",\"*\",VLOOKUP(PTA!V15,AL_NUM_ARB,2,FALSE)&\" \"&VLOOKUP(PTA!V15,AL_NUM_ARB,4,FALSE)&\" \"&VLOOKUP(PTA!V15,AL_NUM_ARB,6,FALSE)))","v":"X"},{"$f":"IF(OR(PTA!W15=\"\",PTA!W15=\"X\"),\"X\",IF(PTA!W15=\"*\",\"*\",VLOOKUP(PTA!W15,AL_NUM_ARB,2,FALSE)&\" \"&VLOOKUP(PTA!W15,AL_NUM_ARB,4,FALSE)&\" \"&VLOOKUP(PTA!W15,AL_NUM_ARB,6,FALSE)))","v":"X"},{"$f":"IF(OR(PTA!X15=\"\",PTA!X15=\"X\"),\"X\",IF(PTA!X15=\"*\",\"*\",VLOOKUP(PTA!X15,AL_NUM_ARB,2,FALSE)&\" \"&VLOOKUP(PTA!X15,AL_NUM_ARB,4,FALSE)&\" \"&VLOOKUP(PTA!X15,AL_NUM_ARB,6,FALSE)))","v":"X"},{"$f":"IF(OR(PTA!Y15=\"\",PTA!Y15=\"X\"),\"X\",IF(PTA!Y15=\"*\",\"*\",VLOOKUP(PTA!Y15,AL_NUM_ARB,2,FALSE)&\" \"&VLOOKUP(PTA!Y15,AL_NUM_ARB,4,FALSE)&\" \"&VLOOKUP(PTA!Y15,AL_NUM_ARB,6,FALSE)))","v":"X"},{"$f":"IF(OR(PTA!Z15=\"\",PTA!Z15=\"X\"),\"X\",IF(PTA!Z15=\"*\",\"*\",VLOOKUP(PTA!Z15,AL_NUM_ARB,2,FALSE)&\" \"&VLOOKUP(PTA!Z15,AL_NUM_ARB,4,FALSE)&\" \"&VLOOKUP(PTA!Z15,AL_NUM_ARB,6,FALSE)))","v":"X"},{"$f":"IF(OR(PTA!AA15=\"\",PTA!AA15=\"X\"),\"X\",IF(PTA!AA15=\"*\",\"*\",VLOOKUP(PTA!AA15,AL_NUM_ARB,2,FALSE)&\" \"&VLOOKUP(PTA!AA15,AL_NUM_ARB,4,FALSE)&\" \"&VLOOKUP(PTA!AA15,AL_NUM_ARB,6,FALSE)))","v":"X"},{"$f":"IF(OR(PTA!AB15=\"\",PTA!AB15=\"X\"),\"X\",IF(PTA!AB15=\"*\",\"*\",VLOOKUP(PTA!AB15,AL_NUM_ARB,2,FALSE)&\" \"&VLOOKUP(PTA!AB15,AL_NUM_ARB,4,FALSE)&\" \"&VLOOKUP(PTA!AB15,AL_NUM_ARB,6,FALSE)))","v":"X"},{"$f":"IF(OR(PTA!AC15=\"\",PTA!AC15=\"X\"),\"X\",IF(PTA!AC15=\"*\",\"*\",VLOOKUP(PTA!AC15,AL_NUM_ARB,2,FALSE)&\" \"&VLOOKUP(PTA!AC15,AL_NUM_ARB,4,FALSE)&\" \"&VLOOKUP(PTA!AC15,AL_NUM_ARB,6,FALSE)))","v":"X"},{"$f":"IF(OR(PTA!AD15=\"\",PTA!AD15=\"X\"),\"X\",IF(PTA!AD15=\"*\",\"*\",VLOOKUP(PTA!AD15,AL_NUM_ARB,2,FALSE)&\" \"&VLOOKUP(PTA!AD15,AL_NUM_ARB,4,FALSE)&\" \"&VLOOKUP(PTA!AD15,AL_NUM_ARB,6,FALSE)))","v":"X"},{"$f":"IF(OR(PTA!AE15=\"\",PTA!AE15=\"X\"),\"X\",IF(PTA!AE15=\"*\",\"*\",VLOOKUP(PTA!AE15,AL_NUM_ARB,2,FALSE)&\" \"&VLOOKUP(PTA!AE15,AL_NUM_ARB,4,FALSE)&\" \"&VLOOKUP(PTA!AE15,AL_NUM_ARB,6,FALSE)))","v":"X"},{"$f":"IF(OR(PTA!AF15=\"\",PTA!AF15=\"X\"),\"X\",IF(PTA!AF15=\"*\",\"*\",VLOOKUP(PTA!AF15,AL_NUM_ARB,2,FALSE)&\" \"&VLOOKUP(PTA!AF15,AL_NUM_ARB,4,FALSE)&\" \"&VLOOKUP(PTA!AF15,AL_NUM_ARB,6,FALSE)))","v":"X"},{"$f":"IF(OR(PTA!AG15=\"\",PTA!AG15=\"X\"),\"X\",IF(PTA!AG15=\"*\",\"*\",VLOOKUP(PTA!AG15,AL_NUM_ARB,2,FALSE)&\" \"&VLOOKUP(PTA!AG15,AL_NUM_ARB,4,FALSE)&\" \"&VLOOKUP(PTA!AG15,AL_NUM_ARB,6,FALSE)))","v":"X"},{"$f":"IF(OR(PTA!AH15=\"\",PTA!AH15=\"X\"),\"X\",IF(PTA!AH15=\"*\",\"*\",VLOOKUP(PTA!AH15,AL_NUM_ARB,2,FALSE)&\" \"&VLOOKUP(PTA!AH15,AL_NUM_ARB,4,FALSE)&\" \"&VLOOKUP(PTA!AH15,AL_NUM_ARB,6,FALSE)))","v":"X"},{"$f":"IF(OR(PTA!AI15=\"\",PTA!AI15=\"X\"),\"X\",IF(PTA!AI15=\"*\",\"*\",VLOOKUP(PTA!AI15,AL_NUM_ARB,2,FALSE)&\" \"&VLOOKUP(PTA!AI15,AL_NUM_ARB,4,FALSE)&\" \"&VLOOKUP(PTA!AI15,AL_NUM_ARB,6,FALSE)))","v":"X"},{"$f":"IF(OR(PTA!AJ15=\"\",PTA!AJ15=\"X\"),\"X\",IF(PTA!AJ15=\"*\",\"*\",VLOOKUP(PTA!AJ15,AL_NUM_ARB,2,FALSE)&\" \"&VLOOKUP(PTA!AJ15,AL_NUM_ARB,4,FALSE)&\" \"&VLOOKUP(PTA!AJ15,AL_NUM_ARB,6,FALSE)))","v":"X"},{"$f":"IF(OR(PTA!AK15=\"\",PTA!AK15=\"X\"),\"X\",IF(PTA!AK15=\"*\",\"*\",VLOOKUP(PTA!AK15,AL_NUM_ARB,2,FALSE)&\" \"&VLOOKUP(PTA!AK15,AL_NUM_ARB,4,FALSE)&\" \"&VLOOKUP(PTA!AK15,AL_NUM_ARB,6,FALSE)))","v":"X"},{"$f":"IF(OR(PTA!AL15=\"\",PTA!AL15=\"X\"),\"X\",IF(PTA!AL15=\"*\",\"*\",VLOOKUP(PTA!AL15,AL_NUM_ARB,2,FALSE)&\" \"&VLOOKUP(PTA!AL15,AL_NUM_ARB,4,FALSE)&\" \"&VLOOKUP(PTA!AL15,AL_NUM_ARB,6,FALSE)))","v":"X"},{"$f":"IF(OR(PTA!AM15=\"\",PTA!AM15=\"X\"),\"X\",IF(PTA!AM15=\"*\",\"*\",VLOOKUP(PTA!AM15,AL_NUM_ARB,2,FALSE)&\" \"&VLOOKUP(PTA!AM15,AL_NUM_ARB,4,FALSE)&\" \"&VLOOKUP(PTA!AM15,AL_NUM_ARB,6,FALSE)))","v":"X"},{"$f":"IF(OR(PTA!AN15=\"\",PTA!AN15=\"X\"),\"X\",IF(PTA!AN15=\"*\",\"*\",VLOOKUP(PTA!AN15,AL_NUM_ARB,2,FALSE)&\" \"&VLOOKUP(PTA!AN15,AL_NUM_ARB,4,FALSE)&\" \"&VLOOKUP(PTA!AN15,AL_NUM_ARB,6,FALSE)))","v":"X"},{"$f":"IF(OR(PTA!AO15=\"\",PTA!AO15=\"X\"),\"X\",IF(PTA!AO15=\"*\",\"*\",VLOOKUP(PTA!AO15,AL_NUM_ARB,2,FALSE)&\" \"&VLOOKUP(PTA!AO15,AL_NUM_ARB,4,FALSE)&\" \"&VLOOKUP(PTA!AO15,AL_NUM_ARB,6,FALSE)))","v":"X"},{"$f":"IF(OR(PTA!AP15=\"\",PTA!AP15=\"X\"),\"X\",IF(PTA!AP15=\"*\",\"*\",VLOOKUP(PTA!AP15,AL_NUM_ARB,2,FALSE)&\" \"&VLOOKUP(PTA!AP15,AL_NUM_ARB,4,FALSE)&\" \"&VLOOKUP(PTA!AP15,AL_NUM_ARB,6,FALSE)))","v":"X"},{"$f":"IF(OR(PTA!AQ15=\"\",PTA!AQ15=\"X\"),\"X\",IF(PTA!AQ15=\"*\",\"*\",VLOOKUP(PTA!AQ15,AL_NUM_ARB,2,FALSE)&\" \"&VLOOKUP(PTA!AQ15,AL_NUM_ARB,4,FALSE)&\" \"&VLOOKUP(PTA!AQ15,AL_NUM_ARB,6,FALSE)))","v":"X"},{"$f":"IF(OR(PTA!AR15=\"\",PTA!AR15=\"X\"),\"X\",IF(PTA!AR15=\"*\",\"*\",VLOOKUP(PTA!AR15,AL_NUM_ARB,2,FALSE)&\" \"&VLOOKUP(PTA!AR15,AL_NUM_ARB,4,FALSE)&\" \"&VLOOKUP(PTA!AR15,AL_NUM_ARB,6,FALSE)))","v":"X"},{"$f":"IF(OR(PTA!AS15=\"\",PTA!AS15=\"X\"),\"X\",IF(PTA!AS15=\"*\",\"*\",VLOOKUP(PTA!AS15,AL_NUM_ARB,2,FALSE)&\" \"&VLOOKUP(PTA!AS15,AL_NUM_ARB,4,FALSE)&\" \"&VLOOKUP(PTA!AS15,AL_NUM_ARB,6,FALSE)))","v":"X"},{"$f":"IF(OR(PTA!AT15=\"\",PTA!AT15=\"X\"),\"X\",IF(PTA!AT15=\"*\",\"*\",VLOOKUP(PTA!AT15,AL_NUM_ARB,2,FALSE)&\" \"&VLOOKUP(PTA!AT15,AL_NUM_ARB,4,FALSE)&\" \"&VLOOKUP(PTA!AT15,AL_NUM_ARB,6,FALSE)))","v":"X"},{"$f":"IF(OR(PTA!AU15=\"\",PTA!AU15=\"X\"),\"X\",IF(PTA!AU15=\"*\",\"*\",VLOOKUP(PTA!AU15,AL_NUM_ARB,2,FALSE)&\" \"&VLOOKUP(PTA!AU15,AL_NUM_ARB,4,FALSE)&\" \"&VLOOKUP(PTA!AU15,AL_NUM_ARB,6,FALSE)))","v":"X"},{"$f":"IF(OR(PTA!AV15=\"\",PTA!AV15=\"X\"),\"X\",IF(PTA!AV15=\"*\",\"*\",VLOOKUP(PTA!AV15,AL_NUM_ARB,2,FALSE)&\" \"&VLOOKUP(PTA!AV15,AL_NUM_ARB,4,FALSE)&\" \"&VLOOKUP(PTA!AV15,AL_NUM_ARB,6,FALSE)))","v":"X"},{"$f":"IF(OR(PTA!AW15=\"\",PTA!AW15=\"X\"),\"X\",IF(PTA!AW15=\"*\",\"*\",VLOOKUP(PTA!AW15,AL_NUM_ARB,2,FALSE)&\" \"&VLOOKUP(PTA!AW15,AL_NUM_ARB,4,FALSE)&\" \"&VLOOKUP(PTA!AW15,AL_NUM_ARB,6,FALSE)))","v":"X"},{"$f":"IF(OR(PTA!AX15=\"\",PTA!AX15=\"X\"),\"X\",IF(PTA!AX15=\"*\",\"*\",VLOOKUP(PTA!AX15,AL_NUM_ARB,2,FALSE)&\" \"&VLOOKUP(PTA!AX15,AL_NUM_ARB,4,FALSE)&\" \"&VLOOKUP(PTA!AX15,AL_NUM_ARB,6,FALSE)))","v":"X"},{"$f":"IF(OR(PTA!AY15=\"\",PTA!AY15=\"X\"),\"X\",IF(PTA!AY15=\"*\",\"*\",VLOOKUP(PTA!AY15,AL_NUM_ARB,2,FALSE)&\" \"&VLOOKUP(PTA!AY15,AL_NUM_ARB,4,FALSE)&\" \"&VLOOKUP(PTA!AY15,AL_NUM_ARB,6,FALSE)))","v":"X"},{"$f":"IF(OR(PTA!AZ15=\"\",PTA!AZ15=\"X\"),\"X\",IF(PTA!AZ15=\"*\",\"*\",VLOOKUP(PTA!AZ15,AL_NUM_ARB,2,FALSE)&\" \"&VLOOKUP(PTA!AZ15,AL_NUM_ARB,4,FALSE)&\" \"&VLOOKUP(PTA!AZ15,AL_NUM_ARB,6,FALSE)))","v":"X"},{"$f":"IF(OR(PTA!BA15=\"\",PTA!BA15=\"X\"),\"X\",IF(PTA!BA15=\"*\",\"*\",VLOOKUP(PTA!BA15,AL_NUM_ARB,2,FALSE)&\" \"&VLOOKUP(PTA!BA15,AL_NUM_ARB,4,FALSE)&\" \"&VLOOKUP(PTA!BA15,AL_NUM_ARB,6,FALSE)))","v":"X"},{"$f":"IF(OR(PTA!BB15=\"\",PTA!BB15=\"X\"),\"X\",IF(PTA!BB15=\"*\",\"*\",VLOOKUP(PTA!BB15,AL_NUM_ARB,2,FALSE)&\" \"&VLOOKUP(PTA!BB15,AL_NUM_ARB,4,FALSE)&\" \"&VLOOKUP(PTA!BB15,AL_NUM_ARB,6,FALSE)))","v":"X"},{"$f":"IF(OR(PTA!BC15=\"\",PTA!BC15=\"X\"),\"X\",IF(PTA!BC15=\"*\",\"*\",VLOOKUP(PTA!BC15,AL_NUM_ARB,2,FALSE)&\" \"&VLOOKUP(PTA!BC15,AL_NUM_ARB,4,FALSE)&\" \"&VLOOKUP(PTA!BC15,AL_NUM_ARB,6,FALSE)))","v":"X"},{"$f":"IF(OR(PTA!BD15=\"\",PTA!BD15=\"X\"),\"X\",IF(PTA!BD15=\"*\",\"*\",VLOOKUP(PTA!BD15,AL_NUM_ARB,2,FALSE)&\" \"&VLOOKUP(PTA!BD15,AL_NUM_ARB,4,FALSE)&\" \"&VLOOKUP(PTA!BD15,AL_NUM_ARB,6,FALSE)))","v":"X"},{"$f":"IF(OR(PTA!BE15=\"\",PTA!BE15=\"X\"),\"X\",IF(PTA!BE15=\"*\",\"*\",VLOOKUP(PTA!BE15,AL_NUM_ARB,2,FALSE)&\" \"&VLOOKUP(PTA!BE15,AL_NUM_ARB,4,FALSE)&\" \"&VLOOKUP(PTA!BE15,AL_NUM_ARB,6,FALSE)))","v":"X"},{"$f":"IF(OR(PTA!BF15=\"\",PTA!BF15=\"X\"),\"X\",IF(PTA!BF15=\"*\",\"*\",VLOOKUP(PTA!BF15,AL_NUM_ARB,2,FALSE)&\" \"&VLOOKUP(PTA!BF15,AL_NUM_ARB,4,FALSE)&\" \"&VLOOKUP(PTA!BF15,AL_NUM_ARB,6,FALSE)))","v":"X"},{"$f":"IF(OR(PTA!BG15=\"\",PTA!BG15=\"X\"),\"X\",IF(PTA!BG15=\"*\",\"*\",VLOOKUP(PTA!BG15,AL_NUM_ARB,2,FALSE)&\" \"&VLOOKUP(PTA!BG15,AL_NUM_ARB,4,FALSE)&\" \"&VLOOKUP(PTA!BG15,AL_NUM_ARB,6,FALSE)))","v":"X"},{"$f":"IF(OR(PTA!BH15=\"\",PTA!BH15=\"X\"),\"X\",IF(PTA!BH15=\"*\",\"*\",VLOOKUP(PTA!BH15,AL_NUM_ARB,2,FALSE)&\" \"&VLOOKUP(PTA!BH15,AL_NUM_ARB,4,FALSE)&\" \"&VLOOKUP(PTA!BH15,AL_NUM_ARB,6,FALSE)))","v":"X"},{"$f":"IF(OR(PTA!BI15=\"\",PTA!BI15=\"X\"),\"X\",IF(PTA!BI15=\"*\",\"*\",VLOOKUP(PTA!BI15,AL_NUM_ARB,2,FALSE)&\" \"&VLOOKUP(PTA!BI15,AL_NUM_ARB,4,FALSE)&\" \"&VLOOKUP(PTA!BI15,AL_NUM_ARB,6,FALSE)))","v":"X"},{"$f":"IF(OR(PTA!BJ15=\"\",PTA!BJ15=\"X\"),\"X\",IF(PTA!BJ15=\"*\",\"*\",VLOOKUP(PTA!BJ15,AL_NUM_ARB,2,FALSE)&\" \"&VLOOKUP(PTA!BJ15,AL_NUM_ARB,4,FALSE)&\" \"&VLOOKUP(PTA!BJ15,AL_NUM_ARB,6,FALSE)))","v":"X"},{"$f":"IF(OR(PTA!BK15=\"\",PTA!BK15=\"X\"),\"X\",IF(PTA!BK15=\"*\",\"*\",VLOOKUP(PTA!BK15,AL_NUM_ARB,2,FALSE)&\" \"&VLOOKUP(PTA!BK15,AL_NUM_ARB,4,FALSE)&\" \"&VLOOKUP(PTA!BK15,AL_NUM_ARB,6,FALSE)))","v":"X"},{"$f":"IF(OR(PTA!BL15=\"\",PTA!BL15=\"X\"),\"X\",IF(PTA!BL15=\"*\",\"*\",VLOOKUP(PTA!BL15,AL_NUM_ARB,2,FALSE)&\" \"&VLOOKUP(PTA!BL15,AL_NUM_ARB,4,FALSE)&\" \"&VLOOKUP(PTA!BL15,AL_NUM_ARB,6,FALSE)))","v":"X"},{"$f":"IF(OR(PTA!BM15=\"\",PTA!BM15=\"X\"),\"X\",IF(PTA!BM15=\"*\",\"*\",VLOOKUP(PTA!BM15,AL_NUM_ARB,2,FALSE)&\" \"&VLOOKUP(PTA!BM15,AL_NUM_ARB,4,FALSE)&\" \"&VLOOKUP(PTA!BM15,AL_NUM_ARB,6,FALSE)))","v":"X"},{"$f":"IF(OR(PTA!BN15=\"\",PTA!BN15=\"X\"),\"X\",IF(PTA!BN15=\"*\",\"*\",VLOOKUP(PTA!BN15,AL_NUM_ARB,2,FALSE)&\" \"&VLOOKUP(PTA!BN15,AL_NUM_ARB,4,FALSE)&\" \"&VLOOKUP(PTA!BN15,AL_NUM_ARB,6,FALSE)))","v":"X"},{"$f":"IF(OR(PTA!BO15=\"\",PTA!BO15=\"X\"),\"X\",IF(PTA!BO15=\"*\",\"*\",VLOOKUP(PTA!BO15,AL_NUM_ARB,2,FALSE)&\" \"&VLOOKUP(PTA!BO15,AL_NUM_ARB,4,FALSE)&\" \"&VLOOKUP(PTA!BO15,AL_NUM_ARB,6,FALSE)))","v":"X"},{"$f":"IF(OR(PTA!BP15=\"\",PTA!BP15=\"X\"),\"X\",IF(PTA!BP15=\"*\",\"*\",VLOOKUP(PTA!BP15,AL_NUM_ARB,2,FALSE)&\" \"&VLOOKUP(PTA!BP15,AL_NUM_ARB,4,FALSE)&\" \"&VLOOKUP(PTA!BP15,AL_NUM_ARB,6,FALSE)))","v":"X"},{"$f":"IF(OR(PTA!BQ15=\"\",PTA!BQ15=\"X\"),\"X\",IF(PTA!BQ15=\"*\",\"*\",VLOOKUP(PTA!BQ15,AL_NUM_ARB,2,FALSE)&\" \"&VLOOKUP(PTA!BQ15,AL_NUM_ARB,4,FALSE)&\" \"&VLOOKUP(PTA!BQ15,AL_NUM_ARB,6,FALSE)))","v":"X"},{"$f":"IF(OR(PTA!BR15=\"\",PTA!BR15=\"X\"),\"X\",IF(PTA!BR15=\"*\",\"*\",VLOOKUP(PTA!BR15,AL_NUM_ARB,2,FALSE)&\" \"&VLOOKUP(PTA!BR15,AL_NUM_ARB,4,FALSE)&\" \"&VLOOKUP(PTA!BR15,AL_NUM_ARB,6,FALSE)))","v":"X"},{"$f":"IF(OR(PTA!BT15=\"\",PTA!BT15=\"X\"),\"X\",VLOOKUP(PTA!BT15,AL_NUM_ARB,2,FALSE)&\" \"&VLOOKUP(PTA!BT15,AL_NUM_ARB,4,FALSE)&\" \"&VLOOKUP(PTA!BT15,AL_NUM_ARB,6,FALSE))","v":"X"},{"$f":"IF(OR(PTA!BU15=\"\",PTA!BU15=\"X\"),\"X\",VLOOKUP(PTA!BU15,AL_NUM_ARB,2,FALSE)&\" \"&VLOOKUP(PTA!BU15,AL_NUM_ARB,4,FALSE)&\" \"&VLOOKUP(PTA!BU15,AL_NUM_ARB,6,FALSE))","v":"X"},{"$f":"IF(OR(PTA!BV15=\"\",PTA!BV15=\"X\"),\"X\",VLOOKUP(PTA!BV15,AL_NUM_ARB,2,FALSE)&\" \"&VLOOKUP(PTA!BV15,AL_NUM_ARB,4,FALSE)&\" \"&VLOOKUP(PTA!BV15,AL_NUM_ARB,6,FALSE))","v":"X"},{"$f":"IF(OR(PTA!BW15=\"\",PTA!BW15=\"X\"),\"X\",VLOOKUP(PTA!BW15,AL_NUM_ARB,2,FALSE)&\" \"&VLOOKUP(PTA!BW15,AL_NUM_ARB,4,FALSE)&\" \"&VLOOKUP(PTA!BW15,AL_NUM_ARB,6,FALSE))","v":"X"},"03:30:00"]
[{"$f":"PTA!A16","v":""},{"$f":"PTA!B16","v":"00:00:00"},{"$f":"PTA!C16","v":32},{"$f":"PTA!D16","v":0},{"$f":"IF(OR(PTA!E16=\"\",PTA!E16=\"X\"),\"X\",IF(PTA!E16=\"*\",\"*\",VLOOKUP(PTA!E16,AL_NUM_ARB,2,FALSE)&\" \"&VLOOKUP(PTA!E16,AL_NUM_ARB,4,FALSE)&\" \"&VLOOKUP(PTA!E16,AL_NUM_ARB,6,FALSE)))","v":"X"},{"$f":"IF(OR(PTA!F16=\"\",PTA!F16=\"X\"),\"X\",IF(PTA!F16=\"*\",\"*\",VLOOKUP(PTA!F16,AL_NUM_ARB,2,FALSE)&\" \"&VLOOKUP(PTA!F16,AL_NUM_ARB,4,FALSE)&\" \"&VLOOKUP(PTA!F16,AL_NUM_ARB,6,FALSE)))","v":"X"},{"$f":"IF(OR(PTA!G16=\"\",PTA!G16=\"X\"),\"X\",IF(PTA!G16=\"*\",\"*\",VLOOKUP(PTA!G16,AL_NUM_ARB,2,FALSE)&\" \"&VLOOKUP(PTA!G16,AL_NUM_ARB,4,FALSE)&\" \"&VLOOKUP(PTA!G16,AL_NUM_ARB,6,FALSE)))","v":"X"},{"$f":"IF(OR(PTA!H16=\"\",PTA!H16=\"X\"),\"X\",IF(PTA!H16=\"*\",\"*\",VLOOKUP(PTA!H16,AL_NUM_ARB,2,FALSE)&\" \"&VLOOKUP(PTA!H16,AL_NUM_ARB,4,FALSE)&\" \"&VLOOKUP(PTA!H16,AL_NUM_ARB,6,FALSE)))","v":"X"},{"$f":"IF(OR(PTA!I16=\"\",PTA!I16=\"X\"),\"X\",IF(PTA!I16=\"*\",\"*\",VLOOKUP(PTA!I16,AL_NUM_ARB,2,FALSE)&\" \"&VLOOKUP(PTA!I16,AL_NUM_ARB,4,FALSE)&\" \"&VLOOKUP(PTA!I16,AL_NUM_ARB,6,FALSE)))","v":"X"},{"$f":"IF(OR(PTA!J16=\"\",PTA!J16=\"X\"),\"X\",IF(PTA!J16=\"*\",\"*\",VLOOKUP(PTA!J16,AL_NUM_ARB,2,FALSE)&\" \"&VLOOKUP(PTA!J16,AL_NUM_ARB,4,FALSE)&\" \"&VLOOKUP(PTA!J16,AL_NUM_ARB,6,FALSE)))","v":"X"},{"$f":"IF(OR(PTA!K16=\"\",PTA!K16=\"X\"),\"X\",IF(PTA!K16=\"*\",\"*\",VLOOKUP(PTA!K16,AL_NUM_ARB,2,FALSE)&\" \"&VLOOKUP(PTA!K16,AL_NUM_ARB,4,FALSE)&\" \"&VLOOKUP(PTA!K16,AL_NUM_ARB,6,FALSE)))","v":"X"},{"$f":"IF(OR(PTA!L16=\"\",PTA!L16=\"X\"),\"X\",IF(PTA!L16=\"*\",\"*\",VLOOKUP(PTA!L16,AL_NUM_ARB,2,FALSE)&\" \"&VLOOKUP(PTA!L16,AL_NUM_ARB,4,FALSE)&\" \"&VLOOKUP(PTA!L16,AL_NUM_ARB,6,FALSE)))","v":"X"},{"$f":"IF(OR(PTA!M16=\"\",PTA!M16=\"X\"),\"X\",IF(PTA!M16=\"*\",\"*\",VLOOKUP(PTA!M16,AL_NUM_ARB,2,FALSE)&\" \"&VLOOKUP(PTA!M16,AL_NUM_ARB,4,FALSE)&\" \"&VLOOKUP(PTA!M16,AL_NUM_ARB,6,FALSE)))","v":"X"},{"$f":"IF(OR(PTA!N16=\"\",PTA!N16=\"X\"),\"X\",IF(PTA!N16=\"*\",\"*\",VLOOKUP(PTA!N16,AL_NUM_ARB,2,FALSE)&\" \"&VLOOKUP(PTA!N16,AL_NUM_ARB,4,FALSE)&\" \"&VLOOKUP(PTA!N16,AL_NUM_ARB,6,FALSE)))","v":"X"},{"$f":"IF(OR(PTA!O16=\"\",PTA!O16=\"X\"),\"X\",IF(PTA!O16=\"*\",\"*\",VLOOKUP(PTA!O16,AL_NUM_ARB,2,FALSE)&\" \"&VLOOKUP(PTA!O16,AL_NUM_ARB,4,FALSE)&\" \"&VLOOKUP(PTA!O16,AL_NUM_ARB,6,FALSE)))","v":"X"},{"$f":"IF(OR(PTA!P16=\"\",PTA!P16=\"X\"),\"X\",IF(PTA!P16=\"*\",\"*\",VLOOKUP(PTA!P16,AL_NUM_ARB,2,FALSE)&\" \"&VLOOKUP(PTA!P16,AL_NUM_ARB,4,FALSE)&\" \"&VLOOKUP(PTA!P16,AL_NUM_ARB,6,FALSE)))","v":"X"},{"$f":"IF(OR(PTA!Q16=\"\",PTA!Q16=\"X\"),\"X\",IF(PTA!Q16=\"*\",\"*\",VLOOKUP(PTA!Q16,AL_NUM_ARB,2,FALSE)&\" \"&VLOOKUP(PTA!Q16,AL_NUM_ARB,4,FALSE)&\" \"&VLOOKUP(PTA!Q16,AL_NUM_ARB,6,FALSE)))","v":"X"},{"$f":"IF(OR(PTA!R16=\"\",PTA!R16=\"X\"),\"X\",IF(PTA!R16=\"*\",\"*\",VLOOKUP(PTA!R16,AL_NUM_ARB,2,FALSE)&\" \"&VLOOKUP(PTA!R16,AL_NUM_ARB,4,FALSE)&\" \"&VLOOKUP(PTA!R16,AL_NUM_ARB,6,FALSE)))","v":"X"},{"$f":"IF(OR(PTA!S16=\"\",PTA!S16=\"X\"),\"X\",IF(PTA!S16=\"*\",\"*\",VLOOKUP(PTA!S16,AL_NUM_ARB,2,FALSE)&\" \"&VLOOKUP(PTA!S16,AL_NUM_ARB,4,FALSE)&\" \"&VLOOKUP(PTA!S16,AL_NUM_ARB,6,FALSE)))","v":"X"},{"$f":"IF(OR(PTA!T16=\"\",PTA!T16=\"X\"),\"X\",IF(PTA!T16=\"*\",\"*\",VLOOKUP(PTA!T16,AL_NUM_ARB,2,FALSE)&\" \"&VLOOKUP(PTA!T16,AL_NUM_ARB,4,FALSE)&\" \"&VLOOKUP(PTA!T16,AL_NUM_ARB,6,FALSE)))","v":"X"},{"$f":"IF(OR(PTA!U16=\"\",PTA!U16=\"X\"),\"X\",IF(PTA!U16=\"*\",\"*\",VLOOKUP(PTA!U16,AL_NUM_ARB,2,FALSE)&\" \"&VLOOKUP(PTA!U16,AL_NUM_ARB,4,FALSE)&\" \"&VLOOKUP(PTA!U16,AL_NUM_ARB,6,FALSE)))","v":"X"},{"$f":"IF(OR(PTA!V16=\"\",PTA!V16=\"X\"),\"X\",IF(PTA!V16=\"*\",\"*\",VLOOKUP(PTA!V16,AL_NUM_ARB,2,FALSE)&\" \"&VLOOKUP(PTA!V16,AL_NUM_ARB,4,FALSE)&\" \"&VLOOKUP(PTA!V16,AL_NUM_ARB,6,FALSE)))","v":"X"},{"$f":"IF(OR(PTA!W16=\"\",PTA!W16=\"X\"),\"X\",IF(PTA!W16=\"*\",\"*\",VLOOKUP(PTA!W16,AL_NUM_ARB,2,FALSE)&\" \"&VLOOKUP(PTA!W16,AL_NUM_ARB,4,FALSE)&\" \"&VLOOKUP(PTA!W16,AL_NUM_ARB,6,FALSE)))","v":"X"},{"$f":"IF(OR(PTA!X16=\"\",PTA!X16=\"X\"),\"X\",IF(PTA!X16=\"*\",\"*\",VLOOKUP(PTA!X16,AL_NUM_ARB,2,FALSE)&\" \"&VLOOKUP(PTA!X16,AL_NUM_ARB,4,FALSE)&\" \"&VLOOKUP(PTA!X16,AL_NUM_ARB,6,FALSE)))","v":"X"},{"$f":"IF(OR(PTA!Y16=\"\",PTA!Y16=\"X\"),\"X\",IF(PTA!Y16=\"*\",\"*\",VLOOKUP(PTA!Y16,AL_NUM_ARB,2,FALSE)&\" \"&VLOOKUP(PTA!Y16,AL_NUM_ARB,4,FALSE)&\" \"&VLOOKUP(PTA!Y16,AL_NUM_ARB,6,FALSE)))","v":"X"},{"$f":"IF(OR(PTA!Z16=\"\",PTA!Z16=\"X\"),\"X\",IF(PTA!Z16=\"*\",\"*\",VLOOKUP(PTA!Z16,AL_NUM_ARB,2,FALSE)&\" \"&VLOOKUP(PTA!Z16,AL_NUM_ARB,4,FALSE)&\" \"&VLOOKUP(PTA!Z16,AL_NUM_ARB,6,FALSE)))","v":"X"},{"$f":"IF(OR(PTA!AA16=\"\",PTA!AA16=\"X\"),\"X\",IF(PTA!AA16=\"*\",\"*\",VLOOKUP(PTA!AA16,AL_NUM_ARB,2,FALSE)&\" \"&VLOOKUP(PTA!AA16,AL_NUM_ARB,4,FALSE)&\" \"&VLOOKUP(PTA!AA16,AL_NUM_ARB,6,FALSE)))","v":"X"},{"$f":"IF(OR(PTA!AB16=\"\",PTA!AB16=\"X\"),\"X\",IF(PTA!AB16=\"*\",\"*\",VLOOKUP(PTA!AB16,AL_NUM_ARB,2,FALSE)&\" \"&VLOOKUP(PTA!AB16,AL_NUM_ARB,4,FALSE)&\" \"&VLOOKUP(PTA!AB16,AL_NUM_ARB,6,FALSE)))","v":"X"},{"$f":"IF(OR(PTA!AC16=\"\",PTA!AC16=\"X\"),\"X\",IF(PTA!AC16=\"*\",\"*\",VLOOKUP(PTA!AC16,AL_NUM_ARB,2,FALSE)&\" \"&VLOOKUP(PTA!AC16,AL_NUM_ARB,4,FALSE)&\" \"&VLOOKUP(PTA!AC16,AL_NUM_ARB,6,FALSE)))","v":"X"},{"$f":"IF(OR(PTA!AD16=\"\",PTA!AD16=\"X\"),\"X\",IF(PTA!AD16=\"*\",\"*\",VLOOKUP(PTA!AD16,AL_NUM_ARB,2,FALSE)&\" \"&VLOOKUP(PTA!AD16,AL_NUM_ARB,4,FALSE)&\" \"&VLOOKUP(PTA!AD16,AL_NUM_ARB,6,FALSE)))","v":"X"},{"$f":"IF(OR(PTA!AE16=\"\",PTA!AE16=\"X\"),\"X\",IF(PTA!AE16=\"*\",\"*\",VLOOKUP(PTA!AE16,AL_NUM_ARB,2,FALSE)&\" \"&VLOOKUP(PTA!AE16,AL_NUM_ARB,4,FALSE)&\" \"&VLOOKUP(PTA!AE16,AL_NUM_ARB,6,FALSE)))","v":"X"},{"$f":"IF(OR(PTA!AF16=\"\",PTA!AF16=\"X\"),\"X\",IF(PTA!AF16=\"*\",\"*\",VLOOKUP(PTA!AF16,AL_NUM_ARB,2,FALSE)&\" \"&VLOOKUP(PTA!AF16,AL_NUM_ARB,4,FALSE)&\" \"&VLOOKUP(PTA!AF16,AL_NUM_ARB,6,FALSE)))","v":"X"},{"$f":"IF(OR(PTA!AG16=\"\",PTA!AG16=\"X\"),\"X\",IF(PTA!AG16=\"*\",\"*\",VLOOKUP(PTA!AG16,AL_NUM_ARB,2,FALSE)&\" \"&VLOOKUP(PTA!AG16,AL_NUM_ARB,4,FALSE)&\" \"&VLOOKUP(PTA!AG16,AL_NUM_ARB,6,FALSE)))","v":"X"},{"$f":"IF(OR(PTA!AH16=\"\",PTA!AH16=\"X\"),\"X\",IF(PTA!AH16=\"*\",\"*\",VLOOKUP(PTA!AH16,AL_NUM_ARB,2,FALSE)&\" \"&VLOOKUP(PTA!AH16,AL_NUM_ARB,4,FALSE)&\" \"&VLOOKUP(PTA!AH16,AL_NUM_ARB,6,FALSE)))","v":"X"},{"$f":"IF(OR(PTA!AI16=\"\",PTA!AI16=\"X\"),\"X\",IF(PTA!AI16=\"*\",\"*\",VLOOKUP(PTA!AI16,AL_NUM_ARB,2,FALSE)&\" \"&VLOOKUP(PTA!AI16,AL_NUM_ARB,4,FALSE)&\" \"&VLOOKUP(PTA!AI16,AL_NUM_ARB,6,FALSE)))","v":"X"},{"$f":"IF(OR(PTA!AJ16=\"\",PTA!AJ16=\"X\"),\"X\",IF(PTA!AJ16=\"*\",\"*\",VLOOKUP(PTA!AJ16,AL_NUM_ARB,2,FALSE)&\" \"&VLOOKUP(PTA!AJ16,AL_NUM_ARB,4,FALSE)&\" \"&VLOOKUP(PTA!AJ16,AL_NUM_ARB,6,FALSE)))","v":"X"},{"$f":"IF(OR(PTA!AK16=\"\",PTA!AK16=\"X\"),\"X\",IF(PTA!AK16=\"*\",\"*\",VLOOKUP(PTA!AK16,AL_NUM_ARB,2,FALSE)&\" \"&VLOOKUP(PTA!AK16,AL_NUM_ARB,4,FALSE)&\" \"&VLOOKUP(PTA!AK16,AL_NUM_ARB,6,FALSE)))","v":"X"},{"$f":"IF(OR(PTA!AL16=\"\",PTA!AL16=\"X\"),\"X\",IF(PTA!AL16=\"*\",\"*\",VLOOKUP(PTA!AL16,AL_NUM_ARB,2,FALSE)&\" \"&VLOOKUP(PTA!AL16,AL_NUM_ARB,4,FALSE)&\" \"&VLOOKUP(PTA!AL16,AL_NUM_ARB,6,FALSE)))","v":"X"},{"$f":"IF(OR(PTA!AM16=\"\",PTA!AM16=\"X\"),\"X\",IF(PTA!AM16=\"*\",\"*\",VLOOKUP(PTA!AM16,AL_NUM_ARB,2,FALSE)&\" \"&VLOOKUP(PTA!AM16,AL_NUM_ARB,4,FALSE)&\" \"&VLOOKUP(PTA!AM16,AL_NUM_ARB,6,FALSE)))","v":"X"},{"$f":"IF(OR(PTA!AN16=\"\",PTA!AN16=\"X\"),\"X\",IF(PTA!AN16=\"*\",\"*\",VLOOKUP(PTA!AN16,AL_NUM_ARB,2,FALSE)&\" \"&VLOOKUP(PTA!AN16,AL_NUM_ARB,4,FALSE)&\" \"&VLOOKUP(PTA!AN16,AL_NUM_ARB,6,FALSE)))","v":"X"},{"$f":"IF(OR(PTA!AO16=\"\",PTA!AO16=\"X\"),\"X\",IF(PTA!AO16=\"*\",\"*\",VLOOKUP(PTA!AO16,AL_NUM_ARB,2,FALSE)&\" \"&VLOOKUP(PTA!AO16,AL_NUM_ARB,4,FALSE)&\" \"&VLOOKUP(PTA!AO16,AL_NUM_ARB,6,FALSE)))","v":"X"},{"$f":"IF(OR(PTA!AP16=\"\",PTA!AP16=\"X\"),\"X\",IF(PTA!AP16=\"*\",\"*\",VLOOKUP(PTA!AP16,AL_NUM_ARB,2,FALSE)&\" \"&VLOOKUP(PTA!AP16,AL_NUM_ARB,4,FALSE)&\" \"&VLOOKUP(PTA!AP16,AL_NUM_ARB,6,FALSE)))","v":"X"},{"$f":"IF(OR(PTA!AQ16=\"\",PTA!AQ16=\"X\"),\"X\",IF(PTA!AQ16=\"*\",\"*\",VLOOKUP(PTA!AQ16,AL_NUM_ARB,2,FALSE)&\" \"&VLOOKUP(PTA!AQ16,AL_NUM_ARB,4,FALSE)&\" \"&VLOOKUP(PTA!AQ16,AL_NUM_ARB,6,FALSE)))","v":"X"},{"$f":"IF(OR(PTA!AR16=\"\",PTA!AR16=\"X\"),\"X\",IF(PTA!AR16=\"*\",\"*\",VLOOKUP(PTA!AR16,AL_NUM_ARB,2,FALSE)&\" \"&VLOOKUP(PTA!AR16,AL_NUM_ARB,4,FALSE)&\" \"&VLOOKUP(PTA!AR16,AL_NUM_ARB,6,FALSE)))","v":"X"},{"$f":"IF(OR(PTA!AS16=\"\",PTA!AS16=\"X\"),\"X\",IF(PTA!AS16=\"*\",\"*\",VLOOKUP(PTA!AS16,AL_NUM_ARB,2,FALSE)&\" \"&VLOOKUP(PTA!AS16,AL_NUM_ARB,4,FALSE)&\" \"&VLOOKUP(PTA!AS16,AL_NUM_ARB,6,FALSE)))","v":"X"},{"$f":"IF(OR(PTA!AT16=\"\",PTA!AT16=\"X\"),\"X\",IF(PTA!AT16=\"*\",\"*\",VLOOKUP(PTA!AT16,AL_NUM_ARB,2,FALSE)&\" \"&VLOOKUP(PTA!AT16,AL_NUM_ARB,4,FALSE)&\" \"&VLOOKUP(PTA!AT16,AL_NUM_ARB,6,FALSE)))","v":"X"},{"$f":"IF(OR(PTA!AU16=\"\",PTA!AU16=\"X\"),\"X\",IF(PTA!AU16=\"*\",\"*\",VLOOKUP(PTA!AU16,AL_NUM_ARB,2,FALSE)&\" \"&VLOOKUP(PTA!AU16,AL_NUM_ARB,4,FALSE)&\" \"&VLOOKUP(PTA!AU16,AL_NUM_ARB,6,FALSE)))","v":"X"},{"$f":"IF(OR(PTA!AV16=\"\",PTA!AV16=\"X\"),\"X\",IF(PTA!AV16=\"*\",\"*\",VLOOKUP(PTA!AV16,AL_NUM_ARB,2,FALSE)&\" \"&VLOOKUP(PTA!AV16,AL_NUM_ARB,4,FALSE)&\" \"&VLOOKUP(PTA!AV16,AL_NUM_ARB,6,FALSE)))","v":"X"},{"$f":"IF(OR(PTA!AW16=\"\",PTA!AW16=\"X\"),\"X\",IF(PTA!AW16=\"*\",\"*\",VLOOKUP(PTA!AW16,AL_NUM_ARB,2,FALSE)&\" \"&VLOOKUP(PTA!AW16,AL_NUM_ARB,4,FALSE)&\" \"&VLOOKUP(PTA!AW16,AL_NUM_ARB,6,FALSE)))","v":"X"},{"$f":"IF(OR(PTA!AX16=\"\",PTA!AX16=\"X\"),\"X\",IF(PTA!AX16=\"*\",\"*\",VLOOKUP(PTA!AX16,AL_NUM_ARB,2,FALSE)&\" \"&VLOOKUP(PTA!AX16,AL_NUM_ARB,4,FALSE)&\" \"&VLOOKUP(PTA!AX16,AL_NUM_ARB,6,FALSE)))","v":"X"},{"$f":"IF(OR(PTA!AY16=\"\",PTA!AY16=\"X\"),\"X\",IF(PTA!AY16=\"*\",\"*\",VLOOKUP(PTA!AY16,AL_NUM_ARB,2,FALSE)&\" \"&VLOOKUP(PTA!AY16,AL_NUM_ARB,4,FALSE)&\" \"&VLOOKUP(PTA!AY16,AL_NUM_ARB,6,FALSE)))","v":"X"},{"$f":"IF(OR(PTA!AZ16=\"\",PTA!AZ16=\"X\"),\"X\",IF(PTA!AZ16=\"*\",\"*\",VLOOKUP(PTA!AZ16,AL_NUM_ARB,2,FALSE)&\" \"&VLOOKUP(PTA!AZ16,AL_NUM_ARB,4,FALSE)&\" \"&VLOOKUP(PTA!AZ16,AL_NUM_ARB,6,FALSE)))","v":"X"},{"$f":"IF(OR(PTA!BA16=\"\",PTA!BA16=\"X\"),\"X\",IF(PTA!BA16=\"*\",\"*\",VLOOKUP(PTA!BA16,AL_NUM_ARB,2,FALSE)&\" \"&VLOOKUP(PTA!BA16,AL_NUM_ARB,4,FALSE)&\" \"&VLOOKUP(PTA!BA16,AL_NUM_ARB,6,FALSE)))","v":"X"},{"$f":"IF(OR(PTA!BB16=\"\",PTA!BB16=\"X\"),\"X\",IF(PTA!BB16=\"*\",\"*\",VLOOKUP(PTA!BB16,AL_NUM_ARB,2,FALSE)&\" \"&VLOOKUP(PTA!BB16,AL_NUM_ARB,4,FALSE)&\" \"&VLOOKUP(PTA!BB16,AL_NUM_ARB,6,FALSE)))","v":"X"},{"$f":"IF(OR(PTA!BC16=\"\",PTA!BC16=\"X\"),\"X\",IF(PTA!BC16=\"*\",\"*\",VLOOKUP(PTA!BC16,AL_NUM_ARB,2,FALSE)&\" \"&VLOOKUP(PTA!BC16,AL_NUM_ARB,4,FALSE)&\" \"&VLOOKUP(PTA!BC16,AL_NUM_ARB,6,FALSE)))","v":"X"},{"$f":"IF(OR(PTA!BD16=\"\",PTA!BD16=\"X\"),\"X\",IF(PTA!BD16=\"*\",\"*\",VLOOKUP(PTA!BD16,AL_NUM_ARB,2,FALSE)&\" \"&VLOOKUP(PTA!BD16,AL_NUM_ARB,4,FALSE)&\" \"&VLOOKUP(PTA!BD16,AL_NUM_ARB,6,FALSE)))","v":"X"},{"$f":"IF(OR(PTA!BE16=\"\",PTA!BE16=\"X\"),\"X\",IF(PTA!BE16=\"*\",\"*\",VLOOKUP(PTA!BE16,AL_NUM_ARB,2,FALSE)&\" \"&VLOOKUP(PTA!BE16,AL_NUM_ARB,4,FALSE)&\" \"&VLOOKUP(PTA!BE16,AL_NUM_ARB,6,FALSE)))","v":"X"},{"$f":"IF(OR(PTA!BF16=\"\",PTA!BF16=\"X\"),\"X\",IF(PTA!BF16=\"*\",\"*\",VLOOKUP(PTA!BF16,AL_NUM_ARB,2,FALSE)&\" \"&VLOOKUP(PTA!BF16,AL_NUM_ARB,4,FALSE)&\" \"&VLOOKUP(PTA!BF16,AL_NUM_ARB,6,FALSE)))","v":"X"},{"$f":"IF(OR(PTA!BG16=\"\",PTA!BG16=\"X\"),\"X\",IF(PTA!BG16=\"*\",\"*\",VLOOKUP(PTA!BG16,AL_NUM_ARB,2,FALSE)&\" \"&VLOOKUP(PTA!BG16,AL_NUM_ARB,4,FALSE)&\" \"&VLOOKUP(PTA!BG16,AL_NUM_ARB,6,FALSE)))","v":"X"},{"$f":"IF(OR(PTA!BH16=\"\",PTA!BH16=\"X\"),\"X\",IF(PTA!BH16=\"*\",\"*\",VLOOKUP(PTA!BH16,AL_NUM_ARB,2,FALSE)&\" \"&VLOOKUP(PTA!BH16,AL_NUM_ARB,4,FALSE)&\" \"&VLOOKUP(PTA!BH16,AL_NUM_ARB,6,FALSE)))","v":"X"},{"$f":"IF(OR(PTA!BI16=\"\",PTA!BI16=\"X\"),\"X\",IF(PTA!BI16=\"*\",\"*\",VLOOKUP(PTA!BI16,AL_NUM_ARB,2,FALSE)&\" \"&VLOOKUP(PTA!BI16,AL_NUM_ARB,4,FALSE)&\" \"&VLOOKUP(PTA!BI16,AL_NUM_ARB,6,FALSE)))","v":"X"},{"$f":"IF(OR(PTA!BJ16=\"\",PTA!BJ16=\"X\"),\"X\",IF(PTA!BJ16=\"*\",\"*\",VLOOKUP(PTA!BJ16,AL_NUM_ARB,2,FALSE)&\" \"&VLOOKUP(PTA!BJ16,AL_NUM_ARB,4,FALSE)&\" \"&VLOOKUP(PTA!BJ16,AL_NUM_ARB,6,FALSE)))","v":"X"},{"$f":"IF(OR(PTA!BK16=\"\",PTA!BK16=\"X\"),\"X\",IF(PTA!BK16=\"*\",\"*\",VLOOKUP(PTA!BK16,AL_NUM_ARB,2,FALSE)&\" \"&VLOOKUP(PTA!BK16,AL_NUM_ARB,4,FALSE)&\" \"&VLOOKUP(PTA!BK16,AL_NUM_ARB,6,FALSE)))","v":"X"},{"$f":"IF(OR(PTA!BL16=\"\",PTA!BL16=\"X\"),\"X\",IF(PTA!BL16=\"*\",\"*\",VLOOKUP(PTA!BL16,AL_NUM_ARB,2,FALSE)&\" \"&VLOOKUP(PTA!BL16,AL_NUM_ARB,4,FALSE)&\" \"&VLOOKUP(PTA!BL16,AL_NUM_ARB,6,FALSE)))","v":"X"},{"$f":"IF(OR(PTA!BM16=\"\",PTA!BM16=\"X\"),\"X\",IF(PTA!BM16=\"*\",\"*\",VLOOKUP(PTA!BM16,AL_NUM_ARB,2,FALSE)&\" \"&VLOOKUP(PTA!BM16,AL_NUM_ARB,4,FALSE)&\" \"&VLOOKUP(PTA!BM16,AL_NUM_ARB,6,FALSE)))","v":"X"},{"$f":"IF(OR(PTA!BN16=\"\",PTA!BN16=\"X\"),\"X\",IF(PTA!BN16=\"*\",\"*\",VLOOKUP(PTA!BN16,AL_NUM_ARB,2,FALSE)&\" \"&VLOOKUP(PTA!BN16,AL_NUM_ARB,4,FALSE)&\" \"&VLOOKUP(PTA!BN16,AL_NUM_ARB,6,FALSE)))","v":"X"},{"$f":"IF(OR(PTA!BO16=\"\",PTA!BO16=\"X\"),\"X\",IF(PTA!BO16=\"*\",\"*\",VLOOKUP(PTA!BO16,AL_NUM_ARB,2,FALSE)&\" \"&VLOOKUP(PTA!BO16,AL_NUM_ARB,4,FALSE)&\" \"&VLOOKUP(PTA!BO16,AL_NUM_ARB,6,FALSE)))","v":"X"},{"$f":"IF(OR(PTA!BP16=\"\",PTA!BP16=\"X\"),\"X\",IF(PTA!BP16=\"*\",\"*\",VLOOKUP(PTA!BP16,AL_NUM_ARB,2,FALSE)&\" \"&VLOOKUP(PTA!BP16,AL_NUM_ARB,4,FALSE)&\" \"&VLOOKUP(PTA!BP16,AL_NUM_ARB,6,FALSE)))","v":"X"},{"$f":"IF(OR(PTA!BQ16=\"\",PTA!BQ16=\"X\"),\"X\",IF(PTA!BQ16=\"*\",\"*\",VLOOKUP(PTA!BQ16,AL_NUM_ARB,2,FALSE)&\" \"&VLOOKUP(PTA!BQ16,AL_NUM_ARB,4,FALSE)&\" \"&VLOOKUP(PTA!BQ16,AL_NUM_ARB,6,FALSE)))","v":"X"},{"$f":"IF(OR(PTA!BR16=\"\",PTA!BR16=\"X\"),\"X\",IF(PTA!BR16=\"*\",\"*\",VLOOKUP(PTA!BR16,AL_NUM_ARB,2,FALSE)&\" \"&VLOOKUP(PTA!BR16,AL_NUM_ARB,4,FALSE)&\" \"&VLOOKUP(PTA!BR16,AL_NUM_ARB,6,FALSE)))","v":"X"},{"$f":"IF(OR(PTA!BT16=\"\",PTA!BT16=\"X\"),\"X\",VLOOKUP(PTA!BT16,AL_NUM_ARB,2,FALSE)&\" \"&VLOOKUP(PTA!BT16,AL_NUM_ARB,4,FALSE)&\" \"&VLOOKUP(PTA!BT16,AL_NUM_ARB,6,FALSE))","v":"X"},{"$f":"IF(OR(PTA!BU16=\"\",PTA!BU16=\"X\"),\"X\",VLOOKUP(PTA!BU16,AL_NUM_ARB,2,FALSE)&\" \"&VLOOKUP(PTA!BU16,AL_NUM_ARB,4,FALSE)&\" \"&VLOOKUP(PTA!BU16,AL_NUM_ARB,6,FALSE))","v":"X"},{"$f":"IF(OR(PTA!BV16=\"\",PTA!BV16=\"X\"),\"X\",VLOOKUP(PTA!BV16,AL_NUM_ARB,2,FALSE)&\" \"&VLOOKUP(PTA!BV16,AL_NUM_ARB,4,FALSE)&\" \"&VLOOKUP(PTA!BV16,AL_NUM_ARB,6,FALSE))","v":"X"},{"$f":"IF(OR(PTA!BW16=\"\",PTA!BW16=\"X\"),\"X\",VLOOKUP(PTA!BW16,AL_NUM_ARB,2,FALSE)&\" \"&VLOOKUP(PTA!BW16,AL_NUM_ARB,4,FALSE)&\" \"&VLOOKUP(PTA!BW16,AL_NUM_ARB,6,FALSE))","v":"X"},"04:00:00"]
[{"$f":"PTA!A17","v":""},{"$f":"PTA!B17","v":"00:00:00"},{"$f":"PTA!C17","v":32},{"$f":"PTA!D17","v":0},{"$f":"IF(OR(PTA!E17=\"\",PTA!E17=\"X\"),\"X\",IF(PTA!E17=\"*\",\"*\",VLOOKUP(PTA!E17,AL_NUM_ARB,2,FALSE)&\" \"&VLOOKUP(PTA!E17,AL_NUM_ARB,4,FALSE)&\" \"&VLOOKUP(PTA!E17,AL_NUM_ARB,6,FALSE)))","v":"X"},{"$f":"IF(OR(PTA!F17=\"\",PTA!F17=\"X\"),\"X\",IF(PTA!F17=\"*\",\"*\",VLOOKUP(PTA!F17,AL_NUM_ARB,2,FALSE)&\" \"&VLOOKUP(PTA!F17,AL_NUM_ARB,4,FALSE)&\" \"&VLOOKUP(PTA!F17,AL_NUM_ARB,6,FALSE)))","v":"X"},{"$f":"IF(OR(PTA!G17=\"\",PTA!G17=\"X\"),\"X\",IF(PTA!G17=\"*\",\"*\",VLOOKUP(PTA!G17,AL_NUM_ARB,2,FALSE)&\" \"&VLOOKUP(PTA!G17,AL_NUM_ARB,4,FALSE)&\" \"&VLOOKUP(PTA!G17,AL_NUM_ARB,6,FALSE)))","v":"X"},{"$f":"IF(OR(PTA!H17=\"\",PTA!H17=\"X\"),\"X\",IF(PTA!H17=\"*\",\"*\",VLOOKUP(PTA!H17,AL_NUM_ARB,2,FALSE)&\" \"&VLOOKUP(PTA!H17,AL_NUM_ARB,4,FALSE)&\" \"&VLOOKUP(PTA!H17,AL_NUM_ARB,6,FALSE)))","v":"X"},{"$f":"IF(OR(PTA!I17=\"\",PTA!I17=\"X\"),\"X\",IF(PTA!I17=\"*\",\"*\",VLOOKUP(PTA!I17,AL_NUM_ARB,2,FALSE)&\" \"&VLOOKUP(PTA!I17,AL_NUM_ARB,4,FALSE)&\" \"&VLOOKUP(PTA!I17,AL_NUM_ARB,6,FALSE)))","v":"X"},{"$f":"IF(OR(PTA!J17=\"\",PTA!J17=\"X\"),\"X\",IF(PTA!J17=\"*\",\"*\",VLOOKUP(PTA!J17,AL_NUM_ARB,2,FALSE)&\" \"&VLOOKUP(PTA!J17,AL_NUM_ARB,4,FALSE)&\" \"&VLOOKUP(PTA!J17,AL_NUM_ARB,6,FALSE)))","v":"X"},{"$f":"IF(OR(PTA!K17=\"\",PTA!K17=\"X\"),\"X\",IF(PTA!K17=\"*\",\"*\",VLOOKUP(PTA!K17,AL_NUM_ARB,2,FALSE)&\" \"&VLOOKUP(PTA!K17,AL_NUM_ARB,4,FALSE)&\" \"&VLOOKUP(PTA!K17,AL_NUM_ARB,6,FALSE)))","v":"X"},{"$f":"IF(OR(PTA!L17=\"\",PTA!L17=\"X\"),\"X\",IF(PTA!L17=\"*\",\"*\",VLOOKUP(PTA!L17,AL_NUM_ARB,2,FALSE)&\" \"&VLOOKUP(PTA!L17,AL_NUM_ARB,4,FALSE)&\" \"&VLOOKUP(PTA!L17,AL_NUM_ARB,6,FALSE)))","v":"X"},{"$f":"IF(OR(PTA!M17=\"\",PTA!M17=\"X\"),\"X\",IF(PTA!M17=\"*\",\"*\",VLOOKUP(PTA!M17,AL_NUM_ARB,2,FALSE)&\" \"&VLOOKUP(PTA!M17,AL_NUM_ARB,4,FALSE)&\" \"&VLOOKUP(PTA!M17,AL_NUM_ARB,6,FALSE)))","v":"X"},{"$f":"IF(OR(PTA!N17=\"\",PTA!N17=\"X\"),\"X\",IF(PTA!N17=\"*\",\"*\",VLOOKUP(PTA!N17,AL_NUM_ARB,2,FALSE)&\" \"&VLOOKUP(PTA!N17,AL_NUM_ARB,4,FALSE)&\" \"&VLOOKUP(PTA!N17,AL_NUM_ARB,6,FALSE)))","v":"X"},{"$f":"IF(OR(PTA!O17=\"\",PTA!O17=\"X\"),\"X\",IF(PTA!O17=\"*\",\"*\",VLOOKUP(PTA!O17,AL_NUM_ARB,2,FALSE)&\" \"&VLOOKUP(PTA!O17,AL_NUM_ARB,4,FALSE)&\" \"&VLOOKUP(PTA!O17,AL_NUM_ARB,6,FALSE)))","v":"X"},{"$f":"IF(OR(PTA!P17=\"\",PTA!P17=\"X\"),\"X\",IF(PTA!P17=\"*\",\"*\",VLOOKUP(PTA!P17,AL_NUM_ARB,2,FALSE)&\" \"&VLOOKUP(PTA!P17,AL_NUM_ARB,4,FALSE)&\" \"&VLOOKUP(PTA!P17,AL_NUM_ARB,6,FALSE)))","v":"X"},{"$f":"IF(OR(PTA!Q17=\"\",PTA!Q17=\"X\"),\"X\",IF(PTA!Q17=\"*\",\"*\",VLOOKUP(PTA!Q17,AL_NUM_ARB,2,FALSE)&\" \"&VLOOKUP(PTA!Q17,AL_NUM_ARB,4,FALSE)&\" \"&VLOOKUP(PTA!Q17,AL_NUM_ARB,6,FALSE)))","v":"X"},{"$f":"IF(OR(PTA!R17=\"\",PTA!R17=\"X\"),\"X\",IF(PTA!R17=\"*\",\"*\",VLOOKUP(PTA!R17,AL_NUM_ARB,2,FALSE)&\" \"&VLOOKUP(PTA!R17,AL_NUM_ARB,4,FALSE)&\" \"&VLOOKUP(PTA!R17,AL_NUM_ARB,6,FALSE)))","v":"X"},{"$f":"IF(OR(PTA!S17=\"\",PTA!S17=\"X\"),\"X\",IF(PTA!S17=\"*\",\"*\",VLOOKUP(PTA!S17,AL_NUM_ARB,2,FALSE)&\" \"&VLOOKUP(PTA!S17,AL_NUM_ARB,4,FALSE)&\" \"&VLOOKUP(PTA!S17,AL_NUM_ARB,6,FALSE)))","v":"X"},{"$f":"IF(OR(PTA!T17=\"\",PTA!T17=\"X\"),\"X\",IF(PTA!T17=\"*\",\"*\",VLOOKUP(PTA!T17,AL_NUM_ARB,2,FALSE)&\" \"&VLOOKUP(PTA!T17,AL_NUM_ARB,4,FALSE)&\" \"&VLOOKUP(PTA!T17,AL_NUM_ARB,6,FALSE)))","v":"X"},{"$f":"IF(OR(PTA!U17=\"\",PTA!U17=\"X\"),\"X\",IF(PTA!U17=\"*\",\"*\",VLOOKUP(PTA!U17,AL_NUM_ARB,2,FALSE)&\" \"&VLOOKUP(PTA!U17,AL_NUM_ARB,4,FALSE)&\" \"&VLOOKUP(PTA!U17,AL_NUM_ARB,6,FALSE)))","v":"X"},{"$f":"IF(OR(PTA!V17=\"\",PTA!V17=\"X\"),\"X\",IF(PTA!V17=\"*\",\"*\",VLOOKUP(PTA!V17,AL_NUM_ARB,2,FALSE)&\" \"&VLOOKUP(PTA!V17,AL_NUM_ARB,4,FALSE)&\" \"&VLOOKUP(PTA!V17,AL_NUM_ARB,6,FALSE)))","v":"X"},{"$f":"IF(OR(PTA!W17=\"\",PTA!W17=\"X\"),\"X\",IF(PTA!W17=\"*\",\"*\",VLOOKUP(PTA!W17,AL_NUM_ARB,2,FALSE)&\" \"&VLOOKUP(PTA!W17,AL_NUM_ARB,4,FALSE)&\" \"&VLOOKUP(PTA!W17,AL_NUM_ARB,6,FALSE)))","v":"X"},{"$f":"IF(OR(PTA!X17=\"\",PTA!X17=\"X\"),\"X\",IF(PTA!X17=\"*\",\"*\",VLOOKUP(PTA!X17,AL_NUM_ARB,2,FALSE)&\" \"&VLOOKUP(PTA!X17,AL_NUM_ARB,4,FALSE)&\" \"&VLOOKUP(PTA!X17,AL_NUM_ARB,6,FALSE)))","v":"X"},{"$f":"IF(OR(PTA!Y17=\"\",PTA!Y17=\"X\"),\"X\",IF(PTA!Y17=\"*\",\"*\",VLOOKUP(PTA!Y17,AL_NUM_ARB,2,FALSE)&\" \"&VLOOKUP(PTA!Y17,AL_NUM_ARB,4,FALSE)&\" \"&VLOOKUP(PTA!Y17,AL_NUM_ARB,6,FALSE)))","v":"X"},{"$f":"IF(OR(PTA!Z17=\"\",PTA!Z17=\"X\"),\"X\",IF(PTA!Z17=\"*\",\"*\",VLOOKUP(PTA!Z17,AL_NUM_ARB,2,FALSE)&\" \"&VLOOKUP(PTA!Z17,AL_NUM_ARB,4,FALSE)&\" \"&VLOOKUP(PTA!Z17,AL_NUM_ARB,6,FALSE)))","v":"X"},{"$f":"IF(OR(PTA!AA17=\"\",PTA!AA17=\"X\"),\"X\",IF(PTA!AA17=\"*\",\"*\",VLOOKUP(PTA!AA17,AL_NUM_ARB,2,FALSE)&\" \"&VLOOKUP(PTA!AA17,AL_NUM_ARB,4,FALSE)&\" \"&VLOOKUP(PTA!AA17,AL_NUM_ARB,6,FALSE)))","v":"X"},{"$f":"IF(OR(PTA!AB17=\"\",PTA!AB17=\"X\"),\"X\",IF(PTA!AB17=\"*\",\"*\",VLOOKUP(PTA!AB17,AL_NUM_ARB,2,FALSE)&\" \"&VLOOKUP(PTA!AB17,AL_NUM_ARB,4,FALSE)&\" \"&VLOOKUP(PTA!AB17,AL_NUM_ARB,6,FALSE)))","v":"X"},{"$f":"IF(OR(PTA!AC17=\"\",PTA!AC17=\"X\"),\"X\",IF(PTA!AC17=\"*\",\"*\",VLOOKUP(PTA!AC17,AL_NUM_ARB,2,FALSE)&\" \"&VLOOKUP(PTA!AC17,AL_NUM_ARB,4,FALSE)&\" \"&VLOOKUP(PTA!AC17,AL_NUM_ARB,6,FALSE)))","v":"X"},{"$f":"IF(OR(PTA!AD17=\"\",PTA!AD17=\"X\"),\"X\",IF(PTA!AD17=\"*\",\"*\",VLOOKUP(PTA!AD17,AL_NUM_ARB,2,FALSE)&\" \"&VLOOKUP(PTA!AD17,AL_NUM_ARB,4,FALSE)&\" \"&VLOOKUP(PTA!AD17,AL_NUM_ARB,6,FALSE)))","v":"X"},{"$f":"IF(OR(PTA!AE17=\"\",PTA!AE17=\"X\"),\"X\",IF(PTA!AE17=\"*\",\"*\",VLOOKUP(PTA!AE17,AL_NUM_ARB,2,FALSE)&\" \"&VLOOKUP(PTA!AE17,AL_NUM_ARB,4,FALSE)&\" \"&VLOOKUP(PTA!AE17,AL_NUM_ARB,6,FALSE)))","v":"X"},{"$f":"IF(OR(PTA!AF17=\"\",PTA!AF17=\"X\"),\"X\",IF(PTA!AF17=\"*\",\"*\",VLOOKUP(PTA!AF17,AL_NUM_ARB,2,FALSE)&\" \"&VLOOKUP(PTA!AF17,AL_NUM_ARB,4,FALSE)&\" \"&VLOOKUP(PTA!AF17,AL_NUM_ARB,6,FALSE)))","v":"X"},{"$f":"IF(OR(PTA!AG17=\"\",PTA!AG17=\"X\"),\"X\",IF(PTA!AG17=\"*\",\"*\",VLOOKUP(PTA!AG17,AL_NUM_ARB,2,FALSE)&\" \"&VLOOKUP(PTA!AG17,AL_NUM_ARB,4,FALSE)&\" \"&VLOOKUP(PTA!AG17,AL_NUM_ARB,6,FALSE)))","v":"X"},{"$f":"IF(OR(PTA!AH17=\"\",PTA!AH17=\"X\"),\"X\",IF(PTA!AH17=\"*\",\"*\",VLOOKUP(PTA!AH17,AL_NUM_ARB,2,FALSE)&\" \"&VLOOKUP(PTA!AH17,AL_NUM_ARB,4,FALSE)&\" \"&VLOOKUP(PTA!AH17,AL_NUM_ARB,6,FALSE)))","v":"X"},{"$f":"IF(OR(PTA!AI17=\"\",PTA!AI17=\"X\"),\"X\",IF(PTA!AI17=\"*\",\"*\",VLOOKUP(PTA!AI17,AL_NUM_ARB,2,FALSE)&\" \"&VLOOKUP(PTA!AI17,AL_NUM_ARB,4,FALSE)&\" \"&VLOOKUP(PTA!AI17,AL_NUM_ARB,6,FALSE)))","v":"X"},{"$f":"IF(OR(PTA!AJ17=\"\",PTA!AJ17=\"X\"),\"X\",IF(PTA!AJ17=\"*\",\"*\",VLOOKUP(PTA!AJ17,AL_NUM_ARB,2,FALSE)&\" \"&VLOOKUP(PTA!AJ17,AL_NUM_ARB,4,FALSE)&\" \"&VLOOKUP(PTA!AJ17,AL_NUM_ARB,6,FALSE)))","v":"X"},{"$f":"IF(OR(PTA!AK17=\"\",PTA!AK17=\"X\"),\"X\",IF(PTA!AK17=\"*\",\"*\",VLOOKUP(PTA!AK17,AL_NUM_ARB,2,FALSE)&\" \"&VLOOKUP(PTA!AK17,AL_NUM_ARB,4,FALSE)&\" \"&VLOOKUP(PTA!AK17,AL_NUM_ARB,6,FALSE)))","v":"X"},{"$f":"IF(OR(PTA!AL17=\"\",PTA!AL17=\"X\"),\"X\",IF(PTA!AL17=\"*\",\"*\",VLOOKUP(PTA!AL17,AL_NUM_ARB,2,FALSE)&\" \"&VLOOKUP(PTA!AL17,AL_NUM_ARB,4,FALSE)&\" \"&VLOOKUP(PTA!AL17,AL_NUM_ARB,6,FALSE)))","v":"X"},{"$f":"IF(OR(PTA!AM17=\"\",PTA!AM17=\"X\"),\"X\",IF(PTA!AM17=\"*\",\"*\",VLOOKUP(PTA!AM17,AL_NUM_ARB,2,FALSE)&\" \"&VLOOKUP(PTA!AM17,AL_NUM_ARB,4,FALSE)&\" \"&VLOOKUP(PTA!AM17,AL_NUM_ARB,6,FALSE)))","v":"X"},{"$f":"IF(OR(PTA!AN17=\"\",PTA!AN17=\"X\"),\"X\",IF(PTA!AN17=\"*\",\"*\",VLOOKUP(PTA!AN17,AL_NUM_ARB,2,FALSE)&\" \"&VLOOKUP(PTA!AN17,AL_NUM_ARB,4,FALSE)&\" \"&VLOOKUP(PTA!AN17,AL_NUM_ARB,6,FALSE)))","v":"X"},{"$f":"IF(OR(PTA!AO17=\"\",PTA!AO17=\"X\"),\"X\",IF(PTA!AO17=\"*\",\"*\",VLOOKUP(PTA!AO17,AL_NUM_ARB,2,FALSE)&\" \"&VLOOKUP(PTA!AO17,AL_NUM_ARB,4,FALSE)&\" \"&VLOOKUP(PTA!AO17,AL_NUM_ARB,6,FALSE)))","v":"X"},{"$f":"IF(OR(PTA!AP17=\"\",PTA!AP17=\"X\"),\"X\",IF(PTA!AP17=\"*\",\"*\",VLOOKUP(PTA!AP17,AL_NUM_ARB,2,FALSE)&\" \"&VLOOKUP(PTA!AP17,AL_NUM_ARB,4,FALSE)&\" \"&VLOOKUP(PTA!AP17,AL_NUM_ARB,6,FALSE)))","v":"X"},{"$f":"IF(OR(PTA!AQ17=\"\",PTA!AQ17=\"X\"),\"X\",IF(PTA!AQ17=\"*\",\"*\",VLOOKUP(PTA!AQ17,AL_NUM_ARB,2,FALSE)&\" \"&VLOOKUP(PTA!AQ17,AL_NUM_ARB,4,FALSE)&\" \"&VLOOKUP(PTA!AQ17,AL_NUM_ARB,6,FALSE)))","v":"X"},{"$f":"IF(OR(PTA!AR17=\"\",PTA!AR17=\"X\"),\"X\",IF(PTA!AR17=\"*\",\"*\",VLOOKUP(PTA!AR17,AL_NUM_ARB,2,FALSE)&\" \"&VLOOKUP(PTA!AR17,AL_NUM_ARB,4,FALSE)&\" \"&VLOOKUP(PTA!AR17,AL_NUM_ARB,6,FALSE)))","v":"X"},{"$f":"IF(OR(PTA!AS17=\"\",PTA!AS17=\"X\"),\"X\",IF(PTA!AS17=\"*\",\"*\",VLOOKUP(PTA!AS17,AL_NUM_ARB,2,FALSE)&\" \"&VLOOKUP(PTA!AS17,AL_NUM_ARB,4,FALSE)&\" \"&VLOOKUP(PTA!AS17,AL_NUM_ARB,6,FALSE)))","v":"X"},{"$f":"IF(OR(PTA!AT17=\"\",PTA!AT17=\"X\"),\"X\",IF(PTA!AT17=\"*\",\"*\",VLOOKUP(PTA!AT17,AL_NUM_ARB,2,FALSE)&\" \"&VLOOKUP(PTA!AT17,AL_NUM_ARB,4,FALSE)&\" \"&VLOOKUP(PTA!AT17,AL_NUM_ARB,6,FALSE)))","v":"X"},{"$f":"IF(OR(PTA!AU17=\"\",PTA!AU17=\"X\"),\"X\",IF(PTA!AU17=\"*\",\"*\",VLOOKUP(PTA!AU17,AL_NUM_ARB,2,FALSE)&\" \"&VLOOKUP(PTA!AU17,AL_NUM_ARB,4,FALSE)&\" \"&VLOOKUP(PTA!AU17,AL_NUM_ARB,6,FALSE)))","v":"X"},{"$f":"IF(OR(PTA!AV17=\"\",PTA!AV17=\"X\"),\"X\",IF(PTA!AV17=\"*\",\"*\",VLOOKUP(PTA!AV17,AL_NUM_ARB,2,FALSE)&\" \"&VLOOKUP(PTA!AV17,AL_NUM_ARB,4,FALSE)&\" \"&VLOOKUP(PTA!AV17,AL_NUM_ARB,6,FALSE)))","v":"X"},{"$f":"IF(OR(PTA!AW17=\"\",PTA!AW17=\"X\"),\"X\",IF(PTA!AW17=\"*\",\"*\",VLOOKUP(PTA!AW17,AL_NUM_ARB,2,FALSE)&\" \"&VLOOKUP(PTA!AW17,AL_NUM_ARB,4,FALSE)&\" \"&VLOOKUP(PTA!AW17,AL_NUM_ARB,6,FALSE)))","v":"X"},{"$f":"IF(OR(PTA!AX17=\"\",PTA!AX17=\"X\"),\"X\",IF(PTA!AX17=\"*\",\"*\",VLOOKUP(PTA!AX17,AL_NUM_ARB,2,FALSE)&\" \"&VLOOKUP(PTA!AX17,AL_NUM_ARB,4,FALSE)&\" \"&VLOOKUP(PTA!AX17,AL_NUM_ARB,6,FALSE)))","v":"X"},{"$f":"IF(OR(PTA!AY17=\"\",PTA!AY17=\"X\"),\"X\",IF(PTA!AY17=\"*\",\"*\",VLOOKUP(PTA!AY17,AL_NUM_ARB,2,FALSE)&\" \"&VLOOKUP(PTA!AY17,AL_NUM_ARB,4,FALSE)&\" \"&VLOOKUP(PTA!AY17,AL_NUM_ARB,6,FALSE)))","v":"X"},{"$f":"IF(OR(PTA!AZ17=\"\",PTA!AZ17=\"X\"),\"X\",IF(PTA!AZ17=\"*\",\"*\",VLOOKUP(PTA!AZ17,AL_NUM_ARB,2,FALSE)&\" \"&VLOOKUP(PTA!AZ17,AL_NUM_ARB,4,FALSE)&\" \"&VLOOKUP(PTA!AZ17,AL_NUM_ARB,6,FALSE)))","v":"X"},{"$f":"IF(OR(PTA!BA17=\"\",PTA!BA17=\"X\"),\"X\",IF(PTA!BA17=\"*\",\"*\",VLOOKUP(PTA!BA17,AL_NUM_ARB,2,FALSE)&\" \"&VLOOKUP(PTA!BA17,AL_NUM_ARB,4,FALSE)&\" \"&VLOOKUP(PTA!BA17,AL_NUM_ARB,6,FALSE)))","v":"X"},{"$f":"IF(OR(PTA!BB17=\"\",PTA!BB17=\"X\"),\"X\",IF(PTA!BB17=\"*\",\"*\",VLOOKUP(PTA!BB17,AL_NUM_ARB,2,FALSE)&\" \"&VLOOKUP(PTA!BB17,AL_NUM_ARB,4,FALSE)&\" \"&VLOOKUP(PTA!BB17,AL_NUM_ARB,6,FALSE)))","v":"X"},{"$f":"IF(OR(PTA!BC17=\"\",PTA!BC17=\"X\"),\"X\",IF(PTA!BC17=\"*\",\"*\",VLOOKUP(PTA!BC17,AL_NUM_ARB,2,FALSE)&\" \"&VLOOKUP(PTA!BC17,AL_NUM_ARB,4,FALSE)&\" \"&VLOOKUP(PTA!BC17,AL_NUM_ARB,6,FALSE)))","v":"X"},{"$f":"IF(OR(PTA!BD17=\"\",PTA!BD17=\"X\"),\"X\",IF(PTA!BD17=\"*\",\"*\",VLOOKUP(PTA!BD17,AL_NUM_ARB,2,FALSE)&\" \"&VLOOKUP(PTA!BD17,AL_NUM_ARB,4,FALSE)&\" \"&VLOOKUP(PTA!BD17,AL_NUM_ARB,6,FALSE)))","v":"X"},{"$f":"IF(OR(PTA!BE17=\"\",PTA!BE17=\"X\"),\"X\",IF(PTA!BE17=\"*\",\"*\",VLOOKUP(PTA!BE17,AL_NUM_ARB,2,FALSE)&\" \"&VLOOKUP(PTA!BE17,AL_NUM_ARB,4,FALSE)&\" \"&VLOOKUP(PTA!BE17,AL_NUM_ARB,6,FALSE)))","v":"X"},{"$f":"IF(OR(PTA!BF17=\"\",PTA!BF17=\"X\"),\"X\",IF(PTA!BF17=\"*\",\"*\",VLOOKUP(PTA!BF17,AL_NUM_ARB,2,FALSE)&\" \"&VLOOKUP(PTA!BF17,AL_NUM_ARB,4,FALSE)&\" \"&VLOOKUP(PTA!BF17,AL_NUM_ARB,6,FALSE)))","v":"X"},{"$f":"IF(OR(PTA!BG17=\"\",PTA!BG17=\"X\"),\"X\",IF(PTA!BG17=\"*\",\"*\",VLOOKUP(PTA!BG17,AL_NUM_ARB,2,FALSE)&\" \"&VLOOKUP(PTA!BG17,AL_NUM_ARB,4,FALSE)&\" \"&VLOOKUP(PTA!BG17,AL_NUM_ARB,6,FALSE)))","v":"X"},{"$f":"IF(OR(PTA!BH17=\"\",PTA!BH17=\"X\"),\"X\",IF(PTA!BH17=\"*\",\"*\",VLOOKUP(PTA!BH17,AL_NUM_ARB,2,FALSE)&\" \"&VLOOKUP(PTA!BH17,AL_NUM_ARB,4,FALSE)&\" \"&VLOOKUP(PTA!BH17,AL_NUM_ARB,6,FALSE)))","v":"X"},{"$f":"IF(OR(PTA!BI17=\"\",PTA!BI17=\"X\"),\"X\",IF(PTA!BI17=\"*\",\"*\",VLOOKUP(PTA!BI17,AL_NUM_ARB,2,FALSE)&\" \"&VLOOKUP(PTA!BI17,AL_NUM_ARB,4,FALSE)&\" \"&VLOOKUP(PTA!BI17,AL_NUM_ARB,6,FALSE)))","v":"X"},{"$f":"IF(OR(PTA!BJ17=\"\",PTA!BJ17=\"X\"),\"X\",IF(PTA!BJ17=\"*\",\"*\",VLOOKUP(PTA!BJ17,AL_NUM_ARB,2,FALSE)&\" \"&VLOOKUP(PTA!BJ17,AL_NUM_ARB,4,FALSE)&\" \"&VLOOKUP(PTA!BJ17,AL_NUM_ARB,6,FALSE)))","v":"X"},{"$f":"IF(OR(PTA!BK17=\"\",PTA!BK17=\"X\"),\"X\",IF(PTA!BK17=\"*\",\"*\",VLOOKUP(PTA!BK17,AL_NUM_ARB,2,FALSE)&\" \"&VLOOKUP(PTA!BK17,AL_NUM_ARB,4,FALSE)&\" \"&VLOOKUP(PTA!BK17,AL_NUM_ARB,6,FALSE)))","v":"X"},{"$f":"IF(OR(PTA!BL17=\"\",PTA!BL17=\"X\"),\"X\",IF(PTA!BL17=\"*\",\"*\",VLOOKUP(PTA!BL17,AL_NUM_ARB,2,FALSE)&\" \"&VLOOKUP(PTA!BL17,AL_NUM_ARB,4,FALSE)&\" \"&VLOOKUP(PTA!BL17,AL_NUM_ARB,6,FALSE)))","v":"X"},{"$f":"IF(OR(PTA!BM17=\"\",PTA!BM17=\"X\"),\"X\",IF(PTA!BM17=\"*\",\"*\",VLOOKUP(PTA!BM17,AL_NUM_ARB,2,FALSE)&\" \"&VLOOKUP(PTA!BM17,AL_NUM_ARB,4,FALSE)&\" \"&VLOOKUP(PTA!BM17,AL_NUM_ARB,6,FALSE)))","v":"X"},{"$f":"IF(OR(PTA!BN17=\"\",PTA!BN17=\"X\"),\"X\",IF(PTA!BN17=\"*\",\"*\",VLOOKUP(PTA!BN17,AL_NUM_ARB,2,FALSE)&\" \"&VLOOKUP(PTA!BN17,AL_NUM_ARB,4,FALSE)&\" \"&VLOOKUP(PTA!BN17,AL_NUM_ARB,6,FALSE)))","v":"X"},{"$f":"IF(OR(PTA!BO17=\"\",PTA!BO17=\"X\"),\"X\",IF(PTA!BO17=\"*\",\"*\",VLOOKUP(PTA!BO17,AL_NUM_ARB,2,FALSE)&\" \"&VLOOKUP(PTA!BO17,AL_NUM_ARB,4,FALSE)&\" \"&VLOOKUP(PTA!BO17,AL_NUM_ARB,6,FALSE)))","v":"X"},{"$f":"IF(OR(PTA!BP17=\"\",PTA!BP17=\"X\"),\"X\",IF(PTA!BP17=\"*\",\"*\",VLOOKUP(PTA!BP17,AL_NUM_ARB,2,FALSE)&\" \"&VLOOKUP(PTA!BP17,AL_NUM_ARB,4,FALSE)&\" \"&VLOOKUP(PTA!BP17,AL_NUM_ARB,6,FALSE)))","v":"X"},{"$f":"IF(OR(PTA!BQ17=\"\",PTA!BQ17=\"X\"),\"X\",IF(PTA!BQ17=\"*\",\"*\",VLOOKUP(PTA!BQ17,AL_NUM_ARB,2,FALSE)&\" \"&VLOOKUP(PTA!BQ17,AL_NUM_ARB,4,FALSE)&\" \"&VLOOKUP(PTA!BQ17,AL_NUM_ARB,6,FALSE)))","v":"X"},{"$f":"IF(OR(PTA!BR17=\"\",PTA!BR17=\"X\"),\"X\",IF(PTA!BR17=\"*\",\"*\",VLOOKUP(PTA!BR17,AL_NUM_ARB,2,FALSE)&\" \"&VLOOKUP(PTA!BR17,AL_NUM_ARB,4,FALSE)&\" \"&VLOOKUP(PTA!BR17,AL_NUM_ARB,6,FALSE)))","v":"X"},{"$f":"IF(OR(PTA!BT17=\"\",PTA!BT17=\"X\"),\"X\",VLOOKUP(PTA!BT17,AL_NUM_ARB,2,FALSE)&\" \"&VLOOKUP(PTA!BT17,AL_NUM_ARB,4,FALSE)&\" \"&VLOOKUP(PTA!BT17,AL_NUM_ARB,6,FALSE))","v":"X"},{"$f":"IF(OR(PTA!BU17=\"\",PTA!BU17=\"X\"),\"X\",VLOOKUP(PTA!BU17,AL_NUM_ARB,2,FALSE)&\" \"&VLOOKUP(PTA!BU17,AL_NUM_ARB,4,FALSE)&\" \"&VLOOKUP(PTA!BU17,AL_NUM_ARB,6,FALSE))","v":"X"},{"$f":"IF(OR(PTA!BV17=\"\",PTA!BV17=\"X\"),\"X\",VLOOKUP(PTA!BV17,AL_NUM_ARB,2,FALSE)&\" \"&VLOOKUP(PTA!BV17,AL_NUM_ARB,4,FALSE)&\" \"&VLOOKUP(PTA!BV17,AL_NUM_ARB,6,FALSE))","v":"X"},{"$f":"IF(OR(PTA!BW17=\"\",PTA!BW17=\"X\"),\"X\",VLOOKUP(PTA!BW17,AL_NUM_ARB,2,FALSE)&\" \"&VLOOKUP(PTA!BW17,AL_NUM_ARB,4,FALSE)&\" \"&VLOOKUP(PTA!BW17,AL_NUM_ARB,6,FALSE))","v":"X"},{"$f":"BW16+Part7","v":"04:00:00"}]
[{"$f":"PTA!A18","v":""},{"$f":"PTA!B18","v":"00:00:00"},{"$f":"PTA!C18","v":32},{"$f":"PTA!D18","v":0},{"$f":"IF(OR(PTA!E18=\"\",PTA!E18=\"X\"),\"X\",IF(PTA!E18=\"*\",\"*\",VLOOKUP(PTA!E18,AL_NUM_ARB,2,FALSE)&\" \"&VLOOKUP(PTA!E18,AL_NUM_ARB,4,FALSE)&\" \"&VLOOKUP(PTA!E18,AL_NUM_ARB,6,FALSE)))","v":"X"},{"$f":"IF(OR(PTA!F18=\"\",PTA!F18=\"X\"),\"X\",IF(PTA!F18=\"*\",\"*\",VLOOKUP(PTA!F18,AL_NUM_ARB,2,FALSE)&\" \"&VLOOKUP(PTA!F18,AL_NUM_ARB,4,FALSE)&\" \"&VLOOKUP(PTA!F18,AL_NUM_ARB,6,FALSE)))","v":"X"},{"$f":"IF(OR(PTA!G18=\"\",PTA!G18=\"X\"),\"X\",IF(PTA!G18=\"*\",\"*\",VLOOKUP(PTA!G18,AL_NUM_ARB,2,FALSE)&\" \"&VLOOKUP(PTA!G18,AL_NUM_ARB,4,FALSE)&\" \"&VLOOKUP(PTA!G18,AL_NUM_ARB,6,FALSE)))","v":"X"},{"$f":"IF(OR(PTA!H18=\"\",PTA!H18=\"X\"),\"X\",IF(PTA!H18=\"*\",\"*\",VLOOKUP(PTA!H18,AL_NUM_ARB,2,FALSE)&\" \"&VLOOKUP(PTA!H18,AL_NUM_ARB,4,FALSE)&\" \"&VLOOKUP(PTA!H18,AL_NUM_ARB,6,FALSE)))","v":"X"},{"$f":"IF(OR(PTA!I18=\"\",PTA!I18=\"X\"),\"X\",IF(PTA!I18=\"*\",\"*\",VLOOKUP(PTA!I18,AL_NUM_ARB,2,FALSE)&\" \"&VLOOKUP(PTA!I18,AL_NUM_ARB,4,FALSE)&\" \"&VLOOKUP(PTA!I18,AL_NUM_ARB,6,FALSE)))","v":"X"},{"$f":"IF(OR(PTA!J18=\"\",PTA!J18=\"X\"),\"X\",IF(PTA!J18=\"*\",\"*\",VLOOKUP(PTA!J18,AL_NUM_ARB,2,FALSE)&\" \"&VLOOKUP(PTA!J18,AL_NUM_ARB,4,FALSE)&\" \"&VLOOKUP(PTA!J18,AL_NUM_ARB,6,FALSE)))","v":"X"},{"$f":"IF(OR(PTA!K18=\"\",PTA!K18=\"X\"),\"X\",IF(PTA!K18=\"*\",\"*\",VLOOKUP(PTA!K18,AL_NUM_ARB,2,FALSE)&\" \"&VLOOKUP(PTA!K18,AL_NUM_ARB,4,FALSE)&\" \"&VLOOKUP(PTA!K18,AL_NUM_ARB,6,FALSE)))","v":"X"},{"$f":"IF(OR(PTA!L18=\"\",PTA!L18=\"X\"),\"X\",IF(PTA!L18=\"*\",\"*\",VLOOKUP(PTA!L18,AL_NUM_ARB,2,FALSE)&\" \"&VLOOKUP(PTA!L18,AL_NUM_ARB,4,FALSE)&\" \"&VLOOKUP(PTA!L18,AL_NUM_ARB,6,FALSE)))","v":"X"},{"$f":"IF(OR(PTA!M18=\"\",PTA!M18=\"X\"),\"X\",IF(PTA!M18=\"*\",\"*\",VLOOKUP(PTA!M18,AL_NUM_ARB,2,FALSE)&\" \"&VLOOKUP(PTA!M18,AL_NUM_ARB,4,FALSE)&\" \"&VLOOKUP(PTA!M18,AL_NUM_ARB,6,FALSE)))","v":"X"},{"$f":"IF(OR(PTA!N18=\"\",PTA!N18=\"X\"),\"X\",IF(PTA!N18=\"*\",\"*\",VLOOKUP(PTA!N18,AL_NUM_ARB,2,FALSE)&\" \"&VLOOKUP(PTA!N18,AL_NUM_ARB,4,FALSE)&\" \"&VLOOKUP(PTA!N18,AL_NUM_ARB,6,FALSE)))","v":"X"},{"$f":"IF(OR(PTA!O18=\"\",PTA!O18=\"X\"),\"X\",IF(PTA!O18=\"*\",\"*\",VLOOKUP(PTA!O18,AL_NUM_ARB,2,FALSE)&\" \"&VLOOKUP(PTA!O18,AL_NUM_ARB,4,FALSE)&\" \"&VLOOKUP(PTA!O18,AL_NUM_ARB,6,FALSE)))","v":"X"},{"$f":"IF(OR(PTA!P18=\"\",PTA!P18=\"X\"),\"X\",IF(PTA!P18=\"*\",\"*\",VLOOKUP(PTA!P18,AL_NUM_ARB,2,FALSE)&\" \"&VLOOKUP(PTA!P18,AL_NUM_ARB,4,FALSE)&\" \"&VLOOKUP(PTA!P18,AL_NUM_ARB,6,FALSE)))","v":"X"},{"$f":"IF(OR(PTA!Q18=\"\",PTA!Q18=\"X\"),\"X\",IF(PTA!Q18=\"*\",\"*\",VLOOKUP(PTA!Q18,AL_NUM_ARB,2,FALSE)&\" \"&VLOOKUP(PTA!Q18,AL_NUM_ARB,4,FALSE)&\" \"&VLOOKUP(PTA!Q18,AL_NUM_ARB,6,FALSE)))","v":"X"},{"$f":"IF(OR(PTA!R18=\"\",PTA!R18=\"X\"),\"X\",IF(PTA!R18=\"*\",\"*\",VLOOKUP(PTA!R18,AL_NUM_ARB,2,FALSE)&\" \"&VLOOKUP(PTA!R18,AL_NUM_ARB,4,FALSE)&\" \"&VLOOKUP(PTA!R18,AL_NUM_ARB,6,FALSE)))","v":"X"},{"$f":"IF(OR(PTA!S18=\"\",PTA!S18=\"X\"),\"X\",IF(PTA!S18=\"*\",\"*\",VLOOKUP(PTA!S18,AL_NUM_ARB,2,FALSE)&\" \"&VLOOKUP(PTA!S18,AL_NUM_ARB,4,FALSE)&\" \"&VLOOKUP(PTA!S18,AL_NUM_ARB,6,FALSE)))","v":"X"},{"$f":"IF(OR(PTA!T18=\"\",PTA!T18=\"X\"),\"X\",IF(PTA!T18=\"*\",\"*\",VLOOKUP(PTA!T18,AL_NUM_ARB,2,FALSE)&\" \"&VLOOKUP(PTA!T18,AL_NUM_ARB,4,FALSE)&\" \"&VLOOKUP(PTA!T18,AL_NUM_ARB,6,FALSE)))","v":"X"},{"$f":"IF(OR(PTA!U18=\"\",PTA!U18=\"X\"),\"X\",IF(PTA!U18=\"*\",\"*\",VLOOKUP(PTA!U18,AL_NUM_ARB,2,FALSE)&\" \"&VLOOKUP(PTA!U18,AL_NUM_ARB,4,FALSE)&\" \"&VLOOKUP(PTA!U18,AL_NUM_ARB,6,FALSE)))","v":"X"},{"$f":"IF(OR(PTA!V18=\"\",PTA!V18=\"X\"),\"X\",IF(PTA!V18=\"*\",\"*\",VLOOKUP(PTA!V18,AL_NUM_ARB,2,FALSE)&\" \"&VLOOKUP(PTA!V18,AL_NUM_ARB,4,FALSE)&\" \"&VLOOKUP(PTA!V18,AL_NUM_ARB,6,FALSE)))","v":"X"},{"$f":"IF(OR(PTA!W18=\"\",PTA!W18=\"X\"),\"X\",IF(PTA!W18=\"*\",\"*\",VLOOKUP(PTA!W18,AL_NUM_ARB,2,FALSE)&\" \"&VLOOKUP(PTA!W18,AL_NUM_ARB,4,FALSE)&\" \"&VLOOKUP(PTA!W18,AL_NUM_ARB,6,FALSE)))","v":"X"},{"$f":"IF(OR(PTA!X18=\"\",PTA!X18=\"X\"),\"X\",IF(PTA!X18=\"*\",\"*\",VLOOKUP(PTA!X18,AL_NUM_ARB,2,FALSE)&\" \"&VLOOKUP(PTA!X18,AL_NUM_ARB,4,FALSE)&\" \"&VLOOKUP(PTA!X18,AL_NUM_ARB,6,FALSE)))","v":"X"},{"$f":"IF(OR(PTA!Y18=\"\",PTA!Y18=\"X\"),\"X\",IF(PTA!Y18=\"*\",\"*\",VLOOKUP(PTA!Y18,AL_NUM_ARB,2,FALSE)&\" \"&VLOOKUP(PTA!Y18,AL_NUM_ARB,4,FALSE)&\" \"&VLOOKUP(PTA!Y18,AL_NUM_ARB,6,FALSE)))","v":"X"},{"$f":"IF(OR(PTA!Z18=\"\",PTA!Z18=\"X\"),\"X\",IF(PTA!Z18=\"*\",\"*\",VLOOKUP(PTA!Z18,AL_NUM_ARB,2,FALSE)&\" \"&VLOOKUP(PTA!Z18,AL_NUM_ARB,4,FALSE)&\" \"&VLOOKUP(PTA!Z18,AL_NUM_ARB,6,FALSE)))","v":"X"},{"$f":"IF(OR(PTA!AA18=\"\",PTA!AA18=\"X\"),\"X\",IF(PTA!AA18=\"*\",\"*\",VLOOKUP(PTA!AA18,AL_NUM_ARB,2,FALSE)&\" \"&VLOOKUP(PTA!AA18,AL_NUM_ARB,4,FALSE)&\" \"&VLOOKUP(PTA!AA18,AL_NUM_ARB,6,FALSE)))","v":"X"},{"$f":"IF(OR(PTA!AB18=\"\",PTA!AB18=\"X\"),\"X\",IF(PTA!AB18=\"*\",\"*\",VLOOKUP(PTA!AB18,AL_NUM_ARB,2,FALSE)&\" \"&VLOOKUP(PTA!AB18,AL_NUM_ARB,4,FALSE)&\" \"&VLOOKUP(PTA!AB18,AL_NUM_ARB,6,FALSE)))","v":"X"},{"$f":"IF(OR(PTA!AC18=\"\",PTA!AC18=\"X\"),\"X\",IF(PTA!AC18=\"*\",\"*\",VLOOKUP(PTA!AC18,AL_NUM_ARB,2,FALSE)&\" \"&VLOOKUP(PTA!AC18,AL_NUM_ARB,4,FALSE)&\" \"&VLOOKUP(PTA!AC18,AL_NUM_ARB,6,FALSE)))","v":"X"},{"$f":"IF(OR(PTA!AD18=\"\",PTA!AD18=\"X\"),\"X\",IF(PTA!AD18=\"*\",\"*\",VLOOKUP(PTA!AD18,AL_NUM_ARB,2,FALSE)&\" \"&VLOOKUP(PTA!AD18,AL_NUM_ARB,4,FALSE)&\" \"&VLOOKUP(PTA!AD18,AL_NUM_ARB,6,FALSE)))","v":"X"},{"$f":"IF(OR(PTA!AE18=\"\",PTA!AE18=\"X\"),\"X\",IF(PTA!AE18=\"*\",\"*\",VLOOKUP(PTA!AE18,AL_NUM_ARB,2,FALSE)&\" \"&VLOOKUP(PTA!AE18,AL_NUM_ARB,4,FALSE)&\" \"&VLOOKUP(PTA!AE18,AL_NUM_ARB,6,FALSE)))","v":"X"},{"$f":"IF(OR(PTA!AF18=\"\",PTA!AF18=\"X\"),\"X\",IF(PTA!AF18=\"*\",\"*\",VLOOKUP(PTA!AF18,AL_NUM_ARB,2,FALSE)&\" \"&VLOOKUP(PTA!AF18,AL_NUM_ARB,4,FALSE)&\" \"&VLOOKUP(PTA!AF18,AL_NUM_ARB,6,FALSE)))","v":"X"},{"$f":"IF(OR(PTA!AG18=\"\",PTA!AG18=\"X\"),\"X\",IF(PTA!AG18=\"*\",\"*\",VLOOKUP(PTA!AG18,AL_NUM_ARB,2,FALSE)&\" \"&VLOOKUP(PTA!AG18,AL_NUM_ARB,4,FALSE)&\" \"&VLOOKUP(PTA!AG18,AL_NUM_ARB,6,FALSE)))","v":"X"},{"$f":"IF(OR(PTA!AH18=\"\",PTA!AH18=\"X\"),\"X\",IF(PTA!AH18=\"*\",\"*\",VLOOKUP(PTA!AH18,AL_NUM_ARB,2,FALSE)&\" \"&VLOOKUP(PTA!AH18,AL_NUM_ARB,4,FALSE)&\" \"&VLOOKUP(PTA!AH18,AL_NUM_ARB,6,FALSE)))","v":"X"},{"$f":"IF(OR(PTA!AI18=\"\",PTA!AI18=\"X\"),\"X\",IF(PTA!AI18=\"*\",\"*\",VLOOKUP(PTA!AI18,AL_NUM_ARB,2,FALSE)&\" \"&VLOOKUP(PTA!AI18,AL_NUM_ARB,4,FALSE)&\" \"&VLOOKUP(PTA!AI18,AL_NUM_ARB,6,FALSE)))","v":"X"},{"$f":"IF(OR(PTA!AJ18=\"\",PTA!AJ18=\"X\"),\"X\",IF(PTA!AJ18=\"*\",\"*\",VLOOKUP(PTA!AJ18,AL_NUM_ARB,2,FALSE)&\" \"&VLOOKUP(PTA!AJ18,AL_NUM_ARB,4,FALSE)&\" \"&VLOOKUP(PTA!AJ18,AL_NUM_ARB,6,FALSE)))","v":"X"},{"$f":"IF(OR(PTA!AK18=\"\",PTA!AK18=\"X\"),\"X\",IF(PTA!AK18=\"*\",\"*\",VLOOKUP(PTA!AK18,AL_NUM_ARB,2,FALSE)&\" \"&VLOOKUP(PTA!AK18,AL_NUM_ARB,4,FALSE)&\" \"&VLOOKUP(PTA!AK18,AL_NUM_ARB,6,FALSE)))","v":"X"},{"$f":"IF(OR(PTA!AL18=\"\",PTA!AL18=\"X\"),\"X\",IF(PTA!AL18=\"*\",\"*\",VLOOKUP(PTA!AL18,AL_NUM_ARB,2,FALSE)&\" \"&VLOOKUP(PTA!AL18,AL_NUM_ARB,4,FALSE)&\" \"&VLOOKUP(PTA!AL18,AL_NUM_ARB,6,FALSE)))","v":"X"},{"$f":"IF(OR(PTA!AM18=\"\",PTA!AM18=\"X\"),\"X\",IF(PTA!AM18=\"*\",\"*\",VLOOKUP(PTA!AM18,AL_NUM_ARB,2,FALSE)&\" \"&VLOOKUP(PTA!AM18,AL_NUM_ARB,4,FALSE)&\" \"&VLOOKUP(PTA!AM18,AL_NUM_ARB,6,FALSE)))","v":"X"},{"$f":"IF(OR(PTA!AN18=\"\",PTA!AN18=\"X\"),\"X\",IF(PTA!AN18=\"*\",\"*\",VLOOKUP(PTA!AN18,AL_NUM_ARB,2,FALSE)&\" \"&VLOOKUP(PTA!AN18,AL_NUM_ARB,4,FALSE)&\" \"&VLOOKUP(PTA!AN18,AL_NUM_ARB,6,FALSE)))","v":"X"},{"$f":"IF(OR(PTA!AO18=\"\",PTA!AO18=\"X\"),\"X\",IF(PTA!AO18=\"*\",\"*\",VLOOKUP(PTA!AO18,AL_NUM_ARB,2,FALSE)&\" \"&VLOOKUP(PTA!AO18,AL_NUM_ARB,4,FALSE)&\" \"&VLOOKUP(PTA!AO18,AL_NUM_ARB,6,FALSE)))","v":"X"},{"$f":"IF(OR(PTA!AP18=\"\",PTA!AP18=\"X\"),\"X\",IF(PTA!AP18=\"*\",\"*\",VLOOKUP(PTA!AP18,AL_NUM_ARB,2,FALSE)&\" \"&VLOOKUP(PTA!AP18,AL_NUM_ARB,4,FALSE)&\" \"&VLOOKUP(PTA!AP18,AL_NUM_ARB,6,FALSE)))","v":"X"},{"$f":"IF(OR(PTA!AQ18=\"\",PTA!AQ18=\"X\"),\"X\",IF(PTA!AQ18=\"*\",\"*\",VLOOKUP(PTA!AQ18,AL_NUM_ARB,2,FALSE)&\" \"&VLOOKUP(PTA!AQ18,AL_NUM_ARB,4,FALSE)&\" \"&VLOOKUP(PTA!AQ18,AL_NUM_ARB,6,FALSE)))","v":"X"},{"$f":"IF(OR(PTA!AR18=\"\",PTA!AR18=\"X\"),\"X\",IF(PTA!AR18=\"*\",\"*\",VLOOKUP(PTA!AR18,AL_NUM_ARB,2,FALSE)&\" \"&VLOOKUP(PTA!AR18,AL_NUM_ARB,4,FALSE)&\" \"&VLOOKUP(PTA!AR18,AL_NUM_ARB,6,FALSE)))","v":"X"},{"$f":"IF(OR(PTA!AS18=\"\",PTA!AS18=\"X\"),\"X\",IF(PTA!AS18=\"*\",\"*\",VLOOKUP(PTA!AS18,AL_NUM_ARB,2,FALSE)&\" \"&VLOOKUP(PTA!AS18,AL_NUM_ARB,4,FALSE)&\" \"&VLOOKUP(PTA!AS18,AL_NUM_ARB,6,FALSE)))","v":"X"},{"$f":"IF(OR(PTA!AT18=\"\",PTA!AT18=\"X\"),\"X\",IF(PTA!AT18=\"*\",\"*\",VLOOKUP(PTA!AT18,AL_NUM_ARB,2,FALSE)&\" \"&VLOOKUP(PTA!AT18,AL_NUM_ARB,4,FALSE)&\" \"&VLOOKUP(PTA!AT18,AL_NUM_ARB,6,FALSE)))","v":"X"},{"$f":"IF(OR(PTA!AU18=\"\",PTA!AU18=\"X\"),\"X\",IF(PTA!AU18=\"*\",\"*\",VLOOKUP(PTA!AU18,AL_NUM_ARB,2,FALSE)&\" \"&VLOOKUP(PTA!AU18,AL_NUM_ARB,4,FALSE)&\" \"&VLOOKUP(PTA!AU18,AL_NUM_ARB,6,FALSE)))","v":"X"},{"$f":"IF(OR(PTA!AV18=\"\",PTA!AV18=\"X\"),\"X\",IF(PTA!AV18=\"*\",\"*\",VLOOKUP(PTA!AV18,AL_NUM_ARB,2,FALSE)&\" \"&VLOOKUP(PTA!AV18,AL_NUM_ARB,4,FALSE)&\" \"&VLOOKUP(PTA!AV18,AL_NUM_ARB,6,FALSE)))","v":"X"},{"$f":"IF(OR(PTA!AW18=\"\",PTA!AW18=\"X\"),\"X\",IF(PTA!AW18=\"*\",\"*\",VLOOKUP(PTA!AW18,AL_NUM_ARB,2,FALSE)&\" \"&VLOOKUP(PTA!AW18,AL_NUM_ARB,4,FALSE)&\" \"&VLOOKUP(PTA!AW18,AL_NUM_ARB,6,FALSE)))","v":"X"},{"$f":"IF(OR(PTA!AX18=\"\",PTA!AX18=\"X\"),\"X\",IF(PTA!AX18=\"*\",\"*\",VLOOKUP(PTA!AX18,AL_NUM_ARB,2,FALSE)&\" \"&VLOOKUP(PTA!AX18,AL_NUM_ARB,4,FALSE)&\" \"&VLOOKUP(PTA!AX18,AL_NUM_ARB,6,FALSE)))","v":"X"},{"$f":"IF(OR(PTA!AY18=\"\",PTA!AY18=\"X\"),\"X\",IF(PTA!AY18=\"*\",\"*\",VLOOKUP(PTA!AY18,AL_NUM_ARB,2,FALSE)&\" \"&VLOOKUP(PTA!AY18,AL_NUM_ARB,4,FALSE)&\" \"&VLOOKUP(PTA!AY18,AL_NUM_ARB,6,FALSE)))","v":"X"},{"$f":"IF(OR(PTA!AZ18=\"\",PTA!AZ18=\"X\"),\"X\",IF(PTA!AZ18=\"*\",\"*\",VLOOKUP(PTA!AZ18,AL_NUM_ARB,2,FALSE)&\" \"&VLOOKUP(PTA!AZ18,AL_NUM_ARB,4,FALSE)&\" \"&VLOOKUP(PTA!AZ18,AL_NUM_ARB,6,FALSE)))","v":"X"},{"$f":"IF(OR(PTA!BA18=\"\",PTA!BA18=\"X\"),\"X\",IF(PTA!BA18=\"*\",\"*\",VLOOKUP(PTA!BA18,AL_NUM_ARB,2,FALSE)&\" \"&VLOOKUP(PTA!BA18,AL_NUM_ARB,4,FALSE)&\" \"&VLOOKUP(PTA!BA18,AL_NUM_ARB,6,FALSE)))","v":"X"},{"$f":"IF(OR(PTA!BB18=\"\",PTA!BB18=\"X\"),\"X\",IF(PTA!BB18=\"*\",\"*\",VLOOKUP(PTA!BB18,AL_NUM_ARB,2,FALSE)&\" \"&VLOOKUP(PTA!BB18,AL_NUM_ARB,4,FALSE)&\" \"&VLOOKUP(PTA!BB18,AL_NUM_ARB,6,FALSE)))","v":"X"},{"$f":"IF(OR(PTA!BC18=\"\",PTA!BC18=\"X\"),\"X\",IF(PTA!BC18=\"*\",\"*\",VLOOKUP(PTA!BC18,AL_NUM_ARB,2,FALSE)&\" \"&VLOOKUP(PTA!BC18,AL_NUM_ARB,4,FALSE)&\" \"&VLOOKUP(PTA!BC18,AL_NUM_ARB,6,FALSE)))","v":"X"},{"$f":"IF(OR(PTA!BD18=\"\",PTA!BD18=\"X\"),\"X\",IF(PTA!BD18=\"*\",\"*\",VLOOKUP(PTA!BD18,AL_NUM_ARB,2,FALSE)&\" \"&VLOOKUP(PTA!BD18,AL_NUM_ARB,4,FALSE)&\" \"&VLOOKUP(PTA!BD18,AL_NUM_ARB,6,FALSE)))","v":"X"},{"$f":"IF(OR(PTA!BE18=\"\",PTA!BE18=\"X\"),\"X\",IF(PTA!BE18=\"*\",\"*\",VLOOKUP(PTA!BE18,AL_NUM_ARB,2,FALSE)&\" \"&VLOOKUP(PTA!BE18,AL_NUM_ARB,4,FALSE)&\" \"&VLOOKUP(PTA!BE18,AL_NUM_ARB,6,FALSE)))","v":"X"},{"$f":"IF(OR(PTA!BF18=\"\",PTA!BF18=\"X\"),\"X\",IF(PTA!BF18=\"*\",\"*\",VLOOKUP(PTA!BF18,AL_NUM_ARB,2,FALSE)&\" \"&VLOOKUP(PTA!BF18,AL_NUM_ARB,4,FALSE)&\" \"&VLOOKUP(PTA!BF18,AL_NUM_ARB,6,FALSE)))","v":"X"},{"$f":"IF(OR(PTA!BG18=\"\",PTA!BG18=\"X\"),\"X\",IF(PTA!BG18=\"*\",\"*\",VLOOKUP(PTA!BG18,AL_NUM_ARB,2,FALSE)&\" \"&VLOOKUP(PTA!BG18,AL_NUM_ARB,4,FALSE)&\" \"&VLOOKUP(PTA!BG18,AL_NUM_ARB,6,FALSE)))","v":"X"},{"$f":"IF(OR(PTA!BH18=\"\",PTA!BH18=\"X\"),\"X\",IF(PTA!BH18=\"*\",\"*\",VLOOKUP(PTA!BH18,AL_NUM_ARB,2,FALSE)&\" \"&VLOOKUP(PTA!BH18,AL_NUM_ARB,4,FALSE)&\" \"&VLOOKUP(PTA!BH18,AL_NUM_ARB,6,FALSE)))","v":"X"},{"$f":"IF(OR(PTA!BI18=\"\",PTA!BI18=\"X\"),\"X\",IF(PTA!BI18=\"*\",\"*\",VLOOKUP(PTA!BI18,AL_NUM_ARB,2,FALSE)&\" \"&VLOOKUP(PTA!BI18,AL_NUM_ARB,4,FALSE)&\" \"&VLOOKUP(PTA!BI18,AL_NUM_ARB,6,FALSE)))","v":"X"},{"$f":"IF(OR(PTA!BJ18=\"\",PTA!BJ18=\"X\"),\"X\",IF(PTA!BJ18=\"*\",\"*\",VLOOKUP(PTA!BJ18,AL_NUM_ARB,2,FALSE)&\" \"&VLOOKUP(PTA!BJ18,AL_NUM_ARB,4,FALSE)&\" \"&VLOOKUP(PTA!BJ18,AL_NUM_ARB,6,FALSE)))","v":"X"},{"$f":"IF(OR(PTA!BK18=\"\",PTA!BK18=\"X\"),\"X\",IF(PTA!BK18=\"*\",\"*\",VLOOKUP(PTA!BK18,AL_NUM_ARB,2,FALSE)&\" \"&VLOOKUP(PTA!BK18,AL_NUM_ARB,4,FALSE)&\" \"&VLOOKUP(PTA!BK18,AL_NUM_ARB,6,FALSE)))","v":"X"},{"$f":"IF(OR(PTA!BL18=\"\",PTA!BL18=\"X\"),\"X\",IF(PTA!BL18=\"*\",\"*\",VLOOKUP(PTA!BL18,AL_NUM_ARB,2,FALSE)&\" \"&VLOOKUP(PTA!BL18,AL_NUM_ARB,4,FALSE)&\" \"&VLOOKUP(PTA!BL18,AL_NUM_ARB,6,FALSE)))","v":"X"},{"$f":"IF(OR(PTA!BM18=\"\",PTA!BM18=\"X\"),\"X\",IF(PTA!BM18=\"*\",\"*\",VLOOKUP(PTA!BM18,AL_NUM_ARB,2,FALSE)&\" \"&VLOOKUP(PTA!BM18,AL_NUM_ARB,4,FALSE)&\" \"&VLOOKUP(PTA!BM18,AL_NUM_ARB,6,FALSE)))","v":"X"},{"$f":"IF(OR(PTA!BN18=\"\",PTA!BN18=\"X\"),\"X\",IF(PTA!BN18=\"*\",\"*\",VLOOKUP(PTA!BN18,AL_NUM_ARB,2,FALSE)&\" \"&VLOOKUP(PTA!BN18,AL_NUM_ARB,4,FALSE)&\" \"&VLOOKUP(PTA!BN18,AL_NUM_ARB,6,FALSE)))","v":"X"},{"$f":"IF(OR(PTA!BO18=\"\",PTA!BO18=\"X\"),\"X\",IF(PTA!BO18=\"*\",\"*\",VLOOKUP(PTA!BO18,AL_NUM_ARB,2,FALSE)&\" \"&VLOOKUP(PTA!BO18,AL_NUM_ARB,4,FALSE)&\" \"&VLOOKUP(PTA!BO18,AL_NUM_ARB,6,FALSE)))","v":"X"},{"$f":"IF(OR(PTA!BP18=\"\",PTA!BP18=\"X\"),\"X\",IF(PTA!BP18=\"*\",\"*\",VLOOKUP(PTA!BP18,AL_NUM_ARB,2,FALSE)&\" \"&VLOOKUP(PTA!BP18,AL_NUM_ARB,4,FALSE)&\" \"&VLOOKUP(PTA!BP18,AL_NUM_ARB,6,FALSE)))","v":"X"},{"$f":"IF(OR(PTA!BQ18=\"\",PTA!BQ18=\"X\"),\"X\",IF(PTA!BQ18=\"*\",\"*\",VLOOKUP(PTA!BQ18,AL_NUM_ARB,2,FALSE)&\" \"&VLOOKUP(PTA!BQ18,AL_NUM_ARB,4,FALSE)&\" \"&VLOOKUP(PTA!BQ18,AL_NUM_ARB,6,FALSE)))","v":"X"},{"$f":"IF(OR(PTA!BR18=\"\",PTA!BR18=\"X\"),\"X\",IF(PTA!BR18=\"*\",\"*\",VLOOKUP(PTA!BR18,AL_NUM_ARB,2,FALSE)&\" \"&VLOOKUP(PTA!BR18,AL_NUM_ARB,4,FALSE)&\" \"&VLOOKUP(PTA!BR18,AL_NUM_ARB,6,FALSE)))","v":"X"},{"$f":"IF(OR(PTA!BT18=\"\",PTA!BT18=\"X\"),\"X\",VLOOKUP(PTA!BT18,AL_NUM_ARB,2,FALSE)&\" \"&VLOOKUP(PTA!BT18,AL_NUM_ARB,4,FALSE)&\" \"&VLOOKUP(PTA!BT18,AL_NUM_ARB,6,FALSE))","v":"X"},{"$f":"IF(OR(PTA!BU18=\"\",PTA!BU18=\"X\"),\"X\",VLOOKUP(PTA!BU18,AL_NUM_ARB,2,FALSE)&\" \"&VLOOKUP(PTA!BU18,AL_NUM_ARB,4,FALSE)&\" \"&VLOOKUP(PTA!BU18,AL_NUM_ARB,6,FALSE))","v":"X"},{"$f":"IF(OR(PTA!BV18=\"\",PTA!BV18=\"X\"),\"X\",VLOOKUP(PTA!BV18,AL_NUM_ARB,2,FALSE)&\" \"&VLOOKUP(PTA!BV18,AL_NUM_ARB,4,FALSE)&\" \"&VLOOKUP(PTA!BV18,AL_NUM_ARB,6,FALSE))","v":"X"},{"$f":"IF(OR(PTA!BW18=\"\",PTA!BW18=\"X\"),\"X\",VLOOKUP(PTA!BW18,AL_NUM_ARB,2,FALSE)&\" \"&VLOOKUP(PTA!BW18,AL_NUM_ARB,4,FALSE)&\" \"&VLOOKUP(PTA!BW18,AL_NUM_ARB,6,FALSE))","v":"X"},{"$f":"BW17+Part1","v":"04:30:00"}]
[{"$f":"PTA!A19","v":""},{"$f":"PTA!B19","v":"00:00:00"},{"$f":"PTA!C19","v":32},{"$f":"PTA!D19","v":0},{"$f":"IF(OR(PTA!E19=\"\",PTA!E19=\"X\"),\"X\",IF(PTA!E19=\"*\",\"*\",VLOOKUP(PTA!E19,AL_NUM_ARB,2,FALSE)&\" \"&VLOOKUP(PTA!E19,AL_NUM_ARB,4,FALSE)&\" \"&VLOOKUP(PTA!E19,AL_NUM_ARB,6,FALSE)))","v":"X"},{"$f":"IF(OR(PTA!F19=\"\",PTA!F19=\"X\"),\"X\",IF(PTA!F19=\"*\",\"*\",VLOOKUP(PTA!F19,AL_NUM_ARB,2,FALSE)&\" \"&VLOOKUP(PTA!F19,AL_NUM_ARB,4,FALSE)&\" \"&VLOOKUP(PTA!F19,AL_NUM_ARB,6,FALSE)))","v":"X"},{"$f":"IF(OR(PTA!G19=\"\",PTA!G19=\"X\"),\"X\",IF(PTA!G19=\"*\",\"*\",VLOOKUP(PTA!G19,AL_NUM_ARB,2,FALSE)&\" \"&VLOOKUP(PTA!G19,AL_NUM_ARB,4,FALSE)&\" \"&VLOOKUP(PTA!G19,AL_NUM_ARB,6,FALSE)))","v":"X"},{"$f":"IF(OR(PTA!H19=\"\",PTA!H19=\"X\"),\"X\",IF(PTA!H19=\"*\",\"*\",VLOOKUP(PTA!H19,AL_NUM_ARB,2,FALSE)&\" \"&VLOOKUP(PTA!H19,AL_NUM_ARB,4,FALSE)&\" \"&VLOOKUP(PTA!H19,AL_NUM_ARB,6,FALSE)))","v":"X"},{"$f":"IF(OR(PTA!I19=\"\",PTA!I19=\"X\"),\"X\",IF(PTA!I19=\"*\",\"*\",VLOOKUP(PTA!I19,AL_NUM_ARB,2,FALSE)&\" \"&VLOOKUP(PTA!I19,AL_NUM_ARB,4,FALSE)&\" \"&VLOOKUP(PTA!I19,AL_NUM_ARB,6,FALSE)))","v":"X"},{"$f":"IF(OR(PTA!J19=\"\",PTA!J19=\"X\"),\"X\",IF(PTA!J19=\"*\",\"*\",VLOOKUP(PTA!J19,AL_NUM_ARB,2,FALSE)&\" \"&VLOOKUP(PTA!J19,AL_NUM_ARB,4,FALSE)&\" \"&VLOOKUP(PTA!J19,AL_NUM_ARB,6,FALSE)))","v":"X"},{"$f":"IF(OR(PTA!K19=\"\",PTA!K19=\"X\"),\"X\",IF(PTA!K19=\"*\",\"*\",VLOOKUP(PTA!K19,AL_NUM_ARB,2,FALSE)&\" \"&VLOOKUP(PTA!K19,AL_NUM_ARB,4,FALSE)&\" \"&VLOOKUP(PTA!K19,AL_NUM_ARB,6,FALSE)))","v":"X"},{"$f":"IF(OR(PTA!L19=\"\",PTA!L19=\"X\"),\"X\",IF(PTA!L19=\"*\",\"*\",VLOOKUP(PTA!L19,AL_NUM_ARB,2,FALSE)&\" \"&VLOOKUP(PTA!L19,AL_NUM_ARB,4,FALSE)&\" \"&VLOOKUP(PTA!L19,AL_NUM_ARB,6,FALSE)))","v":"X"},{"$f":"IF(OR(PTA!M19=\"\",PTA!M19=\"X\"),\"X\",IF(PTA!M19=\"*\",\"*\",VLOOKUP(PTA!M19,AL_NUM_ARB,2,FALSE)&\" \"&VLOOKUP(PTA!M19,AL_NUM_ARB,4,FALSE)&\" \"&VLOOKUP(PTA!M19,AL_NUM_ARB,6,FALSE)))","v":"X"},{"$f":"IF(OR(PTA!N19=\"\",PTA!N19=\"X\"),\"X\",IF(PTA!N19=\"*\",\"*\",VLOOKUP(PTA!N19,AL_NUM_ARB,2,FALSE)&\" \"&VLOOKUP(PTA!N19,AL_NUM_ARB,4,FALSE)&\" \"&VLOOKUP(PTA!N19,AL_NUM_ARB,6,FALSE)))","v":"X"},{"$f":"IF(OR(PTA!O19=\"\",PTA!O19=\"X\"),\"X\",IF(PTA!O19=\"*\",\"*\",VLOOKUP(PTA!O19,AL_NUM_ARB,2,FALSE)&\" \"&VLOOKUP(PTA!O19,AL_NUM_ARB,4,FALSE)&\" \"&VLOOKUP(PTA!O19,AL_NUM_ARB,6,FALSE)))","v":"X"},{"$f":"IF(OR(PTA!P19=\"\",PTA!P19=\"X\"),\"X\",IF(PTA!P19=\"*\",\"*\",VLOOKUP(PTA!P19,AL_NUM_ARB,2,FALSE)&\" \"&VLOOKUP(PTA!P19,AL_NUM_ARB,4,FALSE)&\" \"&VLOOKUP(PTA!P19,AL_NUM_ARB,6,FALSE)))","v":"X"},{"$f":"IF(OR(PTA!Q19=\"\",PTA!Q19=\"X\"),\"X\",IF(PTA!Q19=\"*\",\"*\",VLOOKUP(PTA!Q19,AL_NUM_ARB,2,FALSE)&\" \"&VLOOKUP(PTA!Q19,AL_NUM_ARB,4,FALSE)&\" \"&VLOOKUP(PTA!Q19,AL_NUM_ARB,6,FALSE)))","v":"X"},{"$f":"IF(OR(PTA!R19=\"\",PTA!R19=\"X\"),\"X\",IF(PTA!R19=\"*\",\"*\",VLOOKUP(PTA!R19,AL_NUM_ARB,2,FALSE)&\" \"&VLOOKUP(PTA!R19,AL_NUM_ARB,4,FALSE)&\" \"&VLOOKUP(PTA!R19,AL_NUM_ARB,6,FALSE)))","v":"X"},{"$f":"IF(OR(PTA!S19=\"\",PTA!S19=\"X\"),\"X\",IF(PTA!S19=\"*\",\"*\",VLOOKUP(PTA!S19,AL_NUM_ARB,2,FALSE)&\" \"&VLOOKUP(PTA!S19,AL_NUM_ARB,4,FALSE)&\" \"&VLOOKUP(PTA!S19,AL_NUM_ARB,6,FALSE)))","v":"X"},{"$f":"IF(OR(PTA!T19=\"\",PTA!T19=\"X\"),\"X\",IF(PTA!T19=\"*\",\"*\",VLOOKUP(PTA!T19,AL_NUM_ARB,2,FALSE)&\" \"&VLOOKUP(PTA!T19,AL_NUM_ARB,4,FALSE)&\" \"&VLOOKUP(PTA!T19,AL_NUM_ARB,6,FALSE)))","v":"X"},{"$f":"IF(OR(PTA!U19=\"\",PTA!U19=\"X\"),\"X\",IF(PTA!U19=\"*\",\"*\",VLOOKUP(PTA!U19,AL_NUM_ARB,2,FALSE)&\" \"&VLOOKUP(PTA!U19,AL_NUM_ARB,4,FALSE)&\" \"&VLOOKUP(PTA!U19,AL_NUM_ARB,6,FALSE)))","v":"X"},{"$f":"IF(OR(PTA!V19=\"\",PTA!V19=\"X\"),\"X\",IF(PTA!V19=\"*\",\"*\",VLOOKUP(PTA!V19,AL_NUM_ARB,2,FALSE)&\" \"&VLOOKUP(PTA!V19,AL_NUM_ARB,4,FALSE)&\" \"&VLOOKUP(PTA!V19,AL_NUM_ARB,6,FALSE)))","v":"X"},{"$f":"IF(OR(PTA!W19=\"\",PTA!W19=\"X\"),\"X\",IF(PTA!W19=\"*\",\"*\",VLOOKUP(PTA!W19,AL_NUM_ARB,2,FALSE)&\" \"&VLOOKUP(PTA!W19,AL_NUM_ARB,4,FALSE)&\" \"&VLOOKUP(PTA!W19,AL_NUM_ARB,6,FALSE)))","v":"X"},{"$f":"IF(OR(PTA!X19=\"\",PTA!X19=\"X\"),\"X\",IF(PTA!X19=\"*\",\"*\",VLOOKUP(PTA!X19,AL_NUM_ARB,2,FALSE)&\" \"&VLOOKUP(PTA!X19,AL_NUM_ARB,4,FALSE)&\" \"&VLOOKUP(PTA!X19,AL_NUM_ARB,6,FALSE)))","v":"X"},{"$f":"IF(OR(PTA!Y19=\"\",PTA!Y19=\"X\"),\"X\",IF(PTA!Y19=\"*\",\"*\",VLOOKUP(PTA!Y19,AL_NUM_ARB,2,FALSE)&\" \"&VLOOKUP(PTA!Y19,AL_NUM_ARB,4,FALSE)&\" \"&VLOOKUP(PTA!Y19,AL_NUM_ARB,6,FALSE)))","v":"X"},{"$f":"IF(OR(PTA!Z19=\"\",PTA!Z19=\"X\"),\"X\",IF(PTA!Z19=\"*\",\"*\",VLOOKUP(PTA!Z19,AL_NUM_ARB,2,FALSE)&\" \"&VLOOKUP(PTA!Z19,AL_NUM_ARB,4,FALSE)&\" \"&VLOOKUP(PTA!Z19,AL_NUM_ARB,6,FALSE)))","v":"X"},{"$f":"IF(OR(PTA!AA19=\"\",PTA!AA19=\"X\"),\"X\",IF(PTA!AA19=\"*\",\"*\",VLOOKUP(PTA!AA19,AL_NUM_ARB,2,FALSE)&\" \"&VLOOKUP(PTA!AA19,AL_NUM_ARB,4,FALSE)&\" \"&VLOOKUP(PTA!AA19,AL_NUM_ARB,6,FALSE)))","v":"X"},{"$f":"IF(OR(PTA!AB19=\"\",PTA!AB19=\"X\"),\"X\",IF(PTA!AB19=\"*\",\"*\",VLOOKUP(PTA!AB19,AL_NUM_ARB,2,FALSE)&\" \"&VLOOKUP(PTA!AB19,AL_NUM_ARB,4,FALSE)&\" \"&VLOOKUP(PTA!AB19,AL_NUM_ARB,6,FALSE)))","v":"X"},{"$f":"IF(OR(PTA!AC19=\"\",PTA!AC19=\"X\"),\"X\",IF(PTA!AC19=\"*\",\"*\",VLOOKUP(PTA!AC19,AL_NUM_ARB,2,FALSE)&\" \"&VLOOKUP(PTA!AC19,AL_NUM_ARB,4,FALSE)&\" \"&VLOOKUP(PTA!AC19,AL_NUM_ARB,6,FALSE)))","v":"X"},{"$f":"IF(OR(PTA!AD19=\"\",PTA!AD19=\"X\"),\"X\",IF(PTA!AD19=\"*\",\"*\",VLOOKUP(PTA!AD19,AL_NUM_ARB,2,FALSE)&\" \"&VLOOKUP(PTA!AD19,AL_NUM_ARB,4,FALSE)&\" \"&VLOOKUP(PTA!AD19,AL_NUM_ARB,6,FALSE)))","v":"X"},{"$f":"IF(OR(PTA!AE19=\"\",PTA!AE19=\"X\"),\"X\",IF(PTA!AE19=\"*\",\"*\",VLOOKUP(PTA!AE19,AL_NUM_ARB,2,FALSE)&\" \"&VLOOKUP(PTA!AE19,AL_NUM_ARB,4,FALSE)&\" \"&VLOOKUP(PTA!AE19,AL_NUM_ARB,6,FALSE)))","v":"X"},{"$f":"IF(OR(PTA!AF19=\"\",PTA!AF19=\"X\"),\"X\",IF(PTA!AF19=\"*\",\"*\",VLOOKUP(PTA!AF19,AL_NUM_ARB,2,FALSE)&\" \"&VLOOKUP(PTA!AF19,AL_NUM_ARB,4,FALSE)&\" \"&VLOOKUP(PTA!AF19,AL_NUM_ARB,6,FALSE)))","v":"X"},{"$f":"IF(OR(PTA!AG19=\"\",PTA!AG19=\"X\"),\"X\",IF(PTA!AG19=\"*\",\"*\",VLOOKUP(PTA!AG19,AL_NUM_ARB,2,FALSE)&\" \"&VLOOKUP(PTA!AG19,AL_NUM_ARB,4,FALSE)&\" \"&VLOOKUP(PTA!AG19,AL_NUM_ARB,6,FALSE)))","v":"X"},{"$f":"IF(OR(PTA!AH19=\"\",PTA!AH19=\"X\"),\"X\",IF(PTA!AH19=\"*\",\"*\",VLOOKUP(PTA!AH19,AL_NUM_ARB,2,FALSE)&\" \"&VLOOKUP(PTA!AH19,AL_NUM_ARB,4,FALSE)&\" \"&VLOOKUP(PTA!AH19,AL_NUM_ARB,6,FALSE)))","v":"X"},{"$f":"IF(OR(PTA!AI19=\"\",PTA!AI19=\"X\"),\"X\",IF(PTA!AI19=\"*\",\"*\",VLOOKUP(PTA!AI19,AL_NUM_ARB,2,FALSE)&\" \"&VLOOKUP(PTA!AI19,AL_NUM_ARB,4,FALSE)&\" \"&VLOOKUP(PTA!AI19,AL_NUM_ARB,6,FALSE)))","v":"X"},{"$f":"IF(OR(PTA!AJ19=\"\",PTA!AJ19=\"X\"),\"X\",IF(PTA!AJ19=\"*\",\"*\",VLOOKUP(PTA!AJ19,AL_NUM_ARB,2,FALSE)&\" \"&VLOOKUP(PTA!AJ19,AL_NUM_ARB,4,FALSE)&\" \"&VLOOKUP(PTA!AJ19,AL_NUM_ARB,6,FALSE)))","v":"X"},{"$f":"IF(OR(PTA!AK19=\"\",PTA!AK19=\"X\"),\"X\",IF(PTA!AK19=\"*\",\"*\",VLOOKUP(PTA!AK19,AL_NUM_ARB,2,FALSE)&\" \"&VLOOKUP(PTA!AK19,AL_NUM_ARB,4,FALSE)&\" \"&VLOOKUP(PTA!AK19,AL_NUM_ARB,6,FALSE)))","v":"X"},{"$f":"IF(OR(PTA!AL19=\"\",PTA!AL19=\"X\"),\"X\",IF(PTA!AL19=\"*\",\"*\",VLOOKUP(PTA!AL19,AL_NUM_ARB,2,FALSE)&\" \"&VLOOKUP(PTA!AL19,AL_NUM_ARB,4,FALSE)&\" \"&VLOOKUP(PTA!AL19,AL_NUM_ARB,6,FALSE)))","v":"X"},{"$f":"IF(OR(PTA!AM19=\"\",PTA!AM19=\"X\"),\"X\",IF(PTA!AM19=\"*\",\"*\",VLOOKUP(PTA!AM19,AL_NUM_ARB,2,FALSE)&\" \"&VLOOKUP(PTA!AM19,AL_NUM_ARB,4,FALSE)&\" \"&VLOOKUP(PTA!AM19,AL_NUM_ARB,6,FALSE)))","v":"X"},{"$f":"IF(OR(PTA!AN19=\"\",PTA!AN19=\"X\"),\"X\",IF(PTA!AN19=\"*\",\"*\",VLOOKUP(PTA!AN19,AL_NUM_ARB,2,FALSE)&\" \"&VLOOKUP(PTA!AN19,AL_NUM_ARB,4,FALSE)&\" \"&VLOOKUP(PTA!AN19,AL_NUM_ARB,6,FALSE)))","v":"X"},{"$f":"IF(OR(PTA!AO19=\"\",PTA!AO19=\"X\"),\"X\",IF(PTA!AO19=\"*\",\"*\",VLOOKUP(PTA!AO19,AL_NUM_ARB,2,FALSE)&\" \"&VLOOKUP(PTA!AO19,AL_NUM_ARB,4,FALSE)&\" \"&VLOOKUP(PTA!AO19,AL_NUM_ARB,6,FALSE)))","v":"X"},{"$f":"IF(OR(PTA!AP19=\"\",PTA!AP19=\"X\"),\"X\",IF(PTA!AP19=\"*\",\"*\",VLOOKUP(PTA!AP19,AL_NUM_ARB,2,FALSE)&\" \"&VLOOKUP(PTA!AP19,AL_NUM_ARB,4,FALSE)&\" \"&VLOOKUP(PTA!AP19,AL_NUM_ARB,6,FALSE)))","v":"X"},{"$f":"IF(OR(PTA!AQ19=\"\",PTA!AQ19=\"X\"),\"X\",IF(PTA!AQ19=\"*\",\"*\",VLOOKUP(PTA!AQ19,AL_NUM_ARB,2,FALSE)&\" \"&VLOOKUP(PTA!AQ19,AL_NUM_ARB,4,FALSE)&\" \"&VLOOKUP(PTA!AQ19,AL_NUM_ARB,6,FALSE)))","v":"X"},{"$f":"IF(OR(PTA!AR19=\"\",PTA!AR19=\"X\"),\"X\",IF(PTA!AR19=\"*\",\"*\",VLOOKUP(PTA!AR19,AL_NUM_ARB,2,FALSE)&\" \"&VLOOKUP(PTA!AR19,AL_NUM_ARB,4,FALSE)&\" \"&VLOOKUP(PTA!AR19,AL_NUM_ARB,6,FALSE)))","v":"X"},{"$f":"IF(OR(PTA!AS19=\"\",PTA!AS19=\"X\"),\"X\",IF(PTA!AS19=\"*\",\"*\",VLOOKUP(PTA!AS19,AL_NUM_ARB,2,FALSE)&\" \"&VLOOKUP(PTA!AS19,AL_NUM_ARB,4,FALSE)&\" \"&VLOOKUP(PTA!AS19,AL_NUM_ARB,6,FALSE)))","v":"X"},{"$f":"IF(OR(PTA!AT19=\"\",PTA!AT19=\"X\"),\"X\",IF(PTA!AT19=\"*\",\"*\",VLOOKUP(PTA!AT19,AL_NUM_ARB,2,FALSE)&\" \"&VLOOKUP(PTA!AT19,AL_NUM_ARB,4,FALSE)&\" \"&VLOOKUP(PTA!AT19,AL_NUM_ARB,6,FALSE)))","v":"X"},{"$f":"IF(OR(PTA!AU19=\"\",PTA!AU19=\"X\"),\"X\",IF(PTA!AU19=\"*\",\"*\",VLOOKUP(PTA!AU19,AL_NUM_ARB,2,FALSE)&\" \"&VLOOKUP(PTA!AU19,AL_NUM_ARB,4,FALSE)&\" \"&VLOOKUP(PTA!AU19,AL_NUM_ARB,6,FALSE)))","v":"X"},{"$f":"IF(OR(PTA!AV19=\"\",PTA!AV19=\"X\"),\"X\",IF(PTA!AV19=\"*\",\"*\",VLOOKUP(PTA!AV19,AL_NUM_ARB,2,FALSE)&\" \"&VLOOKUP(PTA!AV19,AL_NUM_ARB,4,FALSE)&\" \"&VLOOKUP(PTA!AV19,AL_NUM_ARB,6,FALSE)))","v":"X"},{"$f":"IF(OR(PTA!AW19=\"\",PTA!AW19=\"X\"),\"X\",IF(PTA!AW19=\"*\",\"*\",VLOOKUP(PTA!AW19,AL_NUM_ARB,2,FALSE)&\" \"&VLOOKUP(PTA!AW19,AL_NUM_ARB,4,FALSE)&\" \"&VLOOKUP(PTA!AW19,AL_NUM_ARB,6,FALSE)))","v":"X"},{"$f":"IF(OR(PTA!AX19=\"\",PTA!AX19=\"X\"),\"X\",IF(PTA!AX19=\"*\",\"*\",VLOOKUP(PTA!AX19,AL_NUM_ARB,2,FALSE)&\" \"&VLOOKUP(PTA!AX19,AL_NUM_ARB,4,FALSE)&\" \"&VLOOKUP(PTA!AX19,AL_NUM_ARB,6,FALSE)))","v":"X"},{"$f":"IF(OR(PTA!AY19=\"\",PTA!AY19=\"X\"),\"X\",IF(PTA!AY19=\"*\",\"*\",VLOOKUP(PTA!AY19,AL_NUM_ARB,2,FALSE)&\" \"&VLOOKUP(PTA!AY19,AL_NUM_ARB,4,FALSE)&\" \"&VLOOKUP(PTA!AY19,AL_NUM_ARB,6,FALSE)))","v":"X"},{"$f":"IF(OR(PTA!AZ19=\"\",PTA!AZ19=\"X\"),\"X\",IF(PTA!AZ19=\"*\",\"*\",VLOOKUP(PTA!AZ19,AL_NUM_ARB,2,FALSE)&\" \"&VLOOKUP(PTA!AZ19,AL_NUM_ARB,4,FALSE)&\" \"&VLOOKUP(PTA!AZ19,AL_NUM_ARB,6,FALSE)))","v":"X"},{"$f":"IF(OR(PTA!BA19=\"\",PTA!BA19=\"X\"),\"X\",IF(PTA!BA19=\"*\",\"*\",VLOOKUP(PTA!BA19,AL_NUM_ARB,2,FALSE)&\" \"&VLOOKUP(PTA!BA19,AL_NUM_ARB,4,FALSE)&\" \"&VLOOKUP(PTA!BA19,AL_NUM_ARB,6,FALSE)))","v":"X"},{"$f":"IF(OR(PTA!BB19=\"\",PTA!BB19=\"X\"),\"X\",IF(PTA!BB19=\"*\",\"*\",VLOOKUP(PTA!BB19,AL_NUM_ARB,2,FALSE)&\" \"&VLOOKUP(PTA!BB19,AL_NUM_ARB,4,FALSE)&\" \"&VLOOKUP(PTA!BB19,AL_NUM_ARB,6,FALSE)))","v":"X"},{"$f":"IF(OR(PTA!BC19=\"\",PTA!BC19=\"X\"),\"X\",IF(PTA!BC19=\"*\",\"*\",VLOOKUP(PTA!BC19,AL_NUM_ARB,2,FALSE)&\" \"&VLOOKUP(PTA!BC19,AL_NUM_ARB,4,FALSE)&\" \"&VLOOKUP(PTA!BC19,AL_NUM_ARB,6,FALSE)))","v":"X"},{"$f":"IF(OR(PTA!BD19=\"\",PTA!BD19=\"X\"),\"X\",IF(PTA!BD19=\"*\",\"*\",VLOOKUP(PTA!BD19,AL_NUM_ARB,2,FALSE)&\" \"&VLOOKUP(PTA!BD19,AL_NUM_ARB,4,FALSE)&\" \"&VLOOKUP(PTA!BD19,AL_NUM_ARB,6,FALSE)))","v":"X"},{"$f":"IF(OR(PTA!BE19=\"\",PTA!BE19=\"X\"),\"X\",IF(PTA!BE19=\"*\",\"*\",VLOOKUP(PTA!BE19,AL_NUM_ARB,2,FALSE)&\" \"&VLOOKUP(PTA!BE19,AL_NUM_ARB,4,FALSE)&\" \"&VLOOKUP(PTA!BE19,AL_NUM_ARB,6,FALSE)))","v":"X"},{"$f":"IF(OR(PTA!BF19=\"\",PTA!BF19=\"X\"),\"X\",IF(PTA!BF19=\"*\",\"*\",VLOOKUP(PTA!BF19,AL_NUM_ARB,2,FALSE)&\" \"&VLOOKUP(PTA!BF19,AL_NUM_ARB,4,FALSE)&\" \"&VLOOKUP(PTA!BF19,AL_NUM_ARB,6,FALSE)))","v":"X"},{"$f":"IF(OR(PTA!BG19=\"\",PTA!BG19=\"X\"),\"X\",IF(PTA!BG19=\"*\",\"*\",VLOOKUP(PTA!BG19,AL_NUM_ARB,2,FALSE)&\" \"&VLOOKUP(PTA!BG19,AL_NUM_ARB,4,FALSE)&\" \"&VLOOKUP(PTA!BG19,AL_NUM_ARB,6,FALSE)))","v":"X"},{"$f":"IF(OR(PTA!BH19=\"\",PTA!BH19=\"X\"),\"X\",IF(PTA!BH19=\"*\",\"*\",VLOOKUP(PTA!BH19,AL_NUM_ARB,2,FALSE)&\" \"&VLOOKUP(PTA!BH19,AL_NUM_ARB,4,FALSE)&\" \"&VLOOKUP(PTA!BH19,AL_NUM_ARB,6,FALSE)))","v":"X"},{"$f":"IF(OR(PTA!BI19=\"\",PTA!BI19=\"X\"),\"X\",IF(PTA!BI19=\"*\",\"*\",VLOOKUP(PTA!BI19,AL_NUM_ARB,2,FALSE)&\" \"&VLOOKUP(PTA!BI19,AL_NUM_ARB,4,FALSE)&\" \"&VLOOKUP(PTA!BI19,AL_NUM_ARB,6,FALSE)))","v":"X"},{"$f":"IF(OR(PTA!BJ19=\"\",PTA!BJ19=\"X\"),\"X\",IF(PTA!BJ19=\"*\",\"*\",VLOOKUP(PTA!BJ19,AL_NUM_ARB,2,FALSE)&\" \"&VLOOKUP(PTA!BJ19,AL_NUM_ARB,4,FALSE)&\" \"&VLOOKUP(PTA!BJ19,AL_NUM_ARB,6,FALSE)))","v":"X"},{"$f":"IF(OR(PTA!BK19=\"\",PTA!BK19=\"X\"),\"X\",IF(PTA!BK19=\"*\",\"*\",VLOOKUP(PTA!BK19,AL_NUM_ARB,2,FALSE)&\" \"&VLOOKUP(PTA!BK19,AL_NUM_ARB,4,FALSE)&\" \"&VLOOKUP(PTA!BK19,AL_NUM_ARB,6,FALSE)))","v":"X"},{"$f":"IF(OR(PTA!BL19=\"\",PTA!BL19=\"X\"),\"X\",IF(PTA!BL19=\"*\",\"*\",VLOOKUP(PTA!BL19,AL_NUM_ARB,2,FALSE)&\" \"&VLOOKUP(PTA!BL19,AL_NUM_ARB,4,FALSE)&\" \"&VLOOKUP(PTA!BL19,AL_NUM_ARB,6,FALSE)))","v":"X"},{"$f":"IF(OR(PTA!BM19=\"\",PTA!BM19=\"X\"),\"X\",IF(PTA!BM19=\"*\",\"*\",VLOOKUP(PTA!BM19,AL_NUM_ARB,2,FALSE)&\" \"&VLOOKUP(PTA!BM19,AL_NUM_ARB,4,FALSE)&\" \"&VLOOKUP(PTA!BM19,AL_NUM_ARB,6,FALSE)))","v":"X"},{"$f":"IF(OR(PTA!BN19=\"\",PTA!BN19=\"X\"),\"X\",IF(PTA!BN19=\"*\",\"*\",VLOOKUP(PTA!BN19,AL_NUM_ARB,2,FALSE)&\" \"&VLOOKUP(PTA!BN19,AL_NUM_ARB,4,FALSE)&\" \"&VLOOKUP(PTA!BN19,AL_NUM_ARB,6,FALSE)))","v":"X"},{"$f":"IF(OR(PTA!BO19=\"\",PTA!BO19=\"X\"),\"X\",IF(PTA!BO19=\"*\",\"*\",VLOOKUP(PTA!BO19,AL_NUM_ARB,2,FALSE)&\" \"&VLOOKUP(PTA!BO19,AL_NUM_ARB,4,FALSE)&\" \"&VLOOKUP(PTA!BO19,AL_NUM_ARB,6,FALSE)))","v":"X"},{"$f":"IF(OR(PTA!BP19=\"\",PTA!BP19=\"X\"),\"X\",IF(PTA!BP19=\"*\",\"*\",VLOOKUP(PTA!BP19,AL_NUM_ARB,2,FALSE)&\" \"&VLOOKUP(PTA!BP19,AL_NUM_ARB,4,FALSE)&\" \"&VLOOKUP(PTA!BP19,AL_NUM_ARB,6,FALSE)))","v":"X"},{"$f":"IF(OR(PTA!BQ19=\"\",PTA!BQ19=\"X\"),\"X\",IF(PTA!BQ19=\"*\",\"*\",VLOOKUP(PTA!BQ19,AL_NUM_ARB,2,FALSE)&\" \"&VLOOKUP(PTA!BQ19,AL_NUM_ARB,4,FALSE)&\" \"&VLOOKUP(PTA!BQ19,AL_NUM_ARB,6,FALSE)))","v":"X"},{"$f":"IF(OR(PTA!BR19=\"\",PTA!BR19=\"X\"),\"X\",IF(PTA!BR19=\"*\",\"*\",VLOOKUP(PTA!BR19,AL_NUM_ARB,2,FALSE)&\" \"&VLOOKUP(PTA!BR19,AL_NUM_ARB,4,FALSE)&\" \"&VLOOKUP(PTA!BR19,AL_NUM_ARB,6,FALSE)))","v":"X"},{"$f":"IF(OR(PTA!BT19=\"\",PTA!BT19=\"X\"),\"X\",VLOOKUP(PTA!BT19,AL_NUM_ARB,2,FALSE)&\" \"&VLOOKUP(PTA!BT19,AL_NUM_ARB,4,FALSE)&\" \"&VLOOKUP(PTA!BT19,AL_NUM_ARB,6,FALSE))","v":"X"},{"$f":"IF(OR(PTA!BU19=\"\",PTA!BU19=\"X\"),\"X\",VLOOKUP(PTA!BU19,AL_NUM_ARB,2,FALSE)&\" \"&VLOOKUP(PTA!BU19,AL_NUM_ARB,4,FALSE)&\" \"&VLOOKUP(PTA!BU19,AL_NUM_ARB,6,FALSE))","v":"X"},{"$f":"IF(OR(PTA!BV19=\"\",PTA!BV19=\"X\"),\"X\",VLOOKUP(PTA!BV19,AL_NUM_ARB,2,FALSE)&\" \"&VLOOKUP(PTA!BV19,AL_NUM_ARB,4,FALSE)&\" \"&VLOOKUP(PTA!BV19,AL_NUM_ARB,6,FALSE))","v":"X"},{"$f":"IF(OR(PTA!BW19=\"\",PTA!BW19=\"X\"),\"X\",VLOOKUP(PTA!BW19,AL_NUM_ARB,2,FALSE)&\" \"&VLOOKUP(PTA!BW19,AL_NUM_ARB,4,FALSE)&\" \"&VLOOKUP(PTA!BW19,AL_NUM_ARB,6,FALSE))","v":"X"},"05:00:00"]
[{"$f":"PTA!A20","v":""},{"$f":"PTA!B20","v":"00:00:00"},{"$f":"PTA!C20","v":32},{"$f":"PTA!D20","v":0},{"$f":"IF(OR(PTA!E20=\"\",PTA!E20=\"X\"),\"X\",IF(PTA!E20=\"*\",\"*\",VLOOKUP(PTA!E20,AL_NUM_ARB,2,FALSE)&\" \"&VLOOKUP(PTA!E20,AL_NUM_ARB,4,FALSE)&\" \"&VLOOKUP(PTA!E20,AL_NUM_ARB,6,FALSE)))","v":"X"},{"$f":"IF(OR(PTA!F20=\"\",PTA!F20=\"X\"),\"X\",IF(PTA!F20=\"*\",\"*\",VLOOKUP(PTA!F20,AL_NUM_ARB,2,FALSE)&\" \"&VLOOKUP(PTA!F20,AL_NUM_ARB,4,FALSE)&\" \"&VLOOKUP(PTA!F20,AL_NUM_ARB,6,FALSE)))","v":"X"},{"$f":"IF(OR(PTA!G20=\"\",PTA!G20=\"X\"),\"X\",IF(PTA!G20=\"*\",\"*\",VLOOKUP(PTA!G20,AL_NUM_ARB,2,FALSE)&\" \"&VLOOKUP(PTA!G20,AL_NUM_ARB,4,FALSE)&\" \"&VLOOKUP(PTA!G20,AL_NUM_ARB,6,FALSE)))","v":"X"},{"$f":"IF(OR(PTA!H20=\"\",PTA!H20=\"X\"),\"X\",IF(PTA!H20=\"*\",\"*\",VLOOKUP(PTA!H20,AL_NUM_ARB,2,FALSE)&\" \"&VLOOKUP(PTA!H20,AL_NUM_ARB,4,FALSE)&\" \"&VLOOKUP(PTA!H20,AL_NUM_ARB,6,FALSE)))","v":"X"},{"$f":"IF(OR(PTA!I20=\"\",PTA!I20=\"X\"),\"X\",IF(PTA!I20=\"*\",\"*\",VLOOKUP(PTA!I20,AL_NUM_ARB,2,FALSE)&\" \"&VLOOKUP(PTA!I20,AL_NUM_ARB,4,FALSE)&\" \"&VLOOKUP(PTA!I20,AL_NUM_ARB,6,FALSE)))","v":"X"},{"$f":"IF(OR(PTA!J20=\"\",PTA!J20=\"X\"),\"X\",IF(PTA!J20=\"*\",\"*\",VLOOKUP(PTA!J20,AL_NUM_ARB,2,FALSE)&\" \"&VLOOKUP(PTA!J20,AL_NUM_ARB,4,FALSE)&\" \"&VLOOKUP(PTA!J20,AL_NUM_ARB,6,FALSE)))","v":"X"},{"$f":"IF(OR(PTA!K20=\"\",PTA!K20=\"X\"),\"X\",IF(PTA!K20=\"*\",\"*\",VLOOKUP(PTA!K20,AL_NUM_ARB,2,FALSE)&\" \"&VLOOKUP(PTA!K20,AL_NUM_ARB,4,FALSE)&\" \"&VLOOKUP(PTA!K20,AL_NUM_ARB,6,FALSE)))","v":"X"},{"$f":"IF(OR(PTA!L20=\"\",PTA!L20=\"X\"),\"X\",IF(PTA!L20=\"*\",\"*\",VLOOKUP(PTA!L20,AL_NUM_ARB,2,FALSE)&\" \"&VLOOKUP(PTA!L20,AL_NUM_ARB,4,FALSE)&\" \"&VLOOKUP(PTA!L20,AL_NUM_ARB,6,FALSE)))","v":"X"},{"$f":"IF(OR(PTA!M20=\"\",PTA!M20=\"X\"),\"X\",IF(PTA!M20=\"*\",\"*\",VLOOKUP(PTA!M20,AL_NUM_ARB,2,FALSE)&\" \"&VLOOKUP(PTA!M20,AL_NUM_ARB,4,FALSE)&\" \"&VLOOKUP(PTA!M20,AL_NUM_ARB,6,FALSE)))","v":"X"},{"$f":"IF(OR(PTA!N20=\"\",PTA!N20=\"X\"),\"X\",IF(PTA!N20=\"*\",\"*\",VLOOKUP(PTA!N20,AL_NUM_ARB,2,FALSE)&\" \"&VLOOKUP(PTA!N20,AL_NUM_ARB,4,FALSE)&\" \"&VLOOKUP(PTA!N20,AL_NUM_ARB,6,FALSE)))","v":"X"},{"$f":"IF(OR(PTA!O20=\"\",PTA!O20=\"X\"),\"X\",IF(PTA!O20=\"*\",\"*\",VLOOKUP(PTA!O20,AL_NUM_ARB,2,FALSE)&\" \"&VLOOKUP(PTA!O20,AL_NUM_ARB,4,FALSE)&\" \"&VLOOKUP(PTA!O20,AL_NUM_ARB,6,FALSE)))","v":"X"},{"$f":"IF(OR(PTA!P20=\"\",PTA!P20=\"X\"),\"X\",IF(PTA!P20=\"*\",\"*\",VLOOKUP(PTA!P20,AL_NUM_ARB,2,FALSE)&\" \"&VLOOKUP(PTA!P20,AL_NUM_ARB,4,FALSE)&\" \"&VLOOKUP(PTA!P20,AL_NUM_ARB,6,FALSE)))","v":"X"},{"$f":"IF(OR(PTA!Q20=\"\",PTA!Q20=\"X\"),\"X\",IF(PTA!Q20=\"*\",\"*\",VLOOKUP(PTA!Q20,AL_NUM_ARB,2,FALSE)&\" \"&VLOOKUP(PTA!Q20,AL_NUM_ARB,4,FALSE)&\" \"&VLOOKUP(PTA!Q20,AL_NUM_ARB,6,FALSE)))","v":"X"},{"$f":"IF(OR(PTA!R20=\"\",PTA!R20=\"X\"),\"X\",IF(PTA!R20=\"*\",\"*\",VLOOKUP(PTA!R20,AL_NUM_ARB,2,FALSE)&\" \"&VLOOKUP(PTA!R20,AL_NUM_ARB,4,FALSE)&\" \"&VLOOKUP(PTA!R20,AL_NUM_ARB,6,FALSE)))","v":"X"},{"$f":"IF(OR(PTA!S20=\"\",PTA!S20=\"X\"),\"X\",IF(PTA!S20=\"*\",\"*\",VLOOKUP(PTA!S20,AL_NUM_ARB,2,FALSE)&\" \"&VLOOKUP(PTA!S20,AL_NUM_ARB,4,FALSE)&\" \"&VLOOKUP(PTA!S20,AL_NUM_ARB,6,FALSE)))","v":"X"},{"$f":"IF(OR(PTA!T20=\"\",PTA!T20=\"X\"),\"X\",IF(PTA!T20=\"*\",\"*\",VLOOKUP(PTA!T20,AL_NUM_ARB,2,FALSE)&\" \"&VLOOKUP(PTA!T20,AL_NUM_ARB,4,FALSE)&\" \"&VLOOKUP(PTA!T20,AL_NUM_ARB,6,FALSE)))","v":"X"},{"$f":"IF(OR(PTA!U20=\"\",PTA!U20=\"X\"),\"X\",IF(PTA!U20=\"*\",\"*\",VLOOKUP(PTA!U20,AL_NUM_ARB,2,FALSE)&\" \"&VLOOKUP(PTA!U20,AL_NUM_ARB,4,FALSE)&\" \"&VLOOKUP(PTA!U20,AL_NUM_ARB,6,FALSE)))","v":"X"},{"$f":"IF(OR(PTA!V20=\"\",PTA!V20=\"X\"),\"X\",IF(PTA!V20=\"*\",\"*\",VLOOKUP(PTA!V20,AL_NUM_ARB,2,FALSE)&\" \"&VLOOKUP(PTA!V20,AL_NUM_ARB,4,FALSE)&\" \"&VLOOKUP(PTA!V20,AL_NUM_ARB,6,FALSE)))","v":"X"},{"$f":"IF(OR(PTA!W20=\"\",PTA!W20=\"X\"),\"X\",IF(PTA!W20=\"*\",\"*\",VLOOKUP(PTA!W20,AL_NUM_ARB,2,FALSE)&\" \"&VLOOKUP(PTA!W20,AL_NUM_ARB,4,FALSE)&\" \"&VLOOKUP(PTA!W20,AL_NUM_ARB,6,FALSE)))","v":"X"},{"$f":"IF(OR(PTA!X20=\"\",PTA!X20=\"X\"),\"X\",IF(PTA!X20=\"*\",\"*\",VLOOKUP(PTA!X20,AL_NUM_ARB,2,FALSE)&\" \"&VLOOKUP(PTA!X20,AL_NUM_ARB,4,FALSE)&\" \"&VLOOKUP(PTA!X20,AL_NUM_ARB,6,FALSE)))","v":"X"},{"$f":"IF(OR(PTA!Y20=\"\",PTA!Y20=\"X\"),\"X\",IF(PTA!Y20=\"*\",\"*\",VLOOKUP(PTA!Y20,AL_NUM_ARB,2,FALSE)&\" \"&VLOOKUP(PTA!Y20,AL_NUM_ARB,4,FALSE)&\" \"&VLOOKUP(PTA!Y20,AL_NUM_ARB,6,FALSE)))","v":"X"},{"$f":"IF(OR(PTA!Z20=\"\",PTA!Z20=\"X\"),\"X\",IF(PTA!Z20=\"*\",\"*\",VLOOKUP(PTA!Z20,AL_NUM_ARB,2,FALSE)&\" \"&VLOOKUP(PTA!Z20,AL_NUM_ARB,4,FALSE)&\" \"&VLOOKUP(PTA!Z20,AL_NUM_ARB,6,FALSE)))","v":"X"},{"$f":"IF(OR(PTA!AA20=\"\",PTA!AA20=\"X\"),\"X\",IF(PTA!AA20=\"*\",\"*\",VLOOKUP(PTA!AA20,AL_NUM_ARB,2,FALSE)&\" \"&VLOOKUP(PTA!AA20,AL_NUM_ARB,4,FALSE)&\" \"&VLOOKUP(PTA!AA20,AL_NUM_ARB,6,FALSE)))","v":"X"},{"$f":"IF(OR(PTA!AB20=\"\",PTA!AB20=\"X\"),\"X\",IF(PTA!AB20=\"*\",\"*\",VLOOKUP(PTA!AB20,AL_NUM_ARB,2,FALSE)&\" \"&VLOOKUP(PTA!AB20,AL_NUM_ARB,4,FALSE)&\" \"&VLOOKUP(PTA!AB20,AL_NUM_ARB,6,FALSE)))","v":"X"},{"$f":"IF(OR(PTA!AC20=\"\",PTA!AC20=\"X\"),\"X\",IF(PTA!AC20=\"*\",\"*\",VLOOKUP(PTA!AC20,AL_NUM_ARB,2,FALSE)&\" \"&VLOOKUP(PTA!AC20,AL_NUM_ARB,4,FALSE)&\" \"&VLOOKUP(PTA!AC20,AL_NUM_ARB,6,FALSE)))","v":"X"},{"$f":"IF(OR(PTA!AD20=\"\",PTA!AD20=\"X\"),\"X\",IF(PTA!AD20=\"*\",\"*\",VLOOKUP(PTA!AD20,AL_NUM_ARB,2,FALSE)&\" \"&VLOOKUP(PTA!AD20,AL_NUM_ARB,4,FALSE)&\" \"&VLOOKUP(PTA!AD20,AL_NUM_ARB,6,FALSE)))","v":"X"},{"$f":"IF(OR(PTA!AE20=\"\",PTA!AE20=\"X\"),\"X\",IF(PTA!AE20=\"*\",\"*\",VLOOKUP(PTA!AE20,AL_NUM_ARB,2,FALSE)&\" \"&VLOOKUP(PTA!AE20,AL_NUM_ARB,4,FALSE)&\" \"&VLOOKUP(PTA!AE20,AL_NUM_ARB,6,FALSE)))","v":"X"},{"$f":"IF(OR(PTA!AF20=\"\",PTA!AF20=\"X\"),\"X\",IF(PTA!AF20=\"*\",\"*\",VLOOKUP(PTA!AF20,AL_NUM_ARB,2,FALSE)&\" \"&VLOOKUP(PTA!AF20,AL_NUM_ARB,4,FALSE)&\" \"&VLOOKUP(PTA!AF20,AL_NUM_ARB,6,FALSE)))","v":"X"},{"$f":"IF(OR(PTA!AG20=\"\",PTA!AG20=\"X\"),\"X\",IF(PTA!AG20=\"*\",\"*\",VLOOKUP(PTA!AG20,AL_NUM_ARB,2,FALSE)&\" \"&VLOOKUP(PTA!AG20,AL_NUM_ARB,4,FALSE)&\" \"&VLOOKUP(PTA!AG20,AL_NUM_ARB,6,FALSE)))","v":"X"},{"$f":"IF(OR(PTA!AH20=\"\",PTA!AH20=\"X\"),\"X\",IF(PTA!AH20=\"*\",\"*\",VLOOKUP(PTA!AH20,AL_NUM_ARB,2,FALSE)&\" \"&VLOOKUP(PTA!AH20,AL_NUM_ARB,4,FALSE)&\" \"&VLOOKUP(PTA!AH20,AL_NUM_ARB,6,FALSE)))","v":"X"},{"$f":"IF(OR(PTA!AI20=\"\",PTA!AI20=\"X\"),\"X\",IF(PTA!AI20=\"*\",\"*\",VLOOKUP(PTA!AI20,AL_NUM_ARB,2,FALSE)&\" \"&VLOOKUP(PTA!AI20,AL_NUM_ARB,4,FALSE)&\" \"&VLOOKUP(PTA!AI20,AL_NUM_ARB,6,FALSE)))","v":"X"},{"$f":"IF(OR(PTA!AJ20=\"\",PTA!AJ20=\"X\"),\"X\",IF(PTA!AJ20=\"*\",\"*\",VLOOKUP(PTA!AJ20,AL_NUM_ARB,2,FALSE)&\" \"&VLOOKUP(PTA!AJ20,AL_NUM_ARB,4,FALSE)&\" \"&VLOOKUP(PTA!AJ20,AL_NUM_ARB,6,FALSE)))","v":"X"},{"$f":"IF(OR(PTA!AK20=\"\",PTA!AK20=\"X\"),\"X\",IF(PTA!AK20=\"*\",\"*\",VLOOKUP(PTA!AK20,AL_NUM_ARB,2,FALSE)&\" \"&VLOOKUP(PTA!AK20,AL_NUM_ARB,4,FALSE)&\" \"&VLOOKUP(PTA!AK20,AL_NUM_ARB,6,FALSE)))","v":"X"},{"$f":"IF(OR(PTA!AL20=\"\",PTA!AL20=\"X\"),\"X\",IF(PTA!AL20=\"*\",\"*\",VLOOKUP(PTA!AL20,AL_NUM_ARB,2,FALSE)&\" \"&VLOOKUP(PTA!AL20,AL_NUM_ARB,4,FALSE)&\" \"&VLOOKUP(PTA!AL20,AL_NUM_ARB,6,FALSE)))","v":"X"},{"$f":"IF(OR(PTA!AM20=\"\",PTA!AM20=\"X\"),\"X\",IF(PTA!AM20=\"*\",\"*\",VLOOKUP(PTA!AM20,AL_NUM_ARB,2,FALSE)&\" \"&VLOOKUP(PTA!AM20,AL_NUM_ARB,4,FALSE)&\" \"&VLOOKUP(PTA!AM20,AL_NUM_ARB,6,FALSE)))","v":"X"},{"$f":"IF(OR(PTA!AN20=\"\",PTA!AN20=\"X\"),\"X\",IF(PTA!AN20=\"*\",\"*\",VLOOKUP(PTA!AN20,AL_NUM_ARB,2,FALSE)&\" \"&VLOOKUP(PTA!AN20,AL_NUM_ARB,4,FALSE)&\" \"&VLOOKUP(PTA!AN20,AL_NUM_ARB,6,FALSE)))","v":"X"},{"$f":"IF(OR(PTA!AO20=\"\",PTA!AO20=\"X\"),\"X\",IF(PTA!AO20=\"*\",\"*\",VLOOKUP(PTA!AO20,AL_NUM_ARB,2,FALSE)&\" \"&VLOOKUP(PTA!AO20,AL_NUM_ARB,4,FALSE)&\" \"&VLOOKUP(PTA!AO20,AL_NUM_ARB,6,FALSE)))","v":"X"},{"$f":"IF(OR(PTA!AP20=\"\",PTA!AP20=\"X\"),\"X\",IF(PTA!AP20=\"*\",\"*\",VLOOKUP(PTA!AP20,AL_NUM_ARB,2,FALSE)&\" \"&VLOOKUP(PTA!AP20,AL_NUM_ARB,4,FALSE)&\" \"&VLOOKUP(PTA!AP20,AL_NUM_ARB,6,FALSE)))","v":"X"},{"$f":"IF(OR(PTA!AQ20=\"\",PTA!AQ20=\"X\"),\"X\",IF(PTA!AQ20=\"*\",\"*\",VLOOKUP(PTA!AQ20,AL_NUM_ARB,2,FALSE)&\" \"&VLOOKUP(PTA!AQ20,AL_NUM_ARB,4,FALSE)&\" \"&VLOOKUP(PTA!AQ20,AL_NUM_ARB,6,FALSE)))","v":"X"},{"$f":"IF(OR(PTA!AR20=\"\",PTA!AR20=\"X\"),\"X\",IF(PTA!AR20=\"*\",\"*\",VLOOKUP(PTA!AR20,AL_NUM_ARB,2,FALSE)&\" \"&VLOOKUP(PTA!AR20,AL_NUM_ARB,4,FALSE)&\" \"&VLOOKUP(PTA!AR20,AL_NUM_ARB,6,FALSE)))","v":"X"},{"$f":"IF(OR(PTA!AS20=\"\",PTA!AS20=\"X\"),\"X\",IF(PTA!AS20=\"*\",\"*\",VLOOKUP(PTA!AS20,AL_NUM_ARB,2,FALSE)&\" \"&VLOOKUP(PTA!AS20,AL_NUM_ARB,4,FALSE)&\" \"&VLOOKUP(PTA!AS20,AL_NUM_ARB,6,FALSE)))","v":"X"},{"$f":"IF(OR(PTA!AT20=\"\",PTA!AT20=\"X\"),\"X\",IF(PTA!AT20=\"*\",\"*\",VLOOKUP(PTA!AT20,AL_NUM_ARB,2,FALSE)&\" \"&VLOOKUP(PTA!AT20,AL_NUM_ARB,4,FALSE)&\" \"&VLOOKUP(PTA!AT20,AL_NUM_ARB,6,FALSE)))","v":"X"},{"$f":"IF(OR(PTA!AU20=\"\",PTA!AU20=\"X\"),\"X\",IF(PTA!AU20=\"*\",\"*\",VLOOKUP(PTA!AU20,AL_NUM_ARB,2,FALSE)&\" \"&VLOOKUP(PTA!AU20,AL_NUM_ARB,4,FALSE)&\" \"&VLOOKUP(PTA!AU20,AL_NUM_ARB,6,FALSE)))","v":"X"},{"$f":"IF(OR(PTA!AV20=\"\",PTA!AV20=\"X\"),\"X\",IF(PTA!AV20=\"*\",\"*\",VLOOKUP(PTA!AV20,AL_NUM_ARB,2,FALSE)&\" \"&VLOOKUP(PTA!AV20,AL_NUM_ARB,4,FALSE)&\" \"&VLOOKUP(PTA!AV20,AL_NUM_ARB,6,FALSE)))","v":"X"},{"$f":"IF(OR(PTA!AW20=\"\",PTA!AW20=\"X\"),\"X\",IF(PTA!AW20=\"*\",\"*\",VLOOKUP(PTA!AW20,AL_NUM_ARB,2,FALSE)&\" \"&VLOOKUP(PTA!AW20,AL_NUM_ARB,4,FALSE)&\" \"&VLOOKUP(PTA!AW20,AL_NUM_ARB,6,FALSE)))","v":"X"},{"$f":"IF(OR(PTA!AX20=\"\",PTA!AX20=\"X\"),\"X\",IF(PTA!AX20=\"*\",\"*\",VLOOKUP(PTA!AX20,AL_NUM_ARB,2,FALSE)&\" \"&VLOOKUP(PTA!AX20,AL_NUM_ARB,4,FALSE)&\" \"&VLOOKUP(PTA!AX20,AL_NUM_ARB,6,FALSE)))","v":"X"},{"$f":"IF(OR(PTA!AY20=\"\",PTA!AY20=\"X\"),\"X\",IF(PTA!AY20=\"*\",\"*\",VLOOKUP(PTA!AY20,AL_NUM_ARB,2,FALSE)&\" \"&VLOOKUP(PTA!AY20,AL_NUM_ARB,4,FALSE)&\" \"&VLOOKUP(PTA!AY20,AL_NUM_ARB,6,FALSE)))","v":"X"},{"$f":"IF(OR(PTA!AZ20=\"\",PTA!AZ20=\"X\"),\"X\",IF(PTA!AZ20=\"*\",\"*\",VLOOKUP(PTA!AZ20,AL_NUM_ARB,2,FALSE)&\" \"&VLOOKUP(PTA!AZ20,AL_NUM_ARB,4,FALSE)&\" \"&VLOOKUP(PTA!AZ20,AL_NUM_ARB,6,FALSE)))","v":"X"},{"$f":"IF(OR(PTA!BA20=\"\",PTA!BA20=\"X\"),\"X\",IF(PTA!BA20=\"*\",\"*\",VLOOKUP(PTA!BA20,AL_NUM_ARB,2,FALSE)&\" \"&VLOOKUP(PTA!BA20,AL_NUM_ARB,4,FALSE)&\" \"&VLOOKUP(PTA!BA20,AL_NUM_ARB,6,FALSE)))","v":"X"},{"$f":"IF(OR(PTA!BB20=\"\",PTA!BB20=\"X\"),\"X\",IF(PTA!BB20=\"*\",\"*\",VLOOKUP(PTA!BB20,AL_NUM_ARB,2,FALSE)&\" \"&VLOOKUP(PTA!BB20,AL_NUM_ARB,4,FALSE)&\" \"&VLOOKUP(PTA!BB20,AL_NUM_ARB,6,FALSE)))","v":"X"},{"$f":"IF(OR(PTA!BC20=\"\",PTA!BC20=\"X\"),\"X\",IF(PTA!BC20=\"*\",\"*\",VLOOKUP(PTA!BC20,AL_NUM_ARB,2,FALSE)&\" \"&VLOOKUP(PTA!BC20,AL_NUM_ARB,4,FALSE)&\" \"&VLOOKUP(PTA!BC20,AL_NUM_ARB,6,FALSE)))","v":"X"},{"$f":"IF(OR(PTA!BD20=\"\",PTA!BD20=\"X\"),\"X\",IF(PTA!BD20=\"*\",\"*\",VLOOKUP(PTA!BD20,AL_NUM_ARB,2,FALSE)&\" \"&VLOOKUP(PTA!BD20,AL_NUM_ARB,4,FALSE)&\" \"&VLOOKUP(PTA!BD20,AL_NUM_ARB,6,FALSE)))","v":"X"},{"$f":"IF(OR(PTA!BE20=\"\",PTA!BE20=\"X\"),\"X\",IF(PTA!BE20=\"*\",\"*\",VLOOKUP(PTA!BE20,AL_NUM_ARB,2,FALSE)&\" \"&VLOOKUP(PTA!BE20,AL_NUM_ARB,4,FALSE)&\" \"&VLOOKUP(PTA!BE20,AL_NUM_ARB,6,FALSE)))","v":"X"},{"$f":"IF(OR(PTA!BF20=\"\",PTA!BF20=\"X\"),\"X\",IF(PTA!BF20=\"*\",\"*\",VLOOKUP(PTA!BF20,AL_NUM_ARB,2,FALSE)&\" \"&VLOOKUP(PTA!BF20,AL_NUM_ARB,4,FALSE)&\" \"&VLOOKUP(PTA!BF20,AL_NUM_ARB,6,FALSE)))","v":"X"},{"$f":"IF(OR(PTA!BG20=\"\",PTA!BG20=\"X\"),\"X\",IF(PTA!BG20=\"*\",\"*\",VLOOKUP(PTA!BG20,AL_NUM_ARB,2,FALSE)&\" \"&VLOOKUP(PTA!BG20,AL_NUM_ARB,4,FALSE)&\" \"&VLOOKUP(PTA!BG20,AL_NUM_ARB,6,FALSE)))","v":"X"},{"$f":"IF(OR(PTA!BH20=\"\",PTA!BH20=\"X\"),\"X\",IF(PTA!BH20=\"*\",\"*\",VLOOKUP(PTA!BH20,AL_NUM_ARB,2,FALSE)&\" \"&VLOOKUP(PTA!BH20,AL_NUM_ARB,4,FALSE)&\" \"&VLOOKUP(PTA!BH20,AL_NUM_ARB,6,FALSE)))","v":"X"},{"$f":"IF(OR(PTA!BI20=\"\",PTA!BI20=\"X\"),\"X\",IF(PTA!BI20=\"*\",\"*\",VLOOKUP(PTA!BI20,AL_NUM_ARB,2,FALSE)&\" \"&VLOOKUP(PTA!BI20,AL_NUM_ARB,4,FALSE)&\" \"&VLOOKUP(PTA!BI20,AL_NUM_ARB,6,FALSE)))","v":"X"},{"$f":"IF(OR(PTA!BJ20=\"\",PTA!BJ20=\"X\"),\"X\",IF(PTA!BJ20=\"*\",\"*\",VLOOKUP(PTA!BJ20,AL_NUM_ARB,2,FALSE)&\" \"&VLOOKUP(PTA!BJ20,AL_NUM_ARB,4,FALSE)&\" \"&VLOOKUP(PTA!BJ20,AL_NUM_ARB,6,FALSE)))","v":"X"},{"$f":"IF(OR(PTA!BK20=\"\",PTA!BK20=\"X\"),\"X\",IF(PTA!BK20=\"*\",\"*\",VLOOKUP(PTA!BK20,AL_NUM_ARB,2,FALSE)&\" \"&VLOOKUP(PTA!BK20,AL_NUM_ARB,4,FALSE)&\" \"&VLOOKUP(PTA!BK20,AL_NUM_ARB,6,FALSE)))","v":"X"},{"$f":"IF(OR(PTA!BL20=\"\",PTA!BL20=\"X\"),\"X\",IF(PTA!BL20=\"*\",\"*\",VLOOKUP(PTA!BL20,AL_NUM_ARB,2,FALSE)&\" \"&VLOOKUP(PTA!BL20,AL_NUM_ARB,4,FALSE)&\" \"&VLOOKUP(PTA!BL20,AL_NUM_ARB,6,FALSE)))","v":"X"},{"$f":"IF(OR(PTA!BM20=\"\",PTA!BM20=\"X\"),\"X\",IF(PTA!BM20=\"*\",\"*\",VLOOKUP(PTA!BM20,AL_NUM_ARB,2,FALSE)&\" \"&VLOOKUP(PTA!BM20,AL_NUM_ARB,4,FALSE)&\" \"&VLOOKUP(PTA!BM20,AL_NUM_ARB,6,FALSE)))","v":"X"},{"$f":"IF(OR(PTA!BN20=\"\",PTA!BN20=\"X\"),\"X\",IF(PTA!BN20=\"*\",\"*\",VLOOKUP(PTA!BN20,AL_NUM_ARB,2,FALSE)&\" \"&VLOOKUP(PTA!BN20,AL_NUM_ARB,4,FALSE)&\" \"&VLOOKUP(PTA!BN20,AL_NUM_ARB,6,FALSE)))","v":"X"},{"$f":"IF(OR(PTA!BO20=\"\",PTA!BO20=\"X\"),\"X\",IF(PTA!BO20=\"*\",\"*\",VLOOKUP(PTA!BO20,AL_NUM_ARB,2,FALSE)&\" \"&VLOOKUP(PTA!BO20,AL_NUM_ARB,4,FALSE)&\" \"&VLOOKUP(PTA!BO20,AL_NUM_ARB,6,FALSE)))","v":"X"},{"$f":"IF(OR(PTA!BP20=\"\",PTA!BP20=\"X\"),\"X\",IF(PTA!BP20=\"*\",\"*\",VLOOKUP(PTA!BP20,AL_NUM_ARB,2,FALSE)&\" \"&VLOOKUP(PTA!BP20,AL_NUM_ARB,4,FALSE)&\" \"&VLOOKUP(PTA!BP20,AL_NUM_ARB,6,FALSE)))","v":"X"},{"$f":"IF(OR(PTA!BQ20=\"\",PTA!BQ20=\"X\"),\"X\",IF(PTA!BQ20=\"*\",\"*\",VLOOKUP(PTA!BQ20,AL_NUM_ARB,2,FALSE)&\" \"&VLOOKUP(PTA!BQ20,AL_NUM_ARB,4,FALSE)&\" \"&VLOOKUP(PTA!BQ20,AL_NUM_ARB,6,FALSE)))","v":"X"},{"$f":"IF(OR(PTA!BR20=\"\",PTA!BR20=\"X\"),\"X\",IF(PTA!BR20=\"*\",\"*\",VLOOKUP(PTA!BR20,AL_NUM_ARB,2,FALSE)&\" \"&VLOOKUP(PTA!BR20,AL_NUM_ARB,4,FALSE)&\" \"&VLOOKUP(PTA!BR20,AL_NUM_ARB,6,FALSE)))","v":"X"},{"$f":"IF(OR(PTA!BT20=\"\",PTA!BT20=\"X\"),\"X\",VLOOKUP(PTA!BT20,AL_NUM_ARB,2,FALSE)&\" \"&VLOOKUP(PTA!BT20,AL_NUM_ARB,4,FALSE)&\" \"&VLOOKUP(PTA!BT20,AL_NUM_ARB,6,FALSE))","v":"X"},{"$f":"IF(OR(PTA!BU20=\"\",PTA!BU20=\"X\"),\"X\",VLOOKUP(PTA!BU20,AL_NUM_ARB,2,FALSE)&\" \"&VLOOKUP(PTA!BU20,AL_NUM_ARB,4,FALSE)&\" \"&VLOOKUP(PTA!BU20,AL_NUM_ARB,6,FALSE))","v":"X"},{"$f":"IF(OR(PTA!BV20=\"\",PTA!BV20=\"X\"),\"X\",VLOOKUP(PTA!BV20,AL_NUM_ARB,2,FALSE)&\" \"&VLOOKUP(PTA!BV20,AL_NUM_ARB,4,FALSE)&\" \"&VLOOKUP(PTA!BV20,AL_NUM_ARB,6,FALSE))","v":"X"},{"$f":"IF(OR(PTA!BW20=\"\",PTA!BW20=\"X\"),\"X\",VLOOKUP(PTA!BW20,AL_NUM_ARB,2,FALSE)&\" \"&VLOOKUP(PTA!BW20,AL_NUM_ARB,4,FALSE)&\" \"&VLOOKUP(PTA!BW20,AL_NUM_ARB,6,FALSE))","v":"X"},"05:30:00"]
[{"$f":"PTA!A21","v":""},{"$f":"PTA!B21","v":"00:00:00"},{"$f":"PTA!C21","v":32},{"$f":"PTA!D21","v":0},{"$f":"IF(OR(PTA!E21=\"\",PTA!E21=\"X\"),\"X\",IF(PTA!E21=\"*\",\"*\",VLOOKUP(PTA!E21,AL_NUM_ARB,2,FALSE)&\" \"&VLOOKUP(PTA!E21,AL_NUM_ARB,4,FALSE)&\" \"&VLOOKUP(PTA!E21,AL_NUM_ARB,6,FALSE)))","v":"X"},{"$f":"IF(OR(PTA!F21=\"\",PTA!F21=\"X\"),\"X\",IF(PTA!F21=\"*\",\"*\",VLOOKUP(PTA!F21,AL_NUM_ARB,2,FALSE)&\" \"&VLOOKUP(PTA!F21,AL_NUM_ARB,4,FALSE)&\" \"&VLOOKUP(PTA!F21,AL_NUM_ARB,6,FALSE)))","v":"X"},{"$f":"IF(OR(PTA!G21=\"\",PTA!G21=\"X\"),\"X\",IF(PTA!G21=\"*\",\"*\",VLOOKUP(PTA!G21,AL_NUM_ARB,2,FALSE)&\" \"&VLOOKUP(PTA!G21,AL_NUM_ARB,4,FALSE)&\" \"&VLOOKUP(PTA!G21,AL_NUM_ARB,6,FALSE)))","v":"X"},{"$f":"IF(OR(PTA!H21=\"\",PTA!H21=\"X\"),\"X\",IF(PTA!H21=\"*\",\"*\",VLOOKUP(PTA!H21,AL_NUM_ARB,2,FALSE)&\" \"&VLOOKUP(PTA!H21,AL_NUM_ARB,4,FALSE)&\" \"&VLOOKUP(PTA!H21,AL_NUM_ARB,6,FALSE)))","v":"X"},{"$f":"IF(OR(PTA!I21=\"\",PTA!I21=\"X\"),\"X\",IF(PTA!I21=\"*\",\"*\",VLOOKUP(PTA!I21,AL_NUM_ARB,2,FALSE)&\" \"&VLOOKUP(PTA!I21,AL_NUM_ARB,4,FALSE)&\" \"&VLOOKUP(PTA!I21,AL_NUM_ARB,6,FALSE)))","v":"X"},{"$f":"IF(OR(PTA!J21=\"\",PTA!J21=\"X\"),\"X\",IF(PTA!J21=\"*\",\"*\",VLOOKUP(PTA!J21,AL_NUM_ARB,2,FALSE)&\" \"&VLOOKUP(PTA!J21,AL_NUM_ARB,4,FALSE)&\" \"&VLOOKUP(PTA!J21,AL_NUM_ARB,6,FALSE)))","v":"X"},{"$f":"IF(OR(PTA!K21=\"\",PTA!K21=\"X\"),\"X\",IF(PTA!K21=\"*\",\"*\",VLOOKUP(PTA!K21,AL_NUM_ARB,2,FALSE)&\" \"&VLOOKUP(PTA!K21,AL_NUM_ARB,4,FALSE)&\" \"&VLOOKUP(PTA!K21,AL_NUM_ARB,6,FALSE)))","v":"X"},{"$f":"IF(OR(PTA!L21=\"\",PTA!L21=\"X\"),\"X\",IF(PTA!L21=\"*\",\"*\",VLOOKUP(PTA!L21,AL_NUM_ARB,2,FALSE)&\" \"&VLOOKUP(PTA!L21,AL_NUM_ARB,4,FALSE)&\" \"&VLOOKUP(PTA!L21,AL_NUM_ARB,6,FALSE)))","v":"X"},{"$f":"IF(OR(PTA!M21=\"\",PTA!M21=\"X\"),\"X\",IF(PTA!M21=\"*\",\"*\",VLOOKUP(PTA!M21,AL_NUM_ARB,2,FALSE)&\" \"&VLOOKUP(PTA!M21,AL_NUM_ARB,4,FALSE)&\" \"&VLOOKUP(PTA!M21,AL_NUM_ARB,6,FALSE)))","v":"X"},{"$f":"IF(OR(PTA!N21=\"\",PTA!N21=\"X\"),\"X\",IF(PTA!N21=\"*\",\"*\",VLOOKUP(PTA!N21,AL_NUM_ARB,2,FALSE)&\" \"&VLOOKUP(PTA!N21,AL_NUM_ARB,4,FALSE)&\" \"&VLOOKUP(PTA!N21,AL_NUM_ARB,6,FALSE)))","v":"X"},{"$f":"IF(OR(PTA!O21=\"\",PTA!O21=\"X\"),\"X\",IF(PTA!O21=\"*\",\"*\",VLOOKUP(PTA!O21,AL_NUM_ARB,2,FALSE)&\" \"&VLOOKUP(PTA!O21,AL_NUM_ARB,4,FALSE)&\" \"&VLOOKUP(PTA!O21,AL_NUM_ARB,6,FALSE)))","v":"X"},{"$f":"IF(OR(PTA!P21=\"\",PTA!P21=\"X\"),\"X\",IF(PTA!P21=\"*\",\"*\",VLOOKUP(PTA!P21,AL_NUM_ARB,2,FALSE)&\" \"&VLOOKUP(PTA!P21,AL_NUM_ARB,4,FALSE)&\" \"&VLOOKUP(PTA!P21,AL_NUM_ARB,6,FALSE)))","v":"X"},{"$f":"IF(OR(PTA!Q21=\"\",PTA!Q21=\"X\"),\"X\",IF(PTA!Q21=\"*\",\"*\",VLOOKUP(PTA!Q21,AL_NUM_ARB,2,FALSE)&\" \"&VLOOKUP(PTA!Q21,AL_NUM_ARB,4,FALSE)&\" \"&VLOOKUP(PTA!Q21,AL_NUM_ARB,6,FALSE)))","v":"X"},{"$f":"IF(OR(PTA!R21=\"\",PTA!R21=\"X\"),\"X\",IF(PTA!R21=\"*\",\"*\",VLOOKUP(PTA!R21,AL_NUM_ARB,2,FALSE)&\" \"&VLOOKUP(PTA!R21,AL_NUM_ARB,4,FALSE)&\" \"&VLOOKUP(PTA!R21,AL_NUM_ARB,6,FALSE)))","v":"X"},{"$f":"IF(OR(PTA!S21=\"\",PTA!S21=\"X\"),\"X\",IF(PTA!S21=\"*\",\"*\",VLOOKUP(PTA!S21,AL_NUM_ARB,2,FALSE)&\" \"&VLOOKUP(PTA!S21,AL_NUM_ARB,4,FALSE)&\" \"&VLOOKUP(PTA!S21,AL_NUM_ARB,6,FALSE)))","v":"X"},{"$f":"IF(OR(PTA!T21=\"\",PTA!T21=\"X\"),\"X\",IF(PTA!T21=\"*\",\"*\",VLOOKUP(PTA!T21,AL_NUM_ARB,2,FALSE)&\" \"&VLOOKUP(PTA!T21,AL_NUM_ARB,4,FALSE)&\" \"&VLOOKUP(PTA!T21,AL_NUM_ARB,6,FALSE)))","v":"X"},{"$f":"IF(OR(PTA!U21=\"\",PTA!U21=\"X\"),\"X\",IF(PTA!U21=\"*\",\"*\",VLOOKUP(PTA!U21,AL_NUM_ARB,2,FALSE)&\" \"&VLOOKUP(PTA!U21,AL_NUM_ARB,4,FALSE)&\" \"&VLOOKUP(PTA!U21,AL_NUM_ARB,6,FALSE)))","v":"X"},{"$f":"IF(OR(PTA!V21=\"\",PTA!V21=\"X\"),\"X\",IF(PTA!V21=\"*\",\"*\",VLOOKUP(PTA!V21,AL_NUM_ARB,2,FALSE)&\" \"&VLOOKUP(PTA!V21,AL_NUM_ARB,4,FALSE)&\" \"&VLOOKUP(PTA!V21,AL_NUM_ARB,6,FALSE)))","v":"X"},{"$f":"IF(OR(PTA!W21=\"\",PTA!W21=\"X\"),\"X\",IF(PTA!W21=\"*\",\"*\",VLOOKUP(PTA!W21,AL_NUM_ARB,2,FALSE)&\" \"&VLOOKUP(PTA!W21,AL_NUM_ARB,4,FALSE)&\" \"&VLOOKUP(PTA!W21,AL_NUM_ARB,6,FALSE)))","v":"X"},{"$f":"IF(OR(PTA!X21=\"\",PTA!X21=\"X\"),\"X\",IF(PTA!X21=\"*\",\"*\",VLOOKUP(PTA!X21,AL_NUM_ARB,2,FALSE)&\" \"&VLOOKUP(PTA!X21,AL_NUM_ARB,4,FALSE)&\" \"&VLOOKUP(PTA!X21,AL_NUM_ARB,6,FALSE)))","v":"X"},{"$f":"IF(OR(PTA!Y21=\"\",PTA!Y21=\"X\"),\"X\",IF(PTA!Y21=\"*\",\"*\",VLOOKUP(PTA!Y21,AL_NUM_ARB,2,FALSE)&\" \"&VLOOKUP(PTA!Y21,AL_NUM_ARB,4,FALSE)&\" \"&VLOOKUP(PTA!Y21,AL_NUM_ARB,6,FALSE)))","v":"X"},{"$f":"IF(OR(PTA!Z21=\"\",PTA!Z21=\"X\"),\"X\",IF(PTA!Z21=\"*\",\"*\",VLOOKUP(PTA!Z21,AL_NUM_ARB,2,FALSE)&\" \"&VLOOKUP(PTA!Z21,AL_NUM_ARB,4,FALSE)&\" \"&VLOOKUP(PTA!Z21,AL_NUM_ARB,6,FALSE)))","v":"X"},{"$f":"IF(OR(PTA!AA21=\"\",PTA!AA21=\"X\"),\"X\",IF(PTA!AA21=\"*\",\"*\",VLOOKUP(PTA!AA21,AL_NUM_ARB,2,FALSE)&\" \"&VLOOKUP(PTA!AA21,AL_NUM_ARB,4,FALSE)&\" \"&VLOOKUP(PTA!AA21,AL_NUM_ARB,6,FALSE)))","v":"X"},{"$f":"IF(OR(PTA!AB21=\"\",PTA!AB21=\"X\"),\"X\",IF(PTA!AB21=\"*\",\"*\",VLOOKUP(PTA!AB21,AL_NUM_ARB,2,FALSE)&\" \"&VLOOKUP(PTA!AB21,AL_NUM_ARB,4,FALSE)&\" \"&VLOOKUP(PTA!AB21,AL_NUM_ARB,6,FALSE)))","v":"X"},{"$f":"IF(OR(PTA!AC21=\"\",PTA!AC21=\"X\"),\"X\",IF(PTA!AC21=\"*\",\"*\",VLOOKUP(PTA!AC21,AL_NUM_ARB,2,FALSE)&\" \"&VLOOKUP(PTA!AC21,AL_NUM_ARB,4,FALSE)&\" \"&VLOOKUP(PTA!AC21,AL_NUM_ARB,6,FALSE)))","v":"X"},{"$f":"IF(OR(PTA!AD21=\"\",PTA!AD21=\"X\"),\"X\",IF(PTA!AD21=\"*\",\"*\",VLOOKUP(PTA!AD21,AL_NUM_ARB,2,FALSE)&\" \"&VLOOKUP(PTA!AD21,AL_NUM_ARB,4,FALSE)&\" \"&VLOOKUP(PTA!AD21,AL_NUM_ARB,6,FALSE)))","v":"X"},{"$f":"IF(OR(PTA!AE21=\"\",PTA!AE21=\"X\"),\"X\",IF(PTA!AE21=\"*\",\"*\",VLOOKUP(PTA!AE21,AL_NUM_ARB,2,FALSE)&\" \"&VLOOKUP(PTA!AE21,AL_NUM_ARB,4,FALSE)&\" \"&VLOOKUP(PTA!AE21,AL_NUM_ARB,6,FALSE)))","v":"X"},{"$f":"IF(OR(PTA!AF21=\"\",PTA!AF21=\"X\"),\"X\",IF(PTA!AF21=\"*\",\"*\",VLOOKUP(PTA!AF21,AL_NUM_ARB,2,FALSE)&\" \"&VLOOKUP(PTA!AF21,AL_NUM_ARB,4,FALSE)&\" \"&VLOOKUP(PTA!AF21,AL_NUM_ARB,6,FALSE)))","v":"X"},{"$f":"IF(OR(PTA!AG21=\"\",PTA!AG21=\"X\"),\"X\",IF(PTA!AG21=\"*\",\"*\",VLOOKUP(PTA!AG21,AL_NUM_ARB,2,FALSE)&\" \"&VLOOKUP(PTA!AG21,AL_NUM_ARB,4,FALSE)&\" \"&VLOOKUP(PTA!AG21,AL_NUM_ARB,6,FALSE)))","v":"X"},{"$f":"IF(OR(PTA!AH21=\"\",PTA!AH21=\"X\"),\"X\",IF(PTA!AH21=\"*\",\"*\",VLOOKUP(PTA!AH21,AL_NUM_ARB,2,FALSE)&\" \"&VLOOKUP(PTA!AH21,AL_NUM_ARB,4,FALSE)&\" \"&VLOOKUP(PTA!AH21,AL_NUM_ARB,6,FALSE)))","v":"X"},{"$f":"IF(OR(PTA!AI21=\"\",PTA!AI21=\"X\"),\"X\",IF(PTA!AI21=\"*\",\"*\",VLOOKUP(PTA!AI21,AL_NUM_ARB,2,FALSE)&\" \"&VLOOKUP(PTA!AI21,AL_NUM_ARB,4,FALSE)&\" \"&VLOOKUP(PTA!AI21,AL_NUM_ARB,6,FALSE)))","v":"X"},{"$f":"IF(OR(PTA!AJ21=\"\",PTA!AJ21=\"X\"),\"X\",IF(PTA!AJ21=\"*\",\"*\",VLOOKUP(PTA!AJ21,AL_NUM_ARB,2,FALSE)&\" \"&VLOOKUP(PTA!AJ21,AL_NUM_ARB,4,FALSE)&\" \"&VLOOKUP(PTA!AJ21,AL_NUM_ARB,6,FALSE)))","v":"X"},{"$f":"IF(OR(PTA!AK21=\"\",PTA!AK21=\"X\"),\"X\",IF(PTA!AK21=\"*\",\"*\",VLOOKUP(PTA!AK21,AL_NUM_ARB,2,FALSE)&\" \"&VLOOKUP(PTA!AK21,AL_NUM_ARB,4,FALSE)&\" \"&VLOOKUP(PTA!AK21,AL_NUM_ARB,6,FALSE)))","v":"X"},{"$f":"IF(OR(PTA!AL21=\"\",PTA!AL21=\"X\"),\"X\",IF(PTA!AL21=\"*\",\"*\",VLOOKUP(PTA!AL21,AL_NUM_ARB,2,FALSE)&\" \"&VLOOKUP(PTA!AL21,AL_NUM_ARB,4,FALSE)&\" \"&VLOOKUP(PTA!AL21,AL_NUM_ARB,6,FALSE)))","v":"X"},{"$f":"IF(OR(PTA!AM21=\"\",PTA!AM21=\"X\"),\"X\",IF(PTA!AM21=\"*\",\"*\",VLOOKUP(PTA!AM21,AL_NUM_ARB,2,FALSE)&\" \"&VLOOKUP(PTA!AM21,AL_NUM_ARB,4,FALSE)&\" \"&VLOOKUP(PTA!AM21,AL_NUM_ARB,6,FALSE)))","v":"X"},{"$f":"IF(OR(PTA!AN21=\"\",PTA!AN21=\"X\"),\"X\",IF(PTA!AN21=\"*\",\"*\",VLOOKUP(PTA!AN21,AL_NUM_ARB,2,FALSE)&\" \"&VLOOKUP(PTA!AN21,AL_NUM_ARB,4,FALSE)&\" \"&VLOOKUP(PTA!AN21,AL_NUM_ARB,6,FALSE)))","v":"X"},{"$f":"IF(OR(PTA!AO21=\"\",PTA!AO21=\"X\"),\"X\",IF(PTA!AO21=\"*\",\"*\",VLOOKUP(PTA!AO21,AL_NUM_ARB,2,FALSE)&\" \"&VLOOKUP(PTA!AO21,AL_NUM_ARB,4,FALSE)&\" \"&VLOOKUP(PTA!AO21,AL_NUM_ARB,6,FALSE)))","v":"X"},{"$f":"IF(OR(PTA!AP21=\"\",PTA!AP21=\"X\"),\"X\",IF(PTA!AP21=\"*\",\"*\",VLOOKUP(PTA!AP21,AL_NUM_ARB,2,FALSE)&\" \"&VLOOKUP(PTA!AP21,AL_NUM_ARB,4,FALSE)&\" \"&VLOOKUP(PTA!AP21,AL_NUM_ARB,6,FALSE)))","v":"X"},{"$f":"IF(OR(PTA!AQ21=\"\",PTA!AQ21=\"X\"),\"X\",IF(PTA!AQ21=\"*\",\"*\",VLOOKUP(PTA!AQ21,AL_NUM_ARB,2,FALSE)&\" \"&VLOOKUP(PTA!AQ21,AL_NUM_ARB,4,FALSE)&\" \"&VLOOKUP(PTA!AQ21,AL_NUM_ARB,6,FALSE)))","v":"X"},{"$f":"IF(OR(PTA!AR21=\"\",PTA!AR21=\"X\"),\"X\",IF(PTA!AR21=\"*\",\"*\",VLOOKUP(PTA!AR21,AL_NUM_ARB,2,FALSE)&\" \"&VLOOKUP(PTA!AR21,AL_NUM_ARB,4,FALSE)&\" \"&VLOOKUP(PTA!AR21,AL_NUM_ARB,6,FALSE)))","v":"X"},{"$f":"IF(OR(PTA!AS21=\"\",PTA!AS21=\"X\"),\"X\",IF(PTA!AS21=\"*\",\"*\",VLOOKUP(PTA!AS21,AL_NUM_ARB,2,FALSE)&\" \"&VLOOKUP(PTA!AS21,AL_NUM_ARB,4,FALSE)&\" \"&VLOOKUP(PTA!AS21,AL_NUM_ARB,6,FALSE)))","v":"X"},{"$f":"IF(OR(PTA!AT21=\"\",PTA!AT21=\"X\"),\"X\",IF(PTA!AT21=\"*\",\"*\",VLOOKUP(PTA!AT21,AL_NUM_ARB,2,FALSE)&\" \"&VLOOKUP(PTA!AT21,AL_NUM_ARB,4,FALSE)&\" \"&VLOOKUP(PTA!AT21,AL_NUM_ARB,6,FALSE)))","v":"X"},{"$f":"IF(OR(PTA!AU21=\"\",PTA!AU21=\"X\"),\"X\",IF(PTA!AU21=\"*\",\"*\",VLOOKUP(PTA!AU21,AL_NUM_ARB,2,FALSE)&\" \"&VLOOKUP(PTA!AU21,AL_NUM_ARB,4,FALSE)&\" \"&VLOOKUP(PTA!AU21,AL_NUM_ARB,6,FALSE)))","v":"X"},{"$f":"IF(OR(PTA!AV21=\"\",PTA!AV21=\"X\"),\"X\",IF(PTA!AV21=\"*\",\"*\",VLOOKUP(PTA!AV21,AL_NUM_ARB,2,FALSE)&\" \"&VLOOKUP(PTA!AV21,AL_NUM_ARB,4,FALSE)&\" \"&VLOOKUP(PTA!AV21,AL_NUM_ARB,6,FALSE)))","v":"X"},{"$f":"IF(OR(PTA!AW21=\"\",PTA!AW21=\"X\"),\"X\",IF(PTA!AW21=\"*\",\"*\",VLOOKUP(PTA!AW21,AL_NUM_ARB,2,FALSE)&\" \"&VLOOKUP(PTA!AW21,AL_NUM_ARB,4,FALSE)&\" \"&VLOOKUP(PTA!AW21,AL_NUM_ARB,6,FALSE)))","v":"X"},{"$f":"IF(OR(PTA!AX21=\"\",PTA!AX21=\"X\"),\"X\",IF(PTA!AX21=\"*\",\"*\",VLOOKUP(PTA!AX21,AL_NUM_ARB,2,FALSE)&\" \"&VLOOKUP(PTA!AX21,AL_NUM_ARB,4,FALSE)&\" \"&VLOOKUP(PTA!AX21,AL_NUM_ARB,6,FALSE)))","v":"X"},{"$f":"IF(OR(PTA!AY21=\"\",PTA!AY21=\"X\"),\"X\",IF(PTA!AY21=\"*\",\"*\",VLOOKUP(PTA!AY21,AL_NUM_ARB,2,FALSE)&\" \"&VLOOKUP(PTA!AY21,AL_NUM_ARB,4,FALSE)&\" \"&VLOOKUP(PTA!AY21,AL_NUM_ARB,6,FALSE)))","v":"X"},{"$f":"IF(OR(PTA!AZ21=\"\",PTA!AZ21=\"X\"),\"X\",IF(PTA!AZ21=\"*\",\"*\",VLOOKUP(PTA!AZ21,AL_NUM_ARB,2,FALSE)&\" \"&VLOOKUP(PTA!AZ21,AL_NUM_ARB,4,FALSE)&\" \"&VLOOKUP(PTA!AZ21,AL_NUM_ARB,6,FALSE)))","v":"X"},{"$f":"IF(OR(PTA!BA21=\"\",PTA!BA21=\"X\"),\"X\",IF(PTA!BA21=\"*\",\"*\",VLOOKUP(PTA!BA21,AL_NUM_ARB,2,FALSE)&\" \"&VLOOKUP(PTA!BA21,AL_NUM_ARB,4,FALSE)&\" \"&VLOOKUP(PTA!BA21,AL_NUM_ARB,6,FALSE)))","v":"X"},{"$f":"IF(OR(PTA!BB21=\"\",PTA!BB21=\"X\"),\"X\",IF(PTA!BB21=\"*\",\"*\",VLOOKUP(PTA!BB21,AL_NUM_ARB,2,FALSE)&\" \"&VLOOKUP(PTA!BB21,AL_NUM_ARB,4,FALSE)&\" \"&VLOOKUP(PTA!BB21,AL_NUM_ARB,6,FALSE)))","v":"X"},{"$f":"IF(OR(PTA!BC21=\"\",PTA!BC21=\"X\"),\"X\",IF(PTA!BC21=\"*\",\"*\",VLOOKUP(PTA!BC21,AL_NUM_ARB,2,FALSE)&\" \"&VLOOKUP(PTA!BC21,AL_NUM_ARB,4,FALSE)&\" \"&VLOOKUP(PTA!BC21,AL_NUM_ARB,6,FALSE)))","v":"X"},{"$f":"IF(OR(PTA!BD21=\"\",PTA!BD21=\"X\"),\"X\",IF(PTA!BD21=\"*\",\"*\",VLOOKUP(PTA!BD21,AL_NUM_ARB,2,FALSE)&\" \"&VLOOKUP(PTA!BD21,AL_NUM_ARB,4,FALSE)&\" \"&VLOOKUP(PTA!BD21,AL_NUM_ARB,6,FALSE)))","v":"X"},{"$f":"IF(OR(PTA!BE21=\"\",PTA!BE21=\"X\"),\"X\",IF(PTA!BE21=\"*\",\"*\",VLOOKUP(PTA!BE21,AL_NUM_ARB,2,FALSE)&\" \"&VLOOKUP(PTA!BE21,AL_NUM_ARB,4,FALSE)&\" \"&VLOOKUP(PTA!BE21,AL_NUM_ARB,6,FALSE)))","v":"X"},{"$f":"IF(OR(PTA!BF21=\"\",PTA!BF21=\"X\"),\"X\",IF(PTA!BF21=\"*\",\"*\",VLOOKUP(PTA!BF21,AL_NUM_ARB,2,FALSE)&\" \"&VLOOKUP(PTA!BF21,AL_NUM_ARB,4,FALSE)&\" \"&VLOOKUP(PTA!BF21,AL_NUM_ARB,6,FALSE)))","v":"X"},{"$f":"IF(OR(PTA!BG21=\"\",PTA!BG21=\"X\"),\"X\",IF(PTA!BG21=\"*\",\"*\",VLOOKUP(PTA!BG21,AL_NUM_ARB,2,FALSE)&\" \"&VLOOKUP(PTA!BG21,AL_NUM_ARB,4,FALSE)&\" \"&VLOOKUP(PTA!BG21,AL_NUM_ARB,6,FALSE)))","v":"X"},{"$f":"IF(OR(PTA!BH21=\"\",PTA!BH21=\"X\"),\"X\",IF(PTA!BH21=\"*\",\"*\",VLOOKUP(PTA!BH21,AL_NUM_ARB,2,FALSE)&\" \"&VLOOKUP(PTA!BH21,AL_NUM_ARB,4,FALSE)&\" \"&VLOOKUP(PTA!BH21,AL_NUM_ARB,6,FALSE)))","v":"X"},{"$f":"IF(OR(PTA!BI21=\"\",PTA!BI21=\"X\"),\"X\",IF(PTA!BI21=\"*\",\"*\",VLOOKUP(PTA!BI21,AL_NUM_ARB,2,FALSE)&\" \"&VLOOKUP(PTA!BI21,AL_NUM_ARB,4,FALSE)&\" \"&VLOOKUP(PTA!BI21,AL_NUM_ARB,6,FALSE)))","v":"X"},{"$f":"IF(OR(PTA!BJ21=\"\",PTA!BJ21=\"X\"),\"X\",IF(PTA!BJ21=\"*\",\"*\",VLOOKUP(PTA!BJ21,AL_NUM_ARB,2,FALSE)&\" \"&VLOOKUP(PTA!BJ21,AL_NUM_ARB,4,FALSE)&\" \"&VLOOKUP(PTA!BJ21,AL_NUM_ARB,6,FALSE)))","v":"X"},{"$f":"IF(OR(PTA!BK21=\"\",PTA!BK21=\"X\"),\"X\",IF(PTA!BK21=\"*\",\"*\",VLOOKUP(PTA!BK21,AL_NUM_ARB,2,FALSE)&\" \"&VLOOKUP(PTA!BK21,AL_NUM_ARB,4,FALSE)&\" \"&VLOOKUP(PTA!BK21,AL_NUM_ARB,6,FALSE)))","v":"X"},{"$f":"IF(OR(PTA!BL21=\"\",PTA!BL21=\"X\"),\"X\",IF(PTA!BL21=\"*\",\"*\",VLOOKUP(PTA!BL21,AL_NUM_ARB,2,FALSE)&\" \"&VLOOKUP(PTA!BL21,AL_NUM_ARB,4,FALSE)&\" \"&VLOOKUP(PTA!BL21,AL_NUM_ARB,6,FALSE)))","v":"X"},{"$f":"IF(OR(PTA!BM21=\"\",PTA!BM21=\"X\"),\"X\",IF(PTA!BM21=\"*\",\"*\",VLOOKUP(PTA!BM21,AL_NUM_ARB,2,FALSE)&\" \"&VLOOKUP(PTA!BM21,AL_NUM_ARB,4,FALSE)&\" \"&VLOOKUP(PTA!BM21,AL_NUM_ARB,6,FALSE)))","v":"X"},{"$f":"IF(OR(PTA!BN21=\"\",PTA!BN21=\"X\"),\"X\",IF(PTA!BN21=\"*\",\"*\",VLOOKUP(PTA!BN21,AL_NUM_ARB,2,FALSE)&\" \"&VLOOKUP(PTA!BN21,AL_NUM_ARB,4,FALSE)&\" \"&VLOOKUP(PTA!BN21,AL_NUM_ARB,6,FALSE)))","v":"X"},{"$f":"IF(OR(PTA!BO21=\"\",PTA!BO21=\"X\"),\"X\",IF(PTA!BO21=\"*\",\"*\",VLOOKUP(PTA!BO21,AL_NUM_ARB,2,FALSE)&\" \"&VLOOKUP(PTA!BO21,AL_NUM_ARB,4,FALSE)&\" \"&VLOOKUP(PTA!BO21,AL_NUM_ARB,6,FALSE)))","v":"X"},{"$f":"IF(OR(PTA!BP21=\"\",PTA!BP21=\"X\"),\"X\",IF(PTA!BP21=\"*\",\"*\",VLOOKUP(PTA!BP21,AL_NUM_ARB,2,FALSE)&\" \"&VLOOKUP(PTA!BP21,AL_NUM_ARB,4,FALSE)&\" \"&VLOOKUP(PTA!BP21,AL_NUM_ARB,6,FALSE)))","v":"X"},{"$f":"IF(OR(PTA!BQ21=\"\",PTA!BQ21=\"X\"),\"X\",IF(PTA!BQ21=\"*\",\"*\",VLOOKUP(PTA!BQ21,AL_NUM_ARB,2,FALSE)&\" \"&VLOOKUP(PTA!BQ21,AL_NUM_ARB,4,FALSE)&\" \"&VLOOKUP(PTA!BQ21,AL_NUM_ARB,6,FALSE)))","v":"X"},{"$f":"IF(OR(PTA!BR21=\"\",PTA!BR21=\"X\"),\"X\",IF(PTA!BR21=\"*\",\"*\",VLOOKUP(PTA!BR21,AL_NUM_ARB,2,FALSE)&\" \"&VLOOKUP(PTA!BR21,AL_NUM_ARB,4,FALSE)&\" \"&VLOOKUP(PTA!BR21,AL_NUM_ARB,6,FALSE)))","v":"X"},{"$f":"IF(OR(PTA!BT21=\"\",PTA!BT21=\"X\"),\"X\",VLOOKUP(PTA!BT21,AL_NUM_ARB,2,FALSE)&\" \"&VLOOKUP(PTA!BT21,AL_NUM_ARB,4,FALSE)&\" \"&VLOOKUP(PTA!BT21,AL_NUM_ARB,6,FALSE))","v":"X"},{"$f":"IF(OR(PTA!BU21=\"\",PTA!BU21=\"X\"),\"X\",VLOOKUP(PTA!BU21,AL_NUM_ARB,2,FALSE)&\" \"&VLOOKUP(PTA!BU21,AL_NUM_ARB,4,FALSE)&\" \"&VLOOKUP(PTA!BU21,AL_NUM_ARB,6,FALSE))","v":"X"},{"$f":"IF(OR(PTA!BV21=\"\",PTA!BV21=\"X\"),\"X\",VLOOKUP(PTA!BV21,AL_NUM_ARB,2,FALSE)&\" \"&VLOOKUP(PTA!BV21,AL_NUM_ARB,4,FALSE)&\" \"&VLOOKUP(PTA!BV21,AL_NUM_ARB,6,FALSE))","v":"X"},{"$f":"IF(OR(PTA!BW21=\"\",PTA!BW21=\"X\"),\"X\",VLOOKUP(PTA!BW21,AL_NUM_ARB,2,FALSE)&\" \"&VLOOKUP(PTA!BW21,AL_NUM_ARB,4,FALSE)&\" \"&VLOOKUP(PTA!BW21,AL_NUM_ARB,6,FALSE))","v":"X"},"06:00:00"]
[{"$f":"PTA!A22","v":""},{"$f":"PTA!B22","v":"00:00:00"},{"$f":"PTA!C22","v":32},{"$f":"PTA!D22","v":0},{"$f":"IF(OR(PTA!E22=\"\",PTA!E22=\"X\"),\"X\",IF(PTA!E22=\"*\",\"*\",VLOOKUP(PTA!E22,AL_NUM_ARB,2,FALSE)&\" \"&VLOOKUP(PTA!E22,AL_NUM_ARB,4,FALSE)&\" \"&VLOOKUP(PTA!E22,AL_NUM_ARB,6,FALSE)))","v":"X"},{"$f":"IF(OR(PTA!F22=\"\",PTA!F22=\"X\"),\"X\",IF(PTA!F22=\"*\",\"*\",VLOOKUP(PTA!F22,AL_NUM_ARB,2,FALSE)&\" \"&VLOOKUP(PTA!F22,AL_NUM_ARB,4,FALSE)&\" \"&VLOOKUP(PTA!F22,AL_NUM_ARB,6,FALSE)))","v":"X"},{"$f":"IF(OR(PTA!G22=\"\",PTA!G22=\"X\"),\"X\",IF(PTA!G22=\"*\",\"*\",VLOOKUP(PTA!G22,AL_NUM_ARB,2,FALSE)&\" \"&VLOOKUP(PTA!G22,AL_NUM_ARB,4,FALSE)&\" \"&VLOOKUP(PTA!G22,AL_NUM_ARB,6,FALSE)))","v":"X"},{"$f":"IF(OR(PTA!H22=\"\",PTA!H22=\"X\"),\"X\",IF(PTA!H22=\"*\",\"*\",VLOOKUP(PTA!H22,AL_NUM_ARB,2,FALSE)&\" \"&VLOOKUP(PTA!H22,AL_NUM_ARB,4,FALSE)&\" \"&VLOOKUP(PTA!H22,AL_NUM_ARB,6,FALSE)))","v":"X"},{"$f":"IF(OR(PTA!I22=\"\",PTA!I22=\"X\"),\"X\",IF(PTA!I22=\"*\",\"*\",VLOOKUP(PTA!I22,AL_NUM_ARB,2,FALSE)&\" \"&VLOOKUP(PTA!I22,AL_NUM_ARB,4,FALSE)&\" \"&VLOOKUP(PTA!I22,AL_NUM_ARB,6,FALSE)))","v":"X"},{"$f":"IF(OR(PTA!J22=\"\",PTA!J22=\"X\"),\"X\",IF(PTA!J22=\"*\",\"*\",VLOOKUP(PTA!J22,AL_NUM_ARB,2,FALSE)&\" \"&VLOOKUP(PTA!J22,AL_NUM_ARB,4,FALSE)&\" \"&VLOOKUP(PTA!J22,AL_NUM_ARB,6,FALSE)))","v":"X"},{"$f":"IF(OR(PTA!K22=\"\",PTA!K22=\"X\"),\"X\",IF(PTA!K22=\"*\",\"*\",VLOOKUP(PTA!K22,AL_NUM_ARB,2,FALSE)&\" \"&VLOOKUP(PTA!K22,AL_NUM_ARB,4,FALSE)&\" \"&VLOOKUP(PTA!K22,AL_NUM_ARB,6,FALSE)))","v":"X"},{"$f":"IF(OR(PTA!L22=\"\",PTA!L22=\"X\"),\"X\",IF(PTA!L22=\"*\",\"*\",VLOOKUP(PTA!L22,AL_NUM_ARB,2,FALSE)&\" \"&VLOOKUP(PTA!L22,AL_NUM_ARB,4,FALSE)&\" \"&VLOOKUP(PTA!L22,AL_NUM_ARB,6,FALSE)))","v":"X"},{"$f":"IF(OR(PTA!M22=\"\",PTA!M22=\"X\"),\"X\",IF(PTA!M22=\"*\",\"*\",VLOOKUP(PTA!M22,AL_NUM_ARB,2,FALSE)&\" \"&VLOOKUP(PTA!M22,AL_NUM_ARB,4,FALSE)&\" \"&VLOOKUP(PTA!M22,AL_NUM_ARB,6,FALSE)))","v":"X"},{"$f":"IF(OR(PTA!N22=\"\",PTA!N22=\"X\"),\"X\",IF(PTA!N22=\"*\",\"*\",VLOOKUP(PTA!N22,AL_NUM_ARB,2,FALSE)&\" \"&VLOOKUP(PTA!N22,AL_NUM_ARB,4,FALSE)&\" \"&VLOOKUP(PTA!N22,AL_NUM_ARB,6,FALSE)))","v":"X"},{"$f":"IF(OR(PTA!O22=\"\",PTA!O22=\"X\"),\"X\",IF(PTA!O22=\"*\",\"*\",VLOOKUP(PTA!O22,AL_NUM_ARB,2,FALSE)&\" \"&VLOOKUP(PTA!O22,AL_NUM_ARB,4,FALSE)&\" \"&VLOOKUP(PTA!O22,AL_NUM_ARB,6,FALSE)))","v":"X"},{"$f":"IF(OR(PTA!P22=\"\",PTA!P22=\"X\"),\"X\",IF(PTA!P22=\"*\",\"*\",VLOOKUP(PTA!P22,AL_NUM_ARB,2,FALSE)&\" \"&VLOOKUP(PTA!P22,AL_NUM_ARB,4,FALSE)&\" \"&VLOOKUP(PTA!P22,AL_NUM_ARB,6,FALSE)))","v":"X"},{"$f":"IF(OR(PTA!Q22=\"\",PTA!Q22=\"X\"),\"X\",IF(PTA!Q22=\"*\",\"*\",VLOOKUP(PTA!Q22,AL_NUM_ARB,2,FALSE)&\" \"&VLOOKUP(PTA!Q22,AL_NUM_ARB,4,FALSE)&\" \"&VLOOKUP(PTA!Q22,AL_NUM_ARB,6,FALSE)))","v":"X"},{"$f":"IF(OR(PTA!R22=\"\",PTA!R22=\"X\"),\"X\",IF(PTA!R22=\"*\",\"*\",VLOOKUP(PTA!R22,AL_NUM_ARB,2,FALSE)&\" \"&VLOOKUP(PTA!R22,AL_NUM_ARB,4,FALSE)&\" \"&VLOOKUP(PTA!R22,AL_NUM_ARB,6,FALSE)))","v":"X"},{"$f":"IF(OR(PTA!S22=\"\",PTA!S22=\"X\"),\"X\",IF(PTA!S22=\"*\",\"*\",VLOOKUP(PTA!S22,AL_NUM_ARB,2,FALSE)&\" \"&VLOOKUP(PTA!S22,AL_NUM_ARB,4,FALSE)&\" \"&VLOOKUP(PTA!S22,AL_NUM_ARB,6,FALSE)))","v":"X"},{"$f":"IF(OR(PTA!T22=\"\",PTA!T22=\"X\"),\"X\",IF(PTA!T22=\"*\",\"*\",VLOOKUP(PTA!T22,AL_NUM_ARB,2,FALSE)&\" \"&VLOOKUP(PTA!T22,AL_NUM_ARB,4,FALSE)&\" \"&VLOOKUP(PTA!T22,AL_NUM_ARB,6,FALSE)))","v":"X"},{"$f":"IF(OR(PTA!U22=\"\",PTA!U22=\"X\"),\"X\",IF(PTA!U22=\"*\",\"*\",VLOOKUP(PTA!U22,AL_NUM_ARB,2,FALSE)&\" \"&VLOOKUP(PTA!U22,AL_NUM_ARB,4,FALSE)&\" \"&VLOOKUP(PTA!U22,AL_NUM_ARB,6,FALSE)))","v":"X"},{"$f":"IF(OR(PTA!V22=\"\",PTA!V22=\"X\"),\"X\",IF(PTA!V22=\"*\",\"*\",VLOOKUP(PTA!V22,AL_NUM_ARB,2,FALSE)&\" \"&VLOOKUP(PTA!V22,AL_NUM_ARB,4,FALSE)&\" \"&VLOOKUP(PTA!V22,AL_NUM_ARB,6,FALSE)))","v":"X"},{"$f":"IF(OR(PTA!W22=\"\",PTA!W22=\"X\"),\"X\",IF(PTA!W22=\"*\",\"*\",VLOOKUP(PTA!W22,AL_NUM_ARB,2,FALSE)&\" \"&VLOOKUP(PTA!W22,AL_NUM_ARB,4,FALSE)&\" \"&VLOOKUP(PTA!W22,AL_NUM_ARB,6,FALSE)))","v":"X"},{"$f":"IF(OR(PTA!X22=\"\",PTA!X22=\"X\"),\"X\",IF(PTA!X22=\"*\",\"*\",VLOOKUP(PTA!X22,AL_NUM_ARB,2,FALSE)&\" \"&VLOOKUP(PTA!X22,AL_NUM_ARB,4,FALSE)&\" \"&VLOOKUP(PTA!X22,AL_NUM_ARB,6,FALSE)))","v":"X"},{"$f":"IF(OR(PTA!Y22=\"\",PTA!Y22=\"X\"),\"X\",IF(PTA!Y22=\"*\",\"*\",VLOOKUP(PTA!Y22,AL_NUM_ARB,2,FALSE)&\" \"&VLOOKUP(PTA!Y22,AL_NUM_ARB,4,FALSE)&\" \"&VLOOKUP(PTA!Y22,AL_NUM_ARB,6,FALSE)))","v":"X"},{"$f":"IF(OR(PTA!Z22=\"\",PTA!Z22=\"X\"),\"X\",IF(PTA!Z22=\"*\",\"*\",VLOOKUP(PTA!Z22,AL_NUM_ARB,2,FALSE)&\" \"&VLOOKUP(PTA!Z22,AL_NUM_ARB,4,FALSE)&\" \"&VLOOKUP(PTA!Z22,AL_NUM_ARB,6,FALSE)))","v":"X"},{"$f":"IF(OR(PTA!AA22=\"\",PTA!AA22=\"X\"),\"X\",IF(PTA!AA22=\"*\",\"*\",VLOOKUP(PTA!AA22,AL_NUM_ARB,2,FALSE)&\" \"&VLOOKUP(PTA!AA22,AL_NUM_ARB,4,FALSE)&\" \"&VLOOKUP(PTA!AA22,AL_NUM_ARB,6,FALSE)))","v":"X"},{"$f":"IF(OR(PTA!AB22=\"\",PTA!AB22=\"X\"),\"X\",IF(PTA!AB22=\"*\",\"*\",VLOOKUP(PTA!AB22,AL_NUM_ARB,2,FALSE)&\" \"&VLOOKUP(PTA!AB22,AL_NUM_ARB,4,FALSE)&\" \"&VLOOKUP(PTA!AB22,AL_NUM_ARB,6,FALSE)))","v":"X"},{"$f":"IF(OR(PTA!AC22=\"\",PTA!AC22=\"X\"),\"X\",IF(PTA!AC22=\"*\",\"*\",VLOOKUP(PTA!AC22,AL_NUM_ARB,2,FALSE)&\" \"&VLOOKUP(PTA!AC22,AL_NUM_ARB,4,FALSE)&\" \"&VLOOKUP(PTA!AC22,AL_NUM_ARB,6,FALSE)))","v":"X"},{"$f":"IF(OR(PTA!AD22=\"\",PTA!AD22=\"X\"),\"X\",IF(PTA!AD22=\"*\",\"*\",VLOOKUP(PTA!AD22,AL_NUM_ARB,2,FALSE)&\" \"&VLOOKUP(PTA!AD22,AL_NUM_ARB,4,FALSE)&\" \"&VLOOKUP(PTA!AD22,AL_NUM_ARB,6,FALSE)))","v":"X"},{"$f":"IF(OR(PTA!AE22=\"\",PTA!AE22=\"X\"),\"X\",IF(PTA!AE22=\"*\",\"*\",VLOOKUP(PTA!AE22,AL_NUM_ARB,2,FALSE)&\" \"&VLOOKUP(PTA!AE22,AL_NUM_ARB,4,FALSE)&\" \"&VLOOKUP(PTA!AE22,AL_NUM_ARB,6,FALSE)))","v":"X"},{"$f":"IF(OR(PTA!AF22=\"\",PTA!AF22=\"X\"),\"X\",IF(PTA!AF22=\"*\",\"*\",VLOOKUP(PTA!AF22,AL_NUM_ARB,2,FALSE)&\" \"&VLOOKUP(PTA!AF22,AL_NUM_ARB,4,FALSE)&\" \"&VLOOKUP(PTA!AF22,AL_NUM_ARB,6,FALSE)))","v":"X"},{"$f":"IF(OR(PTA!AG22=\"\",PTA!AG22=\"X\"),\"X\",IF(PTA!AG22=\"*\",\"*\",VLOOKUP(PTA!AG22,AL_NUM_ARB,2,FALSE)&\" \"&VLOOKUP(PTA!AG22,AL_NUM_ARB,4,FALSE)&\" \"&VLOOKUP(PTA!AG22,AL_NUM_ARB,6,FALSE)))","v":"X"},{"$f":"IF(OR(PTA!AH22=\"\",PTA!AH22=\"X\"),\"X\",IF(PTA!AH22=\"*\",\"*\",VLOOKUP(PTA!AH22,AL_NUM_ARB,2,FALSE)&\" \"&VLOOKUP(PTA!AH22,AL_NUM_ARB,4,FALSE)&\" \"&VLOOKUP(PTA!AH22,AL_NUM_ARB,6,FALSE)))","v":"X"},{"$f":"IF(OR(PTA!AI22=\"\",PTA!AI22=\"X\"),\"X\",IF(PTA!AI22=\"*\",\"*\",VLOOKUP(PTA!AI22,AL_NUM_ARB,2,FALSE)&\" \"&VLOOKUP(PTA!AI22,AL_NUM_ARB,4,FALSE)&\" \"&VLOOKUP(PTA!AI22,AL_NUM_ARB,6,FALSE)))","v":"X"},{"$f":"IF(OR(PTA!AJ22=\"\",PTA!AJ22=\"X\"),\"X\",IF(PTA!AJ22=\"*\",\"*\",VLOOKUP(PTA!AJ22,AL_NUM_ARB,2,FALSE)&\" \"&VLOOKUP(PTA!AJ22,AL_NUM_ARB,4,FALSE)&\" \"&VLOOKUP(PTA!AJ22,AL_NUM_ARB,6,FALSE)))","v":"X"},{"$f":"IF(OR(PTA!AK22=\"\",PTA!AK22=\"X\"),\"X\",IF(PTA!AK22=\"*\",\"*\",VLOOKUP(PTA!AK22,AL_NUM_ARB,2,FALSE)&\" \"&VLOOKUP(PTA!AK22,AL_NUM_ARB,4,FALSE)&\" \"&VLOOKUP(PTA!AK22,AL_NUM_ARB,6,FALSE)))","v":"X"},{"$f":"IF(OR(PTA!AL22=\"\",PTA!AL22=\"X\"),\"X\",IF(PTA!AL22=\"*\",\"*\",VLOOKUP(PTA!AL22,AL_NUM_ARB,2,FALSE)&\" \"&VLOOKUP(PTA!AL22,AL_NUM_ARB,4,FALSE)&\" \"&VLOOKUP(PTA!AL22,AL_NUM_ARB,6,FALSE)))","v":"X"},{"$f":"IF(OR(PTA!AM22=\"\",PTA!AM22=\"X\"),\"X\",IF(PTA!AM22=\"*\",\"*\",VLOOKUP(PTA!AM22,AL_NUM_ARB,2,FALSE)&\" \"&VLOOKUP(PTA!AM22,AL_NUM_ARB,4,FALSE)&\" \"&VLOOKUP(PTA!AM22,AL_NUM_ARB,6,FALSE)))","v":"X"},{"$f":"IF(OR(PTA!AN22=\"\",PTA!AN22=\"X\"),\"X\",IF(PTA!AN22=\"*\",\"*\",VLOOKUP(PTA!AN22,AL_NUM_ARB,2,FALSE)&\" \"&VLOOKUP(PTA!AN22,AL_NUM_ARB,4,FALSE)&\" \"&VLOOKUP(PTA!AN22,AL_NUM_ARB,6,FALSE)))","v":"X"},{"$f":"IF(OR(PTA!AO22=\"\",PTA!AO22=\"X\"),\"X\",IF(PTA!AO22=\"*\",\"*\",VLOOKUP(PTA!AO22,AL_NUM_ARB,2,FALSE)&\" \"&VLOOKUP(PTA!AO22,AL_NUM_ARB,4,FALSE)&\" \"&VLOOKUP(PTA!AO22,AL_NUM_ARB,6,FALSE)))","v":"X"},{"$f":"IF(OR(PTA!AP22=\"\",PTA!AP22=\"X\"),\"X\",IF(PTA!AP22=\"*\",\"*\",VLOOKUP(PTA!AP22,AL_NUM_ARB,2,FALSE)&\" \"&VLOOKUP(PTA!AP22,AL_NUM_ARB,4,FALSE)&\" \"&VLOOKUP(PTA!AP22,AL_NUM_ARB,6,FALSE)))","v":"X"},{"$f":"IF(OR(PTA!AQ22=\"\",PTA!AQ22=\"X\"),\"X\",IF(PTA!AQ22=\"*\",\"*\",VLOOKUP(PTA!AQ22,AL_NUM_ARB,2,FALSE)&\" \"&VLOOKUP(PTA!AQ22,AL_NUM_ARB,4,FALSE)&\" \"&VLOOKUP(PTA!AQ22,AL_NUM_ARB,6,FALSE)))","v":"X"},{"$f":"IF(OR(PTA!AR22=\"\",PTA!AR22=\"X\"),\"X\",IF(PTA!AR22=\"*\",\"*\",VLOOKUP(PTA!AR22,AL_NUM_ARB,2,FALSE)&\" \"&VLOOKUP(PTA!AR22,AL_NUM_ARB,4,FALSE)&\" \"&VLOOKUP(PTA!AR22,AL_NUM_ARB,6,FALSE)))","v":"X"},{"$f":"IF(OR(PTA!AS22=\"\",PTA!AS22=\"X\"),\"X\",IF(PTA!AS22=\"*\",\"*\",VLOOKUP(PTA!AS22,AL_NUM_ARB,2,FALSE)&\" \"&VLOOKUP(PTA!AS22,AL_NUM_ARB,4,FALSE)&\" \"&VLOOKUP(PTA!AS22,AL_NUM_ARB,6,FALSE)))","v":"X"},{"$f":"IF(OR(PTA!AT22=\"\",PTA!AT22=\"X\"),\"X\",IF(PTA!AT22=\"*\",\"*\",VLOOKUP(PTA!AT22,AL_NUM_ARB,2,FALSE)&\" \"&VLOOKUP(PTA!AT22,AL_NUM_ARB,4,FALSE)&\" \"&VLOOKUP(PTA!AT22,AL_NUM_ARB,6,FALSE)))","v":"X"},{"$f":"IF(OR(PTA!AU22=\"\",PTA!AU22=\"X\"),\"X\",IF(PTA!AU22=\"*\",\"*\",VLOOKUP(PTA!AU22,AL_NUM_ARB,2,FALSE)&\" \"&VLOOKUP(PTA!AU22,AL_NUM_ARB,4,FALSE)&\" \"&VLOOKUP(PTA!AU22,AL_NUM_ARB,6,FALSE)))","v":"X"},{"$f":"IF(OR(PTA!AV22=\"\",PTA!AV22=\"X\"),\"X\",IF(PTA!AV22=\"*\",\"*\",VLOOKUP(PTA!AV22,AL_NUM_ARB,2,FALSE)&\" \"&VLOOKUP(PTA!AV22,AL_NUM_ARB,4,FALSE)&\" \"&VLOOKUP(PTA!AV22,AL_NUM_ARB,6,FALSE)))","v":"X"},{"$f":"IF(OR(PTA!AW22=\"\",PTA!AW22=\"X\"),\"X\",IF(PTA!AW22=\"*\",\"*\",VLOOKUP(PTA!AW22,AL_NUM_ARB,2,FALSE)&\" \"&VLOOKUP(PTA!AW22,AL_NUM_ARB,4,FALSE)&\" \"&VLOOKUP(PTA!AW22,AL_NUM_ARB,6,FALSE)))","v":"X"},{"$f":"IF(OR(PTA!AX22=\"\",PTA!AX22=\"X\"),\"X\",IF(PTA!AX22=\"*\",\"*\",VLOOKUP(PTA!AX22,AL_NUM_ARB,2,FALSE)&\" \"&VLOOKUP(PTA!AX22,AL_NUM_ARB,4,FALSE)&\" \"&VLOOKUP(PTA!AX22,AL_NUM_ARB,6,FALSE)))","v":"X"},{"$f":"IF(OR(PTA!AY22=\"\",PTA!AY22=\"X\"),\"X\",IF(PTA!AY22=\"*\",\"*\",VLOOKUP(PTA!AY22,AL_NUM_ARB,2,FALSE)&\" \"&VLOOKUP(PTA!AY22,AL_NUM_ARB,4,FALSE)&\" \"&VLOOKUP(PTA!AY22,AL_NUM_ARB,6,FALSE)))","v":"X"},{"$f":"IF(OR(PTA!AZ22=\"\",PTA!AZ22=\"X\"),\"X\",IF(PTA!AZ22=\"*\",\"*\",VLOOKUP(PTA!AZ22,AL_NUM_ARB,2,FALSE)&\" \"&VLOOKUP(PTA!AZ22,AL_NUM_ARB,4,FALSE)&\" \"&VLOOKUP(PTA!AZ22,AL_NUM_ARB,6,FALSE)))","v":"X"},{"$f":"IF(OR(PTA!BA22=\"\",PTA!BA22=\"X\"),\"X\",IF(PTA!BA22=\"*\",\"*\",VLOOKUP(PTA!BA22,AL_NUM_ARB,2,FALSE)&\" \"&VLOOKUP(PTA!BA22,AL_NUM_ARB,4,FALSE)&\" \"&VLOOKUP(PTA!BA22,AL_NUM_ARB,6,FALSE)))","v":"X"},{"$f":"IF(OR(PTA!BB22=\"\",PTA!BB22=\"X\"),\"X\",IF(PTA!BB22=\"*\",\"*\",VLOOKUP(PTA!BB22,AL_NUM_ARB,2,FALSE)&\" \"&VLOOKUP(PTA!BB22,AL_NUM_ARB,4,FALSE)&\" \"&VLOOKUP(PTA!BB22,AL_NUM_ARB,6,FALSE)))","v":"X"},{"$f":"IF(OR(PTA!BC22=\"\",PTA!BC22=\"X\"),\"X\",IF(PTA!BC22=\"*\",\"*\",VLOOKUP(PTA!BC22,AL_NUM_ARB,2,FALSE)&\" \"&VLOOKUP(PTA!BC22,AL_NUM_ARB,4,FALSE)&\" \"&VLOOKUP(PTA!BC22,AL_NUM_ARB,6,FALSE)))","v":"X"},{"$f":"IF(OR(PTA!BD22=\"\",PTA!BD22=\"X\"),\"X\",IF(PTA!BD22=\"*\",\"*\",VLOOKUP(PTA!BD22,AL_NUM_ARB,2,FALSE)&\" \"&VLOOKUP(PTA!BD22,AL_NUM_ARB,4,FALSE)&\" \"&VLOOKUP(PTA!BD22,AL_NUM_ARB,6,FALSE)))","v":"X"},{"$f":"IF(OR(PTA!BE22=\"\",PTA!BE22=\"X\"),\"X\",IF(PTA!BE22=\"*\",\"*\",VLOOKUP(PTA!BE22,AL_NUM_ARB,2,FALSE)&\" \"&VLOOKUP(PTA!BE22,AL_NUM_ARB,4,FALSE)&\" \"&VLOOKUP(PTA!BE22,AL_NUM_ARB,6,FALSE)))","v":"X"},{"$f":"IF(OR(PTA!BF22=\"\",PTA!BF22=\"X\"),\"X\",IF(PTA!BF22=\"*\",\"*\",VLOOKUP(PTA!BF22,AL_NUM_ARB,2,FALSE)&\" \"&VLOOKUP(PTA!BF22,AL_NUM_ARB,4,FALSE)&\" \"&VLOOKUP(PTA!BF22,AL_NUM_ARB,6,FALSE)))","v":"X"},{"$f":"IF(OR(PTA!BG22=\"\",PTA!BG22=\"X\"),\"X\",IF(PTA!BG22=\"*\",\"*\",VLOOKUP(PTA!BG22,AL_NUM_ARB,2,FALSE)&\" \"&VLOOKUP(PTA!BG22,AL_NUM_ARB,4,FALSE)&\" \"&VLOOKUP(PTA!BG22,AL_NUM_ARB,6,FALSE)))","v":"X"},{"$f":"IF(OR(PTA!BH22=\"\",PTA!BH22=\"X\"),\"X\",IF(PTA!BH22=\"*\",\"*\",VLOOKUP(PTA!BH22,AL_NUM_ARB,2,FALSE)&\" \"&VLOOKUP(PTA!BH22,AL_NUM_ARB,4,FALSE)&\" \"&VLOOKUP(PTA!BH22,AL_NUM_ARB,6,FALSE)))","v":"X"},{"$f":"IF(OR(PTA!BI22=\"\",PTA!BI22=\"X\"),\"X\",IF(PTA!BI22=\"*\",\"*\",VLOOKUP(PTA!BI22,AL_NUM_ARB,2,FALSE)&\" \"&VLOOKUP(PTA!BI22,AL_NUM_ARB,4,FALSE)&\" \"&VLOOKUP(PTA!BI22,AL_NUM_ARB,6,FALSE)))","v":"X"},{"$f":"IF(OR(PTA!BJ22=\"\",PTA!BJ22=\"X\"),\"X\",IF(PTA!BJ22=\"*\",\"*\",VLOOKUP(PTA!BJ22,AL_NUM_ARB,2,FALSE)&\" \"&VLOOKUP(PTA!BJ22,AL_NUM_ARB,4,FALSE)&\" \"&VLOOKUP(PTA!BJ22,AL_NUM_ARB,6,FALSE)))","v":"X"},{"$f":"IF(OR(PTA!BK22=\"\",PTA!BK22=\"X\"),\"X\",IF(PTA!BK22=\"*\",\"*\",VLOOKUP(PTA!BK22,AL_NUM_ARB,2,FALSE)&\" \"&VLOOKUP(PTA!BK22,AL_NUM_ARB,4,FALSE)&\" \"&VLOOKUP(PTA!BK22,AL_NUM_ARB,6,FALSE)))","v":"X"},{"$f":"IF(OR(PTA!BL22=\"\",PTA!BL22=\"X\"),\"X\",IF(PTA!BL22=\"*\",\"*\",VLOOKUP(PTA!BL22,AL_NUM_ARB,2,FALSE)&\" \"&VLOOKUP(PTA!BL22,AL_NUM_ARB,4,FALSE)&\" \"&VLOOKUP(PTA!BL22,AL_NUM_ARB,6,FALSE)))","v":"X"},{"$f":"IF(OR(PTA!BM22=\"\",PTA!BM22=\"X\"),\"X\",IF(PTA!BM22=\"*\",\"*\",VLOOKUP(PTA!BM22,AL_NUM_ARB,2,FALSE)&\" \"&VLOOKUP(PTA!BM22,AL_NUM_ARB,4,FALSE)&\" \"&VLOOKUP(PTA!BM22,AL_NUM_ARB,6,FALSE)))","v":"X"},{"$f":"IF(OR(PTA!BN22=\"\",PTA!BN22=\"X\"),\"X\",IF(PTA!BN22=\"*\",\"*\",VLOOKUP(PTA!BN22,AL_NUM_ARB,2,FALSE)&\" \"&VLOOKUP(PTA!BN22,AL_NUM_ARB,4,FALSE)&\" \"&VLOOKUP(PTA!BN22,AL_NUM_ARB,6,FALSE)))","v":"X"},{"$f":"IF(OR(PTA!BO22=\"\",PTA!BO22=\"X\"),\"X\",IF(PTA!BO22=\"*\",\"*\",VLOOKUP(PTA!BO22,AL_NUM_ARB,2,FALSE)&\" \"&VLOOKUP(PTA!BO22,AL_NUM_ARB,4,FALSE)&\" \"&VLOOKUP(PTA!BO22,AL_NUM_ARB,6,FALSE)))","v":"X"},{"$f":"IF(OR(PTA!BP22=\"\",PTA!BP22=\"X\"),\"X\",IF(PTA!BP22=\"*\",\"*\",VLOOKUP(PTA!BP22,AL_NUM_ARB,2,FALSE)&\" \"&VLOOKUP(PTA!BP22,AL_NUM_ARB,4,FALSE)&\" \"&VLOOKUP(PTA!BP22,AL_NUM_ARB,6,FALSE)))","v":"X"},{"$f":"IF(OR(PTA!BQ22=\"\",PTA!BQ22=\"X\"),\"X\",IF(PTA!BQ22=\"*\",\"*\",VLOOKUP(PTA!BQ22,AL_NUM_ARB,2,FALSE)&\" \"&VLOOKUP(PTA!BQ22,AL_NUM_ARB,4,FALSE)&\" \"&VLOOKUP(PTA!BQ22,AL_NUM_ARB,6,FALSE)))","v":"X"},{"$f":"IF(OR(PTA!BR22=\"\",PTA!BR22=\"X\"),\"X\",IF(PTA!BR22=\"*\",\"*\",VLOOKUP(PTA!BR22,AL_NUM_ARB,2,FALSE)&\" \"&VLOOKUP(PTA!BR22,AL_NUM_ARB,4,FALSE)&\" \"&VLOOKUP(PTA!BR22,AL_NUM_ARB,6,FALSE)))","v":"X"},{"$f":"IF(OR(PTA!BT22=\"\",PTA!BT22=\"X\"),\"X\",VLOOKUP(PTA!BT22,AL_NUM_ARB,2,FALSE)&\" \"&VLOOKUP(PTA!BT22,AL_NUM_ARB,4,FALSE)&\" \"&VLOOKUP(PTA!BT22,AL_NUM_ARB,6,FALSE))","v":"X"},{"$f":"IF(OR(PTA!BU22=\"\",PTA!BU22=\"X\"),\"X\",VLOOKUP(PTA!BU22,AL_NUM_ARB,2,FALSE)&\" \"&VLOOKUP(PTA!BU22,AL_NUM_ARB,4,FALSE)&\" \"&VLOOKUP(PTA!BU22,AL_NUM_ARB,6,FALSE))","v":"X"},{"$f":"IF(OR(PTA!BV22=\"\",PTA!BV22=\"X\"),\"X\",VLOOKUP(PTA!BV22,AL_NUM_ARB,2,FALSE)&\" \"&VLOOKUP(PTA!BV22,AL_NUM_ARB,4,FALSE)&\" \"&VLOOKUP(PTA!BV22,AL_NUM_ARB,6,FALSE))","v":"X"},{"$f":"IF(OR(PTA!BW22=\"\",PTA!BW22=\"X\"),\"X\",VLOOKUP(PTA!BW22,AL_NUM_ARB,2,FALSE)&\" \"&VLOOKUP(PTA!BW22,AL_NUM_ARB,4,FALSE)&\" \"&VLOOKUP(PTA!BW22,AL_NUM_ARB,6,FALSE))","v":"X"},"06:30:00"]
[{"$f":"PTA!A23","v":""},{"$f":"PTA!B23","v":"00:00:00"},{"$f":"PTA!C23","v":32},{"$f":"PTA!D23","v":0},{"$f":"IF(OR(PTA!E23=\"\",PTA!E23=\"X\"),\"X\",IF(PTA!E23=\"*\",\"*\",VLOOKUP(PTA!E23,AL_NUM_ARB,2,FALSE)&\" \"&VLOOKUP(PTA!E23,AL_NUM_ARB,4,FALSE)&\" \"&VLOOKUP(PTA!E23,AL_NUM_ARB,6,FALSE)))","v":"X"},{"$f":"IF(OR(PTA!F23=\"\",PTA!F23=\"X\"),\"X\",IF(PTA!F23=\"*\",\"*\",VLOOKUP(PTA!F23,AL_NUM_ARB,2,FALSE)&\" \"&VLOOKUP(PTA!F23,AL_NUM_ARB,4,FALSE)&\" \"&VLOOKUP(PTA!F23,AL_NUM_ARB,6,FALSE)))","v":"X"},{"$f":"IF(OR(PTA!G23=\"\",PTA!G23=\"X\"),\"X\",IF(PTA!G23=\"*\",\"*\",VLOOKUP(PTA!G23,AL_NUM_ARB,2,FALSE)&\" \"&VLOOKUP(PTA!G23,AL_NUM_ARB,4,FALSE)&\" \"&VLOOKUP(PTA!G23,AL_NUM_ARB,6,FALSE)))","v":"X"},{"$f":"IF(OR(PTA!H23=\"\",PTA!H23=\"X\"),\"X\",IF(PTA!H23=\"*\",\"*\",VLOOKUP(PTA!H23,AL_NUM_ARB,2,FALSE)&\" \"&VLOOKUP(PTA!H23,AL_NUM_ARB,4,FALSE)&\" \"&VLOOKUP(PTA!H23,AL_NUM_ARB,6,FALSE)))","v":"X"},{"$f":"IF(OR(PTA!I23=\"\",PTA!I23=\"X\"),\"X\",IF(PTA!I23=\"*\",\"*\",VLOOKUP(PTA!I23,AL_NUM_ARB,2,FALSE)&\" \"&VLOOKUP(PTA!I23,AL_NUM_ARB,4,FALSE)&\" \"&VLOOKUP(PTA!I23,AL_NUM_ARB,6,FALSE)))","v":"X"},{"$f":"IF(OR(PTA!J23=\"\",PTA!J23=\"X\"),\"X\",IF(PTA!J23=\"*\",\"*\",VLOOKUP(PTA!J23,AL_NUM_ARB,2,FALSE)&\" \"&VLOOKUP(PTA!J23,AL_NUM_ARB,4,FALSE)&\" \"&VLOOKUP(PTA!J23,AL_NUM_ARB,6,FALSE)))","v":"X"},{"$f":"IF(OR(PTA!K23=\"\",PTA!K23=\"X\"),\"X\",IF(PTA!K23=\"*\",\"*\",VLOOKUP(PTA!K23,AL_NUM_ARB,2,FALSE)&\" \"&VLOOKUP(PTA!K23,AL_NUM_ARB,4,FALSE)&\" \"&VLOOKUP(PTA!K23,AL_NUM_ARB,6,FALSE)))","v":"X"},{"$f":"IF(OR(PTA!L23=\"\",PTA!L23=\"X\"),\"X\",IF(PTA!L23=\"*\",\"*\",VLOOKUP(PTA!L23,AL_NUM_ARB,2,FALSE)&\" \"&VLOOKUP(PTA!L23,AL_NUM_ARB,4,FALSE)&\" \"&VLOOKUP(PTA!L23,AL_NUM_ARB,6,FALSE)))","v":"X"},{"$f":"IF(OR(PTA!M23=\"\",PTA!M23=\"X\"),\"X\",IF(PTA!M23=\"*\",\"*\",VLOOKUP(PTA!M23,AL_NUM_ARB,2,FALSE)&\" \"&VLOOKUP(PTA!M23,AL_NUM_ARB,4,FALSE)&\" \"&VLOOKUP(PTA!M23,AL_NUM_ARB,6,FALSE)))","v":"X"},{"$f":"IF(OR(PTA!N23=\"\",PTA!N23=\"X\"),\"X\",IF(PTA!N23=\"*\",\"*\",VLOOKUP(PTA!N23,AL_NUM_ARB,2,FALSE)&\" \"&VLOOKUP(PTA!N23,AL_NUM_ARB,4,FALSE)&\" \"&VLOOKUP(PTA!N23,AL_NUM_ARB,6,FALSE)))","v":"X"},{"$f":"IF(OR(PTA!O23=\"\",PTA!O23=\"X\"),\"X\",IF(PTA!O23=\"*\",\"*\",VLOOKUP(PTA!O23,AL_NUM_ARB,2,FALSE)&\" \"&VLOOKUP(PTA!O23,AL_NUM_ARB,4,FALSE)&\" \"&VLOOKUP(PTA!O23,AL_NUM_ARB,6,FALSE)))","v":"X"},{"$f":"IF(OR(PTA!P23=\"\",PTA!P23=\"X\"),\"X\",IF(PTA!P23=\"*\",\"*\",VLOOKUP(PTA!P23,AL_NUM_ARB,2,FALSE)&\" \"&VLOOKUP(PTA!P23,AL_NUM_ARB,4,FALSE)&\" \"&VLOOKUP(PTA!P23,AL_NUM_ARB,6,FALSE)))","v":"X"},{"$f":"IF(OR(PTA!Q23=\"\",PTA!Q23=\"X\"),\"X\",IF(PTA!Q23=\"*\",\"*\",VLOOKUP(PTA!Q23,AL_NUM_ARB,2,FALSE)&\" \"&VLOOKUP(PTA!Q23,AL_NUM_ARB,4,FALSE)&\" \"&VLOOKUP(PTA!Q23,AL_NUM_ARB,6,FALSE)))","v":"X"},{"$f":"IF(OR(PTA!R23=\"\",PTA!R23=\"X\"),\"X\",IF(PTA!R23=\"*\",\"*\",VLOOKUP(PTA!R23,AL_NUM_ARB,2,FALSE)&\" \"&VLOOKUP(PTA!R23,AL_NUM_ARB,4,FALSE)&\" \"&VLOOKUP(PTA!R23,AL_NUM_ARB,6,FALSE)))","v":"X"},{"$f":"IF(OR(PTA!S23=\"\",PTA!S23=\"X\"),\"X\",IF(PTA!S23=\"*\",\"*\",VLOOKUP(PTA!S23,AL_NUM_ARB,2,FALSE)&\" \"&VLOOKUP(PTA!S23,AL_NUM_ARB,4,FALSE)&\" \"&VLOOKUP(PTA!S23,AL_NUM_ARB,6,FALSE)))","v":"X"},{"$f":"IF(OR(PTA!T23=\"\",PTA!T23=\"X\"),\"X\",IF(PTA!T23=\"*\",\"*\",VLOOKUP(PTA!T23,AL_NUM_ARB,2,FALSE)&\" \"&VLOOKUP(PTA!T23,AL_NUM_ARB,4,FALSE)&\" \"&VLOOKUP(PTA!T23,AL_NUM_ARB,6,FALSE)))","v":"X"},{"$f":"IF(OR(PTA!U23=\"\",PTA!U23=\"X\"),\"X\",IF(PTA!U23=\"*\",\"*\",VLOOKUP(PTA!U23,AL_NUM_ARB,2,FALSE)&\" \"&VLOOKUP(PTA!U23,AL_NUM_ARB,4,FALSE)&\" \"&VLOOKUP(PTA!U23,AL_NUM_ARB,6,FALSE)))","v":"X"},{"$f":"IF(OR(PTA!V23=\"\",PTA!V23=\"X\"),\"X\",IF(PTA!V23=\"*\",\"*\",VLOOKUP(PTA!V23,AL_NUM_ARB,2,FALSE)&\" \"&VLOOKUP(PTA!V23,AL_NUM_ARB,4,FALSE)&\" \"&VLOOKUP(PTA!V23,AL_NUM_ARB,6,FALSE)))","v":"X"},{"$f":"IF(OR(PTA!W23=\"\",PTA!W23=\"X\"),\"X\",IF(PTA!W23=\"*\",\"*\",VLOOKUP(PTA!W23,AL_NUM_ARB,2,FALSE)&\" \"&VLOOKUP(PTA!W23,AL_NUM_ARB,4,FALSE)&\" \"&VLOOKUP(PTA!W23,AL_NUM_ARB,6,FALSE)))","v":"X"},{"$f":"IF(OR(PTA!X23=\"\",PTA!X23=\"X\"),\"X\",IF(PTA!X23=\"*\",\"*\",VLOOKUP(PTA!X23,AL_NUM_ARB,2,FALSE)&\" \"&VLOOKUP(PTA!X23,AL_NUM_ARB,4,FALSE)&\" \"&VLOOKUP(PTA!X23,AL_NUM_ARB,6,FALSE)))","v":"X"},{"$f":"IF(OR(PTA!Y23=\"\",PTA!Y23=\"X\"),\"X\",IF(PTA!Y23=\"*\",\"*\",VLOOKUP(PTA!Y23,AL_NUM_ARB,2,FALSE)&\" \"&VLOOKUP(PTA!Y23,AL_NUM_ARB,4,FALSE)&\" \"&VLOOKUP(PTA!Y23,AL_NUM_ARB,6,FALSE)))","v":"X"},{"$f":"IF(OR(PTA!Z23=\"\",PTA!Z23=\"X\"),\"X\",IF(PTA!Z23=\"*\",\"*\",VLOOKUP(PTA!Z23,AL_NUM_ARB,2,FALSE)&\" \"&VLOOKUP(PTA!Z23,AL_NUM_ARB,4,FALSE)&\" \"&VLOOKUP(PTA!Z23,AL_NUM_ARB,6,FALSE)))","v":"X"},{"$f":"IF(OR(PTA!AA23=\"\",PTA!AA23=\"X\"),\"X\",IF(PTA!AA23=\"*\",\"*\",VLOOKUP(PTA!AA23,AL_NUM_ARB,2,FALSE)&\" \"&VLOOKUP(PTA!AA23,AL_NUM_ARB,4,FALSE)&\" \"&VLOOKUP(PTA!AA23,AL_NUM_ARB,6,FALSE)))","v":"X"},{"$f":"IF(OR(PTA!AB23=\"\",PTA!AB23=\"X\"),\"X\",IF(PTA!AB23=\"*\",\"*\",VLOOKUP(PTA!AB23,AL_NUM_ARB,2,FALSE)&\" \"&VLOOKUP(PTA!AB23,AL_NUM_ARB,4,FALSE)&\" \"&VLOOKUP(PTA!AB23,AL_NUM_ARB,6,FALSE)))","v":"X"},{"$f":"IF(OR(PTA!AC23=\"\",PTA!AC23=\"X\"),\"X\",IF(PTA!AC23=\"*\",\"*\",VLOOKUP(PTA!AC23,AL_NUM_ARB,2,FALSE)&\" \"&VLOOKUP(PTA!AC23,AL_NUM_ARB,4,FALSE)&\" \"&VLOOKUP(PTA!AC23,AL_NUM_ARB,6,FALSE)))","v":"X"},{"$f":"IF(OR(PTA!AD23=\"\",PTA!AD23=\"X\"),\"X\",IF(PTA!AD23=\"*\",\"*\",VLOOKUP(PTA!AD23,AL_NUM_ARB,2,FALSE)&\" \"&VLOOKUP(PTA!AD23,AL_NUM_ARB,4,FALSE)&\" \"&VLOOKUP(PTA!AD23,AL_NUM_ARB,6,FALSE)))","v":"X"},{"$f":"IF(OR(PTA!AE23=\"\",PTA!AE23=\"X\"),\"X\",IF(PTA!AE23=\"*\",\"*\",VLOOKUP(PTA!AE23,AL_NUM_ARB,2,FALSE)&\" \"&VLOOKUP(PTA!AE23,AL_NUM_ARB,4,FALSE)&\" \"&VLOOKUP(PTA!AE23,AL_NUM_ARB,6,FALSE)))","v":"X"},{"$f":"IF(OR(PTA!AF23=\"\",PTA!AF23=\"X\"),\"X\",IF(PTA!AF23=\"*\",\"*\",VLOOKUP(PTA!AF23,AL_NUM_ARB,2,FALSE)&\" \"&VLOOKUP(PTA!AF23,AL_NUM_ARB,4,FALSE)&\" \"&VLOOKUP(PTA!AF23,AL_NUM_ARB,6,FALSE)))","v":"X"},{"$f":"IF(OR(PTA!AG23=\"\",PTA!AG23=\"X\"),\"X\",IF(PTA!AG23=\"*\",\"*\",VLOOKUP(PTA!AG23,AL_NUM_ARB,2,FALSE)&\" \"&VLOOKUP(PTA!AG23,AL_NUM_ARB,4,FALSE)&\" \"&VLOOKUP(PTA!AG23,AL_NUM_ARB,6,FALSE)))","v":"X"},{"$f":"IF(OR(PTA!AH23=\"\",PTA!AH23=\"X\"),\"X\",IF(PTA!AH23=\"*\",\"*\",VLOOKUP(PTA!AH23,AL_NUM_ARB,2,FALSE)&\" \"&VLOOKUP(PTA!AH23,AL_NUM_ARB,4,FALSE)&\" \"&VLOOKUP(PTA!AH23,AL_NUM_ARB,6,FALSE)))","v":"X"},{"$f":"IF(OR(PTA!AI23=\"\",PTA!AI23=\"X\"),\"X\",IF(PTA!AI23=\"*\",\"*\",VLOOKUP(PTA!AI23,AL_NUM_ARB,2,FALSE)&\" \"&VLOOKUP(PTA!AI23,AL_NUM_ARB,4,FALSE)&\" \"&VLOOKUP(PTA!AI23,AL_NUM_ARB,6,FALSE)))","v":"X"},{"$f":"IF(OR(PTA!AJ23=\"\",PTA!AJ23=\"X\"),\"X\",IF(PTA!AJ23=\"*\",\"*\",VLOOKUP(PTA!AJ23,AL_NUM_ARB,2,FALSE)&\" \"&VLOOKUP(PTA!AJ23,AL_NUM_ARB,4,FALSE)&\" \"&VLOOKUP(PTA!AJ23,AL_NUM_ARB,6,FALSE)))","v":"X"},{"$f":"IF(OR(PTA!AK23=\"\",PTA!AK23=\"X\"),\"X\",IF(PTA!AK23=\"*\",\"*\",VLOOKUP(PTA!AK23,AL_NUM_ARB,2,FALSE)&\" \"&VLOOKUP(PTA!AK23,AL_NUM_ARB,4,FALSE)&\" \"&VLOOKUP(PTA!AK23,AL_NUM_ARB,6,FALSE)))","v":"X"},{"$f":"IF(OR(PTA!AL23=\"\",PTA!AL23=\"X\"),\"X\",IF(PTA!AL23=\"*\",\"*\",VLOOKUP(PTA!AL23,AL_NUM_ARB,2,FALSE)&\" \"&VLOOKUP(PTA!AL23,AL_NUM_ARB,4,FALSE)&\" \"&VLOOKUP(PTA!AL23,AL_NUM_ARB,6,FALSE)))","v":"X"},{"$f":"IF(OR(PTA!AM23=\"\",PTA!AM23=\"X\"),\"X\",IF(PTA!AM23=\"*\",\"*\",VLOOKUP(PTA!AM23,AL_NUM_ARB,2,FALSE)&\" \"&VLOOKUP(PTA!AM23,AL_NUM_ARB,4,FALSE)&\" \"&VLOOKUP(PTA!AM23,AL_NUM_ARB,6,FALSE)))","v":"X"},{"$f":"IF(OR(PTA!AN23=\"\",PTA!AN23=\"X\"),\"X\",IF(PTA!AN23=\"*\",\"*\",VLOOKUP(PTA!AN23,AL_NUM_ARB,2,FALSE)&\" \"&VLOOKUP(PTA!AN23,AL_NUM_ARB,4,FALSE)&\" \"&VLOOKUP(PTA!AN23,AL_NUM_ARB,6,FALSE)))","v":"X"},{"$f":"IF(OR(PTA!AO23=\"\",PTA!AO23=\"X\"),\"X\",IF(PTA!AO23=\"*\",\"*\",VLOOKUP(PTA!AO23,AL_NUM_ARB,2,FALSE)&\" \"&VLOOKUP(PTA!AO23,AL_NUM_ARB,4,FALSE)&\" \"&VLOOKUP(PTA!AO23,AL_NUM_ARB,6,FALSE)))","v":"X"},{"$f":"IF(OR(PTA!AP23=\"\",PTA!AP23=\"X\"),\"X\",IF(PTA!AP23=\"*\",\"*\",VLOOKUP(PTA!AP23,AL_NUM_ARB,2,FALSE)&\" \"&VLOOKUP(PTA!AP23,AL_NUM_ARB,4,FALSE)&\" \"&VLOOKUP(PTA!AP23,AL_NUM_ARB,6,FALSE)))","v":"X"},{"$f":"IF(OR(PTA!AQ23=\"\",PTA!AQ23=\"X\"),\"X\",IF(PTA!AQ23=\"*\",\"*\",VLOOKUP(PTA!AQ23,AL_NUM_ARB,2,FALSE)&\" \"&VLOOKUP(PTA!AQ23,AL_NUM_ARB,4,FALSE)&\" \"&VLOOKUP(PTA!AQ23,AL_NUM_ARB,6,FALSE)))","v":"X"},{"$f":"IF(OR(PTA!AR23=\"\",PTA!AR23=\"X\"),\"X\",IF(PTA!AR23=\"*\",\"*\",VLOOKUP(PTA!AR23,AL_NUM_ARB,2,FALSE)&\" \"&VLOOKUP(PTA!AR23,AL_NUM_ARB,4,FALSE)&\" \"&VLOOKUP(PTA!AR23,AL_NUM_ARB,6,FALSE)))","v":"X"},{"$f":"IF(OR(PTA!AS23=\"\",PTA!AS23=\"X\"),\"X\",IF(PTA!AS23=\"*\",\"*\",VLOOKUP(PTA!AS23,AL_NUM_ARB,2,FALSE)&\" \"&VLOOKUP(PTA!AS23,AL_NUM_ARB,4,FALSE)&\" \"&VLOOKUP(PTA!AS23,AL_NUM_ARB,6,FALSE)))","v":"X"},{"$f":"IF(OR(PTA!AT23=\"\",PTA!AT23=\"X\"),\"X\",IF(PTA!AT23=\"*\",\"*\",VLOOKUP(PTA!AT23,AL_NUM_ARB,2,FALSE)&\" \"&VLOOKUP(PTA!AT23,AL_NUM_ARB,4,FALSE)&\" \"&VLOOKUP(PTA!AT23,AL_NUM_ARB,6,FALSE)))","v":"X"},{"$f":"IF(OR(PTA!AU23=\"\",PTA!AU23=\"X\"),\"X\",IF(PTA!AU23=\"*\",\"*\",VLOOKUP(PTA!AU23,AL_NUM_ARB,2,FALSE)&\" \"&VLOOKUP(PTA!AU23,AL_NUM_ARB,4,FALSE)&\" \"&VLOOKUP(PTA!AU23,AL_NUM_ARB,6,FALSE)))","v":"X"},{"$f":"IF(OR(PTA!AV23=\"\",PTA!AV23=\"X\"),\"X\",IF(PTA!AV23=\"*\",\"*\",VLOOKUP(PTA!AV23,AL_NUM_ARB,2,FALSE)&\" \"&VLOOKUP(PTA!AV23,AL_NUM_ARB,4,FALSE)&\" \"&VLOOKUP(PTA!AV23,AL_NUM_ARB,6,FALSE)))","v":"X"},{"$f":"IF(OR(PTA!AW23=\"\",PTA!AW23=\"X\"),\"X\",IF(PTA!AW23=\"*\",\"*\",VLOOKUP(PTA!AW23,AL_NUM_ARB,2,FALSE)&\" \"&VLOOKUP(PTA!AW23,AL_NUM_ARB,4,FALSE)&\" \"&VLOOKUP(PTA!AW23,AL_NUM_ARB,6,FALSE)))","v":"X"},{"$f":"IF(OR(PTA!AX23=\"\",PTA!AX23=\"X\"),\"X\",IF(PTA!AX23=\"*\",\"*\",VLOOKUP(PTA!AX23,AL_NUM_ARB,2,FALSE)&\" \"&VLOOKUP(PTA!AX23,AL_NUM_ARB,4,FALSE)&\" \"&VLOOKUP(PTA!AX23,AL_NUM_ARB,6,FALSE)))","v":"X"},{"$f":"IF(OR(PTA!AY23=\"\",PTA!AY23=\"X\"),\"X\",IF(PTA!AY23=\"*\",\"*\",VLOOKUP(PTA!AY23,AL_NUM_ARB,2,FALSE)&\" \"&VLOOKUP(PTA!AY23,AL_NUM_ARB,4,FALSE)&\" \"&VLOOKUP(PTA!AY23,AL_NUM_ARB,6,FALSE)))","v":"X"},{"$f":"IF(OR(PTA!AZ23=\"\",PTA!AZ23=\"X\"),\"X\",IF(PTA!AZ23=\"*\",\"*\",VLOOKUP(PTA!AZ23,AL_NUM_ARB,2,FALSE)&\" \"&VLOOKUP(PTA!AZ23,AL_NUM_ARB,4,FALSE)&\" \"&VLOOKUP(PTA!AZ23,AL_NUM_ARB,6,FALSE)))","v":"X"},{"$f":"IF(OR(PTA!BA23=\"\",PTA!BA23=\"X\"),\"X\",IF(PTA!BA23=\"*\",\"*\",VLOOKUP(PTA!BA23,AL_NUM_ARB,2,FALSE)&\" \"&VLOOKUP(PTA!BA23,AL_NUM_ARB,4,FALSE)&\" \"&VLOOKUP(PTA!BA23,AL_NUM_ARB,6,FALSE)))","v":"X"},{"$f":"IF(OR(PTA!BB23=\"\",PTA!BB23=\"X\"),\"X\",IF(PTA!BB23=\"*\",\"*\",VLOOKUP(PTA!BB23,AL_NUM_ARB,2,FALSE)&\" \"&VLOOKUP(PTA!BB23,AL_NUM_ARB,4,FALSE)&\" \"&VLOOKUP(PTA!BB23,AL_NUM_ARB,6,FALSE)))","v":"X"},{"$f":"IF(OR(PTA!BC23=\"\",PTA!BC23=\"X\"),\"X\",IF(PTA!BC23=\"*\",\"*\",VLOOKUP(PTA!BC23,AL_NUM_ARB,2,FALSE)&\" \"&VLOOKUP(PTA!BC23,AL_NUM_ARB,4,FALSE)&\" \"&VLOOKUP(PTA!BC23,AL_NUM_ARB,6,FALSE)))","v":"X"},{"$f":"IF(OR(PTA!BD23=\"\",PTA!BD23=\"X\"),\"X\",IF(PTA!BD23=\"*\",\"*\",VLOOKUP(PTA!BD23,AL_NUM_ARB,2,FALSE)&\" \"&VLOOKUP(PTA!BD23,AL_NUM_ARB,4,FALSE)&\" \"&VLOOKUP(PTA!BD23,AL_NUM_ARB,6,FALSE)))","v":"X"},{"$f":"IF(OR(PTA!BE23=\"\",PTA!BE23=\"X\"),\"X\",IF(PTA!BE23=\"*\",\"*\",VLOOKUP(PTA!BE23,AL_NUM_ARB,2,FALSE)&\" \"&VLOOKUP(PTA!BE23,AL_NUM_ARB,4,FALSE)&\" \"&VLOOKUP(PTA!BE23,AL_NUM_ARB,6,FALSE)))","v":"X"},{"$f":"IF(OR(PTA!BF23=\"\",PTA!BF23=\"X\"),\"X\",IF(PTA!BF23=\"*\",\"*\",VLOOKUP(PTA!BF23,AL_NUM_ARB,2,FALSE)&\" \"&VLOOKUP(PTA!BF23,AL_NUM_ARB,4,FALSE)&\" \"&VLOOKUP(PTA!BF23,AL_NUM_ARB,6,FALSE)))","v":"X"},{"$f":"IF(OR(PTA!BG23=\"\",PTA!BG23=\"X\"),\"X\",IF(PTA!BG23=\"*\",\"*\",VLOOKUP(PTA!BG23,AL_NUM_ARB,2,FALSE)&\" \"&VLOOKUP(PTA!BG23,AL_NUM_ARB,4,FALSE)&\" \"&VLOOKUP(PTA!BG23,AL_NUM_ARB,6,FALSE)))","v":"X"},{"$f":"IF(OR(PTA!BH23=\"\",PTA!BH23=\"X\"),\"X\",IF(PTA!BH23=\"*\",\"*\",VLOOKUP(PTA!BH23,AL_NUM_ARB,2,FALSE)&\" \"&VLOOKUP(PTA!BH23,AL_NUM_ARB,4,FALSE)&\" \"&VLOOKUP(PTA!BH23,AL_NUM_ARB,6,FALSE)))","v":"X"},{"$f":"IF(OR(PTA!BI23=\"\",PTA!BI23=\"X\"),\"X\",IF(PTA!BI23=\"*\",\"*\",VLOOKUP(PTA!BI23,AL_NUM_ARB,2,FALSE)&\" \"&VLOOKUP(PTA!BI23,AL_NUM_ARB,4,FALSE)&\" \"&VLOOKUP(PTA!BI23,AL_NUM_ARB,6,FALSE)))","v":"X"},{"$f":"IF(OR(PTA!BJ23=\"\",PTA!BJ23=\"X\"),\"X\",IF(PTA!BJ23=\"*\",\"*\",VLOOKUP(PTA!BJ23,AL_NUM_ARB,2,FALSE)&\" \"&VLOOKUP(PTA!BJ23,AL_NUM_ARB,4,FALSE)&\" \"&VLOOKUP(PTA!BJ23,AL_NUM_ARB,6,FALSE)))","v":"X"},{"$f":"IF(OR(PTA!BK23=\"\",PTA!BK23=\"X\"),\"X\",IF(PTA!BK23=\"*\",\"*\",VLOOKUP(PTA!BK23,AL_NUM_ARB,2,FALSE)&\" \"&VLOOKUP(PTA!BK23,AL_NUM_ARB,4,FALSE)&\" \"&VLOOKUP(PTA!BK23,AL_NUM_ARB,6,FALSE)))","v":"X"},{"$f":"IF(OR(PTA!BL23=\"\",PTA!BL23=\"X\"),\"X\",IF(PTA!BL23=\"*\",\"*\",VLOOKUP(PTA!BL23,AL_NUM_ARB,2,FALSE)&\" \"&VLOOKUP(PTA!BL23,AL_NUM_ARB,4,FALSE)&\" \"&VLOOKUP(PTA!BL23,AL_NUM_ARB,6,FALSE)))","v":"X"},{"$f":"IF(OR(PTA!BM23=\"\",PTA!BM23=\"X\"),\"X\",IF(PTA!BM23=\"*\",\"*\",VLOOKUP(PTA!BM23,AL_NUM_ARB,2,FALSE)&\" \"&VLOOKUP(PTA!BM23,AL_NUM_ARB,4,FALSE)&\" \"&VLOOKUP(PTA!BM23,AL_NUM_ARB,6,FALSE)))","v":"X"},{"$f":"IF(OR(PTA!BN23=\"\",PTA!BN23=\"X\"),\"X\",IF(PTA!BN23=\"*\",\"*\",VLOOKUP(PTA!BN23,AL_NUM_ARB,2,FALSE)&\" \"&VLOOKUP(PTA!BN23,AL_NUM_ARB,4,FALSE)&\" \"&VLOOKUP(PTA!BN23,AL_NUM_ARB,6,FALSE)))","v":"X"},{"$f":"IF(OR(PTA!BO23=\"\",PTA!BO23=\"X\"),\"X\",IF(PTA!BO23=\"*\",\"*\",VLOOKUP(PTA!BO23,AL_NUM_ARB,2,FALSE)&\" \"&VLOOKUP(PTA!BO23,AL_NUM_ARB,4,FALSE)&\" \"&VLOOKUP(PTA!BO23,AL_NUM_ARB,6,FALSE)))","v":"X"},{"$f":"IF(OR(PTA!BP23=\"\",PTA!BP23=\"X\"),\"X\",IF(PTA!BP23=\"*\",\"*\",VLOOKUP(PTA!BP23,AL_NUM_ARB,2,FALSE)&\" \"&VLOOKUP(PTA!BP23,AL_NUM_ARB,4,FALSE)&\" \"&VLOOKUP(PTA!BP23,AL_NUM_ARB,6,FALSE)))","v":"X"},{"$f":"IF(OR(PTA!BQ23=\"\",PTA!BQ23=\"X\"),\"X\",IF(PTA!BQ23=\"*\",\"*\",VLOOKUP(PTA!BQ23,AL_NUM_ARB,2,FALSE)&\" \"&VLOOKUP(PTA!BQ23,AL_NUM_ARB,4,FALSE)&\" \"&VLOOKUP(PTA!BQ23,AL_NUM_ARB,6,FALSE)))","v":"X"},{"$f":"IF(OR(PTA!BR23=\"\",PTA!BR23=\"X\"),\"X\",IF(PTA!BR23=\"*\",\"*\",VLOOKUP(PTA!BR23,AL_NUM_ARB,2,FALSE)&\" \"&VLOOKUP(PTA!BR23,AL_NUM_ARB,4,FALSE)&\" \"&VLOOKUP(PTA!BR23,AL_NUM_ARB,6,FALSE)))","v":"X"},{"$f":"IF(OR(PTA!BT23=\"\",PTA!BT23=\"X\"),\"X\",VLOOKUP(PTA!BT23,AL_NUM_ARB,2,FALSE)&\" \"&VLOOKUP(PTA!BT23,AL_NUM_ARB,4,FALSE)&\" \"&VLOOKUP(PTA!BT23,AL_NUM_ARB,6,FALSE))","v":"X"},{"$f":"IF(OR(PTA!BU23=\"\",PTA!BU23=\"X\"),\"X\",VLOOKUP(PTA!BU23,AL_NUM_ARB,2,FALSE)&\" \"&VLOOKUP(PTA!BU23,AL_NUM_ARB,4,FALSE)&\" \"&VLOOKUP(PTA!BU23,AL_NUM_ARB,6,FALSE))","v":"X"},{"$f":"IF(OR(PTA!BV23=\"\",PTA!BV23=\"X\"),\"X\",VLOOKUP(PTA!BV23,AL_NUM_ARB,2,FALSE)&\" \"&VLOOKUP(PTA!BV23,AL_NUM_ARB,4,FALSE)&\" \"&VLOOKUP(PTA!BV23,AL_NUM_ARB,6,FALSE))","v":"X"},{"$f":"IF(OR(PTA!BW23=\"\",PTA!BW23=\"X\"),\"X\",VLOOKUP(PTA!BW23,AL_NUM_ARB,2,FALSE)&\" \"&VLOOKUP(PTA!BW23,AL_NUM_ARB,4,FALSE)&\" \"&VLOOKUP(PTA!BW23,AL_NUM_ARB,6,FALSE))","v":"X"},"07:00:00"]
[{"$f":"PTA!A24","v":""},{"$f":"PTA!B24","v":"00:00:00"},{"$f":"PTA!C24","v":32},{"$f":"PTA!D24","v":0},{"$f":"IF(OR(PTA!E24=\"\",PTA!E24=\"X\"),\"X\",IF(PTA!E24=\"*\",\"*\",VLOOKUP(PTA!E24,AL_NUM_ARB,2,FALSE)&\" \"&VLOOKUP(PTA!E24,AL_NUM_ARB,4,FALSE)&\" \"&VLOOKUP(PTA!E24,AL_NUM_ARB,6,FALSE)))","v":"X"},{"$f":"IF(OR(PTA!F24=\"\",PTA!F24=\"X\"),\"X\",IF(PTA!F24=\"*\",\"*\",VLOOKUP(PTA!F24,AL_NUM_ARB,2,FALSE)&\" \"&VLOOKUP(PTA!F24,AL_NUM_ARB,4,FALSE)&\" \"&VLOOKUP(PTA!F24,AL_NUM_ARB,6,FALSE)))","v":"X"},{"$f":"IF(OR(PTA!G24=\"\",PTA!G24=\"X\"),\"X\",IF(PTA!G24=\"*\",\"*\",VLOOKUP(PTA!G24,AL_NUM_ARB,2,FALSE)&\" \"&VLOOKUP(PTA!G24,AL_NUM_ARB,4,FALSE)&\" \"&VLOOKUP(PTA!G24,AL_NUM_ARB,6,FALSE)))","v":"X"},{"$f":"IF(OR(PTA!H24=\"\",PTA!H24=\"X\"),\"X\",IF(PTA!H24=\"*\",\"*\",VLOOKUP(PTA!H24,AL_NUM_ARB,2,FALSE)&\" \"&VLOOKUP(PTA!H24,AL_NUM_ARB,4,FALSE)&\" \"&VLOOKUP(PTA!H24,AL_NUM_ARB,6,FALSE)))","v":"X"},{"$f":"IF(OR(PTA!I24=\"\",PTA!I24=\"X\"),\"X\",IF(PTA!I24=\"*\",\"*\",VLOOKUP(PTA!I24,AL_NUM_ARB,2,FALSE)&\" \"&VLOOKUP(PTA!I24,AL_NUM_ARB,4,FALSE)&\" \"&VLOOKUP(PTA!I24,AL_NUM_ARB,6,FALSE)))","v":"X"},{"$f":"IF(OR(PTA!J24=\"\",PTA!J24=\"X\"),\"X\",IF(PTA!J24=\"*\",\"*\",VLOOKUP(PTA!J24,AL_NUM_ARB,2,FALSE)&\" \"&VLOOKUP(PTA!J24,AL_NUM_ARB,4,FALSE)&\" \"&VLOOKUP(PTA!J24,AL_NUM_ARB,6,FALSE)))","v":"X"},{"$f":"IF(OR(PTA!K24=\"\",PTA!K24=\"X\"),\"X\",IF(PTA!K24=\"*\",\"*\",VLOOKUP(PTA!K24,AL_NUM_ARB,2,FALSE)&\" \"&VLOOKUP(PTA!K24,AL_NUM_ARB,4,FALSE)&\" \"&VLOOKUP(PTA!K24,AL_NUM_ARB,6,FALSE)))","v":"X"},{"$f":"IF(OR(PTA!L24=\"\",PTA!L24=\"X\"),\"X\",IF(PTA!L24=\"*\",\"*\",VLOOKUP(PTA!L24,AL_NUM_ARB,2,FALSE)&\" \"&VLOOKUP(PTA!L24,AL_NUM_ARB,4,FALSE)&\" \"&VLOOKUP(PTA!L24,AL_NUM_ARB,6,FALSE)))","v":"X"},{"$f":"IF(OR(PTA!M24=\"\",PTA!M24=\"X\"),\"X\",IF(PTA!M24=\"*\",\"*\",VLOOKUP(PTA!M24,AL_NUM_ARB,2,FALSE)&\" \"&VLOOKUP(PTA!M24,AL_NUM_ARB,4,FALSE)&\" \"&VLOOKUP(PTA!M24,AL_NUM_ARB,6,FALSE)))","v":"X"},{"$f":"IF(OR(PTA!N24=\"\",PTA!N24=\"X\"),\"X\",IF(PTA!N24=\"*\",\"*\",VLOOKUP(PTA!N24,AL_NUM_ARB,2,FALSE)&\" \"&VLOOKUP(PTA!N24,AL_NUM_ARB,4,FALSE)&\" \"&VLOOKUP(PTA!N24,AL_NUM_ARB,6,FALSE)))","v":"X"},{"$f":"IF(OR(PTA!O24=\"\",PTA!O24=\"X\"),\"X\",IF(PTA!O24=\"*\",\"*\",VLOOKUP(PTA!O24,AL_NUM_ARB,2,FALSE)&\" \"&VLOOKUP(PTA!O24,AL_NUM_ARB,4,FALSE)&\" \"&VLOOKUP(PTA!O24,AL_NUM_ARB,6,FALSE)))","v":"X"},{"$f":"IF(OR(PTA!P24=\"\",PTA!P24=\"X\"),\"X\",IF(PTA!P24=\"*\",\"*\",VLOOKUP(PTA!P24,AL_NUM_ARB,2,FALSE)&\" \"&VLOOKUP(PTA!P24,AL_NUM_ARB,4,FALSE)&\" \"&VLOOKUP(PTA!P24,AL_NUM_ARB,6,FALSE)))","v":"X"},{"$f":"IF(OR(PTA!Q24=\"\",PTA!Q24=\"X\"),\"X\",IF(PTA!Q24=\"*\",\"*\",VLOOKUP(PTA!Q24,AL_NUM_ARB,2,FALSE)&\" \"&VLOOKUP(PTA!Q24,AL_NUM_ARB,4,FALSE)&\" \"&VLOOKUP(PTA!Q24,AL_NUM_ARB,6,FALSE)))","v":"X"},{"$f":"IF(OR(PTA!R24=\"\",PTA!R24=\"X\"),\"X\",IF(PTA!R24=\"*\",\"*\",VLOOKUP(PTA!R24,AL_NUM_ARB,2,FALSE)&\" \"&VLOOKUP(PTA!R24,AL_NUM_ARB,4,FALSE)&\" \"&VLOOKUP(PTA!R24,AL_NUM_ARB,6,FALSE)))","v":"X"},{"$f":"IF(OR(PTA!S24=\"\",PTA!S24=\"X\"),\"X\",IF(PTA!S24=\"*\",\"*\",VLOOKUP(PTA!S24,AL_NUM_ARB,2,FALSE)&\" \"&VLOOKUP(PTA!S24,AL_NUM_ARB,4,FALSE)&\" \"&VLOOKUP(PTA!S24,AL_NUM_ARB,6,FALSE)))","v":"X"},{"$f":"IF(OR(PTA!T24=\"\",PTA!T24=\"X\"),\"X\",IF(PTA!T24=\"*\",\"*\",VLOOKUP(PTA!T24,AL_NUM_ARB,2,FALSE)&\" \"&VLOOKUP(PTA!T24,AL_NUM_ARB,4,FALSE)&\" \"&VLOOKUP(PTA!T24,AL_NUM_ARB,6,FALSE)))","v":"X"},{"$f":"IF(OR(PTA!U24=\"\",PTA!U24=\"X\"),\"X\",IF(PTA!U24=\"*\",\"*\",VLOOKUP(PTA!U24,AL_NUM_ARB,2,FALSE)&\" \"&VLOOKUP(PTA!U24,AL_NUM_ARB,4,FALSE)&\" \"&VLOOKUP(PTA!U24,AL_NUM_ARB,6,FALSE)))","v":"X"},{"$f":"IF(OR(PTA!V24=\"\",PTA!V24=\"X\"),\"X\",IF(PTA!V24=\"*\",\"*\",VLOOKUP(PTA!V24,AL_NUM_ARB,2,FALSE)&\" \"&VLOOKUP(PTA!V24,AL_NUM_ARB,4,FALSE)&\" \"&VLOOKUP(PTA!V24,AL_NUM_ARB,6,FALSE)))","v":"X"},{"$f":"IF(OR(PTA!W24=\"\",PTA!W24=\"X\"),\"X\",IF(PTA!W24=\"*\",\"*\",VLOOKUP(PTA!W24,AL_NUM_ARB,2,FALSE)&\" \"&VLOOKUP(PTA!W24,AL_NUM_ARB,4,FALSE)&\" \"&VLOOKUP(PTA!W24,AL_NUM_ARB,6,FALSE)))","v":"X"},{"$f":"IF(OR(PTA!X24=\"\",PTA!X24=\"X\"),\"X\",IF(PTA!X24=\"*\",\"*\",VLOOKUP(PTA!X24,AL_NUM_ARB,2,FALSE)&\" \"&VLOOKUP(PTA!X24,AL_NUM_ARB,4,FALSE)&\" \"&VLOOKUP(PTA!X24,AL_NUM_ARB,6,FALSE)))","v":"X"},{"$f":"IF(OR(PTA!Y24=\"\",PTA!Y24=\"X\"),\"X\",IF(PTA!Y24=\"*\",\"*\",VLOOKUP(PTA!Y24,AL_NUM_ARB,2,FALSE)&\" \"&VLOOKUP(PTA!Y24,AL_NUM_ARB,4,FALSE)&\" \"&VLOOKUP(PTA!Y24,AL_NUM_ARB,6,FALSE)))","v":"X"},{"$f":"IF(OR(PTA!Z24=\"\",PTA!Z24=\"X\"),\"X\",IF(PTA!Z24=\"*\",\"*\",VLOOKUP(PTA!Z24,AL_NUM_ARB,2,FALSE)&\" \"&VLOOKUP(PTA!Z24,AL_NUM_ARB,4,FALSE)&\" \"&VLOOKUP(PTA!Z24,AL_NUM_ARB,6,FALSE)))","v":"X"},{"$f":"IF(OR(PTA!AA24=\"\",PTA!AA24=\"X\"),\"X\",IF(PTA!AA24=\"*\",\"*\",VLOOKUP(PTA!AA24,AL_NUM_ARB,2,FALSE)&\" \"&VLOOKUP(PTA!AA24,AL_NUM_ARB,4,FALSE)&\" \"&VLOOKUP(PTA!AA24,AL_NUM_ARB,6,FALSE)))","v":"X"},{"$f":"IF(OR(PTA!AB24=\"\",PTA!AB24=\"X\"),\"X\",IF(PTA!AB24=\"*\",\"*\",VLOOKUP(PTA!AB24,AL_NUM_ARB,2,FALSE)&\" \"&VLOOKUP(PTA!AB24,AL_NUM_ARB,4,FALSE)&\" \"&VLOOKUP(PTA!AB24,AL_NUM_ARB,6,FALSE)))","v":"X"},{"$f":"IF(OR(PTA!AC24=\"\",PTA!AC24=\"X\"),\"X\",IF(PTA!AC24=\"*\",\"*\",VLOOKUP(PTA!AC24,AL_NUM_ARB,2,FALSE)&\" \"&VLOOKUP(PTA!AC24,AL_NUM_ARB,4,FALSE)&\" \"&VLOOKUP(PTA!AC24,AL_NUM_ARB,6,FALSE)))","v":"X"},{"$f":"IF(OR(PTA!AD24=\"\",PTA!AD24=\"X\"),\"X\",IF(PTA!AD24=\"*\",\"*\",VLOOKUP(PTA!AD24,AL_NUM_ARB,2,FALSE)&\" \"&VLOOKUP(PTA!AD24,AL_NUM_ARB,4,FALSE)&\" \"&VLOOKUP(PTA!AD24,AL_NUM_ARB,6,FALSE)))","v":"X"},{"$f":"IF(OR(PTA!AE24=\"\",PTA!AE24=\"X\"),\"X\",IF(PTA!AE24=\"*\",\"*\",VLOOKUP(PTA!AE24,AL_NUM_ARB,2,FALSE)&\" \"&VLOOKUP(PTA!AE24,AL_NUM_ARB,4,FALSE)&\" \"&VLOOKUP(PTA!AE24,AL_NUM_ARB,6,FALSE)))","v":"X"},{"$f":"IF(OR(PTA!AF24=\"\",PTA!AF24=\"X\"),\"X\",IF(PTA!AF24=\"*\",\"*\",VLOOKUP(PTA!AF24,AL_NUM_ARB,2,FALSE)&\" \"&VLOOKUP(PTA!AF24,AL_NUM_ARB,4,FALSE)&\" \"&VLOOKUP(PTA!AF24,AL_NUM_ARB,6,FALSE)))","v":"X"},{"$f":"IF(OR(PTA!AG24=\"\",PTA!AG24=\"X\"),\"X\",IF(PTA!AG24=\"*\",\"*\",VLOOKUP(PTA!AG24,AL_NUM_ARB,2,FALSE)&\" \"&VLOOKUP(PTA!AG24,AL_NUM_ARB,4,FALSE)&\" \"&VLOOKUP(PTA!AG24,AL_NUM_ARB,6,FALSE)))","v":"X"},{"$f":"IF(OR(PTA!AH24=\"\",PTA!AH24=\"X\"),\"X\",IF(PTA!AH24=\"*\",\"*\",VLOOKUP(PTA!AH24,AL_NUM_ARB,2,FALSE)&\" \"&VLOOKUP(PTA!AH24,AL_NUM_ARB,4,FALSE)&\" \"&VLOOKUP(PTA!AH24,AL_NUM_ARB,6,FALSE)))","v":"X"},{"$f":"IF(OR(PTA!AI24=\"\",PTA!AI24=\"X\"),\"X\",IF(PTA!AI24=\"*\",\"*\",VLOOKUP(PTA!AI24,AL_NUM_ARB,2,FALSE)&\" \"&VLOOKUP(PTA!AI24,AL_NUM_ARB,4,FALSE)&\" \"&VLOOKUP(PTA!AI24,AL_NUM_ARB,6,FALSE)))","v":"X"},{"$f":"IF(OR(PTA!AJ24=\"\",PTA!AJ24=\"X\"),\"X\",IF(PTA!AJ24=\"*\",\"*\",VLOOKUP(PTA!AJ24,AL_NUM_ARB,2,FALSE)&\" \"&VLOOKUP(PTA!AJ24,AL_NUM_ARB,4,FALSE)&\" \"&VLOOKUP(PTA!AJ24,AL_NUM_ARB,6,FALSE)))","v":"X"},{"$f":"IF(OR(PTA!AK24=\"\",PTA!AK24=\"X\"),\"X\",IF(PTA!AK24=\"*\",\"*\",VLOOKUP(PTA!AK24,AL_NUM_ARB,2,FALSE)&\" \"&VLOOKUP(PTA!AK24,AL_NUM_ARB,4,FALSE)&\" \"&VLOOKUP(PTA!AK24,AL_NUM_ARB,6,FALSE)))","v":"X"},{"$f":"IF(OR(PTA!AL24=\"\",PTA!AL24=\"X\"),\"X\",IF(PTA!AL24=\"*\",\"*\",VLOOKUP(PTA!AL24,AL_NUM_ARB,2,FALSE)&\" \"&VLOOKUP(PTA!AL24,AL_NUM_ARB,4,FALSE)&\" \"&VLOOKUP(PTA!AL24,AL_NUM_ARB,6,FALSE)))","v":"X"},{"$f":"IF(OR(PTA!AM24=\"\",PTA!AM24=\"X\"),\"X\",IF(PTA!AM24=\"*\",\"*\",VLOOKUP(PTA!AM24,AL_NUM_ARB,2,FALSE)&\" \"&VLOOKUP(PTA!AM24,AL_NUM_ARB,4,FALSE)&\" \"&VLOOKUP(PTA!AM24,AL_NUM_ARB,6,FALSE)))","v":"X"},{"$f":"IF(OR(PTA!AN24=\"\",PTA!AN24=\"X\"),\"X\",IF(PTA!AN24=\"*\",\"*\",VLOOKUP(PTA!AN24,AL_NUM_ARB,2,FALSE)&\" \"&VLOOKUP(PTA!AN24,AL_NUM_ARB,4,FALSE)&\" \"&VLOOKUP(PTA!AN24,AL_NUM_ARB,6,FALSE)))","v":"X"},{"$f":"IF(OR(PTA!AO24=\"\",PTA!AO24=\"X\"),\"X\",IF(PTA!AO24=\"*\",\"*\",VLOOKUP(PTA!AO24,AL_NUM_ARB,2,FALSE)&\" \"&VLOOKUP(PTA!AO24,AL_NUM_ARB,4,FALSE)&\" \"&VLOOKUP(PTA!AO24,AL_NUM_ARB,6,FALSE)))","v":"X"},{"$f":"IF(OR(PTA!AP24=\"\",PTA!AP24=\"X\"),\"X\",IF(PTA!AP24=\"*\",\"*\",VLOOKUP(PTA!AP24,AL_NUM_ARB,2,FALSE)&\" \"&VLOOKUP(PTA!AP24,AL_NUM_ARB,4,FALSE)&\" \"&VLOOKUP(PTA!AP24,AL_NUM_ARB,6,FALSE)))","v":"X"},{"$f":"IF(OR(PTA!AQ24=\"\",PTA!AQ24=\"X\"),\"X\",IF(PTA!AQ24=\"*\",\"*\",VLOOKUP(PTA!AQ24,AL_NUM_ARB,2,FALSE)&\" \"&VLOOKUP(PTA!AQ24,AL_NUM_ARB,4,FALSE)&\" \"&VLOOKUP(PTA!AQ24,AL_NUM_ARB,6,FALSE)))","v":"X"},{"$f":"IF(OR(PTA!AR24=\"\",PTA!AR24=\"X\"),\"X\",IF(PTA!AR24=\"*\",\"*\",VLOOKUP(PTA!AR24,AL_NUM_ARB,2,FALSE)&\" \"&VLOOKUP(PTA!AR24,AL_NUM_ARB,4,FALSE)&\" \"&VLOOKUP(PTA!AR24,AL_NUM_ARB,6,FALSE)))","v":"X"},{"$f":"IF(OR(PTA!AS24=\"\",PTA!AS24=\"X\"),\"X\",IF(PTA!AS24=\"*\",\"*\",VLOOKUP(PTA!AS24,AL_NUM_ARB,2,FALSE)&\" \"&VLOOKUP(PTA!AS24,AL_NUM_ARB,4,FALSE)&\" \"&VLOOKUP(PTA!AS24,AL_NUM_ARB,6,FALSE)))","v":"X"},{"$f":"IF(OR(PTA!AT24=\"\",PTA!AT24=\"X\"),\"X\",IF(PTA!AT24=\"*\",\"*\",VLOOKUP(PTA!AT24,AL_NUM_ARB,2,FALSE)&\" \"&VLOOKUP(PTA!AT24,AL_NUM_ARB,4,FALSE)&\" \"&VLOOKUP(PTA!AT24,AL_NUM_ARB,6,FALSE)))","v":"X"},{"$f":"IF(OR(PTA!AU24=\"\",PTA!AU24=\"X\"),\"X\",IF(PTA!AU24=\"*\",\"*\",VLOOKUP(PTA!AU24,AL_NUM_ARB,2,FALSE)&\" \"&VLOOKUP(PTA!AU24,AL_NUM_ARB,4,FALSE)&\" \"&VLOOKUP(PTA!AU24,AL_NUM_ARB,6,FALSE)))","v":"X"},{"$f":"IF(OR(PTA!AV24=\"\",PTA!AV24=\"X\"),\"X\",IF(PTA!AV24=\"*\",\"*\",VLOOKUP(PTA!AV24,AL_NUM_ARB,2,FALSE)&\" \"&VLOOKUP(PTA!AV24,AL_NUM_ARB,4,FALSE)&\" \"&VLOOKUP(PTA!AV24,AL_NUM_ARB,6,FALSE)))","v":"X"},{"$f":"IF(OR(PTA!AW24=\"\",PTA!AW24=\"X\"),\"X\",IF(PTA!AW24=\"*\",\"*\",VLOOKUP(PTA!AW24,AL_NUM_ARB,2,FALSE)&\" \"&VLOOKUP(PTA!AW24,AL_NUM_ARB,4,FALSE)&\" \"&VLOOKUP(PTA!AW24,AL_NUM_ARB,6,FALSE)))","v":"X"},{"$f":"IF(OR(PTA!AX24=\"\",PTA!AX24=\"X\"),\"X\",IF(PTA!AX24=\"*\",\"*\",VLOOKUP(PTA!AX24,AL_NUM_ARB,2,FALSE)&\" \"&VLOOKUP(PTA!AX24,AL_NUM_ARB,4,FALSE)&\" \"&VLOOKUP(PTA!AX24,AL_NUM_ARB,6,FALSE)))","v":"X"},{"$f":"IF(OR(PTA!AY24=\"\",PTA!AY24=\"X\"),\"X\",IF(PTA!AY24=\"*\",\"*\",VLOOKUP(PTA!AY24,AL_NUM_ARB,2,FALSE)&\" \"&VLOOKUP(PTA!AY24,AL_NUM_ARB,4,FALSE)&\" \"&VLOOKUP(PTA!AY24,AL_NUM_ARB,6,FALSE)))","v":"X"},{"$f":"IF(OR(PTA!AZ24=\"\",PTA!AZ24=\"X\"),\"X\",IF(PTA!AZ24=\"*\",\"*\",VLOOKUP(PTA!AZ24,AL_NUM_ARB,2,FALSE)&\" \"&VLOOKUP(PTA!AZ24,AL_NUM_ARB,4,FALSE)&\" \"&VLOOKUP(PTA!AZ24,AL_NUM_ARB,6,FALSE)))","v":"X"},{"$f":"IF(OR(PTA!BA24=\"\",PTA!BA24=\"X\"),\"X\",IF(PTA!BA24=\"*\",\"*\",VLOOKUP(PTA!BA24,AL_NUM_ARB,2,FALSE)&\" \"&VLOOKUP(PTA!BA24,AL_NUM_ARB,4,FALSE)&\" \"&VLOOKUP(PTA!BA24,AL_NUM_ARB,6,FALSE)))","v":"X"},{"$f":"IF(OR(PTA!BB24=\"\",PTA!BB24=\"X\"),\"X\",IF(PTA!BB24=\"*\",\"*\",VLOOKUP(PTA!BB24,AL_NUM_ARB,2,FALSE)&\" \"&VLOOKUP(PTA!BB24,AL_NUM_ARB,4,FALSE)&\" \"&VLOOKUP(PTA!BB24,AL_NUM_ARB,6,FALSE)))","v":"X"},{"$f":"IF(OR(PTA!BC24=\"\",PTA!BC24=\"X\"),\"X\",IF(PTA!BC24=\"*\",\"*\",VLOOKUP(PTA!BC24,AL_NUM_ARB,2,FALSE)&\" \"&VLOOKUP(PTA!BC24,AL_NUM_ARB,4,FALSE)&\" \"&VLOOKUP(PTA!BC24,AL_NUM_ARB,6,FALSE)))","v":"X"},{"$f":"IF(OR(PTA!BD24=\"\",PTA!BD24=\"X\"),\"X\",IF(PTA!BD24=\"*\",\"*\",VLOOKUP(PTA!BD24,AL_NUM_ARB,2,FALSE)&\" \"&VLOOKUP(PTA!BD24,AL_NUM_ARB,4,FALSE)&\" \"&VLOOKUP(PTA!BD24,AL_NUM_ARB,6,FALSE)))","v":"X"},{"$f":"IF(OR(PTA!BE24=\"\",PTA!BE24=\"X\"),\"X\",IF(PTA!BE24=\"*\",\"*\",VLOOKUP(PTA!BE24,AL_NUM_ARB,2,FALSE)&\" \"&VLOOKUP(PTA!BE24,AL_NUM_ARB,4,FALSE)&\" \"&VLOOKUP(PTA!BE24,AL_NUM_ARB,6,FALSE)))","v":"X"},{"$f":"IF(OR(PTA!BF24=\"\",PTA!BF24=\"X\"),\"X\",IF(PTA!BF24=\"*\",\"*\",VLOOKUP(PTA!BF24,AL_NUM_ARB,2,FALSE)&\" \"&VLOOKUP(PTA!BF24,AL_NUM_ARB,4,FALSE)&\" \"&VLOOKUP(PTA!BF24,AL_NUM_ARB,6,FALSE)))","v":"X"},{"$f":"IF(OR(PTA!BG24=\"\",PTA!BG24=\"X\"),\"X\",IF(PTA!BG24=\"*\",\"*\",VLOOKUP(PTA!BG24,AL_NUM_ARB,2,FALSE)&\" \"&VLOOKUP(PTA!BG24,AL_NUM_ARB,4,FALSE)&\" \"&VLOOKUP(PTA!BG24,AL_NUM_ARB,6,FALSE)))","v":"X"},{"$f":"IF(OR(PTA!BH24=\"\",PTA!BH24=\"X\"),\"X\",IF(PTA!BH24=\"*\",\"*\",VLOOKUP(PTA!BH24,AL_NUM_ARB,2,FALSE)&\" \"&VLOOKUP(PTA!BH24,AL_NUM_ARB,4,FALSE)&\" \"&VLOOKUP(PTA!BH24,AL_NUM_ARB,6,FALSE)))","v":"X"},{"$f":"IF(OR(PTA!BI24=\"\",PTA!BI24=\"X\"),\"X\",IF(PTA!BI24=\"*\",\"*\",VLOOKUP(PTA!BI24,AL_NUM_ARB,2,FALSE)&\" \"&VLOOKUP(PTA!BI24,AL_NUM_ARB,4,FALSE)&\" \"&VLOOKUP(PTA!BI24,AL_NUM_ARB,6,FALSE)))","v":"X"},{"$f":"IF(OR(PTA!BJ24=\"\",PTA!BJ24=\"X\"),\"X\",IF(PTA!BJ24=\"*\",\"*\",VLOOKUP(PTA!BJ24,AL_NUM_ARB,2,FALSE)&\" \"&VLOOKUP(PTA!BJ24,AL_NUM_ARB,4,FALSE)&\" \"&VLOOKUP(PTA!BJ24,AL_NUM_ARB,6,FALSE)))","v":"X"},{"$f":"IF(OR(PTA!BK24=\"\",PTA!BK24=\"X\"),\"X\",IF(PTA!BK24=\"*\",\"*\",VLOOKUP(PTA!BK24,AL_NUM_ARB,2,FALSE)&\" \"&VLOOKUP(PTA!BK24,AL_NUM_ARB,4,FALSE)&\" \"&VLOOKUP(PTA!BK24,AL_NUM_ARB,6,FALSE)))","v":"X"},{"$f":"IF(OR(PTA!BL24=\"\",PTA!BL24=\"X\"),\"X\",IF(PTA!BL24=\"*\",\"*\",VLOOKUP(PTA!BL24,AL_NUM_ARB,2,FALSE)&\" \"&VLOOKUP(PTA!BL24,AL_NUM_ARB,4,FALSE)&\" \"&VLOOKUP(PTA!BL24,AL_NUM_ARB,6,FALSE)))","v":"X"},{"$f":"IF(OR(PTA!BM24=\"\",PTA!BM24=\"X\"),\"X\",IF(PTA!BM24=\"*\",\"*\",VLOOKUP(PTA!BM24,AL_NUM_ARB,2,FALSE)&\" \"&VLOOKUP(PTA!BM24,AL_NUM_ARB,4,FALSE)&\" \"&VLOOKUP(PTA!BM24,AL_NUM_ARB,6,FALSE)))","v":"X"},{"$f":"IF(OR(PTA!BN24=\"\",PTA!BN24=\"X\"),\"X\",IF(PTA!BN24=\"*\",\"*\",VLOOKUP(PTA!BN24,AL_NUM_ARB,2,FALSE)&\" \"&VLOOKUP(PTA!BN24,AL_NUM_ARB,4,FALSE)&\" \"&VLOOKUP(PTA!BN24,AL_NUM_ARB,6,FALSE)))","v":"X"},{"$f":"IF(OR(PTA!BO24=\"\",PTA!BO24=\"X\"),\"X\",IF(PTA!BO24=\"*\",\"*\",VLOOKUP(PTA!BO24,AL_NUM_ARB,2,FALSE)&\" \"&VLOOKUP(PTA!BO24,AL_NUM_ARB,4,FALSE)&\" \"&VLOOKUP(PTA!BO24,AL_NUM_ARB,6,FALSE)))","v":"X"},{"$f":"IF(OR(PTA!BP24=\"\",PTA!BP24=\"X\"),\"X\",IF(PTA!BP24=\"*\",\"*\",VLOOKUP(PTA!BP24,AL_NUM_ARB,2,FALSE)&\" \"&VLOOKUP(PTA!BP24,AL_NUM_ARB,4,FALSE)&\" \"&VLOOKUP(PTA!BP24,AL_NUM_ARB,6,FALSE)))","v":"X"},{"$f":"IF(OR(PTA!BQ24=\"\",PTA!BQ24=\"X\"),\"X\",IF(PTA!BQ24=\"*\",\"*\",VLOOKUP(PTA!BQ24,AL_NUM_ARB,2,FALSE)&\" \"&VLOOKUP(PTA!BQ24,AL_NUM_ARB,4,FALSE)&\" \"&VLOOKUP(PTA!BQ24,AL_NUM_ARB,6,FALSE)))","v":"X"},{"$f":"IF(OR(PTA!BR24=\"\",PTA!BR24=\"X\"),\"X\",IF(PTA!BR24=\"*\",\"*\",VLOOKUP(PTA!BR24,AL_NUM_ARB,2,FALSE)&\" \"&VLOOKUP(PTA!BR24,AL_NUM_ARB,4,FALSE)&\" \"&VLOOKUP(PTA!BR24,AL_NUM_ARB,6,FALSE)))","v":"X"},{"$f":"IF(OR(PTA!BT24=\"\",PTA!BT24=\"X\"),\"X\",VLOOKUP(PTA!BT24,AL_NUM_ARB,2,FALSE)&\" \"&VLOOKUP(PTA!BT24,AL_NUM_ARB,4,FALSE)&\" \"&VLOOKUP(PTA!BT24,AL_NUM_ARB,6,FALSE))","v":"X"},{"$f":"IF(OR(PTA!BU24=\"\",PTA!BU24=\"X\"),\"X\",VLOOKUP(PTA!BU24,AL_NUM_ARB,2,FALSE)&\" \"&VLOOKUP(PTA!BU24,AL_NUM_ARB,4,FALSE)&\" \"&VLOOKUP(PTA!BU24,AL_NUM_ARB,6,FALSE))","v":"X"},{"$f":"IF(OR(PTA!BV24=\"\",PTA!BV24=\"X\"),\"X\",VLOOKUP(PTA!BV24,AL_NUM_ARB,2,FALSE)&\" \"&VLOOKUP(PTA!BV24,AL_NUM_ARB,4,FALSE)&\" \"&VLOOKUP(PTA!BV24,AL_NUM_ARB,6,FALSE))","v":"X"},{"$f":"IF(OR(PTA!BW24=\"\",PTA!BW24=\"X\"),\"X\",VLOOKUP(PTA!BW24,AL_NUM_ARB,2,FALSE)&\" \"&VLOOKUP(PTA!BW24,AL_NUM_ARB,4,FALSE)&\" \"&VLOOKUP(PTA!BW24,AL_NUM_ARB,6,FALSE))","v":"X"},"07:30:00"]
[{"$f":"PTA!A25","v":""},{"$f":"PTA!B25","v":"00:00:00"},{"$f":"PTA!C25","v":32},{"$f":"PTA!D25","v":0},{"$f":"IF(OR(PTA!E25=\"\",PTA!E25=\"X\"),\"X\",IF(PTA!E25=\"*\",\"*\",VLOOKUP(PTA!E25,AL_NUM_ARB,2,FALSE)&\" \"&VLOOKUP(PTA!E25,AL_NUM_ARB,4,FALSE)&\" \"&VLOOKUP(PTA!E25,AL_NUM_ARB,6,FALSE)))","v":"X"},{"$f":"IF(OR(PTA!F25=\"\",PTA!F25=\"X\"),\"X\",IF(PTA!F25=\"*\",\"*\",VLOOKUP(PTA!F25,AL_NUM_ARB,2,FALSE)&\" \"&VLOOKUP(PTA!F25,AL_NUM_ARB,4,FALSE)&\" \"&VLOOKUP(PTA!F25,AL_NUM_ARB,6,FALSE)))","v":"X"},{"$f":"IF(OR(PTA!G25=\"\",PTA!G25=\"X\"),\"X\",IF(PTA!G25=\"*\",\"*\",VLOOKUP(PTA!G25,AL_NUM_ARB,2,FALSE)&\" \"&VLOOKUP(PTA!G25,AL_NUM_ARB,4,FALSE)&\" \"&VLOOKUP(PTA!G25,AL_NUM_ARB,6,FALSE)))","v":"X"},{"$f":"IF(OR(PTA!H25=\"\",PTA!H25=\"X\"),\"X\",IF(PTA!H25=\"*\",\"*\",VLOOKUP(PTA!H25,AL_NUM_ARB,2,FALSE)&\" \"&VLOOKUP(PTA!H25,AL_NUM_ARB,4,FALSE)&\" \"&VLOOKUP(PTA!H25,AL_NUM_ARB,6,FALSE)))","v":"X"},{"$f":"IF(OR(PTA!I25=\"\",PTA!I25=\"X\"),\"X\",IF(PTA!I25=\"*\",\"*\",VLOOKUP(PTA!I25,AL_NUM_ARB,2,FALSE)&\" \"&VLOOKUP(PTA!I25,AL_NUM_ARB,4,FALSE)&\" \"&VLOOKUP(PTA!I25,AL_NUM_ARB,6,FALSE)))","v":"X"},{"$f":"IF(OR(PTA!J25=\"\",PTA!J25=\"X\"),\"X\",IF(PTA!J25=\"*\",\"*\",VLOOKUP(PTA!J25,AL_NUM_ARB,2,FALSE)&\" \"&VLOOKUP(PTA!J25,AL_NUM_ARB,4,FALSE)&\" \"&VLOOKUP(PTA!J25,AL_NUM_ARB,6,FALSE)))","v":"X"},{"$f":"IF(OR(PTA!K25=\"\",PTA!K25=\"X\"),\"X\",IF(PTA!K25=\"*\",\"*\",VLOOKUP(PTA!K25,AL_NUM_ARB,2,FALSE)&\" \"&VLOOKUP(PTA!K25,AL_NUM_ARB,4,FALSE)&\" \"&VLOOKUP(PTA!K25,AL_NUM_ARB,6,FALSE)))","v":"X"},{"$f":"IF(OR(PTA!L25=\"\",PTA!L25=\"X\"),\"X\",IF(PTA!L25=\"*\",\"*\",VLOOKUP(PTA!L25,AL_NUM_ARB,2,FALSE)&\" \"&VLOOKUP(PTA!L25,AL_NUM_ARB,4,FALSE)&\" \"&VLOOKUP(PTA!L25,AL_NUM_ARB,6,FALSE)))","v":"X"},{"$f":"IF(OR(PTA!M25=\"\",PTA!M25=\"X\"),\"X\",IF(PTA!M25=\"*\",\"*\",VLOOKUP(PTA!M25,AL_NUM_ARB,2,FALSE)&\" \"&VLOOKUP(PTA!M25,AL_NUM_ARB,4,FALSE)&\" \"&VLOOKUP(PTA!M25,AL_NUM_ARB,6,FALSE)))","v":"X"},{"$f":"IF(OR(PTA!N25=\"\",PTA!N25=\"X\"),\"X\",IF(PTA!N25=\"*\",\"*\",VLOOKUP(PTA!N25,AL_NUM_ARB,2,FALSE)&\" \"&VLOOKUP(PTA!N25,AL_NUM_ARB,4,FALSE)&\" \"&VLOOKUP(PTA!N25,AL_NUM_ARB,6,FALSE)))","v":"X"},{"$f":"IF(OR(PTA!O25=\"\",PTA!O25=\"X\"),\"X\",IF(PTA!O25=\"*\",\"*\",VLOOKUP(PTA!O25,AL_NUM_ARB,2,FALSE)&\" \"&VLOOKUP(PTA!O25,AL_NUM_ARB,4,FALSE)&\" \"&VLOOKUP(PTA!O25,AL_NUM_ARB,6,FALSE)))","v":"X"},{"$f":"IF(OR(PTA!P25=\"\",PTA!P25=\"X\"),\"X\",IF(PTA!P25=\"*\",\"*\",VLOOKUP(PTA!P25,AL_NUM_ARB,2,FALSE)&\" \"&VLOOKUP(PTA!P25,AL_NUM_ARB,4,FALSE)&\" \"&VLOOKUP(PTA!P25,AL_NUM_ARB,6,FALSE)))","v":"X"},{"$f":"IF(OR(PTA!Q25=\"\",PTA!Q25=\"X\"),\"X\",IF(PTA!Q25=\"*\",\"*\",VLOOKUP(PTA!Q25,AL_NUM_ARB,2,FALSE)&\" \"&VLOOKUP(PTA!Q25,AL_NUM_ARB,4,FALSE)&\" \"&VLOOKUP(PTA!Q25,AL_NUM_ARB,6,FALSE)))","v":"X"},{"$f":"IF(OR(PTA!R25=\"\",PTA!R25=\"X\"),\"X\",IF(PTA!R25=\"*\",\"*\",VLOOKUP(PTA!R25,AL_NUM_ARB,2,FALSE)&\" \"&VLOOKUP(PTA!R25,AL_NUM_ARB,4,FALSE)&\" \"&VLOOKUP(PTA!R25,AL_NUM_ARB,6,FALSE)))","v":"X"},{"$f":"IF(OR(PTA!S25=\"\",PTA!S25=\"X\"),\"X\",IF(PTA!S25=\"*\",\"*\",VLOOKUP(PTA!S25,AL_NUM_ARB,2,FALSE)&\" \"&VLOOKUP(PTA!S25,AL_NUM_ARB,4,FALSE)&\" \"&VLOOKUP(PTA!S25,AL_NUM_ARB,6,FALSE)))","v":"X"},{"$f":"IF(OR(PTA!T25=\"\",PTA!T25=\"X\"),\"X\",IF(PTA!T25=\"*\",\"*\",VLOOKUP(PTA!T25,AL_NUM_ARB,2,FALSE)&\" \"&VLOOKUP(PTA!T25,AL_NUM_ARB,4,FALSE)&\" \"&VLOOKUP(PTA!T25,AL_NUM_ARB,6,FALSE)))","v":"X"},{"$f":"IF(OR(PTA!U25=\"\",PTA!U25=\"X\"),\"X\",IF(PTA!U25=\"*\",\"*\",VLOOKUP(PTA!U25,AL_NUM_ARB,2,FALSE)&\" \"&VLOOKUP(PTA!U25,AL_NUM_ARB,4,FALSE)&\" \"&VLOOKUP(PTA!U25,AL_NUM_ARB,6,FALSE)))","v":"X"},{"$f":"IF(OR(PTA!V25=\"\",PTA!V25=\"X\"),\"X\",IF(PTA!V25=\"*\",\"*\",VLOOKUP(PTA!V25,AL_NUM_ARB,2,FALSE)&\" \"&VLOOKUP(PTA!V25,AL_NUM_ARB,4,FALSE)&\" \"&VLOOKUP(PTA!V25,AL_NUM_ARB,6,FALSE)))","v":"X"},{"$f":"IF(OR(PTA!W25=\"\",PTA!W25=\"X\"),\"X\",IF(PTA!W25=\"*\",\"*\",VLOOKUP(PTA!W25,AL_NUM_ARB,2,FALSE)&\" \"&VLOOKUP(PTA!W25,AL_NUM_ARB,4,FALSE)&\" \"&VLOOKUP(PTA!W25,AL_NUM_ARB,6,FALSE)))","v":"X"},{"$f":"IF(OR(PTA!X25=\"\",PTA!X25=\"X\"),\"X\",IF(PTA!X25=\"*\",\"*\",VLOOKUP(PTA!X25,AL_NUM_ARB,2,FALSE)&\" \"&VLOOKUP(PTA!X25,AL_NUM_ARB,4,FALSE)&\" \"&VLOOKUP(PTA!X25,AL_NUM_ARB,6,FALSE)))","v":"X"},{"$f":"IF(OR(PTA!Y25=\"\",PTA!Y25=\"X\"),\"X\",IF(PTA!Y25=\"*\",\"*\",VLOOKUP(PTA!Y25,AL_NUM_ARB,2,FALSE)&\" \"&VLOOKUP(PTA!Y25,AL_NUM_ARB,4,FALSE)&\" \"&VLOOKUP(PTA!Y25,AL_NUM_ARB,6,FALSE)))","v":"X"},{"$f":"IF(OR(PTA!Z25=\"\",PTA!Z25=\"X\"),\"X\",IF(PTA!Z25=\"*\",\"*\",VLOOKUP(PTA!Z25,AL_NUM_ARB,2,FALSE)&\" \"&VLOOKUP(PTA!Z25,AL_NUM_ARB,4,FALSE)&\" \"&VLOOKUP(PTA!Z25,AL_NUM_ARB,6,FALSE)))","v":"X"},{"$f":"IF(OR(PTA!AA25=\"\",PTA!AA25=\"X\"),\"X\",IF(PTA!AA25=\"*\",\"*\",VLOOKUP(PTA!AA25,AL_NUM_ARB,2,FALSE)&\" \"&VLOOKUP(PTA!AA25,AL_NUM_ARB,4,FALSE)&\" \"&VLOOKUP(PTA!AA25,AL_NUM_ARB,6,FALSE)))","v":"X"},{"$f":"IF(OR(PTA!AB25=\"\",PTA!AB25=\"X\"),\"X\",IF(PTA!AB25=\"*\",\"*\",VLOOKUP(PTA!AB25,AL_NUM_ARB,2,FALSE)&\" \"&VLOOKUP(PTA!AB25,AL_NUM_ARB,4,FALSE)&\" \"&VLOOKUP(PTA!AB25,AL_NUM_ARB,6,FALSE)))","v":"X"},{"$f":"IF(OR(PTA!AC25=\"\",PTA!AC25=\"X\"),\"X\",IF(PTA!AC25=\"*\",\"*\",VLOOKUP(PTA!AC25,AL_NUM_ARB,2,FALSE)&\" \"&VLOOKUP(PTA!AC25,AL_NUM_ARB,4,FALSE)&\" \"&VLOOKUP(PTA!AC25,AL_NUM_ARB,6,FALSE)))","v":"X"},{"$f":"IF(OR(PTA!AD25=\"\",PTA!AD25=\"X\"),\"X\",IF(PTA!AD25=\"*\",\"*\",VLOOKUP(PTA!AD25,AL_NUM_ARB,2,FALSE)&\" \"&VLOOKUP(PTA!AD25,AL_NUM_ARB,4,FALSE)&\" \"&VLOOKUP(PTA!AD25,AL_NUM_ARB,6,FALSE)))","v":"X"},{"$f":"IF(OR(PTA!AE25=\"\",PTA!AE25=\"X\"),\"X\",IF(PTA!AE25=\"*\",\"*\",VLOOKUP(PTA!AE25,AL_NUM_ARB,2,FALSE)&\" \"&VLOOKUP(PTA!AE25,AL_NUM_ARB,4,FALSE)&\" \"&VLOOKUP(PTA!AE25,AL_NUM_ARB,6,FALSE)))","v":"X"},{"$f":"IF(OR(PTA!AF25=\"\",PTA!AF25=\"X\"),\"X\",IF(PTA!AF25=\"*\",\"*\",VLOOKUP(PTA!AF25,AL_NUM_ARB,2,FALSE)&\" \"&VLOOKUP(PTA!AF25,AL_NUM_ARB,4,FALSE)&\" \"&VLOOKUP(PTA!AF25,AL_NUM_ARB,6,FALSE)))","v":"X"},{"$f":"IF(OR(PTA!AG25=\"\",PTA!AG25=\"X\"),\"X\",IF(PTA!AG25=\"*\",\"*\",VLOOKUP(PTA!AG25,AL_NUM_ARB,2,FALSE)&\" \"&VLOOKUP(PTA!AG25,AL_NUM_ARB,4,FALSE)&\" \"&VLOOKUP(PTA!AG25,AL_NUM_ARB,6,FALSE)))","v":"X"},{"$f":"IF(OR(PTA!AH25=\"\",PTA!AH25=\"X\"),\"X\",IF(PTA!AH25=\"*\",\"*\",VLOOKUP(PTA!AH25,AL_NUM_ARB,2,FALSE)&\" \"&VLOOKUP(PTA!AH25,AL_NUM_ARB,4,FALSE)&\" \"&VLOOKUP(PTA!AH25,AL_NUM_ARB,6,FALSE)))","v":"X"},{"$f":"IF(OR(PTA!AI25=\"\",PTA!AI25=\"X\"),\"X\",IF(PTA!AI25=\"*\",\"*\",VLOOKUP(PTA!AI25,AL_NUM_ARB,2,FALSE)&\" \"&VLOOKUP(PTA!AI25,AL_NUM_ARB,4,FALSE)&\" \"&VLOOKUP(PTA!AI25,AL_NUM_ARB,6,FALSE)))","v":"X"},{"$f":"IF(OR(PTA!AJ25=\"\",PTA!AJ25=\"X\"),\"X\",IF(PTA!AJ25=\"*\",\"*\",VLOOKUP(PTA!AJ25,AL_NUM_ARB,2,FALSE)&\" \"&VLOOKUP(PTA!AJ25,AL_NUM_ARB,4,FALSE)&\" \"&VLOOKUP(PTA!AJ25,AL_NUM_ARB,6,FALSE)))","v":"X"},{"$f":"IF(OR(PTA!AK25=\"\",PTA!AK25=\"X\"),\"X\",IF(PTA!AK25=\"*\",\"*\",VLOOKUP(PTA!AK25,AL_NUM_ARB,2,FALSE)&\" \"&VLOOKUP(PTA!AK25,AL_NUM_ARB,4,FALSE)&\" \"&VLOOKUP(PTA!AK25,AL_NUM_ARB,6,FALSE)))","v":"X"},{"$f":"IF(OR(PTA!AL25=\"\",PTA!AL25=\"X\"),\"X\",IF(PTA!AL25=\"*\",\"*\",VLOOKUP(PTA!AL25,AL_NUM_ARB,2,FALSE)&\" \"&VLOOKUP(PTA!AL25,AL_NUM_ARB,4,FALSE)&\" \"&VLOOKUP(PTA!AL25,AL_NUM_ARB,6,FALSE)))","v":"X"},{"$f":"IF(OR(PTA!AM25=\"\",PTA!AM25=\"X\"),\"X\",IF(PTA!AM25=\"*\",\"*\",VLOOKUP(PTA!AM25,AL_NUM_ARB,2,FALSE)&\" \"&VLOOKUP(PTA!AM25,AL_NUM_ARB,4,FALSE)&\" \"&VLOOKUP(PTA!AM25,AL_NUM_ARB,6,FALSE)))","v":"X"},{"$f":"IF(OR(PTA!AN25=\"\",PTA!AN25=\"X\"),\"X\",IF(PTA!AN25=\"*\",\"*\",VLOOKUP(PTA!AN25,AL_NUM_ARB,2,FALSE)&\" \"&VLOOKUP(PTA!AN25,AL_NUM_ARB,4,FALSE)&\" \"&VLOOKUP(PTA!AN25,AL_NUM_ARB,6,FALSE)))","v":"X"},{"$f":"IF(OR(PTA!AO25=\"\",PTA!AO25=\"X\"),\"X\",IF(PTA!AO25=\"*\",\"*\",VLOOKUP(PTA!AO25,AL_NUM_ARB,2,FALSE)&\" \"&VLOOKUP(PTA!AO25,AL_NUM_ARB,4,FALSE)&\" \"&VLOOKUP(PTA!AO25,AL_NUM_ARB,6,FALSE)))","v":"X"},{"$f":"IF(OR(PTA!AP25=\"\",PTA!AP25=\"X\"),\"X\",IF(PTA!AP25=\"*\",\"*\",VLOOKUP(PTA!AP25,AL_NUM_ARB,2,FALSE)&\" \"&VLOOKUP(PTA!AP25,AL_NUM_ARB,4,FALSE)&\" \"&VLOOKUP(PTA!AP25,AL_NUM_ARB,6,FALSE)))","v":"X"},{"$f":"IF(OR(PTA!AQ25=\"\",PTA!AQ25=\"X\"),\"X\",IF(PTA!AQ25=\"*\",\"*\",VLOOKUP(PTA!AQ25,AL_NUM_ARB,2,FALSE)&\" \"&VLOOKUP(PTA!AQ25,AL_NUM_ARB,4,FALSE)&\" \"&VLOOKUP(PTA!AQ25,AL_NUM_ARB,6,FALSE)))","v":"X"},{"$f":"IF(OR(PTA!AR25=\"\",PTA!AR25=\"X\"),\"X\",IF(PTA!AR25=\"*\",\"*\",VLOOKUP(PTA!AR25,AL_NUM_ARB,2,FALSE)&\" \"&VLOOKUP(PTA!AR25,AL_NUM_ARB,4,FALSE)&\" \"&VLOOKUP(PTA!AR25,AL_NUM_ARB,6,FALSE)))","v":"X"},{"$f":"IF(OR(PTA!AS25=\"\",PTA!AS25=\"X\"),\"X\",IF(PTA!AS25=\"*\",\"*\",VLOOKUP(PTA!AS25,AL_NUM_ARB,2,FALSE)&\" \"&VLOOKUP(PTA!AS25,AL_NUM_ARB,4,FALSE)&\" \"&VLOOKUP(PTA!AS25,AL_NUM_ARB,6,FALSE)))","v":"X"},{"$f":"IF(OR(PTA!AT25=\"\",PTA!AT25=\"X\"),\"X\",IF(PTA!AT25=\"*\",\"*\",VLOOKUP(PTA!AT25,AL_NUM_ARB,2,FALSE)&\" \"&VLOOKUP(PTA!AT25,AL_NUM_ARB,4,FALSE)&\" \"&VLOOKUP(PTA!AT25,AL_NUM_ARB,6,FALSE)))","v":"X"},{"$f":"IF(OR(PTA!AU25=\"\",PTA!AU25=\"X\"),\"X\",IF(PTA!AU25=\"*\",\"*\",VLOOKUP(PTA!AU25,AL_NUM_ARB,2,FALSE)&\" \"&VLOOKUP(PTA!AU25,AL_NUM_ARB,4,FALSE)&\" \"&VLOOKUP(PTA!AU25,AL_NUM_ARB,6,FALSE)))","v":"X"},{"$f":"IF(OR(PTA!AV25=\"\",PTA!AV25=\"X\"),\"X\",IF(PTA!AV25=\"*\",\"*\",VLOOKUP(PTA!AV25,AL_NUM_ARB,2,FALSE)&\" \"&VLOOKUP(PTA!AV25,AL_NUM_ARB,4,FALSE)&\" \"&VLOOKUP(PTA!AV25,AL_NUM_ARB,6,FALSE)))","v":"X"},{"$f":"IF(OR(PTA!AW25=\"\",PTA!AW25=\"X\"),\"X\",IF(PTA!AW25=\"*\",\"*\",VLOOKUP(PTA!AW25,AL_NUM_ARB,2,FALSE)&\" \"&VLOOKUP(PTA!AW25,AL_NUM_ARB,4,FALSE)&\" \"&VLOOKUP(PTA!AW25,AL_NUM_ARB,6,FALSE)))","v":"X"},{"$f":"IF(OR(PTA!AX25=\"\",PTA!AX25=\"X\"),\"X\",IF(PTA!AX25=\"*\",\"*\",VLOOKUP(PTA!AX25,AL_NUM_ARB,2,FALSE)&\" \"&VLOOKUP(PTA!AX25,AL_NUM_ARB,4,FALSE)&\" \"&VLOOKUP(PTA!AX25,AL_NUM_ARB,6,FALSE)))","v":"X"},{"$f":"IF(OR(PTA!AY25=\"\",PTA!AY25=\"X\"),\"X\",IF(PTA!AY25=\"*\",\"*\",VLOOKUP(PTA!AY25,AL_NUM_ARB,2,FALSE)&\" \"&VLOOKUP(PTA!AY25,AL_NUM_ARB,4,FALSE)&\" \"&VLOOKUP(PTA!AY25,AL_NUM_ARB,6,FALSE)))","v":"X"},{"$f":"IF(OR(PTA!AZ25=\"\",PTA!AZ25=\"X\"),\"X\",IF(PTA!AZ25=\"*\",\"*\",VLOOKUP(PTA!AZ25,AL_NUM_ARB,2,FALSE)&\" \"&VLOOKUP(PTA!AZ25,AL_NUM_ARB,4,FALSE)&\" \"&VLOOKUP(PTA!AZ25,AL_NUM_ARB,6,FALSE)))","v":"X"},{"$f":"IF(OR(PTA!BA25=\"\",PTA!BA25=\"X\"),\"X\",IF(PTA!BA25=\"*\",\"*\",VLOOKUP(PTA!BA25,AL_NUM_ARB,2,FALSE)&\" \"&VLOOKUP(PTA!BA25,AL_NUM_ARB,4,FALSE)&\" \"&VLOOKUP(PTA!BA25,AL_NUM_ARB,6,FALSE)))","v":"X"},{"$f":"IF(OR(PTA!BB25=\"\",PTA!BB25=\"X\"),\"X\",IF(PTA!BB25=\"*\",\"*\",VLOOKUP(PTA!BB25,AL_NUM_ARB,2,FALSE)&\" \"&VLOOKUP(PTA!BB25,AL_NUM_ARB,4,FALSE)&\" \"&VLOOKUP(PTA!BB25,AL_NUM_ARB,6,FALSE)))","v":"X"},{"$f":"IF(OR(PTA!BC25=\"\",PTA!BC25=\"X\"),\"X\",IF(PTA!BC25=\"*\",\"*\",VLOOKUP(PTA!BC25,AL_NUM_ARB,2,FALSE)&\" \"&VLOOKUP(PTA!BC25,AL_NUM_ARB,4,FALSE)&\" \"&VLOOKUP(PTA!BC25,AL_NUM_ARB,6,FALSE)))","v":"X"},{"$f":"IF(OR(PTA!BD25=\"\",PTA!BD25=\"X\"),\"X\",IF(PTA!BD25=\"*\",\"*\",VLOOKUP(PTA!BD25,AL_NUM_ARB,2,FALSE)&\" \"&VLOOKUP(PTA!BD25,AL_NUM_ARB,4,FALSE)&\" \"&VLOOKUP(PTA!BD25,AL_NUM_ARB,6,FALSE)))","v":"X"},{"$f":"IF(OR(PTA!BE25=\"\",PTA!BE25=\"X\"),\"X\",IF(PTA!BE25=\"*\",\"*\",VLOOKUP(PTA!BE25,AL_NUM_ARB,2,FALSE)&\" \"&VLOOKUP(PTA!BE25,AL_NUM_ARB,4,FALSE)&\" \"&VLOOKUP(PTA!BE25,AL_NUM_ARB,6,FALSE)))","v":"X"},{"$f":"IF(OR(PTA!BF25=\"\",PTA!BF25=\"X\"),\"X\",IF(PTA!BF25=\"*\",\"*\",VLOOKUP(PTA!BF25,AL_NUM_ARB,2,FALSE)&\" \"&VLOOKUP(PTA!BF25,AL_NUM_ARB,4,FALSE)&\" \"&VLOOKUP(PTA!BF25,AL_NUM_ARB,6,FALSE)))","v":"X"},{"$f":"IF(OR(PTA!BG25=\"\",PTA!BG25=\"X\"),\"X\",IF(PTA!BG25=\"*\",\"*\",VLOOKUP(PTA!BG25,AL_NUM_ARB,2,FALSE)&\" \"&VLOOKUP(PTA!BG25,AL_NUM_ARB,4,FALSE)&\" \"&VLOOKUP(PTA!BG25,AL_NUM_ARB,6,FALSE)))","v":"X"},{"$f":"IF(OR(PTA!BH25=\"\",PTA!BH25=\"X\"),\"X\",IF(PTA!BH25=\"*\",\"*\",VLOOKUP(PTA!BH25,AL_NUM_ARB,2,FALSE)&\" \"&VLOOKUP(PTA!BH25,AL_NUM_ARB,4,FALSE)&\" \"&VLOOKUP(PTA!BH25,AL_NUM_ARB,6,FALSE)))","v":"X"},{"$f":"IF(OR(PTA!BI25=\"\",PTA!BI25=\"X\"),\"X\",IF(PTA!BI25=\"*\",\"*\",VLOOKUP(PTA!BI25,AL_NUM_ARB,2,FALSE)&\" \"&VLOOKUP(PTA!BI25,AL_NUM_ARB,4,FALSE)&\" \"&VLOOKUP(PTA!BI25,AL_NUM_ARB,6,FALSE)))","v":"X"},{"$f":"IF(OR(PTA!BJ25=\"\",PTA!BJ25=\"X\"),\"X\",IF(PTA!BJ25=\"*\",\"*\",VLOOKUP(PTA!BJ25,AL_NUM_ARB,2,FALSE)&\" \"&VLOOKUP(PTA!BJ25,AL_NUM_ARB,4,FALSE)&\" \"&VLOOKUP(PTA!BJ25,AL_NUM_ARB,6,FALSE)))","v":"X"},{"$f":"IF(OR(PTA!BK25=\"\",PTA!BK25=\"X\"),\"X\",IF(PTA!BK25=\"*\",\"*\",VLOOKUP(PTA!BK25,AL_NUM_ARB,2,FALSE)&\" \"&VLOOKUP(PTA!BK25,AL_NUM_ARB,4,FALSE)&\" \"&VLOOKUP(PTA!BK25,AL_NUM_ARB,6,FALSE)))","v":"X"},{"$f":"IF(OR(PTA!BL25=\"\",PTA!BL25=\"X\"),\"X\",IF(PTA!BL25=\"*\",\"*\",VLOOKUP(PTA!BL25,AL_NUM_ARB,2,FALSE)&\" \"&VLOOKUP(PTA!BL25,AL_NUM_ARB,4,FALSE)&\" \"&VLOOKUP(PTA!BL25,AL_NUM_ARB,6,FALSE)))","v":"X"},{"$f":"IF(OR(PTA!BM25=\"\",PTA!BM25=\"X\"),\"X\",IF(PTA!BM25=\"*\",\"*\",VLOOKUP(PTA!BM25,AL_NUM_ARB,2,FALSE)&\" \"&VLOOKUP(PTA!BM25,AL_NUM_ARB,4,FALSE)&\" \"&VLOOKUP(PTA!BM25,AL_NUM_ARB,6,FALSE)))","v":"X"},{"$f":"IF(OR(PTA!BN25=\"\",PTA!BN25=\"X\"),\"X\",IF(PTA!BN25=\"*\",\"*\",VLOOKUP(PTA!BN25,AL_NUM_ARB,2,FALSE)&\" \"&VLOOKUP(PTA!BN25,AL_NUM_ARB,4,FALSE)&\" \"&VLOOKUP(PTA!BN25,AL_NUM_ARB,6,FALSE)))","v":"X"},{"$f":"IF(OR(PTA!BO25=\"\",PTA!BO25=\"X\"),\"X\",IF(PTA!BO25=\"*\",\"*\",VLOOKUP(PTA!BO25,AL_NUM_ARB,2,FALSE)&\" \"&VLOOKUP(PTA!BO25,AL_NUM_ARB,4,FALSE)&\" \"&VLOOKUP(PTA!BO25,AL_NUM_ARB,6,FALSE)))","v":"X"},{"$f":"IF(OR(PTA!BP25=\"\",PTA!BP25=\"X\"),\"X\",IF(PTA!BP25=\"*\",\"*\",VLOOKUP(PTA!BP25,AL_NUM_ARB,2,FALSE)&\" \"&VLOOKUP(PTA!BP25,AL_NUM_ARB,4,FALSE)&\" \"&VLOOKUP(PTA!BP25,AL_NUM_ARB,6,FALSE)))","v":"X"},{"$f":"IF(OR(PTA!BQ25=\"\",PTA!BQ25=\"X\"),\"X\",IF(PTA!BQ25=\"*\",\"*\",VLOOKUP(PTA!BQ25,AL_NUM_ARB,2,FALSE)&\" \"&VLOOKUP(PTA!BQ25,AL_NUM_ARB,4,FALSE)&\" \"&VLOOKUP(PTA!BQ25,AL_NUM_ARB,6,FALSE)))","v":"X"},{"$f":"IF(OR(PTA!BR25=\"\",PTA!BR25=\"X\"),\"X\",IF(PTA!BR25=\"*\",\"*\",VLOOKUP(PTA!BR25,AL_NUM_ARB,2,FALSE)&\" \"&VLOOKUP(PTA!BR25,AL_NUM_ARB,4,FALSE)&\" \"&VLOOKUP(PTA!BR25,AL_NUM_ARB,6,FALSE)))","v":"X"},{"$f":"IF(OR(PTA!BT25=\"\",PTA!BT25=\"X\"),\"X\",VLOOKUP(PTA!BT25,AL_NUM_ARB,2,FALSE)&\" \"&VLOOKUP(PTA!BT25,AL_NUM_ARB,4,FALSE)&\" \"&VLOOKUP(PTA!BT25,AL_NUM_ARB,6,FALSE))","v":"X"},{"$f":"IF(OR(PTA!BU25=\"\",PTA!BU25=\"X\"),\"X\",VLOOKUP(PTA!BU25,AL_NUM_ARB,2,FALSE)&\" \"&VLOOKUP(PTA!BU25,AL_NUM_ARB,4,FALSE)&\" \"&VLOOKUP(PTA!BU25,AL_NUM_ARB,6,FALSE))","v":"X"},{"$f":"IF(OR(PTA!BV25=\"\",PTA!BV25=\"X\"),\"X\",VLOOKUP(PTA!BV25,AL_NUM_ARB,2,FALSE)&\" \"&VLOOKUP(PTA!BV25,AL_NUM_ARB,4,FALSE)&\" \"&VLOOKUP(PTA!BV25,AL_NUM_ARB,6,FALSE))","v":"X"},{"$f":"IF(OR(PTA!BW25=\"\",PTA!BW25=\"X\"),\"X\",VLOOKUP(PTA!BW25,AL_NUM_ARB,2,FALSE)&\" \"&VLOOKUP(PTA!BW25,AL_NUM_ARB,4,FALSE)&\" \"&VLOOKUP(PTA!BW25,AL_NUM_ARB,6,FALSE))","v":"X"},"08:00:00"]
[{"$f":"PTA!A26","v":""},{"$f":"PTA!B26","v":"00:00:00"},{"$f":"PTA!C26","v":32},{"$f":"PTA!D26","v":0},{"$f":"IF(OR(PTA!E26=\"\",PTA!E26=\"X\"),\"X\",IF(PTA!E26=\"*\",\"*\",VLOOKUP(PTA!E26,AL_NUM_ARB,2,FALSE)&\" \"&VLOOKUP(PTA!E26,AL_NUM_ARB,4,FALSE)&\" \"&VLOOKUP(PTA!E26,AL_NUM_ARB,6,FALSE)))","v":"X"},{"$f":"IF(OR(PTA!F26=\"\",PTA!F26=\"X\"),\"X\",IF(PTA!F26=\"*\",\"*\",VLOOKUP(PTA!F26,AL_NUM_ARB,2,FALSE)&\" \"&VLOOKUP(PTA!F26,AL_NUM_ARB,4,FALSE)&\" \"&VLOOKUP(PTA!F26,AL_NUM_ARB,6,FALSE)))","v":"X"},{"$f":"IF(OR(PTA!G26=\"\",PTA!G26=\"X\"),\"X\",IF(PTA!G26=\"*\",\"*\",VLOOKUP(PTA!G26,AL_NUM_ARB,2,FALSE)&\" \"&VLOOKUP(PTA!G26,AL_NUM_ARB,4,FALSE)&\" \"&VLOOKUP(PTA!G26,AL_NUM_ARB,6,FALSE)))","v":"X"},{"$f":"IF(OR(PTA!H26=\"\",PTA!H26=\"X\"),\"X\",IF(PTA!H26=\"*\",\"*\",VLOOKUP(PTA!H26,AL_NUM_ARB,2,FALSE)&\" \"&VLOOKUP(PTA!H26,AL_NUM_ARB,4,FALSE)&\" \"&VLOOKUP(PTA!H26,AL_NUM_ARB,6,FALSE)))","v":"X"},{"$f":"IF(OR(PTA!I26=\"\",PTA!I26=\"X\"),\"X\",IF(PTA!I26=\"*\",\"*\",VLOOKUP(PTA!I26,AL_NUM_ARB,2,FALSE)&\" \"&VLOOKUP(PTA!I26,AL_NUM_ARB,4,FALSE)&\" \"&VLOOKUP(PTA!I26,AL_NUM_ARB,6,FALSE)))","v":"X"},{"$f":"IF(OR(PTA!J26=\"\",PTA!J26=\"X\"),\"X\",IF(PTA!J26=\"*\",\"*\",VLOOKUP(PTA!J26,AL_NUM_ARB,2,FALSE)&\" \"&VLOOKUP(PTA!J26,AL_NUM_ARB,4,FALSE)&\" \"&VLOOKUP(PTA!J26,AL_NUM_ARB,6,FALSE)))","v":"X"},{"$f":"IF(OR(PTA!K26=\"\",PTA!K26=\"X\"),\"X\",IF(PTA!K26=\"*\",\"*\",VLOOKUP(PTA!K26,AL_NUM_ARB,2,FALSE)&\" \"&VLOOKUP(PTA!K26,AL_NUM_ARB,4,FALSE)&\" \"&VLOOKUP(PTA!K26,AL_NUM_ARB,6,FALSE)))","v":"X"},{"$f":"IF(OR(PTA!L26=\"\",PTA!L26=\"X\"),\"X\",IF(PTA!L26=\"*\",\"*\",VLOOKUP(PTA!L26,AL_NUM_ARB,2,FALSE)&\" \"&VLOOKUP(PTA!L26,AL_NUM_ARB,4,FALSE)&\" \"&VLOOKUP(PTA!L26,AL_NUM_ARB,6,FALSE)))","v":"X"},{"$f":"IF(OR(PTA!M26=\"\",PTA!M26=\"X\"),\"X\",IF(PTA!M26=\"*\",\"*\",VLOOKUP(PTA!M26,AL_NUM_ARB,2,FALSE)&\" \"&VLOOKUP(PTA!M26,AL_NUM_ARB,4,FALSE)&\" \"&VLOOKUP(PTA!M26,AL_NUM_ARB,6,FALSE)))","v":"X"},{"$f":"IF(OR(PTA!N26=\"\",PTA!N26=\"X\"),\"X\",IF(PTA!N26=\"*\",\"*\",VLOOKUP(PTA!N26,AL_NUM_ARB,2,FALSE)&\" \"&VLOOKUP(PTA!N26,AL_NUM_ARB,4,FALSE)&\" \"&VLOOKUP(PTA!N26,AL_NUM_ARB,6,FALSE)))","v":"X"},{"$f":"IF(OR(PTA!O26=\"\",PTA!O26=\"X\"),\"X\",IF(PTA!O26=\"*\",\"*\",VLOOKUP(PTA!O26,AL_NUM_ARB,2,FALSE)&\" \"&VLOOKUP(PTA!O26,AL_NUM_ARB,4,FALSE)&\" \"&VLOOKUP(PTA!O26,AL_NUM_ARB,6,FALSE)))","v":"X"},{"$f":"IF(OR(PTA!P26=\"\",PTA!P26=\"X\"),\"X\",IF(PTA!P26=\"*\",\"*\",VLOOKUP(PTA!P26,AL_NUM_ARB,2,FALSE)&\" \"&VLOOKUP(PTA!P26,AL_NUM_ARB,4,FALSE)&\" \"&VLOOKUP(PTA!P26,AL_NUM_ARB,6,FALSE)))","v":"X"},{"$f":"IF(OR(PTA!Q26=\"\",PTA!Q26=\"X\"),\"X\",IF(PTA!Q26=\"*\",\"*\",VLOOKUP(PTA!Q26,AL_NUM_ARB,2,FALSE)&\" \"&VLOOKUP(PTA!Q26,AL_NUM_ARB,4,FALSE)&\" \"&VLOOKUP(PTA!Q26,AL_NUM_ARB,6,FALSE)))","v":"X"},{"$f":"IF(OR(PTA!R26=\"\",PTA!R26=\"X\"),\"X\",IF(PTA!R26=\"*\",\"*\",VLOOKUP(PTA!R26,AL_NUM_ARB,2,FALSE)&\" \"&VLOOKUP(PTA!R26,AL_NUM_ARB,4,FALSE)&\" \"&VLOOKUP(PTA!R26,AL_NUM_ARB,6,FALSE)))","v":"X"},{"$f":"IF(OR(PTA!S26=\"\",PTA!S26=\"X\"),\"X\",IF(PTA!S26=\"*\",\"*\",VLOOKUP(PTA!S26,AL_NUM_ARB,2,FALSE)&\" \"&VLOOKUP(PTA!S26,AL_NUM_ARB,4,FALSE)&\" \"&VLOOKUP(PTA!S26,AL_NUM_ARB,6,FALSE)))","v":"X"},{"$f":"IF(OR(PTA!T26=\"\",PTA!T26=\"X\"),\"X\",IF(PTA!T26=\"*\",\"*\",VLOOKUP(PTA!T26,AL_NUM_ARB,2,FALSE)&\" \"&VLOOKUP(PTA!T26,AL_NUM_ARB,4,FALSE)&\" \"&VLOOKUP(PTA!T26,AL_NUM_ARB,6,FALSE)))","v":"X"},{"$f":"IF(OR(PTA!U26=\"\",PTA!U26=\"X\"),\"X\",IF(PTA!U26=\"*\",\"*\",VLOOKUP(PTA!U26,AL_NUM_ARB,2,FALSE)&\" \"&VLOOKUP(PTA!U26,AL_NUM_ARB,4,FALSE)&\" \"&VLOOKUP(PTA!U26,AL_NUM_ARB,6,FALSE)))","v":"X"},{"$f":"IF(OR(PTA!V26=\"\",PTA!V26=\"X\"),\"X\",IF(PTA!V26=\"*\",\"*\",VLOOKUP(PTA!V26,AL_NUM_ARB,2,FALSE)&\" \"&VLOOKUP(PTA!V26,AL_NUM_ARB,4,FALSE)&\" \"&VLOOKUP(PTA!V26,AL_NUM_ARB,6,FALSE)))","v":"X"},{"$f":"IF(OR(PTA!W26=\"\",PTA!W26=\"X\"),\"X\",IF(PTA!W26=\"*\",\"*\",VLOOKUP(PTA!W26,AL_NUM_ARB,2,FALSE)&\" \"&VLOOKUP(PTA!W26,AL_NUM_ARB,4,FALSE)&\" \"&VLOOKUP(PTA!W26,AL_NUM_ARB,6,FALSE)))","v":"X"},{"$f":"IF(OR(PTA!X26=\"\",PTA!X26=\"X\"),\"X\",IF(PTA!X26=\"*\",\"*\",VLOOKUP(PTA!X26,AL_NUM_ARB,2,FALSE)&\" \"&VLOOKUP(PTA!X26,AL_NUM_ARB,4,FALSE)&\" \"&VLOOKUP(PTA!X26,AL_NUM_ARB,6,FALSE)))","v":"X"},{"$f":"IF(OR(PTA!Y26=\"\",PTA!Y26=\"X\"),\"X\",IF(PTA!Y26=\"*\",\"*\",VLOOKUP(PTA!Y26,AL_NUM_ARB,2,FALSE)&\" \"&VLOOKUP(PTA!Y26,AL_NUM_ARB,4,FALSE)&\" \"&VLOOKUP(PTA!Y26,AL_NUM_ARB,6,FALSE)))","v":"X"},{"$f":"IF(OR(PTA!Z26=\"\",PTA!Z26=\"X\"),\"X\",IF(PTA!Z26=\"*\",\"*\",VLOOKUP(PTA!Z26,AL_NUM_ARB,2,FALSE)&\" \"&VLOOKUP(PTA!Z26,AL_NUM_ARB,4,FALSE)&\" \"&VLOOKUP(PTA!Z26,AL_NUM_ARB,6,FALSE)))","v":"X"},{"$f":"IF(OR(PTA!AA26=\"\",PTA!AA26=\"X\"),\"X\",IF(PTA!AA26=\"*\",\"*\",VLOOKUP(PTA!AA26,AL_NUM_ARB,2,FALSE)&\" \"&VLOOKUP(PTA!AA26,AL_NUM_ARB,4,FALSE)&\" \"&VLOOKUP(PTA!AA26,AL_NUM_ARB,6,FALSE)))","v":"X"},{"$f":"IF(OR(PTA!AB26=\"\",PTA!AB26=\"X\"),\"X\",IF(PTA!AB26=\"*\",\"*\",VLOOKUP(PTA!AB26,AL_NUM_ARB,2,FALSE)&\" \"&VLOOKUP(PTA!AB26,AL_NUM_ARB,4,FALSE)&\" \"&VLOOKUP(PTA!AB26,AL_NUM_ARB,6,FALSE)))","v":"X"},{"$f":"IF(OR(PTA!AC26=\"\",PTA!AC26=\"X\"),\"X\",IF(PTA!AC26=\"*\",\"*\",VLOOKUP(PTA!AC26,AL_NUM_ARB,2,FALSE)&\" \"&VLOOKUP(PTA!AC26,AL_NUM_ARB,4,FALSE)&\" \"&VLOOKUP(PTA!AC26,AL_NUM_ARB,6,FALSE)))","v":"X"},{"$f":"IF(OR(PTA!AD26=\"\",PTA!AD26=\"X\"),\"X\",IF(PTA!AD26=\"*\",\"*\",VLOOKUP(PTA!AD26,AL_NUM_ARB,2,FALSE)&\" \"&VLOOKUP(PTA!AD26,AL_NUM_ARB,4,FALSE)&\" \"&VLOOKUP(PTA!AD26,AL_NUM_ARB,6,FALSE)))","v":"X"},{"$f":"IF(OR(PTA!AE26=\"\",PTA!AE26=\"X\"),\"X\",IF(PTA!AE26=\"*\",\"*\",VLOOKUP(PTA!AE26,AL_NUM_ARB,2,FALSE)&\" \"&VLOOKUP(PTA!AE26,AL_NUM_ARB,4,FALSE)&\" \"&VLOOKUP(PTA!AE26,AL_NUM_ARB,6,FALSE)))","v":"X"},{"$f":"IF(OR(PTA!AF26=\"\",PTA!AF26=\"X\"),\"X\",IF(PTA!AF26=\"*\",\"*\",VLOOKUP(PTA!AF26,AL_NUM_ARB,2,FALSE)&\" \"&VLOOKUP(PTA!AF26,AL_NUM_ARB,4,FALSE)&\" \"&VLOOKUP(PTA!AF26,AL_NUM_ARB,6,FALSE)))","v":"X"},{"$f":"IF(OR(PTA!AG26=\"\",PTA!AG26=\"X\"),\"X\",IF(PTA!AG26=\"*\",\"*\",VLOOKUP(PTA!AG26,AL_NUM_ARB,2,FALSE)&\" \"&VLOOKUP(PTA!AG26,AL_NUM_ARB,4,FALSE)&\" \"&VLOOKUP(PTA!AG26,AL_NUM_ARB,6,FALSE)))","v":"X"},{"$f":"IF(OR(PTA!AH26=\"\",PTA!AH26=\"X\"),\"X\",IF(PTA!AH26=\"*\",\"*\",VLOOKUP(PTA!AH26,AL_NUM_ARB,2,FALSE)&\" \"&VLOOKUP(PTA!AH26,AL_NUM_ARB,4,FALSE)&\" \"&VLOOKUP(PTA!AH26,AL_NUM_ARB,6,FALSE)))","v":"X"},{"$f":"IF(OR(PTA!AI26=\"\",PTA!AI26=\"X\"),\"X\",IF(PTA!AI26=\"*\",\"*\",VLOOKUP(PTA!AI26,AL_NUM_ARB,2,FALSE)&\" \"&VLOOKUP(PTA!AI26,AL_NUM_ARB,4,FALSE)&\" \"&VLOOKUP(PTA!AI26,AL_NUM_ARB,6,FALSE)))","v":"X"},{"$f":"IF(OR(PTA!AJ26=\"\",PTA!AJ26=\"X\"),\"X\",IF(PTA!AJ26=\"*\",\"*\",VLOOKUP(PTA!AJ26,AL_NUM_ARB,2,FALSE)&\" \"&VLOOKUP(PTA!AJ26,AL_NUM_ARB,4,FALSE)&\" \"&VLOOKUP(PTA!AJ26,AL_NUM_ARB,6,FALSE)))","v":"X"},{"$f":"IF(OR(PTA!AK26=\"\",PTA!AK26=\"X\"),\"X\",IF(PTA!AK26=\"*\",\"*\",VLOOKUP(PTA!AK26,AL_NUM_ARB,2,FALSE)&\" \"&VLOOKUP(PTA!AK26,AL_NUM_ARB,4,FALSE)&\" \"&VLOOKUP(PTA!AK26,AL_NUM_ARB,6,FALSE)))","v":"X"},{"$f":"IF(OR(PTA!AL26=\"\",PTA!AL26=\"X\"),\"X\",IF(PTA!AL26=\"*\",\"*\",VLOOKUP(PTA!AL26,AL_NUM_ARB,2,FALSE)&\" \"&VLOOKUP(PTA!AL26,AL_NUM_ARB,4,FALSE)&\" \"&VLOOKUP(PTA!AL26,AL_NUM_ARB,6,FALSE)))","v":"X"},{"$f":"IF(OR(PTA!AM26=\"\",PTA!AM26=\"X\"),\"X\",IF(PTA!AM26=\"*\",\"*\",VLOOKUP(PTA!AM26,AL_NUM_ARB,2,FALSE)&\" \"&VLOOKUP(PTA!AM26,AL_NUM_ARB,4,FALSE)&\" \"&VLOOKUP(PTA!AM26,AL_NUM_ARB,6,FALSE)))","v":"X"},{"$f":"IF(OR(PTA!AN26=\"\",PTA!AN26=\"X\"),\"X\",IF(PTA!AN26=\"*\",\"*\",VLOOKUP(PTA!AN26,AL_NUM_ARB,2,FALSE)&\" \"&VLOOKUP(PTA!AN26,AL_NUM_ARB,4,FALSE)&\" \"&VLOOKUP(PTA!AN26,AL_NUM_ARB,6,FALSE)))","v":"X"},{"$f":"IF(OR(PTA!AO26=\"\",PTA!AO26=\"X\"),\"X\",IF(PTA!AO26=\"*\",\"*\",VLOOKUP(PTA!AO26,AL_NUM_ARB,2,FALSE)&\" \"&VLOOKUP(PTA!AO26,AL_NUM_ARB,4,FALSE)&\" \"&VLOOKUP(PTA!AO26,AL_NUM_ARB,6,FALSE)))","v":"X"},{"$f":"IF(OR(PTA!AP26=\"\",PTA!AP26=\"X\"),\"X\",IF(PTA!AP26=\"*\",\"*\",VLOOKUP(PTA!AP26,AL_NUM_ARB,2,FALSE)&\" \"&VLOOKUP(PTA!AP26,AL_NUM_ARB,4,FALSE)&\" \"&VLOOKUP(PTA!AP26,AL_NUM_ARB,6,FALSE)))","v":"X"},{"$f":"IF(OR(PTA!AQ26=\"\",PTA!AQ26=\"X\"),\"X\",IF(PTA!AQ26=\"*\",\"*\",VLOOKUP(PTA!AQ26,AL_NUM_ARB,2,FALSE)&\" \"&VLOOKUP(PTA!AQ26,AL_NUM_ARB,4,FALSE)&\" \"&VLOOKUP(PTA!AQ26,AL_NUM_ARB,6,FALSE)))","v":"X"},{"$f":"IF(OR(PTA!AR26=\"\",PTA!AR26=\"X\"),\"X\",IF(PTA!AR26=\"*\",\"*\",VLOOKUP(PTA!AR26,AL_NUM_ARB,2,FALSE)&\" \"&VLOOKUP(PTA!AR26,AL_NUM_ARB,4,FALSE)&\" \"&VLOOKUP(PTA!AR26,AL_NUM_ARB,6,FALSE)))","v":"X"},{"$f":"IF(OR(PTA!AS26=\"\",PTA!AS26=\"X\"),\"X\",IF(PTA!AS26=\"*\",\"*\",VLOOKUP(PTA!AS26,AL_NUM_ARB,2,FALSE)&\" \"&VLOOKUP(PTA!AS26,AL_NUM_ARB,4,FALSE)&\" \"&VLOOKUP(PTA!AS26,AL_NUM_ARB,6,FALSE)))","v":"X"},{"$f":"IF(OR(PTA!AT26=\"\",PTA!AT26=\"X\"),\"X\",IF(PTA!AT26=\"*\",\"*\",VLOOKUP(PTA!AT26,AL_NUM_ARB,2,FALSE)&\" \"&VLOOKUP(PTA!AT26,AL_NUM_ARB,4,FALSE)&\" \"&VLOOKUP(PTA!AT26,AL_NUM_ARB,6,FALSE)))","v":"X"},{"$f":"IF(OR(PTA!AU26=\"\",PTA!AU26=\"X\"),\"X\",IF(PTA!AU26=\"*\",\"*\",VLOOKUP(PTA!AU26,AL_NUM_ARB,2,FALSE)&\" \"&VLOOKUP(PTA!AU26,AL_NUM_ARB,4,FALSE)&\" \"&VLOOKUP(PTA!AU26,AL_NUM_ARB,6,FALSE)))","v":"X"},{"$f":"IF(OR(PTA!AV26=\"\",PTA!AV26=\"X\"),\"X\",IF(PTA!AV26=\"*\",\"*\",VLOOKUP(PTA!AV26,AL_NUM_ARB,2,FALSE)&\" \"&VLOOKUP(PTA!AV26,AL_NUM_ARB,4,FALSE)&\" \"&VLOOKUP(PTA!AV26,AL_NUM_ARB,6,FALSE)))","v":"X"},{"$f":"IF(OR(PTA!AW26=\"\",PTA!AW26=\"X\"),\"X\",IF(PTA!AW26=\"*\",\"*\",VLOOKUP(PTA!AW26,AL_NUM_ARB,2,FALSE)&\" \"&VLOOKUP(PTA!AW26,AL_NUM_ARB,4,FALSE)&\" \"&VLOOKUP(PTA!AW26,AL_NUM_ARB,6,FALSE)))","v":"X"},{"$f":"IF(OR(PTA!AX26=\"\",PTA!AX26=\"X\"),\"X\",IF(PTA!AX26=\"*\",\"*\",VLOOKUP(PTA!AX26,AL_NUM_ARB,2,FALSE)&\" \"&VLOOKUP(PTA!AX26,AL_NUM_ARB,4,FALSE)&\" \"&VLOOKUP(PTA!AX26,AL_NUM_ARB,6,FALSE)))","v":"X"},{"$f":"IF(OR(PTA!AY26=\"\",PTA!AY26=\"X\"),\"X\",IF(PTA!AY26=\"*\",\"*\",VLOOKUP(PTA!AY26,AL_NUM_ARB,2,FALSE)&\" \"&VLOOKUP(PTA!AY26,AL_NUM_ARB,4,FALSE)&\" \"&VLOOKUP(PTA!AY26,AL_NUM_ARB,6,FALSE)))","v":"X"},{"$f":"IF(OR(PTA!AZ26=\"\",PTA!AZ26=\"X\"),\"X\",IF(PTA!AZ26=\"*\",\"*\",VLOOKUP(PTA!AZ26,AL_NUM_ARB,2,FALSE)&\" \"&VLOOKUP(PTA!AZ26,AL_NUM_ARB,4,FALSE)&\" \"&VLOOKUP(PTA!AZ26,AL_NUM_ARB,6,FALSE)))","v":"X"},{"$f":"IF(OR(PTA!BA26=\"\",PTA!BA26=\"X\"),\"X\",IF(PTA!BA26=\"*\",\"*\",VLOOKUP(PTA!BA26,AL_NUM_ARB,2,FALSE)&\" \"&VLOOKUP(PTA!BA26,AL_NUM_ARB,4,FALSE)&\" \"&VLOOKUP(PTA!BA26,AL_NUM_ARB,6,FALSE)))","v":"X"},{"$f":"IF(OR(PTA!BB26=\"\",PTA!BB26=\"X\"),\"X\",IF(PTA!BB26=\"*\",\"*\",VLOOKUP(PTA!BB26,AL_NUM_ARB,2,FALSE)&\" \"&VLOOKUP(PTA!BB26,AL_NUM_ARB,4,FALSE)&\" \"&VLOOKUP(PTA!BB26,AL_NUM_ARB,6,FALSE)))","v":"X"},{"$f":"IF(OR(PTA!BC26=\"\",PTA!BC26=\"X\"),\"X\",IF(PTA!BC26=\"*\",\"*\",VLOOKUP(PTA!BC26,AL_NUM_ARB,2,FALSE)&\" \"&VLOOKUP(PTA!BC26,AL_NUM_ARB,4,FALSE)&\" \"&VLOOKUP(PTA!BC26,AL_NUM_ARB,6,FALSE)))","v":"X"},{"$f":"IF(OR(PTA!BD26=\"\",PTA!BD26=\"X\"),\"X\",IF(PTA!BD26=\"*\",\"*\",VLOOKUP(PTA!BD26,AL_NUM_ARB,2,FALSE)&\" \"&VLOOKUP(PTA!BD26,AL_NUM_ARB,4,FALSE)&\" \"&VLOOKUP(PTA!BD26,AL_NUM_ARB,6,FALSE)))","v":"X"},{"$f":"IF(OR(PTA!BE26=\"\",PTA!BE26=\"X\"),\"X\",IF(PTA!BE26=\"*\",\"*\",VLOOKUP(PTA!BE26,AL_NUM_ARB,2,FALSE)&\" \"&VLOOKUP(PTA!BE26,AL_NUM_ARB,4,FALSE)&\" \"&VLOOKUP(PTA!BE26,AL_NUM_ARB,6,FALSE)))","v":"X"},{"$f":"IF(OR(PTA!BF26=\"\",PTA!BF26=\"X\"),\"X\",IF(PTA!BF26=\"*\",\"*\",VLOOKUP(PTA!BF26,AL_NUM_ARB,2,FALSE)&\" \"&VLOOKUP(PTA!BF26,AL_NUM_ARB,4,FALSE)&\" \"&VLOOKUP(PTA!BF26,AL_NUM_ARB,6,FALSE)))","v":"X"},{"$f":"IF(OR(PTA!BG26=\"\",PTA!BG26=\"X\"),\"X\",IF(PTA!BG26=\"*\",\"*\",VLOOKUP(PTA!BG26,AL_NUM_ARB,2,FALSE)&\" \"&VLOOKUP(PTA!BG26,AL_NUM_ARB,4,FALSE)&\" \"&VLOOKUP(PTA!BG26,AL_NUM_ARB,6,FALSE)))","v":"X"},{"$f":"IF(OR(PTA!BH26=\"\",PTA!BH26=\"X\"),\"X\",IF(PTA!BH26=\"*\",\"*\",VLOOKUP(PTA!BH26,AL_NUM_ARB,2,FALSE)&\" \"&VLOOKUP(PTA!BH26,AL_NUM_ARB,4,FALSE)&\" \"&VLOOKUP(PTA!BH26,AL_NUM_ARB,6,FALSE)))","v":"X"},{"$f":"IF(OR(PTA!BI26=\"\",PTA!BI26=\"X\"),\"X\",IF(PTA!BI26=\"*\",\"*\",VLOOKUP(PTA!BI26,AL_NUM_ARB,2,FALSE)&\" \"&VLOOKUP(PTA!BI26,AL_NUM_ARB,4,FALSE)&\" \"&VLOOKUP(PTA!BI26,AL_NUM_ARB,6,FALSE)))","v":"X"},{"$f":"IF(OR(PTA!BJ26=\"\",PTA!BJ26=\"X\"),\"X\",IF(PTA!BJ26=\"*\",\"*\",VLOOKUP(PTA!BJ26,AL_NUM_ARB,2,FALSE)&\" \"&VLOOKUP(PTA!BJ26,AL_NUM_ARB,4,FALSE)&\" \"&VLOOKUP(PTA!BJ26,AL_NUM_ARB,6,FALSE)))","v":"X"},{"$f":"IF(OR(PTA!BK26=\"\",PTA!BK26=\"X\"),\"X\",IF(PTA!BK26=\"*\",\"*\",VLOOKUP(PTA!BK26,AL_NUM_ARB,2,FALSE)&\" \"&VLOOKUP(PTA!BK26,AL_NUM_ARB,4,FALSE)&\" \"&VLOOKUP(PTA!BK26,AL_NUM_ARB,6,FALSE)))","v":"X"},{"$f":"IF(OR(PTA!BL26=\"\",PTA!BL26=\"X\"),\"X\",IF(PTA!BL26=\"*\",\"*\",VLOOKUP(PTA!BL26,AL_NUM_ARB,2,FALSE)&\" \"&VLOOKUP(PTA!BL26,AL_NUM_ARB,4,FALSE)&\" \"&VLOOKUP(PTA!BL26,AL_NUM_ARB,6,FALSE)))","v":"X"},{"$f":"IF(OR(PTA!BM26=\"\",PTA!BM26=\"X\"),\"X\",IF(PTA!BM26=\"*\",\"*\",VLOOKUP(PTA!BM26,AL_NUM_ARB,2,FALSE)&\" \"&VLOOKUP(PTA!BM26,AL_NUM_ARB,4,FALSE)&\" \"&VLOOKUP(PTA!BM26,AL_NUM_ARB,6,FALSE)))","v":"X"},{"$f":"IF(OR(PTA!BN26=\"\",PTA!BN26=\"X\"),\"X\",IF(PTA!BN26=\"*\",\"*\",VLOOKUP(PTA!BN26,AL_NUM_ARB,2,FALSE)&\" \"&VLOOKUP(PTA!BN26,AL_NUM_ARB,4,FALSE)&\" \"&VLOOKUP(PTA!BN26,AL_NUM_ARB,6,FALSE)))","v":"X"},{"$f":"IF(OR(PTA!BO26=\"\",PTA!BO26=\"X\"),\"X\",IF(PTA!BO26=\"*\",\"*\",VLOOKUP(PTA!BO26,AL_NUM_ARB,2,FALSE)&\" \"&VLOOKUP(PTA!BO26,AL_NUM_ARB,4,FALSE)&\" \"&VLOOKUP(PTA!BO26,AL_NUM_ARB,6,FALSE)))","v":"X"},{"$f":"IF(OR(PTA!BP26=\"\",PTA!BP26=\"X\"),\"X\",IF(PTA!BP26=\"*\",\"*\",VLOOKUP(PTA!BP26,AL_NUM_ARB,2,FALSE)&\" \"&VLOOKUP(PTA!BP26,AL_NUM_ARB,4,FALSE)&\" \"&VLOOKUP(PTA!BP26,AL_NUM_ARB,6,FALSE)))","v":"X"},{"$f":"IF(OR(PTA!BQ26=\"\",PTA!BQ26=\"X\"),\"X\",IF(PTA!BQ26=\"*\",\"*\",VLOOKUP(PTA!BQ26,AL_NUM_ARB,2,FALSE)&\" \"&VLOOKUP(PTA!BQ26,AL_NUM_ARB,4,FALSE)&\" \"&VLOOKUP(PTA!BQ26,AL_NUM_ARB,6,FALSE)))","v":"X"},{"$f":"IF(OR(PTA!BR26=\"\",PTA!BR26=\"X\"),\"X\",IF(PTA!BR26=\"*\",\"*\",VLOOKUP(PTA!BR26,AL_NUM_ARB,2,FALSE)&\" \"&VLOOKUP(PTA!BR26,AL_NUM_ARB,4,FALSE)&\" \"&VLOOKUP(PTA!BR26,AL_NUM_ARB,6,FALSE)))","v":"X"},{"$f":"IF(OR(PTA!BT26=\"\",PTA!BT26=\"X\"),\"X\",VLOOKUP(PTA!BT26,AL_NUM_ARB,2,FALSE)&\" \"&VLOOKUP(PTA!BT26,AL_NUM_ARB,4,FALSE)&\" \"&VLOOKUP(PTA!BT26,AL_NUM_ARB,6,FALSE))","v":"X"},{"$f":"IF(OR(PTA!BU26=\"\",PTA!BU26=\"X\"),\"X\",VLOOKUP(PTA!BU26,AL_NUM_ARB,2,FALSE)&\" \"&VLOOKUP(PTA!BU26,AL_NUM_ARB,4,FALSE)&\" \"&VLOOKUP(PTA!BU26,AL_NUM_ARB,6,FALSE))","v":"X"},{"$f":"IF(OR(PTA!BV26=\"\",PTA!BV26=\"X\"),\"X\",VLOOKUP(PTA!BV26,AL_NUM_ARB,2,FALSE)&\" \"&VLOOKUP(PTA!BV26,AL_NUM_ARB,4,FALSE)&\" \"&VLOOKUP(PTA!BV26,AL_NUM_ARB,6,FALSE))","v":"X"},{"$f":"IF(OR(PTA!BW26=\"\",PTA!BW26=\"X\"),\"X\",VLOOKUP(PTA!BW26,AL_NUM_ARB,2,FALSE)&\" \"&VLOOKUP(PTA!BW26,AL_NUM_ARB,4,FALSE)&\" \"&VLOOKUP(PTA!BW26,AL_NUM_ARB,6,FALSE))","v":"X"},"08:30:00"]
[{"$f":"PTA!A27","v":""},{"$f":"PTA!B27","v":"00:00:00"},{"$f":"PTA!C27","v":32},{"$f":"PTA!D27","v":0},{"$f":"IF(OR(PTA!E27=\"\",PTA!E27=\"X\"),\"X\",IF(PTA!E27=\"*\",\"*\",VLOOKUP(PTA!E27,AL_NUM_ARB,2,FALSE)&\" \"&VLOOKUP(PTA!E27,AL_NUM_ARB,4,FALSE)&\" \"&VLOOKUP(PTA!E27,AL_NUM_ARB,6,FALSE)))","v":"X"},{"$f":"IF(OR(PTA!F27=\"\",PTA!F27=\"X\"),\"X\",IF(PTA!F27=\"*\",\"*\",VLOOKUP(PTA!F27,AL_NUM_ARB,2,FALSE)&\" \"&VLOOKUP(PTA!F27,AL_NUM_ARB,4,FALSE)&\" \"&VLOOKUP(PTA!F27,AL_NUM_ARB,6,FALSE)))","v":"X"},{"$f":"IF(OR(PTA!G27=\"\",PTA!G27=\"X\"),\"X\",IF(PTA!G27=\"*\",\"*\",VLOOKUP(PTA!G27,AL_NUM_ARB,2,FALSE)&\" \"&VLOOKUP(PTA!G27,AL_NUM_ARB,4,FALSE)&\" \"&VLOOKUP(PTA!G27,AL_NUM_ARB,6,FALSE)))","v":"X"},{"$f":"IF(OR(PTA!H27=\"\",PTA!H27=\"X\"),\"X\",IF(PTA!H27=\"*\",\"*\",VLOOKUP(PTA!H27,AL_NUM_ARB,2,FALSE)&\" \"&VLOOKUP(PTA!H27,AL_NUM_ARB,4,FALSE)&\" \"&VLOOKUP(PTA!H27,AL_NUM_ARB,6,FALSE)))","v":"X"},{"$f":"IF(OR(PTA!I27=\"\",PTA!I27=\"X\"),\"X\",IF(PTA!I27=\"*\",\"*\",VLOOKUP(PTA!I27,AL_NUM_ARB,2,FALSE)&\" \"&VLOOKUP(PTA!I27,AL_NUM_ARB,4,FALSE)&\" \"&VLOOKUP(PTA!I27,AL_NUM_ARB,6,FALSE)))","v":"X"},{"$f":"IF(OR(PTA!J27=\"\",PTA!J27=\"X\"),\"X\",IF(PTA!J27=\"*\",\"*\",VLOOKUP(PTA!J27,AL_NUM_ARB,2,FALSE)&\" \"&VLOOKUP(PTA!J27,AL_NUM_ARB,4,FALSE)&\" \"&VLOOKUP(PTA!J27,AL_NUM_ARB,6,FALSE)))","v":"X"},{"$f":"IF(OR(PTA!K27=\"\",PTA!K27=\"X\"),\"X\",IF(PTA!K27=\"*\",\"*\",VLOOKUP(PTA!K27,AL_NUM_ARB,2,FALSE)&\" \"&VLOOKUP(PTA!K27,AL_NUM_ARB,4,FALSE)&\" \"&VLOOKUP(PTA!K27,AL_NUM_ARB,6,FALSE)))","v":"X"},{"$f":"IF(OR(PTA!L27=\"\",PTA!L27=\"X\"),\"X\",IF(PTA!L27=\"*\",\"*\",VLOOKUP(PTA!L27,AL_NUM_ARB,2,FALSE)&\" \"&VLOOKUP(PTA!L27,AL_NUM_ARB,4,FALSE)&\" \"&VLOOKUP(PTA!L27,AL_NUM_ARB,6,FALSE)))","v":"X"},{"$f":"IF(OR(PTA!M27=\"\",PTA!M27=\"X\"),\"X\",IF(PTA!M27=\"*\",\"*\",VLOOKUP(PTA!M27,AL_NUM_ARB,2,FALSE)&\" \"&VLOOKUP(PTA!M27,AL_NUM_ARB,4,FALSE)&\" \"&VLOOKUP(PTA!M27,AL_NUM_ARB,6,FALSE)))","v":"X"},{"$f":"IF(OR(PTA!N27=\"\",PTA!N27=\"X\"),\"X\",IF(PTA!N27=\"*\",\"*\",VLOOKUP(PTA!N27,AL_NUM_ARB,2,FALSE)&\" \"&VLOOKUP(PTA!N27,AL_NUM_ARB,4,FALSE)&\" \"&VLOOKUP(PTA!N27,AL_NUM_ARB,6,FALSE)))","v":"X"},{"$f":"IF(OR(PTA!O27=\"\",PTA!O27=\"X\"),\"X\",IF(PTA!O27=\"*\",\"*\",VLOOKUP(PTA!O27,AL_NUM_ARB,2,FALSE)&\" \"&VLOOKUP(PTA!O27,AL_NUM_ARB,4,FALSE)&\" \"&VLOOKUP(PTA!O27,AL_NUM_ARB,6,FALSE)))","v":"X"},{"$f":"IF(OR(PTA!P27=\"\",PTA!P27=\"X\"),\"X\",IF(PTA!P27=\"*\",\"*\",VLOOKUP(PTA!P27,AL_NUM_ARB,2,FALSE)&\" \"&VLOOKUP(PTA!P27,AL_NUM_ARB,4,FALSE)&\" \"&VLOOKUP(PTA!P27,AL_NUM_ARB,6,FALSE)))","v":"X"},{"$f":"IF(OR(PTA!Q27=\"\",PTA!Q27=\"X\"),\"X\",IF(PTA!Q27=\"*\",\"*\",VLOOKUP(PTA!Q27,AL_NUM_ARB,2,FALSE)&\" \"&VLOOKUP(PTA!Q27,AL_NUM_ARB,4,FALSE)&\" \"&VLOOKUP(PTA!Q27,AL_NUM_ARB,6,FALSE)))","v":"X"},{"$f":"IF(OR(PTA!R27=\"\",PTA!R27=\"X\"),\"X\",IF(PTA!R27=\"*\",\"*\",VLOOKUP(PTA!R27,AL_NUM_ARB,2,FALSE)&\" \"&VLOOKUP(PTA!R27,AL_NUM_ARB,4,FALSE)&\" \"&VLOOKUP(PTA!R27,AL_NUM_ARB,6,FALSE)))","v":"X"},{"$f":"IF(OR(PTA!S27=\"\",PTA!S27=\"X\"),\"X\",IF(PTA!S27=\"*\",\"*\",VLOOKUP(PTA!S27,AL_NUM_ARB,2,FALSE)&\" \"&VLOOKUP(PTA!S27,AL_NUM_ARB,4,FALSE)&\" \"&VLOOKUP(PTA!S27,AL_NUM_ARB,6,FALSE)))","v":"X"},{"$f":"IF(OR(PTA!T27=\"\",PTA!T27=\"X\"),\"X\",IF(PTA!T27=\"*\",\"*\",VLOOKUP(PTA!T27,AL_NUM_ARB,2,FALSE)&\" \"&VLOOKUP(PTA!T27,AL_NUM_ARB,4,FALSE)&\" \"&VLOOKUP(PTA!T27,AL_NUM_ARB,6,FALSE)))","v":"X"},{"$f":"IF(OR(PTA!U27=\"\",PTA!U27=\"X\"),\"X\",IF(PTA!U27=\"*\",\"*\",VLOOKUP(PTA!U27,AL_NUM_ARB,2,FALSE)&\" \"&VLOOKUP(PTA!U27,AL_NUM_ARB,4,FALSE)&\" \"&VLOOKUP(PTA!U27,AL_NUM_ARB,6,FALSE)))","v":"X"},{"$f":"IF(OR(PTA!V27=\"\",PTA!V27=\"X\"),\"X\",IF(PTA!V27=\"*\",\"*\",VLOOKUP(PTA!V27,AL_NUM_ARB,2,FALSE)&\" \"&VLOOKUP(PTA!V27,AL_NUM_ARB,4,FALSE)&\" \"&VLOOKUP(PTA!V27,AL_NUM_ARB,6,FALSE)))","v":"X"},{"$f":"IF(OR(PTA!W27=\"\",PTA!W27=\"X\"),\"X\",IF(PTA!W27=\"*\",\"*\",VLOOKUP(PTA!W27,AL_NUM_ARB,2,FALSE)&\" \"&VLOOKUP(PTA!W27,AL_NUM_ARB,4,FALSE)&\" \"&VLOOKUP(PTA!W27,AL_NUM_ARB,6,FALSE)))","v":"X"},{"$f":"IF(OR(PTA!X27=\"\",PTA!X27=\"X\"),\"X\",IF(PTA!X27=\"*\",\"*\",VLOOKUP(PTA!X27,AL_NUM_ARB,2,FALSE)&\" \"&VLOOKUP(PTA!X27,AL_NUM_ARB,4,FALSE)&\" \"&VLOOKUP(PTA!X27,AL_NUM_ARB,6,FALSE)))","v":"X"},{"$f":"IF(OR(PTA!Y27=\"\",PTA!Y27=\"X\"),\"X\",IF(PTA!Y27=\"*\",\"*\",VLOOKUP(PTA!Y27,AL_NUM_ARB,2,FALSE)&\" \"&VLOOKUP(PTA!Y27,AL_NUM_ARB,4,FALSE)&\" \"&VLOOKUP(PTA!Y27,AL_NUM_ARB,6,FALSE)))","v":"X"},{"$f":"IF(OR(PTA!Z27=\"\",PTA!Z27=\"X\"),\"X\",IF(PTA!Z27=\"*\",\"*\",VLOOKUP(PTA!Z27,AL_NUM_ARB,2,FALSE)&\" \"&VLOOKUP(PTA!Z27,AL_NUM_ARB,4,FALSE)&\" \"&VLOOKUP(PTA!Z27,AL_NUM_ARB,6,FALSE)))","v":"X"},{"$f":"IF(OR(PTA!AA27=\"\",PTA!AA27=\"X\"),\"X\",IF(PTA!AA27=\"*\",\"*\",VLOOKUP(PTA!AA27,AL_NUM_ARB,2,FALSE)&\" \"&VLOOKUP(PTA!AA27,AL_NUM_ARB,4,FALSE)&\" \"&VLOOKUP(PTA!AA27,AL_NUM_ARB,6,FALSE)))","v":"X"},{"$f":"IF(OR(PTA!AB27=\"\",PTA!AB27=\"X\"),\"X\",IF(PTA!AB27=\"*\",\"*\",VLOOKUP(PTA!AB27,AL_NUM_ARB,2,FALSE)&\" \"&VLOOKUP(PTA!AB27,AL_NUM_ARB,4,FALSE)&\" \"&VLOOKUP(PTA!AB27,AL_NUM_ARB,6,FALSE)))","v":"X"},{"$f":"IF(OR(PTA!AC27=\"\",PTA!AC27=\"X\"),\"X\",IF(PTA!AC27=\"*\",\"*\",VLOOKUP(PTA!AC27,AL_NUM_ARB,2,FALSE)&\" \"&VLOOKUP(PTA!AC27,AL_NUM_ARB,4,FALSE)&\" \"&VLOOKUP(PTA!AC27,AL_NUM_ARB,6,FALSE)))","v":"X"},{"$f":"IF(OR(PTA!AD27=\"\",PTA!AD27=\"X\"),\"X\",IF(PTA!AD27=\"*\",\"*\",VLOOKUP(PTA!AD27,AL_NUM_ARB,2,FALSE)&\" \"&VLOOKUP(PTA!AD27,AL_NUM_ARB,4,FALSE)&\" \"&VLOOKUP(PTA!AD27,AL_NUM_ARB,6,FALSE)))","v":"X"},{"$f":"IF(OR(PTA!AE27=\"\",PTA!AE27=\"X\"),\"X\",IF(PTA!AE27=\"*\",\"*\",VLOOKUP(PTA!AE27,AL_NUM_ARB,2,FALSE)&\" \"&VLOOKUP(PTA!AE27,AL_NUM_ARB,4,FALSE)&\" \"&VLOOKUP(PTA!AE27,AL_NUM_ARB,6,FALSE)))","v":"X"},{"$f":"IF(OR(PTA!AF27=\"\",PTA!AF27=\"X\"),\"X\",IF(PTA!AF27=\"*\",\"*\",VLOOKUP(PTA!AF27,AL_NUM_ARB,2,FALSE)&\" \"&VLOOKUP(PTA!AF27,AL_NUM_ARB,4,FALSE)&\" \"&VLOOKUP(PTA!AF27,AL_NUM_ARB,6,FALSE)))","v":"X"},{"$f":"IF(OR(PTA!AG27=\"\",PTA!AG27=\"X\"),\"X\",IF(PTA!AG27=\"*\",\"*\",VLOOKUP(PTA!AG27,AL_NUM_ARB,2,FALSE)&\" \"&VLOOKUP(PTA!AG27,AL_NUM_ARB,4,FALSE)&\" \"&VLOOKUP(PTA!AG27,AL_NUM_ARB,6,FALSE)))","v":"X"},{"$f":"IF(OR(PTA!AH27=\"\",PTA!AH27=\"X\"),\"X\",IF(PTA!AH27=\"*\",\"*\",VLOOKUP(PTA!AH27,AL_NUM_ARB,2,FALSE)&\" \"&VLOOKUP(PTA!AH27,AL_NUM_ARB,4,FALSE)&\" \"&VLOOKUP(PTA!AH27,AL_NUM_ARB,6,FALSE)))","v":"X"},{"$f":"IF(OR(PTA!AI27=\"\",PTA!AI27=\"X\"),\"X\",IF(PTA!AI27=\"*\",\"*\",VLOOKUP(PTA!AI27,AL_NUM_ARB,2,FALSE)&\" \"&VLOOKUP(PTA!AI27,AL_NUM_ARB,4,FALSE)&\" \"&VLOOKUP(PTA!AI27,AL_NUM_ARB,6,FALSE)))","v":"X"},{"$f":"IF(OR(PTA!AJ27=\"\",PTA!AJ27=\"X\"),\"X\",IF(PTA!AJ27=\"*\",\"*\",VLOOKUP(PTA!AJ27,AL_NUM_ARB,2,FALSE)&\" \"&VLOOKUP(PTA!AJ27,AL_NUM_ARB,4,FALSE)&\" \"&VLOOKUP(PTA!AJ27,AL_NUM_ARB,6,FALSE)))","v":"X"},{"$f":"IF(OR(PTA!AK27=\"\",PTA!AK27=\"X\"),\"X\",IF(PTA!AK27=\"*\",\"*\",VLOOKUP(PTA!AK27,AL_NUM_ARB,2,FALSE)&\" \"&VLOOKUP(PTA!AK27,AL_NUM_ARB,4,FALSE)&\" \"&VLOOKUP(PTA!AK27,AL_NUM_ARB,6,FALSE)))","v":"X"},{"$f":"IF(OR(PTA!AL27=\"\",PTA!AL27=\"X\"),\"X\",IF(PTA!AL27=\"*\",\"*\",VLOOKUP(PTA!AL27,AL_NUM_ARB,2,FALSE)&\" \"&VLOOKUP(PTA!AL27,AL_NUM_ARB,4,FALSE)&\" \"&VLOOKUP(PTA!AL27,AL_NUM_ARB,6,FALSE)))","v":"X"},{"$f":"IF(OR(PTA!AM27=\"\",PTA!AM27=\"X\"),\"X\",IF(PTA!AM27=\"*\",\"*\",VLOOKUP(PTA!AM27,AL_NUM_ARB,2,FALSE)&\" \"&VLOOKUP(PTA!AM27,AL_NUM_ARB,4,FALSE)&\" \"&VLOOKUP(PTA!AM27,AL_NUM_ARB,6,FALSE)))","v":"X"},{"$f":"IF(OR(PTA!AN27=\"\",PTA!AN27=\"X\"),\"X\",IF(PTA!AN27=\"*\",\"*\",VLOOKUP(PTA!AN27,AL_NUM_ARB,2,FALSE)&\" \"&VLOOKUP(PTA!AN27,AL_NUM_ARB,4,FALSE)&\" \"&VLOOKUP(PTA!AN27,AL_NUM_ARB,6,FALSE)))","v":"X"},{"$f":"IF(OR(PTA!AO27=\"\",PTA!AO27=\"X\"),\"X\",IF(PTA!AO27=\"*\",\"*\",VLOOKUP(PTA!AO27,AL_NUM_ARB,2,FALSE)&\" \"&VLOOKUP(PTA!AO27,AL_NUM_ARB,4,FALSE)&\" \"&VLOOKUP(PTA!AO27,AL_NUM_ARB,6,FALSE)))","v":"X"},{"$f":"IF(OR(PTA!AP27=\"\",PTA!AP27=\"X\"),\"X\",IF(PTA!AP27=\"*\",\"*\",VLOOKUP(PTA!AP27,AL_NUM_ARB,2,FALSE)&\" \"&VLOOKUP(PTA!AP27,AL_NUM_ARB,4,FALSE)&\" \"&VLOOKUP(PTA!AP27,AL_NUM_ARB,6,FALSE)))","v":"X"},{"$f":"IF(OR(PTA!AQ27=\"\",PTA!AQ27=\"X\"),\"X\",IF(PTA!AQ27=\"*\",\"*\",VLOOKUP(PTA!AQ27,AL_NUM_ARB,2,FALSE)&\" \"&VLOOKUP(PTA!AQ27,AL_NUM_ARB,4,FALSE)&\" \"&VLOOKUP(PTA!AQ27,AL_NUM_ARB,6,FALSE)))","v":"X"},{"$f":"IF(OR(PTA!AR27=\"\",PTA!AR27=\"X\"),\"X\",IF(PTA!AR27=\"*\",\"*\",VLOOKUP(PTA!AR27,AL_NUM_ARB,2,FALSE)&\" \"&VLOOKUP(PTA!AR27,AL_NUM_ARB,4,FALSE)&\" \"&VLOOKUP(PTA!AR27,AL_NUM_ARB,6,FALSE)))","v":"X"},{"$f":"IF(OR(PTA!AS27=\"\",PTA!AS27=\"X\"),\"X\",IF(PTA!AS27=\"*\",\"*\",VLOOKUP(PTA!AS27,AL_NUM_ARB,2,FALSE)&\" \"&VLOOKUP(PTA!AS27,AL_NUM_ARB,4,FALSE)&\" \"&VLOOKUP(PTA!AS27,AL_NUM_ARB,6,FALSE)))","v":"X"},{"$f":"IF(OR(PTA!AT27=\"\",PTA!AT27=\"X\"),\"X\",IF(PTA!AT27=\"*\",\"*\",VLOOKUP(PTA!AT27,AL_NUM_ARB,2,FALSE)&\" \"&VLOOKUP(PTA!AT27,AL_NUM_ARB,4,FALSE)&\" \"&VLOOKUP(PTA!AT27,AL_NUM_ARB,6,FALSE)))","v":"X"},{"$f":"IF(OR(PTA!AU27=\"\",PTA!AU27=\"X\"),\"X\",IF(PTA!AU27=\"*\",\"*\",VLOOKUP(PTA!AU27,AL_NUM_ARB,2,FALSE)&\" \"&VLOOKUP(PTA!AU27,AL_NUM_ARB,4,FALSE)&\" \"&VLOOKUP(PTA!AU27,AL_NUM_ARB,6,FALSE)))","v":"X"},{"$f":"IF(OR(PTA!AV27=\"\",PTA!AV27=\"X\"),\"X\",IF(PTA!AV27=\"*\",\"*\",VLOOKUP(PTA!AV27,AL_NUM_ARB,2,FALSE)&\" \"&VLOOKUP(PTA!AV27,AL_NUM_ARB,4,FALSE)&\" \"&VLOOKUP(PTA!AV27,AL_NUM_ARB,6,FALSE)))","v":"X"},{"$f":"IF(OR(PTA!AW27=\"\",PTA!AW27=\"X\"),\"X\",IF(PTA!AW27=\"*\",\"*\",VLOOKUP(PTA!AW27,AL_NUM_ARB,2,FALSE)&\" \"&VLOOKUP(PTA!AW27,AL_NUM_ARB,4,FALSE)&\" \"&VLOOKUP(PTA!AW27,AL_NUM_ARB,6,FALSE)))","v":"X"},{"$f":"IF(OR(PTA!AX27=\"\",PTA!AX27=\"X\"),\"X\",IF(PTA!AX27=\"*\",\"*\",VLOOKUP(PTA!AX27,AL_NUM_ARB,2,FALSE)&\" \"&VLOOKUP(PTA!AX27,AL_NUM_ARB,4,FALSE)&\" \"&VLOOKUP(PTA!AX27,AL_NUM_ARB,6,FALSE)))","v":"X"},{"$f":"IF(OR(PTA!AY27=\"\",PTA!AY27=\"X\"),\"X\",IF(PTA!AY27=\"*\",\"*\",VLOOKUP(PTA!AY27,AL_NUM_ARB,2,FALSE)&\" \"&VLOOKUP(PTA!AY27,AL_NUM_ARB,4,FALSE)&\" \"&VLOOKUP(PTA!AY27,AL_NUM_ARB,6,FALSE)))","v":"X"},{"$f":"IF(OR(PTA!AZ27=\"\",PTA!AZ27=\"X\"),\"X\",IF(PTA!AZ27=\"*\",\"*\",VLOOKUP(PTA!AZ27,AL_NUM_ARB,2,FALSE)&\" \"&VLOOKUP(PTA!AZ27,AL_NUM_ARB,4,FALSE)&\" \"&VLOOKUP(PTA!AZ27,AL_NUM_ARB,6,FALSE)))","v":"X"},{"$f":"IF(OR(PTA!BA27=\"\",PTA!BA27=\"X\"),\"X\",IF(PTA!BA27=\"*\",\"*\",VLOOKUP(PTA!BA27,AL_NUM_ARB,2,FALSE)&\" \"&VLOOKUP(PTA!BA27,AL_NUM_ARB,4,FALSE)&\" \"&VLOOKUP(PTA!BA27,AL_NUM_ARB,6,FALSE)))","v":"X"},{"$f":"IF(OR(PTA!BB27=\"\",PTA!BB27=\"X\"),\"X\",IF(PTA!BB27=\"*\",\"*\",VLOOKUP(PTA!BB27,AL_NUM_ARB,2,FALSE)&\" \"&VLOOKUP(PTA!BB27,AL_NUM_ARB,4,FALSE)&\" \"&VLOOKUP(PTA!BB27,AL_NUM_ARB,6,FALSE)))","v":"X"},{"$f":"IF(OR(PTA!BC27=\"\",PTA!BC27=\"X\"),\"X\",IF(PTA!BC27=\"*\",\"*\",VLOOKUP(PTA!BC27,AL_NUM_ARB,2,FALSE)&\" \"&VLOOKUP(PTA!BC27,AL_NUM_ARB,4,FALSE)&\" \"&VLOOKUP(PTA!BC27,AL_NUM_ARB,6,FALSE)))","v":"X"},{"$f":"IF(OR(PTA!BD27=\"\",PTA!BD27=\"X\"),\"X\",IF(PTA!BD27=\"*\",\"*\",VLOOKUP(PTA!BD27,AL_NUM_ARB,2,FALSE)&\" \"&VLOOKUP(PTA!BD27,AL_NUM_ARB,4,FALSE)&\" \"&VLOOKUP(PTA!BD27,AL_NUM_ARB,6,FALSE)))","v":"X"},{"$f":"IF(OR(PTA!BE27=\"\",PTA!BE27=\"X\"),\"X\",IF(PTA!BE27=\"*\",\"*\",VLOOKUP(PTA!BE27,AL_NUM_ARB,2,FALSE)&\" \"&VLOOKUP(PTA!BE27,AL_NUM_ARB,4,FALSE)&\" \"&VLOOKUP(PTA!BE27,AL_NUM_ARB,6,FALSE)))","v":"X"},{"$f":"IF(OR(PTA!BF27=\"\",PTA!BF27=\"X\"),\"X\",IF(PTA!BF27=\"*\",\"*\",VLOOKUP(PTA!BF27,AL_NUM_ARB,2,FALSE)&\" \"&VLOOKUP(PTA!BF27,AL_NUM_ARB,4,FALSE)&\" \"&VLOOKUP(PTA!BF27,AL_NUM_ARB,6,FALSE)))","v":"X"},{"$f":"IF(OR(PTA!BG27=\"\",PTA!BG27=\"X\"),\"X\",IF(PTA!BG27=\"*\",\"*\",VLOOKUP(PTA!BG27,AL_NUM_ARB,2,FALSE)&\" \"&VLOOKUP(PTA!BG27,AL_NUM_ARB,4,FALSE)&\" \"&VLOOKUP(PTA!BG27,AL_NUM_ARB,6,FALSE)))","v":"X"},{"$f":"IF(OR(PTA!BH27=\"\",PTA!BH27=\"X\"),\"X\",IF(PTA!BH27=\"*\",\"*\",VLOOKUP(PTA!BH27,AL_NUM_ARB,2,FALSE)&\" \"&VLOOKUP(PTA!BH27,AL_NUM_ARB,4,FALSE)&\" \"&VLOOKUP(PTA!BH27,AL_NUM_ARB,6,FALSE)))","v":"X"},{"$f":"IF(OR(PTA!BI27=\"\",PTA!BI27=\"X\"),\"X\",IF(PTA!BI27=\"*\",\"*\",VLOOKUP(PTA!BI27,AL_NUM_ARB,2,FALSE)&\" \"&VLOOKUP(PTA!BI27,AL_NUM_ARB,4,FALSE)&\" \"&VLOOKUP(PTA!BI27,AL_NUM_ARB,6,FALSE)))","v":"X"},{"$f":"IF(OR(PTA!BJ27=\"\",PTA!BJ27=\"X\"),\"X\",IF(PTA!BJ27=\"*\",\"*\",VLOOKUP(PTA!BJ27,AL_NUM_ARB,2,FALSE)&\" \"&VLOOKUP(PTA!BJ27,AL_NUM_ARB,4,FALSE)&\" \"&VLOOKUP(PTA!BJ27,AL_NUM_ARB,6,FALSE)))","v":"X"},{"$f":"IF(OR(PTA!BK27=\"\",PTA!BK27=\"X\"),\"X\",IF(PTA!BK27=\"*\",\"*\",VLOOKUP(PTA!BK27,AL_NUM_ARB,2,FALSE)&\" \"&VLOOKUP(PTA!BK27,AL_NUM_ARB,4,FALSE)&\" \"&VLOOKUP(PTA!BK27,AL_NUM_ARB,6,FALSE)))","v":"X"},{"$f":"IF(OR(PTA!BL27=\"\",PTA!BL27=\"X\"),\"X\",IF(PTA!BL27=\"*\",\"*\",VLOOKUP(PTA!BL27,AL_NUM_ARB,2,FALSE)&\" \"&VLOOKUP(PTA!BL27,AL_NUM_ARB,4,FALSE)&\" \"&VLOOKUP(PTA!BL27,AL_NUM_ARB,6,FALSE)))","v":"X"},{"$f":"IF(OR(PTA!BM27=\"\",PTA!BM27=\"X\"),\"X\",IF(PTA!BM27=\"*\",\"*\",VLOOKUP(PTA!BM27,AL_NUM_ARB,2,FALSE)&\" \"&VLOOKUP(PTA!BM27,AL_NUM_ARB,4,FALSE)&\" \"&VLOOKUP(PTA!BM27,AL_NUM_ARB,6,FALSE)))","v":"X"},{"$f":"IF(OR(PTA!BN27=\"\",PTA!BN27=\"X\"),\"X\",IF(PTA!BN27=\"*\",\"*\",VLOOKUP(PTA!BN27,AL_NUM_ARB,2,FALSE)&\" \"&VLOOKUP(PTA!BN27,AL_NUM_ARB,4,FALSE)&\" \"&VLOOKUP(PTA!BN27,AL_NUM_ARB,6,FALSE)))","v":"X"},{"$f":"IF(OR(PTA!BO27=\"\",PTA!BO27=\"X\"),\"X\",IF(PTA!BO27=\"*\",\"*\",VLOOKUP(PTA!BO27,AL_NUM_ARB,2,FALSE)&\" \"&VLOOKUP(PTA!BO27,AL_NUM_ARB,4,FALSE)&\" \"&VLOOKUP(PTA!BO27,AL_NUM_ARB,6,FALSE)))","v":"X"},{"$f":"IF(OR(PTA!BP27=\"\",PTA!BP27=\"X\"),\"X\",IF(PTA!BP27=\"*\",\"*\",VLOOKUP(PTA!BP27,AL_NUM_ARB,2,FALSE)&\" \"&VLOOKUP(PTA!BP27,AL_NUM_ARB,4,FALSE)&\" \"&VLOOKUP(PTA!BP27,AL_NUM_ARB,6,FALSE)))","v":"X"},{"$f":"IF(OR(PTA!BQ27=\"\",PTA!BQ27=\"X\"),\"X\",IF(PTA!BQ27=\"*\",\"*\",VLOOKUP(PTA!BQ27,AL_NUM_ARB,2,FALSE)&\" \"&VLOOKUP(PTA!BQ27,AL_NUM_ARB,4,FALSE)&\" \"&VLOOKUP(PTA!BQ27,AL_NUM_ARB,6,FALSE)))","v":"X"},{"$f":"IF(OR(PTA!BR27=\"\",PTA!BR27=\"X\"),\"X\",IF(PTA!BR27=\"*\",\"*\",VLOOKUP(PTA!BR27,AL_NUM_ARB,2,FALSE)&\" \"&VLOOKUP(PTA!BR27,AL_NUM_ARB,4,FALSE)&\" \"&VLOOKUP(PTA!BR27,AL_NUM_ARB,6,FALSE)))","v":"X"},{"$f":"IF(OR(PTA!BT27=\"\",PTA!BT27=\"X\"),\"X\",VLOOKUP(PTA!BT27,AL_NUM_ARB,2,FALSE)&\" \"&VLOOKUP(PTA!BT27,AL_NUM_ARB,4,FALSE)&\" \"&VLOOKUP(PTA!BT27,AL_NUM_ARB,6,FALSE))","v":"X"},{"$f":"IF(OR(PTA!BU27=\"\",PTA!BU27=\"X\"),\"X\",VLOOKUP(PTA!BU27,AL_NUM_ARB,2,FALSE)&\" \"&VLOOKUP(PTA!BU27,AL_NUM_ARB,4,FALSE)&\" \"&VLOOKUP(PTA!BU27,AL_NUM_ARB,6,FALSE))","v":"X"},{"$f":"IF(OR(PTA!BV27=\"\",PTA!BV27=\"X\"),\"X\",VLOOKUP(PTA!BV27,AL_NUM_ARB,2,FALSE)&\" \"&VLOOKUP(PTA!BV27,AL_NUM_ARB,4,FALSE)&\" \"&VLOOKUP(PTA!BV27,AL_NUM_ARB,6,FALSE))","v":"X"},{"$f":"IF(OR(PTA!BW27=\"\",PTA!BW27=\"X\"),\"X\",VLOOKUP(PTA!BW27,AL_NUM_ARB,2,FALSE)&\" \"&VLOOKUP(PTA!BW27,AL_NUM_ARB,4,FALSE)&\" \"&VLOOKUP(PTA!BW27,AL_NUM_ARB,6,FALSE))","v":"X"},"09:00:00"]
[{"$f":"PTA!A28","v":""},{"$f":"PTA!B28","v":"00:00:00"},{"$f":"PTA!C28","v":32},{"$f":"PTA!D28","v":0},{"$f":"IF(OR(PTA!E28=\"\",PTA!E28=\"X\"),\"X\",IF(PTA!E28=\"*\",\"*\",VLOOKUP(PTA!E28,AL_NUM_ARB,2,FALSE)&\" \"&VLOOKUP(PTA!E28,AL_NUM_ARB,4,FALSE)&\" \"&VLOOKUP(PTA!E28,AL_NUM_ARB,6,FALSE)))","v":"X"},{"$f":"IF(OR(PTA!F28=\"\",PTA!F28=\"X\"),\"X\",IF(PTA!F28=\"*\",\"*\",VLOOKUP(PTA!F28,AL_NUM_ARB,2,FALSE)&\" \"&VLOOKUP(PTA!F28,AL_NUM_ARB,4,FALSE)&\" \"&VLOOKUP(PTA!F28,AL_NUM_ARB,6,FALSE)))","v":"X"},{"$f":"IF(OR(PTA!G28=\"\",PTA!G28=\"X\"),\"X\",IF(PTA!G28=\"*\",\"*\",VLOOKUP(PTA!G28,AL_NUM_ARB,2,FALSE)&\" \"&VLOOKUP(PTA!G28,AL_NUM_ARB,4,FALSE)&\" \"&VLOOKUP(PTA!G28,AL_NUM_ARB,6,FALSE)))","v":"X"},{"$f":"IF(OR(PTA!H28=\"\",PTA!H28=\"X\"),\"X\",IF(PTA!H28=\"*\",\"*\",VLOOKUP(PTA!H28,AL_NUM_ARB,2,FALSE)&\" \"&VLOOKUP(PTA!H28,AL_NUM_ARB,4,FALSE)&\" \"&VLOOKUP(PTA!H28,AL_NUM_ARB,6,FALSE)))","v":"X"},{"$f":"IF(OR(PTA!I28=\"\",PTA!I28=\"X\"),\"X\",IF(PTA!I28=\"*\",\"*\",VLOOKUP(PTA!I28,AL_NUM_ARB,2,FALSE)&\" \"&VLOOKUP(PTA!I28,AL_NUM_ARB,4,FALSE)&\" \"&VLOOKUP(PTA!I28,AL_NUM_ARB,6,FALSE)))","v":"X"},{"$f":"IF(OR(PTA!J28=\"\",PTA!J28=\"X\"),\"X\",IF(PTA!J28=\"*\",\"*\",VLOOKUP(PTA!J28,AL_NUM_ARB,2,FALSE)&\" \"&VLOOKUP(PTA!J28,AL_NUM_ARB,4,FALSE)&\" \"&VLOOKUP(PTA!J28,AL_NUM_ARB,6,FALSE)))","v":"X"},{"$f":"IF(OR(PTA!K28=\"\",PTA!K28=\"X\"),\"X\",IF(PTA!K28=\"*\",\"*\",VLOOKUP(PTA!K28,AL_NUM_ARB,2,FALSE)&\" \"&VLOOKUP(PTA!K28,AL_NUM_ARB,4,FALSE)&\" \"&VLOOKUP(PTA!K28,AL_NUM_ARB,6,FALSE)))","v":"X"},{"$f":"IF(OR(PTA!L28=\"\",PTA!L28=\"X\"),\"X\",IF(PTA!L28=\"*\",\"*\",VLOOKUP(PTA!L28,AL_NUM_ARB,2,FALSE)&\" \"&VLOOKUP(PTA!L28,AL_NUM_ARB,4,FALSE)&\" \"&VLOOKUP(PTA!L28,AL_NUM_ARB,6,FALSE)))","v":"X"},{"$f":"IF(OR(PTA!M28=\"\",PTA!M28=\"X\"),\"X\",IF(PTA!M28=\"*\",\"*\",VLOOKUP(PTA!M28,AL_NUM_ARB,2,FALSE)&\" \"&VLOOKUP(PTA!M28,AL_NUM_ARB,4,FALSE)&\" \"&VLOOKUP(PTA!M28,AL_NUM_ARB,6,FALSE)))","v":"X"},{"$f":"IF(OR(PTA!N28=\"\",PTA!N28=\"X\"),\"X\",IF(PTA!N28=\"*\",\"*\",VLOOKUP(PTA!N28,AL_NUM_ARB,2,FALSE)&\" \"&VLOOKUP(PTA!N28,AL_NUM_ARB,4,FALSE)&\" \"&VLOOKUP(PTA!N28,AL_NUM_ARB,6,FALSE)))","v":"X"},{"$f":"IF(OR(PTA!O28=\"\",PTA!O28=\"X\"),\"X\",IF(PTA!O28=\"*\",\"*\",VLOOKUP(PTA!O28,AL_NUM_ARB,2,FALSE)&\" \"&VLOOKUP(PTA!O28,AL_NUM_ARB,4,FALSE)&\" \"&VLOOKUP(PTA!O28,AL_NUM_ARB,6,FALSE)))","v":"X"},{"$f":"IF(OR(PTA!P28=\"\",PTA!P28=\"X\"),\"X\",IF(PTA!P28=\"*\",\"*\",VLOOKUP(PTA!P28,AL_NUM_ARB,2,FALSE)&\" \"&VLOOKUP(PTA!P28,AL_NUM_ARB,4,FALSE)&\" \"&VLOOKUP(PTA!P28,AL_NUM_ARB,6,FALSE)))","v":"X"},{"$f":"IF(OR(PTA!Q28=\"\",PTA!Q28=\"X\"),\"X\",IF(PTA!Q28=\"*\",\"*\",VLOOKUP(PTA!Q28,AL_NUM_ARB,2,FALSE)&\" \"&VLOOKUP(PTA!Q28,AL_NUM_ARB,4,FALSE)&\" \"&VLOOKUP(PTA!Q28,AL_NUM_ARB,6,FALSE)))","v":"X"},{"$f":"IF(OR(PTA!R28=\"\",PTA!R28=\"X\"),\"X\",IF(PTA!R28=\"*\",\"*\",VLOOKUP(PTA!R28,AL_NUM_ARB,2,FALSE)&\" \"&VLOOKUP(PTA!R28,AL_NUM_ARB,4,FALSE)&\" \"&VLOOKUP(PTA!R28,AL_NUM_ARB,6,FALSE)))","v":"X"},{"$f":"IF(OR(PTA!S28=\"\",PTA!S28=\"X\"),\"X\",IF(PTA!S28=\"*\",\"*\",VLOOKUP(PTA!S28,AL_NUM_ARB,2,FALSE)&\" \"&VLOOKUP(PTA!S28,AL_NUM_ARB,4,FALSE)&\" \"&VLOOKUP(PTA!S28,AL_NUM_ARB,6,FALSE)))","v":"X"},{"$f":"IF(OR(PTA!T28=\"\",PTA!T28=\"X\"),\"X\",IF(PTA!T28=\"*\",\"*\",VLOOKUP(PTA!T28,AL_NUM_ARB,2,FALSE)&\" \"&VLOOKUP(PTA!T28,AL_NUM_ARB,4,FALSE)&\" \"&VLOOKUP(PTA!T28,AL_NUM_ARB,6,FALSE)))","v":"X"},{"$f":"IF(OR(PTA!U28=\"\",PTA!U28=\"X\"),\"X\",IF(PTA!U28=\"*\",\"*\",VLOOKUP(PTA!U28,AL_NUM_ARB,2,FALSE)&\" \"&VLOOKUP(PTA!U28,AL_NUM_ARB,4,FALSE)&\" \"&VLOOKUP(PTA!U28,AL_NUM_ARB,6,FALSE)))","v":"X"},{"$f":"IF(OR(PTA!V28=\"\",PTA!V28=\"X\"),\"X\",IF(PTA!V28=\"*\",\"*\",VLOOKUP(PTA!V28,AL_NUM_ARB,2,FALSE)&\" \"&VLOOKUP(PTA!V28,AL_NUM_ARB,4,FALSE)&\" \"&VLOOKUP(PTA!V28,AL_NUM_ARB,6,FALSE)))","v":"X"},{"$f":"IF(OR(PTA!W28=\"\",PTA!W28=\"X\"),\"X\",IF(PTA!W28=\"*\",\"*\",VLOOKUP(PTA!W28,AL_NUM_ARB,2,FALSE)&\" \"&VLOOKUP(PTA!W28,AL_NUM_ARB,4,FALSE)&\" \"&VLOOKUP(PTA!W28,AL_NUM_ARB,6,FALSE)))","v":"X"},{"$f":"IF(OR(PTA!X28=\"\",PTA!X28=\"X\"),\"X\",IF(PTA!X28=\"*\",\"*\",VLOOKUP(PTA!X28,AL_NUM_ARB,2,FALSE)&\" \"&VLOOKUP(PTA!X28,AL_NUM_ARB,4,FALSE)&\" \"&VLOOKUP(PTA!X28,AL_NUM_ARB,6,FALSE)))","v":"X"},{"$f":"IF(OR(PTA!Y28=\"\",PTA!Y28=\"X\"),\"X\",IF(PTA!Y28=\"*\",\"*\",VLOOKUP(PTA!Y28,AL_NUM_ARB,2,FALSE)&\" \"&VLOOKUP(PTA!Y28,AL_NUM_ARB,4,FALSE)&\" \"&VLOOKUP(PTA!Y28,AL_NUM_ARB,6,FALSE)))","v":"X"},{"$f":"IF(OR(PTA!Z28=\"\",PTA!Z28=\"X\"),\"X\",IF(PTA!Z28=\"*\",\"*\",VLOOKUP(PTA!Z28,AL_NUM_ARB,2,FALSE)&\" \"&VLOOKUP(PTA!Z28,AL_NUM_ARB,4,FALSE)&\" \"&VLOOKUP(PTA!Z28,AL_NUM_ARB,6,FALSE)))","v":"X"},{"$f":"IF(OR(PTA!AA28=\"\",PTA!AA28=\"X\"),\"X\",IF(PTA!AA28=\"*\",\"*\",VLOOKUP(PTA!AA28,AL_NUM_ARB,2,FALSE)&\" \"&VLOOKUP(PTA!AA28,AL_NUM_ARB,4,FALSE)&\" \"&VLOOKUP(PTA!AA28,AL_NUM_ARB,6,FALSE)))","v":"X"},{"$f":"IF(OR(PTA!AB28=\"\",PTA!AB28=\"X\"),\"X\",IF(PTA!AB28=\"*\",\"*\",VLOOKUP(PTA!AB28,AL_NUM_ARB,2,FALSE)&\" \"&VLOOKUP(PTA!AB28,AL_NUM_ARB,4,FALSE)&\" \"&VLOOKUP(PTA!AB28,AL_NUM_ARB,6,FALSE)))","v":"X"},{"$f":"IF(OR(PTA!AC28=\"\",PTA!AC28=\"X\"),\"X\",IF(PTA!AC28=\"*\",\"*\",VLOOKUP(PTA!AC28,AL_NUM_ARB,2,FALSE)&\" \"&VLOOKUP(PTA!AC28,AL_NUM_ARB,4,FALSE)&\" \"&VLOOKUP(PTA!AC28,AL_NUM_ARB,6,FALSE)))","v":"X"},{"$f":"IF(OR(PTA!AD28=\"\",PTA!AD28=\"X\"),\"X\",IF(PTA!AD28=\"*\",\"*\",VLOOKUP(PTA!AD28,AL_NUM_ARB,2,FALSE)&\" \"&VLOOKUP(PTA!AD28,AL_NUM_ARB,4,FALSE)&\" \"&VLOOKUP(PTA!AD28,AL_NUM_ARB,6,FALSE)))","v":"X"},{"$f":"IF(OR(PTA!AE28=\"\",PTA!AE28=\"X\"),\"X\",IF(PTA!AE28=\"*\",\"*\",VLOOKUP(PTA!AE28,AL_NUM_ARB,2,FALSE)&\" \"&VLOOKUP(PTA!AE28,AL_NUM_ARB,4,FALSE)&\" \"&VLOOKUP(PTA!AE28,AL_NUM_ARB,6,FALSE)))","v":"X"},{"$f":"IF(OR(PTA!AF28=\"\",PTA!AF28=\"X\"),\"X\",IF(PTA!AF28=\"*\",\"*\",VLOOKUP(PTA!AF28,AL_NUM_ARB,2,FALSE)&\" \"&VLOOKUP(PTA!AF28,AL_NUM_ARB,4,FALSE)&\" \"&VLOOKUP(PTA!AF28,AL_NUM_ARB,6,FALSE)))","v":"X"},{"$f":"IF(OR(PTA!AG28=\"\",PTA!AG28=\"X\"),\"X\",IF(PTA!AG28=\"*\",\"*\",VLOOKUP(PTA!AG28,AL_NUM_ARB,2,FALSE)&\" \"&VLOOKUP(PTA!AG28,AL_NUM_ARB,4,FALSE)&\" \"&VLOOKUP(PTA!AG28,AL_NUM_ARB,6,FALSE)))","v":"X"},{"$f":"IF(OR(PTA!AH28=\"\",PTA!AH28=\"X\"),\"X\",IF(PTA!AH28=\"*\",\"*\",VLOOKUP(PTA!AH28,AL_NUM_ARB,2,FALSE)&\" \"&VLOOKUP(PTA!AH28,AL_NUM_ARB,4,FALSE)&\" \"&VLOOKUP(PTA!AH28,AL_NUM_ARB,6,FALSE)))","v":"X"},{"$f":"IF(OR(PTA!AI28=\"\",PTA!AI28=\"X\"),\"X\",IF(PTA!AI28=\"*\",\"*\",VLOOKUP(PTA!AI28,AL_NUM_ARB,2,FALSE)&\" \"&VLOOKUP(PTA!AI28,AL_NUM_ARB,4,FALSE)&\" \"&VLOOKUP(PTA!AI28,AL_NUM_ARB,6,FALSE)))","v":"X"},{"$f":"IF(OR(PTA!AJ28=\"\",PTA!AJ28=\"X\"),\"X\",IF(PTA!AJ28=\"*\",\"*\",VLOOKUP(PTA!AJ28,AL_NUM_ARB,2,FALSE)&\" \"&VLOOKUP(PTA!AJ28,AL_NUM_ARB,4,FALSE)&\" \"&VLOOKUP(PTA!AJ28,AL_NUM_ARB,6,FALSE)))","v":"X"},{"$f":"IF(OR(PTA!AK28=\"\",PTA!AK28=\"X\"),\"X\",IF(PTA!AK28=\"*\",\"*\",VLOOKUP(PTA!AK28,AL_NUM_ARB,2,FALSE)&\" \"&VLOOKUP(PTA!AK28,AL_NUM_ARB,4,FALSE)&\" \"&VLOOKUP(PTA!AK28,AL_NUM_ARB,6,FALSE)))","v":"X"},{"$f":"IF(OR(PTA!AL28=\"\",PTA!AL28=\"X\"),\"X\",IF(PTA!AL28=\"*\",\"*\",VLOOKUP(PTA!AL28,AL_NUM_ARB,2,FALSE)&\" \"&VLOOKUP(PTA!AL28,AL_NUM_ARB,4,FALSE)&\" \"&VLOOKUP(PTA!AL28,AL_NUM_ARB,6,FALSE)))","v":"X"},{"$f":"IF(OR(PTA!AM28=\"\",PTA!AM28=\"X\"),\"X\",IF(PTA!AM28=\"*\",\"*\",VLOOKUP(PTA!AM28,AL_NUM_ARB,2,FALSE)&\" \"&VLOOKUP(PTA!AM28,AL_NUM_ARB,4,FALSE)&\" \"&VLOOKUP(PTA!AM28,AL_NUM_ARB,6,FALSE)))","v":"X"},{"$f":"IF(OR(PTA!AN28=\"\",PTA!AN28=\"X\"),\"X\",IF(PTA!AN28=\"*\",\"*\",VLOOKUP(PTA!AN28,AL_NUM_ARB,2,FALSE)&\" \"&VLOOKUP(PTA!AN28,AL_NUM_ARB,4,FALSE)&\" \"&VLOOKUP(PTA!AN28,AL_NUM_ARB,6,FALSE)))","v":"X"},{"$f":"IF(OR(PTA!AO28=\"\",PTA!AO28=\"X\"),\"X\",IF(PTA!AO28=\"*\",\"*\",VLOOKUP(PTA!AO28,AL_NUM_ARB,2,FALSE)&\" \"&VLOOKUP(PTA!AO28,AL_NUM_ARB,4,FALSE)&\" \"&VLOOKUP(PTA!AO28,AL_NUM_ARB,6,FALSE)))","v":"X"},{"$f":"IF(OR(PTA!AP28=\"\",PTA!AP28=\"X\"),\"X\",IF(PTA!AP28=\"*\",\"*\",VLOOKUP(PTA!AP28,AL_NUM_ARB,2,FALSE)&\" \"&VLOOKUP(PTA!AP28,AL_NUM_ARB,4,FALSE)&\" \"&VLOOKUP(PTA!AP28,AL_NUM_ARB,6,FALSE)))","v":"X"},{"$f":"IF(OR(PTA!AQ28=\"\",PTA!AQ28=\"X\"),\"X\",IF(PTA!AQ28=\"*\",\"*\",VLOOKUP(PTA!AQ28,AL_NUM_ARB,2,FALSE)&\" \"&VLOOKUP(PTA!AQ28,AL_NUM_ARB,4,FALSE)&\" \"&VLOOKUP(PTA!AQ28,AL_NUM_ARB,6,FALSE)))","v":"X"},{"$f":"IF(OR(PTA!AR28=\"\",PTA!AR28=\"X\"),\"X\",IF(PTA!AR28=\"*\",\"*\",VLOOKUP(PTA!AR28,AL_NUM_ARB,2,FALSE)&\" \"&VLOOKUP(PTA!AR28,AL_NUM_ARB,4,FALSE)&\" \"&VLOOKUP(PTA!AR28,AL_NUM_ARB,6,FALSE)))","v":"X"},{"$f":"IF(OR(PTA!AS28=\"\",PTA!AS28=\"X\"),\"X\",IF(PTA!AS28=\"*\",\"*\",VLOOKUP(PTA!AS28,AL_NUM_ARB,2,FALSE)&\" \"&VLOOKUP(PTA!AS28,AL_NUM_ARB,4,FALSE)&\" \"&VLOOKUP(PTA!AS28,AL_NUM_ARB,6,FALSE)))","v":"X"},{"$f":"IF(OR(PTA!AT28=\"\",PTA!AT28=\"X\"),\"X\",IF(PTA!AT28=\"*\",\"*\",VLOOKUP(PTA!AT28,AL_NUM_ARB,2,FALSE)&\" \"&VLOOKUP(PTA!AT28,AL_NUM_ARB,4,FALSE)&\" \"&VLOOKUP(PTA!AT28,AL_NUM_ARB,6,FALSE)))","v":"X"},{"$f":"IF(OR(PTA!AU28=\"\",PTA!AU28=\"X\"),\"X\",IF(PTA!AU28=\"*\",\"*\",VLOOKUP(PTA!AU28,AL_NUM_ARB,2,FALSE)&\" \"&VLOOKUP(PTA!AU28,AL_NUM_ARB,4,FALSE)&\" \"&VLOOKUP(PTA!AU28,AL_NUM_ARB,6,FALSE)))","v":"X"},{"$f":"IF(OR(PTA!AV28=\"\",PTA!AV28=\"X\"),\"X\",IF(PTA!AV28=\"*\",\"*\",VLOOKUP(PTA!AV28,AL_NUM_ARB,2,FALSE)&\" \"&VLOOKUP(PTA!AV28,AL_NUM_ARB,4,FALSE)&\" \"&VLOOKUP(PTA!AV28,AL_NUM_ARB,6,FALSE)))","v":"X"},{"$f":"IF(OR(PTA!AW28=\"\",PTA!AW28=\"X\"),\"X\",IF(PTA!AW28=\"*\",\"*\",VLOOKUP(PTA!AW28,AL_NUM_ARB,2,FALSE)&\" \"&VLOOKUP(PTA!AW28,AL_NUM_ARB,4,FALSE)&\" \"&VLOOKUP(PTA!AW28,AL_NUM_ARB,6,FALSE)))","v":"X"},{"$f":"IF(OR(PTA!AX28=\"\",PTA!AX28=\"X\"),\"X\",IF(PTA!AX28=\"*\",\"*\",VLOOKUP(PTA!AX28,AL_NUM_ARB,2,FALSE)&\" \"&VLOOKUP(PTA!AX28,AL_NUM_ARB,4,FALSE)&\" \"&VLOOKUP(PTA!AX28,AL_NUM_ARB,6,FALSE)))","v":"X"},{"$f":"IF(OR(PTA!AY28=\"\",PTA!AY28=\"X\"),\"X\",IF(PTA!AY28=\"*\",\"*\",VLOOKUP(PTA!AY28,AL_NUM_ARB,2,FALSE)&\" \"&VLOOKUP(PTA!AY28,AL_NUM_ARB,4,FALSE)&\" \"&VLOOKUP(PTA!AY28,AL_NUM_ARB,6,FALSE)))","v":"X"},{"$f":"IF(OR(PTA!AZ28=\"\",PTA!AZ28=\"X\"),\"X\",IF(PTA!AZ28=\"*\",\"*\",VLOOKUP(PTA!AZ28,AL_NUM_ARB,2,FALSE)&\" \"&VLOOKUP(PTA!AZ28,AL_NUM_ARB,4,FALSE)&\" \"&VLOOKUP(PTA!AZ28,AL_NUM_ARB,6,FALSE)))","v":"X"},{"$f":"IF(OR(PTA!BA28=\"\",PTA!BA28=\"X\"),\"X\",IF(PTA!BA28=\"*\",\"*\",VLOOKUP(PTA!BA28,AL_NUM_ARB,2,FALSE)&\" \"&VLOOKUP(PTA!BA28,AL_NUM_ARB,4,FALSE)&\" \"&VLOOKUP(PTA!BA28,AL_NUM_ARB,6,FALSE)))","v":"X"},{"$f":"IF(OR(PTA!BB28=\"\",PTA!BB28=\"X\"),\"X\",IF(PTA!BB28=\"*\",\"*\",VLOOKUP(PTA!BB28,AL_NUM_ARB,2,FALSE)&\" \"&VLOOKUP(PTA!BB28,AL_NUM_ARB,4,FALSE)&\" \"&VLOOKUP(PTA!BB28,AL_NUM_ARB,6,FALSE)))","v":"X"},{"$f":"IF(OR(PTA!BC28=\"\",PTA!BC28=\"X\"),\"X\",IF(PTA!BC28=\"*\",\"*\",VLOOKUP(PTA!BC28,AL_NUM_ARB,2,FALSE)&\" \"&VLOOKUP(PTA!BC28,AL_NUM_ARB,4,FALSE)&\" \"&VLOOKUP(PTA!BC28,AL_NUM_ARB,6,FALSE)))","v":"X"},{"$f":"IF(OR(PTA!BD28=\"\",PTA!BD28=\"X\"),\"X\",IF(PTA!BD28=\"*\",\"*\",VLOOKUP(PTA!BD28,AL_NUM_ARB,2,FALSE)&\" \"&VLOOKUP(PTA!BD28,AL_NUM_ARB,4,FALSE)&\" \"&VLOOKUP(PTA!BD28,AL_NUM_ARB,6,FALSE)))","v":"X"},{"$f":"IF(OR(PTA!BE28=\"\",PTA!BE28=\"X\"),\"X\",IF(PTA!BE28=\"*\",\"*\",VLOOKUP(PTA!BE28,AL_NUM_ARB,2,FALSE)&\" \"&VLOOKUP(PTA!BE28,AL_NUM_ARB,4,FALSE)&\" \"&VLOOKUP(PTA!BE28,AL_NUM_ARB,6,FALSE)))","v":"X"},{"$f":"IF(OR(PTA!BF28=\"\",PTA!BF28=\"X\"),\"X\",IF(PTA!BF28=\"*\",\"*\",VLOOKUP(PTA!BF28,AL_NUM_ARB,2,FALSE)&\" \"&VLOOKUP(PTA!BF28,AL_NUM_ARB,4,FALSE)&\" \"&VLOOKUP(PTA!BF28,AL_NUM_ARB,6,FALSE)))","v":"X"},{"$f":"IF(OR(PTA!BG28=\"\",PTA!BG28=\"X\"),\"X\",IF(PTA!BG28=\"*\",\"*\",VLOOKUP(PTA!BG28,AL_NUM_ARB,2,FALSE)&\" \"&VLOOKUP(PTA!BG28,AL_NUM_ARB,4,FALSE)&\" \"&VLOOKUP(PTA!BG28,AL_NUM_ARB,6,FALSE)))","v":"X"},{"$f":"IF(OR(PTA!BH28=\"\",PTA!BH28=\"X\"),\"X\",IF(PTA!BH28=\"*\",\"*\",VLOOKUP(PTA!BH28,AL_NUM_ARB,2,FALSE)&\" \"&VLOOKUP(PTA!BH28,AL_NUM_ARB,4,FALSE)&\" \"&VLOOKUP(PTA!BH28,AL_NUM_ARB,6,FALSE)))","v":"X"},{"$f":"IF(OR(PTA!BI28=\"\",PTA!BI28=\"X\"),\"X\",IF(PTA!BI28=\"*\",\"*\",VLOOKUP(PTA!BI28,AL_NUM_ARB,2,FALSE)&\" \"&VLOOKUP(PTA!BI28,AL_NUM_ARB,4,FALSE)&\" \"&VLOOKUP(PTA!BI28,AL_NUM_ARB,6,FALSE)))","v":"X"},{"$f":"IF(OR(PTA!BJ28=\"\",PTA!BJ28=\"X\"),\"X\",IF(PTA!BJ28=\"*\",\"*\",VLOOKUP(PTA!BJ28,AL_NUM_ARB,2,FALSE)&\" \"&VLOOKUP(PTA!BJ28,AL_NUM_ARB,4,FALSE)&\" \"&VLOOKUP(PTA!BJ28,AL_NUM_ARB,6,FALSE)))","v":"X"},{"$f":"IF(OR(PTA!BK28=\"\",PTA!BK28=\"X\"),\"X\",IF(PTA!BK28=\"*\",\"*\",VLOOKUP(PTA!BK28,AL_NUM_ARB,2,FALSE)&\" \"&VLOOKUP(PTA!BK28,AL_NUM_ARB,4,FALSE)&\" \"&VLOOKUP(PTA!BK28,AL_NUM_ARB,6,FALSE)))","v":"X"},{"$f":"IF(OR(PTA!BL28=\"\",PTA!BL28=\"X\"),\"X\",IF(PTA!BL28=\"*\",\"*\",VLOOKUP(PTA!BL28,AL_NUM_ARB,2,FALSE)&\" \"&VLOOKUP(PTA!BL28,AL_NUM_ARB,4,FALSE)&\" \"&VLOOKUP(PTA!BL28,AL_NUM_ARB,6,FALSE)))","v":"X"},{"$f":"IF(OR(PTA!BM28=\"\",PTA!BM28=\"X\"),\"X\",IF(PTA!BM28=\"*\",\"*\",VLOOKUP(PTA!BM28,AL_NUM_ARB,2,FALSE)&\" \"&VLOOKUP(PTA!BM28,AL_NUM_ARB,4,FALSE)&\" \"&VLOOKUP(PTA!BM28,AL_NUM_ARB,6,FALSE)))","v":"X"},{"$f":"IF(OR(PTA!BN28=\"\",PTA!BN28=\"X\"),\"X\",IF(PTA!BN28=\"*\",\"*\",VLOOKUP(PTA!BN28,AL_NUM_ARB,2,FALSE)&\" \"&VLOOKUP(PTA!BN28,AL_NUM_ARB,4,FALSE)&\" \"&VLOOKUP(PTA!BN28,AL_NUM_ARB,6,FALSE)))","v":"X"},{"$f":"IF(OR(PTA!BO28=\"\",PTA!BO28=\"X\"),\"X\",IF(PTA!BO28=\"*\",\"*\",VLOOKUP(PTA!BO28,AL_NUM_ARB,2,FALSE)&\" \"&VLOOKUP(PTA!BO28,AL_NUM_ARB,4,FALSE)&\" \"&VLOOKUP(PTA!BO28,AL_NUM_ARB,6,FALSE)))","v":"X"},{"$f":"IF(OR(PTA!BP28=\"\",PTA!BP28=\"X\"),\"X\",IF(PTA!BP28=\"*\",\"*\",VLOOKUP(PTA!BP28,AL_NUM_ARB,2,FALSE)&\" \"&VLOOKUP(PTA!BP28,AL_NUM_ARB,4,FALSE)&\" \"&VLOOKUP(PTA!BP28,AL_NUM_ARB,6,FALSE)))","v":"X"},{"$f":"IF(OR(PTA!BQ28=\"\",PTA!BQ28=\"X\"),\"X\",IF(PTA!BQ28=\"*\",\"*\",VLOOKUP(PTA!BQ28,AL_NUM_ARB,2,FALSE)&\" \"&VLOOKUP(PTA!BQ28,AL_NUM_ARB,4,FALSE)&\" \"&VLOOKUP(PTA!BQ28,AL_NUM_ARB,6,FALSE)))","v":"X"},{"$f":"IF(OR(PTA!BR28=\"\",PTA!BR28=\"X\"),\"X\",IF(PTA!BR28=\"*\",\"*\",VLOOKUP(PTA!BR28,AL_NUM_ARB,2,FALSE)&\" \"&VLOOKUP(PTA!BR28,AL_NUM_ARB,4,FALSE)&\" \"&VLOOKUP(PTA!BR28,AL_NUM_ARB,6,FALSE)))","v":"X"},{"$f":"IF(OR(PTA!BT28=\"\",PTA!BT28=\"X\"),\"X\",VLOOKUP(PTA!BT28,AL_NUM_ARB,2,FALSE)&\" \"&VLOOKUP(PTA!BT28,AL_NUM_ARB,4,FALSE)&\" \"&VLOOKUP(PTA!BT28,AL_NUM_ARB,6,FALSE))","v":"X"},{"$f":"IF(OR(PTA!BU28=\"\",PTA!BU28=\"X\"),\"X\",VLOOKUP(PTA!BU28,AL_NUM_ARB,2,FALSE)&\" \"&VLOOKUP(PTA!BU28,AL_NUM_ARB,4,FALSE)&\" \"&VLOOKUP(PTA!BU28,AL_NUM_ARB,6,FALSE))","v":"X"},{"$f":"IF(OR(PTA!BV28=\"\",PTA!BV28=\"X\"),\"X\",VLOOKUP(PTA!BV28,AL_NUM_ARB,2,FALSE)&\" \"&VLOOKUP(PTA!BV28,AL_NUM_ARB,4,FALSE)&\" \"&VLOOKUP(PTA!BV28,AL_NUM_ARB,6,FALSE))","v":"X"},{"$f":"IF(OR(PTA!BW28=\"\",PTA!BW28=\"X\"),\"X\",VLOOKUP(PTA!BW28,AL_NUM_ARB,2,FALSE)&\" \"&VLOOKUP(PTA!BW28,AL_NUM_ARB,4,FALSE)&\" \"&VLOOKUP(PTA!BW28,AL_NUM_ARB,6,FALSE))","v":"X"},"09:30:00"]
[{"$f":"PTA!A29","v":""},{"$f":"PTA!B29","v":"00:00:00"},{"$f":"PTA!C29","v":32},{"$f":"PTA!D29","v":0},{"$f":"IF(OR(PTA!E29=\"\",PTA!E29=\"X\"),\"X\",IF(PTA!E29=\"*\",\"*\",VLOOKUP(PTA!E29,AL_NUM_ARB,2,FALSE)&\" \"&VLOOKUP(PTA!E29,AL_NUM_ARB,4,FALSE)&\" \"&VLOOKUP(PTA!E29,AL_NUM_ARB,6,FALSE)))","v":"X"},{"$f":"IF(OR(PTA!F29=\"\",PTA!F29=\"X\"),\"X\",IF(PTA!F29=\"*\",\"*\",VLOOKUP(PTA!F29,AL_NUM_ARB,2,FALSE)&\" \"&VLOOKUP(PTA!F29,AL_NUM_ARB,4,FALSE)&\" \"&VLOOKUP(PTA!F29,AL_NUM_ARB,6,FALSE)))","v":"X"},{"$f":"IF(OR(PTA!G29=\"\",PTA!G29=\"X\"),\"X\",IF(PTA!G29=\"*\",\"*\",VLOOKUP(PTA!G29,AL_NUM_ARB,2,FALSE)&\" \"&VLOOKUP(PTA!G29,AL_NUM_ARB,4,FALSE)&\" \"&VLOOKUP(PTA!G29,AL_NUM_ARB,6,FALSE)))","v":"X"},{"$f":"IF(OR(PTA!H29=\"\",PTA!H29=\"X\"),\"X\",IF(PTA!H29=\"*\",\"*\",VLOOKUP(PTA!H29,AL_NUM_ARB,2,FALSE)&\" \"&VLOOKUP(PTA!H29,AL_NUM_ARB,4,FALSE)&\" \"&VLOOKUP(PTA!H29,AL_NUM_ARB,6,FALSE)))","v":"X"},{"$f":"IF(OR(PTA!I29=\"\",PTA!I29=\"X\"),\"X\",IF(PTA!I29=\"*\",\"*\",VLOOKUP(PTA!I29,AL_NUM_ARB,2,FALSE)&\" \"&VLOOKUP(PTA!I29,AL_NUM_ARB,4,FALSE)&\" \"&VLOOKUP(PTA!I29,AL_NUM_ARB,6,FALSE)))","v":"X"},{"$f":"IF(OR(PTA!J29=\"\",PTA!J29=\"X\"),\"X\",IF(PTA!J29=\"*\",\"*\",VLOOKUP(PTA!J29,AL_NUM_ARB,2,FALSE)&\" \"&VLOOKUP(PTA!J29,AL_NUM_ARB,4,FALSE)&\" \"&VLOOKUP(PTA!J29,AL_NUM_ARB,6,FALSE)))","v":"X"},{"$f":"IF(OR(PTA!K29=\"\",PTA!K29=\"X\"),\"X\",IF(PTA!K29=\"*\",\"*\",VLOOKUP(PTA!K29,AL_NUM_ARB,2,FALSE)&\" \"&VLOOKUP(PTA!K29,AL_NUM_ARB,4,FALSE)&\" \"&VLOOKUP(PTA!K29,AL_NUM_ARB,6,FALSE)))","v":"X"},{"$f":"IF(OR(PTA!L29=\"\",PTA!L29=\"X\"),\"X\",IF(PTA!L29=\"*\",\"*\",VLOOKUP(PTA!L29,AL_NUM_ARB,2,FALSE)&\" \"&VLOOKUP(PTA!L29,AL_NUM_ARB,4,FALSE)&\" \"&VLOOKUP(PTA!L29,AL_NUM_ARB,6,FALSE)))","v":"X"},{"$f":"IF(OR(PTA!M29=\"\",PTA!M29=\"X\"),\"X\",IF(PTA!M29=\"*\",\"*\",VLOOKUP(PTA!M29,AL_NUM_ARB,2,FALSE)&\" \"&VLOOKUP(PTA!M29,AL_NUM_ARB,4,FALSE)&\" \"&VLOOKUP(PTA!M29,AL_NUM_ARB,6,FALSE)))","v":"X"},{"$f":"IF(OR(PTA!N29=\"\",PTA!N29=\"X\"),\"X\",IF(PTA!N29=\"*\",\"*\",VLOOKUP(PTA!N29,AL_NUM_ARB,2,FALSE)&\" \"&VLOOKUP(PTA!N29,AL_NUM_ARB,4,FALSE)&\" \"&VLOOKUP(PTA!N29,AL_NUM_ARB,6,FALSE)))","v":"X"},{"$f":"IF(OR(PTA!O29=\"\",PTA!O29=\"X\"),\"X\",IF(PTA!O29=\"*\",\"*\",VLOOKUP(PTA!O29,AL_NUM_ARB,2,FALSE)&\" \"&VLOOKUP(PTA!O29,AL_NUM_ARB,4,FALSE)&\" \"&VLOOKUP(PTA!O29,AL_NUM_ARB,6,FALSE)))","v":"X"},{"$f":"IF(OR(PTA!P29=\"\",PTA!P29=\"X\"),\"X\",IF(PTA!P29=\"*\",\"*\",VLOOKUP(PTA!P29,AL_NUM_ARB,2,FALSE)&\" \"&VLOOKUP(PTA!P29,AL_NUM_ARB,4,FALSE)&\" \"&VLOOKUP(PTA!P29,AL_NUM_ARB,6,FALSE)))","v":"X"},{"$f":"IF(OR(PTA!Q29=\"\",PTA!Q29=\"X\"),\"X\",IF(PTA!Q29=\"*\",\"*\",VLOOKUP(PTA!Q29,AL_NUM_ARB,2,FALSE)&\" \"&VLOOKUP(PTA!Q29,AL_NUM_ARB,4,FALSE)&\" \"&VLOOKUP(PTA!Q29,AL_NUM_ARB,6,FALSE)))","v":"X"},{"$f":"IF(OR(PTA!R29=\"\",PTA!R29=\"X\"),\"X\",IF(PTA!R29=\"*\",\"*\",VLOOKUP(PTA!R29,AL_NUM_ARB,2,FALSE)&\" \"&VLOOKUP(PTA!R29,AL_NUM_ARB,4,FALSE)&\" \"&VLOOKUP(PTA!R29,AL_NUM_ARB,6,FALSE)))","v":"X"},{"$f":"IF(OR(PTA!S29=\"\",PTA!S29=\"X\"),\"X\",IF(PTA!S29=\"*\",\"*\",VLOOKUP(PTA!S29,AL_NUM_ARB,2,FALSE)&\" \"&VLOOKUP(PTA!S29,AL_NUM_ARB,4,FALSE)&\" \"&VLOOKUP(PTA!S29,AL_NUM_ARB,6,FALSE)))","v":"X"},{"$f":"IF(OR(PTA!T29=\"\",PTA!T29=\"X\"),\"X\",IF(PTA!T29=\"*\",\"*\",VLOOKUP(PTA!T29,AL_NUM_ARB,2,FALSE)&\" \"&VLOOKUP(PTA!T29,AL_NUM_ARB,4,FALSE)&\" \"&VLOOKUP(PTA!T29,AL_NUM_ARB,6,FALSE)))","v":"X"},{"$f":"IF(OR(PTA!U29=\"\",PTA!U29=\"X\"),\"X\",IF(PTA!U29=\"*\",\"*\",VLOOKUP(PTA!U29,AL_NUM_ARB,2,FALSE)&\" \"&VLOOKUP(PTA!U29,AL_NUM_ARB,4,FALSE)&\" \"&VLOOKUP(PTA!U29,AL_NUM_ARB,6,FALSE)))","v":"X"},{"$f":"IF(OR(PTA!V29=\"\",PTA!V29=\"X\"),\"X\",IF(PTA!V29=\"*\",\"*\",VLOOKUP(PTA!V29,AL_NUM_ARB,2,FALSE)&\" \"&VLOOKUP(PTA!V29,AL_NUM_ARB,4,FALSE)&\" \"&VLOOKUP(PTA!V29,AL_NUM_ARB,6,FALSE)))","v":"X"},{"$f":"IF(OR(PTA!W29=\"\",PTA!W29=\"X\"),\"X\",IF(PTA!W29=\"*\",\"*\",VLOOKUP(PTA!W29,AL_NUM_ARB,2,FALSE)&\" \"&VLOOKUP(PTA!W29,AL_NUM_ARB,4,FALSE)&\" \"&VLOOKUP(PTA!W29,AL_NUM_ARB,6,FALSE)))","v":"X"},{"$f":"IF(OR(PTA!X29=\"\",PTA!X29=\"X\"),\"X\",IF(PTA!X29=\"*\",\"*\",VLOOKUP(PTA!X29,AL_NUM_ARB,2,FALSE)&\" \"&VLOOKUP(PTA!X29,AL_NUM_ARB,4,FALSE)&\" \"&VLOOKUP(PTA!X29,AL_NUM_ARB,6,FALSE)))","v":"X"},{"$f":"IF(OR(PTA!Y29=\"\",PTA!Y29=\"X\"),\"X\",IF(PTA!Y29=\"*\",\"*\",VLOOKUP(PTA!Y29,AL_NUM_ARB,2,FALSE)&\" \"&VLOOKUP(PTA!Y29,AL_NUM_ARB,4,FALSE)&\" \"&VLOOKUP(PTA!Y29,AL_NUM_ARB,6,FALSE)))","v":"X"},{"$f":"IF(OR(PTA!Z29=\"\",PTA!Z29=\"X\"),\"X\",IF(PTA!Z29=\"*\",\"*\",VLOOKUP(PTA!Z29,AL_NUM_ARB,2,FALSE)&\" \"&VLOOKUP(PTA!Z29,AL_NUM_ARB,4,FALSE)&\" \"&VLOOKUP(PTA!Z29,AL_NUM_ARB,6,FALSE)))","v":"X"},{"$f":"IF(OR(PTA!AA29=\"\",PTA!AA29=\"X\"),\"X\",IF(PTA!AA29=\"*\",\"*\",VLOOKUP(PTA!AA29,AL_NUM_ARB,2,FALSE)&\" \"&VLOOKUP(PTA!AA29,AL_NUM_ARB,4,FALSE)&\" \"&VLOOKUP(PTA!AA29,AL_NUM_ARB,6,FALSE)))","v":"X"},{"$f":"IF(OR(PTA!AB29=\"\",PTA!AB29=\"X\"),\"X\",IF(PTA!AB29=\"*\",\"*\",VLOOKUP(PTA!AB29,AL_NUM_ARB,2,FALSE)&\" \"&VLOOKUP(PTA!AB29,AL_NUM_ARB,4,FALSE)&\" \"&VLOOKUP(PTA!AB29,AL_NUM_ARB,6,FALSE)))","v":"X"},{"$f":"IF(OR(PTA!AC29=\"\",PTA!AC29=\"X\"),\"X\",IF(PTA!AC29=\"*\",\"*\",VLOOKUP(PTA!AC29,AL_NUM_ARB,2,FALSE)&\" \"&VLOOKUP(PTA!AC29,AL_NUM_ARB,4,FALSE)&\" \"&VLOOKUP(PTA!AC29,AL_NUM_ARB,6,FALSE)))","v":"X"},{"$f":"IF(OR(PTA!AD29=\"\",PTA!AD29=\"X\"),\"X\",IF(PTA!AD29=\"*\",\"*\",VLOOKUP(PTA!AD29,AL_NUM_ARB,2,FALSE)&\" \"&VLOOKUP(PTA!AD29,AL_NUM_ARB,4,FALSE)&\" \"&VLOOKUP(PTA!AD29,AL_NUM_ARB,6,FALSE)))","v":"X"},{"$f":"IF(OR(PTA!AE29=\"\",PTA!AE29=\"X\"),\"X\",IF(PTA!AE29=\"*\",\"*\",VLOOKUP(PTA!AE29,AL_NUM_ARB,2,FALSE)&\" \"&VLOOKUP(PTA!AE29,AL_NUM_ARB,4,FALSE)&\" \"&VLOOKUP(PTA!AE29,AL_NUM_ARB,6,FALSE)))","v":"X"},{"$f":"IF(OR(PTA!AF29=\"\",PTA!AF29=\"X\"),\"X\",IF(PTA!AF29=\"*\",\"*\",VLOOKUP(PTA!AF29,AL_NUM_ARB,2,FALSE)&\" \"&VLOOKUP(PTA!AF29,AL_NUM_ARB,4,FALSE)&\" \"&VLOOKUP(PTA!AF29,AL_NUM_ARB,6,FALSE)))","v":"X"},{"$f":"IF(OR(PTA!AG29=\"\",PTA!AG29=\"X\"),\"X\",IF(PTA!AG29=\"*\",\"*\",VLOOKUP(PTA!AG29,AL_NUM_ARB,2,FALSE)&\" \"&VLOOKUP(PTA!AG29,AL_NUM_ARB,4,FALSE)&\" \"&VLOOKUP(PTA!AG29,AL_NUM_ARB,6,FALSE)))","v":"X"},{"$f":"IF(OR(PTA!AH29=\"\",PTA!AH29=\"X\"),\"X\",IF(PTA!AH29=\"*\",\"*\",VLOOKUP(PTA!AH29,AL_NUM_ARB,2,FALSE)&\" \"&VLOOKUP(PTA!AH29,AL_NUM_ARB,4,FALSE)&\" \"&VLOOKUP(PTA!AH29,AL_NUM_ARB,6,FALSE)))","v":"X"},{"$f":"IF(OR(PTA!AI29=\"\",PTA!AI29=\"X\"),\"X\",IF(PTA!AI29=\"*\",\"*\",VLOOKUP(PTA!AI29,AL_NUM_ARB,2,FALSE)&\" \"&VLOOKUP(PTA!AI29,AL_NUM_ARB,4,FALSE)&\" \"&VLOOKUP(PTA!AI29,AL_NUM_ARB,6,FALSE)))","v":"X"},{"$f":"IF(OR(PTA!AJ29=\"\",PTA!AJ29=\"X\"),\"X\",IF(PTA!AJ29=\"*\",\"*\",VLOOKUP(PTA!AJ29,AL_NUM_ARB,2,FALSE)&\" \"&VLOOKUP(PTA!AJ29,AL_NUM_ARB,4,FALSE)&\" \"&VLOOKUP(PTA!AJ29,AL_NUM_ARB,6,FALSE)))","v":"X"},{"$f":"IF(OR(PTA!AK29=\"\",PTA!AK29=\"X\"),\"X\",IF(PTA!AK29=\"*\",\"*\",VLOOKUP(PTA!AK29,AL_NUM_ARB,2,FALSE)&\" \"&VLOOKUP(PTA!AK29,AL_NUM_ARB,4,FALSE)&\" \"&VLOOKUP(PTA!AK29,AL_NUM_ARB,6,FALSE)))","v":"X"},{"$f":"IF(OR(PTA!AL29=\"\",PTA!AL29=\"X\"),\"X\",IF(PTA!AL29=\"*\",\"*\",VLOOKUP(PTA!AL29,AL_NUM_ARB,2,FALSE)&\" \"&VLOOKUP(PTA!AL29,AL_NUM_ARB,4,FALSE)&\" \"&VLOOKUP(PTA!AL29,AL_NUM_ARB,6,FALSE)))","v":"X"},{"$f":"IF(OR(PTA!AM29=\"\",PTA!AM29=\"X\"),\"X\",IF(PTA!AM29=\"*\",\"*\",VLOOKUP(PTA!AM29,AL_NUM_ARB,2,FALSE)&\" \"&VLOOKUP(PTA!AM29,AL_NUM_ARB,4,FALSE)&\" \"&VLOOKUP(PTA!AM29,AL_NUM_ARB,6,FALSE)))","v":"X"},{"$f":"IF(OR(PTA!AN29=\"\",PTA!AN29=\"X\"),\"X\",IF(PTA!AN29=\"*\",\"*\",VLOOKUP(PTA!AN29,AL_NUM_ARB,2,FALSE)&\" \"&VLOOKUP(PTA!AN29,AL_NUM_ARB,4,FALSE)&\" \"&VLOOKUP(PTA!AN29,AL_NUM_ARB,6,FALSE)))","v":"X"},{"$f":"IF(OR(PTA!AO29=\"\",PTA!AO29=\"X\"),\"X\",IF(PTA!AO29=\"*\",\"*\",VLOOKUP(PTA!AO29,AL_NUM_ARB,2,FALSE)&\" \"&VLOOKUP(PTA!AO29,AL_NUM_ARB,4,FALSE)&\" \"&VLOOKUP(PTA!AO29,AL_NUM_ARB,6,FALSE)))","v":"X"},{"$f":"IF(OR(PTA!AP29=\"\",PTA!AP29=\"X\"),\"X\",IF(PTA!AP29=\"*\",\"*\",VLOOKUP(PTA!AP29,AL_NUM_ARB,2,FALSE)&\" \"&VLOOKUP(PTA!AP29,AL_NUM_ARB,4,FALSE)&\" \"&VLOOKUP(PTA!AP29,AL_NUM_ARB,6,FALSE)))","v":"X"},{"$f":"IF(OR(PTA!AQ29=\"\",PTA!AQ29=\"X\"),\"X\",IF(PTA!AQ29=\"*\",\"*\",VLOOKUP(PTA!AQ29,AL_NUM_ARB,2,FALSE)&\" \"&VLOOKUP(PTA!AQ29,AL_NUM_ARB,4,FALSE)&\" \"&VLOOKUP(PTA!AQ29,AL_NUM_ARB,6,FALSE)))","v":"X"},{"$f":"IF(OR(PTA!AR29=\"\",PTA!AR29=\"X\"),\"X\",IF(PTA!AR29=\"*\",\"*\",VLOOKUP(PTA!AR29,AL_NUM_ARB,2,FALSE)&\" \"&VLOOKUP(PTA!AR29,AL_NUM_ARB,4,FALSE)&\" \"&VLOOKUP(PTA!AR29,AL_NUM_ARB,6,FALSE)))","v":"X"},{"$f":"IF(OR(PTA!AS29=\"\",PTA!AS29=\"X\"),\"X\",IF(PTA!AS29=\"*\",\"*\",VLOOKUP(PTA!AS29,AL_NUM_ARB,2,FALSE)&\" \"&VLOOKUP(PTA!AS29,AL_NUM_ARB,4,FALSE)&\" \"&VLOOKUP(PTA!AS29,AL_NUM_ARB,6,FALSE)))","v":"X"},{"$f":"IF(OR(PTA!AT29=\"\",PTA!AT29=\"X\"),\"X\",IF(PTA!AT29=\"*\",\"*\",VLOOKUP(PTA!AT29,AL_NUM_ARB,2,FALSE)&\" \"&VLOOKUP(PTA!AT29,AL_NUM_ARB,4,FALSE)&\" \"&VLOOKUP(PTA!AT29,AL_NUM_ARB,6,FALSE)))","v":"X"},{"$f":"IF(OR(PTA!AU29=\"\",PTA!AU29=\"X\"),\"X\",IF(PTA!AU29=\"*\",\"*\",VLOOKUP(PTA!AU29,AL_NUM_ARB,2,FALSE)&\" \"&VLOOKUP(PTA!AU29,AL_NUM_ARB,4,FALSE)&\" \"&VLOOKUP(PTA!AU29,AL_NUM_ARB,6,FALSE)))","v":"X"},{"$f":"IF(OR(PTA!AV29=\"\",PTA!AV29=\"X\"),\"X\",IF(PTA!AV29=\"*\",\"*\",VLOOKUP(PTA!AV29,AL_NUM_ARB,2,FALSE)&\" \"&VLOOKUP(PTA!AV29,AL_NUM_ARB,4,FALSE)&\" \"&VLOOKUP(PTA!AV29,AL_NUM_ARB,6,FALSE)))","v":"X"},{"$f":"IF(OR(PTA!AW29=\"\",PTA!AW29=\"X\"),\"X\",IF(PTA!AW29=\"*\",\"*\",VLOOKUP(PTA!AW29,AL_NUM_ARB,2,FALSE)&\" \"&VLOOKUP(PTA!AW29,AL_NUM_ARB,4,FALSE)&\" \"&VLOOKUP(PTA!AW29,AL_NUM_ARB,6,FALSE)))","v":"X"},{"$f":"IF(OR(PTA!AX29=\"\",PTA!AX29=\"X\"),\"X\",IF(PTA!AX29=\"*\",\"*\",VLOOKUP(PTA!AX29,AL_NUM_ARB,2,FALSE)&\" \"&VLOOKUP(PTA!AX29,AL_NUM_ARB,4,FALSE)&\" \"&VLOOKUP(PTA!AX29,AL_NUM_ARB,6,FALSE)))","v":"X"},{"$f":"IF(OR(PTA!AY29=\"\",PTA!AY29=\"X\"),\"X\",IF(PTA!AY29=\"*\",\"*\",VLOOKUP(PTA!AY29,AL_NUM_ARB,2,FALSE)&\" \"&VLOOKUP(PTA!AY29,AL_NUM_ARB,4,FALSE)&\" \"&VLOOKUP(PTA!AY29,AL_NUM_ARB,6,FALSE)))","v":"X"},{"$f":"IF(OR(PTA!AZ29=\"\",PTA!AZ29=\"X\"),\"X\",IF(PTA!AZ29=\"*\",\"*\",VLOOKUP(PTA!AZ29,AL_NUM_ARB,2,FALSE)&\" \"&VLOOKUP(PTA!AZ29,AL_NUM_ARB,4,FALSE)&\" \"&VLOOKUP(PTA!AZ29,AL_NUM_ARB,6,FALSE)))","v":"X"},{"$f":"IF(OR(PTA!BA29=\"\",PTA!BA29=\"X\"),\"X\",IF(PTA!BA29=\"*\",\"*\",VLOOKUP(PTA!BA29,AL_NUM_ARB,2,FALSE)&\" \"&VLOOKUP(PTA!BA29,AL_NUM_ARB,4,FALSE)&\" \"&VLOOKUP(PTA!BA29,AL_NUM_ARB,6,FALSE)))","v":"X"},{"$f":"IF(OR(PTA!BB29=\"\",PTA!BB29=\"X\"),\"X\",IF(PTA!BB29=\"*\",\"*\",VLOOKUP(PTA!BB29,AL_NUM_ARB,2,FALSE)&\" \"&VLOOKUP(PTA!BB29,AL_NUM_ARB,4,FALSE)&\" \"&VLOOKUP(PTA!BB29,AL_NUM_ARB,6,FALSE)))","v":"X"},{"$f":"IF(OR(PTA!BC29=\"\",PTA!BC29=\"X\"),\"X\",IF(PTA!BC29=\"*\",\"*\",VLOOKUP(PTA!BC29,AL_NUM_ARB,2,FALSE)&\" \"&VLOOKUP(PTA!BC29,AL_NUM_ARB,4,FALSE)&\" \"&VLOOKUP(PTA!BC29,AL_NUM_ARB,6,FALSE)))","v":"X"},{"$f":"IF(OR(PTA!BD29=\"\",PTA!BD29=\"X\"),\"X\",IF(PTA!BD29=\"*\",\"*\",VLOOKUP(PTA!BD29,AL_NUM_ARB,2,FALSE)&\" \"&VLOOKUP(PTA!BD29,AL_NUM_ARB,4,FALSE)&\" \"&VLOOKUP(PTA!BD29,AL_NUM_ARB,6,FALSE)))","v":"X"},{"$f":"IF(OR(PTA!BE29=\"\",PTA!BE29=\"X\"),\"X\",IF(PTA!BE29=\"*\",\"*\",VLOOKUP(PTA!BE29,AL_NUM_ARB,2,FALSE)&\" \"&VLOOKUP(PTA!BE29,AL_NUM_ARB,4,FALSE)&\" \"&VLOOKUP(PTA!BE29,AL_NUM_ARB,6,FALSE)))","v":"X"},{"$f":"IF(OR(PTA!BF29=\"\",PTA!BF29=\"X\"),\"X\",IF(PTA!BF29=\"*\",\"*\",VLOOKUP(PTA!BF29,AL_NUM_ARB,2,FALSE)&\" \"&VLOOKUP(PTA!BF29,AL_NUM_ARB,4,FALSE)&\" \"&VLOOKUP(PTA!BF29,AL_NUM_ARB,6,FALSE)))","v":"X"},{"$f":"IF(OR(PTA!BG29=\"\",PTA!BG29=\"X\"),\"X\",IF(PTA!BG29=\"*\",\"*\",VLOOKUP(PTA!BG29,AL_NUM_ARB,2,FALSE)&\" \"&VLOOKUP(PTA!BG29,AL_NUM_ARB,4,FALSE)&\" \"&VLOOKUP(PTA!BG29,AL_NUM_ARB,6,FALSE)))","v":"X"},{"$f":"IF(OR(PTA!BH29=\"\",PTA!BH29=\"X\"),\"X\",IF(PTA!BH29=\"*\",\"*\",VLOOKUP(PTA!BH29,AL_NUM_ARB,2,FALSE)&\" \"&VLOOKUP(PTA!BH29,AL_NUM_ARB,4,FALSE)&\" \"&VLOOKUP(PTA!BH29,AL_NUM_ARB,6,FALSE)))","v":"X"},{"$f":"IF(OR(PTA!BI29=\"\",PTA!BI29=\"X\"),\"X\",IF(PTA!BI29=\"*\",\"*\",VLOOKUP(PTA!BI29,AL_NUM_ARB,2,FALSE)&\" \"&VLOOKUP(PTA!BI29,AL_NUM_ARB,4,FALSE)&\" \"&VLOOKUP(PTA!BI29,AL_NUM_ARB,6,FALSE)))","v":"X"},{"$f":"IF(OR(PTA!BJ29=\"\",PTA!BJ29=\"X\"),\"X\",IF(PTA!BJ29=\"*\",\"*\",VLOOKUP(PTA!BJ29,AL_NUM_ARB,2,FALSE)&\" \"&VLOOKUP(PTA!BJ29,AL_NUM_ARB,4,FALSE)&\" \"&VLOOKUP(PTA!BJ29,AL_NUM_ARB,6,FALSE)))","v":"X"},{"$f":"IF(OR(PTA!BK29=\"\",PTA!BK29=\"X\"),\"X\",IF(PTA!BK29=\"*\",\"*\",VLOOKUP(PTA!BK29,AL_NUM_ARB,2,FALSE)&\" \"&VLOOKUP(PTA!BK29,AL_NUM_ARB,4,FALSE)&\" \"&VLOOKUP(PTA!BK29,AL_NUM_ARB,6,FALSE)))","v":"X"},{"$f":"IF(OR(PTA!BL29=\"\",PTA!BL29=\"X\"),\"X\",IF(PTA!BL29=\"*\",\"*\",VLOOKUP(PTA!BL29,AL_NUM_ARB,2,FALSE)&\" \"&VLOOKUP(PTA!BL29,AL_NUM_ARB,4,FALSE)&\" \"&VLOOKUP(PTA!BL29,AL_NUM_ARB,6,FALSE)))","v":"X"},{"$f":"IF(OR(PTA!BM29=\"\",PTA!BM29=\"X\"),\"X\",IF(PTA!BM29=\"*\",\"*\",VLOOKUP(PTA!BM29,AL_NUM_ARB,2,FALSE)&\" \"&VLOOKUP(PTA!BM29,AL_NUM_ARB,4,FALSE)&\" \"&VLOOKUP(PTA!BM29,AL_NUM_ARB,6,FALSE)))","v":"X"},{"$f":"IF(OR(PTA!BN29=\"\",PTA!BN29=\"X\"),\"X\",IF(PTA!BN29=\"*\",\"*\",VLOOKUP(PTA!BN29,AL_NUM_ARB,2,FALSE)&\" \"&VLOOKUP(PTA!BN29,AL_NUM_ARB,4,FALSE)&\" \"&VLOOKUP(PTA!BN29,AL_NUM_ARB,6,FALSE)))","v":"X"},{"$f":"IF(OR(PTA!BO29=\"\",PTA!BO29=\"X\"),\"X\",IF(PTA!BO29=\"*\",\"*\",VLOOKUP(PTA!BO29,AL_NUM_ARB,2,FALSE)&\" \"&VLOOKUP(PTA!BO29,AL_NUM_ARB,4,FALSE)&\" \"&VLOOKUP(PTA!BO29,AL_NUM_ARB,6,FALSE)))","v":"X"},{"$f":"IF(OR(PTA!BP29=\"\",PTA!BP29=\"X\"),\"X\",IF(PTA!BP29=\"*\",\"*\",VLOOKUP(PTA!BP29,AL_NUM_ARB,2,FALSE)&\" \"&VLOOKUP(PTA!BP29,AL_NUM_ARB,4,FALSE)&\" \"&VLOOKUP(PTA!BP29,AL_NUM_ARB,6,FALSE)))","v":"X"},{"$f":"IF(OR(PTA!BQ29=\"\",PTA!BQ29=\"X\"),\"X\",IF(PTA!BQ29=\"*\",\"*\",VLOOKUP(PTA!BQ29,AL_NUM_ARB,2,FALSE)&\" \"&VLOOKUP(PTA!BQ29,AL_NUM_ARB,4,FALSE)&\" \"&VLOOKUP(PTA!BQ29,AL_NUM_ARB,6,FALSE)))","v":"X"},{"$f":"IF(OR(PTA!BR29=\"\",PTA!BR29=\"X\"),\"X\",IF(PTA!BR29=\"*\",\"*\",VLOOKUP(PTA!BR29,AL_NUM_ARB,2,FALSE)&\" \"&VLOOKUP(PTA!BR29,AL_NUM_ARB,4,FALSE)&\" \"&VLOOKUP(PTA!BR29,AL_NUM_ARB,6,FALSE)))","v":"X"},{"$f":"IF(OR(PTA!BT29=\"\",PTA!BT29=\"X\"),\"X\",VLOOKUP(PTA!BT29,AL_NUM_ARB,2,FALSE)&\" \"&VLOOKUP(PTA!BT29,AL_NUM_ARB,4,FALSE)&\" \"&VLOOKUP(PTA!BT29,AL_NUM_ARB,6,FALSE))","v":"X"},{"$f":"IF(OR(PTA!BU29=\"\",PTA!BU29=\"X\"),\"X\",VLOOKUP(PTA!BU29,AL_NUM_ARB,2,FALSE)&\" \"&VLOOKUP(PTA!BU29,AL_NUM_ARB,4,FALSE)&\" \"&VLOOKUP(PTA!BU29,AL_NUM_ARB,6,FALSE))","v":"X"},{"$f":"IF(OR(PTA!BV29=\"\",PTA!BV29=\"X\"),\"X\",VLOOKUP(PTA!BV29,AL_NUM_ARB,2,FALSE)&\" \"&VLOOKUP(PTA!BV29,AL_NUM_ARB,4,FALSE)&\" \"&VLOOKUP(PTA!BV29,AL_NUM_ARB,6,FALSE))","v":"X"},{"$f":"IF(OR(PTA!BW29=\"\",PTA!BW29=\"X\"),\"X\",VLOOKUP(PTA!BW29,AL_NUM_ARB,2,FALSE)&\" \"&VLOOKUP(PTA!BW29,AL_NUM_ARB,4,FALSE)&\" \"&VLOOKUP(PTA!BW29,AL_NUM_ARB,6,FALSE))","v":"X"},"10:00:00"]
[{"$f":"PTA!A30","v":""},{"$f":"PTA!B30","v":"00:00:00"},{"$f":"PTA!C30","v":32},{"$f":"PTA!D30","v":0},{"$f":"IF(OR(PTA!E30=\"\",PTA!E30=\"X\"),\"X\",IF(PTA!E30=\"*\",\"*\",VLOOKUP(PTA!E30,AL_NUM_ARB,2,FALSE)&\" \"&VLOOKUP(PTA!E30,AL_NUM_ARB,4,FALSE)&\" \"&VLOOKUP(PTA!E30,AL_NUM_ARB,6,FALSE)))","v":"X"},{"$f":"IF(OR(PTA!F30=\"\",PTA!F30=\"X\"),\"X\",IF(PTA!F30=\"*\",\"*\",VLOOKUP(PTA!F30,AL_NUM_ARB,2,FALSE)&\" \"&VLOOKUP(PTA!F30,AL_NUM_ARB,4,FALSE)&\" \"&VLOOKUP(PTA!F30,AL_NUM_ARB,6,FALSE)))","v":"X"},{"$f":"IF(OR(PTA!G30=\"\",PTA!G30=\"X\"),\"X\",IF(PTA!G30=\"*\",\"*\",VLOOKUP(PTA!G30,AL_NUM_ARB,2,FALSE)&\" \"&VLOOKUP(PTA!G30,AL_NUM_ARB,4,FALSE)&\" \"&VLOOKUP(PTA!G30,AL_NUM_ARB,6,FALSE)))","v":"X"},{"$f":"IF(OR(PTA!H30=\"\",PTA!H30=\"X\"),\"X\",IF(PTA!H30=\"*\",\"*\",VLOOKUP(PTA!H30,AL_NUM_ARB,2,FALSE)&\" \"&VLOOKUP(PTA!H30,AL_NUM_ARB,4,FALSE)&\" \"&VLOOKUP(PTA!H30,AL_NUM_ARB,6,FALSE)))","v":"X"},{"$f":"IF(OR(PTA!I30=\"\",PTA!I30=\"X\"),\"X\",IF(PTA!I30=\"*\",\"*\",VLOOKUP(PTA!I30,AL_NUM_ARB,2,FALSE)&\" \"&VLOOKUP(PTA!I30,AL_NUM_ARB,4,FALSE)&\" \"&VLOOKUP(PTA!I30,AL_NUM_ARB,6,FALSE)))","v":"X"},{"$f":"IF(OR(PTA!J30=\"\",PTA!J30=\"X\"),\"X\",IF(PTA!J30=\"*\",\"*\",VLOOKUP(PTA!J30,AL_NUM_ARB,2,FALSE)&\" \"&VLOOKUP(PTA!J30,AL_NUM_ARB,4,FALSE)&\" \"&VLOOKUP(PTA!J30,AL_NUM_ARB,6,FALSE)))","v":"X"},{"$f":"IF(OR(PTA!K30=\"\",PTA!K30=\"X\"),\"X\",IF(PTA!K30=\"*\",\"*\",VLOOKUP(PTA!K30,AL_NUM_ARB,2,FALSE)&\" \"&VLOOKUP(PTA!K30,AL_NUM_ARB,4,FALSE)&\" \"&VLOOKUP(PTA!K30,AL_NUM_ARB,6,FALSE)))","v":"X"},{"$f":"IF(OR(PTA!L30=\"\",PTA!L30=\"X\"),\"X\",IF(PTA!L30=\"*\",\"*\",VLOOKUP(PTA!L30,AL_NUM_ARB,2,FALSE)&\" \"&VLOOKUP(PTA!L30,AL_NUM_ARB,4,FALSE)&\" \"&VLOOKUP(PTA!L30,AL_NUM_ARB,6,FALSE)))","v":"X"},{"$f":"IF(OR(PTA!M30=\"\",PTA!M30=\"X\"),\"X\",IF(PTA!M30=\"*\",\"*\",VLOOKUP(PTA!M30,AL_NUM_ARB,2,FALSE)&\" \"&VLOOKUP(PTA!M30,AL_NUM_ARB,4,FALSE)&\" \"&VLOOKUP(PTA!M30,AL_NUM_ARB,6,FALSE)))","v":"X"},{"$f":"IF(OR(PTA!N30=\"\",PTA!N30=\"X\"),\"X\",IF(PTA!N30=\"*\",\"*\",VLOOKUP(PTA!N30,AL_NUM_ARB,2,FALSE)&\" \"&VLOOKUP(PTA!N30,AL_NUM_ARB,4,FALSE)&\" \"&VLOOKUP(PTA!N30,AL_NUM_ARB,6,FALSE)))","v":"X"},{"$f":"IF(OR(PTA!O30=\"\",PTA!O30=\"X\"),\"X\",IF(PTA!O30=\"*\",\"*\",VLOOKUP(PTA!O30,AL_NUM_ARB,2,FALSE)&\" \"&VLOOKUP(PTA!O30,AL_NUM_ARB,4,FALSE)&\" \"&VLOOKUP(PTA!O30,AL_NUM_ARB,6,FALSE)))","v":"X"},{"$f":"IF(OR(PTA!P30=\"\",PTA!P30=\"X\"),\"X\",IF(PTA!P30=\"*\",\"*\",VLOOKUP(PTA!P30,AL_NUM_ARB,2,FALSE)&\" \"&VLOOKUP(PTA!P30,AL_NUM_ARB,4,FALSE)&\" \"&VLOOKUP(PTA!P30,AL_NUM_ARB,6,FALSE)))","v":"X"},{"$f":"IF(OR(PTA!Q30=\"\",PTA!Q30=\"X\"),\"X\",IF(PTA!Q30=\"*\",\"*\",VLOOKUP(PTA!Q30,AL_NUM_ARB,2,FALSE)&\" \"&VLOOKUP(PTA!Q30,AL_NUM_ARB,4,FALSE)&\" \"&VLOOKUP(PTA!Q30,AL_NUM_ARB,6,FALSE)))","v":"X"},{"$f":"IF(OR(PTA!R30=\"\",PTA!R30=\"X\"),\"X\",IF(PTA!R30=\"*\",\"*\",VLOOKUP(PTA!R30,AL_NUM_ARB,2,FALSE)&\" \"&VLOOKUP(PTA!R30,AL_NUM_ARB,4,FALSE)&\" \"&VLOOKUP(PTA!R30,AL_NUM_ARB,6,FALSE)))","v":"X"},{"$f":"IF(OR(PTA!S30=\"\",PTA!S30=\"X\"),\"X\",IF(PTA!S30=\"*\",\"*\",VLOOKUP(PTA!S30,AL_NUM_ARB,2,FALSE)&\" \"&VLOOKUP(PTA!S30,AL_NUM_ARB,4,FALSE)&\" \"&VLOOKUP(PTA!S30,AL_NUM_ARB,6,FALSE)))","v":"X"},{"$f":"IF(OR(PTA!T30=\"\",PTA!T30=\"X\"),\"X\",IF(PTA!T30=\"*\",\"*\",VLOOKUP(PTA!T30,AL_NUM_ARB,2,FALSE)&\" \"&VLOOKUP(PTA!T30,AL_NUM_ARB,4,FALSE)&\" \"&VLOOKUP(PTA!T30,AL_NUM_ARB,6,FALSE)))","v":"X"},{"$f":"IF(OR(PTA!U30=\"\",PTA!U30=\"X\"),\"X\",IF(PTA!U30=\"*\",\"*\",VLOOKUP(PTA!U30,AL_NUM_ARB,2,FALSE)&\" \"&VLOOKUP(PTA!U30,AL_NUM_ARB,4,FALSE)&\" \"&VLOOKUP(PTA!U30,AL_NUM_ARB,6,FALSE)))","v":"X"},{"$f":"IF(OR(PTA!V30=\"\",PTA!V30=\"X\"),\"X\",IF(PTA!V30=\"*\",\"*\",VLOOKUP(PTA!V30,AL_NUM_ARB,2,FALSE)&\" \"&VLOOKUP(PTA!V30,AL_NUM_ARB,4,FALSE)&\" \"&VLOOKUP(PTA!V30,AL_NUM_ARB,6,FALSE)))","v":"X"},{"$f":"IF(OR(PTA!W30=\"\",PTA!W30=\"X\"),\"X\",IF(PTA!W30=\"*\",\"*\",VLOOKUP(PTA!W30,AL_NUM_ARB,2,FALSE)&\" \"&VLOOKUP(PTA!W30,AL_NUM_ARB,4,FALSE)&\" \"&VLOOKUP(PTA!W30,AL_NUM_ARB,6,FALSE)))","v":"X"},{"$f":"IF(OR(PTA!X30=\"\",PTA!X30=\"X\"),\"X\",IF(PTA!X30=\"*\",\"*\",VLOOKUP(PTA!X30,AL_NUM_ARB,2,FALSE)&\" \"&VLOOKUP(PTA!X30,AL_NUM_ARB,4,FALSE)&\" \"&VLOOKUP(PTA!X30,AL_NUM_ARB,6,FALSE)))","v":"X"},{"$f":"IF(OR(PTA!Y30=\"\",PTA!Y30=\"X\"),\"X\",IF(PTA!Y30=\"*\",\"*\",VLOOKUP(PTA!Y30,AL_NUM_ARB,2,FALSE)&\" \"&VLOOKUP(PTA!Y30,AL_NUM_ARB,4,FALSE)&\" \"&VLOOKUP(PTA!Y30,AL_NUM_ARB,6,FALSE)))","v":"X"},{"$f":"IF(OR(PTA!Z30=\"\",PTA!Z30=\"X\"),\"X\",IF(PTA!Z30=\"*\",\"*\",VLOOKUP(PTA!Z30,AL_NUM_ARB,2,FALSE)&\" \"&VLOOKUP(PTA!Z30,AL_NUM_ARB,4,FALSE)&\" \"&VLOOKUP(PTA!Z30,AL_NUM_ARB,6,FALSE)))","v":"X"},{"$f":"IF(OR(PTA!AA30=\"\",PTA!AA30=\"X\"),\"X\",IF(PTA!AA30=\"*\",\"*\",VLOOKUP(PTA!AA30,AL_NUM_ARB,2,FALSE)&\" \"&VLOOKUP(PTA!AA30,AL_NUM_ARB,4,FALSE)&\" \"&VLOOKUP(PTA!AA30,AL_NUM_ARB,6,FALSE)))","v":"X"},{"$f":"IF(OR(PTA!AB30=\"\",PTA!AB30=\"X\"),\"X\",IF(PTA!AB30=\"*\",\"*\",VLOOKUP(PTA!AB30,AL_NUM_ARB,2,FALSE)&\" \"&VLOOKUP(PTA!AB30,AL_NUM_ARB,4,FALSE)&\" \"&VLOOKUP(PTA!AB30,AL_NUM_ARB,6,FALSE)))","v":"X"},{"$f":"IF(OR(PTA!AC30=\"\",PTA!AC30=\"X\"),\"X\",IF(PTA!AC30=\"*\",\"*\",VLOOKUP(PTA!AC30,AL_NUM_ARB,2,FALSE)&\" \"&VLOOKUP(PTA!AC30,AL_NUM_ARB,4,FALSE)&\" \"&VLOOKUP(PTA!AC30,AL_NUM_ARB,6,FALSE)))","v":"X"},{"$f":"IF(OR(PTA!AD30=\"\",PTA!AD30=\"X\"),\"X\",IF(PTA!AD30=\"*\",\"*\",VLOOKUP(PTA!AD30,AL_NUM_ARB,2,FALSE)&\" \"&VLOOKUP(PTA!AD30,AL_NUM_ARB,4,FALSE)&\" \"&VLOOKUP(PTA!AD30,AL_NUM_ARB,6,FALSE)))","v":"X"},{"$f":"IF(OR(PTA!AE30=\"\",PTA!AE30=\"X\"),\"X\",IF(PTA!AE30=\"*\",\"*\",VLOOKUP(PTA!AE30,AL_NUM_ARB,2,FALSE)&\" \"&VLOOKUP(PTA!AE30,AL_NUM_ARB,4,FALSE)&\" \"&VLOOKUP(PTA!AE30,AL_NUM_ARB,6,FALSE)))","v":"X"},{"$f":"IF(OR(PTA!AF30=\"\",PTA!AF30=\"X\"),\"X\",IF(PTA!AF30=\"*\",\"*\",VLOOKUP(PTA!AF30,AL_NUM_ARB,2,FALSE)&\" \"&VLOOKUP(PTA!AF30,AL_NUM_ARB,4,FALSE)&\" \"&VLOOKUP(PTA!AF30,AL_NUM_ARB,6,FALSE)))","v":"X"},{"$f":"IF(OR(PTA!AG30=\"\",PTA!AG30=\"X\"),\"X\",IF(PTA!AG30=\"*\",\"*\",VLOOKUP(PTA!AG30,AL_NUM_ARB,2,FALSE)&\" \"&VLOOKUP(PTA!AG30,AL_NUM_ARB,4,FALSE)&\" \"&VLOOKUP(PTA!AG30,AL_NUM_ARB,6,FALSE)))","v":"X"},{"$f":"IF(OR(PTA!AH30=\"\",PTA!AH30=\"X\"),\"X\",IF(PTA!AH30=\"*\",\"*\",VLOOKUP(PTA!AH30,AL_NUM_ARB,2,FALSE)&\" \"&VLOOKUP(PTA!AH30,AL_NUM_ARB,4,FALSE)&\" \"&VLOOKUP(PTA!AH30,AL_NUM_ARB,6,FALSE)))","v":"X"},{"$f":"IF(OR(PTA!AI30=\"\",PTA!AI30=\"X\"),\"X\",IF(PTA!AI30=\"*\",\"*\",VLOOKUP(PTA!AI30,AL_NUM_ARB,2,FALSE)&\" \"&VLOOKUP(PTA!AI30,AL_NUM_ARB,4,FALSE)&\" \"&VLOOKUP(PTA!AI30,AL_NUM_ARB,6,FALSE)))","v":"X"},{"$f":"IF(OR(PTA!AJ30=\"\",PTA!AJ30=\"X\"),\"X\",IF(PTA!AJ30=\"*\",\"*\",VLOOKUP(PTA!AJ30,AL_NUM_ARB,2,FALSE)&\" \"&VLOOKUP(PTA!AJ30,AL_NUM_ARB,4,FALSE)&\" \"&VLOOKUP(PTA!AJ30,AL_NUM_ARB,6,FALSE)))","v":"X"},{"$f":"IF(OR(PTA!AK30=\"\",PTA!AK30=\"X\"),\"X\",IF(PTA!AK30=\"*\",\"*\",VLOOKUP(PTA!AK30,AL_NUM_ARB,2,FALSE)&\" \"&VLOOKUP(PTA!AK30,AL_NUM_ARB,4,FALSE)&\" \"&VLOOKUP(PTA!AK30,AL_NUM_ARB,6,FALSE)))","v":"X"},{"$f":"IF(OR(PTA!AL30=\"\",PTA!AL30=\"X\"),\"X\",IF(PTA!AL30=\"*\",\"*\",VLOOKUP(PTA!AL30,AL_NUM_ARB,2,FALSE)&\" \"&VLOOKUP(PTA!AL30,AL_NUM_ARB,4,FALSE)&\" \"&VLOOKUP(PTA!AL30,AL_NUM_ARB,6,FALSE)))","v":"X"},{"$f":"IF(OR(PTA!AM30=\"\",PTA!AM30=\"X\"),\"X\",IF(PTA!AM30=\"*\",\"*\",VLOOKUP(PTA!AM30,AL_NUM_ARB,2,FALSE)&\" \"&VLOOKUP(PTA!AM30,AL_NUM_ARB,4,FALSE)&\" \"&VLOOKUP(PTA!AM30,AL_NUM_ARB,6,FALSE)))","v":"X"},{"$f":"IF(OR(PTA!AN30=\"\",PTA!AN30=\"X\"),\"X\",IF(PTA!AN30=\"*\",\"*\",VLOOKUP(PTA!AN30,AL_NUM_ARB,2,FALSE)&\" \"&VLOOKUP(PTA!AN30,AL_NUM_ARB,4,FALSE)&\" \"&VLOOKUP(PTA!AN30,AL_NUM_ARB,6,FALSE)))","v":"X"},{"$f":"IF(OR(PTA!AO30=\"\",PTA!AO30=\"X\"),\"X\",IF(PTA!AO30=\"*\",\"*\",VLOOKUP(PTA!AO30,AL_NUM_ARB,2,FALSE)&\" \"&VLOOKUP(PTA!AO30,AL_NUM_ARB,4,FALSE)&\" \"&VLOOKUP(PTA!AO30,AL_NUM_ARB,6,FALSE)))","v":"X"},{"$f":"IF(OR(PTA!AP30=\"\",PTA!AP30=\"X\"),\"X\",IF(PTA!AP30=\"*\",\"*\",VLOOKUP(PTA!AP30,AL_NUM_ARB,2,FALSE)&\" \"&VLOOKUP(PTA!AP30,AL_NUM_ARB,4,FALSE)&\" \"&VLOOKUP(PTA!AP30,AL_NUM_ARB,6,FALSE)))","v":"X"},{"$f":"IF(OR(PTA!AQ30=\"\",PTA!AQ30=\"X\"),\"X\",IF(PTA!AQ30=\"*\",\"*\",VLOOKUP(PTA!AQ30,AL_NUM_ARB,2,FALSE)&\" \"&VLOOKUP(PTA!AQ30,AL_NUM_ARB,4,FALSE)&\" \"&VLOOKUP(PTA!AQ30,AL_NUM_ARB,6,FALSE)))","v":"X"},{"$f":"IF(OR(PTA!AR30=\"\",PTA!AR30=\"X\"),\"X\",IF(PTA!AR30=\"*\",\"*\",VLOOKUP(PTA!AR30,AL_NUM_ARB,2,FALSE)&\" \"&VLOOKUP(PTA!AR30,AL_NUM_ARB,4,FALSE)&\" \"&VLOOKUP(PTA!AR30,AL_NUM_ARB,6,FALSE)))","v":"X"},{"$f":"IF(OR(PTA!AS30=\"\",PTA!AS30=\"X\"),\"X\",IF(PTA!AS30=\"*\",\"*\",VLOOKUP(PTA!AS30,AL_NUM_ARB,2,FALSE)&\" \"&VLOOKUP(PTA!AS30,AL_NUM_ARB,4,FALSE)&\" \"&VLOOKUP(PTA!AS30,AL_NUM_ARB,6,FALSE)))","v":"X"},{"$f":"IF(OR(PTA!AT30=\"\",PTA!AT30=\"X\"),\"X\",IF(PTA!AT30=\"*\",\"*\",VLOOKUP(PTA!AT30,AL_NUM_ARB,2,FALSE)&\" \"&VLOOKUP(PTA!AT30,AL_NUM_ARB,4,FALSE)&\" \"&VLOOKUP(PTA!AT30,AL_NUM_ARB,6,FALSE)))","v":"X"},{"$f":"IF(OR(PTA!AU30=\"\",PTA!AU30=\"X\"),\"X\",IF(PTA!AU30=\"*\",\"*\",VLOOKUP(PTA!AU30,AL_NUM_ARB,2,FALSE)&\" \"&VLOOKUP(PTA!AU30,AL_NUM_ARB,4,FALSE)&\" \"&VLOOKUP(PTA!AU30,AL_NUM_ARB,6,FALSE)))","v":"X"},{"$f":"IF(OR(PTA!AV30=\"\",PTA!AV30=\"X\"),\"X\",IF(PTA!AV30=\"*\",\"*\",VLOOKUP(PTA!AV30,AL_NUM_ARB,2,FALSE)&\" \"&VLOOKUP(PTA!AV30,AL_NUM_ARB,4,FALSE)&\" \"&VLOOKUP(PTA!AV30,AL_NUM_ARB,6,FALSE)))","v":"X"},{"$f":"IF(OR(PTA!AW30=\"\",PTA!AW30=\"X\"),\"X\",IF(PTA!AW30=\"*\",\"*\",VLOOKUP(PTA!AW30,AL_NUM_ARB,2,FALSE)&\" \"&VLOOKUP(PTA!AW30,AL_NUM_ARB,4,FALSE)&\" \"&VLOOKUP(PTA!AW30,AL_NUM_ARB,6,FALSE)))","v":"X"},{"$f":"IF(OR(PTA!AX30=\"\",PTA!AX30=\"X\"),\"X\",IF(PTA!AX30=\"*\",\"*\",VLOOKUP(PTA!AX30,AL_NUM_ARB,2,FALSE)&\" \"&VLOOKUP(PTA!AX30,AL_NUM_ARB,4,FALSE)&\" \"&VLOOKUP(PTA!AX30,AL_NUM_ARB,6,FALSE)))","v":"X"},{"$f":"IF(OR(PTA!AY30=\"\",PTA!AY30=\"X\"),\"X\",IF(PTA!AY30=\"*\",\"*\",VLOOKUP(PTA!AY30,AL_NUM_ARB,2,FALSE)&\" \"&VLOOKUP(PTA!AY30,AL_NUM_ARB,4,FALSE)&\" \"&VLOOKUP(PTA!AY30,AL_NUM_ARB,6,FALSE)))","v":"X"},{"$f":"IF(OR(PTA!AZ30=\"\",PTA!AZ30=\"X\"),\"X\",IF(PTA!AZ30=\"*\",\"*\",VLOOKUP(PTA!AZ30,AL_NUM_ARB,2,FALSE)&\" \"&VLOOKUP(PTA!AZ30,AL_NUM_ARB,4,FALSE)&\" \"&VLOOKUP(PTA!AZ30,AL_NUM_ARB,6,FALSE)))","v":"X"},{"$f":"IF(OR(PTA!BA30=\"\",PTA!BA30=\"X\"),\"X\",IF(PTA!BA30=\"*\",\"*\",VLOOKUP(PTA!BA30,AL_NUM_ARB,2,FALSE)&\" \"&VLOOKUP(PTA!BA30,AL_NUM_ARB,4,FALSE)&\" \"&VLOOKUP(PTA!BA30,AL_NUM_ARB,6,FALSE)))","v":"X"},{"$f":"IF(OR(PTA!BB30=\"\",PTA!BB30=\"X\"),\"X\",IF(PTA!BB30=\"*\",\"*\",VLOOKUP(PTA!BB30,AL_NUM_ARB,2,FALSE)&\" \"&VLOOKUP(PTA!BB30,AL_NUM_ARB,4,FALSE)&\" \"&VLOOKUP(PTA!BB30,AL_NUM_ARB,6,FALSE)))","v":"X"},{"$f":"IF(OR(PTA!BC30=\"\",PTA!BC30=\"X\"),\"X\",IF(PTA!BC30=\"*\",\"*\",VLOOKUP(PTA!BC30,AL_NUM_ARB,2,FALSE)&\" \"&VLOOKUP(PTA!BC30,AL_NUM_ARB,4,FALSE)&\" \"&VLOOKUP(PTA!BC30,AL_NUM_ARB,6,FALSE)))","v":"X"},{"$f":"IF(OR(PTA!BD30=\"\",PTA!BD30=\"X\"),\"X\",IF(PTA!BD30=\"*\",\"*\",VLOOKUP(PTA!BD30,AL_NUM_ARB,2,FALSE)&\" \"&VLOOKUP(PTA!BD30,AL_NUM_ARB,4,FALSE)&\" \"&VLOOKUP(PTA!BD30,AL_NUM_ARB,6,FALSE)))","v":"X"},{"$f":"IF(OR(PTA!BE30=\"\",PTA!BE30=\"X\"),\"X\",IF(PTA!BE30=\"*\",\"*\",VLOOKUP(PTA!BE30,AL_NUM_ARB,2,FALSE)&\" \"&VLOOKUP(PTA!BE30,AL_NUM_ARB,4,FALSE)&\" \"&VLOOKUP(PTA!BE30,AL_NUM_ARB,6,FALSE)))","v":"X"},{"$f":"IF(OR(PTA!BF30=\"\",PTA!BF30=\"X\"),\"X\",IF(PTA!BF30=\"*\",\"*\",VLOOKUP(PTA!BF30,AL_NUM_ARB,2,FALSE)&\" \"&VLOOKUP(PTA!BF30,AL_NUM_ARB,4,FALSE)&\" \"&VLOOKUP(PTA!BF30,AL_NUM_ARB,6,FALSE)))","v":"X"},{"$f":"IF(OR(PTA!BG30=\"\",PTA!BG30=\"X\"),\"X\",IF(PTA!BG30=\"*\",\"*\",VLOOKUP(PTA!BG30,AL_NUM_ARB,2,FALSE)&\" \"&VLOOKUP(PTA!BG30,AL_NUM_ARB,4,FALSE)&\" \"&VLOOKUP(PTA!BG30,AL_NUM_ARB,6,FALSE)))","v":"X"},{"$f":"IF(OR(PTA!BH30=\"\",PTA!BH30=\"X\"),\"X\",IF(PTA!BH30=\"*\",\"*\",VLOOKUP(PTA!BH30,AL_NUM_ARB,2,FALSE)&\" \"&VLOOKUP(PTA!BH30,AL_NUM_ARB,4,FALSE)&\" \"&VLOOKUP(PTA!BH30,AL_NUM_ARB,6,FALSE)))","v":"X"},{"$f":"IF(OR(PTA!BI30=\"\",PTA!BI30=\"X\"),\"X\",IF(PTA!BI30=\"*\",\"*\",VLOOKUP(PTA!BI30,AL_NUM_ARB,2,FALSE)&\" \"&VLOOKUP(PTA!BI30,AL_NUM_ARB,4,FALSE)&\" \"&VLOOKUP(PTA!BI30,AL_NUM_ARB,6,FALSE)))","v":"X"},{"$f":"IF(OR(PTA!BJ30=\"\",PTA!BJ30=\"X\"),\"X\",IF(PTA!BJ30=\"*\",\"*\",VLOOKUP(PTA!BJ30,AL_NUM_ARB,2,FALSE)&\" \"&VLOOKUP(PTA!BJ30,AL_NUM_ARB,4,FALSE)&\" \"&VLOOKUP(PTA!BJ30,AL_NUM_ARB,6,FALSE)))","v":"X"},{"$f":"IF(OR(PTA!BK30=\"\",PTA!BK30=\"X\"),\"X\",IF(PTA!BK30=\"*\",\"*\",VLOOKUP(PTA!BK30,AL_NUM_ARB,2,FALSE)&\" \"&VLOOKUP(PTA!BK30,AL_NUM_ARB,4,FALSE)&\" \"&VLOOKUP(PTA!BK30,AL_NUM_ARB,6,FALSE)))","v":"X"},{"$f":"IF(OR(PTA!BL30=\"\",PTA!BL30=\"X\"),\"X\",IF(PTA!BL30=\"*\",\"*\",VLOOKUP(PTA!BL30,AL_NUM_ARB,2,FALSE)&\" \"&VLOOKUP(PTA!BL30,AL_NUM_ARB,4,FALSE)&\" \"&VLOOKUP(PTA!BL30,AL_NUM_ARB,6,FALSE)))","v":"X"},{"$f":"IF(OR(PTA!BM30=\"\",PTA!BM30=\"X\"),\"X\",IF(PTA!BM30=\"*\",\"*\",VLOOKUP(PTA!BM30,AL_NUM_ARB,2,FALSE)&\" \"&VLOOKUP(PTA!BM30,AL_NUM_ARB,4,FALSE)&\" \"&VLOOKUP(PTA!BM30,AL_NUM_ARB,6,FALSE)))","v":"X"},{"$f":"IF(OR(PTA!BN30=\"\",PTA!BN30=\"X\"),\"X\",IF(PTA!BN30=\"*\",\"*\",VLOOKUP(PTA!BN30,AL_NUM_ARB,2,FALSE)&\" \"&VLOOKUP(PTA!BN30,AL_NUM_ARB,4,FALSE)&\" \"&VLOOKUP(PTA!BN30,AL_NUM_ARB,6,FALSE)))","v":"X"},{"$f":"IF(OR(PTA!BO30=\"\",PTA!BO30=\"X\"),\"X\",IF(PTA!BO30=\"*\",\"*\",VLOOKUP(PTA!BO30,AL_NUM_ARB,2,FALSE)&\" \"&VLOOKUP(PTA!BO30,AL_NUM_ARB,4,FALSE)&\" \"&VLOOKUP(PTA!BO30,AL_NUM_ARB,6,FALSE)))","v":"X"},{"$f":"IF(OR(PTA!BP30=\"\",PTA!BP30=\"X\"),\"X\",IF(PTA!BP30=\"*\",\"*\",VLOOKUP(PTA!BP30,AL_NUM_ARB,2,FALSE)&\" \"&VLOOKUP(PTA!BP30,AL_NUM_ARB,4,FALSE)&\" \"&VLOOKUP(PTA!BP30,AL_NUM_ARB,6,FALSE)))","v":"X"},{"$f":"IF(OR(PTA!BQ30=\"\",PTA!BQ30=\"X\"),\"X\",IF(PTA!BQ30=\"*\",\"*\",VLOOKUP(PTA!BQ30,AL_NUM_ARB,2,FALSE)&\" \"&VLOOKUP(PTA!BQ30,AL_NUM_ARB,4,FALSE)&\" \"&VLOOKUP(PTA!BQ30,AL_NUM_ARB,6,FALSE)))","v":"X"},{"$f":"IF(OR(PTA!BR30=\"\",PTA!BR30=\"X\"),\"X\",IF(PTA!BR30=\"*\",\"*\",VLOOKUP(PTA!BR30,AL_NUM_ARB,2,FALSE)&\" \"&VLOOKUP(PTA!BR30,AL_NUM_ARB,4,FALSE)&\" \"&VLOOKUP(PTA!BR30,AL_NUM_ARB,6,FALSE)))","v":"X"},{"$f":"IF(OR(PTA!BT30=\"\",PTA!BT30=\"X\"),\"X\",VLOOKUP(PTA!BT30,AL_NUM_ARB,2,FALSE)&\" \"&VLOOKUP(PTA!BT30,AL_NUM_ARB,4,FALSE)&\" \"&VLOOKUP(PTA!BT30,AL_NUM_ARB,6,FALSE))","v":"X"},{"$f":"IF(OR(PTA!BU30=\"\",PTA!BU30=\"X\"),\"X\",VLOOKUP(PTA!BU30,AL_NUM_ARB,2,FALSE)&\" \"&VLOOKUP(PTA!BU30,AL_NUM_ARB,4,FALSE)&\" \"&VLOOKUP(PTA!BU30,AL_NUM_ARB,6,FALSE))","v":"X"},{"$f":"IF(OR(PTA!BV30=\"\",PTA!BV30=\"X\"),\"X\",VLOOKUP(PTA!BV30,AL_NUM_ARB,2,FALSE)&\" \"&VLOOKUP(PTA!BV30,AL_NUM_ARB,4,FALSE)&\" \"&VLOOKUP(PTA!BV30,AL_NUM_ARB,6,FALSE))","v":"X"},{"$f":"IF(OR(PTA!BW30=\"\",PTA!BW30=\"X\"),\"X\",VLOOKUP(PTA!BW30,AL_NUM_ARB,2,FALSE)&\" \"&VLOOKUP(PTA!BW30,AL_NUM_ARB,4,FALSE)&\" \"&VLOOKUP(PTA!BW30,AL_NUM_ARB,6,FALSE))","v":"X"},"10:30:00"]
[{"$f":"PTA!A31","v":""},{"$f":"PTA!B31","v":"00:00:00"},{"$f":"PTA!C31","v":32},{"$f":"PTA!D31","v":0},{"$f":"IF(OR(PTA!E31=\"\",PTA!E31=\"X\"),\"X\",IF(PTA!E31=\"*\",\"*\",VLOOKUP(PTA!E31,AL_NUM_ARB,2,FALSE)&\" \"&VLOOKUP(PTA!E31,AL_NUM_ARB,4,FALSE)&\" \"&VLOOKUP(PTA!E31,AL_NUM_ARB,6,FALSE)))","v":"X"},{"$f":"IF(OR(PTA!F31=\"\",PTA!F31=\"X\"),\"X\",IF(PTA!F31=\"*\",\"*\",VLOOKUP(PTA!F31,AL_NUM_ARB,2,FALSE)&\" \"&VLOOKUP(PTA!F31,AL_NUM_ARB,4,FALSE)&\" \"&VLOOKUP(PTA!F31,AL_NUM_ARB,6,FALSE)))","v":"X"},{"$f":"IF(OR(PTA!G31=\"\",PTA!G31=\"X\"),\"X\",IF(PTA!G31=\"*\",\"*\",VLOOKUP(PTA!G31,AL_NUM_ARB,2,FALSE)&\" \"&VLOOKUP(PTA!G31,AL_NUM_ARB,4,FALSE)&\" \"&VLOOKUP(PTA!G31,AL_NUM_ARB,6,FALSE)))","v":"X"},{"$f":"IF(OR(PTA!H31=\"\",PTA!H31=\"X\"),\"X\",IF(PTA!H31=\"*\",\"*\",VLOOKUP(PTA!H31,AL_NUM_ARB,2,FALSE)&\" \"&VLOOKUP(PTA!H31,AL_NUM_ARB,4,FALSE)&\" \"&VLOOKUP(PTA!H31,AL_NUM_ARB,6,FALSE)))","v":"X"},{"$f":"IF(OR(PTA!I31=\"\",PTA!I31=\"X\"),\"X\",IF(PTA!I31=\"*\",\"*\",VLOOKUP(PTA!I31,AL_NUM_ARB,2,FALSE)&\" \"&VLOOKUP(PTA!I31,AL_NUM_ARB,4,FALSE)&\" \"&VLOOKUP(PTA!I31,AL_NUM_ARB,6,FALSE)))","v":"X"},{"$f":"IF(OR(PTA!J31=\"\",PTA!J31=\"X\"),\"X\",IF(PTA!J31=\"*\",\"*\",VLOOKUP(PTA!J31,AL_NUM_ARB,2,FALSE)&\" \"&VLOOKUP(PTA!J31,AL_NUM_ARB,4,FALSE)&\" \"&VLOOKUP(PTA!J31,AL_NUM_ARB,6,FALSE)))","v":"X"},{"$f":"IF(OR(PTA!K31=\"\",PTA!K31=\"X\"),\"X\",IF(PTA!K31=\"*\",\"*\",VLOOKUP(PTA!K31,AL_NUM_ARB,2,FALSE)&\" \"&VLOOKUP(PTA!K31,AL_NUM_ARB,4,FALSE)&\" \"&VLOOKUP(PTA!K31,AL_NUM_ARB,6,FALSE)))","v":"X"},{"$f":"IF(OR(PTA!L31=\"\",PTA!L31=\"X\"),\"X\",IF(PTA!L31=\"*\",\"*\",VLOOKUP(PTA!L31,AL_NUM_ARB,2,FALSE)&\" \"&VLOOKUP(PTA!L31,AL_NUM_ARB,4,FALSE)&\" \"&VLOOKUP(PTA!L31,AL_NUM_ARB,6,FALSE)))","v":"X"},{"$f":"IF(OR(PTA!M31=\"\",PTA!M31=\"X\"),\"X\",IF(PTA!M31=\"*\",\"*\",VLOOKUP(PTA!M31,AL_NUM_ARB,2,FALSE)&\" \"&VLOOKUP(PTA!M31,AL_NUM_ARB,4,FALSE)&\" \"&VLOOKUP(PTA!M31,AL_NUM_ARB,6,FALSE)))","v":"X"},{"$f":"IF(OR(PTA!N31=\"\",PTA!N31=\"X\"),\"X\",IF(PTA!N31=\"*\",\"*\",VLOOKUP(PTA!N31,AL_NUM_ARB,2,FALSE)&\" \"&VLOOKUP(PTA!N31,AL_NUM_ARB,4,FALSE)&\" \"&VLOOKUP(PTA!N31,AL_NUM_ARB,6,FALSE)))","v":"X"},{"$f":"IF(OR(PTA!O31=\"\",PTA!O31=\"X\"),\"X\",IF(PTA!O31=\"*\",\"*\",VLOOKUP(PTA!O31,AL_NUM_ARB,2,FALSE)&\" \"&VLOOKUP(PTA!O31,AL_NUM_ARB,4,FALSE)&\" \"&VLOOKUP(PTA!O31,AL_NUM_ARB,6,FALSE)))","v":"X"},{"$f":"IF(OR(PTA!P31=\"\",PTA!P31=\"X\"),\"X\",IF(PTA!P31=\"*\",\"*\",VLOOKUP(PTA!P31,AL_NUM_ARB,2,FALSE)&\" \"&VLOOKUP(PTA!P31,AL_NUM_ARB,4,FALSE)&\" \"&VLOOKUP(PTA!P31,AL_NUM_ARB,6,FALSE)))","v":"X"},{"$f":"IF(OR(PTA!Q31=\"\",PTA!Q31=\"X\"),\"X\",IF(PTA!Q31=\"*\",\"*\",VLOOKUP(PTA!Q31,AL_NUM_ARB,2,FALSE)&\" \"&VLOOKUP(PTA!Q31,AL_NUM_ARB,4,FALSE)&\" \"&VLOOKUP(PTA!Q31,AL_NUM_ARB,6,FALSE)))","v":"X"},{"$f":"IF(OR(PTA!R31=\"\",PTA!R31=\"X\"),\"X\",IF(PTA!R31=\"*\",\"*\",VLOOKUP(PTA!R31,AL_NUM_ARB,2,FALSE)&\" \"&VLOOKUP(PTA!R31,AL_NUM_ARB,4,FALSE)&\" \"&VLOOKUP(PTA!R31,AL_NUM_ARB,6,FALSE)))","v":"X"},{"$f":"IF(OR(PTA!S31=\"\",PTA!S31=\"X\"),\"X\",IF(PTA!S31=\"*\",\"*\",VLOOKUP(PTA!S31,AL_NUM_ARB,2,FALSE)&\" \"&VLOOKUP(PTA!S31,AL_NUM_ARB,4,FALSE)&\" \"&VLOOKUP(PTA!S31,AL_NUM_ARB,6,FALSE)))","v":"X"},{"$f":"IF(OR(PTA!T31=\"\",PTA!T31=\"X\"),\"X\",IF(PTA!T31=\"*\",\"*\",VLOOKUP(PTA!T31,AL_NUM_ARB,2,FALSE)&\" \"&VLOOKUP(PTA!T31,AL_NUM_ARB,4,FALSE)&\" \"&VLOOKUP(PTA!T31,AL_NUM_ARB,6,FALSE)))","v":"X"},{"$f":"IF(OR(PTA!U31=\"\",PTA!U31=\"X\"),\"X\",IF(PTA!U31=\"*\",\"*\",VLOOKUP(PTA!U31,AL_NUM_ARB,2,FALSE)&\" \"&VLOOKUP(PTA!U31,AL_NUM_ARB,4,FALSE)&\" \"&VLOOKUP(PTA!U31,AL_NUM_ARB,6,FALSE)))","v":"X"},{"$f":"IF(OR(PTA!V31=\"\",PTA!V31=\"X\"),\"X\",IF(PTA!V31=\"*\",\"*\",VLOOKUP(PTA!V31,AL_NUM_ARB,2,FALSE)&\" \"&VLOOKUP(PTA!V31,AL_NUM_ARB,4,FALSE)&\" \"&VLOOKUP(PTA!V31,AL_NUM_ARB,6,FALSE)))","v":"X"},{"$f":"IF(OR(PTA!W31=\"\",PTA!W31=\"X\"),\"X\",IF(PTA!W31=\"*\",\"*\",VLOOKUP(PTA!W31,AL_NUM_ARB,2,FALSE)&\" \"&VLOOKUP(PTA!W31,AL_NUM_ARB,4,FALSE)&\" \"&VLOOKUP(PTA!W31,AL_NUM_ARB,6,FALSE)))","v":"X"},{"$f":"IF(OR(PTA!X31=\"\",PTA!X31=\"X\"),\"X\",IF(PTA!X31=\"*\",\"*\",VLOOKUP(PTA!X31,AL_NUM_ARB,2,FALSE)&\" \"&VLOOKUP(PTA!X31,AL_NUM_ARB,4,FALSE)&\" \"&VLOOKUP(PTA!X31,AL_NUM_ARB,6,FALSE)))","v":"X"},{"$f":"IF(OR(PTA!Y31=\"\",PTA!Y31=\"X\"),\"X\",IF(PTA!Y31=\"*\",\"*\",VLOOKUP(PTA!Y31,AL_NUM_ARB,2,FALSE)&\" \"&VLOOKUP(PTA!Y31,AL_NUM_ARB,4,FALSE)&\" \"&VLOOKUP(PTA!Y31,AL_NUM_ARB,6,FALSE)))","v":"X"},{"$f":"IF(OR(PTA!Z31=\"\",PTA!Z31=\"X\"),\"X\",IF(PTA!Z31=\"*\",\"*\",VLOOKUP(PTA!Z31,AL_NUM_ARB,2,FALSE)&\" \"&VLOOKUP(PTA!Z31,AL_NUM_ARB,4,FALSE)&\" \"&VLOOKUP(PTA!Z31,AL_NUM_ARB,6,FALSE)))","v":"X"},{"$f":"IF(OR(PTA!AA31=\"\",PTA!AA31=\"X\"),\"X\",IF(PTA!AA31=\"*\",\"*\",VLOOKUP(PTA!AA31,AL_NUM_ARB,2,FALSE)&\" \"&VLOOKUP(PTA!AA31,AL_NUM_ARB,4,FALSE)&\" \"&VLOOKUP(PTA!AA31,AL_NUM_ARB,6,FALSE)))","v":"X"},{"$f":"IF(OR(PTA!AB31=\"\",PTA!AB31=\"X\"),\"X\",IF(PTA!AB31=\"*\",\"*\",VLOOKUP(PTA!AB31,AL_NUM_ARB,2,FALSE)&\" \"&VLOOKUP(PTA!AB31,AL_NUM_ARB,4,FALSE)&\" \"&VLOOKUP(PTA!AB31,AL_NUM_ARB,6,FALSE)))","v":"X"},{"$f":"IF(OR(PTA!AC31=\"\",PTA!AC31=\"X\"),\"X\",IF(PTA!AC31=\"*\",\"*\",VLOOKUP(PTA!AC31,AL_NUM_ARB,2,FALSE)&\" \"&VLOOKUP(PTA!AC31,AL_NUM_ARB,4,FALSE)&\" \"&VLOOKUP(PTA!AC31,AL_NUM_ARB,6,FALSE)))","v":"X"},{"$f":"IF(OR(PTA!AD31=\"\",PTA!AD31=\"X\"),\"X\",IF(PTA!AD31=\"*\",\"*\",VLOOKUP(PTA!AD31,AL_NUM_ARB,2,FALSE)&\" \"&VLOOKUP(PTA!AD31,AL_NUM_ARB,4,FALSE)&\" \"&VLOOKUP(PTA!AD31,AL_NUM_ARB,6,FALSE)))","v":"X"},{"$f":"IF(OR(PTA!AE31=\"\",PTA!AE31=\"X\"),\"X\",IF(PTA!AE31=\"*\",\"*\",VLOOKUP(PTA!AE31,AL_NUM_ARB,2,FALSE)&\" \"&VLOOKUP(PTA!AE31,AL_NUM_ARB,4,FALSE)&\" \"&VLOOKUP(PTA!AE31,AL_NUM_ARB,6,FALSE)))","v":"X"},{"$f":"IF(OR(PTA!AF31=\"\",PTA!AF31=\"X\"),\"X\",IF(PTA!AF31=\"*\",\"*\",VLOOKUP(PTA!AF31,AL_NUM_ARB,2,FALSE)&\" \"&VLOOKUP(PTA!AF31,AL_NUM_ARB,4,FALSE)&\" \"&VLOOKUP(PTA!AF31,AL_NUM_ARB,6,FALSE)))","v":"X"},{"$f":"IF(OR(PTA!AG31=\"\",PTA!AG31=\"X\"),\"X\",IF(PTA!AG31=\"*\",\"*\",VLOOKUP(PTA!AG31,AL_NUM_ARB,2,FALSE)&\" \"&VLOOKUP(PTA!AG31,AL_NUM_ARB,4,FALSE)&\" \"&VLOOKUP(PTA!AG31,AL_NUM_ARB,6,FALSE)))","v":"X"},{"$f":"IF(OR(PTA!AH31=\"\",PTA!AH31=\"X\"),\"X\",IF(PTA!AH31=\"*\",\"*\",VLOOKUP(PTA!AH31,AL_NUM_ARB,2,FALSE)&\" \"&VLOOKUP(PTA!AH31,AL_NUM_ARB,4,FALSE)&\" \"&VLOOKUP(PTA!AH31,AL_NUM_ARB,6,FALSE)))","v":"X"},{"$f":"IF(OR(PTA!AI31=\"\",PTA!AI31=\"X\"),\"X\",IF(PTA!AI31=\"*\",\"*\",VLOOKUP(PTA!AI31,AL_NUM_ARB,2,FALSE)&\" \"&VLOOKUP(PTA!AI31,AL_NUM_ARB,4,FALSE)&\" \"&VLOOKUP(PTA!AI31,AL_NUM_ARB,6,FALSE)))","v":"X"},{"$f":"IF(OR(PTA!AJ31=\"\",PTA!AJ31=\"X\"),\"X\",IF(PTA!AJ31=\"*\",\"*\",VLOOKUP(PTA!AJ31,AL_NUM_ARB,2,FALSE)&\" \"&VLOOKUP(PTA!AJ31,AL_NUM_ARB,4,FALSE)&\" \"&VLOOKUP(PTA!AJ31,AL_NUM_ARB,6,FALSE)))","v":"X"},{"$f":"IF(OR(PTA!AK31=\"\",PTA!AK31=\"X\"),\"X\",IF(PTA!AK31=\"*\",\"*\",VLOOKUP(PTA!AK31,AL_NUM_ARB,2,FALSE)&\" \"&VLOOKUP(PTA!AK31,AL_NUM_ARB,4,FALSE)&\" \"&VLOOKUP(PTA!AK31,AL_NUM_ARB,6,FALSE)))","v":"X"},{"$f":"IF(OR(PTA!AL31=\"\",PTA!AL31=\"X\"),\"X\",IF(PTA!AL31=\"*\",\"*\",VLOOKUP(PTA!AL31,AL_NUM_ARB,2,FALSE)&\" \"&VLOOKUP(PTA!AL31,AL_NUM_ARB,4,FALSE)&\" \"&VLOOKUP(PTA!AL31,AL_NUM_ARB,6,FALSE)))","v":"X"},{"$f":"IF(OR(PTA!AM31=\"\",PTA!AM31=\"X\"),\"X\",IF(PTA!AM31=\"*\",\"*\",VLOOKUP(PTA!AM31,AL_NUM_ARB,2,FALSE)&\" \"&VLOOKUP(PTA!AM31,AL_NUM_ARB,4,FALSE)&\" \"&VLOOKUP(PTA!AM31,AL_NUM_ARB,6,FALSE)))","v":"X"},{"$f":"IF(OR(PTA!AN31=\"\",PTA!AN31=\"X\"),\"X\",IF(PTA!AN31=\"*\",\"*\",VLOOKUP(PTA!AN31,AL_NUM_ARB,2,FALSE)&\" \"&VLOOKUP(PTA!AN31,AL_NUM_ARB,4,FALSE)&\" \"&VLOOKUP(PTA!AN31,AL_NUM_ARB,6,FALSE)))","v":"X"},{"$f":"IF(OR(PTA!AO31=\"\",PTA!AO31=\"X\"),\"X\",IF(PTA!AO31=\"*\",\"*\",VLOOKUP(PTA!AO31,AL_NUM_ARB,2,FALSE)&\" \"&VLOOKUP(PTA!AO31,AL_NUM_ARB,4,FALSE)&\" \"&VLOOKUP(PTA!AO31,AL_NUM_ARB,6,FALSE)))","v":"X"},{"$f":"IF(OR(PTA!AP31=\"\",PTA!AP31=\"X\"),\"X\",IF(PTA!AP31=\"*\",\"*\",VLOOKUP(PTA!AP31,AL_NUM_ARB,2,FALSE)&\" \"&VLOOKUP(PTA!AP31,AL_NUM_ARB,4,FALSE)&\" \"&VLOOKUP(PTA!AP31,AL_NUM_ARB,6,FALSE)))","v":"X"},{"$f":"IF(OR(PTA!AQ31=\"\",PTA!AQ31=\"X\"),\"X\",IF(PTA!AQ31=\"*\",\"*\",VLOOKUP(PTA!AQ31,AL_NUM_ARB,2,FALSE)&\" \"&VLOOKUP(PTA!AQ31,AL_NUM_ARB,4,FALSE)&\" \"&VLOOKUP(PTA!AQ31,AL_NUM_ARB,6,FALSE)))","v":"X"},{"$f":"IF(OR(PTA!AR31=\"\",PTA!AR31=\"X\"),\"X\",IF(PTA!AR31=\"*\",\"*\",VLOOKUP(PTA!AR31,AL_NUM_ARB,2,FALSE)&\" \"&VLOOKUP(PTA!AR31,AL_NUM_ARB,4,FALSE)&\" \"&VLOOKUP(PTA!AR31,AL_NUM_ARB,6,FALSE)))","v":"X"},{"$f":"IF(OR(PTA!AS31=\"\",PTA!AS31=\"X\"),\"X\",IF(PTA!AS31=\"*\",\"*\",VLOOKUP(PTA!AS31,AL_NUM_ARB,2,FALSE)&\" \"&VLOOKUP(PTA!AS31,AL_NUM_ARB,4,FALSE)&\" \"&VLOOKUP(PTA!AS31,AL_NUM_ARB,6,FALSE)))","v":"X"},{"$f":"IF(OR(PTA!AT31=\"\",PTA!AT31=\"X\"),\"X\",IF(PTA!AT31=\"*\",\"*\",VLOOKUP(PTA!AT31,AL_NUM_ARB,2,FALSE)&\" \"&VLOOKUP(PTA!AT31,AL_NUM_ARB,4,FALSE)&\" \"&VLOOKUP(PTA!AT31,AL_NUM_ARB,6,FALSE)))","v":"X"},{"$f":"IF(OR(PTA!AU31=\"\",PTA!AU31=\"X\"),\"X\",IF(PTA!AU31=\"*\",\"*\",VLOOKUP(PTA!AU31,AL_NUM_ARB,2,FALSE)&\" \"&VLOOKUP(PTA!AU31,AL_NUM_ARB,4,FALSE)&\" \"&VLOOKUP(PTA!AU31,AL_NUM_ARB,6,FALSE)))","v":"X"},{"$f":"IF(OR(PTA!AV31=\"\",PTA!AV31=\"X\"),\"X\",IF(PTA!AV31=\"*\",\"*\",VLOOKUP(PTA!AV31,AL_NUM_ARB,2,FALSE)&\" \"&VLOOKUP(PTA!AV31,AL_NUM_ARB,4,FALSE)&\" \"&VLOOKUP(PTA!AV31,AL_NUM_ARB,6,FALSE)))","v":"X"},{"$f":"IF(OR(PTA!AW31=\"\",PTA!AW31=\"X\"),\"X\",IF(PTA!AW31=\"*\",\"*\",VLOOKUP(PTA!AW31,AL_NUM_ARB,2,FALSE)&\" \"&VLOOKUP(PTA!AW31,AL_NUM_ARB,4,FALSE)&\" \"&VLOOKUP(PTA!AW31,AL_NUM_ARB,6,FALSE)))","v":"X"},{"$f":"IF(OR(PTA!AX31=\"\",PTA!AX31=\"X\"),\"X\",IF(PTA!AX31=\"*\",\"*\",VLOOKUP(PTA!AX31,AL_NUM_ARB,2,FALSE)&\" \"&VLOOKUP(PTA!AX31,AL_NUM_ARB,4,FALSE)&\" \"&VLOOKUP(PTA!AX31,AL_NUM_ARB,6,FALSE)))","v":"X"},{"$f":"IF(OR(PTA!AY31=\"\",PTA!AY31=\"X\"),\"X\",IF(PTA!AY31=\"*\",\"*\",VLOOKUP(PTA!AY31,AL_NUM_ARB,2,FALSE)&\" \"&VLOOKUP(PTA!AY31,AL_NUM_ARB,4,FALSE)&\" \"&VLOOKUP(PTA!AY31,AL_NUM_ARB,6,FALSE)))","v":"X"},{"$f":"IF(OR(PTA!AZ31=\"\",PTA!AZ31=\"X\"),\"X\",IF(PTA!AZ31=\"*\",\"*\",VLOOKUP(PTA!AZ31,AL_NUM_ARB,2,FALSE)&\" \"&VLOOKUP(PTA!AZ31,AL_NUM_ARB,4,FALSE)&\" \"&VLOOKUP(PTA!AZ31,AL_NUM_ARB,6,FALSE)))","v":"X"},{"$f":"IF(OR(PTA!BA31=\"\",PTA!BA31=\"X\"),\"X\",IF(PTA!BA31=\"*\",\"*\",VLOOKUP(PTA!BA31,AL_NUM_ARB,2,FALSE)&\" \"&VLOOKUP(PTA!BA31,AL_NUM_ARB,4,FALSE)&\" \"&VLOOKUP(PTA!BA31,AL_NUM_ARB,6,FALSE)))","v":"X"},{"$f":"IF(OR(PTA!BB31=\"\",PTA!BB31=\"X\"),\"X\",IF(PTA!BB31=\"*\",\"*\",VLOOKUP(PTA!BB31,AL_NUM_ARB,2,FALSE)&\" \"&VLOOKUP(PTA!BB31,AL_NUM_ARB,4,FALSE)&\" \"&VLOOKUP(PTA!BB31,AL_NUM_ARB,6,FALSE)))","v":"X"},{"$f":"IF(OR(PTA!BC31=\"\",PTA!BC31=\"X\"),\"X\",IF(PTA!BC31=\"*\",\"*\",VLOOKUP(PTA!BC31,AL_NUM_ARB,2,FALSE)&\" \"&VLOOKUP(PTA!BC31,AL_NUM_ARB,4,FALSE)&\" \"&VLOOKUP(PTA!BC31,AL_NUM_ARB,6,FALSE)))","v":"X"},{"$f":"IF(OR(PTA!BD31=\"\",PTA!BD31=\"X\"),\"X\",IF(PTA!BD31=\"*\",\"*\",VLOOKUP(PTA!BD31,AL_NUM_ARB,2,FALSE)&\" \"&VLOOKUP(PTA!BD31,AL_NUM_ARB,4,FALSE)&\" \"&VLOOKUP(PTA!BD31,AL_NUM_ARB,6,FALSE)))","v":"X"},{"$f":"IF(OR(PTA!BE31=\"\",PTA!BE31=\"X\"),\"X\",IF(PTA!BE31=\"*\",\"*\",VLOOKUP(PTA!BE31,AL_NUM_ARB,2,FALSE)&\" \"&VLOOKUP(PTA!BE31,AL_NUM_ARB,4,FALSE)&\" \"&VLOOKUP(PTA!BE31,AL_NUM_ARB,6,FALSE)))","v":"X"},{"$f":"IF(OR(PTA!BF31=\"\",PTA!BF31=\"X\"),\"X\",IF(PTA!BF31=\"*\",\"*\",VLOOKUP(PTA!BF31,AL_NUM_ARB,2,FALSE)&\" \"&VLOOKUP(PTA!BF31,AL_NUM_ARB,4,FALSE)&\" \"&VLOOKUP(PTA!BF31,AL_NUM_ARB,6,FALSE)))","v":"X"},{"$f":"IF(OR(PTA!BG31=\"\",PTA!BG31=\"X\"),\"X\",IF(PTA!BG31=\"*\",\"*\",VLOOKUP(PTA!BG31,AL_NUM_ARB,2,FALSE)&\" \"&VLOOKUP(PTA!BG31,AL_NUM_ARB,4,FALSE)&\" \"&VLOOKUP(PTA!BG31,AL_NUM_ARB,6,FALSE)))","v":"X"},{"$f":"IF(OR(PTA!BH31=\"\",PTA!BH31=\"X\"),\"X\",IF(PTA!BH31=\"*\",\"*\",VLOOKUP(PTA!BH31,AL_NUM_ARB,2,FALSE)&\" \"&VLOOKUP(PTA!BH31,AL_NUM_ARB,4,FALSE)&\" \"&VLOOKUP(PTA!BH31,AL_NUM_ARB,6,FALSE)))","v":"X"},{"$f":"IF(OR(PTA!BI31=\"\",PTA!BI31=\"X\"),\"X\",IF(PTA!BI31=\"*\",\"*\",VLOOKUP(PTA!BI31,AL_NUM_ARB,2,FALSE)&\" \"&VLOOKUP(PTA!BI31,AL_NUM_ARB,4,FALSE)&\" \"&VLOOKUP(PTA!BI31,AL_NUM_ARB,6,FALSE)))","v":"X"},{"$f":"IF(OR(PTA!BJ31=\"\",PTA!BJ31=\"X\"),\"X\",IF(PTA!BJ31=\"*\",\"*\",VLOOKUP(PTA!BJ31,AL_NUM_ARB,2,FALSE)&\" \"&VLOOKUP(PTA!BJ31,AL_NUM_ARB,4,FALSE)&\" \"&VLOOKUP(PTA!BJ31,AL_NUM_ARB,6,FALSE)))","v":"X"},{"$f":"IF(OR(PTA!BK31=\"\",PTA!BK31=\"X\"),\"X\",IF(PTA!BK31=\"*\",\"*\",VLOOKUP(PTA!BK31,AL_NUM_ARB,2,FALSE)&\" \"&VLOOKUP(PTA!BK31,AL_NUM_ARB,4,FALSE)&\" \"&VLOOKUP(PTA!BK31,AL_NUM_ARB,6,FALSE)))","v":"X"},{"$f":"IF(OR(PTA!BL31=\"\",PTA!BL31=\"X\"),\"X\",IF(PTA!BL31=\"*\",\"*\",VLOOKUP(PTA!BL31,AL_NUM_ARB,2,FALSE)&\" \"&VLOOKUP(PTA!BL31,AL_NUM_ARB,4,FALSE)&\" \"&VLOOKUP(PTA!BL31,AL_NUM_ARB,6,FALSE)))","v":"X"},{"$f":"IF(OR(PTA!BM31=\"\",PTA!BM31=\"X\"),\"X\",IF(PTA!BM31=\"*\",\"*\",VLOOKUP(PTA!BM31,AL_NUM_ARB,2,FALSE)&\" \"&VLOOKUP(PTA!BM31,AL_NUM_ARB,4,FALSE)&\" \"&VLOOKUP(PTA!BM31,AL_NUM_ARB,6,FALSE)))","v":"X"},{"$f":"IF(OR(PTA!BN31=\"\",PTA!BN31=\"X\"),\"X\",IF(PTA!BN31=\"*\",\"*\",VLOOKUP(PTA!BN31,AL_NUM_ARB,2,FALSE)&\" \"&VLOOKUP(PTA!BN31,AL_NUM_ARB,4,FALSE)&\" \"&VLOOKUP(PTA!BN31,AL_NUM_ARB,6,FALSE)))","v":"X"},{"$f":"IF(OR(PTA!BO31=\"\",PTA!BO31=\"X\"),\"X\",IF(PTA!BO31=\"*\",\"*\",VLOOKUP(PTA!BO31,AL_NUM_ARB,2,FALSE)&\" \"&VLOOKUP(PTA!BO31,AL_NUM_ARB,4,FALSE)&\" \"&VLOOKUP(PTA!BO31,AL_NUM_ARB,6,FALSE)))","v":"X"},{"$f":"IF(OR(PTA!BP31=\"\",PTA!BP31=\"X\"),\"X\",IF(PTA!BP31=\"*\",\"*\",VLOOKUP(PTA!BP31,AL_NUM_ARB,2,FALSE)&\" \"&VLOOKUP(PTA!BP31,AL_NUM_ARB,4,FALSE)&\" \"&VLOOKUP(PTA!BP31,AL_NUM_ARB,6,FALSE)))","v":"X"},{"$f":"IF(OR(PTA!BQ31=\"\",PTA!BQ31=\"X\"),\"X\",IF(PTA!BQ31=\"*\",\"*\",VLOOKUP(PTA!BQ31,AL_NUM_ARB,2,FALSE)&\" \"&VLOOKUP(PTA!BQ31,AL_NUM_ARB,4,FALSE)&\" \"&VLOOKUP(PTA!BQ31,AL_NUM_ARB,6,FALSE)))","v":"X"},{"$f":"IF(OR(PTA!BR31=\"\",PTA!BR31=\"X\"),\"X\",IF(PTA!BR31=\"*\",\"*\",VLOOKUP(PTA!BR31,AL_NUM_ARB,2,FALSE)&\" \"&VLOOKUP(PTA!BR31,AL_NUM_ARB,4,FALSE)&\" \"&VLOOKUP(PTA!BR31,AL_NUM_ARB,6,FALSE)))","v":"X"},{"$f":"IF(OR(PTA!BT31=\"\",PTA!BT31=\"X\"),\"X\",VLOOKUP(PTA!BT31,AL_NUM_ARB,2,FALSE)&\" \"&VLOOKUP(PTA!BT31,AL_NUM_ARB,4,FALSE)&\" \"&VLOOKUP(PTA!BT31,AL_NUM_ARB,6,FALSE))","v":"X"},{"$f":"IF(OR(PTA!BU31=\"\",PTA!BU31=\"X\"),\"X\",VLOOKUP(PTA!BU31,AL_NUM_ARB,2,FALSE)&\" \"&VLOOKUP(PTA!BU31,AL_NUM_ARB,4,FALSE)&\" \"&VLOOKUP(PTA!BU31,AL_NUM_ARB,6,FALSE))","v":"X"},{"$f":"IF(OR(PTA!BV31=\"\",PTA!BV31=\"X\"),\"X\",VLOOKUP(PTA!BV31,AL_NUM_ARB,2,FALSE)&\" \"&VLOOKUP(PTA!BV31,AL_NUM_ARB,4,FALSE)&\" \"&VLOOKUP(PTA!BV31,AL_NUM_ARB,6,FALSE))","v":"X"},{"$f":"IF(OR(PTA!BW31=\"\",PTA!BW31=\"X\"),\"X\",VLOOKUP(PTA!BW31,AL_NUM_ARB,2,FALSE)&\" \"&VLOOKUP(PTA!BW31,AL_NUM_ARB,4,FALSE)&\" \"&VLOOKUP(PTA!BW31,AL_NUM_ARB,6,FALSE))","v":"X"},"11:00:00"]
[{"$f":"PTA!A32","v":""},{"$f":"PTA!B32","v":"00:00:00"},{"$f":"PTA!C32","v":32},{"$f":"PTA!D32","v":0},{"$f":"IF(OR(PTA!E32=\"\",PTA!E32=\"X\"),\"X\",IF(PTA!E32=\"*\",\"*\",VLOOKUP(PTA!E32,AL_NUM_ARB,2,FALSE)&\" \"&VLOOKUP(PTA!E32,AL_NUM_ARB,4,FALSE)&\" \"&VLOOKUP(PTA!E32,AL_NUM_ARB,6,FALSE)))","v":"X"},{"$f":"IF(OR(PTA!F32=\"\",PTA!F32=\"X\"),\"X\",IF(PTA!F32=\"*\",\"*\",VLOOKUP(PTA!F32,AL_NUM_ARB,2,FALSE)&\" \"&VLOOKUP(PTA!F32,AL_NUM_ARB,4,FALSE)&\" \"&VLOOKUP(PTA!F32,AL_NUM_ARB,6,FALSE)))","v":"X"},{"$f":"IF(OR(PTA!G32=\"\",PTA!G32=\"X\"),\"X\",IF(PTA!G32=\"*\",\"*\",VLOOKUP(PTA!G32,AL_NUM_ARB,2,FALSE)&\" \"&VLOOKUP(PTA!G32,AL_NUM_ARB,4,FALSE)&\" \"&VLOOKUP(PTA!G32,AL_NUM_ARB,6,FALSE)))","v":"X"},{"$f":"IF(OR(PTA!H32=\"\",PTA!H32=\"X\"),\"X\",IF(PTA!H32=\"*\",\"*\",VLOOKUP(PTA!H32,AL_NUM_ARB,2,FALSE)&\" \"&VLOOKUP(PTA!H32,AL_NUM_ARB,4,FALSE)&\" \"&VLOOKUP(PTA!H32,AL_NUM_ARB,6,FALSE)))","v":"X"},{"$f":"IF(OR(PTA!I32=\"\",PTA!I32=\"X\"),\"X\",IF(PTA!I32=\"*\",\"*\",VLOOKUP(PTA!I32,AL_NUM_ARB,2,FALSE)&\" \"&VLOOKUP(PTA!I32,AL_NUM_ARB,4,FALSE)&\" \"&VLOOKUP(PTA!I32,AL_NUM_ARB,6,FALSE)))","v":"X"},{"$f":"IF(OR(PTA!J32=\"\",PTA!J32=\"X\"),\"X\",IF(PTA!J32=\"*\",\"*\",VLOOKUP(PTA!J32,AL_NUM_ARB,2,FALSE)&\" \"&VLOOKUP(PTA!J32,AL_NUM_ARB,4,FALSE)&\" \"&VLOOKUP(PTA!J32,AL_NUM_ARB,6,FALSE)))","v":"X"},{"$f":"IF(OR(PTA!K32=\"\",PTA!K32=\"X\"),\"X\",IF(PTA!K32=\"*\",\"*\",VLOOKUP(PTA!K32,AL_NUM_ARB,2,FALSE)&\" \"&VLOOKUP(PTA!K32,AL_NUM_ARB,4,FALSE)&\" \"&VLOOKUP(PTA!K32,AL_NUM_ARB,6,FALSE)))","v":"X"},{"$f":"IF(OR(PTA!L32=\"\",PTA!L32=\"X\"),\"X\",IF(PTA!L32=\"*\",\"*\",VLOOKUP(PTA!L32,AL_NUM_ARB,2,FALSE)&\" \"&VLOOKUP(PTA!L32,AL_NUM_ARB,4,FALSE)&\" \"&VLOOKUP(PTA!L32,AL_NUM_ARB,6,FALSE)))","v":"X"},{"$f":"IF(OR(PTA!M32=\"\",PTA!M32=\"X\"),\"X\",IF(PTA!M32=\"*\",\"*\",VLOOKUP(PTA!M32,AL_NUM_ARB,2,FALSE)&\" \"&VLOOKUP(PTA!M32,AL_NUM_ARB,4,FALSE)&\" \"&VLOOKUP(PTA!M32,AL_NUM_ARB,6,FALSE)))","v":"X"},{"$f":"IF(OR(PTA!N32=\"\",PTA!N32=\"X\"),\"X\",IF(PTA!N32=\"*\",\"*\",VLOOKUP(PTA!N32,AL_NUM_ARB,2,FALSE)&\" \"&VLOOKUP(PTA!N32,AL_NUM_ARB,4,FALSE)&\" \"&VLOOKUP(PTA!N32,AL_NUM_ARB,6,FALSE)))","v":"X"},{"$f":"IF(OR(PTA!O32=\"\",PTA!O32=\"X\"),\"X\",IF(PTA!O32=\"*\",\"*\",VLOOKUP(PTA!O32,AL_NUM_ARB,2,FALSE)&\" \"&VLOOKUP(PTA!O32,AL_NUM_ARB,4,FALSE)&\" \"&VLOOKUP(PTA!O32,AL_NUM_ARB,6,FALSE)))","v":"X"},{"$f":"IF(OR(PTA!P32=\"\",PTA!P32=\"X\"),\"X\",IF(PTA!P32=\"*\",\"*\",VLOOKUP(PTA!P32,AL_NUM_ARB,2,FALSE)&\" \"&VLOOKUP(PTA!P32,AL_NUM_ARB,4,FALSE)&\" \"&VLOOKUP(PTA!P32,AL_NUM_ARB,6,FALSE)))","v":"X"},{"$f":"IF(OR(PTA!Q32=\"\",PTA!Q32=\"X\"),\"X\",IF(PTA!Q32=\"*\",\"*\",VLOOKUP(PTA!Q32,AL_NUM_ARB,2,FALSE)&\" \"&VLOOKUP(PTA!Q32,AL_NUM_ARB,4,FALSE)&\" \"&VLOOKUP(PTA!Q32,AL_NUM_ARB,6,FALSE)))","v":"X"},{"$f":"IF(OR(PTA!R32=\"\",PTA!R32=\"X\"),\"X\",IF(PTA!R32=\"*\",\"*\",VLOOKUP(PTA!R32,AL_NUM_ARB,2,FALSE)&\" \"&VLOOKUP(PTA!R32,AL_NUM_ARB,4,FALSE)&\" \"&VLOOKUP(PTA!R32,AL_NUM_ARB,6,FALSE)))","v":"X"},{"$f":"IF(OR(PTA!S32=\"\",PTA!S32=\"X\"),\"X\",IF(PTA!S32=\"*\",\"*\",VLOOKUP(PTA!S32,AL_NUM_ARB,2,FALSE)&\" \"&VLOOKUP(PTA!S32,AL_NUM_ARB,4,FALSE)&\" \"&VLOOKUP(PTA!S32,AL_NUM_ARB,6,FALSE)))","v":"X"},{"$f":"IF(OR(PTA!T32=\"\",PTA!T32=\"X\"),\"X\",IF(PTA!T32=\"*\",\"*\",VLOOKUP(PTA!T32,AL_NUM_ARB,2,FALSE)&\" \"&VLOOKUP(PTA!T32,AL_NUM_ARB,4,FALSE)&\" \"&VLOOKUP(PTA!T32,AL_NUM_ARB,6,FALSE)))","v":"X"},{"$f":"IF(OR(PTA!U32=\"\",PTA!U32=\"X\"),\"X\",IF(PTA!U32=\"*\",\"*\",VLOOKUP(PTA!U32,AL_NUM_ARB,2,FALSE)&\" \"&VLOOKUP(PTA!U32,AL_NUM_ARB,4,FALSE)&\" \"&VLOOKUP(PTA!U32,AL_NUM_ARB,6,FALSE)))","v":"X"},{"$f":"IF(OR(PTA!V32=\"\",PTA!V32=\"X\"),\"X\",IF(PTA!V32=\"*\",\"*\",VLOOKUP(PTA!V32,AL_NUM_ARB,2,FALSE)&\" \"&VLOOKUP(PTA!V32,AL_NUM_ARB,4,FALSE)&\" \"&VLOOKUP(PTA!V32,AL_NUM_ARB,6,FALSE)))","v":"X"},{"$f":"IF(OR(PTA!W32=\"\",PTA!W32=\"X\"),\"X\",IF(PTA!W32=\"*\",\"*\",VLOOKUP(PTA!W32,AL_NUM_ARB,2,FALSE)&\" \"&VLOOKUP(PTA!W32,AL_NUM_ARB,4,FALSE)&\" \"&VLOOKUP(PTA!W32,AL_NUM_ARB,6,FALSE)))","v":"X"},{"$f":"IF(OR(PTA!X32=\"\",PTA!X32=\"X\"),\"X\",IF(PTA!X32=\"*\",\"*\",VLOOKUP(PTA!X32,AL_NUM_ARB,2,FALSE)&\" \"&VLOOKUP(PTA!X32,AL_NUM_ARB,4,FALSE)&\" \"&VLOOKUP(PTA!X32,AL_NUM_ARB,6,FALSE)))","v":"X"},{"$f":"IF(OR(PTA!Y32=\"\",PTA!Y32=\"X\"),\"X\",IF(PTA!Y32=\"*\",\"*\",VLOOKUP(PTA!Y32,AL_NUM_ARB,2,FALSE)&\" \"&VLOOKUP(PTA!Y32,AL_NUM_ARB,4,FALSE)&\" \"&VLOOKUP(PTA!Y32,AL_NUM_ARB,6,FALSE)))","v":"X"},{"$f":"IF(OR(PTA!Z32=\"\",PTA!Z32=\"X\"),\"X\",IF(PTA!Z32=\"*\",\"*\",VLOOKUP(PTA!Z32,AL_NUM_ARB,2,FALSE)&\" \"&VLOOKUP(PTA!Z32,AL_NUM_ARB,4,FALSE)&\" \"&VLOOKUP(PTA!Z32,AL_NUM_ARB,6,FALSE)))","v":"X"},{"$f":"IF(OR(PTA!AA32=\"\",PTA!AA32=\"X\"),\"X\",IF(PTA!AA32=\"*\",\"*\",VLOOKUP(PTA!AA32,AL_NUM_ARB,2,FALSE)&\" \"&VLOOKUP(PTA!AA32,AL_NUM_ARB,4,FALSE)&\" \"&VLOOKUP(PTA!AA32,AL_NUM_ARB,6,FALSE)))","v":"X"},{"$f":"IF(OR(PTA!AB32=\"\",PTA!AB32=\"X\"),\"X\",IF(PTA!AB32=\"*\",\"*\",VLOOKUP(PTA!AB32,AL_NUM_ARB,2,FALSE)&\" \"&VLOOKUP(PTA!AB32,AL_NUM_ARB,4,FALSE)&\" \"&VLOOKUP(PTA!AB32,AL_NUM_ARB,6,FALSE)))","v":"X"},{"$f":"IF(OR(PTA!AC32=\"\",PTA!AC32=\"X\"),\"X\",IF(PTA!AC32=\"*\",\"*\",VLOOKUP(PTA!AC32,AL_NUM_ARB,2,FALSE)&\" \"&VLOOKUP(PTA!AC32,AL_NUM_ARB,4,FALSE)&\" \"&VLOOKUP(PTA!AC32,AL_NUM_ARB,6,FALSE)))","v":"X"},{"$f":"IF(OR(PTA!AD32=\"\",PTA!AD32=\"X\"),\"X\",IF(PTA!AD32=\"*\",\"*\",VLOOKUP(PTA!AD32,AL_NUM_ARB,2,FALSE)&\" \"&VLOOKUP(PTA!AD32,AL_NUM_ARB,4,FALSE)&\" \"&VLOOKUP(PTA!AD32,AL_NUM_ARB,6,FALSE)))","v":"X"},{"$f":"IF(OR(PTA!AE32=\"\",PTA!AE32=\"X\"),\"X\",IF(PTA!AE32=\"*\",\"*\",VLOOKUP(PTA!AE32,AL_NUM_ARB,2,FALSE)&\" \"&VLOOKUP(PTA!AE32,AL_NUM_ARB,4,FALSE)&\" \"&VLOOKUP(PTA!AE32,AL_NUM_ARB,6,FALSE)))","v":"X"},{"$f":"IF(OR(PTA!AF32=\"\",PTA!AF32=\"X\"),\"X\",IF(PTA!AF32=\"*\",\"*\",VLOOKUP(PTA!AF32,AL_NUM_ARB,2,FALSE)&\" \"&VLOOKUP(PTA!AF32,AL_NUM_ARB,4,FALSE)&\" \"&VLOOKUP(PTA!AF32,AL_NUM_ARB,6,FALSE)))","v":"X"},{"$f":"IF(OR(PTA!AG32=\"\",PTA!AG32=\"X\"),\"X\",IF(PTA!AG32=\"*\",\"*\",VLOOKUP(PTA!AG32,AL_NUM_ARB,2,FALSE)&\" \"&VLOOKUP(PTA!AG32,AL_NUM_ARB,4,FALSE)&\" \"&VLOOKUP(PTA!AG32,AL_NUM_ARB,6,FALSE)))","v":"X"},{"$f":"IF(OR(PTA!AH32=\"\",PTA!AH32=\"X\"),\"X\",IF(PTA!AH32=\"*\",\"*\",VLOOKUP(PTA!AH32,AL_NUM_ARB,2,FALSE)&\" \"&VLOOKUP(PTA!AH32,AL_NUM_ARB,4,FALSE)&\" \"&VLOOKUP(PTA!AH32,AL_NUM_ARB,6,FALSE)))","v":"X"},{"$f":"IF(OR(PTA!AI32=\"\",PTA!AI32=\"X\"),\"X\",IF(PTA!AI32=\"*\",\"*\",VLOOKUP(PTA!AI32,AL_NUM_ARB,2,FALSE)&\" \"&VLOOKUP(PTA!AI32,AL_NUM_ARB,4,FALSE)&\" \"&VLOOKUP(PTA!AI32,AL_NUM_ARB,6,FALSE)))","v":"X"},{"$f":"IF(OR(PTA!AJ32=\"\",PTA!AJ32=\"X\"),\"X\",IF(PTA!AJ32=\"*\",\"*\",VLOOKUP(PTA!AJ32,AL_NUM_ARB,2,FALSE)&\" \"&VLOOKUP(PTA!AJ32,AL_NUM_ARB,4,FALSE)&\" \"&VLOOKUP(PTA!AJ32,AL_NUM_ARB,6,FALSE)))","v":"X"},{"$f":"IF(OR(PTA!AK32=\"\",PTA!AK32=\"X\"),\"X\",IF(PTA!AK32=\"*\",\"*\",VLOOKUP(PTA!AK32,AL_NUM_ARB,2,FALSE)&\" \"&VLOOKUP(PTA!AK32,AL_NUM_ARB,4,FALSE)&\" \"&VLOOKUP(PTA!AK32,AL_NUM_ARB,6,FALSE)))","v":"X"},{"$f":"IF(OR(PTA!AL32=\"\",PTA!AL32=\"X\"),\"X\",IF(PTA!AL32=\"*\",\"*\",VLOOKUP(PTA!AL32,AL_NUM_ARB,2,FALSE)&\" \"&VLOOKUP(PTA!AL32,AL_NUM_ARB,4,FALSE)&\" \"&VLOOKUP(PTA!AL32,AL_NUM_ARB,6,FALSE)))","v":"X"},{"$f":"IF(OR(PTA!AM32=\"\",PTA!AM32=\"X\"),\"X\",IF(PTA!AM32=\"*\",\"*\",VLOOKUP(PTA!AM32,AL_NUM_ARB,2,FALSE)&\" \"&VLOOKUP(PTA!AM32,AL_NUM_ARB,4,FALSE)&\" \"&VLOOKUP(PTA!AM32,AL_NUM_ARB,6,FALSE)))","v":"X"},{"$f":"IF(OR(PTA!AN32=\"\",PTA!AN32=\"X\"),\"X\",IF(PTA!AN32=\"*\",\"*\",VLOOKUP(PTA!AN32,AL_NUM_ARB,2,FALSE)&\" \"&VLOOKUP(PTA!AN32,AL_NUM_ARB,4,FALSE)&\" \"&VLOOKUP(PTA!AN32,AL_NUM_ARB,6,FALSE)))","v":"X"},{"$f":"IF(OR(PTA!AO32=\"\",PTA!AO32=\"X\"),\"X\",IF(PTA!AO32=\"*\",\"*\",VLOOKUP(PTA!AO32,AL_NUM_ARB,2,FALSE)&\" \"&VLOOKUP(PTA!AO32,AL_NUM_ARB,4,FALSE)&\" \"&VLOOKUP(PTA!AO32,AL_NUM_ARB,6,FALSE)))","v":"X"},{"$f":"IF(OR(PTA!AP32=\"\",PTA!AP32=\"X\"),\"X\",IF(PTA!AP32=\"*\",\"*\",VLOOKUP(PTA!AP32,AL_NUM_ARB,2,FALSE)&\" \"&VLOOKUP(PTA!AP32,AL_NUM_ARB,4,FALSE)&\" \"&VLOOKUP(PTA!AP32,AL_NUM_ARB,6,FALSE)))","v":"X"},{"$f":"IF(OR(PTA!AQ32=\"\",PTA!AQ32=\"X\"),\"X\",IF(PTA!AQ32=\"*\",\"*\",VLOOKUP(PTA!AQ32,AL_NUM_ARB,2,FALSE)&\" \"&VLOOKUP(PTA!AQ32,AL_NUM_ARB,4,FALSE)&\" \"&VLOOKUP(PTA!AQ32,AL_NUM_ARB,6,FALSE)))","v":"X"},{"$f":"IF(OR(PTA!AR32=\"\",PTA!AR32=\"X\"),\"X\",IF(PTA!AR32=\"*\",\"*\",VLOOKUP(PTA!AR32,AL_NUM_ARB,2,FALSE)&\" \"&VLOOKUP(PTA!AR32,AL_NUM_ARB,4,FALSE)&\" \"&VLOOKUP(PTA!AR32,AL_NUM_ARB,6,FALSE)))","v":"X"},{"$f":"IF(OR(PTA!AS32=\"\",PTA!AS32=\"X\"),\"X\",IF(PTA!AS32=\"*\",\"*\",VLOOKUP(PTA!AS32,AL_NUM_ARB,2,FALSE)&\" \"&VLOOKUP(PTA!AS32,AL_NUM_ARB,4,FALSE)&\" \"&VLOOKUP(PTA!AS32,AL_NUM_ARB,6,FALSE)))","v":"X"},{"$f":"IF(OR(PTA!AT32=\"\",PTA!AT32=\"X\"),\"X\",IF(PTA!AT32=\"*\",\"*\",VLOOKUP(PTA!AT32,AL_NUM_ARB,2,FALSE)&\" \"&VLOOKUP(PTA!AT32,AL_NUM_ARB,4,FALSE)&\" \"&VLOOKUP(PTA!AT32,AL_NUM_ARB,6,FALSE)))","v":"X"},{"$f":"IF(OR(PTA!AU32=\"\",PTA!AU32=\"X\"),\"X\",IF(PTA!AU32=\"*\",\"*\",VLOOKUP(PTA!AU32,AL_NUM_ARB,2,FALSE)&\" \"&VLOOKUP(PTA!AU32,AL_NUM_ARB,4,FALSE)&\" \"&VLOOKUP(PTA!AU32,AL_NUM_ARB,6,FALSE)))","v":"X"},{"$f":"IF(OR(PTA!AV32=\"\",PTA!AV32=\"X\"),\"X\",IF(PTA!AV32=\"*\",\"*\",VLOOKUP(PTA!AV32,AL_NUM_ARB,2,FALSE)&\" \"&VLOOKUP(PTA!AV32,AL_NUM_ARB,4,FALSE)&\" \"&VLOOKUP(PTA!AV32,AL_NUM_ARB,6,FALSE)))","v":"X"},{"$f":"IF(OR(PTA!AW32=\"\",PTA!AW32=\"X\"),\"X\",IF(PTA!AW32=\"*\",\"*\",VLOOKUP(PTA!AW32,AL_NUM_ARB,2,FALSE)&\" \"&VLOOKUP(PTA!AW32,AL_NUM_ARB,4,FALSE)&\" \"&VLOOKUP(PTA!AW32,AL_NUM_ARB,6,FALSE)))","v":"X"},{"$f":"IF(OR(PTA!AX32=\"\",PTA!AX32=\"X\"),\"X\",IF(PTA!AX32=\"*\",\"*\",VLOOKUP(PTA!AX32,AL_NUM_ARB,2,FALSE)&\" \"&VLOOKUP(PTA!AX32,AL_NUM_ARB,4,FALSE)&\" \"&VLOOKUP(PTA!AX32,AL_NUM_ARB,6,FALSE)))","v":"X"},{"$f":"IF(OR(PTA!AY32=\"\",PTA!AY32=\"X\"),\"X\",IF(PTA!AY32=\"*\",\"*\",VLOOKUP(PTA!AY32,AL_NUM_ARB,2,FALSE)&\" \"&VLOOKUP(PTA!AY32,AL_NUM_ARB,4,FALSE)&\" \"&VLOOKUP(PTA!AY32,AL_NUM_ARB,6,FALSE)))","v":"X"},{"$f":"IF(OR(PTA!AZ32=\"\",PTA!AZ32=\"X\"),\"X\",IF(PTA!AZ32=\"*\",\"*\",VLOOKUP(PTA!AZ32,AL_NUM_ARB,2,FALSE)&\" \"&VLOOKUP(PTA!AZ32,AL_NUM_ARB,4,FALSE)&\" \"&VLOOKUP(PTA!AZ32,AL_NUM_ARB,6,FALSE)))","v":"X"},{"$f":"IF(OR(PTA!BA32=\"\",PTA!BA32=\"X\"),\"X\",IF(PTA!BA32=\"*\",\"*\",VLOOKUP(PTA!BA32,AL_NUM_ARB,2,FALSE)&\" \"&VLOOKUP(PTA!BA32,AL_NUM_ARB,4,FALSE)&\" \"&VLOOKUP(PTA!BA32,AL_NUM_ARB,6,FALSE)))","v":"X"},{"$f":"IF(OR(PTA!BB32=\"\",PTA!BB32=\"X\"),\"X\",IF(PTA!BB32=\"*\",\"*\",VLOOKUP(PTA!BB32,AL_NUM_ARB,2,FALSE)&\" \"&VLOOKUP(PTA!BB32,AL_NUM_ARB,4,FALSE)&\" \"&VLOOKUP(PTA!BB32,AL_NUM_ARB,6,FALSE)))","v":"X"},{"$f":"IF(OR(PTA!BC32=\"\",PTA!BC32=\"X\"),\"X\",IF(PTA!BC32=\"*\",\"*\",VLOOKUP(PTA!BC32,AL_NUM_ARB,2,FALSE)&\" \"&VLOOKUP(PTA!BC32,AL_NUM_ARB,4,FALSE)&\" \"&VLOOKUP(PTA!BC32,AL_NUM_ARB,6,FALSE)))","v":"X"},{"$f":"IF(OR(PTA!BD32=\"\",PTA!BD32=\"X\"),\"X\",IF(PTA!BD32=\"*\",\"*\",VLOOKUP(PTA!BD32,AL_NUM_ARB,2,FALSE)&\" \"&VLOOKUP(PTA!BD32,AL_NUM_ARB,4,FALSE)&\" \"&VLOOKUP(PTA!BD32,AL_NUM_ARB,6,FALSE)))","v":"X"},{"$f":"IF(OR(PTA!BE32=\"\",PTA!BE32=\"X\"),\"X\",IF(PTA!BE32=\"*\",\"*\",VLOOKUP(PTA!BE32,AL_NUM_ARB,2,FALSE)&\" \"&VLOOKUP(PTA!BE32,AL_NUM_ARB,4,FALSE)&\" \"&VLOOKUP(PTA!BE32,AL_NUM_ARB,6,FALSE)))","v":"X"},{"$f":"IF(OR(PTA!BF32=\"\",PTA!BF32=\"X\"),\"X\",IF(PTA!BF32=\"*\",\"*\",VLOOKUP(PTA!BF32,AL_NUM_ARB,2,FALSE)&\" \"&VLOOKUP(PTA!BF32,AL_NUM_ARB,4,FALSE)&\" \"&VLOOKUP(PTA!BF32,AL_NUM_ARB,6,FALSE)))","v":"X"},{"$f":"IF(OR(PTA!BG32=\"\",PTA!BG32=\"X\"),\"X\",IF(PTA!BG32=\"*\",\"*\",VLOOKUP(PTA!BG32,AL_NUM_ARB,2,FALSE)&\" \"&VLOOKUP(PTA!BG32,AL_NUM_ARB,4,FALSE)&\" \"&VLOOKUP(PTA!BG32,AL_NUM_ARB,6,FALSE)))","v":"X"},{"$f":"IF(OR(PTA!BH32=\"\",PTA!BH32=\"X\"),\"X\",IF(PTA!BH32=\"*\",\"*\",VLOOKUP(PTA!BH32,AL_NUM_ARB,2,FALSE)&\" \"&VLOOKUP(PTA!BH32,AL_NUM_ARB,4,FALSE)&\" \"&VLOOKUP(PTA!BH32,AL_NUM_ARB,6,FALSE)))","v":"X"},{"$f":"IF(OR(PTA!BI32=\"\",PTA!BI32=\"X\"),\"X\",IF(PTA!BI32=\"*\",\"*\",VLOOKUP(PTA!BI32,AL_NUM_ARB,2,FALSE)&\" \"&VLOOKUP(PTA!BI32,AL_NUM_ARB,4,FALSE)&\" \"&VLOOKUP(PTA!BI32,AL_NUM_ARB,6,FALSE)))","v":"X"},{"$f":"IF(OR(PTA!BJ32=\"\",PTA!BJ32=\"X\"),\"X\",IF(PTA!BJ32=\"*\",\"*\",VLOOKUP(PTA!BJ32,AL_NUM_ARB,2,FALSE)&\" \"&VLOOKUP(PTA!BJ32,AL_NUM_ARB,4,FALSE)&\" \"&VLOOKUP(PTA!BJ32,AL_NUM_ARB,6,FALSE)))","v":"X"},{"$f":"IF(OR(PTA!BK32=\"\",PTA!BK32=\"X\"),\"X\",IF(PTA!BK32=\"*\",\"*\",VLOOKUP(PTA!BK32,AL_NUM_ARB,2,FALSE)&\" \"&VLOOKUP(PTA!BK32,AL_NUM_ARB,4,FALSE)&\" \"&VLOOKUP(PTA!BK32,AL_NUM_ARB,6,FALSE)))","v":"X"},{"$f":"IF(OR(PTA!BL32=\"\",PTA!BL32=\"X\"),\"X\",IF(PTA!BL32=\"*\",\"*\",VLOOKUP(PTA!BL32,AL_NUM_ARB,2,FALSE)&\" \"&VLOOKUP(PTA!BL32,AL_NUM_ARB,4,FALSE)&\" \"&VLOOKUP(PTA!BL32,AL_NUM_ARB,6,FALSE)))","v":"X"},{"$f":"IF(OR(PTA!BM32=\"\",PTA!BM32=\"X\"),\"X\",IF(PTA!BM32=\"*\",\"*\",VLOOKUP(PTA!BM32,AL_NUM_ARB,2,FALSE)&\" \"&VLOOKUP(PTA!BM32,AL_NUM_ARB,4,FALSE)&\" \"&VLOOKUP(PTA!BM32,AL_NUM_ARB,6,FALSE)))","v":"X"},{"$f":"IF(OR(PTA!BN32=\"\",PTA!BN32=\"X\"),\"X\",IF(PTA!BN32=\"*\",\"*\",VLOOKUP(PTA!BN32,AL_NUM_ARB,2,FALSE)&\" \"&VLOOKUP(PTA!BN32,AL_NUM_ARB,4,FALSE)&\" \"&VLOOKUP(PTA!BN32,AL_NUM_ARB,6,FALSE)))","v":"X"},{"$f":"IF(OR(PTA!BO32=\"\",PTA!BO32=\"X\"),\"X\",IF(PTA!BO32=\"*\",\"*\",VLOOKUP(PTA!BO32,AL_NUM_ARB,2,FALSE)&\" \"&VLOOKUP(PTA!BO32,AL_NUM_ARB,4,FALSE)&\" \"&VLOOKUP(PTA!BO32,AL_NUM_ARB,6,FALSE)))","v":"X"},{"$f":"IF(OR(PTA!BP32=\"\",PTA!BP32=\"X\"),\"X\",IF(PTA!BP32=\"*\",\"*\",VLOOKUP(PTA!BP32,AL_NUM_ARB,2,FALSE)&\" \"&VLOOKUP(PTA!BP32,AL_NUM_ARB,4,FALSE)&\" \"&VLOOKUP(PTA!BP32,AL_NUM_ARB,6,FALSE)))","v":"X"},{"$f":"IF(OR(PTA!BQ32=\"\",PTA!BQ32=\"X\"),\"X\",IF(PTA!BQ32=\"*\",\"*\",VLOOKUP(PTA!BQ32,AL_NUM_ARB,2,FALSE)&\" \"&VLOOKUP(PTA!BQ32,AL_NUM_ARB,4,FALSE)&\" \"&VLOOKUP(PTA!BQ32,AL_NUM_ARB,6,FALSE)))","v":"X"},{"$f":"IF(OR(PTA!BR32=\"\",PTA!BR32=\"X\"),\"X\",IF(PTA!BR32=\"*\",\"*\",VLOOKUP(PTA!BR32,AL_NUM_ARB,2,FALSE)&\" \"&VLOOKUP(PTA!BR32,AL_NUM_ARB,4,FALSE)&\" \"&VLOOKUP(PTA!BR32,AL_NUM_ARB,6,FALSE)))","v":"X"},{"$f":"IF(OR(PTA!BT32=\"\",PTA!BT32=\"X\"),\"X\",VLOOKUP(PTA!BT32,AL_NUM_ARB,2,FALSE)&\" \"&VLOOKUP(PTA!BT32,AL_NUM_ARB,4,FALSE)&\" \"&VLOOKUP(PTA!BT32,AL_NUM_ARB,6,FALSE))","v":"X"},{"$f":"IF(OR(PTA!BU32=\"\",PTA!BU32=\"X\"),\"X\",VLOOKUP(PTA!BU32,AL_NUM_ARB,2,FALSE)&\" \"&VLOOKUP(PTA!BU32,AL_NUM_ARB,4,FALSE)&\" \"&VLOOKUP(PTA!BU32,AL_NUM_ARB,6,FALSE))","v":"X"},{"$f":"IF(OR(PTA!BV32=\"\",PTA!BV32=\"X\"),\"X\",VLOOKUP(PTA!BV32,AL_NUM_ARB,2,FALSE)&\" \"&VLOOKUP(PTA!BV32,AL_NUM_ARB,4,FALSE)&\" \"&VLOOKUP(PTA!BV32,AL_NUM_ARB,6,FALSE))","v":"X"},{"$f":"IF(OR(PTA!BW32=\"\",PTA!BW32=\"X\"),\"X\",VLOOKUP(PTA!BW32,AL_NUM_ARB,2,FALSE)&\" \"&VLOOKUP(PTA!BW32,AL_NUM_ARB,4,FALSE)&\" \"&VLOOKUP(PTA!BW32,AL_NUM_ARB,6,FALSE))","v":"X"},"11:30:00"]
[{"$f":"PTA!A33","v":""},{"$f":"PTA!B33","v":"00:00:00"},{"$f":"PTA!C33","v":32},{"$f":"PTA!D33","v":0},{"$f":"IF(OR(PTA!E33=\"\",PTA!E33=\"X\"),\"X\",IF(PTA!E33=\"*\",\"*\",VLOOKUP(PTA!E33,AL_NUM_ARB,2,FALSE)&\" \"&VLOOKUP(PTA!E33,AL_NUM_ARB,4,FALSE)&\" \"&VLOOKUP(PTA!E33,AL_NUM_ARB,6,FALSE)))","v":"X"},{"$f":"IF(OR(PTA!F33=\"\",PTA!F33=\"X\"),\"X\",IF(PTA!F33=\"*\",\"*\",VLOOKUP(PTA!F33,AL_NUM_ARB,2,FALSE)&\" \"&VLOOKUP(PTA!F33,AL_NUM_ARB,4,FALSE)&\" \"&VLOOKUP(PTA!F33,AL_NUM_ARB,6,FALSE)))","v":"X"},{"$f":"IF(OR(PTA!G33=\"\",PTA!G33=\"X\"),\"X\",IF(PTA!G33=\"*\",\"*\",VLOOKUP(PTA!G33,AL_NUM_ARB,2,FALSE)&\" \"&VLOOKUP(PTA!G33,AL_NUM_ARB,4,FALSE)&\" \"&VLOOKUP(PTA!G33,AL_NUM_ARB,6,FALSE)))","v":"X"},{"$f":"IF(OR(PTA!H33=\"\",PTA!H33=\"X\"),\"X\",IF(PTA!H33=\"*\",\"*\",VLOOKUP(PTA!H33,AL_NUM_ARB,2,FALSE)&\" \"&VLOOKUP(PTA!H33,AL_NUM_ARB,4,FALSE)&\" \"&VLOOKUP(PTA!H33,AL_NUM_ARB,6,FALSE)))","v":"X"},{"$f":"IF(OR(PTA!I33=\"\",PTA!I33=\"X\"),\"X\",IF(PTA!I33=\"*\",\"*\",VLOOKUP(PTA!I33,AL_NUM_ARB,2,FALSE)&\" \"&VLOOKUP(PTA!I33,AL_NUM_ARB,4,FALSE)&\" \"&VLOOKUP(PTA!I33,AL_NUM_ARB,6,FALSE)))","v":"X"},{"$f":"IF(OR(PTA!J33=\"\",PTA!J33=\"X\"),\"X\",IF(PTA!J33=\"*\",\"*\",VLOOKUP(PTA!J33,AL_NUM_ARB,2,FALSE)&\" \"&VLOOKUP(PTA!J33,AL_NUM_ARB,4,FALSE)&\" \"&VLOOKUP(PTA!J33,AL_NUM_ARB,6,FALSE)))","v":"X"},{"$f":"IF(OR(PTA!K33=\"\",PTA!K33=\"X\"),\"X\",IF(PTA!K33=\"*\",\"*\",VLOOKUP(PTA!K33,AL_NUM_ARB,2,FALSE)&\" \"&VLOOKUP(PTA!K33,AL_NUM_ARB,4,FALSE)&\" \"&VLOOKUP(PTA!K33,AL_NUM_ARB,6,FALSE)))","v":"X"},{"$f":"IF(OR(PTA!L33=\"\",PTA!L33=\"X\"),\"X\",IF(PTA!L33=\"*\",\"*\",VLOOKUP(PTA!L33,AL_NUM_ARB,2,FALSE)&\" \"&VLOOKUP(PTA!L33,AL_NUM_ARB,4,FALSE)&\" \"&VLOOKUP(PTA!L33,AL_NUM_ARB,6,FALSE)))","v":"X"},{"$f":"IF(OR(PTA!M33=\"\",PTA!M33=\"X\"),\"X\",IF(PTA!M33=\"*\",\"*\",VLOOKUP(PTA!M33,AL_NUM_ARB,2,FALSE)&\" \"&VLOOKUP(PTA!M33,AL_NUM_ARB,4,FALSE)&\" \"&VLOOKUP(PTA!M33,AL_NUM_ARB,6,FALSE)))","v":"X"},{"$f":"IF(OR(PTA!N33=\"\",PTA!N33=\"X\"),\"X\",IF(PTA!N33=\"*\",\"*\",VLOOKUP(PTA!N33,AL_NUM_ARB,2,FALSE)&\" \"&VLOOKUP(PTA!N33,AL_NUM_ARB,4,FALSE)&\" \"&VLOOKUP(PTA!N33,AL_NUM_ARB,6,FALSE)))","v":"X"},{"$f":"IF(OR(PTA!O33=\"\",PTA!O33=\"X\"),\"X\",IF(PTA!O33=\"*\",\"*\",VLOOKUP(PTA!O33,AL_NUM_ARB,2,FALSE)&\" \"&VLOOKUP(PTA!O33,AL_NUM_ARB,4,FALSE)&\" \"&VLOOKUP(PTA!O33,AL_NUM_ARB,6,FALSE)))","v":"X"},{"$f":"IF(OR(PTA!P33=\"\",PTA!P33=\"X\"),\"X\",IF(PTA!P33=\"*\",\"*\",VLOOKUP(PTA!P33,AL_NUM_ARB,2,FALSE)&\" \"&VLOOKUP(PTA!P33,AL_NUM_ARB,4,FALSE)&\" \"&VLOOKUP(PTA!P33,AL_NUM_ARB,6,FALSE)))","v":"X"},{"$f":"IF(OR(PTA!Q33=\"\",PTA!Q33=\"X\"),\"X\",IF(PTA!Q33=\"*\",\"*\",VLOOKUP(PTA!Q33,AL_NUM_ARB,2,FALSE)&\" \"&VLOOKUP(PTA!Q33,AL_NUM_ARB,4,FALSE)&\" \"&VLOOKUP(PTA!Q33,AL_NUM_ARB,6,FALSE)))","v":"X"},{"$f":"IF(OR(PTA!R33=\"\",PTA!R33=\"X\"),\"X\",IF(PTA!R33=\"*\",\"*\",VLOOKUP(PTA!R33,AL_NUM_ARB,2,FALSE)&\" \"&VLOOKUP(PTA!R33,AL_NUM_ARB,4,FALSE)&\" \"&VLOOKUP(PTA!R33,AL_NUM_ARB,6,FALSE)))","v":"X"},{"$f":"IF(OR(PTA!S33=\"\",PTA!S33=\"X\"),\"X\",IF(PTA!S33=\"*\",\"*\",VLOOKUP(PTA!S33,AL_NUM_ARB,2,FALSE)&\" \"&VLOOKUP(PTA!S33,AL_NUM_ARB,4,FALSE)&\" \"&VLOOKUP(PTA!S33,AL_NUM_ARB,6,FALSE)))","v":"X"},{"$f":"IF(OR(PTA!T33=\"\",PTA!T33=\"X\"),\"X\",IF(PTA!T33=\"*\",\"*\",VLOOKUP(PTA!T33,AL_NUM_ARB,2,FALSE)&\" \"&VLOOKUP(PTA!T33,AL_NUM_ARB,4,FALSE)&\" \"&VLOOKUP(PTA!T33,AL_NUM_ARB,6,FALSE)))","v":"X"},{"$f":"IF(OR(PTA!U33=\"\",PTA!U33=\"X\"),\"X\",IF(PTA!U33=\"*\",\"*\",VLOOKUP(PTA!U33,AL_NUM_ARB,2,FALSE)&\" \"&VLOOKUP(PTA!U33,AL_NUM_ARB,4,FALSE)&\" \"&VLOOKUP(PTA!U33,AL_NUM_ARB,6,FALSE)))","v":"X"},{"$f":"IF(OR(PTA!V33=\"\",PTA!V33=\"X\"),\"X\",IF(PTA!V33=\"*\",\"*\",VLOOKUP(PTA!V33,AL_NUM_ARB,2,FALSE)&\" \"&VLOOKUP(PTA!V33,AL_NUM_ARB,4,FALSE)&\" \"&VLOOKUP(PTA!V33,AL_NUM_ARB,6,FALSE)))","v":"X"},{"$f":"IF(OR(PTA!W33=\"\",PTA!W33=\"X\"),\"X\",IF(PTA!W33=\"*\",\"*\",VLOOKUP(PTA!W33,AL_NUM_ARB,2,FALSE)&\" \"&VLOOKUP(PTA!W33,AL_NUM_ARB,4,FALSE)&\" \"&VLOOKUP(PTA!W33,AL_NUM_ARB,6,FALSE)))","v":"X"},{"$f":"IF(OR(PTA!X33=\"\",PTA!X33=\"X\"),\"X\",IF(PTA!X33=\"*\",\"*\",VLOOKUP(PTA!X33,AL_NUM_ARB,2,FALSE)&\" \"&VLOOKUP(PTA!X33,AL_NUM_ARB,4,FALSE)&\" \"&VLOOKUP(PTA!X33,AL_NUM_ARB,6,FALSE)))","v":"X"},{"$f":"IF(OR(PTA!Y33=\"\",PTA!Y33=\"X\"),\"X\",IF(PTA!Y33=\"*\",\"*\",VLOOKUP(PTA!Y33,AL_NUM_ARB,2,FALSE)&\" \"&VLOOKUP(PTA!Y33,AL_NUM_ARB,4,FALSE)&\" \"&VLOOKUP(PTA!Y33,AL_NUM_ARB,6,FALSE)))","v":"X"},{"$f":"IF(OR(PTA!Z33=\"\",PTA!Z33=\"X\"),\"X\",IF(PTA!Z33=\"*\",\"*\",VLOOKUP(PTA!Z33,AL_NUM_ARB,2,FALSE)&\" \"&VLOOKUP(PTA!Z33,AL_NUM_ARB,4,FALSE)&\" \"&VLOOKUP(PTA!Z33,AL_NUM_ARB,6,FALSE)))","v":"X"},{"$f":"IF(OR(PTA!AA33=\"\",PTA!AA33=\"X\"),\"X\",IF(PTA!AA33=\"*\",\"*\",VLOOKUP(PTA!AA33,AL_NUM_ARB,2,FALSE)&\" \"&VLOOKUP(PTA!AA33,AL_NUM_ARB,4,FALSE)&\" \"&VLOOKUP(PTA!AA33,AL_NUM_ARB,6,FALSE)))","v":"X"},{"$f":"IF(OR(PTA!AB33=\"\",PTA!AB33=\"X\"),\"X\",IF(PTA!AB33=\"*\",\"*\",VLOOKUP(PTA!AB33,AL_NUM_ARB,2,FALSE)&\" \"&VLOOKUP(PTA!AB33,AL_NUM_ARB,4,FALSE)&\" \"&VLOOKUP(PTA!AB33,AL_NUM_ARB,6,FALSE)))","v":"X"},{"$f":"IF(OR(PTA!AC33=\"\",PTA!AC33=\"X\"),\"X\",IF(PTA!AC33=\"*\",\"*\",VLOOKUP(PTA!AC33,AL_NUM_ARB,2,FALSE)&\" \"&VLOOKUP(PTA!AC33,AL_NUM_ARB,4,FALSE)&\" \"&VLOOKUP(PTA!AC33,AL_NUM_ARB,6,FALSE)))","v":"X"},{"$f":"IF(OR(PTA!AD33=\"\",PTA!AD33=\"X\"),\"X\",IF(PTA!AD33=\"*\",\"*\",VLOOKUP(PTA!AD33,AL_NUM_ARB,2,FALSE)&\" \"&VLOOKUP(PTA!AD33,AL_NUM_ARB,4,FALSE)&\" \"&VLOOKUP(PTA!AD33,AL_NUM_ARB,6,FALSE)))","v":"X"},{"$f":"IF(OR(PTA!AE33=\"\",PTA!AE33=\"X\"),\"X\",IF(PTA!AE33=\"*\",\"*\",VLOOKUP(PTA!AE33,AL_NUM_ARB,2,FALSE)&\" \"&VLOOKUP(PTA!AE33,AL_NUM_ARB,4,FALSE)&\" \"&VLOOKUP(PTA!AE33,AL_NUM_ARB,6,FALSE)))","v":"X"},{"$f":"IF(OR(PTA!AF33=\"\",PTA!AF33=\"X\"),\"X\",IF(PTA!AF33=\"*\",\"*\",VLOOKUP(PTA!AF33,AL_NUM_ARB,2,FALSE)&\" \"&VLOOKUP(PTA!AF33,AL_NUM_ARB,4,FALSE)&\" \"&VLOOKUP(PTA!AF33,AL_NUM_ARB,6,FALSE)))","v":"X"},{"$f":"IF(OR(PTA!AG33=\"\",PTA!AG33=\"X\"),\"X\",IF(PTA!AG33=\"*\",\"*\",VLOOKUP(PTA!AG33,AL_NUM_ARB,2,FALSE)&\" \"&VLOOKUP(PTA!AG33,AL_NUM_ARB,4,FALSE)&\" \"&VLOOKUP(PTA!AG33,AL_NUM_ARB,6,FALSE)))","v":"X"},{"$f":"IF(OR(PTA!AH33=\"\",PTA!AH33=\"X\"),\"X\",IF(PTA!AH33=\"*\",\"*\",VLOOKUP(PTA!AH33,AL_NUM_ARB,2,FALSE)&\" \"&VLOOKUP(PTA!AH33,AL_NUM_ARB,4,FALSE)&\" \"&VLOOKUP(PTA!AH33,AL_NUM_ARB,6,FALSE)))","v":"X"},{"$f":"IF(OR(PTA!AI33=\"\",PTA!AI33=\"X\"),\"X\",IF(PTA!AI33=\"*\",\"*\",VLOOKUP(PTA!AI33,AL_NUM_ARB,2,FALSE)&\" \"&VLOOKUP(PTA!AI33,AL_NUM_ARB,4,FALSE)&\" \"&VLOOKUP(PTA!AI33,AL_NUM_ARB,6,FALSE)))","v":"X"},{"$f":"IF(OR(PTA!AJ33=\"\",PTA!AJ33=\"X\"),\"X\",IF(PTA!AJ33=\"*\",\"*\",VLOOKUP(PTA!AJ33,AL_NUM_ARB,2,FALSE)&\" \"&VLOOKUP(PTA!AJ33,AL_NUM_ARB,4,FALSE)&\" \"&VLOOKUP(PTA!AJ33,AL_NUM_ARB,6,FALSE)))","v":"X"},{"$f":"IF(OR(PTA!AK33=\"\",PTA!AK33=\"X\"),\"X\",IF(PTA!AK33=\"*\",\"*\",VLOOKUP(PTA!AK33,AL_NUM_ARB,2,FALSE)&\" \"&VLOOKUP(PTA!AK33,AL_NUM_ARB,4,FALSE)&\" \"&VLOOKUP(PTA!AK33,AL_NUM_ARB,6,FALSE)))","v":"X"},{"$f":"IF(OR(PTA!AL33=\"\",PTA!AL33=\"X\"),\"X\",IF(PTA!AL33=\"*\",\"*\",VLOOKUP(PTA!AL33,AL_NUM_ARB,2,FALSE)&\" \"&VLOOKUP(PTA!AL33,AL_NUM_ARB,4,FALSE)&\" \"&VLOOKUP(PTA!AL33,AL_NUM_ARB,6,FALSE)))","v":"X"},{"$f":"IF(OR(PTA!AM33=\"\",PTA!AM33=\"X\"),\"X\",IF(PTA!AM33=\"*\",\"*\",VLOOKUP(PTA!AM33,AL_NUM_ARB,2,FALSE)&\" \"&VLOOKUP(PTA!AM33,AL_NUM_ARB,4,FALSE)&\" \"&VLOOKUP(PTA!AM33,AL_NUM_ARB,6,FALSE)))","v":"X"},{"$f":"IF(OR(PTA!AN33=\"\",PTA!AN33=\"X\"),\"X\",IF(PTA!AN33=\"*\",\"*\",VLOOKUP(PTA!AN33,AL_NUM_ARB,2,FALSE)&\" \"&VLOOKUP(PTA!AN33,AL_NUM_ARB,4,FALSE)&\" \"&VLOOKUP(PTA!AN33,AL_NUM_ARB,6,FALSE)))","v":"X"},{"$f":"IF(OR(PTA!AO33=\"\",PTA!AO33=\"X\"),\"X\",IF(PTA!AO33=\"*\",\"*\",VLOOKUP(PTA!AO33,AL_NUM_ARB,2,FALSE)&\" \"&VLOOKUP(PTA!AO33,AL_NUM_ARB,4,FALSE)&\" \"&VLOOKUP(PTA!AO33,AL_NUM_ARB,6,FALSE)))","v":"X"},{"$f":"IF(OR(PTA!AP33=\"\",PTA!AP33=\"X\"),\"X\",IF(PTA!AP33=\"*\",\"*\",VLOOKUP(PTA!AP33,AL_NUM_ARB,2,FALSE)&\" \"&VLOOKUP(PTA!AP33,AL_NUM_ARB,4,FALSE)&\" \"&VLOOKUP(PTA!AP33,AL_NUM_ARB,6,FALSE)))","v":"X"},{"$f":"IF(OR(PTA!AQ33=\"\",PTA!AQ33=\"X\"),\"X\",IF(PTA!AQ33=\"*\",\"*\",VLOOKUP(PTA!AQ33,AL_NUM_ARB,2,FALSE)&\" \"&VLOOKUP(PTA!AQ33,AL_NUM_ARB,4,FALSE)&\" \"&VLOOKUP(PTA!AQ33,AL_NUM_ARB,6,FALSE)))","v":"X"},{"$f":"IF(OR(PTA!AR33=\"\",PTA!AR33=\"X\"),\"X\",IF(PTA!AR33=\"*\",\"*\",VLOOKUP(PTA!AR33,AL_NUM_ARB,2,FALSE)&\" \"&VLOOKUP(PTA!AR33,AL_NUM_ARB,4,FALSE)&\" \"&VLOOKUP(PTA!AR33,AL_NUM_ARB,6,FALSE)))","v":"X"},{"$f":"IF(OR(PTA!AS33=\"\",PTA!AS33=\"X\"),\"X\",IF(PTA!AS33=\"*\",\"*\",VLOOKUP(PTA!AS33,AL_NUM_ARB,2,FALSE)&\" \"&VLOOKUP(PTA!AS33,AL_NUM_ARB,4,FALSE)&\" \"&VLOOKUP(PTA!AS33,AL_NUM_ARB,6,FALSE)))","v":"X"},{"$f":"IF(OR(PTA!AT33=\"\",PTA!AT33=\"X\"),\"X\",IF(PTA!AT33=\"*\",\"*\",VLOOKUP(PTA!AT33,AL_NUM_ARB,2,FALSE)&\" \"&VLOOKUP(PTA!AT33,AL_NUM_ARB,4,FALSE)&\" \"&VLOOKUP(PTA!AT33,AL_NUM_ARB,6,FALSE)))","v":"X"},{"$f":"IF(OR(PTA!AU33=\"\",PTA!AU33=\"X\"),\"X\",IF(PTA!AU33=\"*\",\"*\",VLOOKUP(PTA!AU33,AL_NUM_ARB,2,FALSE)&\" \"&VLOOKUP(PTA!AU33,AL_NUM_ARB,4,FALSE)&\" \"&VLOOKUP(PTA!AU33,AL_NUM_ARB,6,FALSE)))","v":"X"},{"$f":"IF(OR(PTA!AV33=\"\",PTA!AV33=\"X\"),\"X\",IF(PTA!AV33=\"*\",\"*\",VLOOKUP(PTA!AV33,AL_NUM_ARB,2,FALSE)&\" \"&VLOOKUP(PTA!AV33,AL_NUM_ARB,4,FALSE)&\" \"&VLOOKUP(PTA!AV33,AL_NUM_ARB,6,FALSE)))","v":"X"},{"$f":"IF(OR(PTA!AW33=\"\",PTA!AW33=\"X\"),\"X\",IF(PTA!AW33=\"*\",\"*\",VLOOKUP(PTA!AW33,AL_NUM_ARB,2,FALSE)&\" \"&VLOOKUP(PTA!AW33,AL_NUM_ARB,4,FALSE)&\" \"&VLOOKUP(PTA!AW33,AL_NUM_ARB,6,FALSE)))","v":"X"},{"$f":"IF(OR(PTA!AX33=\"\",PTA!AX33=\"X\"),\"X\",IF(PTA!AX33=\"*\",\"*\",VLOOKUP(PTA!AX33,AL_NUM_ARB,2,FALSE)&\" \"&VLOOKUP(PTA!AX33,AL_NUM_ARB,4,FALSE)&\" \"&VLOOKUP(PTA!AX33,AL_NUM_ARB,6,FALSE)))","v":"X"},{"$f":"IF(OR(PTA!AY33=\"\",PTA!AY33=\"X\"),\"X\",IF(PTA!AY33=\"*\",\"*\",VLOOKUP(PTA!AY33,AL_NUM_ARB,2,FALSE)&\" \"&VLOOKUP(PTA!AY33,AL_NUM_ARB,4,FALSE)&\" \"&VLOOKUP(PTA!AY33,AL_NUM_ARB,6,FALSE)))","v":"X"},{"$f":"IF(OR(PTA!AZ33=\"\",PTA!AZ33=\"X\"),\"X\",IF(PTA!AZ33=\"*\",\"*\",VLOOKUP(PTA!AZ33,AL_NUM_ARB,2,FALSE)&\" \"&VLOOKUP(PTA!AZ33,AL_NUM_ARB,4,FALSE)&\" \"&VLOOKUP(PTA!AZ33,AL_NUM_ARB,6,FALSE)))","v":"X"},{"$f":"IF(OR(PTA!BA33=\"\",PTA!BA33=\"X\"),\"X\",IF(PTA!BA33=\"*\",\"*\",VLOOKUP(PTA!BA33,AL_NUM_ARB,2,FALSE)&\" \"&VLOOKUP(PTA!BA33,AL_NUM_ARB,4,FALSE)&\" \"&VLOOKUP(PTA!BA33,AL_NUM_ARB,6,FALSE)))","v":"X"},{"$f":"IF(OR(PTA!BB33=\"\",PTA!BB33=\"X\"),\"X\",IF(PTA!BB33=\"*\",\"*\",VLOOKUP(PTA!BB33,AL_NUM_ARB,2,FALSE)&\" \"&VLOOKUP(PTA!BB33,AL_NUM_ARB,4,FALSE)&\" \"&VLOOKUP(PTA!BB33,AL_NUM_ARB,6,FALSE)))","v":"X"},{"$f":"IF(OR(PTA!BC33=\"\",PTA!BC33=\"X\"),\"X\",IF(PTA!BC33=\"*\",\"*\",VLOOKUP(PTA!BC33,AL_NUM_ARB,2,FALSE)&\" \"&VLOOKUP(PTA!BC33,AL_NUM_ARB,4,FALSE)&\" \"&VLOOKUP(PTA!BC33,AL_NUM_ARB,6,FALSE)))","v":"X"},{"$f":"IF(OR(PTA!BD33=\"\",PTA!BD33=\"X\"),\"X\",IF(PTA!BD33=\"*\",\"*\",VLOOKUP(PTA!BD33,AL_NUM_ARB,2,FALSE)&\" \"&VLOOKUP(PTA!BD33,AL_NUM_ARB,4,FALSE)&\" \"&VLOOKUP(PTA!BD33,AL_NUM_ARB,6,FALSE)))","v":"X"},{"$f":"IF(OR(PTA!BE33=\"\",PTA!BE33=\"X\"),\"X\",IF(PTA!BE33=\"*\",\"*\",VLOOKUP(PTA!BE33,AL_NUM_ARB,2,FALSE)&\" \"&VLOOKUP(PTA!BE33,AL_NUM_ARB,4,FALSE)&\" \"&VLOOKUP(PTA!BE33,AL_NUM_ARB,6,FALSE)))","v":"X"},{"$f":"IF(OR(PTA!BF33=\"\",PTA!BF33=\"X\"),\"X\",IF(PTA!BF33=\"*\",\"*\",VLOOKUP(PTA!BF33,AL_NUM_ARB,2,FALSE)&\" \"&VLOOKUP(PTA!BF33,AL_NUM_ARB,4,FALSE)&\" \"&VLOOKUP(PTA!BF33,AL_NUM_ARB,6,FALSE)))","v":"X"},{"$f":"IF(OR(PTA!BG33=\"\",PTA!BG33=\"X\"),\"X\",IF(PTA!BG33=\"*\",\"*\",VLOOKUP(PTA!BG33,AL_NUM_ARB,2,FALSE)&\" \"&VLOOKUP(PTA!BG33,AL_NUM_ARB,4,FALSE)&\" \"&VLOOKUP(PTA!BG33,AL_NUM_ARB,6,FALSE)))","v":"X"},{"$f":"IF(OR(PTA!BH33=\"\",PTA!BH33=\"X\"),\"X\",IF(PTA!BH33=\"*\",\"*\",VLOOKUP(PTA!BH33,AL_NUM_ARB,2,FALSE)&\" \"&VLOOKUP(PTA!BH33,AL_NUM_ARB,4,FALSE)&\" \"&VLOOKUP(PTA!BH33,AL_NUM_ARB,6,FALSE)))","v":"X"},{"$f":"IF(OR(PTA!BI33=\"\",PTA!BI33=\"X\"),\"X\",IF(PTA!BI33=\"*\",\"*\",VLOOKUP(PTA!BI33,AL_NUM_ARB,2,FALSE)&\" \"&VLOOKUP(PTA!BI33,AL_NUM_ARB,4,FALSE)&\" \"&VLOOKUP(PTA!BI33,AL_NUM_ARB,6,FALSE)))","v":"X"},{"$f":"IF(OR(PTA!BJ33=\"\",PTA!BJ33=\"X\"),\"X\",IF(PTA!BJ33=\"*\",\"*\",VLOOKUP(PTA!BJ33,AL_NUM_ARB,2,FALSE)&\" \"&VLOOKUP(PTA!BJ33,AL_NUM_ARB,4,FALSE)&\" \"&VLOOKUP(PTA!BJ33,AL_NUM_ARB,6,FALSE)))","v":"X"},{"$f":"IF(OR(PTA!BK33=\"\",PTA!BK33=\"X\"),\"X\",IF(PTA!BK33=\"*\",\"*\",VLOOKUP(PTA!BK33,AL_NUM_ARB,2,FALSE)&\" \"&VLOOKUP(PTA!BK33,AL_NUM_ARB,4,FALSE)&\" \"&VLOOKUP(PTA!BK33,AL_NUM_ARB,6,FALSE)))","v":"X"},{"$f":"IF(OR(PTA!BL33=\"\",PTA!BL33=\"X\"),\"X\",IF(PTA!BL33=\"*\",\"*\",VLOOKUP(PTA!BL33,AL_NUM_ARB,2,FALSE)&\" \"&VLOOKUP(PTA!BL33,AL_NUM_ARB,4,FALSE)&\" \"&VLOOKUP(PTA!BL33,AL_NUM_ARB,6,FALSE)))","v":"X"},{"$f":"IF(OR(PTA!BM33=\"\",PTA!BM33=\"X\"),\"X\",IF(PTA!BM33=\"*\",\"*\",VLOOKUP(PTA!BM33,AL_NUM_ARB,2,FALSE)&\" \"&VLOOKUP(PTA!BM33,AL_NUM_ARB,4,FALSE)&\" \"&VLOOKUP(PTA!BM33,AL_NUM_ARB,6,FALSE)))","v":"X"},{"$f":"IF(OR(PTA!BN33=\"\",PTA!BN33=\"X\"),\"X\",IF(PTA!BN33=\"*\",\"*\",VLOOKUP(PTA!BN33,AL_NUM_ARB,2,FALSE)&\" \"&VLOOKUP(PTA!BN33,AL_NUM_ARB,4,FALSE)&\" \"&VLOOKUP(PTA!BN33,AL_NUM_ARB,6,FALSE)))","v":"X"},{"$f":"IF(OR(PTA!BO33=\"\",PTA!BO33=\"X\"),\"X\",IF(PTA!BO33=\"*\",\"*\",VLOOKUP(PTA!BO33,AL_NUM_ARB,2,FALSE)&\" \"&VLOOKUP(PTA!BO33,AL_NUM_ARB,4,FALSE)&\" \"&VLOOKUP(PTA!BO33,AL_NUM_ARB,6,FALSE)))","v":"X"},{"$f":"IF(OR(PTA!BP33=\"\",PTA!BP33=\"X\"),\"X\",IF(PTA!BP33=\"*\",\"*\",VLOOKUP(PTA!BP33,AL_NUM_ARB,2,FALSE)&\" \"&VLOOKUP(PTA!BP33,AL_NUM_ARB,4,FALSE)&\" \"&VLOOKUP(PTA!BP33,AL_NUM_ARB,6,FALSE)))","v":"X"},{"$f":"IF(OR(PTA!BQ33=\"\",PTA!BQ33=\"X\"),\"X\",IF(PTA!BQ33=\"*\",\"*\",VLOOKUP(PTA!BQ33,AL_NUM_ARB,2,FALSE)&\" \"&VLOOKUP(PTA!BQ33,AL_NUM_ARB,4,FALSE)&\" \"&VLOOKUP(PTA!BQ33,AL_NUM_ARB,6,FALSE)))","v":"X"},{"$f":"IF(OR(PTA!BR33=\"\",PTA!BR33=\"X\"),\"X\",IF(PTA!BR33=\"*\",\"*\",VLOOKUP(PTA!BR33,AL_NUM_ARB,2,FALSE)&\" \"&VLOOKUP(PTA!BR33,AL_NUM_ARB,4,FALSE)&\" \"&VLOOKUP(PTA!BR33,AL_NUM_ARB,6,FALSE)))","v":"X"},{"$f":"IF(OR(PTA!BT33=\"\",PTA!BT33=\"X\"),\"X\",VLOOKUP(PTA!BT33,AL_NUM_ARB,2,FALSE)&\" \"&VLOOKUP(PTA!BT33,AL_NUM_ARB,4,FALSE)&\" \"&VLOOKUP(PTA!BT33,AL_NUM_ARB,6,FALSE))","v":"X"},{"$f":"IF(OR(PTA!BU33=\"\",PTA!BU33=\"X\"),\"X\",VLOOKUP(PTA!BU33,AL_NUM_ARB,2,FALSE)&\" \"&VLOOKUP(PTA!BU33,AL_NUM_ARB,4,FALSE)&\" \"&VLOOKUP(PTA!BU33,AL_NUM_ARB,6,FALSE))","v":"X"},{"$f":"IF(OR(PTA!BV33=\"\",PTA!BV33=\"X\"),\"X\",VLOOKUP(PTA!BV33,AL_NUM_ARB,2,FALSE)&\" \"&VLOOKUP(PTA!BV33,AL_NUM_ARB,4,FALSE)&\" \"&VLOOKUP(PTA!BV33,AL_NUM_ARB,6,FALSE))","v":"X"},{"$f":"IF(OR(PTA!BW33=\"\",PTA!BW33=\"X\"),\"X\",VLOOKUP(PTA!BW33,AL_NUM_ARB,2,FALSE)&\" \"&VLOOKUP(PTA!BW33,AL_NUM_ARB,4,FALSE)&\" \"&VLOOKUP(PTA!BW33,AL_NUM_ARB,6,FALSE))","v":"X"},"12:00:00"]
[{"$f":"PTA!A34","v":""},{"$f":"PTA!B34","v":"00:00:00"},{"$f":"PTA!C34","v":32},{"$f":"PTA!D34","v":0},{"$f":"IF(OR(PTA!E34=\"\",PTA!E34=\"X\"),\"X\",IF(PTA!E34=\"*\",\"*\",VLOOKUP(PTA!E34,AL_NUM_ARB,2,FALSE)&\" \"&VLOOKUP(PTA!E34,AL_NUM_ARB,4,FALSE)&\" \"&VLOOKUP(PTA!E34,AL_NUM_ARB,6,FALSE)))","v":"X"},{"$f":"IF(OR(PTA!F34=\"\",PTA!F34=\"X\"),\"X\",IF(PTA!F34=\"*\",\"*\",VLOOKUP(PTA!F34,AL_NUM_ARB,2,FALSE)&\" \"&VLOOKUP(PTA!F34,AL_NUM_ARB,4,FALSE)&\" \"&VLOOKUP(PTA!F34,AL_NUM_ARB,6,FALSE)))","v":"X"},{"$f":"IF(OR(PTA!G34=\"\",PTA!G34=\"X\"),\"X\",IF(PTA!G34=\"*\",\"*\",VLOOKUP(PTA!G34,AL_NUM_ARB,2,FALSE)&\" \"&VLOOKUP(PTA!G34,AL_NUM_ARB,4,FALSE)&\" \"&VLOOKUP(PTA!G34,AL_NUM_ARB,6,FALSE)))","v":"X"},{"$f":"IF(OR(PTA!H34=\"\",PTA!H34=\"X\"),\"X\",IF(PTA!H34=\"*\",\"*\",VLOOKUP(PTA!H34,AL_NUM_ARB,2,FALSE)&\" \"&VLOOKUP(PTA!H34,AL_NUM_ARB,4,FALSE)&\" \"&VLOOKUP(PTA!H34,AL_NUM_ARB,6,FALSE)))","v":"X"},{"$f":"IF(OR(PTA!I34=\"\",PTA!I34=\"X\"),\"X\",IF(PTA!I34=\"*\",\"*\",VLOOKUP(PTA!I34,AL_NUM_ARB,2,FALSE)&\" \"&VLOOKUP(PTA!I34,AL_NUM_ARB,4,FALSE)&\" \"&VLOOKUP(PTA!I34,AL_NUM_ARB,6,FALSE)))","v":"X"},{"$f":"IF(OR(PTA!J34=\"\",PTA!J34=\"X\"),\"X\",IF(PTA!J34=\"*\",\"*\",VLOOKUP(PTA!J34,AL_NUM_ARB,2,FALSE)&\" \"&VLOOKUP(PTA!J34,AL_NUM_ARB,4,FALSE)&\" \"&VLOOKUP(PTA!J34,AL_NUM_ARB,6,FALSE)))","v":"X"},{"$f":"IF(OR(PTA!K34=\"\",PTA!K34=\"X\"),\"X\",IF(PTA!K34=\"*\",\"*\",VLOOKUP(PTA!K34,AL_NUM_ARB,2,FALSE)&\" \"&VLOOKUP(PTA!K34,AL_NUM_ARB,4,FALSE)&\" \"&VLOOKUP(PTA!K34,AL_NUM_ARB,6,FALSE)))","v":"X"},{"$f":"IF(OR(PTA!L34=\"\",PTA!L34=\"X\"),\"X\",IF(PTA!L34=\"*\",\"*\",VLOOKUP(PTA!L34,AL_NUM_ARB,2,FALSE)&\" \"&VLOOKUP(PTA!L34,AL_NUM_ARB,4,FALSE)&\" \"&VLOOKUP(PTA!L34,AL_NUM_ARB,6,FALSE)))","v":"X"},{"$f":"IF(OR(PTA!M34=\"\",PTA!M34=\"X\"),\"X\",IF(PTA!M34=\"*\",\"*\",VLOOKUP(PTA!M34,AL_NUM_ARB,2,FALSE)&\" \"&VLOOKUP(PTA!M34,AL_NUM_ARB,4,FALSE)&\" \"&VLOOKUP(PTA!M34,AL_NUM_ARB,6,FALSE)))","v":"X"},{"$f":"IF(OR(PTA!N34=\"\",PTA!N34=\"X\"),\"X\",IF(PTA!N34=\"*\",\"*\",VLOOKUP(PTA!N34,AL_NUM_ARB,2,FALSE)&\" \"&VLOOKUP(PTA!N34,AL_NUM_ARB,4,FALSE)&\" \"&VLOOKUP(PTA!N34,AL_NUM_ARB,6,FALSE)))","v":"X"},{"$f":"IF(OR(PTA!O34=\"\",PTA!O34=\"X\"),\"X\",IF(PTA!O34=\"*\",\"*\",VLOOKUP(PTA!O34,AL_NUM_ARB,2,FALSE)&\" \"&VLOOKUP(PTA!O34,AL_NUM_ARB,4,FALSE)&\" \"&VLOOKUP(PTA!O34,AL_NUM_ARB,6,FALSE)))","v":"X"},{"$f":"IF(OR(PTA!P34=\"\",PTA!P34=\"X\"),\"X\",IF(PTA!P34=\"*\",\"*\",VLOOKUP(PTA!P34,AL_NUM_ARB,2,FALSE)&\" \"&VLOOKUP(PTA!P34,AL_NUM_ARB,4,FALSE)&\" \"&VLOOKUP(PTA!P34,AL_NUM_ARB,6,FALSE)))","v":"X"},{"$f":"IF(OR(PTA!Q34=\"\",PTA!Q34=\"X\"),\"X\",IF(PTA!Q34=\"*\",\"*\",VLOOKUP(PTA!Q34,AL_NUM_ARB,2,FALSE)&\" \"&VLOOKUP(PTA!Q34,AL_NUM_ARB,4,FALSE)&\" \"&VLOOKUP(PTA!Q34,AL_NUM_ARB,6,FALSE)))","v":"X"},{"$f":"IF(OR(PTA!R34=\"\",PTA!R34=\"X\"),\"X\",IF(PTA!R34=\"*\",\"*\",VLOOKUP(PTA!R34,AL_NUM_ARB,2,FALSE)&\" \"&VLOOKUP(PTA!R34,AL_NUM_ARB,4,FALSE)&\" \"&VLOOKUP(PTA!R34,AL_NUM_ARB,6,FALSE)))","v":"X"},{"$f":"IF(OR(PTA!S34=\"\",PTA!S34=\"X\"),\"X\",IF(PTA!S34=\"*\",\"*\",VLOOKUP(PTA!S34,AL_NUM_ARB,2,FALSE)&\" \"&VLOOKUP(PTA!S34,AL_NUM_ARB,4,FALSE)&\" \"&VLOOKUP(PTA!S34,AL_NUM_ARB,6,FALSE)))","v":"X"},{"$f":"IF(OR(PTA!T34=\"\",PTA!T34=\"X\"),\"X\",IF(PTA!T34=\"*\",\"*\",VLOOKUP(PTA!T34,AL_NUM_ARB,2,FALSE)&\" \"&VLOOKUP(PTA!T34,AL_NUM_ARB,4,FALSE)&\" \"&VLOOKUP(PTA!T34,AL_NUM_ARB,6,FALSE)))","v":"X"},{"$f":"IF(OR(PTA!U34=\"\",PTA!U34=\"X\"),\"X\",IF(PTA!U34=\"*\",\"*\",VLOOKUP(PTA!U34,AL_NUM_ARB,2,FALSE)&\" \"&VLOOKUP(PTA!U34,AL_NUM_ARB,4,FALSE)&\" \"&VLOOKUP(PTA!U34,AL_NUM_ARB,6,FALSE)))","v":"X"},{"$f":"IF(OR(PTA!V34=\"\",PTA!V34=\"X\"),\"X\",IF(PTA!V34=\"*\",\"*\",VLOOKUP(PTA!V34,AL_NUM_ARB,2,FALSE)&\" \"&VLOOKUP(PTA!V34,AL_NUM_ARB,4,FALSE)&\" \"&VLOOKUP(PTA!V34,AL_NUM_ARB,6,FALSE)))","v":"X"},{"$f":"IF(OR(PTA!W34=\"\",PTA!W34=\"X\"),\"X\",IF(PTA!W34=\"*\",\"*\",VLOOKUP(PTA!W34,AL_NUM_ARB,2,FALSE)&\" \"&VLOOKUP(PTA!W34,AL_NUM_ARB,4,FALSE)&\" \"&VLOOKUP(PTA!W34,AL_NUM_ARB,6,FALSE)))","v":"X"},{"$f":"IF(OR(PTA!X34=\"\",PTA!X34=\"X\"),\"X\",IF(PTA!X34=\"*\",\"*\",VLOOKUP(PTA!X34,AL_NUM_ARB,2,FALSE)&\" \"&VLOOKUP(PTA!X34,AL_NUM_ARB,4,FALSE)&\" \"&VLOOKUP(PTA!X34,AL_NUM_ARB,6,FALSE)))","v":"X"},{"$f":"IF(OR(PTA!Y34=\"\",PTA!Y34=\"X\"),\"X\",IF(PTA!Y34=\"*\",\"*\",VLOOKUP(PTA!Y34,AL_NUM_ARB,2,FALSE)&\" \"&VLOOKUP(PTA!Y34,AL_NUM_ARB,4,FALSE)&\" \"&VLOOKUP(PTA!Y34,AL_NUM_ARB,6,FALSE)))","v":"X"},{"$f":"IF(OR(PTA!Z34=\"\",PTA!Z34=\"X\"),\"X\",IF(PTA!Z34=\"*\",\"*\",VLOOKUP(PTA!Z34,AL_NUM_ARB,2,FALSE)&\" \"&VLOOKUP(PTA!Z34,AL_NUM_ARB,4,FALSE)&\" \"&VLOOKUP(PTA!Z34,AL_NUM_ARB,6,FALSE)))","v":"X"},{"$f":"IF(OR(PTA!AA34=\"\",PTA!AA34=\"X\"),\"X\",IF(PTA!AA34=\"*\",\"*\",VLOOKUP(PTA!AA34,AL_NUM_ARB,2,FALSE)&\" \"&VLOOKUP(PTA!AA34,AL_NUM_ARB,4,FALSE)&\" \"&VLOOKUP(PTA!AA34,AL_NUM_ARB,6,FALSE)))","v":"X"},{"$f":"IF(OR(PTA!AB34=\"\",PTA!AB34=\"X\"),\"X\",IF(PTA!AB34=\"*\",\"*\",VLOOKUP(PTA!AB34,AL_NUM_ARB,2,FALSE)&\" \"&VLOOKUP(PTA!AB34,AL_NUM_ARB,4,FALSE)&\" \"&VLOOKUP(PTA!AB34,AL_NUM_ARB,6,FALSE)))","v":"X"},{"$f":"IF(OR(PTA!AC34=\"\",PTA!AC34=\"X\"),\"X\",IF(PTA!AC34=\"*\",\"*\",VLOOKUP(PTA!AC34,AL_NUM_ARB,2,FALSE)&\" \"&VLOOKUP(PTA!AC34,AL_NUM_ARB,4,FALSE)&\" \"&VLOOKUP(PTA!AC34,AL_NUM_ARB,6,FALSE)))","v":"X"},{"$f":"IF(OR(PTA!AD34=\"\",PTA!AD34=\"X\"),\"X\",IF(PTA!AD34=\"*\",\"*\",VLOOKUP(PTA!AD34,AL_NUM_ARB,2,FALSE)&\" \"&VLOOKUP(PTA!AD34,AL_NUM_ARB,4,FALSE)&\" \"&VLOOKUP(PTA!AD34,AL_NUM_ARB,6,FALSE)))","v":"X"},{"$f":"IF(OR(PTA!AE34=\"\",PTA!AE34=\"X\"),\"X\",IF(PTA!AE34=\"*\",\"*\",VLOOKUP(PTA!AE34,AL_NUM_ARB,2,FALSE)&\" \"&VLOOKUP(PTA!AE34,AL_NUM_ARB,4,FALSE)&\" \"&VLOOKUP(PTA!AE34,AL_NUM_ARB,6,FALSE)))","v":"X"},{"$f":"IF(OR(PTA!AF34=\"\",PTA!AF34=\"X\"),\"X\",IF(PTA!AF34=\"*\",\"*\",VLOOKUP(PTA!AF34,AL_NUM_ARB,2,FALSE)&\" \"&VLOOKUP(PTA!AF34,AL_NUM_ARB,4,FALSE)&\" \"&VLOOKUP(PTA!AF34,AL_NUM_ARB,6,FALSE)))","v":"X"},{"$f":"IF(OR(PTA!AG34=\"\",PTA!AG34=\"X\"),\"X\",IF(PTA!AG34=\"*\",\"*\",VLOOKUP(PTA!AG34,AL_NUM_ARB,2,FALSE)&\" \"&VLOOKUP(PTA!AG34,AL_NUM_ARB,4,FALSE)&\" \"&VLOOKUP(PTA!AG34,AL_NUM_ARB,6,FALSE)))","v":"X"},{"$f":"IF(OR(PTA!AH34=\"\",PTA!AH34=\"X\"),\"X\",IF(PTA!AH34=\"*\",\"*\",VLOOKUP(PTA!AH34,AL_NUM_ARB,2,FALSE)&\" \"&VLOOKUP(PTA!AH34,AL_NUM_ARB,4,FALSE)&\" \"&VLOOKUP(PTA!AH34,AL_NUM_ARB,6,FALSE)))","v":"X"},{"$f":"IF(OR(PTA!AI34=\"\",PTA!AI34=\"X\"),\"X\",IF(PTA!AI34=\"*\",\"*\",VLOOKUP(PTA!AI34,AL_NUM_ARB,2,FALSE)&\" \"&VLOOKUP(PTA!AI34,AL_NUM_ARB,4,FALSE)&\" \"&VLOOKUP(PTA!AI34,AL_NUM_ARB,6,FALSE)))","v":"X"},{"$f":"IF(OR(PTA!AJ34=\"\",PTA!AJ34=\"X\"),\"X\",IF(PTA!AJ34=\"*\",\"*\",VLOOKUP(PTA!AJ34,AL_NUM_ARB,2,FALSE)&\" \"&VLOOKUP(PTA!AJ34,AL_NUM_ARB,4,FALSE)&\" \"&VLOOKUP(PTA!AJ34,AL_NUM_ARB,6,FALSE)))","v":"X"},{"$f":"IF(OR(PTA!AK34=\"\",PTA!AK34=\"X\"),\"X\",IF(PTA!AK34=\"*\",\"*\",VLOOKUP(PTA!AK34,AL_NUM_ARB,2,FALSE)&\" \"&VLOOKUP(PTA!AK34,AL_NUM_ARB,4,FALSE)&\" \"&VLOOKUP(PTA!AK34,AL_NUM_ARB,6,FALSE)))","v":"X"},{"$f":"IF(OR(PTA!AL34=\"\",PTA!AL34=\"X\"),\"X\",IF(PTA!AL34=\"*\",\"*\",VLOOKUP(PTA!AL34,AL_NUM_ARB,2,FALSE)&\" \"&VLOOKUP(PTA!AL34,AL_NUM_ARB,4,FALSE)&\" \"&VLOOKUP(PTA!AL34,AL_NUM_ARB,6,FALSE)))","v":"X"},{"$f":"IF(OR(PTA!AM34=\"\",PTA!AM34=\"X\"),\"X\",IF(PTA!AM34=\"*\",\"*\",VLOOKUP(PTA!AM34,AL_NUM_ARB,2,FALSE)&\" \"&VLOOKUP(PTA!AM34,AL_NUM_ARB,4,FALSE)&\" \"&VLOOKUP(PTA!AM34,AL_NUM_ARB,6,FALSE)))","v":"X"},{"$f":"IF(OR(PTA!AN34=\"\",PTA!AN34=\"X\"),\"X\",IF(PTA!AN34=\"*\",\"*\",VLOOKUP(PTA!AN34,AL_NUM_ARB,2,FALSE)&\" \"&VLOOKUP(PTA!AN34,AL_NUM_ARB,4,FALSE)&\" \"&VLOOKUP(PTA!AN34,AL_NUM_ARB,6,FALSE)))","v":"X"},{"$f":"IF(OR(PTA!AO34=\"\",PTA!AO34=\"X\"),\"X\",IF(PTA!AO34=\"*\",\"*\",VLOOKUP(PTA!AO34,AL_NUM_ARB,2,FALSE)&\" \"&VLOOKUP(PTA!AO34,AL_NUM_ARB,4,FALSE)&\" \"&VLOOKUP(PTA!AO34,AL_NUM_ARB,6,FALSE)))","v":"X"},{"$f":"IF(OR(PTA!AP34=\"\",PTA!AP34=\"X\"),\"X\",IF(PTA!AP34=\"*\",\"*\",VLOOKUP(PTA!AP34,AL_NUM_ARB,2,FALSE)&\" \"&VLOOKUP(PTA!AP34,AL_NUM_ARB,4,FALSE)&\" \"&VLOOKUP(PTA!AP34,AL_NUM_ARB,6,FALSE)))","v":"X"},{"$f":"IF(OR(PTA!AQ34=\"\",PTA!AQ34=\"X\"),\"X\",IF(PTA!AQ34=\"*\",\"*\",VLOOKUP(PTA!AQ34,AL_NUM_ARB,2,FALSE)&\" \"&VLOOKUP(PTA!AQ34,AL_NUM_ARB,4,FALSE)&\" \"&VLOOKUP(PTA!AQ34,AL_NUM_ARB,6,FALSE)))","v":"X"},{"$f":"IF(OR(PTA!AR34=\"\",PTA!AR34=\"X\"),\"X\",IF(PTA!AR34=\"*\",\"*\",VLOOKUP(PTA!AR34,AL_NUM_ARB,2,FALSE)&\" \"&VLOOKUP(PTA!AR34,AL_NUM_ARB,4,FALSE)&\" \"&VLOOKUP(PTA!AR34,AL_NUM_ARB,6,FALSE)))","v":"X"},{"$f":"IF(OR(PTA!AS34=\"\",PTA!AS34=\"X\"),\"X\",IF(PTA!AS34=\"*\",\"*\",VLOOKUP(PTA!AS34,AL_NUM_ARB,2,FALSE)&\" \"&VLOOKUP(PTA!AS34,AL_NUM_ARB,4,FALSE)&\" \"&VLOOKUP(PTA!AS34,AL_NUM_ARB,6,FALSE)))","v":"X"},{"$f":"IF(OR(PTA!AT34=\"\",PTA!AT34=\"X\"),\"X\",IF(PTA!AT34=\"*\",\"*\",VLOOKUP(PTA!AT34,AL_NUM_ARB,2,FALSE)&\" \"&VLOOKUP(PTA!AT34,AL_NUM_ARB,4,FALSE)&\" \"&VLOOKUP(PTA!AT34,AL_NUM_ARB,6,FALSE)))","v":"X"},{"$f":"IF(OR(PTA!AU34=\"\",PTA!AU34=\"X\"),\"X\",IF(PTA!AU34=\"*\",\"*\",VLOOKUP(PTA!AU34,AL_NUM_ARB,2,FALSE)&\" \"&VLOOKUP(PTA!AU34,AL_NUM_ARB,4,FALSE)&\" \"&VLOOKUP(PTA!AU34,AL_NUM_ARB,6,FALSE)))","v":"X"},{"$f":"IF(OR(PTA!AV34=\"\",PTA!AV34=\"X\"),\"X\",IF(PTA!AV34=\"*\",\"*\",VLOOKUP(PTA!AV34,AL_NUM_ARB,2,FALSE)&\" \"&VLOOKUP(PTA!AV34,AL_NUM_ARB,4,FALSE)&\" \"&VLOOKUP(PTA!AV34,AL_NUM_ARB,6,FALSE)))","v":"X"},{"$f":"IF(OR(PTA!AW34=\"\",PTA!AW34=\"X\"),\"X\",IF(PTA!AW34=\"*\",\"*\",VLOOKUP(PTA!AW34,AL_NUM_ARB,2,FALSE)&\" \"&VLOOKUP(PTA!AW34,AL_NUM_ARB,4,FALSE)&\" \"&VLOOKUP(PTA!AW34,AL_NUM_ARB,6,FALSE)))","v":"X"},{"$f":"IF(OR(PTA!AX34=\"\",PTA!AX34=\"X\"),\"X\",IF(PTA!AX34=\"*\",\"*\",VLOOKUP(PTA!AX34,AL_NUM_ARB,2,FALSE)&\" \"&VLOOKUP(PTA!AX34,AL_NUM_ARB,4,FALSE)&\" \"&VLOOKUP(PTA!AX34,AL_NUM_ARB,6,FALSE)))","v":"X"},{"$f":"IF(OR(PTA!AY34=\"\",PTA!AY34=\"X\"),\"X\",IF(PTA!AY34=\"*\",\"*\",VLOOKUP(PTA!AY34,AL_NUM_ARB,2,FALSE)&\" \"&VLOOKUP(PTA!AY34,AL_NUM_ARB,4,FALSE)&\" \"&VLOOKUP(PTA!AY34,AL_NUM_ARB,6,FALSE)))","v":"X"},{"$f":"IF(OR(PTA!AZ34=\"\",PTA!AZ34=\"X\"),\"X\",IF(PTA!AZ34=\"*\",\"*\",VLOOKUP(PTA!AZ34,AL_NUM_ARB,2,FALSE)&\" \"&VLOOKUP(PTA!AZ34,AL_NUM_ARB,4,FALSE)&\" \"&VLOOKUP(PTA!AZ34,AL_NUM_ARB,6,FALSE)))","v":"X"},{"$f":"IF(OR(PTA!BA34=\"\",PTA!BA34=\"X\"),\"X\",IF(PTA!BA34=\"*\",\"*\",VLOOKUP(PTA!BA34,AL_NUM_ARB,2,FALSE)&\" \"&VLOOKUP(PTA!BA34,AL_NUM_ARB,4,FALSE)&\" \"&VLOOKUP(PTA!BA34,AL_NUM_ARB,6,FALSE)))","v":"X"},{"$f":"IF(OR(PTA!BB34=\"\",PTA!BB34=\"X\"),\"X\",IF(PTA!BB34=\"*\",\"*\",VLOOKUP(PTA!BB34,AL_NUM_ARB,2,FALSE)&\" \"&VLOOKUP(PTA!BB34,AL_NUM_ARB,4,FALSE)&\" \"&VLOOKUP(PTA!BB34,AL_NUM_ARB,6,FALSE)))","v":"X"},{"$f":"IF(OR(PTA!BC34=\"\",PTA!BC34=\"X\"),\"X\",IF(PTA!BC34=\"*\",\"*\",VLOOKUP(PTA!BC34,AL_NUM_ARB,2,FALSE)&\" \"&VLOOKUP(PTA!BC34,AL_NUM_ARB,4,FALSE)&\" \"&VLOOKUP(PTA!BC34,AL_NUM_ARB,6,FALSE)))","v":"X"},{"$f":"IF(OR(PTA!BD34=\"\",PTA!BD34=\"X\"),\"X\",IF(PTA!BD34=\"*\",\"*\",VLOOKUP(PTA!BD34,AL_NUM_ARB,2,FALSE)&\" \"&VLOOKUP(PTA!BD34,AL_NUM_ARB,4,FALSE)&\" \"&VLOOKUP(PTA!BD34,AL_NUM_ARB,6,FALSE)))","v":"X"},{"$f":"IF(OR(PTA!BE34=\"\",PTA!BE34=\"X\"),\"X\",IF(PTA!BE34=\"*\",\"*\",VLOOKUP(PTA!BE34,AL_NUM_ARB,2,FALSE)&\" \"&VLOOKUP(PTA!BE34,AL_NUM_ARB,4,FALSE)&\" \"&VLOOKUP(PTA!BE34,AL_NUM_ARB,6,FALSE)))","v":"X"},{"$f":"IF(OR(PTA!BF34=\"\",PTA!BF34=\"X\"),\"X\",IF(PTA!BF34=\"*\",\"*\",VLOOKUP(PTA!BF34,AL_NUM_ARB,2,FALSE)&\" \"&VLOOKUP(PTA!BF34,AL_NUM_ARB,4,FALSE)&\" \"&VLOOKUP(PTA!BF34,AL_NUM_ARB,6,FALSE)))","v":"X"},{"$f":"IF(OR(PTA!BG34=\"\",PTA!BG34=\"X\"),\"X\",IF(PTA!BG34=\"*\",\"*\",VLOOKUP(PTA!BG34,AL_NUM_ARB,2,FALSE)&\" \"&VLOOKUP(PTA!BG34,AL_NUM_ARB,4,FALSE)&\" \"&VLOOKUP(PTA!BG34,AL_NUM_ARB,6,FALSE)))","v":"X"},{"$f":"IF(OR(PTA!BH34=\"\",PTA!BH34=\"X\"),\"X\",IF(PTA!BH34=\"*\",\"*\",VLOOKUP(PTA!BH34,AL_NUM_ARB,2,FALSE)&\" \"&VLOOKUP(PTA!BH34,AL_NUM_ARB,4,FALSE)&\" \"&VLOOKUP(PTA!BH34,AL_NUM_ARB,6,FALSE)))","v":"X"},{"$f":"IF(OR(PTA!BI34=\"\",PTA!BI34=\"X\"),\"X\",IF(PTA!BI34=\"*\",\"*\",VLOOKUP(PTA!BI34,AL_NUM_ARB,2,FALSE)&\" \"&VLOOKUP(PTA!BI34,AL_NUM_ARB,4,FALSE)&\" \"&VLOOKUP(PTA!BI34,AL_NUM_ARB,6,FALSE)))","v":"X"},{"$f":"IF(OR(PTA!BJ34=\"\",PTA!BJ34=\"X\"),\"X\",IF(PTA!BJ34=\"*\",\"*\",VLOOKUP(PTA!BJ34,AL_NUM_ARB,2,FALSE)&\" \"&VLOOKUP(PTA!BJ34,AL_NUM_ARB,4,FALSE)&\" \"&VLOOKUP(PTA!BJ34,AL_NUM_ARB,6,FALSE)))","v":"X"},{"$f":"IF(OR(PTA!BK34=\"\",PTA!BK34=\"X\"),\"X\",IF(PTA!BK34=\"*\",\"*\",VLOOKUP(PTA!BK34,AL_NUM_ARB,2,FALSE)&\" \"&VLOOKUP(PTA!BK34,AL_NUM_ARB,4,FALSE)&\" \"&VLOOKUP(PTA!BK34,AL_NUM_ARB,6,FALSE)))","v":"X"},{"$f":"IF(OR(PTA!BL34=\"\",PTA!BL34=\"X\"),\"X\",IF(PTA!BL34=\"*\",\"*\",VLOOKUP(PTA!BL34,AL_NUM_ARB,2,FALSE)&\" \"&VLOOKUP(PTA!BL34,AL_NUM_ARB,4,FALSE)&\" \"&VLOOKUP(PTA!BL34,AL_NUM_ARB,6,FALSE)))","v":"X"},{"$f":"IF(OR(PTA!BM34=\"\",PTA!BM34=\"X\"),\"X\",IF(PTA!BM34=\"*\",\"*\",VLOOKUP(PTA!BM34,AL_NUM_ARB,2,FALSE)&\" \"&VLOOKUP(PTA!BM34,AL_NUM_ARB,4,FALSE)&\" \"&VLOOKUP(PTA!BM34,AL_NUM_ARB,6,FALSE)))","v":"X"},{"$f":"IF(OR(PTA!BN34=\"\",PTA!BN34=\"X\"),\"X\",IF(PTA!BN34=\"*\",\"*\",VLOOKUP(PTA!BN34,AL_NUM_ARB,2,FALSE)&\" \"&VLOOKUP(PTA!BN34,AL_NUM_ARB,4,FALSE)&\" \"&VLOOKUP(PTA!BN34,AL_NUM_ARB,6,FALSE)))","v":"X"},{"$f":"IF(OR(PTA!BO34=\"\",PTA!BO34=\"X\"),\"X\",IF(PTA!BO34=\"*\",\"*\",VLOOKUP(PTA!BO34,AL_NUM_ARB,2,FALSE)&\" \"&VLOOKUP(PTA!BO34,AL_NUM_ARB,4,FALSE)&\" \"&VLOOKUP(PTA!BO34,AL_NUM_ARB,6,FALSE)))","v":"X"},{"$f":"IF(OR(PTA!BP34=\"\",PTA!BP34=\"X\"),\"X\",IF(PTA!BP34=\"*\",\"*\",VLOOKUP(PTA!BP34,AL_NUM_ARB,2,FALSE)&\" \"&VLOOKUP(PTA!BP34,AL_NUM_ARB,4,FALSE)&\" \"&VLOOKUP(PTA!BP34,AL_NUM_ARB,6,FALSE)))","v":"X"},{"$f":"IF(OR(PTA!BQ34=\"\",PTA!BQ34=\"X\"),\"X\",IF(PTA!BQ34=\"*\",\"*\",VLOOKUP(PTA!BQ34,AL_NUM_ARB,2,FALSE)&\" \"&VLOOKUP(PTA!BQ34,AL_NUM_ARB,4,FALSE)&\" \"&VLOOKUP(PTA!BQ34,AL_NUM_ARB,6,FALSE)))","v":"X"},{"$f":"IF(OR(PTA!BR34=\"\",PTA!BR34=\"X\"),\"X\",IF(PTA!BR34=\"*\",\"*\",VLOOKUP(PTA!BR34,AL_NUM_ARB,2,FALSE)&\" \"&VLOOKUP(PTA!BR34,AL_NUM_ARB,4,FALSE)&\" \"&VLOOKUP(PTA!BR34,AL_NUM_ARB,6,FALSE)))","v":"X"},{"$f":"IF(OR(PTA!BT34=\"\",PTA!BT34=\"X\"),\"X\",VLOOKUP(PTA!BT34,AL_NUM_ARB,2,FALSE)&\" \"&VLOOKUP(PTA!BT34,AL_NUM_ARB,4,FALSE)&\" \"&VLOOKUP(PTA!BT34,AL_NUM_ARB,6,FALSE))","v":"X"},{"$f":"IF(OR(PTA!BU34=\"\",PTA!BU34=\"X\"),\"X\",VLOOKUP(PTA!BU34,AL_NUM_ARB,2,FALSE)&\" \"&VLOOKUP(PTA!BU34,AL_NUM_ARB,4,FALSE)&\" \"&VLOOKUP(PTA!BU34,AL_NUM_ARB,6,FALSE))","v":"X"},{"$f":"IF(OR(PTA!BV34=\"\",PTA!BV34=\"X\"),\"X\",VLOOKUP(PTA!BV34,AL_NUM_ARB,2,FALSE)&\" \"&VLOOKUP(PTA!BV34,AL_NUM_ARB,4,FALSE)&\" \"&VLOOKUP(PTA!BV34,AL_NUM_ARB,6,FALSE))","v":"X"},{"$f":"IF(OR(PTA!BW34=\"\",PTA!BW34=\"X\"),\"X\",VLOOKUP(PTA!BW34,AL_NUM_ARB,2,FALSE)&\" \"&VLOOKUP(PTA!BW34,AL_NUM_ARB,4,FALSE)&\" \"&VLOOKUP(PTA!BW34,AL_NUM_ARB,6,FALSE))","v":"X"},"12:30:00"]
[{"$f":"PTA!A35","v":""},{"$f":"PTA!B35","v":"00:00:00"},{"$f":"PTA!C35","v":32},{"$f":"PTA!D35","v":0},{"$f":"IF(OR(PTA!E35=\"\",PTA!E35=\"X\"),\"X\",IF(PTA!E35=\"*\",\"*\",VLOOKUP(PTA!E35,AL_NUM_ARB,2,FALSE)&\" \"&VLOOKUP(PTA!E35,AL_NUM_ARB,4,FALSE)&\" \"&VLOOKUP(PTA!E35,AL_NUM_ARB,6,FALSE)))","v":"X"},{"$f":"IF(OR(PTA!F35=\"\",PTA!F35=\"X\"),\"X\",IF(PTA!F35=\"*\",\"*\",VLOOKUP(PTA!F35,AL_NUM_ARB,2,FALSE)&\" \"&VLOOKUP(PTA!F35,AL_NUM_ARB,4,FALSE)&\" \"&VLOOKUP(PTA!F35,AL_NUM_ARB,6,FALSE)))","v":"X"},{"$f":"IF(OR(PTA!G35=\"\",PTA!G35=\"X\"),\"X\",IF(PTA!G35=\"*\",\"*\",VLOOKUP(PTA!G35,AL_NUM_ARB,2,FALSE)&\" \"&VLOOKUP(PTA!G35,AL_NUM_ARB,4,FALSE)&\" \"&VLOOKUP(PTA!G35,AL_NUM_ARB,6,FALSE)))","v":"X"},{"$f":"IF(OR(PTA!H35=\"\",PTA!H35=\"X\"),\"X\",IF(PTA!H35=\"*\",\"*\",VLOOKUP(PTA!H35,AL_NUM_ARB,2,FALSE)&\" \"&VLOOKUP(PTA!H35,AL_NUM_ARB,4,FALSE)&\" \"&VLOOKUP(PTA!H35,AL_NUM_ARB,6,FALSE)))","v":"X"},{"$f":"IF(OR(PTA!I35=\"\",PTA!I35=\"X\"),\"X\",IF(PTA!I35=\"*\",\"*\",VLOOKUP(PTA!I35,AL_NUM_ARB,2,FALSE)&\" \"&VLOOKUP(PTA!I35,AL_NUM_ARB,4,FALSE)&\" \"&VLOOKUP(PTA!I35,AL_NUM_ARB,6,FALSE)))","v":"X"},{"$f":"IF(OR(PTA!J35=\"\",PTA!J35=\"X\"),\"X\",IF(PTA!J35=\"*\",\"*\",VLOOKUP(PTA!J35,AL_NUM_ARB,2,FALSE)&\" \"&VLOOKUP(PTA!J35,AL_NUM_ARB,4,FALSE)&\" \"&VLOOKUP(PTA!J35,AL_NUM_ARB,6,FALSE)))","v":"X"},{"$f":"IF(OR(PTA!K35=\"\",PTA!K35=\"X\"),\"X\",IF(PTA!K35=\"*\",\"*\",VLOOKUP(PTA!K35,AL_NUM_ARB,2,FALSE)&\" \"&VLOOKUP(PTA!K35,AL_NUM_ARB,4,FALSE)&\" \"&VLOOKUP(PTA!K35,AL_NUM_ARB,6,FALSE)))","v":"X"},{"$f":"IF(OR(PTA!L35=\"\",PTA!L35=\"X\"),\"X\",IF(PTA!L35=\"*\",\"*\",VLOOKUP(PTA!L35,AL_NUM_ARB,2,FALSE)&\" \"&VLOOKUP(PTA!L35,AL_NUM_ARB,4,FALSE)&\" \"&VLOOKUP(PTA!L35,AL_NUM_ARB,6,FALSE)))","v":"X"},{"$f":"IF(OR(PTA!M35=\"\",PTA!M35=\"X\"),\"X\",IF(PTA!M35=\"*\",\"*\",VLOOKUP(PTA!M35,AL_NUM_ARB,2,FALSE)&\" \"&VLOOKUP(PTA!M35,AL_NUM_ARB,4,FALSE)&\" \"&VLOOKUP(PTA!M35,AL_NUM_ARB,6,FALSE)))","v":"X"},{"$f":"IF(OR(PTA!N35=\"\",PTA!N35=\"X\"),\"X\",IF(PTA!N35=\"*\",\"*\",VLOOKUP(PTA!N35,AL_NUM_ARB,2,FALSE)&\" \"&VLOOKUP(PTA!N35,AL_NUM_ARB,4,FALSE)&\" \"&VLOOKUP(PTA!N35,AL_NUM_ARB,6,FALSE)))","v":"X"},{"$f":"IF(OR(PTA!O35=\"\",PTA!O35=\"X\"),\"X\",IF(PTA!O35=\"*\",\"*\",VLOOKUP(PTA!O35,AL_NUM_ARB,2,FALSE)&\" \"&VLOOKUP(PTA!O35,AL_NUM_ARB,4,FALSE)&\" \"&VLOOKUP(PTA!O35,AL_NUM_ARB,6,FALSE)))","v":"X"},{"$f":"IF(OR(PTA!P35=\"\",PTA!P35=\"X\"),\"X\",IF(PTA!P35=\"*\",\"*\",VLOOKUP(PTA!P35,AL_NUM_ARB,2,FALSE)&\" \"&VLOOKUP(PTA!P35,AL_NUM_ARB,4,FALSE)&\" \"&VLOOKUP(PTA!P35,AL_NUM_ARB,6,FALSE)))","v":"X"},{"$f":"IF(OR(PTA!Q35=\"\",PTA!Q35=\"X\"),\"X\",IF(PTA!Q35=\"*\",\"*\",VLOOKUP(PTA!Q35,AL_NUM_ARB,2,FALSE)&\" \"&VLOOKUP(PTA!Q35,AL_NUM_ARB,4,FALSE)&\" \"&VLOOKUP(PTA!Q35,AL_NUM_ARB,6,FALSE)))","v":"X"},{"$f":"IF(OR(PTA!R35=\"\",PTA!R35=\"X\"),\"X\",IF(PTA!R35=\"*\",\"*\",VLOOKUP(PTA!R35,AL_NUM_ARB,2,FALSE)&\" \"&VLOOKUP(PTA!R35,AL_NUM_ARB,4,FALSE)&\" \"&VLOOKUP(PTA!R35,AL_NUM_ARB,6,FALSE)))","v":"X"},{"$f":"IF(OR(PTA!S35=\"\",PTA!S35=\"X\"),\"X\",IF(PTA!S35=\"*\",\"*\",VLOOKUP(PTA!S35,AL_NUM_ARB,2,FALSE)&\" \"&VLOOKUP(PTA!S35,AL_NUM_ARB,4,FALSE)&\" \"&VLOOKUP(PTA!S35,AL_NUM_ARB,6,FALSE)))","v":"X"},{"$f":"IF(OR(PTA!T35=\"\",PTA!T35=\"X\"),\"X\",IF(PTA!T35=\"*\",\"*\",VLOOKUP(PTA!T35,AL_NUM_ARB,2,FALSE)&\" \"&VLOOKUP(PTA!T35,AL_NUM_ARB,4,FALSE)&\" \"&VLOOKUP(PTA!T35,AL_NUM_ARB,6,FALSE)))","v":"X"},{"$f":"IF(OR(PTA!U35=\"\",PTA!U35=\"X\"),\"X\",IF(PTA!U35=\"*\",\"*\",VLOOKUP(PTA!U35,AL_NUM_ARB,2,FALSE)&\" \"&VLOOKUP(PTA!U35,AL_NUM_ARB,4,FALSE)&\" \"&VLOOKUP(PTA!U35,AL_NUM_ARB,6,FALSE)))","v":"X"},{"$f":"IF(OR(PTA!V35=\"\",PTA!V35=\"X\"),\"X\",IF(PTA!V35=\"*\",\"*\",VLOOKUP(PTA!V35,AL_NUM_ARB,2,FALSE)&\" \"&VLOOKUP(PTA!V35,AL_NUM_ARB,4,FALSE)&\" \"&VLOOKUP(PTA!V35,AL_NUM_ARB,6,FALSE)))","v":"X"},{"$f":"IF(OR(PTA!W35=\"\",PTA!W35=\"X\"),\"X\",IF(PTA!W35=\"*\",\"*\",VLOOKUP(PTA!W35,AL_NUM_ARB,2,FALSE)&\" \"&VLOOKUP(PTA!W35,AL_NUM_ARB,4,FALSE)&\" \"&VLOOKUP(PTA!W35,AL_NUM_ARB,6,FALSE)))","v":"X"},{"$f":"IF(OR(PTA!X35=\"\",PTA!X35=\"X\"),\"X\",IF(PTA!X35=\"*\",\"*\",VLOOKUP(PTA!X35,AL_NUM_ARB,2,FALSE)&\" \"&VLOOKUP(PTA!X35,AL_NUM_ARB,4,FALSE)&\" \"&VLOOKUP(PTA!X35,AL_NUM_ARB,6,FALSE)))","v":"X"},{"$f":"IF(OR(PTA!Y35=\"\",PTA!Y35=\"X\"),\"X\",IF(PTA!Y35=\"*\",\"*\",VLOOKUP(PTA!Y35,AL_NUM_ARB,2,FALSE)&\" \"&VLOOKUP(PTA!Y35,AL_NUM_ARB,4,FALSE)&\" \"&VLOOKUP(PTA!Y35,AL_NUM_ARB,6,FALSE)))","v":"X"},{"$f":"IF(OR(PTA!Z35=\"\",PTA!Z35=\"X\"),\"X\",IF(PTA!Z35=\"*\",\"*\",VLOOKUP(PTA!Z35,AL_NUM_ARB,2,FALSE)&\" \"&VLOOKUP(PTA!Z35,AL_NUM_ARB,4,FALSE)&\" \"&VLOOKUP(PTA!Z35,AL_NUM_ARB,6,FALSE)))","v":"X"},{"$f":"IF(OR(PTA!AA35=\"\",PTA!AA35=\"X\"),\"X\",IF(PTA!AA35=\"*\",\"*\",VLOOKUP(PTA!AA35,AL_NUM_ARB,2,FALSE)&\" \"&VLOOKUP(PTA!AA35,AL_NUM_ARB,4,FALSE)&\" \"&VLOOKUP(PTA!AA35,AL_NUM_ARB,6,FALSE)))","v":"X"},{"$f":"IF(OR(PTA!AB35=\"\",PTA!AB35=\"X\"),\"X\",IF(PTA!AB35=\"*\",\"*\",VLOOKUP(PTA!AB35,AL_NUM_ARB,2,FALSE)&\" \"&VLOOKUP(PTA!AB35,AL_NUM_ARB,4,FALSE)&\" \"&VLOOKUP(PTA!AB35,AL_NUM_ARB,6,FALSE)))","v":"X"},{"$f":"IF(OR(PTA!AC35=\"\",PTA!AC35=\"X\"),\"X\",IF(PTA!AC35=\"*\",\"*\",VLOOKUP(PTA!AC35,AL_NUM_ARB,2,FALSE)&\" \"&VLOOKUP(PTA!AC35,AL_NUM_ARB,4,FALSE)&\" \"&VLOOKUP(PTA!AC35,AL_NUM_ARB,6,FALSE)))","v":"X"},{"$f":"IF(OR(PTA!AD35=\"\",PTA!AD35=\"X\"),\"X\",IF(PTA!AD35=\"*\",\"*\",VLOOKUP(PTA!AD35,AL_NUM_ARB,2,FALSE)&\" \"&VLOOKUP(PTA!AD35,AL_NUM_ARB,4,FALSE)&\" \"&VLOOKUP(PTA!AD35,AL_NUM_ARB,6,FALSE)))","v":"X"},{"$f":"IF(OR(PTA!AE35=\"\",PTA!AE35=\"X\"),\"X\",IF(PTA!AE35=\"*\",\"*\",VLOOKUP(PTA!AE35,AL_NUM_ARB,2,FALSE)&\" \"&VLOOKUP(PTA!AE35,AL_NUM_ARB,4,FALSE)&\" \"&VLOOKUP(PTA!AE35,AL_NUM_ARB,6,FALSE)))","v":"X"},{"$f":"IF(OR(PTA!AF35=\"\",PTA!AF35=\"X\"),\"X\",IF(PTA!AF35=\"*\",\"*\",VLOOKUP(PTA!AF35,AL_NUM_ARB,2,FALSE)&\" \"&VLOOKUP(PTA!AF35,AL_NUM_ARB,4,FALSE)&\" \"&VLOOKUP(PTA!AF35,AL_NUM_ARB,6,FALSE)))","v":"X"},{"$f":"IF(OR(PTA!AG35=\"\",PTA!AG35=\"X\"),\"X\",IF(PTA!AG35=\"*\",\"*\",VLOOKUP(PTA!AG35,AL_NUM_ARB,2,FALSE)&\" \"&VLOOKUP(PTA!AG35,AL_NUM_ARB,4,FALSE)&\" \"&VLOOKUP(PTA!AG35,AL_NUM_ARB,6,FALSE)))","v":"X"},{"$f":"IF(OR(PTA!AH35=\"\",PTA!AH35=\"X\"),\"X\",IF(PTA!AH35=\"*\",\"*\",VLOOKUP(PTA!AH35,AL_NUM_ARB,2,FALSE)&\" \"&VLOOKUP(PTA!AH35,AL_NUM_ARB,4,FALSE)&\" \"&VLOOKUP(PTA!AH35,AL_NUM_ARB,6,FALSE)))","v":"X"},{"$f":"IF(OR(PTA!AI35=\"\",PTA!AI35=\"X\"),\"X\",IF(PTA!AI35=\"*\",\"*\",VLOOKUP(PTA!AI35,AL_NUM_ARB,2,FALSE)&\" \"&VLOOKUP(PTA!AI35,AL_NUM_ARB,4,FALSE)&\" \"&VLOOKUP(PTA!AI35,AL_NUM_ARB,6,FALSE)))","v":"X"},{"$f":"IF(OR(PTA!AJ35=\"\",PTA!AJ35=\"X\"),\"X\",IF(PTA!AJ35=\"*\",\"*\",VLOOKUP(PTA!AJ35,AL_NUM_ARB,2,FALSE)&\" \"&VLOOKUP(PTA!AJ35,AL_NUM_ARB,4,FALSE)&\" \"&VLOOKUP(PTA!AJ35,AL_NUM_ARB,6,FALSE)))","v":"X"},{"$f":"IF(OR(PTA!AK35=\"\",PTA!AK35=\"X\"),\"X\",IF(PTA!AK35=\"*\",\"*\",VLOOKUP(PTA!AK35,AL_NUM_ARB,2,FALSE)&\" \"&VLOOKUP(PTA!AK35,AL_NUM_ARB,4,FALSE)&\" \"&VLOOKUP(PTA!AK35,AL_NUM_ARB,6,FALSE)))","v":"X"},{"$f":"IF(OR(PTA!AL35=\"\",PTA!AL35=\"X\"),\"X\",IF(PTA!AL35=\"*\",\"*\",VLOOKUP(PTA!AL35,AL_NUM_ARB,2,FALSE)&\" \"&VLOOKUP(PTA!AL35,AL_NUM_ARB,4,FALSE)&\" \"&VLOOKUP(PTA!AL35,AL_NUM_ARB,6,FALSE)))","v":"X"},{"$f":"IF(OR(PTA!AM35=\"\",PTA!AM35=\"X\"),\"X\",IF(PTA!AM35=\"*\",\"*\",VLOOKUP(PTA!AM35,AL_NUM_ARB,2,FALSE)&\" \"&VLOOKUP(PTA!AM35,AL_NUM_ARB,4,FALSE)&\" \"&VLOOKUP(PTA!AM35,AL_NUM_ARB,6,FALSE)))","v":"X"},{"$f":"IF(OR(PTA!AN35=\"\",PTA!AN35=\"X\"),\"X\",IF(PTA!AN35=\"*\",\"*\",VLOOKUP(PTA!AN35,AL_NUM_ARB,2,FALSE)&\" \"&VLOOKUP(PTA!AN35,AL_NUM_ARB,4,FALSE)&\" \"&VLOOKUP(PTA!AN35,AL_NUM_ARB,6,FALSE)))","v":"X"},{"$f":"IF(OR(PTA!AO35=\"\",PTA!AO35=\"X\"),\"X\",IF(PTA!AO35=\"*\",\"*\",VLOOKUP(PTA!AO35,AL_NUM_ARB,2,FALSE)&\" \"&VLOOKUP(PTA!AO35,AL_NUM_ARB,4,FALSE)&\" \"&VLOOKUP(PTA!AO35,AL_NUM_ARB,6,FALSE)))","v":"X"},{"$f":"IF(OR(PTA!AP35=\"\",PTA!AP35=\"X\"),\"X\",IF(PTA!AP35=\"*\",\"*\",VLOOKUP(PTA!AP35,AL_NUM_ARB,2,FALSE)&\" \"&VLOOKUP(PTA!AP35,AL_NUM_ARB,4,FALSE)&\" \"&VLOOKUP(PTA!AP35,AL_NUM_ARB,6,FALSE)))","v":"X"},{"$f":"IF(OR(PTA!AQ35=\"\",PTA!AQ35=\"X\"),\"X\",IF(PTA!AQ35=\"*\",\"*\",VLOOKUP(PTA!AQ35,AL_NUM_ARB,2,FALSE)&\" \"&VLOOKUP(PTA!AQ35,AL_NUM_ARB,4,FALSE)&\" \"&VLOOKUP(PTA!AQ35,AL_NUM_ARB,6,FALSE)))","v":"X"},{"$f":"IF(OR(PTA!AR35=\"\",PTA!AR35=\"X\"),\"X\",IF(PTA!AR35=\"*\",\"*\",VLOOKUP(PTA!AR35,AL_NUM_ARB,2,FALSE)&\" \"&VLOOKUP(PTA!AR35,AL_NUM_ARB,4,FALSE)&\" \"&VLOOKUP(PTA!AR35,AL_NUM_ARB,6,FALSE)))","v":"X"},{"$f":"IF(OR(PTA!AS35=\"\",PTA!AS35=\"X\"),\"X\",IF(PTA!AS35=\"*\",\"*\",VLOOKUP(PTA!AS35,AL_NUM_ARB,2,FALSE)&\" \"&VLOOKUP(PTA!AS35,AL_NUM_ARB,4,FALSE)&\" \"&VLOOKUP(PTA!AS35,AL_NUM_ARB,6,FALSE)))","v":"X"},{"$f":"IF(OR(PTA!AT35=\"\",PTA!AT35=\"X\"),\"X\",IF(PTA!AT35=\"*\",\"*\",VLOOKUP(PTA!AT35,AL_NUM_ARB,2,FALSE)&\" \"&VLOOKUP(PTA!AT35,AL_NUM_ARB,4,FALSE)&\" \"&VLOOKUP(PTA!AT35,AL_NUM_ARB,6,FALSE)))","v":"X"},{"$f":"IF(OR(PTA!AU35=\"\",PTA!AU35=\"X\"),\"X\",IF(PTA!AU35=\"*\",\"*\",VLOOKUP(PTA!AU35,AL_NUM_ARB,2,FALSE)&\" \"&VLOOKUP(PTA!AU35,AL_NUM_ARB,4,FALSE)&\" \"&VLOOKUP(PTA!AU35,AL_NUM_ARB,6,FALSE)))","v":"X"},{"$f":"IF(OR(PTA!AV35=\"\",PTA!AV35=\"X\"),\"X\",IF(PTA!AV35=\"*\",\"*\",VLOOKUP(PTA!AV35,AL_NUM_ARB,2,FALSE)&\" \"&VLOOKUP(PTA!AV35,AL_NUM_ARB,4,FALSE)&\" \"&VLOOKUP(PTA!AV35,AL_NUM_ARB,6,FALSE)))","v":"X"},{"$f":"IF(OR(PTA!AW35=\"\",PTA!AW35=\"X\"),\"X\",IF(PTA!AW35=\"*\",\"*\",VLOOKUP(PTA!AW35,AL_NUM_ARB,2,FALSE)&\" \"&VLOOKUP(PTA!AW35,AL_NUM_ARB,4,FALSE)&\" \"&VLOOKUP(PTA!AW35,AL_NUM_ARB,6,FALSE)))","v":"X"},{"$f":"IF(OR(PTA!AX35=\"\",PTA!AX35=\"X\"),\"X\",IF(PTA!AX35=\"*\",\"*\",VLOOKUP(PTA!AX35,AL_NUM_ARB,2,FALSE)&\" \"&VLOOKUP(PTA!AX35,AL_NUM_ARB,4,FALSE)&\" \"&VLOOKUP(PTA!AX35,AL_NUM_ARB,6,FALSE)))","v":"X"},{"$f":"IF(OR(PTA!AY35=\"\",PTA!AY35=\"X\"),\"X\",IF(PTA!AY35=\"*\",\"*\",VLOOKUP(PTA!AY35,AL_NUM_ARB,2,FALSE)&\" \"&VLOOKUP(PTA!AY35,AL_NUM_ARB,4,FALSE)&\" \"&VLOOKUP(PTA!AY35,AL_NUM_ARB,6,FALSE)))","v":"X"},{"$f":"IF(OR(PTA!AZ35=\"\",PTA!AZ35=\"X\"),\"X\",IF(PTA!AZ35=\"*\",\"*\",VLOOKUP(PTA!AZ35,AL_NUM_ARB,2,FALSE)&\" \"&VLOOKUP(PTA!AZ35,AL_NUM_ARB,4,FALSE)&\" \"&VLOOKUP(PTA!AZ35,AL_NUM_ARB,6,FALSE)))","v":"X"},{"$f":"IF(OR(PTA!BA35=\"\",PTA!BA35=\"X\"),\"X\",IF(PTA!BA35=\"*\",\"*\",VLOOKUP(PTA!BA35,AL_NUM_ARB,2,FALSE)&\" \"&VLOOKUP(PTA!BA35,AL_NUM_ARB,4,FALSE)&\" \"&VLOOKUP(PTA!BA35,AL_NUM_ARB,6,FALSE)))","v":"X"},{"$f":"IF(OR(PTA!BB35=\"\",PTA!BB35=\"X\"),\"X\",IF(PTA!BB35=\"*\",\"*\",VLOOKUP(PTA!BB35,AL_NUM_ARB,2,FALSE)&\" \"&VLOOKUP(PTA!BB35,AL_NUM_ARB,4,FALSE)&\" \"&VLOOKUP(PTA!BB35,AL_NUM_ARB,6,FALSE)))","v":"X"},{"$f":"IF(OR(PTA!BC35=\"\",PTA!BC35=\"X\"),\"X\",IF(PTA!BC35=\"*\",\"*\",VLOOKUP(PTA!BC35,AL_NUM_ARB,2,FALSE)&\" \"&VLOOKUP(PTA!BC35,AL_NUM_ARB,4,FALSE)&\" \"&VLOOKUP(PTA!BC35,AL_NUM_ARB,6,FALSE)))","v":"X"},{"$f":"IF(OR(PTA!BD35=\"\",PTA!BD35=\"X\"),\"X\",IF(PTA!BD35=\"*\",\"*\",VLOOKUP(PTA!BD35,AL_NUM_ARB,2,FALSE)&\" \"&VLOOKUP(PTA!BD35,AL_NUM_ARB,4,FALSE)&\" \"&VLOOKUP(PTA!BD35,AL_NUM_ARB,6,FALSE)))","v":"X"},{"$f":"IF(OR(PTA!BE35=\"\",PTA!BE35=\"X\"),\"X\",IF(PTA!BE35=\"*\",\"*\",VLOOKUP(PTA!BE35,AL_NUM_ARB,2,FALSE)&\" \"&VLOOKUP(PTA!BE35,AL_NUM_ARB,4,FALSE)&\" \"&VLOOKUP(PTA!BE35,AL_NUM_ARB,6,FALSE)))","v":"X"},{"$f":"IF(OR(PTA!BF35=\"\",PTA!BF35=\"X\"),\"X\",IF(PTA!BF35=\"*\",\"*\",VLOOKUP(PTA!BF35,AL_NUM_ARB,2,FALSE)&\" \"&VLOOKUP(PTA!BF35,AL_NUM_ARB,4,FALSE)&\" \"&VLOOKUP(PTA!BF35,AL_NUM_ARB,6,FALSE)))","v":"X"},{"$f":"IF(OR(PTA!BG35=\"\",PTA!BG35=\"X\"),\"X\",IF(PTA!BG35=\"*\",\"*\",VLOOKUP(PTA!BG35,AL_NUM_ARB,2,FALSE)&\" \"&VLOOKUP(PTA!BG35,AL_NUM_ARB,4,FALSE)&\" \"&VLOOKUP(PTA!BG35,AL_NUM_ARB,6,FALSE)))","v":"X"},{"$f":"IF(OR(PTA!BH35=\"\",PTA!BH35=\"X\"),\"X\",IF(PTA!BH35=\"*\",\"*\",VLOOKUP(PTA!BH35,AL_NUM_ARB,2,FALSE)&\" \"&VLOOKUP(PTA!BH35,AL_NUM_ARB,4,FALSE)&\" \"&VLOOKUP(PTA!BH35,AL_NUM_ARB,6,FALSE)))","v":"X"},{"$f":"IF(OR(PTA!BI35=\"\",PTA!BI35=\"X\"),\"X\",IF(PTA!BI35=\"*\",\"*\",VLOOKUP(PTA!BI35,AL_NUM_ARB,2,FALSE)&\" \"&VLOOKUP(PTA!BI35,AL_NUM_ARB,4,FALSE)&\" \"&VLOOKUP(PTA!BI35,AL_NUM_ARB,6,FALSE)))","v":"X"},{"$f":"IF(OR(PTA!BJ35=\"\",PTA!BJ35=\"X\"),\"X\",IF(PTA!BJ35=\"*\",\"*\",VLOOKUP(PTA!BJ35,AL_NUM_ARB,2,FALSE)&\" \"&VLOOKUP(PTA!BJ35,AL_NUM_ARB,4,FALSE)&\" \"&VLOOKUP(PTA!BJ35,AL_NUM_ARB,6,FALSE)))","v":"X"},{"$f":"IF(OR(PTA!BK35=\"\",PTA!BK35=\"X\"),\"X\",IF(PTA!BK35=\"*\",\"*\",VLOOKUP(PTA!BK35,AL_NUM_ARB,2,FALSE)&\" \"&VLOOKUP(PTA!BK35,AL_NUM_ARB,4,FALSE)&\" \"&VLOOKUP(PTA!BK35,AL_NUM_ARB,6,FALSE)))","v":"X"},{"$f":"IF(OR(PTA!BL35=\"\",PTA!BL35=\"X\"),\"X\",IF(PTA!BL35=\"*\",\"*\",VLOOKUP(PTA!BL35,AL_NUM_ARB,2,FALSE)&\" \"&VLOOKUP(PTA!BL35,AL_NUM_ARB,4,FALSE)&\" \"&VLOOKUP(PTA!BL35,AL_NUM_ARB,6,FALSE)))","v":"X"},{"$f":"IF(OR(PTA!BM35=\"\",PTA!BM35=\"X\"),\"X\",IF(PTA!BM35=\"*\",\"*\",VLOOKUP(PTA!BM35,AL_NUM_ARB,2,FALSE)&\" \"&VLOOKUP(PTA!BM35,AL_NUM_ARB,4,FALSE)&\" \"&VLOOKUP(PTA!BM35,AL_NUM_ARB,6,FALSE)))","v":"X"},{"$f":"IF(OR(PTA!BN35=\"\",PTA!BN35=\"X\"),\"X\",IF(PTA!BN35=\"*\",\"*\",VLOOKUP(PTA!BN35,AL_NUM_ARB,2,FALSE)&\" \"&VLOOKUP(PTA!BN35,AL_NUM_ARB,4,FALSE)&\" \"&VLOOKUP(PTA!BN35,AL_NUM_ARB,6,FALSE)))","v":"X"},{"$f":"IF(OR(PTA!BO35=\"\",PTA!BO35=\"X\"),\"X\",IF(PTA!BO35=\"*\",\"*\",VLOOKUP(PTA!BO35,AL_NUM_ARB,2,FALSE)&\" \"&VLOOKUP(PTA!BO35,AL_NUM_ARB,4,FALSE)&\" \"&VLOOKUP(PTA!BO35,AL_NUM_ARB,6,FALSE)))","v":"X"},{"$f":"IF(OR(PTA!BP35=\"\",PTA!BP35=\"X\"),\"X\",IF(PTA!BP35=\"*\",\"*\",VLOOKUP(PTA!BP35,AL_NUM_ARB,2,FALSE)&\" \"&VLOOKUP(PTA!BP35,AL_NUM_ARB,4,FALSE)&\" \"&VLOOKUP(PTA!BP35,AL_NUM_ARB,6,FALSE)))","v":"X"},{"$f":"IF(OR(PTA!BQ35=\"\",PTA!BQ35=\"X\"),\"X\",IF(PTA!BQ35=\"*\",\"*\",VLOOKUP(PTA!BQ35,AL_NUM_ARB,2,FALSE)&\" \"&VLOOKUP(PTA!BQ35,AL_NUM_ARB,4,FALSE)&\" \"&VLOOKUP(PTA!BQ35,AL_NUM_ARB,6,FALSE)))","v":"X"},{"$f":"IF(OR(PTA!BR35=\"\",PTA!BR35=\"X\"),\"X\",IF(PTA!BR35=\"*\",\"*\",VLOOKUP(PTA!BR35,AL_NUM_ARB,2,FALSE)&\" \"&VLOOKUP(PTA!BR35,AL_NUM_ARB,4,FALSE)&\" \"&VLOOKUP(PTA!BR35,AL_NUM_ARB,6,FALSE)))","v":"X"},{"$f":"IF(OR(PTA!BT35=\"\",PTA!BT35=\"X\"),\"X\",VLOOKUP(PTA!BT35,AL_NUM_ARB,2,FALSE)&\" \"&VLOOKUP(PTA!BT35,AL_NUM_ARB,4,FALSE)&\" \"&VLOOKUP(PTA!BT35,AL_NUM_ARB,6,FALSE))","v":"X"},{"$f":"IF(OR(PTA!BU35=\"\",PTA!BU35=\"X\"),\"X\",VLOOKUP(PTA!BU35,AL_NUM_ARB,2,FALSE)&\" \"&VLOOKUP(PTA!BU35,AL_NUM_ARB,4,FALSE)&\" \"&VLOOKUP(PTA!BU35,AL_NUM_ARB,6,FALSE))","v":"X"},{"$f":"IF(OR(PTA!BV35=\"\",PTA!BV35=\"X\"),\"X\",VLOOKUP(PTA!BV35,AL_NUM_ARB,2,FALSE)&\" \"&VLOOKUP(PTA!BV35,AL_NUM_ARB,4,FALSE)&\" \"&VLOOKUP(PTA!BV35,AL_NUM_ARB,6,FALSE))","v":"X"},{"$f":"IF(OR(PTA!BW35=\"\",PTA!BW35=\"X\"),\"X\",VLOOKUP(PTA!BW35,AL_NUM_ARB,2,FALSE)&\" \"&VLOOKUP(PTA!BW35,AL_NUM_ARB,4,FALSE)&\" \"&VLOOKUP(PTA!BW35,AL_NUM_ARB,6,FALSE))","v":"X"},"13:00:00"]
[{"$f":"PTA!A36","v":""},{"$f":"PTA!B36","v":"00:00:00"},{"$f":"PTA!C36","v":32},{"$f":"PTA!D36","v":0},{"$f":"IF(OR(PTA!E36=\"\",PTA!E36=\"X\"),\"X\",IF(PTA!E36=\"*\",\"*\",VLOOKUP(PTA!E36,AL_NUM_ARB,2,FALSE)&\" \"&VLOOKUP(PTA!E36,AL_NUM_ARB,4,FALSE)&\" \"&VLOOKUP(PTA!E36,AL_NUM_ARB,6,FALSE)))","v":"X"},{"$f":"IF(OR(PTA!F36=\"\",PTA!F36=\"X\"),\"X\",IF(PTA!F36=\"*\",\"*\",VLOOKUP(PTA!F36,AL_NUM_ARB,2,FALSE)&\" \"&VLOOKUP(PTA!F36,AL_NUM_ARB,4,FALSE)&\" \"&VLOOKUP(PTA!F36,AL_NUM_ARB,6,FALSE)))","v":"X"},{"$f":"IF(OR(PTA!G36=\"\",PTA!G36=\"X\"),\"X\",IF(PTA!G36=\"*\",\"*\",VLOOKUP(PTA!G36,AL_NUM_ARB,2,FALSE)&\" \"&VLOOKUP(PTA!G36,AL_NUM_ARB,4,FALSE)&\" \"&VLOOKUP(PTA!G36,AL_NUM_ARB,6,FALSE)))","v":"X"},{"$f":"IF(OR(PTA!H36=\"\",PTA!H36=\"X\"),\"X\",IF(PTA!H36=\"*\",\"*\",VLOOKUP(PTA!H36,AL_NUM_ARB,2,FALSE)&\" \"&VLOOKUP(PTA!H36,AL_NUM_ARB,4,FALSE)&\" \"&VLOOKUP(PTA!H36,AL_NUM_ARB,6,FALSE)))","v":"X"},{"$f":"IF(OR(PTA!I36=\"\",PTA!I36=\"X\"),\"X\",IF(PTA!I36=\"*\",\"*\",VLOOKUP(PTA!I36,AL_NUM_ARB,2,FALSE)&\" \"&VLOOKUP(PTA!I36,AL_NUM_ARB,4,FALSE)&\" \"&VLOOKUP(PTA!I36,AL_NUM_ARB,6,FALSE)))","v":"X"},{"$f":"IF(OR(PTA!J36=\"\",PTA!J36=\"X\"),\"X\",IF(PTA!J36=\"*\",\"*\",VLOOKUP(PTA!J36,AL_NUM_ARB,2,FALSE)&\" \"&VLOOKUP(PTA!J36,AL_NUM_ARB,4,FALSE)&\" \"&VLOOKUP(PTA!J36,AL_NUM_ARB,6,FALSE)))","v":"X"},{"$f":"IF(OR(PTA!K36=\"\",PTA!K36=\"X\"),\"X\",IF(PTA!K36=\"*\",\"*\",VLOOKUP(PTA!K36,AL_NUM_ARB,2,FALSE)&\" \"&VLOOKUP(PTA!K36,AL_NUM_ARB,4,FALSE)&\" \"&VLOOKUP(PTA!K36,AL_NUM_ARB,6,FALSE)))","v":"X"},{"$f":"IF(OR(PTA!L36=\"\",PTA!L36=\"X\"),\"X\",IF(PTA!L36=\"*\",\"*\",VLOOKUP(PTA!L36,AL_NUM_ARB,2,FALSE)&\" \"&VLOOKUP(PTA!L36,AL_NUM_ARB,4,FALSE)&\" \"&VLOOKUP(PTA!L36,AL_NUM_ARB,6,FALSE)))","v":"X"},{"$f":"IF(OR(PTA!M36=\"\",PTA!M36=\"X\"),\"X\",IF(PTA!M36=\"*\",\"*\",VLOOKUP(PTA!M36,AL_NUM_ARB,2,FALSE)&\" \"&VLOOKUP(PTA!M36,AL_NUM_ARB,4,FALSE)&\" \"&VLOOKUP(PTA!M36,AL_NUM_ARB,6,FALSE)))","v":"X"},{"$f":"IF(OR(PTA!N36=\"\",PTA!N36=\"X\"),\"X\",IF(PTA!N36=\"*\",\"*\",VLOOKUP(PTA!N36,AL_NUM_ARB,2,FALSE)&\" \"&VLOOKUP(PTA!N36,AL_NUM_ARB,4,FALSE)&\" \"&VLOOKUP(PTA!N36,AL_NUM_ARB,6,FALSE)))","v":"X"},{"$f":"IF(OR(PTA!O36=\"\",PTA!O36=\"X\"),\"X\",IF(PTA!O36=\"*\",\"*\",VLOOKUP(PTA!O36,AL_NUM_ARB,2,FALSE)&\" \"&VLOOKUP(PTA!O36,AL_NUM_ARB,4,FALSE)&\" \"&VLOOKUP(PTA!O36,AL_NUM_ARB,6,FALSE)))","v":"X"},{"$f":"IF(OR(PTA!P36=\"\",PTA!P36=\"X\"),\"X\",IF(PTA!P36=\"*\",\"*\",VLOOKUP(PTA!P36,AL_NUM_ARB,2,FALSE)&\" \"&VLOOKUP(PTA!P36,AL_NUM_ARB,4,FALSE)&\" \"&VLOOKUP(PTA!P36,AL_NUM_ARB,6,FALSE)))","v":"X"},{"$f":"IF(OR(PTA!Q36=\"\",PTA!Q36=\"X\"),\"X\",IF(PTA!Q36=\"*\",\"*\",VLOOKUP(PTA!Q36,AL_NUM_ARB,2,FALSE)&\" \"&VLOOKUP(PTA!Q36,AL_NUM_ARB,4,FALSE)&\" \"&VLOOKUP(PTA!Q36,AL_NUM_ARB,6,FALSE)))","v":"X"},{"$f":"IF(OR(PTA!R36=\"\",PTA!R36=\"X\"),\"X\",IF(PTA!R36=\"*\",\"*\",VLOOKUP(PTA!R36,AL_NUM_ARB,2,FALSE)&\" \"&VLOOKUP(PTA!R36,AL_NUM_ARB,4,FALSE)&\" \"&VLOOKUP(PTA!R36,AL_NUM_ARB,6,FALSE)))","v":"X"},{"$f":"IF(OR(PTA!S36=\"\",PTA!S36=\"X\"),\"X\",IF(PTA!S36=\"*\",\"*\",VLOOKUP(PTA!S36,AL_NUM_ARB,2,FALSE)&\" \"&VLOOKUP(PTA!S36,AL_NUM_ARB,4,FALSE)&\" \"&VLOOKUP(PTA!S36,AL_NUM_ARB,6,FALSE)))","v":"X"},{"$f":"IF(OR(PTA!T36=\"\",PTA!T36=\"X\"),\"X\",IF(PTA!T36=\"*\",\"*\",VLOOKUP(PTA!T36,AL_NUM_ARB,2,FALSE)&\" \"&VLOOKUP(PTA!T36,AL_NUM_ARB,4,FALSE)&\" \"&VLOOKUP(PTA!T36,AL_NUM_ARB,6,FALSE)))","v":"X"},{"$f":"IF(OR(PTA!U36=\"\",PTA!U36=\"X\"),\"X\",IF(PTA!U36=\"*\",\"*\",VLOOKUP(PTA!U36,AL_NUM_ARB,2,FALSE)&\" \"&VLOOKUP(PTA!U36,AL_NUM_ARB,4,FALSE)&\" \"&VLOOKUP(PTA!U36,AL_NUM_ARB,6,FALSE)))","v":"X"},{"$f":"IF(OR(PTA!V36=\"\",PTA!V36=\"X\"),\"X\",IF(PTA!V36=\"*\",\"*\",VLOOKUP(PTA!V36,AL_NUM_ARB,2,FALSE)&\" \"&VLOOKUP(PTA!V36,AL_NUM_ARB,4,FALSE)&\" \"&VLOOKUP(PTA!V36,AL_NUM_ARB,6,FALSE)))","v":"X"},{"$f":"IF(OR(PTA!W36=\"\",PTA!W36=\"X\"),\"X\",IF(PTA!W36=\"*\",\"*\",VLOOKUP(PTA!W36,AL_NUM_ARB,2,FALSE)&\" \"&VLOOKUP(PTA!W36,AL_NUM_ARB,4,FALSE)&\" \"&VLOOKUP(PTA!W36,AL_NUM_ARB,6,FALSE)))","v":"X"},{"$f":"IF(OR(PTA!X36=\"\",PTA!X36=\"X\"),\"X\",IF(PTA!X36=\"*\",\"*\",VLOOKUP(PTA!X36,AL_NUM_ARB,2,FALSE)&\" \"&VLOOKUP(PTA!X36,AL_NUM_ARB,4,FALSE)&\" \"&VLOOKUP(PTA!X36,AL_NUM_ARB,6,FALSE)))","v":"X"},{"$f":"IF(OR(PTA!Y36=\"\",PTA!Y36=\"X\"),\"X\",IF(PTA!Y36=\"*\",\"*\",VLOOKUP(PTA!Y36,AL_NUM_ARB,2,FALSE)&\" \"&VLOOKUP(PTA!Y36,AL_NUM_ARB,4,FALSE)&\" \"&VLOOKUP(PTA!Y36,AL_NUM_ARB,6,FALSE)))","v":"X"},{"$f":"IF(OR(PTA!Z36=\"\",PTA!Z36=\"X\"),\"X\",IF(PTA!Z36=\"*\",\"*\",VLOOKUP(PTA!Z36,AL_NUM_ARB,2,FALSE)&\" \"&VLOOKUP(PTA!Z36,AL_NUM_ARB,4,FALSE)&\" \"&VLOOKUP(PTA!Z36,AL_NUM_ARB,6,FALSE)))","v":"X"},{"$f":"IF(OR(PTA!AA36=\"\",PTA!AA36=\"X\"),\"X\",IF(PTA!AA36=\"*\",\"*\",VLOOKUP(PTA!AA36,AL_NUM_ARB,2,FALSE)&\" \"&VLOOKUP(PTA!AA36,AL_NUM_ARB,4,FALSE)&\" \"&VLOOKUP(PTA!AA36,AL_NUM_ARB,6,FALSE)))","v":"X"},{"$f":"IF(OR(PTA!AB36=\"\",PTA!AB36=\"X\"),\"X\",IF(PTA!AB36=\"*\",\"*\",VLOOKUP(PTA!AB36,AL_NUM_ARB,2,FALSE)&\" \"&VLOOKUP(PTA!AB36,AL_NUM_ARB,4,FALSE)&\" \"&VLOOKUP(PTA!AB36,AL_NUM_ARB,6,FALSE)))","v":"X"},{"$f":"IF(OR(PTA!AC36=\"\",PTA!AC36=\"X\"),\"X\",IF(PTA!AC36=\"*\",\"*\",VLOOKUP(PTA!AC36,AL_NUM_ARB,2,FALSE)&\" \"&VLOOKUP(PTA!AC36,AL_NUM_ARB,4,FALSE)&\" \"&VLOOKUP(PTA!AC36,AL_NUM_ARB,6,FALSE)))","v":"X"},{"$f":"IF(OR(PTA!AD36=\"\",PTA!AD36=\"X\"),\"X\",IF(PTA!AD36=\"*\",\"*\",VLOOKUP(PTA!AD36,AL_NUM_ARB,2,FALSE)&\" \"&VLOOKUP(PTA!AD36,AL_NUM_ARB,4,FALSE)&\" \"&VLOOKUP(PTA!AD36,AL_NUM_ARB,6,FALSE)))","v":"X"},{"$f":"IF(OR(PTA!AE36=\"\",PTA!AE36=\"X\"),\"X\",IF(PTA!AE36=\"*\",\"*\",VLOOKUP(PTA!AE36,AL_NUM_ARB,2,FALSE)&\" \"&VLOOKUP(PTA!AE36,AL_NUM_ARB,4,FALSE)&\" \"&VLOOKUP(PTA!AE36,AL_NUM_ARB,6,FALSE)))","v":"X"},{"$f":"IF(OR(PTA!AF36=\"\",PTA!AF36=\"X\"),\"X\",IF(PTA!AF36=\"*\",\"*\",VLOOKUP(PTA!AF36,AL_NUM_ARB,2,FALSE)&\" \"&VLOOKUP(PTA!AF36,AL_NUM_ARB,4,FALSE)&\" \"&VLOOKUP(PTA!AF36,AL_NUM_ARB,6,FALSE)))","v":"X"},{"$f":"IF(OR(PTA!AG36=\"\",PTA!AG36=\"X\"),\"X\",IF(PTA!AG36=\"*\",\"*\",VLOOKUP(PTA!AG36,AL_NUM_ARB,2,FALSE)&\" \"&VLOOKUP(PTA!AG36,AL_NUM_ARB,4,FALSE)&\" \"&VLOOKUP(PTA!AG36,AL_NUM_ARB,6,FALSE)))","v":"X"},{"$f":"IF(OR(PTA!AH36=\"\",PTA!AH36=\"X\"),\"X\",IF(PTA!AH36=\"*\",\"*\",VLOOKUP(PTA!AH36,AL_NUM_ARB,2,FALSE)&\" \"&VLOOKUP(PTA!AH36,AL_NUM_ARB,4,FALSE)&\" \"&VLOOKUP(PTA!AH36,AL_NUM_ARB,6,FALSE)))","v":"X"},{"$f":"IF(OR(PTA!AI36=\"\",PTA!AI36=\"X\"),\"X\",IF(PTA!AI36=\"*\",\"*\",VLOOKUP(PTA!AI36,AL_NUM_ARB,2,FALSE)&\" \"&VLOOKUP(PTA!AI36,AL_NUM_ARB,4,FALSE)&\" \"&VLOOKUP(PTA!AI36,AL_NUM_ARB,6,FALSE)))","v":"X"},{"$f":"IF(OR(PTA!AJ36=\"\",PTA!AJ36=\"X\"),\"X\",IF(PTA!AJ36=\"*\",\"*\",VLOOKUP(PTA!AJ36,AL_NUM_ARB,2,FALSE)&\" \"&VLOOKUP(PTA!AJ36,AL_NUM_ARB,4,FALSE)&\" \"&VLOOKUP(PTA!AJ36,AL_NUM_ARB,6,FALSE)))","v":"X"},{"$f":"IF(OR(PTA!AK36=\"\",PTA!AK36=\"X\"),\"X\",IF(PTA!AK36=\"*\",\"*\",VLOOKUP(PTA!AK36,AL_NUM_ARB,2,FALSE)&\" \"&VLOOKUP(PTA!AK36,AL_NUM_ARB,4,FALSE)&\" \"&VLOOKUP(PTA!AK36,AL_NUM_ARB,6,FALSE)))","v":"X"},{"$f":"IF(OR(PTA!AL36=\"\",PTA!AL36=\"X\"),\"X\",IF(PTA!AL36=\"*\",\"*\",VLOOKUP(PTA!AL36,AL_NUM_ARB,2,FALSE)&\" \"&VLOOKUP(PTA!AL36,AL_NUM_ARB,4,FALSE)&\" \"&VLOOKUP(PTA!AL36,AL_NUM_ARB,6,FALSE)))","v":"X"},{"$f":"IF(OR(PTA!AM36=\"\",PTA!AM36=\"X\"),\"X\",IF(PTA!AM36=\"*\",\"*\",VLOOKUP(PTA!AM36,AL_NUM_ARB,2,FALSE)&\" \"&VLOOKUP(PTA!AM36,AL_NUM_ARB,4,FALSE)&\" \"&VLOOKUP(PTA!AM36,AL_NUM_ARB,6,FALSE)))","v":"X"},{"$f":"IF(OR(PTA!AN36=\"\",PTA!AN36=\"X\"),\"X\",IF(PTA!AN36=\"*\",\"*\",VLOOKUP(PTA!AN36,AL_NUM_ARB,2,FALSE)&\" \"&VLOOKUP(PTA!AN36,AL_NUM_ARB,4,FALSE)&\" \"&VLOOKUP(PTA!AN36,AL_NUM_ARB,6,FALSE)))","v":"X"},{"$f":"IF(OR(PTA!AO36=\"\",PTA!AO36=\"X\"),\"X\",IF(PTA!AO36=\"*\",\"*\",VLOOKUP(PTA!AO36,AL_NUM_ARB,2,FALSE)&\" \"&VLOOKUP(PTA!AO36,AL_NUM_ARB,4,FALSE)&\" \"&VLOOKUP(PTA!AO36,AL_NUM_ARB,6,FALSE)))","v":"X"},{"$f":"IF(OR(PTA!AP36=\"\",PTA!AP36=\"X\"),\"X\",IF(PTA!AP36=\"*\",\"*\",VLOOKUP(PTA!AP36,AL_NUM_ARB,2,FALSE)&\" \"&VLOOKUP(PTA!AP36,AL_NUM_ARB,4,FALSE)&\" \"&VLOOKUP(PTA!AP36,AL_NUM_ARB,6,FALSE)))","v":"X"},{"$f":"IF(OR(PTA!AQ36=\"\",PTA!AQ36=\"X\"),\"X\",IF(PTA!AQ36=\"*\",\"*\",VLOOKUP(PTA!AQ36,AL_NUM_ARB,2,FALSE)&\" \"&VLOOKUP(PTA!AQ36,AL_NUM_ARB,4,FALSE)&\" \"&VLOOKUP(PTA!AQ36,AL_NUM_ARB,6,FALSE)))","v":"X"},{"$f":"IF(OR(PTA!AR36=\"\",PTA!AR36=\"X\"),\"X\",IF(PTA!AR36=\"*\",\"*\",VLOOKUP(PTA!AR36,AL_NUM_ARB,2,FALSE)&\" \"&VLOOKUP(PTA!AR36,AL_NUM_ARB,4,FALSE)&\" \"&VLOOKUP(PTA!AR36,AL_NUM_ARB,6,FALSE)))","v":"X"},{"$f":"IF(OR(PTA!AS36=\"\",PTA!AS36=\"X\"),\"X\",IF(PTA!AS36=\"*\",\"*\",VLOOKUP(PTA!AS36,AL_NUM_ARB,2,FALSE)&\" \"&VLOOKUP(PTA!AS36,AL_NUM_ARB,4,FALSE)&\" \"&VLOOKUP(PTA!AS36,AL_NUM_ARB,6,FALSE)))","v":"X"},{"$f":"IF(OR(PTA!AT36=\"\",PTA!AT36=\"X\"),\"X\",IF(PTA!AT36=\"*\",\"*\",VLOOKUP(PTA!AT36,AL_NUM_ARB,2,FALSE)&\" \"&VLOOKUP(PTA!AT36,AL_NUM_ARB,4,FALSE)&\" \"&VLOOKUP(PTA!AT36,AL_NUM_ARB,6,FALSE)))","v":"X"},{"$f":"IF(OR(PTA!AU36=\"\",PTA!AU36=\"X\"),\"X\",IF(PTA!AU36=\"*\",\"*\",VLOOKUP(PTA!AU36,AL_NUM_ARB,2,FALSE)&\" \"&VLOOKUP(PTA!AU36,AL_NUM_ARB,4,FALSE)&\" \"&VLOOKUP(PTA!AU36,AL_NUM_ARB,6,FALSE)))","v":"X"},{"$f":"IF(OR(PTA!AV36=\"\",PTA!AV36=\"X\"),\"X\",IF(PTA!AV36=\"*\",\"*\",VLOOKUP(PTA!AV36,AL_NUM_ARB,2,FALSE)&\" \"&VLOOKUP(PTA!AV36,AL_NUM_ARB,4,FALSE)&\" \"&VLOOKUP(PTA!AV36,AL_NUM_ARB,6,FALSE)))","v":"X"},{"$f":"IF(OR(PTA!AW36=\"\",PTA!AW36=\"X\"),\"X\",IF(PTA!AW36=\"*\",\"*\",VLOOKUP(PTA!AW36,AL_NUM_ARB,2,FALSE)&\" \"&VLOOKUP(PTA!AW36,AL_NUM_ARB,4,FALSE)&\" \"&VLOOKUP(PTA!AW36,AL_NUM_ARB,6,FALSE)))","v":"X"},{"$f":"IF(OR(PTA!AX36=\"\",PTA!AX36=\"X\"),\"X\",IF(PTA!AX36=\"*\",\"*\",VLOOKUP(PTA!AX36,AL_NUM_ARB,2,FALSE)&\" \"&VLOOKUP(PTA!AX36,AL_NUM_ARB,4,FALSE)&\" \"&VLOOKUP(PTA!AX36,AL_NUM_ARB,6,FALSE)))","v":"X"},{"$f":"IF(OR(PTA!AY36=\"\",PTA!AY36=\"X\"),\"X\",IF(PTA!AY36=\"*\",\"*\",VLOOKUP(PTA!AY36,AL_NUM_ARB,2,FALSE)&\" \"&VLOOKUP(PTA!AY36,AL_NUM_ARB,4,FALSE)&\" \"&VLOOKUP(PTA!AY36,AL_NUM_ARB,6,FALSE)))","v":"X"},{"$f":"IF(OR(PTA!AZ36=\"\",PTA!AZ36=\"X\"),\"X\",IF(PTA!AZ36=\"*\",\"*\",VLOOKUP(PTA!AZ36,AL_NUM_ARB,2,FALSE)&\" \"&VLOOKUP(PTA!AZ36,AL_NUM_ARB,4,FALSE)&\" \"&VLOOKUP(PTA!AZ36,AL_NUM_ARB,6,FALSE)))","v":"X"},{"$f":"IF(OR(PTA!BA36=\"\",PTA!BA36=\"X\"),\"X\",IF(PTA!BA36=\"*\",\"*\",VLOOKUP(PTA!BA36,AL_NUM_ARB,2,FALSE)&\" \"&VLOOKUP(PTA!BA36,AL_NUM_ARB,4,FALSE)&\" \"&VLOOKUP(PTA!BA36,AL_NUM_ARB,6,FALSE)))","v":"X"},{"$f":"IF(OR(PTA!BB36=\"\",PTA!BB36=\"X\"),\"X\",IF(PTA!BB36=\"*\",\"*\",VLOOKUP(PTA!BB36,AL_NUM_ARB,2,FALSE)&\" \"&VLOOKUP(PTA!BB36,AL_NUM_ARB,4,FALSE)&\" \"&VLOOKUP(PTA!BB36,AL_NUM_ARB,6,FALSE)))","v":"X"},{"$f":"IF(OR(PTA!BC36=\"\",PTA!BC36=\"X\"),\"X\",IF(PTA!BC36=\"*\",\"*\",VLOOKUP(PTA!BC36,AL_NUM_ARB,2,FALSE)&\" \"&VLOOKUP(PTA!BC36,AL_NUM_ARB,4,FALSE)&\" \"&VLOOKUP(PTA!BC36,AL_NUM_ARB,6,FALSE)))","v":"X"},{"$f":"IF(OR(PTA!BD36=\"\",PTA!BD36=\"X\"),\"X\",IF(PTA!BD36=\"*\",\"*\",VLOOKUP(PTA!BD36,AL_NUM_ARB,2,FALSE)&\" \"&VLOOKUP(PTA!BD36,AL_NUM_ARB,4,FALSE)&\" \"&VLOOKUP(PTA!BD36,AL_NUM_ARB,6,FALSE)))","v":"X"},{"$f":"IF(OR(PTA!BE36=\"\",PTA!BE36=\"X\"),\"X\",IF(PTA!BE36=\"*\",\"*\",VLOOKUP(PTA!BE36,AL_NUM_ARB,2,FALSE)&\" \"&VLOOKUP(PTA!BE36,AL_NUM_ARB,4,FALSE)&\" \"&VLOOKUP(PTA!BE36,AL_NUM_ARB,6,FALSE)))","v":"X"},{"$f":"IF(OR(PTA!BF36=\"\",PTA!BF36=\"X\"),\"X\",IF(PTA!BF36=\"*\",\"*\",VLOOKUP(PTA!BF36,AL_NUM_ARB,2,FALSE)&\" \"&VLOOKUP(PTA!BF36,AL_NUM_ARB,4,FALSE)&\" \"&VLOOKUP(PTA!BF36,AL_NUM_ARB,6,FALSE)))","v":"X"},{"$f":"IF(OR(PTA!BG36=\"\",PTA!BG36=\"X\"),\"X\",IF(PTA!BG36=\"*\",\"*\",VLOOKUP(PTA!BG36,AL_NUM_ARB,2,FALSE)&\" \"&VLOOKUP(PTA!BG36,AL_NUM_ARB,4,FALSE)&\" \"&VLOOKUP(PTA!BG36,AL_NUM_ARB,6,FALSE)))","v":"X"},{"$f":"IF(OR(PTA!BH36=\"\",PTA!BH36=\"X\"),\"X\",IF(PTA!BH36=\"*\",\"*\",VLOOKUP(PTA!BH36,AL_NUM_ARB,2,FALSE)&\" \"&VLOOKUP(PTA!BH36,AL_NUM_ARB,4,FALSE)&\" \"&VLOOKUP(PTA!BH36,AL_NUM_ARB,6,FALSE)))","v":"X"},{"$f":"IF(OR(PTA!BI36=\"\",PTA!BI36=\"X\"),\"X\",IF(PTA!BI36=\"*\",\"*\",VLOOKUP(PTA!BI36,AL_NUM_ARB,2,FALSE)&\" \"&VLOOKUP(PTA!BI36,AL_NUM_ARB,4,FALSE)&\" \"&VLOOKUP(PTA!BI36,AL_NUM_ARB,6,FALSE)))","v":"X"},{"$f":"IF(OR(PTA!BJ36=\"\",PTA!BJ36=\"X\"),\"X\",IF(PTA!BJ36=\"*\",\"*\",VLOOKUP(PTA!BJ36,AL_NUM_ARB,2,FALSE)&\" \"&VLOOKUP(PTA!BJ36,AL_NUM_ARB,4,FALSE)&\" \"&VLOOKUP(PTA!BJ36,AL_NUM_ARB,6,FALSE)))","v":"X"},{"$f":"IF(OR(PTA!BK36=\"\",PTA!BK36=\"X\"),\"X\",IF(PTA!BK36=\"*\",\"*\",VLOOKUP(PTA!BK36,AL_NUM_ARB,2,FALSE)&\" \"&VLOOKUP(PTA!BK36,AL_NUM_ARB,4,FALSE)&\" \"&VLOOKUP(PTA!BK36,AL_NUM_ARB,6,FALSE)))","v":"X"},{"$f":"IF(OR(PTA!BL36=\"\",PTA!BL36=\"X\"),\"X\",IF(PTA!BL36=\"*\",\"*\",VLOOKUP(PTA!BL36,AL_NUM_ARB,2,FALSE)&\" \"&VLOOKUP(PTA!BL36,AL_NUM_ARB,4,FALSE)&\" \"&VLOOKUP(PTA!BL36,AL_NUM_ARB,6,FALSE)))","v":"X"},{"$f":"IF(OR(PTA!BM36=\"\",PTA!BM36=\"X\"),\"X\",IF(PTA!BM36=\"*\",\"*\",VLOOKUP(PTA!BM36,AL_NUM_ARB,2,FALSE)&\" \"&VLOOKUP(PTA!BM36,AL_NUM_ARB,4,FALSE)&\" \"&VLOOKUP(PTA!BM36,AL_NUM_ARB,6,FALSE)))","v":"X"},{"$f":"IF(OR(PTA!BN36=\"\",PTA!BN36=\"X\"),\"X\",IF(PTA!BN36=\"*\",\"*\",VLOOKUP(PTA!BN36,AL_NUM_ARB,2,FALSE)&\" \"&VLOOKUP(PTA!BN36,AL_NUM_ARB,4,FALSE)&\" \"&VLOOKUP(PTA!BN36,AL_NUM_ARB,6,FALSE)))","v":"X"},{"$f":"IF(OR(PTA!BO36=\"\",PTA!BO36=\"X\"),\"X\",IF(PTA!BO36=\"*\",\"*\",VLOOKUP(PTA!BO36,AL_NUM_ARB,2,FALSE)&\" \"&VLOOKUP(PTA!BO36,AL_NUM_ARB,4,FALSE)&\" \"&VLOOKUP(PTA!BO36,AL_NUM_ARB,6,FALSE)))","v":"X"},{"$f":"IF(OR(PTA!BP36=\"\",PTA!BP36=\"X\"),\"X\",IF(PTA!BP36=\"*\",\"*\",VLOOKUP(PTA!BP36,AL_NUM_ARB,2,FALSE)&\" \"&VLOOKUP(PTA!BP36,AL_NUM_ARB,4,FALSE)&\" \"&VLOOKUP(PTA!BP36,AL_NUM_ARB,6,FALSE)))","v":"X"},{"$f":"IF(OR(PTA!BQ36=\"\",PTA!BQ36=\"X\"),\"X\",IF(PTA!BQ36=\"*\",\"*\",VLOOKUP(PTA!BQ36,AL_NUM_ARB,2,FALSE)&\" \"&VLOOKUP(PTA!BQ36,AL_NUM_ARB,4,FALSE)&\" \"&VLOOKUP(PTA!BQ36,AL_NUM_ARB,6,FALSE)))","v":"X"},{"$f":"IF(OR(PTA!BR36=\"\",PTA!BR36=\"X\"),\"X\",IF(PTA!BR36=\"*\",\"*\",VLOOKUP(PTA!BR36,AL_NUM_ARB,2,FALSE)&\" \"&VLOOKUP(PTA!BR36,AL_NUM_ARB,4,FALSE)&\" \"&VLOOKUP(PTA!BR36,AL_NUM_ARB,6,FALSE)))","v":"X"},{"$f":"IF(OR(PTA!BT36=\"\",PTA!BT36=\"X\"),\"X\",VLOOKUP(PTA!BT36,AL_NUM_ARB,2,FALSE)&\" \"&VLOOKUP(PTA!BT36,AL_NUM_ARB,4,FALSE)&\" \"&VLOOKUP(PTA!BT36,AL_NUM_ARB,6,FALSE))","v":"X"},{"$f":"IF(OR(PTA!BU36=\"\",PTA!BU36=\"X\"),\"X\",VLOOKUP(PTA!BU36,AL_NUM_ARB,2,FALSE)&\" \"&VLOOKUP(PTA!BU36,AL_NUM_ARB,4,FALSE)&\" \"&VLOOKUP(PTA!BU36,AL_NUM_ARB,6,FALSE))","v":"X"},{"$f":"IF(OR(PTA!BV36=\"\",PTA!BV36=\"X\"),\"X\",VLOOKUP(PTA!BV36,AL_NUM_ARB,2,FALSE)&\" \"&VLOOKUP(PTA!BV36,AL_NUM_ARB,4,FALSE)&\" \"&VLOOKUP(PTA!BV36,AL_NUM_ARB,6,FALSE))","v":"X"},{"$f":"IF(OR(PTA!BW36=\"\",PTA!BW36=\"X\"),\"X\",VLOOKUP(PTA!BW36,AL_NUM_ARB,2,FALSE)&\" \"&VLOOKUP(PTA!BW36,AL_NUM_ARB,4,FALSE)&\" \"&VLOOKUP(PTA!BW36,AL_NUM_ARB,6,FALSE))","v":"X"},"13:30:00"]
[{"$f":"PTA!A37","v":""},{"$f":"PTA!B37","v":"00:00:00"},{"$f":"PTA!C37","v":32},{"$f":"PTA!D37","v":0},{"$f":"IF(OR(PTA!E37=\"\",PTA!E37=\"X\"),\"X\",IF(PTA!E37=\"*\",\"*\",VLOOKUP(PTA!E37,AL_NUM_ARB,2,FALSE)&\" \"&VLOOKUP(PTA!E37,AL_NUM_ARB,4,FALSE)&\" \"&VLOOKUP(PTA!E37,AL_NUM_ARB,6,FALSE)))","v":"X"},{"$f":"IF(OR(PTA!F37=\"\",PTA!F37=\"X\"),\"X\",IF(PTA!F37=\"*\",\"*\",VLOOKUP(PTA!F37,AL_NUM_ARB,2,FALSE)&\" \"&VLOOKUP(PTA!F37,AL_NUM_ARB,4,FALSE)&\" \"&VLOOKUP(PTA!F37,AL_NUM_ARB,6,FALSE)))","v":"X"},{"$f":"IF(OR(PTA!G37=\"\",PTA!G37=\"X\"),\"X\",IF(PTA!G37=\"*\",\"*\",VLOOKUP(PTA!G37,AL_NUM_ARB,2,FALSE)&\" \"&VLOOKUP(PTA!G37,AL_NUM_ARB,4,FALSE)&\" \"&VLOOKUP(PTA!G37,AL_NUM_ARB,6,FALSE)))","v":"X"},{"$f":"IF(OR(PTA!H37=\"\",PTA!H37=\"X\"),\"X\",IF(PTA!H37=\"*\",\"*\",VLOOKUP(PTA!H37,AL_NUM_ARB,2,FALSE)&\" \"&VLOOKUP(PTA!H37,AL_NUM_ARB,4,FALSE)&\" \"&VLOOKUP(PTA!H37,AL_NUM_ARB,6,FALSE)))","v":"X"},{"$f":"IF(OR(PTA!I37=\"\",PTA!I37=\"X\"),\"X\",IF(PTA!I37=\"*\",\"*\",VLOOKUP(PTA!I37,AL_NUM_ARB,2,FALSE)&\" \"&VLOOKUP(PTA!I37,AL_NUM_ARB,4,FALSE)&\" \"&VLOOKUP(PTA!I37,AL_NUM_ARB,6,FALSE)))","v":"X"},{"$f":"IF(OR(PTA!J37=\"\",PTA!J37=\"X\"),\"X\",IF(PTA!J37=\"*\",\"*\",VLOOKUP(PTA!J37,AL_NUM_ARB,2,FALSE)&\" \"&VLOOKUP(PTA!J37,AL_NUM_ARB,4,FALSE)&\" \"&VLOOKUP(PTA!J37,AL_NUM_ARB,6,FALSE)))","v":"X"},{"$f":"IF(OR(PTA!K37=\"\",PTA!K37=\"X\"),\"X\",IF(PTA!K37=\"*\",\"*\",VLOOKUP(PTA!K37,AL_NUM_ARB,2,FALSE)&\" \"&VLOOKUP(PTA!K37,AL_NUM_ARB,4,FALSE)&\" \"&VLOOKUP(PTA!K37,AL_NUM_ARB,6,FALSE)))","v":"X"},{"$f":"IF(OR(PTA!L37=\"\",PTA!L37=\"X\"),\"X\",IF(PTA!L37=\"*\",\"*\",VLOOKUP(PTA!L37,AL_NUM_ARB,2,FALSE)&\" \"&VLOOKUP(PTA!L37,AL_NUM_ARB,4,FALSE)&\" \"&VLOOKUP(PTA!L37,AL_NUM_ARB,6,FALSE)))","v":"X"},{"$f":"IF(OR(PTA!M37=\"\",PTA!M37=\"X\"),\"X\",IF(PTA!M37=\"*\",\"*\",VLOOKUP(PTA!M37,AL_NUM_ARB,2,FALSE)&\" \"&VLOOKUP(PTA!M37,AL_NUM_ARB,4,FALSE)&\" \"&VLOOKUP(PTA!M37,AL_NUM_ARB,6,FALSE)))","v":"X"},{"$f":"IF(OR(PTA!N37=\"\",PTA!N37=\"X\"),\"X\",IF(PTA!N37=\"*\",\"*\",VLOOKUP(PTA!N37,AL_NUM_ARB,2,FALSE)&\" \"&VLOOKUP(PTA!N37,AL_NUM_ARB,4,FALSE)&\" \"&VLOOKUP(PTA!N37,AL_NUM_ARB,6,FALSE)))","v":"X"},{"$f":"IF(OR(PTA!O37=\"\",PTA!O37=\"X\"),\"X\",IF(PTA!O37=\"*\",\"*\",VLOOKUP(PTA!O37,AL_NUM_ARB,2,FALSE)&\" \"&VLOOKUP(PTA!O37,AL_NUM_ARB,4,FALSE)&\" \"&VLOOKUP(PTA!O37,AL_NUM_ARB,6,FALSE)))","v":"X"},{"$f":"IF(OR(PTA!P37=\"\",PTA!P37=\"X\"),\"X\",IF(PTA!P37=\"*\",\"*\",VLOOKUP(PTA!P37,AL_NUM_ARB,2,FALSE)&\" \"&VLOOKUP(PTA!P37,AL_NUM_ARB,4,FALSE)&\" \"&VLOOKUP(PTA!P37,AL_NUM_ARB,6,FALSE)))","v":"X"},{"$f":"IF(OR(PTA!Q37=\"\",PTA!Q37=\"X\"),\"X\",IF(PTA!Q37=\"*\",\"*\",VLOOKUP(PTA!Q37,AL_NUM_ARB,2,FALSE)&\" \"&VLOOKUP(PTA!Q37,AL_NUM_ARB,4,FALSE)&\" \"&VLOOKUP(PTA!Q37,AL_NUM_ARB,6,FALSE)))","v":"X"},{"$f":"IF(OR(PTA!R37=\"\",PTA!R37=\"X\"),\"X\",IF(PTA!R37=\"*\",\"*\",VLOOKUP(PTA!R37,AL_NUM_ARB,2,FALSE)&\" \"&VLOOKUP(PTA!R37,AL_NUM_ARB,4,FALSE)&\" \"&VLOOKUP(PTA!R37,AL_NUM_ARB,6,FALSE)))","v":"X"},{"$f":"IF(OR(PTA!S37=\"\",PTA!S37=\"X\"),\"X\",IF(PTA!S37=\"*\",\"*\",VLOOKUP(PTA!S37,AL_NUM_ARB,2,FALSE)&\" \"&VLOOKUP(PTA!S37,AL_NUM_ARB,4,FALSE)&\" \"&VLOOKUP(PTA!S37,AL_NUM_ARB,6,FALSE)))","v":"X"},{"$f":"IF(OR(PTA!T37=\"\",PTA!T37=\"X\"),\"X\",IF(PTA!T37=\"*\",\"*\",VLOOKUP(PTA!T37,AL_NUM_ARB,2,FALSE)&\" \"&VLOOKUP(PTA!T37,AL_NUM_ARB,4,FALSE)&\" \"&VLOOKUP(PTA!T37,AL_NUM_ARB,6,FALSE)))","v":"X"},{"$f":"IF(OR(PTA!U37=\"\",PTA!U37=\"X\"),\"X\",IF(PTA!U37=\"*\",\"*\",VLOOKUP(PTA!U37,AL_NUM_ARB,2,FALSE)&\" \"&VLOOKUP(PTA!U37,AL_NUM_ARB,4,FALSE)&\" \"&VLOOKUP(PTA!U37,AL_NUM_ARB,6,FALSE)))","v":"X"},{"$f":"IF(OR(PTA!V37=\"\",PTA!V37=\"X\"),\"X\",IF(PTA!V37=\"*\",\"*\",VLOOKUP(PTA!V37,AL_NUM_ARB,2,FALSE)&\" \"&VLOOKUP(PTA!V37,AL_NUM_ARB,4,FALSE)&\" \"&VLOOKUP(PTA!V37,AL_NUM_ARB,6,FALSE)))","v":"X"},{"$f":"IF(OR(PTA!W37=\"\",PTA!W37=\"X\"),\"X\",IF(PTA!W37=\"*\",\"*\",VLOOKUP(PTA!W37,AL_NUM_ARB,2,FALSE)&\" \"&VLOOKUP(PTA!W37,AL_NUM_ARB,4,FALSE)&\" \"&VLOOKUP(PTA!W37,AL_NUM_ARB,6,FALSE)))","v":"X"},{"$f":"IF(OR(PTA!X37=\"\",PTA!X37=\"X\"),\"X\",IF(PTA!X37=\"*\",\"*\",VLOOKUP(PTA!X37,AL_NUM_ARB,2,FALSE)&\" \"&VLOOKUP(PTA!X37,AL_NUM_ARB,4,FALSE)&\" \"&VLOOKUP(PTA!X37,AL_NUM_ARB,6,FALSE)))","v":"X"},{"$f":"IF(OR(PTA!Y37=\"\",PTA!Y37=\"X\"),\"X\",IF(PTA!Y37=\"*\",\"*\",VLOOKUP(PTA!Y37,AL_NUM_ARB,2,FALSE)&\" \"&VLOOKUP(PTA!Y37,AL_NUM_ARB,4,FALSE)&\" \"&VLOOKUP(PTA!Y37,AL_NUM_ARB,6,FALSE)))","v":"X"},{"$f":"IF(OR(PTA!Z37=\"\",PTA!Z37=\"X\"),\"X\",IF(PTA!Z37=\"*\",\"*\",VLOOKUP(PTA!Z37,AL_NUM_ARB,2,FALSE)&\" \"&VLOOKUP(PTA!Z37,AL_NUM_ARB,4,FALSE)&\" \"&VLOOKUP(PTA!Z37,AL_NUM_ARB,6,FALSE)))","v":"X"},{"$f":"IF(OR(PTA!AA37=\"\",PTA!AA37=\"X\"),\"X\",IF(PTA!AA37=\"*\",\"*\",VLOOKUP(PTA!AA37,AL_NUM_ARB,2,FALSE)&\" \"&VLOOKUP(PTA!AA37,AL_NUM_ARB,4,FALSE)&\" \"&VLOOKUP(PTA!AA37,AL_NUM_ARB,6,FALSE)))","v":"X"},{"$f":"IF(OR(PTA!AB37=\"\",PTA!AB37=\"X\"),\"X\",IF(PTA!AB37=\"*\",\"*\",VLOOKUP(PTA!AB37,AL_NUM_ARB,2,FALSE)&\" \"&VLOOKUP(PTA!AB37,AL_NUM_ARB,4,FALSE)&\" \"&VLOOKUP(PTA!AB37,AL_NUM_ARB,6,FALSE)))","v":"X"},{"$f":"IF(OR(PTA!AC37=\"\",PTA!AC37=\"X\"),\"X\",IF(PTA!AC37=\"*\",\"*\",VLOOKUP(PTA!AC37,AL_NUM_ARB,2,FALSE)&\" \"&VLOOKUP(PTA!AC37,AL_NUM_ARB,4,FALSE)&\" \"&VLOOKUP(PTA!AC37,AL_NUM_ARB,6,FALSE)))","v":"X"},{"$f":"IF(OR(PTA!AD37=\"\",PTA!AD37=\"X\"),\"X\",IF(PTA!AD37=\"*\",\"*\",VLOOKUP(PTA!AD37,AL_NUM_ARB,2,FALSE)&\" \"&VLOOKUP(PTA!AD37,AL_NUM_ARB,4,FALSE)&\" \"&VLOOKUP(PTA!AD37,AL_NUM_ARB,6,FALSE)))","v":"X"},{"$f":"IF(OR(PTA!AE37=\"\",PTA!AE37=\"X\"),\"X\",IF(PTA!AE37=\"*\",\"*\",VLOOKUP(PTA!AE37,AL_NUM_ARB,2,FALSE)&\" \"&VLOOKUP(PTA!AE37,AL_NUM_ARB,4,FALSE)&\" \"&VLOOKUP(PTA!AE37,AL_NUM_ARB,6,FALSE)))","v":"X"},{"$f":"IF(OR(PTA!AF37=\"\",PTA!AF37=\"X\"),\"X\",IF(PTA!AF37=\"*\",\"*\",VLOOKUP(PTA!AF37,AL_NUM_ARB,2,FALSE)&\" \"&VLOOKUP(PTA!AF37,AL_NUM_ARB,4,FALSE)&\" \"&VLOOKUP(PTA!AF37,AL_NUM_ARB,6,FALSE)))","v":"X"},{"$f":"IF(OR(PTA!AG37=\"\",PTA!AG37=\"X\"),\"X\",IF(PTA!AG37=\"*\",\"*\",VLOOKUP(PTA!AG37,AL_NUM_ARB,2,FALSE)&\" \"&VLOOKUP(PTA!AG37,AL_NUM_ARB,4,FALSE)&\" \"&VLOOKUP(PTA!AG37,AL_NUM_ARB,6,FALSE)))","v":"X"},{"$f":"IF(OR(PTA!AH37=\"\",PTA!AH37=\"X\"),\"X\",IF(PTA!AH37=\"*\",\"*\",VLOOKUP(PTA!AH37,AL_NUM_ARB,2,FALSE)&\" \"&VLOOKUP(PTA!AH37,AL_NUM_ARB,4,FALSE)&\" \"&VLOOKUP(PTA!AH37,AL_NUM_ARB,6,FALSE)))","v":"X"},{"$f":"IF(OR(PTA!AI37=\"\",PTA!AI37=\"X\"),\"X\",IF(PTA!AI37=\"*\",\"*\",VLOOKUP(PTA!AI37,AL_NUM_ARB,2,FALSE)&\" \"&VLOOKUP(PTA!AI37,AL_NUM_ARB,4,FALSE)&\" \"&VLOOKUP(PTA!AI37,AL_NUM_ARB,6,FALSE)))","v":"X"},{"$f":"IF(OR(PTA!AJ37=\"\",PTA!AJ37=\"X\"),\"X\",IF(PTA!AJ37=\"*\",\"*\",VLOOKUP(PTA!AJ37,AL_NUM_ARB,2,FALSE)&\" \"&VLOOKUP(PTA!AJ37,AL_NUM_ARB,4,FALSE)&\" \"&VLOOKUP(PTA!AJ37,AL_NUM_ARB,6,FALSE)))","v":"X"},{"$f":"IF(OR(PTA!AK37=\"\",PTA!AK37=\"X\"),\"X\",IF(PTA!AK37=\"*\",\"*\",VLOOKUP(PTA!AK37,AL_NUM_ARB,2,FALSE)&\" \"&VLOOKUP(PTA!AK37,AL_NUM_ARB,4,FALSE)&\" \"&VLOOKUP(PTA!AK37,AL_NUM_ARB,6,FALSE)))","v":"X"},{"$f":"IF(OR(PTA!AL37=\"\",PTA!AL37=\"X\"),\"X\",IF(PTA!AL37=\"*\",\"*\",VLOOKUP(PTA!AL37,AL_NUM_ARB,2,FALSE)&\" \"&VLOOKUP(PTA!AL37,AL_NUM_ARB,4,FALSE)&\" \"&VLOOKUP(PTA!AL37,AL_NUM_ARB,6,FALSE)))","v":"X"},{"$f":"IF(OR(PTA!AM37=\"\",PTA!AM37=\"X\"),\"X\",IF(PTA!AM37=\"*\",\"*\",VLOOKUP(PTA!AM37,AL_NUM_ARB,2,FALSE)&\" \"&VLOOKUP(PTA!AM37,AL_NUM_ARB,4,FALSE)&\" \"&VLOOKUP(PTA!AM37,AL_NUM_ARB,6,FALSE)))","v":"X"},{"$f":"IF(OR(PTA!AN37=\"\",PTA!AN37=\"X\"),\"X\",IF(PTA!AN37=\"*\",\"*\",VLOOKUP(PTA!AN37,AL_NUM_ARB,2,FALSE)&\" \"&VLOOKUP(PTA!AN37,AL_NUM_ARB,4,FALSE)&\" \"&VLOOKUP(PTA!AN37,AL_NUM_ARB,6,FALSE)))","v":"X"},{"$f":"IF(OR(PTA!AO37=\"\",PTA!AO37=\"X\"),\"X\",IF(PTA!AO37=\"*\",\"*\",VLOOKUP(PTA!AO37,AL_NUM_ARB,2,FALSE)&\" \"&VLOOKUP(PTA!AO37,AL_NUM_ARB,4,FALSE)&\" \"&VLOOKUP(PTA!AO37,AL_NUM_ARB,6,FALSE)))","v":"X"},{"$f":"IF(OR(PTA!AP37=\"\",PTA!AP37=\"X\"),\"X\",IF(PTA!AP37=\"*\",\"*\",VLOOKUP(PTA!AP37,AL_NUM_ARB,2,FALSE)&\" \"&VLOOKUP(PTA!AP37,AL_NUM_ARB,4,FALSE)&\" \"&VLOOKUP(PTA!AP37,AL_NUM_ARB,6,FALSE)))","v":"X"},{"$f":"IF(OR(PTA!AQ37=\"\",PTA!AQ37=\"X\"),\"X\",IF(PTA!AQ37=\"*\",\"*\",VLOOKUP(PTA!AQ37,AL_NUM_ARB,2,FALSE)&\" \"&VLOOKUP(PTA!AQ37,AL_NUM_ARB,4,FALSE)&\" \"&VLOOKUP(PTA!AQ37,AL_NUM_ARB,6,FALSE)))","v":"X"},{"$f":"IF(OR(PTA!AR37=\"\",PTA!AR37=\"X\"),\"X\",IF(PTA!AR37=\"*\",\"*\",VLOOKUP(PTA!AR37,AL_NUM_ARB,2,FALSE)&\" \"&VLOOKUP(PTA!AR37,AL_NUM_ARB,4,FALSE)&\" \"&VLOOKUP(PTA!AR37,AL_NUM_ARB,6,FALSE)))","v":"X"},{"$f":"IF(OR(PTA!AS37=\"\",PTA!AS37=\"X\"),\"X\",IF(PTA!AS37=\"*\",\"*\",VLOOKUP(PTA!AS37,AL_NUM_ARB,2,FALSE)&\" \"&VLOOKUP(PTA!AS37,AL_NUM_ARB,4,FALSE)&\" \"&VLOOKUP(PTA!AS37,AL_NUM_ARB,6,FALSE)))","v":"X"},{"$f":"IF(OR(PTA!AT37=\"\",PTA!AT37=\"X\"),\"X\",IF(PTA!AT37=\"*\",\"*\",VLOOKUP(PTA!AT37,AL_NUM_ARB,2,FALSE)&\" \"&VLOOKUP(PTA!AT37,AL_NUM_ARB,4,FALSE)&\" \"&VLOOKUP(PTA!AT37,AL_NUM_ARB,6,FALSE)))","v":"X"},{"$f":"IF(OR(PTA!AU37=\"\",PTA!AU37=\"X\"),\"X\",IF(PTA!AU37=\"*\",\"*\",VLOOKUP(PTA!AU37,AL_NUM_ARB,2,FALSE)&\" \"&VLOOKUP(PTA!AU37,AL_NUM_ARB,4,FALSE)&\" \"&VLOOKUP(PTA!AU37,AL_NUM_ARB,6,FALSE)))","v":"X"},{"$f":"IF(OR(PTA!AV37=\"\",PTA!AV37=\"X\"),\"X\",IF(PTA!AV37=\"*\",\"*\",VLOOKUP(PTA!AV37,AL_NUM_ARB,2,FALSE)&\" \"&VLOOKUP(PTA!AV37,AL_NUM_ARB,4,FALSE)&\" \"&VLOOKUP(PTA!AV37,AL_NUM_ARB,6,FALSE)))","v":"X"},{"$f":"IF(OR(PTA!AW37=\"\",PTA!AW37=\"X\"),\"X\",IF(PTA!AW37=\"*\",\"*\",VLOOKUP(PTA!AW37,AL_NUM_ARB,2,FALSE)&\" \"&VLOOKUP(PTA!AW37,AL_NUM_ARB,4,FALSE)&\" \"&VLOOKUP(PTA!AW37,AL_NUM_ARB,6,FALSE)))","v":"X"},{"$f":"IF(OR(PTA!AX37=\"\",PTA!AX37=\"X\"),\"X\",IF(PTA!AX37=\"*\",\"*\",VLOOKUP(PTA!AX37,AL_NUM_ARB,2,FALSE)&\" \"&VLOOKUP(PTA!AX37,AL_NUM_ARB,4,FALSE)&\" \"&VLOOKUP(PTA!AX37,AL_NUM_ARB,6,FALSE)))","v":"X"},{"$f":"IF(OR(PTA!AY37=\"\",PTA!AY37=\"X\"),\"X\",IF(PTA!AY37=\"*\",\"*\",VLOOKUP(PTA!AY37,AL_NUM_ARB,2,FALSE)&\" \"&VLOOKUP(PTA!AY37,AL_NUM_ARB,4,FALSE)&\" \"&VLOOKUP(PTA!AY37,AL_NUM_ARB,6,FALSE)))","v":"X"},{"$f":"IF(OR(PTA!AZ37=\"\",PTA!AZ37=\"X\"),\"X\",IF(PTA!AZ37=\"*\",\"*\",VLOOKUP(PTA!AZ37,AL_NUM_ARB,2,FALSE)&\" \"&VLOOKUP(PTA!AZ37,AL_NUM_ARB,4,FALSE)&\" \"&VLOOKUP(PTA!AZ37,AL_NUM_ARB,6,FALSE)))","v":"X"},{"$f":"IF(OR(PTA!BA37=\"\",PTA!BA37=\"X\"),\"X\",IF(PTA!BA37=\"*\",\"*\",VLOOKUP(PTA!BA37,AL_NUM_ARB,2,FALSE)&\" \"&VLOOKUP(PTA!BA37,AL_NUM_ARB,4,FALSE)&\" \"&VLOOKUP(PTA!BA37,AL_NUM_ARB,6,FALSE)))","v":"X"},{"$f":"IF(OR(PTA!BB37=\"\",PTA!BB37=\"X\"),\"X\",IF(PTA!BB37=\"*\",\"*\",VLOOKUP(PTA!BB37,AL_NUM_ARB,2,FALSE)&\" \"&VLOOKUP(PTA!BB37,AL_NUM_ARB,4,FALSE)&\" \"&VLOOKUP(PTA!BB37,AL_NUM_ARB,6,FALSE)))","v":"X"},{"$f":"IF(OR(PTA!BC37=\"\",PTA!BC37=\"X\"),\"X\",IF(PTA!BC37=\"*\",\"*\",VLOOKUP(PTA!BC37,AL_NUM_ARB,2,FALSE)&\" \"&VLOOKUP(PTA!BC37,AL_NUM_ARB,4,FALSE)&\" \"&VLOOKUP(PTA!BC37,AL_NUM_ARB,6,FALSE)))","v":"X"},{"$f":"IF(OR(PTA!BD37=\"\",PTA!BD37=\"X\"),\"X\",IF(PTA!BD37=\"*\",\"*\",VLOOKUP(PTA!BD37,AL_NUM_ARB,2,FALSE)&\" \"&VLOOKUP(PTA!BD37,AL_NUM_ARB,4,FALSE)&\" \"&VLOOKUP(PTA!BD37,AL_NUM_ARB,6,FALSE)))","v":"X"},{"$f":"IF(OR(PTA!BE37=\"\",PTA!BE37=\"X\"),\"X\",IF(PTA!BE37=\"*\",\"*\",VLOOKUP(PTA!BE37,AL_NUM_ARB,2,FALSE)&\" \"&VLOOKUP(PTA!BE37,AL_NUM_ARB,4,FALSE)&\" \"&VLOOKUP(PTA!BE37,AL_NUM_ARB,6,FALSE)))","v":"X"},{"$f":"IF(OR(PTA!BF37=\"\",PTA!BF37=\"X\"),\"X\",IF(PTA!BF37=\"*\",\"*\",VLOOKUP(PTA!BF37,AL_NUM_ARB,2,FALSE)&\" \"&VLOOKUP(PTA!BF37,AL_NUM_ARB,4,FALSE)&\" \"&VLOOKUP(PTA!BF37,AL_NUM_ARB,6,FALSE)))","v":"X"},{"$f":"IF(OR(PTA!BG37=\"\",PTA!BG37=\"X\"),\"X\",IF(PTA!BG37=\"*\",\"*\",VLOOKUP(PTA!BG37,AL_NUM_ARB,2,FALSE)&\" \"&VLOOKUP(PTA!BG37,AL_NUM_ARB,4,FALSE)&\" \"&VLOOKUP(PTA!BG37,AL_NUM_ARB,6,FALSE)))","v":"X"},{"$f":"IF(OR(PTA!BH37=\"\",PTA!BH37=\"X\"),\"X\",IF(PTA!BH37=\"*\",\"*\",VLOOKUP(PTA!BH37,AL_NUM_ARB,2,FALSE)&\" \"&VLOOKUP(PTA!BH37,AL_NUM_ARB,4,FALSE)&\" \"&VLOOKUP(PTA!BH37,AL_NUM_ARB,6,FALSE)))","v":"X"},{"$f":"IF(OR(PTA!BI37=\"\",PTA!BI37=\"X\"),\"X\",IF(PTA!BI37=\"*\",\"*\",VLOOKUP(PTA!BI37,AL_NUM_ARB,2,FALSE)&\" \"&VLOOKUP(PTA!BI37,AL_NUM_ARB,4,FALSE)&\" \"&VLOOKUP(PTA!BI37,AL_NUM_ARB,6,FALSE)))","v":"X"},{"$f":"IF(OR(PTA!BJ37=\"\",PTA!BJ37=\"X\"),\"X\",IF(PTA!BJ37=\"*\",\"*\",VLOOKUP(PTA!BJ37,AL_NUM_ARB,2,FALSE)&\" \"&VLOOKUP(PTA!BJ37,AL_NUM_ARB,4,FALSE)&\" \"&VLOOKUP(PTA!BJ37,AL_NUM_ARB,6,FALSE)))","v":"X"},{"$f":"IF(OR(PTA!BK37=\"\",PTA!BK37=\"X\"),\"X\",IF(PTA!BK37=\"*\",\"*\",VLOOKUP(PTA!BK37,AL_NUM_ARB,2,FALSE)&\" \"&VLOOKUP(PTA!BK37,AL_NUM_ARB,4,FALSE)&\" \"&VLOOKUP(PTA!BK37,AL_NUM_ARB,6,FALSE)))","v":"X"},{"$f":"IF(OR(PTA!BL37=\"\",PTA!BL37=\"X\"),\"X\",IF(PTA!BL37=\"*\",\"*\",VLOOKUP(PTA!BL37,AL_NUM_ARB,2,FALSE)&\" \"&VLOOKUP(PTA!BL37,AL_NUM_ARB,4,FALSE)&\" \"&VLOOKUP(PTA!BL37,AL_NUM_ARB,6,FALSE)))","v":"X"},{"$f":"IF(OR(PTA!BM37=\"\",PTA!BM37=\"X\"),\"X\",IF(PTA!BM37=\"*\",\"*\",VLOOKUP(PTA!BM37,AL_NUM_ARB,2,FALSE)&\" \"&VLOOKUP(PTA!BM37,AL_NUM_ARB,4,FALSE)&\" \"&VLOOKUP(PTA!BM37,AL_NUM_ARB,6,FALSE)))","v":"X"},{"$f":"IF(OR(PTA!BN37=\"\",PTA!BN37=\"X\"),\"X\",IF(PTA!BN37=\"*\",\"*\",VLOOKUP(PTA!BN37,AL_NUM_ARB,2,FALSE)&\" \"&VLOOKUP(PTA!BN37,AL_NUM_ARB,4,FALSE)&\" \"&VLOOKUP(PTA!BN37,AL_NUM_ARB,6,FALSE)))","v":"X"},{"$f":"IF(OR(PTA!BO37=\"\",PTA!BO37=\"X\"),\"X\",IF(PTA!BO37=\"*\",\"*\",VLOOKUP(PTA!BO37,AL_NUM_ARB,2,FALSE)&\" \"&VLOOKUP(PTA!BO37,AL_NUM_ARB,4,FALSE)&\" \"&VLOOKUP(PTA!BO37,AL_NUM_ARB,6,FALSE)))","v":"X"},{"$f":"IF(OR(PTA!BP37=\"\",PTA!BP37=\"X\"),\"X\",IF(PTA!BP37=\"*\",\"*\",VLOOKUP(PTA!BP37,AL_NUM_ARB,2,FALSE)&\" \"&VLOOKUP(PTA!BP37,AL_NUM_ARB,4,FALSE)&\" \"&VLOOKUP(PTA!BP37,AL_NUM_ARB,6,FALSE)))","v":"X"},{"$f":"IF(OR(PTA!BQ37=\"\",PTA!BQ37=\"X\"),\"X\",IF(PTA!BQ37=\"*\",\"*\",VLOOKUP(PTA!BQ37,AL_NUM_ARB,2,FALSE)&\" \"&VLOOKUP(PTA!BQ37,AL_NUM_ARB,4,FALSE)&\" \"&VLOOKUP(PTA!BQ37,AL_NUM_ARB,6,FALSE)))","v":"X"},{"$f":"IF(OR(PTA!BR37=\"\",PTA!BR37=\"X\"),\"X\",IF(PTA!BR37=\"*\",\"*\",VLOOKUP(PTA!BR37,AL_NUM_ARB,2,FALSE)&\" \"&VLOOKUP(PTA!BR37,AL_NUM_ARB,4,FALSE)&\" \"&VLOOKUP(PTA!BR37,AL_NUM_ARB,6,FALSE)))","v":"X"},{"$f":"IF(OR(PTA!BT37=\"\",PTA!BT37=\"X\"),\"X\",VLOOKUP(PTA!BT37,AL_NUM_ARB,2,FALSE)&\" \"&VLOOKUP(PTA!BT37,AL_NUM_ARB,4,FALSE)&\" \"&VLOOKUP(PTA!BT37,AL_NUM_ARB,6,FALSE))","v":"X"},{"$f":"IF(OR(PTA!BU37=\"\",PTA!BU37=\"X\"),\"X\",VLOOKUP(PTA!BU37,AL_NUM_ARB,2,FALSE)&\" \"&VLOOKUP(PTA!BU37,AL_NUM_ARB,4,FALSE)&\" \"&VLOOKUP(PTA!BU37,AL_NUM_ARB,6,FALSE))","v":"X"},{"$f":"IF(OR(PTA!BV37=\"\",PTA!BV37=\"X\"),\"X\",VLOOKUP(PTA!BV37,AL_NUM_ARB,2,FALSE)&\" \"&VLOOKUP(PTA!BV37,AL_NUM_ARB,4,FALSE)&\" \"&VLOOKUP(PTA!BV37,AL_NUM_ARB,6,FALSE))","v":"X"},{"$f":"IF(OR(PTA!BW37=\"\",PTA!BW37=\"X\"),\"X\",VLOOKUP(PTA!BW37,AL_NUM_ARB,2,FALSE)&\" \"&VLOOKUP(PTA!BW37,AL_NUM_ARB,4,FALSE)&\" \"&VLOOKUP(PTA!BW37,AL_NUM_ARB,6,FALSE))","v":"X"},"14:00:00"]
[{"$f":"PTA!A38","v":""},{"$f":"PTA!B38","v":"00:00:00"},{"$f":"PTA!C38","v":32},{"$f":"PTA!D38","v":0},{"$f":"IF(OR(PTA!E38=\"\",PTA!E38=\"X\"),\"X\",IF(PTA!E38=\"*\",\"*\",VLOOKUP(PTA!E38,AL_NUM_ARB,2,FALSE)&\" \"&VLOOKUP(PTA!E38,AL_NUM_ARB,4,FALSE)&\" \"&VLOOKUP(PTA!E38,AL_NUM_ARB,6,FALSE)))","v":"X"},{"$f":"IF(OR(PTA!F38=\"\",PTA!F38=\"X\"),\"X\",IF(PTA!F38=\"*\",\"*\",VLOOKUP(PTA!F38,AL_NUM_ARB,2,FALSE)&\" \"&VLOOKUP(PTA!F38,AL_NUM_ARB,4,FALSE)&\" \"&VLOOKUP(PTA!F38,AL_NUM_ARB,6,FALSE)))","v":"X"},{"$f":"IF(OR(PTA!G38=\"\",PTA!G38=\"X\"),\"X\",IF(PTA!G38=\"*\",\"*\",VLOOKUP(PTA!G38,AL_NUM_ARB,2,FALSE)&\" \"&VLOOKUP(PTA!G38,AL_NUM_ARB,4,FALSE)&\" \"&VLOOKUP(PTA!G38,AL_NUM_ARB,6,FALSE)))","v":"X"},{"$f":"IF(OR(PTA!H38=\"\",PTA!H38=\"X\"),\"X\",IF(PTA!H38=\"*\",\"*\",VLOOKUP(PTA!H38,AL_NUM_ARB,2,FALSE)&\" \"&VLOOKUP(PTA!H38,AL_NUM_ARB,4,FALSE)&\" \"&VLOOKUP(PTA!H38,AL_NUM_ARB,6,FALSE)))","v":"X"},{"$f":"IF(OR(PTA!I38=\"\",PTA!I38=\"X\"),\"X\",IF(PTA!I38=\"*\",\"*\",VLOOKUP(PTA!I38,AL_NUM_ARB,2,FALSE)&\" \"&VLOOKUP(PTA!I38,AL_NUM_ARB,4,FALSE)&\" \"&VLOOKUP(PTA!I38,AL_NUM_ARB,6,FALSE)))","v":"X"},{"$f":"IF(OR(PTA!J38=\"\",PTA!J38=\"X\"),\"X\",IF(PTA!J38=\"*\",\"*\",VLOOKUP(PTA!J38,AL_NUM_ARB,2,FALSE)&\" \"&VLOOKUP(PTA!J38,AL_NUM_ARB,4,FALSE)&\" \"&VLOOKUP(PTA!J38,AL_NUM_ARB,6,FALSE)))","v":"X"},{"$f":"IF(OR(PTA!K38=\"\",PTA!K38=\"X\"),\"X\",IF(PTA!K38=\"*\",\"*\",VLOOKUP(PTA!K38,AL_NUM_ARB,2,FALSE)&\" \"&VLOOKUP(PTA!K38,AL_NUM_ARB,4,FALSE)&\" \"&VLOOKUP(PTA!K38,AL_NUM_ARB,6,FALSE)))","v":"X"},{"$f":"IF(OR(PTA!L38=\"\",PTA!L38=\"X\"),\"X\",IF(PTA!L38=\"*\",\"*\",VLOOKUP(PTA!L38,AL_NUM_ARB,2,FALSE)&\" \"&VLOOKUP(PTA!L38,AL_NUM_ARB,4,FALSE)&\" \"&VLOOKUP(PTA!L38,AL_NUM_ARB,6,FALSE)))","v":"X"},{"$f":"IF(OR(PTA!M38=\"\",PTA!M38=\"X\"),\"X\",IF(PTA!M38=\"*\",\"*\",VLOOKUP(PTA!M38,AL_NUM_ARB,2,FALSE)&\" \"&VLOOKUP(PTA!M38,AL_NUM_ARB,4,FALSE)&\" \"&VLOOKUP(PTA!M38,AL_NUM_ARB,6,FALSE)))","v":"X"},{"$f":"IF(OR(PTA!N38=\"\",PTA!N38=\"X\"),\"X\",IF(PTA!N38=\"*\",\"*\",VLOOKUP(PTA!N38,AL_NUM_ARB,2,FALSE)&\" \"&VLOOKUP(PTA!N38,AL_NUM_ARB,4,FALSE)&\" \"&VLOOKUP(PTA!N38,AL_NUM_ARB,6,FALSE)))","v":"X"},{"$f":"IF(OR(PTA!O38=\"\",PTA!O38=\"X\"),\"X\",IF(PTA!O38=\"*\",\"*\",VLOOKUP(PTA!O38,AL_NUM_ARB,2,FALSE)&\" \"&VLOOKUP(PTA!O38,AL_NUM_ARB,4,FALSE)&\" \"&VLOOKUP(PTA!O38,AL_NUM_ARB,6,FALSE)))","v":"X"},{"$f":"IF(OR(PTA!P38=\"\",PTA!P38=\"X\"),\"X\",IF(PTA!P38=\"*\",\"*\",VLOOKUP(PTA!P38,AL_NUM_ARB,2,FALSE)&\" \"&VLOOKUP(PTA!P38,AL_NUM_ARB,4,FALSE)&\" \"&VLOOKUP(PTA!P38,AL_NUM_ARB,6,FALSE)))","v":"X"},{"$f":"IF(OR(PTA!Q38=\"\",PTA!Q38=\"X\"),\"X\",IF(PTA!Q38=\"*\",\"*\",VLOOKUP(PTA!Q38,AL_NUM_ARB,2,FALSE)&\" \"&VLOOKUP(PTA!Q38,AL_NUM_ARB,4,FALSE)&\" \"&VLOOKUP(PTA!Q38,AL_NUM_ARB,6,FALSE)))","v":"X"},{"$f":"IF(OR(PTA!R38=\"\",PTA!R38=\"X\"),\"X\",IF(PTA!R38=\"*\",\"*\",VLOOKUP(PTA!R38,AL_NUM_ARB,2,FALSE)&\" \"&VLOOKUP(PTA!R38,AL_NUM_ARB,4,FALSE)&\" \"&VLOOKUP(PTA!R38,AL_NUM_ARB,6,FALSE)))","v":"X"},{"$f":"IF(OR(PTA!S38=\"\",PTA!S38=\"X\"),\"X\",IF(PTA!S38=\"*\",\"*\",VLOOKUP(PTA!S38,AL_NUM_ARB,2,FALSE)&\" \"&VLOOKUP(PTA!S38,AL_NUM_ARB,4,FALSE)&\" \"&VLOOKUP(PTA!S38,AL_NUM_ARB,6,FALSE)))","v":"X"},{"$f":"IF(OR(PTA!T38=\"\",PTA!T38=\"X\"),\"X\",IF(PTA!T38=\"*\",\"*\",VLOOKUP(PTA!T38,AL_NUM_ARB,2,FALSE)&\" \"&VLOOKUP(PTA!T38,AL_NUM_ARB,4,FALSE)&\" \"&VLOOKUP(PTA!T38,AL_NUM_ARB,6,FALSE)))","v":"X"},{"$f":"IF(OR(PTA!U38=\"\",PTA!U38=\"X\"),\"X\",IF(PTA!U38=\"*\",\"*\",VLOOKUP(PTA!U38,AL_NUM_ARB,2,FALSE)&\" \"&VLOOKUP(PTA!U38,AL_NUM_ARB,4,FALSE)&\" \"&VLOOKUP(PTA!U38,AL_NUM_ARB,6,FALSE)))","v":"X"},{"$f":"IF(OR(PTA!V38=\"\",PTA!V38=\"X\"),\"X\",IF(PTA!V38=\"*\",\"*\",VLOOKUP(PTA!V38,AL_NUM_ARB,2,FALSE)&\" \"&VLOOKUP(PTA!V38,AL_NUM_ARB,4,FALSE)&\" \"&VLOOKUP(PTA!V38,AL_NUM_ARB,6,FALSE)))","v":"X"},{"$f":"IF(OR(PTA!W38=\"\",PTA!W38=\"X\"),\"X\",IF(PTA!W38=\"*\",\"*\",VLOOKUP(PTA!W38,AL_NUM_ARB,2,FALSE)&\" \"&VLOOKUP(PTA!W38,AL_NUM_ARB,4,FALSE)&\" \"&VLOOKUP(PTA!W38,AL_NUM_ARB,6,FALSE)))","v":"X"},{"$f":"IF(OR(PTA!X38=\"\",PTA!X38=\"X\"),\"X\",IF(PTA!X38=\"*\",\"*\",VLOOKUP(PTA!X38,AL_NUM_ARB,2,FALSE)&\" \"&VLOOKUP(PTA!X38,AL_NUM_ARB,4,FALSE)&\" \"&VLOOKUP(PTA!X38,AL_NUM_ARB,6,FALSE)))","v":"X"},{"$f":"IF(OR(PTA!Y38=\"\",PTA!Y38=\"X\"),\"X\",IF(PTA!Y38=\"*\",\"*\",VLOOKUP(PTA!Y38,AL_NUM_ARB,2,FALSE)&\" \"&VLOOKUP(PTA!Y38,AL_NUM_ARB,4,FALSE)&\" \"&VLOOKUP(PTA!Y38,AL_NUM_ARB,6,FALSE)))","v":"X"},{"$f":"IF(OR(PTA!Z38=\"\",PTA!Z38=\"X\"),\"X\",IF(PTA!Z38=\"*\",\"*\",VLOOKUP(PTA!Z38,AL_NUM_ARB,2,FALSE)&\" \"&VLOOKUP(PTA!Z38,AL_NUM_ARB,4,FALSE)&\" \"&VLOOKUP(PTA!Z38,AL_NUM_ARB,6,FALSE)))","v":"X"},{"$f":"IF(OR(PTA!AA38=\"\",PTA!AA38=\"X\"),\"X\",IF(PTA!AA38=\"*\",\"*\",VLOOKUP(PTA!AA38,AL_NUM_ARB,2,FALSE)&\" \"&VLOOKUP(PTA!AA38,AL_NUM_ARB,4,FALSE)&\" \"&VLOOKUP(PTA!AA38,AL_NUM_ARB,6,FALSE)))","v":"X"},{"$f":"IF(OR(PTA!AB38=\"\",PTA!AB38=\"X\"),\"X\",IF(PTA!AB38=\"*\",\"*\",VLOOKUP(PTA!AB38,AL_NUM_ARB,2,FALSE)&\" \"&VLOOKUP(PTA!AB38,AL_NUM_ARB,4,FALSE)&\" \"&VLOOKUP(PTA!AB38,AL_NUM_ARB,6,FALSE)))","v":"X"},{"$f":"IF(OR(PTA!AC38=\"\",PTA!AC38=\"X\"),\"X\",IF(PTA!AC38=\"*\",\"*\",VLOOKUP(PTA!AC38,AL_NUM_ARB,2,FALSE)&\" \"&VLOOKUP(PTA!AC38,AL_NUM_ARB,4,FALSE)&\" \"&VLOOKUP(PTA!AC38,AL_NUM_ARB,6,FALSE)))","v":"X"},{"$f":"IF(OR(PTA!AD38=\"\",PTA!AD38=\"X\"),\"X\",IF(PTA!AD38=\"*\",\"*\",VLOOKUP(PTA!AD38,AL_NUM_ARB,2,FALSE)&\" \"&VLOOKUP(PTA!AD38,AL_NUM_ARB,4,FALSE)&\" \"&VLOOKUP(PTA!AD38,AL_NUM_ARB,6,FALSE)))","v":"X"},{"$f":"IF(OR(PTA!AE38=\"\",PTA!AE38=\"X\"),\"X\",IF(PTA!AE38=\"*\",\"*\",VLOOKUP(PTA!AE38,AL_NUM_ARB,2,FALSE)&\" \"&VLOOKUP(PTA!AE38,AL_NUM_ARB,4,FALSE)&\" \"&VLOOKUP(PTA!AE38,AL_NUM_ARB,6,FALSE)))","v":"X"},{"$f":"IF(OR(PTA!AF38=\"\",PTA!AF38=\"X\"),\"X\",IF(PTA!AF38=\"*\",\"*\",VLOOKUP(PTA!AF38,AL_NUM_ARB,2,FALSE)&\" \"&VLOOKUP(PTA!AF38,AL_NUM_ARB,4,FALSE)&\" \"&VLOOKUP(PTA!AF38,AL_NUM_ARB,6,FALSE)))","v":"X"},{"$f":"IF(OR(PTA!AG38=\"\",PTA!AG38=\"X\"),\"X\",IF(PTA!AG38=\"*\",\"*\",VLOOKUP(PTA!AG38,AL_NUM_ARB,2,FALSE)&\" \"&VLOOKUP(PTA!AG38,AL_NUM_ARB,4,FALSE)&\" \"&VLOOKUP(PTA!AG38,AL_NUM_ARB,6,FALSE)))","v":"X"},{"$f":"IF(OR(PTA!AH38=\"\",PTA!AH38=\"X\"),\"X\",IF(PTA!AH38=\"*\",\"*\",VLOOKUP(PTA!AH38,AL_NUM_ARB,2,FALSE)&\" \"&VLOOKUP(PTA!AH38,AL_NUM_ARB,4,FALSE)&\" \"&VLOOKUP(PTA!AH38,AL_NUM_ARB,6,FALSE)))","v":"X"},{"$f":"IF(OR(PTA!AI38=\"\",PTA!AI38=\"X\"),\"X\",IF(PTA!AI38=\"*\",\"*\",VLOOKUP(PTA!AI38,AL_NUM_ARB,2,FALSE)&\" \"&VLOOKUP(PTA!AI38,AL_NUM_ARB,4,FALSE)&\" \"&VLOOKUP(PTA!AI38,AL_NUM_ARB,6,FALSE)))","v":"X"},{"$f":"IF(OR(PTA!AJ38=\"\",PTA!AJ38=\"X\"),\"X\",IF(PTA!AJ38=\"*\",\"*\",VLOOKUP(PTA!AJ38,AL_NUM_ARB,2,FALSE)&\" \"&VLOOKUP(PTA!AJ38,AL_NUM_ARB,4,FALSE)&\" \"&VLOOKUP(PTA!AJ38,AL_NUM_ARB,6,FALSE)))","v":"X"},{"$f":"IF(OR(PTA!AK38=\"\",PTA!AK38=\"X\"),\"X\",IF(PTA!AK38=\"*\",\"*\",VLOOKUP(PTA!AK38,AL_NUM_ARB,2,FALSE)&\" \"&VLOOKUP(PTA!AK38,AL_NUM_ARB,4,FALSE)&\" \"&VLOOKUP(PTA!AK38,AL_NUM_ARB,6,FALSE)))","v":"X"},{"$f":"IF(OR(PTA!AL38=\"\",PTA!AL38=\"X\"),\"X\",IF(PTA!AL38=\"*\",\"*\",VLOOKUP(PTA!AL38,AL_NUM_ARB,2,FALSE)&\" \"&VLOOKUP(PTA!AL38,AL_NUM_ARB,4,FALSE)&\" \"&VLOOKUP(PTA!AL38,AL_NUM_ARB,6,FALSE)))","v":"X"},{"$f":"IF(OR(PTA!AM38=\"\",PTA!AM38=\"X\"),\"X\",IF(PTA!AM38=\"*\",\"*\",VLOOKUP(PTA!AM38,AL_NUM_ARB,2,FALSE)&\" \"&VLOOKUP(PTA!AM38,AL_NUM_ARB,4,FALSE)&\" \"&VLOOKUP(PTA!AM38,AL_NUM_ARB,6,FALSE)))","v":"X"},{"$f":"IF(OR(PTA!AN38=\"\",PTA!AN38=\"X\"),\"X\",IF(PTA!AN38=\"*\",\"*\",VLOOKUP(PTA!AN38,AL_NUM_ARB,2,FALSE)&\" \"&VLOOKUP(PTA!AN38,AL_NUM_ARB,4,FALSE)&\" \"&VLOOKUP(PTA!AN38,AL_NUM_ARB,6,FALSE)))","v":"X"},{"$f":"IF(OR(PTA!AO38=\"\",PTA!AO38=\"X\"),\"X\",IF(PTA!AO38=\"*\",\"*\",VLOOKUP(PTA!AO38,AL_NUM_ARB,2,FALSE)&\" \"&VLOOKUP(PTA!AO38,AL_NUM_ARB,4,FALSE)&\" \"&VLOOKUP(PTA!AO38,AL_NUM_ARB,6,FALSE)))","v":"X"},{"$f":"IF(OR(PTA!AP38=\"\",PTA!AP38=\"X\"),\"X\",IF(PTA!AP38=\"*\",\"*\",VLOOKUP(PTA!AP38,AL_NUM_ARB,2,FALSE)&\" \"&VLOOKUP(PTA!AP38,AL_NUM_ARB,4,FALSE)&\" \"&VLOOKUP(PTA!AP38,AL_NUM_ARB,6,FALSE)))","v":"X"},{"$f":"IF(OR(PTA!AQ38=\"\",PTA!AQ38=\"X\"),\"X\",IF(PTA!AQ38=\"*\",\"*\",VLOOKUP(PTA!AQ38,AL_NUM_ARB,2,FALSE)&\" \"&VLOOKUP(PTA!AQ38,AL_NUM_ARB,4,FALSE)&\" \"&VLOOKUP(PTA!AQ38,AL_NUM_ARB,6,FALSE)))","v":"X"},{"$f":"IF(OR(PTA!AR38=\"\",PTA!AR38=\"X\"),\"X\",IF(PTA!AR38=\"*\",\"*\",VLOOKUP(PTA!AR38,AL_NUM_ARB,2,FALSE)&\" \"&VLOOKUP(PTA!AR38,AL_NUM_ARB,4,FALSE)&\" \"&VLOOKUP(PTA!AR38,AL_NUM_ARB,6,FALSE)))","v":"X"},{"$f":"IF(OR(PTA!AS38=\"\",PTA!AS38=\"X\"),\"X\",IF(PTA!AS38=\"*\",\"*\",VLOOKUP(PTA!AS38,AL_NUM_ARB,2,FALSE)&\" \"&VLOOKUP(PTA!AS38,AL_NUM_ARB,4,FALSE)&\" \"&VLOOKUP(PTA!AS38,AL_NUM_ARB,6,FALSE)))","v":"X"},{"$f":"IF(OR(PTA!AT38=\"\",PTA!AT38=\"X\"),\"X\",IF(PTA!AT38=\"*\",\"*\",VLOOKUP(PTA!AT38,AL_NUM_ARB,2,FALSE)&\" \"&VLOOKUP(PTA!AT38,AL_NUM_ARB,4,FALSE)&\" \"&VLOOKUP(PTA!AT38,AL_NUM_ARB,6,FALSE)))","v":"X"},{"$f":"IF(OR(PTA!AU38=\"\",PTA!AU38=\"X\"),\"X\",IF(PTA!AU38=\"*\",\"*\",VLOOKUP(PTA!AU38,AL_NUM_ARB,2,FALSE)&\" \"&VLOOKUP(PTA!AU38,AL_NUM_ARB,4,FALSE)&\" \"&VLOOKUP(PTA!AU38,AL_NUM_ARB,6,FALSE)))","v":"X"},{"$f":"IF(OR(PTA!AV38=\"\",PTA!AV38=\"X\"),\"X\",IF(PTA!AV38=\"*\",\"*\",VLOOKUP(PTA!AV38,AL_NUM_ARB,2,FALSE)&\" \"&VLOOKUP(PTA!AV38,AL_NUM_ARB,4,FALSE)&\" \"&VLOOKUP(PTA!AV38,AL_NUM_ARB,6,FALSE)))","v":"X"},{"$f":"IF(OR(PTA!AW38=\"\",PTA!AW38=\"X\"),\"X\",IF(PTA!AW38=\"*\",\"*\",VLOOKUP(PTA!AW38,AL_NUM_ARB,2,FALSE)&\" \"&VLOOKUP(PTA!AW38,AL_NUM_ARB,4,FALSE)&\" \"&VLOOKUP(PTA!AW38,AL_NUM_ARB,6,FALSE)))","v":"X"},{"$f":"IF(OR(PTA!AX38=\"\",PTA!AX38=\"X\"),\"X\",IF(PTA!AX38=\"*\",\"*\",VLOOKUP(PTA!AX38,AL_NUM_ARB,2,FALSE)&\" \"&VLOOKUP(PTA!AX38,AL_NUM_ARB,4,FALSE)&\" \"&VLOOKUP(PTA!AX38,AL_NUM_ARB,6,FALSE)))","v":"X"},{"$f":"IF(OR(PTA!AY38=\"\",PTA!AY38=\"X\"),\"X\",IF(PTA!AY38=\"*\",\"*\",VLOOKUP(PTA!AY38,AL_NUM_ARB,2,FALSE)&\" \"&VLOOKUP(PTA!AY38,AL_NUM_ARB,4,FALSE)&\" \"&VLOOKUP(PTA!AY38,AL_NUM_ARB,6,FALSE)))","v":"X"},{"$f":"IF(OR(PTA!AZ38=\"\",PTA!AZ38=\"X\"),\"X\",IF(PTA!AZ38=\"*\",\"*\",VLOOKUP(PTA!AZ38,AL_NUM_ARB,2,FALSE)&\" \"&VLOOKUP(PTA!AZ38,AL_NUM_ARB,4,FALSE)&\" \"&VLOOKUP(PTA!AZ38,AL_NUM_ARB,6,FALSE)))","v":"X"},{"$f":"IF(OR(PTA!BA38=\"\",PTA!BA38=\"X\"),\"X\",IF(PTA!BA38=\"*\",\"*\",VLOOKUP(PTA!BA38,AL_NUM_ARB,2,FALSE)&\" \"&VLOOKUP(PTA!BA38,AL_NUM_ARB,4,FALSE)&\" \"&VLOOKUP(PTA!BA38,AL_NUM_ARB,6,FALSE)))","v":"X"},{"$f":"IF(OR(PTA!BB38=\"\",PTA!BB38=\"X\"),\"X\",IF(PTA!BB38=\"*\",\"*\",VLOOKUP(PTA!BB38,AL_NUM_ARB,2,FALSE)&\" \"&VLOOKUP(PTA!BB38,AL_NUM_ARB,4,FALSE)&\" \"&VLOOKUP(PTA!BB38,AL_NUM_ARB,6,FALSE)))","v":"X"},{"$f":"IF(OR(PTA!BC38=\"\",PTA!BC38=\"X\"),\"X\",IF(PTA!BC38=\"*\",\"*\",VLOOKUP(PTA!BC38,AL_NUM_ARB,2,FALSE)&\" \"&VLOOKUP(PTA!BC38,AL_NUM_ARB,4,FALSE)&\" \"&VLOOKUP(PTA!BC38,AL_NUM_ARB,6,FALSE)))","v":"X"},{"$f":"IF(OR(PTA!BD38=\"\",PTA!BD38=\"X\"),\"X\",IF(PTA!BD38=\"*\",\"*\",VLOOKUP(PTA!BD38,AL_NUM_ARB,2,FALSE)&\" \"&VLOOKUP(PTA!BD38,AL_NUM_ARB,4,FALSE)&\" \"&VLOOKUP(PTA!BD38,AL_NUM_ARB,6,FALSE)))","v":"X"},{"$f":"IF(OR(PTA!BE38=\"\",PTA!BE38=\"X\"),\"X\",IF(PTA!BE38=\"*\",\"*\",VLOOKUP(PTA!BE38,AL_NUM_ARB,2,FALSE)&\" \"&VLOOKUP(PTA!BE38,AL_NUM_ARB,4,FALSE)&\" \"&VLOOKUP(PTA!BE38,AL_NUM_ARB,6,FALSE)))","v":"X"},{"$f":"IF(OR(PTA!BF38=\"\",PTA!BF38=\"X\"),\"X\",IF(PTA!BF38=\"*\",\"*\",VLOOKUP(PTA!BF38,AL_NUM_ARB,2,FALSE)&\" \"&VLOOKUP(PTA!BF38,AL_NUM_ARB,4,FALSE)&\" \"&VLOOKUP(PTA!BF38,AL_NUM_ARB,6,FALSE)))","v":"X"},{"$f":"IF(OR(PTA!BG38=\"\",PTA!BG38=\"X\"),\"X\",IF(PTA!BG38=\"*\",\"*\",VLOOKUP(PTA!BG38,AL_NUM_ARB,2,FALSE)&\" \"&VLOOKUP(PTA!BG38,AL_NUM_ARB,4,FALSE)&\" \"&VLOOKUP(PTA!BG38,AL_NUM_ARB,6,FALSE)))","v":"X"},{"$f":"IF(OR(PTA!BH38=\"\",PTA!BH38=\"X\"),\"X\",IF(PTA!BH38=\"*\",\"*\",VLOOKUP(PTA!BH38,AL_NUM_ARB,2,FALSE)&\" \"&VLOOKUP(PTA!BH38,AL_NUM_ARB,4,FALSE)&\" \"&VLOOKUP(PTA!BH38,AL_NUM_ARB,6,FALSE)))","v":"X"},{"$f":"IF(OR(PTA!BI38=\"\",PTA!BI38=\"X\"),\"X\",IF(PTA!BI38=\"*\",\"*\",VLOOKUP(PTA!BI38,AL_NUM_ARB,2,FALSE)&\" \"&VLOOKUP(PTA!BI38,AL_NUM_ARB,4,FALSE)&\" \"&VLOOKUP(PTA!BI38,AL_NUM_ARB,6,FALSE)))","v":"X"},{"$f":"IF(OR(PTA!BJ38=\"\",PTA!BJ38=\"X\"),\"X\",IF(PTA!BJ38=\"*\",\"*\",VLOOKUP(PTA!BJ38,AL_NUM_ARB,2,FALSE)&\" \"&VLOOKUP(PTA!BJ38,AL_NUM_ARB,4,FALSE)&\" \"&VLOOKUP(PTA!BJ38,AL_NUM_ARB,6,FALSE)))","v":"X"},{"$f":"IF(OR(PTA!BK38=\"\",PTA!BK38=\"X\"),\"X\",IF(PTA!BK38=\"*\",\"*\",VLOOKUP(PTA!BK38,AL_NUM_ARB,2,FALSE)&\" \"&VLOOKUP(PTA!BK38,AL_NUM_ARB,4,FALSE)&\" \"&VLOOKUP(PTA!BK38,AL_NUM_ARB,6,FALSE)))","v":"X"},{"$f":"IF(OR(PTA!BL38=\"\",PTA!BL38=\"X\"),\"X\",IF(PTA!BL38=\"*\",\"*\",VLOOKUP(PTA!BL38,AL_NUM_ARB,2,FALSE)&\" \"&VLOOKUP(PTA!BL38,AL_NUM_ARB,4,FALSE)&\" \"&VLOOKUP(PTA!BL38,AL_NUM_ARB,6,FALSE)))","v":"X"},{"$f":"IF(OR(PTA!BM38=\"\",PTA!BM38=\"X\"),\"X\",IF(PTA!BM38=\"*\",\"*\",VLOOKUP(PTA!BM38,AL_NUM_ARB,2,FALSE)&\" \"&VLOOKUP(PTA!BM38,AL_NUM_ARB,4,FALSE)&\" \"&VLOOKUP(PTA!BM38,AL_NUM_ARB,6,FALSE)))","v":"X"},{"$f":"IF(OR(PTA!BN38=\"\",PTA!BN38=\"X\"),\"X\",IF(PTA!BN38=\"*\",\"*\",VLOOKUP(PTA!BN38,AL_NUM_ARB,2,FALSE)&\" \"&VLOOKUP(PTA!BN38,AL_NUM_ARB,4,FALSE)&\" \"&VLOOKUP(PTA!BN38,AL_NUM_ARB,6,FALSE)))","v":"X"},{"$f":"IF(OR(PTA!BO38=\"\",PTA!BO38=\"X\"),\"X\",IF(PTA!BO38=\"*\",\"*\",VLOOKUP(PTA!BO38,AL_NUM_ARB,2,FALSE)&\" \"&VLOOKUP(PTA!BO38,AL_NUM_ARB,4,FALSE)&\" \"&VLOOKUP(PTA!BO38,AL_NUM_ARB,6,FALSE)))","v":"X"},{"$f":"IF(OR(PTA!BP38=\"\",PTA!BP38=\"X\"),\"X\",IF(PTA!BP38=\"*\",\"*\",VLOOKUP(PTA!BP38,AL_NUM_ARB,2,FALSE)&\" \"&VLOOKUP(PTA!BP38,AL_NUM_ARB,4,FALSE)&\" \"&VLOOKUP(PTA!BP38,AL_NUM_ARB,6,FALSE)))","v":"X"},{"$f":"IF(OR(PTA!BQ38=\"\",PTA!BQ38=\"X\"),\"X\",IF(PTA!BQ38=\"*\",\"*\",VLOOKUP(PTA!BQ38,AL_NUM_ARB,2,FALSE)&\" \"&VLOOKUP(PTA!BQ38,AL_NUM_ARB,4,FALSE)&\" \"&VLOOKUP(PTA!BQ38,AL_NUM_ARB,6,FALSE)))","v":"X"},{"$f":"IF(OR(PTA!BR38=\"\",PTA!BR38=\"X\"),\"X\",IF(PTA!BR38=\"*\",\"*\",VLOOKUP(PTA!BR38,AL_NUM_ARB,2,FALSE)&\" \"&VLOOKUP(PTA!BR38,AL_NUM_ARB,4,FALSE)&\" \"&VLOOKUP(PTA!BR38,AL_NUM_ARB,6,FALSE)))","v":"X"},{"$f":"IF(OR(PTA!BT38=\"\",PTA!BT38=\"X\"),\"X\",VLOOKUP(PTA!BT38,AL_NUM_ARB,2,FALSE)&\" \"&VLOOKUP(PTA!BT38,AL_NUM_ARB,4,FALSE)&\" \"&VLOOKUP(PTA!BT38,AL_NUM_ARB,6,FALSE))","v":"X"},{"$f":"IF(OR(PTA!BU38=\"\",PTA!BU38=\"X\"),\"X\",VLOOKUP(PTA!BU38,AL_NUM_ARB,2,FALSE)&\" \"&VLOOKUP(PTA!BU38,AL_NUM_ARB,4,FALSE)&\" \"&VLOOKUP(PTA!BU38,AL_NUM_ARB,6,FALSE))","v":"X"},{"$f":"IF(OR(PTA!BV38=\"\",PTA!BV38=\"X\"),\"X\",VLOOKUP(PTA!BV38,AL_NUM_ARB,2,FALSE)&\" \"&VLOOKUP(PTA!BV38,AL_NUM_ARB,4,FALSE)&\" \"&VLOOKUP(PTA!BV38,AL_NUM_ARB,6,FALSE))","v":"X"},{"$f":"IF(OR(PTA!BW38=\"\",PTA!BW38=\"X\"),\"X\",VLOOKUP(PTA!BW38,AL_NUM_ARB,2,FALSE)&\" \"&VLOOKUP(PTA!BW38,AL_NUM_ARB,4,FALSE)&\" \"&VLOOKUP(PTA!BW38,AL_NUM_ARB,6,FALSE))","v":"X"},"14:30:00"]
[{"$f":"PTA!A39","v":""},{"$f":"PTA!B39","v":"00:00:00"},{"$f":"PTA!C39","v":32},{"$f":"PTA!D39","v":0},{"$f":"IF(OR(PTA!E39=\"\",PTA!E39=\"X\"),\"X\",IF(PTA!E39=\"*\",\"*\",VLOOKUP(PTA!E39,AL_NUM_ARB,2,FALSE)&\" \"&VLOOKUP(PTA!E39,AL_NUM_ARB,4,FALSE)&\" \"&VLOOKUP(PTA!E39,AL_NUM_ARB,6,FALSE)))","v":"X"},{"$f":"IF(OR(PTA!F39=\"\",PTA!F39=\"X\"),\"X\",IF(PTA!F39=\"*\",\"*\",VLOOKUP(PTA!F39,AL_NUM_ARB,2,FALSE)&\" \"&VLOOKUP(PTA!F39,AL_NUM_ARB,4,FALSE)&\" \"&VLOOKUP(PTA!F39,AL_NUM_ARB,6,FALSE)))","v":"X"},{"$f":"IF(OR(PTA!G39=\"\",PTA!G39=\"X\"),\"X\",IF(PTA!G39=\"*\",\"*\",VLOOKUP(PTA!G39,AL_NUM_ARB,2,FALSE)&\" \"&VLOOKUP(PTA!G39,AL_NUM_ARB,4,FALSE)&\" \"&VLOOKUP(PTA!G39,AL_NUM_ARB,6,FALSE)))","v":"X"},{"$f":"IF(OR(PTA!H39=\"\",PTA!H39=\"X\"),\"X\",IF(PTA!H39=\"*\",\"*\",VLOOKUP(PTA!H39,AL_NUM_ARB,2,FALSE)&\" \"&VLOOKUP(PTA!H39,AL_NUM_ARB,4,FALSE)&\" \"&VLOOKUP(PTA!H39,AL_NUM_ARB,6,FALSE)))","v":"X"},{"$f":"IF(OR(PTA!I39=\"\",PTA!I39=\"X\"),\"X\",IF(PTA!I39=\"*\",\"*\",VLOOKUP(PTA!I39,AL_NUM_ARB,2,FALSE)&\" \"&VLOOKUP(PTA!I39,AL_NUM_ARB,4,FALSE)&\" \"&VLOOKUP(PTA!I39,AL_NUM_ARB,6,FALSE)))","v":"X"},{"$f":"IF(OR(PTA!J39=\"\",PTA!J39=\"X\"),\"X\",IF(PTA!J39=\"*\",\"*\",VLOOKUP(PTA!J39,AL_NUM_ARB,2,FALSE)&\" \"&VLOOKUP(PTA!J39,AL_NUM_ARB,4,FALSE)&\" \"&VLOOKUP(PTA!J39,AL_NUM_ARB,6,FALSE)))","v":"X"},{"$f":"IF(OR(PTA!K39=\"\",PTA!K39=\"X\"),\"X\",IF(PTA!K39=\"*\",\"*\",VLOOKUP(PTA!K39,AL_NUM_ARB,2,FALSE)&\" \"&VLOOKUP(PTA!K39,AL_NUM_ARB,4,FALSE)&\" \"&VLOOKUP(PTA!K39,AL_NUM_ARB,6,FALSE)))","v":"X"},{"$f":"IF(OR(PTA!L39=\"\",PTA!L39=\"X\"),\"X\",IF(PTA!L39=\"*\",\"*\",VLOOKUP(PTA!L39,AL_NUM_ARB,2,FALSE)&\" \"&VLOOKUP(PTA!L39,AL_NUM_ARB,4,FALSE)&\" \"&VLOOKUP(PTA!L39,AL_NUM_ARB,6,FALSE)))","v":"X"},{"$f":"IF(OR(PTA!M39=\"\",PTA!M39=\"X\"),\"X\",IF(PTA!M39=\"*\",\"*\",VLOOKUP(PTA!M39,AL_NUM_ARB,2,FALSE)&\" \"&VLOOKUP(PTA!M39,AL_NUM_ARB,4,FALSE)&\" \"&VLOOKUP(PTA!M39,AL_NUM_ARB,6,FALSE)))","v":"X"},{"$f":"IF(OR(PTA!N39=\"\",PTA!N39=\"X\"),\"X\",IF(PTA!N39=\"*\",\"*\",VLOOKUP(PTA!N39,AL_NUM_ARB,2,FALSE)&\" \"&VLOOKUP(PTA!N39,AL_NUM_ARB,4,FALSE)&\" \"&VLOOKUP(PTA!N39,AL_NUM_ARB,6,FALSE)))","v":"X"},{"$f":"IF(OR(PTA!O39=\"\",PTA!O39=\"X\"),\"X\",IF(PTA!O39=\"*\",\"*\",VLOOKUP(PTA!O39,AL_NUM_ARB,2,FALSE)&\" \"&VLOOKUP(PTA!O39,AL_NUM_ARB,4,FALSE)&\" \"&VLOOKUP(PTA!O39,AL_NUM_ARB,6,FALSE)))","v":"X"},{"$f":"IF(OR(PTA!P39=\"\",PTA!P39=\"X\"),\"X\",IF(PTA!P39=\"*\",\"*\",VLOOKUP(PTA!P39,AL_NUM_ARB,2,FALSE)&\" \"&VLOOKUP(PTA!P39,AL_NUM_ARB,4,FALSE)&\" \"&VLOOKUP(PTA!P39,AL_NUM_ARB,6,FALSE)))","v":"X"},{"$f":"IF(OR(PTA!Q39=\"\",PTA!Q39=\"X\"),\"X\",IF(PTA!Q39=\"*\",\"*\",VLOOKUP(PTA!Q39,AL_NUM_ARB,2,FALSE)&\" \"&VLOOKUP(PTA!Q39,AL_NUM_ARB,4,FALSE)&\" \"&VLOOKUP(PTA!Q39,AL_NUM_ARB,6,FALSE)))","v":"X"},{"$f":"IF(OR(PTA!R39=\"\",PTA!R39=\"X\"),\"X\",IF(PTA!R39=\"*\",\"*\",VLOOKUP(PTA!R39,AL_NUM_ARB,2,FALSE)&\" \"&VLOOKUP(PTA!R39,AL_NUM_ARB,4,FALSE)&\" \"&VLOOKUP(PTA!R39,AL_NUM_ARB,6,FALSE)))","v":"X"},{"$f":"IF(OR(PTA!S39=\"\",PTA!S39=\"X\"),\"X\",IF(PTA!S39=\"*\",\"*\",VLOOKUP(PTA!S39,AL_NUM_ARB,2,FALSE)&\" \"&VLOOKUP(PTA!S39,AL_NUM_ARB,4,FALSE)&\" \"&VLOOKUP(PTA!S39,AL_NUM_ARB,6,FALSE)))","v":"X"},{"$f":"IF(OR(PTA!T39=\"\",PTA!T39=\"X\"),\"X\",IF(PTA!T39=\"*\",\"*\",VLOOKUP(PTA!T39,AL_NUM_ARB,2,FALSE)&\" \"&VLOOKUP(PTA!T39,AL_NUM_ARB,4,FALSE)&\" \"&VLOOKUP(PTA!T39,AL_NUM_ARB,6,FALSE)))","v":"X"},{"$f":"IF(OR(PTA!U39=\"\",PTA!U39=\"X\"),\"X\",IF(PTA!U39=\"*\",\"*\",VLOOKUP(PTA!U39,AL_NUM_ARB,2,FALSE)&\" \"&VLOOKUP(PTA!U39,AL_NUM_ARB,4,FALSE)&\" \"&VLOOKUP(PTA!U39,AL_NUM_ARB,6,FALSE)))","v":"X"},{"$f":"IF(OR(PTA!V39=\"\",PTA!V39=\"X\"),\"X\",IF(PTA!V39=\"*\",\"*\",VLOOKUP(PTA!V39,AL_NUM_ARB,2,FALSE)&\" \"&VLOOKUP(PTA!V39,AL_NUM_ARB,4,FALSE)&\" \"&VLOOKUP(PTA!V39,AL_NUM_ARB,6,FALSE)))","v":"X"},{"$f":"IF(OR(PTA!W39=\"\",PTA!W39=\"X\"),\"X\",IF(PTA!W39=\"*\",\"*\",VLOOKUP(PTA!W39,AL_NUM_ARB,2,FALSE)&\" \"&VLOOKUP(PTA!W39,AL_NUM_ARB,4,FALSE)&\" \"&VLOOKUP(PTA!W39,AL_NUM_ARB,6,FALSE)))","v":"X"},{"$f":"IF(OR(PTA!X39=\"\",PTA!X39=\"X\"),\"X\",IF(PTA!X39=\"*\",\"*\",VLOOKUP(PTA!X39,AL_NUM_ARB,2,FALSE)&\" \"&VLOOKUP(PTA!X39,AL_NUM_ARB,4,FALSE)&\" \"&VLOOKUP(PTA!X39,AL_NUM_ARB,6,FALSE)))","v":"X"},{"$f":"IF(OR(PTA!Y39=\"\",PTA!Y39=\"X\"),\"X\",IF(PTA!Y39=\"*\",\"*\",VLOOKUP(PTA!Y39,AL_NUM_ARB,2,FALSE)&\" \"&VLOOKUP(PTA!Y39,AL_NUM_ARB,4,FALSE)&\" \"&VLOOKUP(PTA!Y39,AL_NUM_ARB,6,FALSE)))","v":"X"},{"$f":"IF(OR(PTA!Z39=\"\",PTA!Z39=\"X\"),\"X\",IF(PTA!Z39=\"*\",\"*\",VLOOKUP(PTA!Z39,AL_NUM_ARB,2,FALSE)&\" \"&VLOOKUP(PTA!Z39,AL_NUM_ARB,4,FALSE)&\" \"&VLOOKUP(PTA!Z39,AL_NUM_ARB,6,FALSE)))","v":"X"},{"$f":"IF(OR(PTA!AA39=\"\",PTA!AA39=\"X\"),\"X\",IF(PTA!AA39=\"*\",\"*\",VLOOKUP(PTA!AA39,AL_NUM_ARB,2,FALSE)&\" \"&VLOOKUP(PTA!AA39,AL_NUM_ARB,4,FALSE)&\" \"&VLOOKUP(PTA!AA39,AL_NUM_ARB,6,FALSE)))","v":"X"},{"$f":"IF(OR(PTA!AB39=\"\",PTA!AB39=\"X\"),\"X\",IF(PTA!AB39=\"*\",\"*\",VLOOKUP(PTA!AB39,AL_NUM_ARB,2,FALSE)&\" \"&VLOOKUP(PTA!AB39,AL_NUM_ARB,4,FALSE)&\" \"&VLOOKUP(PTA!AB39,AL_NUM_ARB,6,FALSE)))","v":"X"},{"$f":"IF(OR(PTA!AC39=\"\",PTA!AC39=\"X\"),\"X\",IF(PTA!AC39=\"*\",\"*\",VLOOKUP(PTA!AC39,AL_NUM_ARB,2,FALSE)&\" \"&VLOOKUP(PTA!AC39,AL_NUM_ARB,4,FALSE)&\" \"&VLOOKUP(PTA!AC39,AL_NUM_ARB,6,FALSE)))","v":"X"},{"$f":"IF(OR(PTA!AD39=\"\",PTA!AD39=\"X\"),\"X\",IF(PTA!AD39=\"*\",\"*\",VLOOKUP(PTA!AD39,AL_NUM_ARB,2,FALSE)&\" \"&VLOOKUP(PTA!AD39,AL_NUM_ARB,4,FALSE)&\" \"&VLOOKUP(PTA!AD39,AL_NUM_ARB,6,FALSE)))","v":"X"},{"$f":"IF(OR(PTA!AE39=\"\",PTA!AE39=\"X\"),\"X\",IF(PTA!AE39=\"*\",\"*\",VLOOKUP(PTA!AE39,AL_NUM_ARB,2,FALSE)&\" \"&VLOOKUP(PTA!AE39,AL_NUM_ARB,4,FALSE)&\" \"&VLOOKUP(PTA!AE39,AL_NUM_ARB,6,FALSE)))","v":"X"},{"$f":"IF(OR(PTA!AF39=\"\",PTA!AF39=\"X\"),\"X\",IF(PTA!AF39=\"*\",\"*\",VLOOKUP(PTA!AF39,AL_NUM_ARB,2,FALSE)&\" \"&VLOOKUP(PTA!AF39,AL_NUM_ARB,4,FALSE)&\" \"&VLOOKUP(PTA!AF39,AL_NUM_ARB,6,FALSE)))","v":"X"},{"$f":"IF(OR(PTA!AG39=\"\",PTA!AG39=\"X\"),\"X\",IF(PTA!AG39=\"*\",\"*\",VLOOKUP(PTA!AG39,AL_NUM_ARB,2,FALSE)&\" \"&VLOOKUP(PTA!AG39,AL_NUM_ARB,4,FALSE)&\" \"&VLOOKUP(PTA!AG39,AL_NUM_ARB,6,FALSE)))","v":"X"},{"$f":"IF(OR(PTA!AH39=\"\",PTA!AH39=\"X\"),\"X\",IF(PTA!AH39=\"*\",\"*\",VLOOKUP(PTA!AH39,AL_NUM_ARB,2,FALSE)&\" \"&VLOOKUP(PTA!AH39,AL_NUM_ARB,4,FALSE)&\" \"&VLOOKUP(PTA!AH39,AL_NUM_ARB,6,FALSE)))","v":"X"},{"$f":"IF(OR(PTA!AI39=\"\",PTA!AI39=\"X\"),\"X\",IF(PTA!AI39=\"*\",\"*\",VLOOKUP(PTA!AI39,AL_NUM_ARB,2,FALSE)&\" \"&VLOOKUP(PTA!AI39,AL_NUM_ARB,4,FALSE)&\" \"&VLOOKUP(PTA!AI39,AL_NUM_ARB,6,FALSE)))","v":"X"},{"$f":"IF(OR(PTA!AJ39=\"\",PTA!AJ39=\"X\"),\"X\",IF(PTA!AJ39=\"*\",\"*\",VLOOKUP(PTA!AJ39,AL_NUM_ARB,2,FALSE)&\" \"&VLOOKUP(PTA!AJ39,AL_NUM_ARB,4,FALSE)&\" \"&VLOOKUP(PTA!AJ39,AL_NUM_ARB,6,FALSE)))","v":"X"},{"$f":"IF(OR(PTA!AK39=\"\",PTA!AK39=\"X\"),\"X\",IF(PTA!AK39=\"*\",\"*\",VLOOKUP(PTA!AK39,AL_NUM_ARB,2,FALSE)&\" \"&VLOOKUP(PTA!AK39,AL_NUM_ARB,4,FALSE)&\" \"&VLOOKUP(PTA!AK39,AL_NUM_ARB,6,FALSE)))","v":"X"},{"$f":"IF(OR(PTA!AL39=\"\",PTA!AL39=\"X\"),\"X\",IF(PTA!AL39=\"*\",\"*\",VLOOKUP(PTA!AL39,AL_NUM_ARB,2,FALSE)&\" \"&VLOOKUP(PTA!AL39,AL_NUM_ARB,4,FALSE)&\" \"&VLOOKUP(PTA!AL39,AL_NUM_ARB,6,FALSE)))","v":"X"},{"$f":"IF(OR(PTA!AM39=\"\",PTA!AM39=\"X\"),\"X\",IF(PTA!AM39=\"*\",\"*\",VLOOKUP(PTA!AM39,AL_NUM_ARB,2,FALSE)&\" \"&VLOOKUP(PTA!AM39,AL_NUM_ARB,4,FALSE)&\" \"&VLOOKUP(PTA!AM39,AL_NUM_ARB,6,FALSE)))","v":"X"},{"$f":"IF(OR(PTA!AN39=\"\",PTA!AN39=\"X\"),\"X\",IF(PTA!AN39=\"*\",\"*\",VLOOKUP(PTA!AN39,AL_NUM_ARB,2,FALSE)&\" \"&VLOOKUP(PTA!AN39,AL_NUM_ARB,4,FALSE)&\" \"&VLOOKUP(PTA!AN39,AL_NUM_ARB,6,FALSE)))","v":"X"},{"$f":"IF(OR(PTA!AO39=\"\",PTA!AO39=\"X\"),\"X\",IF(PTA!AO39=\"*\",\"*\",VLOOKUP(PTA!AO39,AL_NUM_ARB,2,FALSE)&\" \"&VLOOKUP(PTA!AO39,AL_NUM_ARB,4,FALSE)&\" \"&VLOOKUP(PTA!AO39,AL_NUM_ARB,6,FALSE)))","v":"X"},{"$f":"IF(OR(PTA!AP39=\"\",PTA!AP39=\"X\"),\"X\",IF(PTA!AP39=\"*\",\"*\",VLOOKUP(PTA!AP39,AL_NUM_ARB,2,FALSE)&\" \"&VLOOKUP(PTA!AP39,AL_NUM_ARB,4,FALSE)&\" \"&VLOOKUP(PTA!AP39,AL_NUM_ARB,6,FALSE)))","v":"X"},{"$f":"IF(OR(PTA!AQ39=\"\",PTA!AQ39=\"X\"),\"X\",IF(PTA!AQ39=\"*\",\"*\",VLOOKUP(PTA!AQ39,AL_NUM_ARB,2,FALSE)&\" \"&VLOOKUP(PTA!AQ39,AL_NUM_ARB,4,FALSE)&\" \"&VLOOKUP(PTA!AQ39,AL_NUM_ARB,6,FALSE)))","v":"X"},{"$f":"IF(OR(PTA!AR39=\"\",PTA!AR39=\"X\"),\"X\",IF(PTA!AR39=\"*\",\"*\",VLOOKUP(PTA!AR39,AL_NUM_ARB,2,FALSE)&\" \"&VLOOKUP(PTA!AR39,AL_NUM_ARB,4,FALSE)&\" \"&VLOOKUP(PTA!AR39,AL_NUM_ARB,6,FALSE)))","v":"X"},{"$f":"IF(OR(PTA!AS39=\"\",PTA!AS39=\"X\"),\"X\",IF(PTA!AS39=\"*\",\"*\",VLOOKUP(PTA!AS39,AL_NUM_ARB,2,FALSE)&\" \"&VLOOKUP(PTA!AS39,AL_NUM_ARB,4,FALSE)&\" \"&VLOOKUP(PTA!AS39,AL_NUM_ARB,6,FALSE)))","v":"X"},{"$f":"IF(OR(PTA!AT39=\"\",PTA!AT39=\"X\"),\"X\",IF(PTA!AT39=\"*\",\"*\",VLOOKUP(PTA!AT39,AL_NUM_ARB,2,FALSE)&\" \"&VLOOKUP(PTA!AT39,AL_NUM_ARB,4,FALSE)&\" \"&VLOOKUP(PTA!AT39,AL_NUM_ARB,6,FALSE)))","v":"X"},{"$f":"IF(OR(PTA!AU39=\"\",PTA!AU39=\"X\"),\"X\",IF(PTA!AU39=\"*\",\"*\",VLOOKUP(PTA!AU39,AL_NUM_ARB,2,FALSE)&\" \"&VLOOKUP(PTA!AU39,AL_NUM_ARB,4,FALSE)&\" \"&VLOOKUP(PTA!AU39,AL_NUM_ARB,6,FALSE)))","v":"X"},{"$f":"IF(OR(PTA!AV39=\"\",PTA!AV39=\"X\"),\"X\",IF(PTA!AV39=\"*\",\"*\",VLOOKUP(PTA!AV39,AL_NUM_ARB,2,FALSE)&\" \"&VLOOKUP(PTA!AV39,AL_NUM_ARB,4,FALSE)&\" \"&VLOOKUP(PTA!AV39,AL_NUM_ARB,6,FALSE)))","v":"X"},{"$f":"IF(OR(PTA!AW39=\"\",PTA!AW39=\"X\"),\"X\",IF(PTA!AW39=\"*\",\"*\",VLOOKUP(PTA!AW39,AL_NUM_ARB,2,FALSE)&\" \"&VLOOKUP(PTA!AW39,AL_NUM_ARB,4,FALSE)&\" \"&VLOOKUP(PTA!AW39,AL_NUM_ARB,6,FALSE)))","v":"X"},{"$f":"IF(OR(PTA!AX39=\"\",PTA!AX39=\"X\"),\"X\",IF(PTA!AX39=\"*\",\"*\",VLOOKUP(PTA!AX39,AL_NUM_ARB,2,FALSE)&\" \"&VLOOKUP(PTA!AX39,AL_NUM_ARB,4,FALSE)&\" \"&VLOOKUP(PTA!AX39,AL_NUM_ARB,6,FALSE)))","v":"X"},{"$f":"IF(OR(PTA!AY39=\"\",PTA!AY39=\"X\"),\"X\",IF(PTA!AY39=\"*\",\"*\",VLOOKUP(PTA!AY39,AL_NUM_ARB,2,FALSE)&\" \"&VLOOKUP(PTA!AY39,AL_NUM_ARB,4,FALSE)&\" \"&VLOOKUP(PTA!AY39,AL_NUM_ARB,6,FALSE)))","v":"X"},{"$f":"IF(OR(PTA!AZ39=\"\",PTA!AZ39=\"X\"),\"X\",IF(PTA!AZ39=\"*\",\"*\",VLOOKUP(PTA!AZ39,AL_NUM_ARB,2,FALSE)&\" \"&VLOOKUP(PTA!AZ39,AL_NUM_ARB,4,FALSE)&\" \"&VLOOKUP(PTA!AZ39,AL_NUM_ARB,6,FALSE)))","v":"X"},{"$f":"IF(OR(PTA!BA39=\"\",PTA!BA39=\"X\"),\"X\",IF(PTA!BA39=\"*\",\"*\",VLOOKUP(PTA!BA39,AL_NUM_ARB,2,FALSE)&\" \"&VLOOKUP(PTA!BA39,AL_NUM_ARB,4,FALSE)&\" \"&VLOOKUP(PTA!BA39,AL_NUM_ARB,6,FALSE)))","v":"X"},{"$f":"IF(OR(PTA!BB39=\"\",PTA!BB39=\"X\"),\"X\",IF(PTA!BB39=\"*\",\"*\",VLOOKUP(PTA!BB39,AL_NUM_ARB,2,FALSE)&\" \"&VLOOKUP(PTA!BB39,AL_NUM_ARB,4,FALSE)&\" \"&VLOOKUP(PTA!BB39,AL_NUM_ARB,6,FALSE)))","v":"X"},{"$f":"IF(OR(PTA!BC39=\"\",PTA!BC39=\"X\"),\"X\",IF(PTA!BC39=\"*\",\"*\",VLOOKUP(PTA!BC39,AL_NUM_ARB,2,FALSE)&\" \"&VLOOKUP(PTA!BC39,AL_NUM_ARB,4,FALSE)&\" \"&VLOOKUP(PTA!BC39,AL_NUM_ARB,6,FALSE)))","v":"X"},{"$f":"IF(OR(PTA!BD39=\"\",PTA!BD39=\"X\"),\"X\",IF(PTA!BD39=\"*\",\"*\",VLOOKUP(PTA!BD39,AL_NUM_ARB,2,FALSE)&\" \"&VLOOKUP(PTA!BD39,AL_NUM_ARB,4,FALSE)&\" \"&VLOOKUP(PTA!BD39,AL_NUM_ARB,6,FALSE)))","v":"X"},{"$f":"IF(OR(PTA!BE39=\"\",PTA!BE39=\"X\"),\"X\",IF(PTA!BE39=\"*\",\"*\",VLOOKUP(PTA!BE39,AL_NUM_ARB,2,FALSE)&\" \"&VLOOKUP(PTA!BE39,AL_NUM_ARB,4,FALSE)&\" \"&VLOOKUP(PTA!BE39,AL_NUM_ARB,6,FALSE)))","v":"X"},{"$f":"IF(OR(PTA!BF39=\"\",PTA!BF39=\"X\"),\"X\",IF(PTA!BF39=\"*\",\"*\",VLOOKUP(PTA!BF39,AL_NUM_ARB,2,FALSE)&\" \"&VLOOKUP(PTA!BF39,AL_NUM_ARB,4,FALSE)&\" \"&VLOOKUP(PTA!BF39,AL_NUM_ARB,6,FALSE)))","v":"X"},{"$f":"IF(OR(PTA!BG39=\"\",PTA!BG39=\"X\"),\"X\",IF(PTA!BG39=\"*\",\"*\",VLOOKUP(PTA!BG39,AL_NUM_ARB,2,FALSE)&\" \"&VLOOKUP(PTA!BG39,AL_NUM_ARB,4,FALSE)&\" \"&VLOOKUP(PTA!BG39,AL_NUM_ARB,6,FALSE)))","v":"X"},{"$f":"IF(OR(PTA!BH39=\"\",PTA!BH39=\"X\"),\"X\",IF(PTA!BH39=\"*\",\"*\",VLOOKUP(PTA!BH39,AL_NUM_ARB,2,FALSE)&\" \"&VLOOKUP(PTA!BH39,AL_NUM_ARB,4,FALSE)&\" \"&VLOOKUP(PTA!BH39,AL_NUM_ARB,6,FALSE)))","v":"X"},{"$f":"IF(OR(PTA!BI39=\"\",PTA!BI39=\"X\"),\"X\",IF(PTA!BI39=\"*\",\"*\",VLOOKUP(PTA!BI39,AL_NUM_ARB,2,FALSE)&\" \"&VLOOKUP(PTA!BI39,AL_NUM_ARB,4,FALSE)&\" \"&VLOOKUP(PTA!BI39,AL_NUM_ARB,6,FALSE)))","v":"X"},{"$f":"IF(OR(PTA!BJ39=\"\",PTA!BJ39=\"X\"),\"X\",IF(PTA!BJ39=\"*\",\"*\",VLOOKUP(PTA!BJ39,AL_NUM_ARB,2,FALSE)&\" \"&VLOOKUP(PTA!BJ39,AL_NUM_ARB,4,FALSE)&\" \"&VLOOKUP(PTA!BJ39,AL_NUM_ARB,6,FALSE)))","v":"X"},{"$f":"IF(OR(PTA!BK39=\"\",PTA!BK39=\"X\"),\"X\",IF(PTA!BK39=\"*\",\"*\",VLOOKUP(PTA!BK39,AL_NUM_ARB,2,FALSE)&\" \"&VLOOKUP(PTA!BK39,AL_NUM_ARB,4,FALSE)&\" \"&VLOOKUP(PTA!BK39,AL_NUM_ARB,6,FALSE)))","v":"X"},{"$f":"IF(OR(PTA!BL39=\"\",PTA!BL39=\"X\"),\"X\",IF(PTA!BL39=\"*\",\"*\",VLOOKUP(PTA!BL39,AL_NUM_ARB,2,FALSE)&\" \"&VLOOKUP(PTA!BL39,AL_NUM_ARB,4,FALSE)&\" \"&VLOOKUP(PTA!BL39,AL_NUM_ARB,6,FALSE)))","v":"X"},{"$f":"IF(OR(PTA!BM39=\"\",PTA!BM39=\"X\"),\"X\",IF(PTA!BM39=\"*\",\"*\",VLOOKUP(PTA!BM39,AL_NUM_ARB,2,FALSE)&\" \"&VLOOKUP(PTA!BM39,AL_NUM_ARB,4,FALSE)&\" \"&VLOOKUP(PTA!BM39,AL_NUM_ARB,6,FALSE)))","v":"X"},{"$f":"IF(OR(PTA!BN39=\"\",PTA!BN39=\"X\"),\"X\",IF(PTA!BN39=\"*\",\"*\",VLOOKUP(PTA!BN39,AL_NUM_ARB,2,FALSE)&\" \"&VLOOKUP(PTA!BN39,AL_NUM_ARB,4,FALSE)&\" \"&VLOOKUP(PTA!BN39,AL_NUM_ARB,6,FALSE)))","v":"X"},{"$f":"IF(OR(PTA!BO39=\"\",PTA!BO39=\"X\"),\"X\",IF(PTA!BO39=\"*\",\"*\",VLOOKUP(PTA!BO39,AL_NUM_ARB,2,FALSE)&\" \"&VLOOKUP(PTA!BO39,AL_NUM_ARB,4,FALSE)&\" \"&VLOOKUP(PTA!BO39,AL_NUM_ARB,6,FALSE)))","v":"X"},{"$f":"IF(OR(PTA!BP39=\"\",PTA!BP39=\"X\"),\"X\",IF(PTA!BP39=\"*\",\"*\",VLOOKUP(PTA!BP39,AL_NUM_ARB,2,FALSE)&\" \"&VLOOKUP(PTA!BP39,AL_NUM_ARB,4,FALSE)&\" \"&VLOOKUP(PTA!BP39,AL_NUM_ARB,6,FALSE)))","v":"X"},{"$f":"IF(OR(PTA!BQ39=\"\",PTA!BQ39=\"X\"),\"X\",IF(PTA!BQ39=\"*\",\"*\",VLOOKUP(PTA!BQ39,AL_NUM_ARB,2,FALSE)&\" \"&VLOOKUP(PTA!BQ39,AL_NUM_ARB,4,FALSE)&\" \"&VLOOKUP(PTA!BQ39,AL_NUM_ARB,6,FALSE)))","v":"X"},{"$f":"IF(OR(PTA!BR39=\"\",PTA!BR39=\"X\"),\"X\",IF(PTA!BR39=\"*\",\"*\",VLOOKUP(PTA!BR39,AL_NUM_ARB,2,FALSE)&\" \"&VLOOKUP(PTA!BR39,AL_NUM_ARB,4,FALSE)&\" \"&VLOOKUP(PTA!BR39,AL_NUM_ARB,6,FALSE)))","v":"X"},{"$f":"IF(OR(PTA!BT39=\"\",PTA!BT39=\"X\"),\"X\",VLOOKUP(PTA!BT39,AL_NUM_ARB,2,FALSE)&\" \"&VLOOKUP(PTA!BT39,AL_NUM_ARB,4,FALSE)&\" \"&VLOOKUP(PTA!BT39,AL_NUM_ARB,6,FALSE))","v":"X"},{"$f":"IF(OR(PTA!BU39=\"\",PTA!BU39=\"X\"),\"X\",VLOOKUP(PTA!BU39,AL_NUM_ARB,2,FALSE)&\" \"&VLOOKUP(PTA!BU39,AL_NUM_ARB,4,FALSE)&\" \"&VLOOKUP(PTA!BU39,AL_NUM_ARB,6,FALSE))","v":"X"},{"$f":"IF(OR(PTA!BV39=\"\",PTA!BV39=\"X\"),\"X\",VLOOKUP(PTA!BV39,AL_NUM_ARB,2,FALSE)&\" \"&VLOOKUP(PTA!BV39,AL_NUM_ARB,4,FALSE)&\" \"&VLOOKUP(PTA!BV39,AL_NUM_ARB,6,FALSE))","v":"X"},{"$f":"IF(OR(PTA!BW39=\"\",PTA!BW39=\"X\"),\"X\",VLOOKUP(PTA!BW39,AL_NUM_ARB,2,FALSE)&\" \"&VLOOKUP(PTA!BW39,AL_NUM_ARB,4,FALSE)&\" \"&VLOOKUP(PTA!BW39,AL_NUM_ARB,6,FALSE))","v":"X"},"15:00:00"]
[{"$f":"PTA!A40","v":""},{"$f":"PTA!B40","v":"00:00:00"},{"$f":"PTA!C40","v":32},{"$f":"PTA!D40","v":0},{"$f":"IF(OR(PTA!E40=\"\",PTA!E40=\"X\"),\"X\",IF(PTA!E40=\"*\",\"*\",VLOOKUP(PTA!E40,AL_NUM_ARB,2,FALSE)&\" \"&VLOOKUP(PTA!E40,AL_NUM_ARB,4,FALSE)&\" \"&VLOOKUP(PTA!E40,AL_NUM_ARB,6,FALSE)))","v":"X"},{"$f":"IF(OR(PTA!F40=\"\",PTA!F40=\"X\"),\"X\",IF(PTA!F40=\"*\",\"*\",VLOOKUP(PTA!F40,AL_NUM_ARB,2,FALSE)&\" \"&VLOOKUP(PTA!F40,AL_NUM_ARB,4,FALSE)&\" \"&VLOOKUP(PTA!F40,AL_NUM_ARB,6,FALSE)))","v":"X"},{"$f":"IF(OR(PTA!G40=\"\",PTA!G40=\"X\"),\"X\",IF(PTA!G40=\"*\",\"*\",VLOOKUP(PTA!G40,AL_NUM_ARB,2,FALSE)&\" \"&VLOOKUP(PTA!G40,AL_NUM_ARB,4,FALSE)&\" \"&VLOOKUP(PTA!G40,AL_NUM_ARB,6,FALSE)))","v":"X"},{"$f":"IF(OR(PTA!H40=\"\",PTA!H40=\"X\"),\"X\",IF(PTA!H40=\"*\",\"*\",VLOOKUP(PTA!H40,AL_NUM_ARB,2,FALSE)&\" \"&VLOOKUP(PTA!H40,AL_NUM_ARB,4,FALSE)&\" \"&VLOOKUP(PTA!H40,AL_NUM_ARB,6,FALSE)))","v":"X"},{"$f":"IF(OR(PTA!I40=\"\",PTA!I40=\"X\"),\"X\",IF(PTA!I40=\"*\",\"*\",VLOOKUP(PTA!I40,AL_NUM_ARB,2,FALSE)&\" \"&VLOOKUP(PTA!I40,AL_NUM_ARB,4,FALSE)&\" \"&VLOOKUP(PTA!I40,AL_NUM_ARB,6,FALSE)))","v":"X"},{"$f":"IF(OR(PTA!J40=\"\",PTA!J40=\"X\"),\"X\",IF(PTA!J40=\"*\",\"*\",VLOOKUP(PTA!J40,AL_NUM_ARB,2,FALSE)&\" \"&VLOOKUP(PTA!J40,AL_NUM_ARB,4,FALSE)&\" \"&VLOOKUP(PTA!J40,AL_NUM_ARB,6,FALSE)))","v":"X"},{"$f":"IF(OR(PTA!K40=\"\",PTA!K40=\"X\"),\"X\",IF(PTA!K40=\"*\",\"*\",VLOOKUP(PTA!K40,AL_NUM_ARB,2,FALSE)&\" \"&VLOOKUP(PTA!K40,AL_NUM_ARB,4,FALSE)&\" \"&VLOOKUP(PTA!K40,AL_NUM_ARB,6,FALSE)))","v":"X"},{"$f":"IF(OR(PTA!L40=\"\",PTA!L40=\"X\"),\"X\",IF(PTA!L40=\"*\",\"*\",VLOOKUP(PTA!L40,AL_NUM_ARB,2,FALSE)&\" \"&VLOOKUP(PTA!L40,AL_NUM_ARB,4,FALSE)&\" \"&VLOOKUP(PTA!L40,AL_NUM_ARB,6,FALSE)))","v":"X"},{"$f":"IF(OR(PTA!M40=\"\",PTA!M40=\"X\"),\"X\",IF(PTA!M40=\"*\",\"*\",VLOOKUP(PTA!M40,AL_NUM_ARB,2,FALSE)&\" \"&VLOOKUP(PTA!M40,AL_NUM_ARB,4,FALSE)&\" \"&VLOOKUP(PTA!M40,AL_NUM_ARB,6,FALSE)))","v":"X"},{"$f":"IF(OR(PTA!N40=\"\",PTA!N40=\"X\"),\"X\",IF(PTA!N40=\"*\",\"*\",VLOOKUP(PTA!N40,AL_NUM_ARB,2,FALSE)&\" \"&VLOOKUP(PTA!N40,AL_NUM_ARB,4,FALSE)&\" \"&VLOOKUP(PTA!N40,AL_NUM_ARB,6,FALSE)))","v":"X"},{"$f":"IF(OR(PTA!O40=\"\",PTA!O40=\"X\"),\"X\",IF(PTA!O40=\"*\",\"*\",VLOOKUP(PTA!O40,AL_NUM_ARB,2,FALSE)&\" \"&VLOOKUP(PTA!O40,AL_NUM_ARB,4,FALSE)&\" \"&VLOOKUP(PTA!O40,AL_NUM_ARB,6,FALSE)))","v":"X"},{"$f":"IF(OR(PTA!P40=\"\",PTA!P40=\"X\"),\"X\",IF(PTA!P40=\"*\",\"*\",VLOOKUP(PTA!P40,AL_NUM_ARB,2,FALSE)&\" \"&VLOOKUP(PTA!P40,AL_NUM_ARB,4,FALSE)&\" \"&VLOOKUP(PTA!P40,AL_NUM_ARB,6,FALSE)))","v":"X"},{"$f":"IF(OR(PTA!Q40=\"\",PTA!Q40=\"X\"),\"X\",IF(PTA!Q40=\"*\",\"*\",VLOOKUP(PTA!Q40,AL_NUM_ARB,2,FALSE)&\" \"&VLOOKUP(PTA!Q40,AL_NUM_ARB,4,FALSE)&\" \"&VLOOKUP(PTA!Q40,AL_NUM_ARB,6,FALSE)))","v":"X"},{"$f":"IF(OR(PTA!R40=\"\",PTA!R40=\"X\"),\"X\",IF(PTA!R40=\"*\",\"*\",VLOOKUP(PTA!R40,AL_NUM_ARB,2,FALSE)&\" \"&VLOOKUP(PTA!R40,AL_NUM_ARB,4,FALSE)&\" \"&VLOOKUP(PTA!R40,AL_NUM_ARB,6,FALSE)))","v":"X"},{"$f":"IF(OR(PTA!S40=\"\",PTA!S40=\"X\"),\"X\",IF(PTA!S40=\"*\",\"*\",VLOOKUP(PTA!S40,AL_NUM_ARB,2,FALSE)&\" \"&VLOOKUP(PTA!S40,AL_NUM_ARB,4,FALSE)&\" \"&VLOOKUP(PTA!S40,AL_NUM_ARB,6,FALSE)))","v":"X"},{"$f":"IF(OR(PTA!T40=\"\",PTA!T40=\"X\"),\"X\",IF(PTA!T40=\"*\",\"*\",VLOOKUP(PTA!T40,AL_NUM_ARB,2,FALSE)&\" \"&VLOOKUP(PTA!T40,AL_NUM_ARB,4,FALSE)&\" \"&VLOOKUP(PTA!T40,AL_NUM_ARB,6,FALSE)))","v":"X"},{"$f":"IF(OR(PTA!U40=\"\",PTA!U40=\"X\"),\"X\",IF(PTA!U40=\"*\",\"*\",VLOOKUP(PTA!U40,AL_NUM_ARB,2,FALSE)&\" \"&VLOOKUP(PTA!U40,AL_NUM_ARB,4,FALSE)&\" \"&VLOOKUP(PTA!U40,AL_NUM_ARB,6,FALSE)))","v":"X"},{"$f":"IF(OR(PTA!V40=\"\",PTA!V40=\"X\"),\"X\",IF(PTA!V40=\"*\",\"*\",VLOOKUP(PTA!V40,AL_NUM_ARB,2,FALSE)&\" \"&VLOOKUP(PTA!V40,AL_NUM_ARB,4,FALSE)&\" \"&VLOOKUP(PTA!V40,AL_NUM_ARB,6,FALSE)))","v":"X"},{"$f":"IF(OR(PTA!W40=\"\",PTA!W40=\"X\"),\"X\",IF(PTA!W40=\"*\",\"*\",VLOOKUP(PTA!W40,AL_NUM_ARB,2,FALSE)&\" \"&VLOOKUP(PTA!W40,AL_NUM_ARB,4,FALSE)&\" \"&VLOOKUP(PTA!W40,AL_NUM_ARB,6,FALSE)))","v":"X"},{"$f":"IF(OR(PTA!X40=\"\",PTA!X40=\"X\"),\"X\",IF(PTA!X40=\"*\",\"*\",VLOOKUP(PTA!X40,AL_NUM_ARB,2,FALSE)&\" \"&VLOOKUP(PTA!X40,AL_NUM_ARB,4,FALSE)&\" \"&VLOOKUP(PTA!X40,AL_NUM_ARB,6,FALSE)))","v":"X"},{"$f":"IF(OR(PTA!Y40=\"\",PTA!Y40=\"X\"),\"X\",IF(PTA!Y40=\"*\",\"*\",VLOOKUP(PTA!Y40,AL_NUM_ARB,2,FALSE)&\" \"&VLOOKUP(PTA!Y40,AL_NUM_ARB,4,FALSE)&\" \"&VLOOKUP(PTA!Y40,AL_NUM_ARB,6,FALSE)))","v":"X"},{"$f":"IF(OR(PTA!Z40=\"\",PTA!Z40=\"X\"),\"X\",IF(PTA!Z40=\"*\",\"*\",VLOOKUP(PTA!Z40,AL_NUM_ARB,2,FALSE)&\" \"&VLOOKUP(PTA!Z40,AL_NUM_ARB,4,FALSE)&\" \"&VLOOKUP(PTA!Z40,AL_NUM_ARB,6,FALSE)))","v":"X"},{"$f":"IF(OR(PTA!AA40=\"\",PTA!AA40=\"X\"),\"X\",IF(PTA!AA40=\"*\",\"*\",VLOOKUP(PTA!AA40,AL_NUM_ARB,2,FALSE)&\" \"&VLOOKUP(PTA!AA40,AL_NUM_ARB,4,FALSE)&\" \"&VLOOKUP(PTA!AA40,AL_NUM_ARB,6,FALSE)))","v":"X"},{"$f":"IF(OR(PTA!AB40=\"\",PTA!AB40=\"X\"),\"X\",IF(PTA!AB40=\"*\",\"*\",VLOOKUP(PTA!AB40,AL_NUM_ARB,2,FALSE)&\" \"&VLOOKUP(PTA!AB40,AL_NUM_ARB,4,FALSE)&\" \"&VLOOKUP(PTA!AB40,AL_NUM_ARB,6,FALSE)))","v":"X"},{"$f":"IF(OR(PTA!AC40=\"\",PTA!AC40=\"X\"),\"X\",IF(PTA!AC40=\"*\",\"*\",VLOOKUP(PTA!AC40,AL_NUM_ARB,2,FALSE)&\" \"&VLOOKUP(PTA!AC40,AL_NUM_ARB,4,FALSE)&\" \"&VLOOKUP(PTA!AC40,AL_NUM_ARB,6,FALSE)))","v":"X"},{"$f":"IF(OR(PTA!AD40=\"\",PTA!AD40=\"X\"),\"X\",IF(PTA!AD40=\"*\",\"*\",VLOOKUP(PTA!AD40,AL_NUM_ARB,2,FALSE)&\" \"&VLOOKUP(PTA!AD40,AL_NUM_ARB,4,FALSE)&\" \"&VLOOKUP(PTA!AD40,AL_NUM_ARB,6,FALSE)))","v":"X"},{"$f":"IF(OR(PTA!AE40=\"\",PTA!AE40=\"X\"),\"X\",IF(PTA!AE40=\"*\",\"*\",VLOOKUP(PTA!AE40,AL_NUM_ARB,2,FALSE)&\" \"&VLOOKUP(PTA!AE40,AL_NUM_ARB,4,FALSE)&\" \"&VLOOKUP(PTA!AE40,AL_NUM_ARB,6,FALSE)))","v":"X"},{"$f":"IF(OR(PTA!AF40=\"\",PTA!AF40=\"X\"),\"X\",IF(PTA!AF40=\"*\",\"*\",VLOOKUP(PTA!AF40,AL_NUM_ARB,2,FALSE)&\" \"&VLOOKUP(PTA!AF40,AL_NUM_ARB,4,FALSE)&\" \"&VLOOKUP(PTA!AF40,AL_NUM_ARB,6,FALSE)))","v":"X"},{"$f":"IF(OR(PTA!AG40=\"\",PTA!AG40=\"X\"),\"X\",IF(PTA!AG40=\"*\",\"*\",VLOOKUP(PTA!AG40,AL_NUM_ARB,2,FALSE)&\" \"&VLOOKUP(PTA!AG40,AL_NUM_ARB,4,FALSE)&\" \"&VLOOKUP(PTA!AG40,AL_NUM_ARB,6,FALSE)))","v":"X"},{"$f":"IF(OR(PTA!AH40=\"\",PTA!AH40=\"X\"),\"X\",IF(PTA!AH40=\"*\",\"*\",VLOOKUP(PTA!AH40,AL_NUM_ARB,2,FALSE)&\" \"&VLOOKUP(PTA!AH40,AL_NUM_ARB,4,FALSE)&\" \"&VLOOKUP(PTA!AH40,AL_NUM_ARB,6,FALSE)))","v":"X"},{"$f":"IF(OR(PTA!AI40=\"\",PTA!AI40=\"X\"),\"X\",IF(PTA!AI40=\"*\",\"*\",VLOOKUP(PTA!AI40,AL_NUM_ARB,2,FALSE)&\" \"&VLOOKUP(PTA!AI40,AL_NUM_ARB,4,FALSE)&\" \"&VLOOKUP(PTA!AI40,AL_NUM_ARB,6,FALSE)))","v":"X"},{"$f":"IF(OR(PTA!AJ40=\"\",PTA!AJ40=\"X\"),\"X\",IF(PTA!AJ40=\"*\",\"*\",VLOOKUP(PTA!AJ40,AL_NUM_ARB,2,FALSE)&\" \"&VLOOKUP(PTA!AJ40,AL_NUM_ARB,4,FALSE)&\" \"&VLOOKUP(PTA!AJ40,AL_NUM_ARB,6,FALSE)))","v":"X"},{"$f":"IF(OR(PTA!AK40=\"\",PTA!AK40=\"X\"),\"X\",IF(PTA!AK40=\"*\",\"*\",VLOOKUP(PTA!AK40,AL_NUM_ARB,2,FALSE)&\" \"&VLOOKUP(PTA!AK40,AL_NUM_ARB,4,FALSE)&\" \"&VLOOKUP(PTA!AK40,AL_NUM_ARB,6,FALSE)))","v":"X"},{"$f":"IF(OR(PTA!AL40=\"\",PTA!AL40=\"X\"),\"X\",IF(PTA!AL40=\"*\",\"*\",VLOOKUP(PTA!AL40,AL_NUM_ARB,2,FALSE)&\" \"&VLOOKUP(PTA!AL40,AL_NUM_ARB,4,FALSE)&\" \"&VLOOKUP(PTA!AL40,AL_NUM_ARB,6,FALSE)))","v":"X"},{"$f":"IF(OR(PTA!AM40=\"\",PTA!AM40=\"X\"),\"X\",IF(PTA!AM40=\"*\",\"*\",VLOOKUP(PTA!AM40,AL_NUM_ARB,2,FALSE)&\" \"&VLOOKUP(PTA!AM40,AL_NUM_ARB,4,FALSE)&\" \"&VLOOKUP(PTA!AM40,AL_NUM_ARB,6,FALSE)))","v":"X"},{"$f":"IF(OR(PTA!AN40=\"\",PTA!AN40=\"X\"),\"X\",IF(PTA!AN40=\"*\",\"*\",VLOOKUP(PTA!AN40,AL_NUM_ARB,2,FALSE)&\" \"&VLOOKUP(PTA!AN40,AL_NUM_ARB,4,FALSE)&\" \"&VLOOKUP(PTA!AN40,AL_NUM_ARB,6,FALSE)))","v":"X"},{"$f":"IF(OR(PTA!AO40=\"\",PTA!AO40=\"X\"),\"X\",IF(PTA!AO40=\"*\",\"*\",VLOOKUP(PTA!AO40,AL_NUM_ARB,2,FALSE)&\" \"&VLOOKUP(PTA!AO40,AL_NUM_ARB,4,FALSE)&\" \"&VLOOKUP(PTA!AO40,AL_NUM_ARB,6,FALSE)))","v":"X"},{"$f":"IF(OR(PTA!AP40=\"\",PTA!AP40=\"X\"),\"X\",IF(PTA!AP40=\"*\",\"*\",VLOOKUP(PTA!AP40,AL_NUM_ARB,2,FALSE)&\" \"&VLOOKUP(PTA!AP40,AL_NUM_ARB,4,FALSE)&\" \"&VLOOKUP(PTA!AP40,AL_NUM_ARB,6,FALSE)))","v":"X"},{"$f":"IF(OR(PTA!AQ40=\"\",PTA!AQ40=\"X\"),\"X\",IF(PTA!AQ40=\"*\",\"*\",VLOOKUP(PTA!AQ40,AL_NUM_ARB,2,FALSE)&\" \"&VLOOKUP(PTA!AQ40,AL_NUM_ARB,4,FALSE)&\" \"&VLOOKUP(PTA!AQ40,AL_NUM_ARB,6,FALSE)))","v":"X"},{"$f":"IF(OR(PTA!AR40=\"\",PTA!AR40=\"X\"),\"X\",IF(PTA!AR40=\"*\",\"*\",VLOOKUP(PTA!AR40,AL_NUM_ARB,2,FALSE)&\" \"&VLOOKUP(PTA!AR40,AL_NUM_ARB,4,FALSE)&\" \"&VLOOKUP(PTA!AR40,AL_NUM_ARB,6,FALSE)))","v":"X"},{"$f":"IF(OR(PTA!AS40=\"\",PTA!AS40=\"X\"),\"X\",IF(PTA!AS40=\"*\",\"*\",VLOOKUP(PTA!AS40,AL_NUM_ARB,2,FALSE)&\" \"&VLOOKUP(PTA!AS40,AL_NUM_ARB,4,FALSE)&\" \"&VLOOKUP(PTA!AS40,AL_NUM_ARB,6,FALSE)))","v":"X"},{"$f":"IF(OR(PTA!AT40=\"\",PTA!AT40=\"X\"),\"X\",IF(PTA!AT40=\"*\",\"*\",VLOOKUP(PTA!AT40,AL_NUM_ARB,2,FALSE)&\" \"&VLOOKUP(PTA!AT40,AL_NUM_ARB,4,FALSE)&\" \"&VLOOKUP(PTA!AT40,AL_NUM_ARB,6,FALSE)))","v":"X"},{"$f":"IF(OR(PTA!AU40=\"\",PTA!AU40=\"X\"),\"X\",IF(PTA!AU40=\"*\",\"*\",VLOOKUP(PTA!AU40,AL_NUM_ARB,2,FALSE)&\" \"&VLOOKUP(PTA!AU40,AL_NUM_ARB,4,FALSE)&\" \"&VLOOKUP(PTA!AU40,AL_NUM_ARB,6,FALSE)))","v":"X"},{"$f":"IF(OR(PTA!AV40=\"\",PTA!AV40=\"X\"),\"X\",IF(PTA!AV40=\"*\",\"*\",VLOOKUP(PTA!AV40,AL_NUM_ARB,2,FALSE)&\" \"&VLOOKUP(PTA!AV40,AL_NUM_ARB,4,FALSE)&\" \"&VLOOKUP(PTA!AV40,AL_NUM_ARB,6,FALSE)))","v":"X"},{"$f":"IF(OR(PTA!AW40=\"\",PTA!AW40=\"X\"),\"X\",IF(PTA!AW40=\"*\",\"*\",VLOOKUP(PTA!AW40,AL_NUM_ARB,2,FALSE)&\" \"&VLOOKUP(PTA!AW40,AL_NUM_ARB,4,FALSE)&\" \"&VLOOKUP(PTA!AW40,AL_NUM_ARB,6,FALSE)))","v":"X"},{"$f":"IF(OR(PTA!AX40=\"\",PTA!AX40=\"X\"),\"X\",IF(PTA!AX40=\"*\",\"*\",VLOOKUP(PTA!AX40,AL_NUM_ARB,2,FALSE)&\" \"&VLOOKUP(PTA!AX40,AL_NUM_ARB,4,FALSE)&\" \"&VLOOKUP(PTA!AX40,AL_NUM_ARB,6,FALSE)))","v":"X"},{"$f":"IF(OR(PTA!AY40=\"\",PTA!AY40=\"X\"),\"X\",IF(PTA!AY40=\"*\",\"*\",VLOOKUP(PTA!AY40,AL_NUM_ARB,2,FALSE)&\" \"&VLOOKUP(PTA!AY40,AL_NUM_ARB,4,FALSE)&\" \"&VLOOKUP(PTA!AY40,AL_NUM_ARB,6,FALSE)))","v":"X"},{"$f":"IF(OR(PTA!AZ40=\"\",PTA!AZ40=\"X\"),\"X\",IF(PTA!AZ40=\"*\",\"*\",VLOOKUP(PTA!AZ40,AL_NUM_ARB,2,FALSE)&\" \"&VLOOKUP(PTA!AZ40,AL_NUM_ARB,4,FALSE)&\" \"&VLOOKUP(PTA!AZ40,AL_NUM_ARB,6,FALSE)))","v":"X"},{"$f":"IF(OR(PTA!BA40=\"\",PTA!BA40=\"X\"),\"X\",IF(PTA!BA40=\"*\",\"*\",VLOOKUP(PTA!BA40,AL_NUM_ARB,2,FALSE)&\" \"&VLOOKUP(PTA!BA40,AL_NUM_ARB,4,FALSE)&\" \"&VLOOKUP(PTA!BA40,AL_NUM_ARB,6,FALSE)))","v":"X"},{"$f":"IF(OR(PTA!BB40=\"\",PTA!BB40=\"X\"),\"X\",IF(PTA!BB40=\"*\",\"*\",VLOOKUP(PTA!BB40,AL_NUM_ARB,2,FALSE)&\" \"&VLOOKUP(PTA!BB40,AL_NUM_ARB,4,FALSE)&\" \"&VLOOKUP(PTA!BB40,AL_NUM_ARB,6,FALSE)))","v":"X"},{"$f":"IF(OR(PTA!BC40=\"\",PTA!BC40=\"X\"),\"X\",IF(PTA!BC40=\"*\",\"*\",VLOOKUP(PTA!BC40,AL_NUM_ARB,2,FALSE)&\" \"&VLOOKUP(PTA!BC40,AL_NUM_ARB,4,FALSE)&\" \"&VLOOKUP(PTA!BC40,AL_NUM_ARB,6,FALSE)))","v":"X"},{"$f":"IF(OR(PTA!BD40=\"\",PTA!BD40=\"X\"),\"X\",IF(PTA!BD40=\"*\",\"*\",VLOOKUP(PTA!BD40,AL_NUM_ARB,2,FALSE)&\" \"&VLOOKUP(PTA!BD40,AL_NUM_ARB,4,FALSE)&\" \"&VLOOKUP(PTA!BD40,AL_NUM_ARB,6,FALSE)))","v":"X"},{"$f":"IF(OR(PTA!BE40=\"\",PTA!BE40=\"X\"),\"X\",IF(PTA!BE40=\"*\",\"*\",VLOOKUP(PTA!BE40,AL_NUM_ARB,2,FALSE)&\" \"&VLOOKUP(PTA!BE40,AL_NUM_ARB,4,FALSE)&\" \"&VLOOKUP(PTA!BE40,AL_NUM_ARB,6,FALSE)))","v":"X"},{"$f":"IF(OR(PTA!BF40=\"\",PTA!BF40=\"X\"),\"X\",IF(PTA!BF40=\"*\",\"*\",VLOOKUP(PTA!BF40,AL_NUM_ARB,2,FALSE)&\" \"&VLOOKUP(PTA!BF40,AL_NUM_ARB,4,FALSE)&\" \"&VLOOKUP(PTA!BF40,AL_NUM_ARB,6,FALSE)))","v":"X"},{"$f":"IF(OR(PTA!BG40=\"\",PTA!BG40=\"X\"),\"X\",IF(PTA!BG40=\"*\",\"*\",VLOOKUP(PTA!BG40,AL_NUM_ARB,2,FALSE)&\" \"&VLOOKUP(PTA!BG40,AL_NUM_ARB,4,FALSE)&\" \"&VLOOKUP(PTA!BG40,AL_NUM_ARB,6,FALSE)))","v":"X"},{"$f":"IF(OR(PTA!BH40=\"\",PTA!BH40=\"X\"),\"X\",IF(PTA!BH40=\"*\",\"*\",VLOOKUP(PTA!BH40,AL_NUM_ARB,2,FALSE)&\" \"&VLOOKUP(PTA!BH40,AL_NUM_ARB,4,FALSE)&\" \"&VLOOKUP(PTA!BH40,AL_NUM_ARB,6,FALSE)))","v":"X"},{"$f":"IF(OR(PTA!BI40=\"\",PTA!BI40=\"X\"),\"X\",IF(PTA!BI40=\"*\",\"*\",VLOOKUP(PTA!BI40,AL_NUM_ARB,2,FALSE)&\" \"&VLOOKUP(PTA!BI40,AL_NUM_ARB,4,FALSE)&\" \"&VLOOKUP(PTA!BI40,AL_NUM_ARB,6,FALSE)))","v":"X"},{"$f":"IF(OR(PTA!BJ40=\"\",PTA!BJ40=\"X\"),\"X\",IF(PTA!BJ40=\"*\",\"*\",VLOOKUP(PTA!BJ40,AL_NUM_ARB,2,FALSE)&\" \"&VLOOKUP(PTA!BJ40,AL_NUM_ARB,4,FALSE)&\" \"&VLOOKUP(PTA!BJ40,AL_NUM_ARB,6,FALSE)))","v":"X"},{"$f":"IF(OR(PTA!BK40=\"\",PTA!BK40=\"X\"),\"X\",IF(PTA!BK40=\"*\",\"*\",VLOOKUP(PTA!BK40,AL_NUM_ARB,2,FALSE)&\" \"&VLOOKUP(PTA!BK40,AL_NUM_ARB,4,FALSE)&\" \"&VLOOKUP(PTA!BK40,AL_NUM_ARB,6,FALSE)))","v":"X"},{"$f":"IF(OR(PTA!BL40=\"\",PTA!BL40=\"X\"),\"X\",IF(PTA!BL40=\"*\",\"*\",VLOOKUP(PTA!BL40,AL_NUM_ARB,2,FALSE)&\" \"&VLOOKUP(PTA!BL40,AL_NUM_ARB,4,FALSE)&\" \"&VLOOKUP(PTA!BL40,AL_NUM_ARB,6,FALSE)))","v":"X"},{"$f":"IF(OR(PTA!BM40=\"\",PTA!BM40=\"X\"),\"X\",IF(PTA!BM40=\"*\",\"*\",VLOOKUP(PTA!BM40,AL_NUM_ARB,2,FALSE)&\" \"&VLOOKUP(PTA!BM40,AL_NUM_ARB,4,FALSE)&\" \"&VLOOKUP(PTA!BM40,AL_NUM_ARB,6,FALSE)))","v":"X"},{"$f":"IF(OR(PTA!BN40=\"\",PTA!BN40=\"X\"),\"X\",IF(PTA!BN40=\"*\",\"*\",VLOOKUP(PTA!BN40,AL_NUM_ARB,2,FALSE)&\" \"&VLOOKUP(PTA!BN40,AL_NUM_ARB,4,FALSE)&\" \"&VLOOKUP(PTA!BN40,AL_NUM_ARB,6,FALSE)))","v":"X"},{"$f":"IF(OR(PTA!BO40=\"\",PTA!BO40=\"X\"),\"X\",IF(PTA!BO40=\"*\",\"*\",VLOOKUP(PTA!BO40,AL_NUM_ARB,2,FALSE)&\" \"&VLOOKUP(PTA!BO40,AL_NUM_ARB,4,FALSE)&\" \"&VLOOKUP(PTA!BO40,AL_NUM_ARB,6,FALSE)))","v":"X"},{"$f":"IF(OR(PTA!BP40=\"\",PTA!BP40=\"X\"),\"X\",IF(PTA!BP40=\"*\",\"*\",VLOOKUP(PTA!BP40,AL_NUM_ARB,2,FALSE)&\" \"&VLOOKUP(PTA!BP40,AL_NUM_ARB,4,FALSE)&\" \"&VLOOKUP(PTA!BP40,AL_NUM_ARB,6,FALSE)))","v":"X"},{"$f":"IF(OR(PTA!BQ40=\"\",PTA!BQ40=\"X\"),\"X\",IF(PTA!BQ40=\"*\",\"*\",VLOOKUP(PTA!BQ40,AL_NUM_ARB,2,FALSE)&\" \"&VLOOKUP(PTA!BQ40,AL_NUM_ARB,4,FALSE)&\" \"&VLOOKUP(PTA!BQ40,AL_NUM_ARB,6,FALSE)))","v":"X"},{"$f":"IF(OR(PTA!BR40=\"\",PTA!BR40=\"X\"),\"X\",IF(PTA!BR40=\"*\",\"*\",VLOOKUP(PTA!BR40,AL_NUM_ARB,2,FALSE)&\" \"&VLOOKUP(PTA!BR40,AL_NUM_ARB,4,FALSE)&\" \"&VLOOKUP(PTA!BR40,AL_NUM_ARB,6,FALSE)))","v":"X"},{"$f":"IF(OR(PTA!BT40=\"\",PTA!BT40=\"X\"),\"X\",VLOOKUP(PTA!BT40,AL_NUM_ARB,2,FALSE)&\" \"&VLOOKUP(PTA!BT40,AL_NUM_ARB,4,FALSE)&\" \"&VLOOKUP(PTA!BT40,AL_NUM_ARB,6,FALSE))","v":"X"},{"$f":"IF(OR(PTA!BU40=\"\",PTA!BU40=\"X\"),\"X\",VLOOKUP(PTA!BU40,AL_NUM_ARB,2,FALSE)&\" \"&VLOOKUP(PTA!BU40,AL_NUM_ARB,4,FALSE)&\" \"&VLOOKUP(PTA!BU40,AL_NUM_ARB,6,FALSE))","v":"X"},{"$f":"IF(OR(PTA!BV40=\"\",PTA!BV40=\"X\"),\"X\",VLOOKUP(PTA!BV40,AL_NUM_ARB,2,FALSE)&\" \"&VLOOKUP(PTA!BV40,AL_NUM_ARB,4,FALSE)&\" \"&VLOOKUP(PTA!BV40,AL_NUM_ARB,6,FALSE))","v":"X"},{"$f":"IF(OR(PTA!BW40=\"\",PTA!BW40=\"X\"),\"X\",VLOOKUP(PTA!BW40,AL_NUM_ARB,2,FALSE)&\" \"&VLOOKUP(PTA!BW40,AL_NUM_ARB,4,FALSE)&\" \"&VLOOKUP(PTA!BW40,AL_NUM_ARB,6,FALSE))","v":"X"},"15:30:00"]
[{"$f":"PTA!A41","v":""},{"$f":"PTA!B41","v":"00:00:00"},{"$f":"PTA!C41","v":32},{"$f":"PTA!D41","v":0},{"$f":"IF(OR(PTA!E41=\"\",PTA!E41=\"X\"),\"X\",IF(PTA!E41=\"*\",\"*\",VLOOKUP(PTA!E41,AL_NUM_ARB,2,FALSE)&\" \"&VLOOKUP(PTA!E41,AL_NUM_ARB,4,FALSE)&\" \"&VLOOKUP(PTA!E41,AL_NUM_ARB,6,FALSE)))","v":"X"},{"$f":"IF(OR(PTA!F41=\"\",PTA!F41=\"X\"),\"X\",IF(PTA!F41=\"*\",\"*\",VLOOKUP(PTA!F41,AL_NUM_ARB,2,FALSE)&\" \"&VLOOKUP(PTA!F41,AL_NUM_ARB,4,FALSE)&\" \"&VLOOKUP(PTA!F41,AL_NUM_ARB,6,FALSE)))","v":"X"},{"$f":"IF(OR(PTA!G41=\"\",PTA!G41=\"X\"),\"X\",IF(PTA!G41=\"*\",\"*\",VLOOKUP(PTA!G41,AL_NUM_ARB,2,FALSE)&\" \"&VLOOKUP(PTA!G41,AL_NUM_ARB,4,FALSE)&\" \"&VLOOKUP(PTA!G41,AL_NUM_ARB,6,FALSE)))","v":"X"},{"$f":"IF(OR(PTA!H41=\"\",PTA!H41=\"X\"),\"X\",IF(PTA!H41=\"*\",\"*\",VLOOKUP(PTA!H41,AL_NUM_ARB,2,FALSE)&\" \"&VLOOKUP(PTA!H41,AL_NUM_ARB,4,FALSE)&\" \"&VLOOKUP(PTA!H41,AL_NUM_ARB,6,FALSE)))","v":"X"},{"$f":"IF(OR(PTA!I41=\"\",PTA!I41=\"X\"),\"X\",IF(PTA!I41=\"*\",\"*\",VLOOKUP(PTA!I41,AL_NUM_ARB,2,FALSE)&\" \"&VLOOKUP(PTA!I41,AL_NUM_ARB,4,FALSE)&\" \"&VLOOKUP(PTA!I41,AL_NUM_ARB,6,FALSE)))","v":"X"},{"$f":"IF(OR(PTA!J41=\"\",PTA!J41=\"X\"),\"X\",IF(PTA!J41=\"*\",\"*\",VLOOKUP(PTA!J41,AL_NUM_ARB,2,FALSE)&\" \"&VLOOKUP(PTA!J41,AL_NUM_ARB,4,FALSE)&\" \"&VLOOKUP(PTA!J41,AL_NUM_ARB,6,FALSE)))","v":"X"},{"$f":"IF(OR(PTA!K41=\"\",PTA!K41=\"X\"),\"X\",IF(PTA!K41=\"*\",\"*\",VLOOKUP(PTA!K41,AL_NUM_ARB,2,FALSE)&\" \"&VLOOKUP(PTA!K41,AL_NUM_ARB,4,FALSE)&\" \"&VLOOKUP(PTA!K41,AL_NUM_ARB,6,FALSE)))","v":"X"},{"$f":"IF(OR(PTA!L41=\"\",PTA!L41=\"X\"),\"X\",IF(PTA!L41=\"*\",\"*\",VLOOKUP(PTA!L41,AL_NUM_ARB,2,FALSE)&\" \"&VLOOKUP(PTA!L41,AL_NUM_ARB,4,FALSE)&\" \"&VLOOKUP(PTA!L41,AL_NUM_ARB,6,FALSE)))","v":"X"},{"$f":"IF(OR(PTA!M41=\"\",PTA!M41=\"X\"),\"X\",IF(PTA!M41=\"*\",\"*\",VLOOKUP(PTA!M41,AL_NUM_ARB,2,FALSE)&\" \"&VLOOKUP(PTA!M41,AL_NUM_ARB,4,FALSE)&\" \"&VLOOKUP(PTA!M41,AL_NUM_ARB,6,FALSE)))","v":"X"},{"$f":"IF(OR(PTA!N41=\"\",PTA!N41=\"X\"),\"X\",IF(PTA!N41=\"*\",\"*\",VLOOKUP(PTA!N41,AL_NUM_ARB,2,FALSE)&\" \"&VLOOKUP(PTA!N41,AL_NUM_ARB,4,FALSE)&\" \"&VLOOKUP(PTA!N41,AL_NUM_ARB,6,FALSE)))","v":"X"},{"$f":"IF(OR(PTA!O41=\"\",PTA!O41=\"X\"),\"X\",IF(PTA!O41=\"*\",\"*\",VLOOKUP(PTA!O41,AL_NUM_ARB,2,FALSE)&\" \"&VLOOKUP(PTA!O41,AL_NUM_ARB,4,FALSE)&\" \"&VLOOKUP(PTA!O41,AL_NUM_ARB,6,FALSE)))","v":"X"},{"$f":"IF(OR(PTA!P41=\"\",PTA!P41=\"X\"),\"X\",IF(PTA!P41=\"*\",\"*\",VLOOKUP(PTA!P41,AL_NUM_ARB,2,FALSE)&\" \"&VLOOKUP(PTA!P41,AL_NUM_ARB,4,FALSE)&\" \"&VLOOKUP(PTA!P41,AL_NUM_ARB,6,FALSE)))","v":"X"},{"$f":"IF(OR(PTA!Q41=\"\",PTA!Q41=\"X\"),\"X\",IF(PTA!Q41=\"*\",\"*\",VLOOKUP(PTA!Q41,AL_NUM_ARB,2,FALSE)&\" \"&VLOOKUP(PTA!Q41,AL_NUM_ARB,4,FALSE)&\" \"&VLOOKUP(PTA!Q41,AL_NUM_ARB,6,FALSE)))","v":"X"},{"$f":"IF(OR(PTA!R41=\"\",PTA!R41=\"X\"),\"X\",IF(PTA!R41=\"*\",\"*\",VLOOKUP(PTA!R41,AL_NUM_ARB,2,FALSE)&\" \"&VLOOKUP(PTA!R41,AL_NUM_ARB,4,FALSE)&\" \"&VLOOKUP(PTA!R41,AL_NUM_ARB,6,FALSE)))","v":"X"},{"$f":"IF(OR(PTA!S41=\"\",PTA!S41=\"X\"),\"X\",IF(PTA!S41=\"*\",\"*\",VLOOKUP(PTA!S41,AL_NUM_ARB,2,FALSE)&\" \"&VLOOKUP(PTA!S41,AL_NUM_ARB,4,FALSE)&\" \"&VLOOKUP(PTA!S41,AL_NUM_ARB,6,FALSE)))","v":"X"},{"$f":"IF(OR(PTA!T41=\"\",PTA!T41=\"X\"),\"X\",IF(PTA!T41=\"*\",\"*\",VLOOKUP(PTA!T41,AL_NUM_ARB,2,FALSE)&\" \"&VLOOKUP(PTA!T41,AL_NUM_ARB,4,FALSE)&\" \"&VLOOKUP(PTA!T41,AL_NUM_ARB,6,FALSE)))","v":"X"},{"$f":"IF(OR(PTA!U41=\"\",PTA!U41=\"X\"),\"X\",IF(PTA!U41=\"*\",\"*\",VLOOKUP(PTA!U41,AL_NUM_ARB,2,FALSE)&\" \"&VLOOKUP(PTA!U41,AL_NUM_ARB,4,FALSE)&\" \"&VLOOKUP(PTA!U41,AL_NUM_ARB,6,FALSE)))","v":"X"},{"$f":"IF(OR(PTA!V41=\"\",PTA!V41=\"X\"),\"X\",IF(PTA!V41=\"*\",\"*\",VLOOKUP(PTA!V41,AL_NUM_ARB,2,FALSE)&\" \"&VLOOKUP(PTA!V41,AL_NUM_ARB,4,FALSE)&\" \"&VLOOKUP(PTA!V41,AL_NUM_ARB,6,FALSE)))","v":"X"},{"$f":"IF(OR(PTA!W41=\"\",PTA!W41=\"X\"),\"X\",IF(PTA!W41=\"*\",\"*\",VLOOKUP(PTA!W41,AL_NUM_ARB,2,FALSE)&\" \"&VLOOKUP(PTA!W41,AL_NUM_ARB,4,FALSE)&\" \"&VLOOKUP(PTA!W41,AL_NUM_ARB,6,FALSE)))","v":"X"},{"$f":"IF(OR(PTA!X41=\"\",PTA!X41=\"X\"),\"X\",IF(PTA!X41=\"*\",\"*\",VLOOKUP(PTA!X41,AL_NUM_ARB,2,FALSE)&\" \"&VLOOKUP(PTA!X41,AL_NUM_ARB,4,FALSE)&\" \"&VLOOKUP(PTA!X41,AL_NUM_ARB,6,FALSE)))","v":"X"},{"$f":"IF(OR(PTA!Y41=\"\",PTA!Y41=\"X\"),\"X\",IF(PTA!Y41=\"*\",\"*\",VLOOKUP(PTA!Y41,AL_NUM_ARB,2,FALSE)&\" \"&VLOOKUP(PTA!Y41,AL_NUM_ARB,4,FALSE)&\" \"&VLOOKUP(PTA!Y41,AL_NUM_ARB,6,FALSE)))","v":"X"},{"$f":"IF(OR(PTA!Z41=\"\",PTA!Z41=\"X\"),\"X\",IF(PTA!Z41=\"*\",\"*\",VLOOKUP(PTA!Z41,AL_NUM_ARB,2,FALSE)&\" \"&VLOOKUP(PTA!Z41,AL_NUM_ARB,4,FALSE)&\" \"&VLOOKUP(PTA!Z41,AL_NUM_ARB,6,FALSE)))","v":"X"},{"$f":"IF(OR(PTA!AA41=\"\",PTA!AA41=\"X\"),\"X\",IF(PTA!AA41=\"*\",\"*\",VLOOKUP(PTA!AA41,AL_NUM_ARB,2,FALSE)&\" \"&VLOOKUP(PTA!AA41,AL_NUM_ARB,4,FALSE)&\" \"&VLOOKUP(PTA!AA41,AL_NUM_ARB,6,FALSE)))","v":"X"},{"$f":"IF(OR(PTA!AB41=\"\",PTA!AB41=\"X\"),\"X\",IF(PTA!AB41=\"*\",\"*\",VLOOKUP(PTA!AB41,AL_NUM_ARB,2,FALSE)&\" \"&VLOOKUP(PTA!AB41,AL_NUM_ARB,4,FALSE)&\" \"&VLOOKUP(PTA!AB41,AL_NUM_ARB,6,FALSE)))","v":"X"},{"$f":"IF(OR(PTA!AC41=\"\",PTA!AC41=\"X\"),\"X\",IF(PTA!AC41=\"*\",\"*\",VLOOKUP(PTA!AC41,AL_NUM_ARB,2,FALSE)&\" \"&VLOOKUP(PTA!AC41,AL_NUM_ARB,4,FALSE)&\" \"&VLOOKUP(PTA!AC41,AL_NUM_ARB,6,FALSE)))","v":"X"},{"$f":"IF(OR(PTA!AD41=\"\",PTA!AD41=\"X\"),\"X\",IF(PTA!AD41=\"*\",\"*\",VLOOKUP(PTA!AD41,AL_NUM_ARB,2,FALSE)&\" \"&VLOOKUP(PTA!AD41,AL_NUM_ARB,4,FALSE)&\" \"&VLOOKUP(PTA!AD41,AL_NUM_ARB,6,FALSE)))","v":"X"},{"$f":"IF(OR(PTA!AE41=\"\",PTA!AE41=\"X\"),\"X\",IF(PTA!AE41=\"*\",\"*\",VLOOKUP(PTA!AE41,AL_NUM_ARB,2,FALSE)&\" \"&VLOOKUP(PTA!AE41,AL_NUM_ARB,4,FALSE)&\" \"&VLOOKUP(PTA!AE41,AL_NUM_ARB,6,FALSE)))","v":"X"},{"$f":"IF(OR(PTA!AF41=\"\",PTA!AF41=\"X\"),\"X\",IF(PTA!AF41=\"*\",\"*\",VLOOKUP(PTA!AF41,AL_NUM_ARB,2,FALSE)&\" \"&VLOOKUP(PTA!AF41,AL_NUM_ARB,4,FALSE)&\" \"&VLOOKUP(PTA!AF41,AL_NUM_ARB,6,FALSE)))","v":"X"},{"$f":"IF(OR(PTA!AG41=\"\",PTA!AG41=\"X\"),\"X\",IF(PTA!AG41=\"*\",\"*\",VLOOKUP(PTA!AG41,AL_NUM_ARB,2,FALSE)&\" \"&VLOOKUP(PTA!AG41,AL_NUM_ARB,4,FALSE)&\" \"&VLOOKUP(PTA!AG41,AL_NUM_ARB,6,FALSE)))","v":"X"},{"$f":"IF(OR(PTA!AH41=\"\",PTA!AH41=\"X\"),\"X\",IF(PTA!AH41=\"*\",\"*\",VLOOKUP(PTA!AH41,AL_NUM_ARB,2,FALSE)&\" \"&VLOOKUP(PTA!AH41,AL_NUM_ARB,4,FALSE)&\" \"&VLOOKUP(PTA!AH41,AL_NUM_ARB,6,FALSE)))","v":"X"},{"$f":"IF(OR(PTA!AI41=\"\",PTA!AI41=\"X\"),\"X\",IF(PTA!AI41=\"*\",\"*\",VLOOKUP(PTA!AI41,AL_NUM_ARB,2,FALSE)&\" \"&VLOOKUP(PTA!AI41,AL_NUM_ARB,4,FALSE)&\" \"&VLOOKUP(PTA!AI41,AL_NUM_ARB,6,FALSE)))","v":"X"},{"$f":"IF(OR(PTA!AJ41=\"\",PTA!AJ41=\"X\"),\"X\",IF(PTA!AJ41=\"*\",\"*\",VLOOKUP(PTA!AJ41,AL_NUM_ARB,2,FALSE)&\" \"&VLOOKUP(PTA!AJ41,AL_NUM_ARB,4,FALSE)&\" \"&VLOOKUP(PTA!AJ41,AL_NUM_ARB,6,FALSE)))","v":"X"},{"$f":"IF(OR(PTA!AK41=\"\",PTA!AK41=\"X\"),\"X\",IF(PTA!AK41=\"*\",\"*\",VLOOKUP(PTA!AK41,AL_NUM_ARB,2,FALSE)&\" \"&VLOOKUP(PTA!AK41,AL_NUM_ARB,4,FALSE)&\" \"&VLOOKUP(PTA!AK41,AL_NUM_ARB,6,FALSE)))","v":"X"},{"$f":"IF(OR(PTA!AL41=\"\",PTA!AL41=\"X\"),\"X\",IF(PTA!AL41=\"*\",\"*\",VLOOKUP(PTA!AL41,AL_NUM_ARB,2,FALSE)&\" \"&VLOOKUP(PTA!AL41,AL_NUM_ARB,4,FALSE)&\" \"&VLOOKUP(PTA!AL41,AL_NUM_ARB,6,FALSE)))","v":"X"},{"$f":"IF(OR(PTA!AM41=\"\",PTA!AM41=\"X\"),\"X\",IF(PTA!AM41=\"*\",\"*\",VLOOKUP(PTA!AM41,AL_NUM_ARB,2,FALSE)&\" \"&VLOOKUP(PTA!AM41,AL_NUM_ARB,4,FALSE)&\" \"&VLOOKUP(PTA!AM41,AL_NUM_ARB,6,FALSE)))","v":"X"},{"$f":"IF(OR(PTA!AN41=\"\",PTA!AN41=\"X\"),\"X\",IF(PTA!AN41=\"*\",\"*\",VLOOKUP(PTA!AN41,AL_NUM_ARB,2,FALSE)&\" \"&VLOOKUP(PTA!AN41,AL_NUM_ARB,4,FALSE)&\" \"&VLOOKUP(PTA!AN41,AL_NUM_ARB,6,FALSE)))","v":"X"},{"$f":"IF(OR(PTA!AO41=\"\",PTA!AO41=\"X\"),\"X\",IF(PTA!AO41=\"*\",\"*\",VLOOKUP(PTA!AO41,AL_NUM_ARB,2,FALSE)&\" \"&VLOOKUP(PTA!AO41,AL_NUM_ARB,4,FALSE)&\" \"&VLOOKUP(PTA!AO41,AL_NUM_ARB,6,FALSE)))","v":"X"},{"$f":"IF(OR(PTA!AP41=\"\",PTA!AP41=\"X\"),\"X\",IF(PTA!AP41=\"*\",\"*\",VLOOKUP(PTA!AP41,AL_NUM_ARB,2,FALSE)&\" \"&VLOOKUP(PTA!AP41,AL_NUM_ARB,4,FALSE)&\" \"&VLOOKUP(PTA!AP41,AL_NUM_ARB,6,FALSE)))","v":"X"},{"$f":"IF(OR(PTA!AQ41=\"\",PTA!AQ41=\"X\"),\"X\",IF(PTA!AQ41=\"*\",\"*\",VLOOKUP(PTA!AQ41,AL_NUM_ARB,2,FALSE)&\" \"&VLOOKUP(PTA!AQ41,AL_NUM_ARB,4,FALSE)&\" \"&VLOOKUP(PTA!AQ41,AL_NUM_ARB,6,FALSE)))","v":"X"},{"$f":"IF(OR(PTA!AR41=\"\",PTA!AR41=\"X\"),\"X\",IF(PTA!AR41=\"*\",\"*\",VLOOKUP(PTA!AR41,AL_NUM_ARB,2,FALSE)&\" \"&VLOOKUP(PTA!AR41,AL_NUM_ARB,4,FALSE)&\" \"&VLOOKUP(PTA!AR41,AL_NUM_ARB,6,FALSE)))","v":"X"},{"$f":"IF(OR(PTA!AS41=\"\",PTA!AS41=\"X\"),\"X\",IF(PTA!AS41=\"*\",\"*\",VLOOKUP(PTA!AS41,AL_NUM_ARB,2,FALSE)&\" \"&VLOOKUP(PTA!AS41,AL_NUM_ARB,4,FALSE)&\" \"&VLOOKUP(PTA!AS41,AL_NUM_ARB,6,FALSE)))","v":"X"},{"$f":"IF(OR(PTA!AT41=\"\",PTA!AT41=\"X\"),\"X\",IF(PTA!AT41=\"*\",\"*\",VLOOKUP(PTA!AT41,AL_NUM_ARB,2,FALSE)&\" \"&VLOOKUP(PTA!AT41,AL_NUM_ARB,4,FALSE)&\" \"&VLOOKUP(PTA!AT41,AL_NUM_ARB,6,FALSE)))","v":"X"},{"$f":"IF(OR(PTA!AU41=\"\",PTA!AU41=\"X\"),\"X\",IF(PTA!AU41=\"*\",\"*\",VLOOKUP(PTA!AU41,AL_NUM_ARB,2,FALSE)&\" \"&VLOOKUP(PTA!AU41,AL_NUM_ARB,4,FALSE)&\" \"&VLOOKUP(PTA!AU41,AL_NUM_ARB,6,FALSE)))","v":"X"},{"$f":"IF(OR(PTA!AV41=\"\",PTA!AV41=\"X\"),\"X\",IF(PTA!AV41=\"*\",\"*\",VLOOKUP(PTA!AV41,AL_NUM_ARB,2,FALSE)&\" \"&VLOOKUP(PTA!AV41,AL_NUM_ARB,4,FALSE)&\" \"&VLOOKUP(PTA!AV41,AL_NUM_ARB,6,FALSE)))","v":"X"},{"$f":"IF(OR(PTA!AW41=\"\",PTA!AW41=\"X\"),\"X\",IF(PTA!AW41=\"*\",\"*\",VLOOKUP(PTA!AW41,AL_NUM_ARB,2,FALSE)&\" \"&VLOOKUP(PTA!AW41,AL_NUM_ARB,4,FALSE)&\" \"&VLOOKUP(PTA!AW41,AL_NUM_ARB,6,FALSE)))","v":"X"},{"$f":"IF(OR(PTA!AX41=\"\",PTA!AX41=\"X\"),\"X\",IF(PTA!AX41=\"*\",\"*\",VLOOKUP(PTA!AX41,AL_NUM_ARB,2,FALSE)&\" \"&VLOOKUP(PTA!AX41,AL_NUM_ARB,4,FALSE)&\" \"&VLOOKUP(PTA!AX41,AL_NUM_ARB,6,FALSE)))","v":"X"},{"$f":"IF(OR(PTA!AY41=\"\",PTA!AY41=\"X\"),\"X\",IF(PTA!AY41=\"*\",\"*\",VLOOKUP(PTA!AY41,AL_NUM_ARB,2,FALSE)&\" \"&VLOOKUP(PTA!AY41,AL_NUM_ARB,4,FALSE)&\" \"&VLOOKUP(PTA!AY41,AL_NUM_ARB,6,FALSE)))","v":"X"},{"$f":"IF(OR(PTA!AZ41=\"\",PTA!AZ41=\"X\"),\"X\",IF(PTA!AZ41=\"*\",\"*\",VLOOKUP(PTA!AZ41,AL_NUM_ARB,2,FALSE)&\" \"&VLOOKUP(PTA!AZ41,AL_NUM_ARB,4,FALSE)&\" \"&VLOOKUP(PTA!AZ41,AL_NUM_ARB,6,FALSE)))","v":"X"},{"$f":"IF(OR(PTA!BA41=\"\",PTA!BA41=\"X\"),\"X\",IF(PTA!BA41=\"*\",\"*\",VLOOKUP(PTA!BA41,AL_NUM_ARB,2,FALSE)&\" \"&VLOOKUP(PTA!BA41,AL_NUM_ARB,4,FALSE)&\" \"&VLOOKUP(PTA!BA41,AL_NUM_ARB,6,FALSE)))","v":"X"},{"$f":"IF(OR(PTA!BB41=\"\",PTA!BB41=\"X\"),\"X\",IF(PTA!BB41=\"*\",\"*\",VLOOKUP(PTA!BB41,AL_NUM_ARB,2,FALSE)&\" \"&VLOOKUP(PTA!BB41,AL_NUM_ARB,4,FALSE)&\" \"&VLOOKUP(PTA!BB41,AL_NUM_ARB,6,FALSE)))","v":"X"},{"$f":"IF(OR(PTA!BC41=\"\",PTA!BC41=\"X\"),\"X\",IF(PTA!BC41=\"*\",\"*\",VLOOKUP(PTA!BC41,AL_NUM_ARB,2,FALSE)&\" \"&VLOOKUP(PTA!BC41,AL_NUM_ARB,4,FALSE)&\" \"&VLOOKUP(PTA!BC41,AL_NUM_ARB,6,FALSE)))","v":"X"},{"$f":"IF(OR(PTA!BD41=\"\",PTA!BD41=\"X\"),\"X\",IF(PTA!BD41=\"*\",\"*\",VLOOKUP(PTA!BD41,AL_NUM_ARB,2,FALSE)&\" \"&VLOOKUP(PTA!BD41,AL_NUM_ARB,4,FALSE)&\" \"&VLOOKUP(PTA!BD41,AL_NUM_ARB,6,FALSE)))","v":"X"},{"$f":"IF(OR(PTA!BE41=\"\",PTA!BE41=\"X\"),\"X\",IF(PTA!BE41=\"*\",\"*\",VLOOKUP(PTA!BE41,AL_NUM_ARB,2,FALSE)&\" \"&VLOOKUP(PTA!BE41,AL_NUM_ARB,4,FALSE)&\" \"&VLOOKUP(PTA!BE41,AL_NUM_ARB,6,FALSE)))","v":"X"},{"$f":"IF(OR(PTA!BF41=\"\",PTA!BF41=\"X\"),\"X\",IF(PTA!BF41=\"*\",\"*\",VLOOKUP(PTA!BF41,AL_NUM_ARB,2,FALSE)&\" \"&VLOOKUP(PTA!BF41,AL_NUM_ARB,4,FALSE)&\" \"&VLOOKUP(PTA!BF41,AL_NUM_ARB,6,FALSE)))","v":"X"},{"$f":"IF(OR(PTA!BG41=\"\",PTA!BG41=\"X\"),\"X\",IF(PTA!BG41=\"*\",\"*\",VLOOKUP(PTA!BG41,AL_NUM_ARB,2,FALSE)&\" \"&VLOOKUP(PTA!BG41,AL_NUM_ARB,4,FALSE)&\" \"&VLOOKUP(PTA!BG41,AL_NUM_ARB,6,FALSE)))","v":"X"},{"$f":"IF(OR(PTA!BH41=\"\",PTA!BH41=\"X\"),\"X\",IF(PTA!BH41=\"*\",\"*\",VLOOKUP(PTA!BH41,AL_NUM_ARB,2,FALSE)&\" \"&VLOOKUP(PTA!BH41,AL_NUM_ARB,4,FALSE)&\" \"&VLOOKUP(PTA!BH41,AL_NUM_ARB,6,FALSE)))","v":"X"},{"$f":"IF(OR(PTA!BI41=\"\",PTA!BI41=\"X\"),\"X\",IF(PTA!BI41=\"*\",\"*\",VLOOKUP(PTA!BI41,AL_NUM_ARB,2,FALSE)&\" \"&VLOOKUP(PTA!BI41,AL_NUM_ARB,4,FALSE)&\" \"&VLOOKUP(PTA!BI41,AL_NUM_ARB,6,FALSE)))","v":"X"},{"$f":"IF(OR(PTA!BJ41=\"\",PTA!BJ41=\"X\"),\"X\",IF(PTA!BJ41=\"*\",\"*\",VLOOKUP(PTA!BJ41,AL_NUM_ARB,2,FALSE)&\" \"&VLOOKUP(PTA!BJ41,AL_NUM_ARB,4,FALSE)&\" \"&VLOOKUP(PTA!BJ41,AL_NUM_ARB,6,FALSE)))","v":"X"},{"$f":"IF(OR(PTA!BK41=\"\",PTA!BK41=\"X\"),\"X\",IF(PTA!BK41=\"*\",\"*\",VLOOKUP(PTA!BK41,AL_NUM_ARB,2,FALSE)&\" \"&VLOOKUP(PTA!BK41,AL_NUM_ARB,4,FALSE)&\" \"&VLOOKUP(PTA!BK41,AL_NUM_ARB,6,FALSE)))","v":"X"},{"$f":"IF(OR(PTA!BL41=\"\",PTA!BL41=\"X\"),\"X\",IF(PTA!BL41=\"*\",\"*\",VLOOKUP(PTA!BL41,AL_NUM_ARB,2,FALSE)&\" \"&VLOOKUP(PTA!BL41,AL_NUM_ARB,4,FALSE)&\" \"&VLOOKUP(PTA!BL41,AL_NUM_ARB,6,FALSE)))","v":"X"},{"$f":"IF(OR(PTA!BM41=\"\",PTA!BM41=\"X\"),\"X\",IF(PTA!BM41=\"*\",\"*\",VLOOKUP(PTA!BM41,AL_NUM_ARB,2,FALSE)&\" \"&VLOOKUP(PTA!BM41,AL_NUM_ARB,4,FALSE)&\" \"&VLOOKUP(PTA!BM41,AL_NUM_ARB,6,FALSE)))","v":"X"},{"$f":"IF(OR(PTA!BN41=\"\",PTA!BN41=\"X\"),\"X\",IF(PTA!BN41=\"*\",\"*\",VLOOKUP(PTA!BN41,AL_NUM_ARB,2,FALSE)&\" \"&VLOOKUP(PTA!BN41,AL_NUM_ARB,4,FALSE)&\" \"&VLOOKUP(PTA!BN41,AL_NUM_ARB,6,FALSE)))","v":"X"},{"$f":"IF(OR(PTA!BO41=\"\",PTA!BO41=\"X\"),\"X\",IF(PTA!BO41=\"*\",\"*\",VLOOKUP(PTA!BO41,AL_NUM_ARB,2,FALSE)&\" \"&VLOOKUP(PTA!BO41,AL_NUM_ARB,4,FALSE)&\" \"&VLOOKUP(PTA!BO41,AL_NUM_ARB,6,FALSE)))","v":"X"},{"$f":"IF(OR(PTA!BP41=\"\",PTA!BP41=\"X\"),\"X\",IF(PTA!BP41=\"*\",\"*\",VLOOKUP(PTA!BP41,AL_NUM_ARB,2,FALSE)&\" \"&VLOOKUP(PTA!BP41,AL_NUM_ARB,4,FALSE)&\" \"&VLOOKUP(PTA!BP41,AL_NUM_ARB,6,FALSE)))","v":"X"},{"$f":"IF(OR(PTA!BQ41=\"\",PTA!BQ41=\"X\"),\"X\",IF(PTA!BQ41=\"*\",\"*\",VLOOKUP(PTA!BQ41,AL_NUM_ARB,2,FALSE)&\" \"&VLOOKUP(PTA!BQ41,AL_NUM_ARB,4,FALSE)&\" \"&VLOOKUP(PTA!BQ41,AL_NUM_ARB,6,FALSE)))","v":"X"},{"$f":"IF(OR(PTA!BR41=\"\",PTA!BR41=\"X\"),\"X\",IF(PTA!BR41=\"*\",\"*\",VLOOKUP(PTA!BR41,AL_NUM_ARB,2,FALSE)&\" \"&VLOOKUP(PTA!BR41,AL_NUM_ARB,4,FALSE)&\" \"&VLOOKUP(PTA!BR41,AL_NUM_ARB,6,FALSE)))","v":"X"},{"$f":"IF(OR(PTA!BT41=\"\",PTA!BT41=\"X\"),\"X\",VLOOKUP(PTA!BT41,AL_NUM_ARB,2,FALSE)&\" \"&VLOOKUP(PTA!BT41,AL_NUM_ARB,4,FALSE)&\" \"&VLOOKUP(PTA!BT41,AL_NUM_ARB,6,FALSE))","v":"X"},{"$f":"IF(OR(PTA!BU41=\"\",PTA!BU41=\"X\"),\"X\",VLOOKUP(PTA!BU41,AL_NUM_ARB,2,FALSE)&\" \"&VLOOKUP(PTA!BU41,AL_NUM_ARB,4,FALSE)&\" \"&VLOOKUP(PTA!BU41,AL_NUM_ARB,6,FALSE))","v":"X"},{"$f":"IF(OR(PTA!BV41=\"\",PTA!BV41=\"X\"),\"X\",VLOOKUP(PTA!BV41,AL_NUM_ARB,2,FALSE)&\" \"&VLOOKUP(PTA!BV41,AL_NUM_ARB,4,FALSE)&\" \"&VLOOKUP(PTA!BV41,AL_NUM_ARB,6,FALSE))","v":"X"},{"$f":"IF(OR(PTA!BW41=\"\",PTA!BW41=\"X\"),\"X\",VLOOKUP(PTA!BW41,AL_NUM_ARB,2,FALSE)&\" \"&VLOOKUP(PTA!BW41,AL_NUM_ARB,4,FALSE)&\" \"&VLOOKUP(PTA!BW41,AL_NUM_ARB,6,FALSE))","v":"X"},"16:00:00"]
[{"$f":"PTA!A42","v":""},{"$f":"PTA!B42","v":"00:00:00"},{"$f":"PTA!C42","v":32},{"$f":"PTA!D42","v":0},{"$f":"IF(OR(PTA!E42=\"\",PTA!E42=\"X\"),\"X\",IF(PTA!E42=\"*\",\"*\",VLOOKUP(PTA!E42,AL_NUM_ARB,2,FALSE)&\" \"&VLOOKUP(PTA!E42,AL_NUM_ARB,4,FALSE)&\" \"&VLOOKUP(PTA!E42,AL_NUM_ARB,6,FALSE)))","v":"X"},{"$f":"IF(OR(PTA!F42=\"\",PTA!F42=\"X\"),\"X\",IF(PTA!F42=\"*\",\"*\",VLOOKUP(PTA!F42,AL_NUM_ARB,2,FALSE)&\" \"&VLOOKUP(PTA!F42,AL_NUM_ARB,4,FALSE)&\" \"&VLOOKUP(PTA!F42,AL_NUM_ARB,6,FALSE)))","v":"X"},{"$f":"IF(OR(PTA!G42=\"\",PTA!G42=\"X\"),\"X\",IF(PTA!G42=\"*\",\"*\",VLOOKUP(PTA!G42,AL_NUM_ARB,2,FALSE)&\" \"&VLOOKUP(PTA!G42,AL_NUM_ARB,4,FALSE)&\" \"&VLOOKUP(PTA!G42,AL_NUM_ARB,6,FALSE)))","v":"X"},{"$f":"IF(OR(PTA!H42=\"\",PTA!H42=\"X\"),\"X\",IF(PTA!H42=\"*\",\"*\",VLOOKUP(PTA!H42,AL_NUM_ARB,2,FALSE)&\" \"&VLOOKUP(PTA!H42,AL_NUM_ARB,4,FALSE)&\" \"&VLOOKUP(PTA!H42,AL_NUM_ARB,6,FALSE)))","v":"X"},{"$f":"IF(OR(PTA!I42=\"\",PTA!I42=\"X\"),\"X\",IF(PTA!I42=\"*\",\"*\",VLOOKUP(PTA!I42,AL_NUM_ARB,2,FALSE)&\" \"&VLOOKUP(PTA!I42,AL_NUM_ARB,4,FALSE)&\" \"&VLOOKUP(PTA!I42,AL_NUM_ARB,6,FALSE)))","v":"X"},{"$f":"IF(OR(PTA!J42=\"\",PTA!J42=\"X\"),\"X\",IF(PTA!J42=\"*\",\"*\",VLOOKUP(PTA!J42,AL_NUM_ARB,2,FALSE)&\" \"&VLOOKUP(PTA!J42,AL_NUM_ARB,4,FALSE)&\" \"&VLOOKUP(PTA!J42,AL_NUM_ARB,6,FALSE)))","v":"X"},{"$f":"IF(OR(PTA!K42=\"\",PTA!K42=\"X\"),\"X\",IF(PTA!K42=\"*\",\"*\",VLOOKUP(PTA!K42,AL_NUM_ARB,2,FALSE)&\" \"&VLOOKUP(PTA!K42,AL_NUM_ARB,4,FALSE)&\" \"&VLOOKUP(PTA!K42,AL_NUM_ARB,6,FALSE)))","v":"X"},{"$f":"IF(OR(PTA!L42=\"\",PTA!L42=\"X\"),\"X\",IF(PTA!L42=\"*\",\"*\",VLOOKUP(PTA!L42,AL_NUM_ARB,2,FALSE)&\" \"&VLOOKUP(PTA!L42,AL_NUM_ARB,4,FALSE)&\" \"&VLOOKUP(PTA!L42,AL_NUM_ARB,6,FALSE)))","v":"X"},{"$f":"IF(OR(PTA!M42=\"\",PTA!M42=\"X\"),\"X\",IF(PTA!M42=\"*\",\"*\",VLOOKUP(PTA!M42,AL_NUM_ARB,2,FALSE)&\" \"&VLOOKUP(PTA!M42,AL_NUM_ARB,4,FALSE)&\" \"&VLOOKUP(PTA!M42,AL_NUM_ARB,6,FALSE)))","v":"X"},{"$f":"IF(OR(PTA!N42=\"\",PTA!N42=\"X\"),\"X\",IF(PTA!N42=\"*\",\"*\",VLOOKUP(PTA!N42,AL_NUM_ARB,2,FALSE)&\" \"&VLOOKUP(PTA!N42,AL_NUM_ARB,4,FALSE)&\" \"&VLOOKUP(PTA!N42,AL_NUM_ARB,6,FALSE)))","v":"X"},{"$f":"IF(OR(PTA!O42=\"\",PTA!O42=\"X\"),\"X\",IF(PTA!O42=\"*\",\"*\",VLOOKUP(PTA!O42,AL_NUM_ARB,2,FALSE)&\" \"&VLOOKUP(PTA!O42,AL_NUM_ARB,4,FALSE)&\" \"&VLOOKUP(PTA!O42,AL_NUM_ARB,6,FALSE)))","v":"X"},{"$f":"IF(OR(PTA!P42=\"\",PTA!P42=\"X\"),\"X\",IF(PTA!P42=\"*\",\"*\",VLOOKUP(PTA!P42,AL_NUM_ARB,2,FALSE)&\" \"&VLOOKUP(PTA!P42,AL_NUM_ARB,4,FALSE)&\" \"&VLOOKUP(PTA!P42,AL_NUM_ARB,6,FALSE)))","v":"X"},{"$f":"IF(OR(PTA!Q42=\"\",PTA!Q42=\"X\"),\"X\",IF(PTA!Q42=\"*\",\"*\",VLOOKUP(PTA!Q42,AL_NUM_ARB,2,FALSE)&\" \"&VLOOKUP(PTA!Q42,AL_NUM_ARB,4,FALSE)&\" \"&VLOOKUP(PTA!Q42,AL_NUM_ARB,6,FALSE)))","v":"X"},{"$f":"IF(OR(PTA!R42=\"\",PTA!R42=\"X\"),\"X\",IF(PTA!R42=\"*\",\"*\",VLOOKUP(PTA!R42,AL_NUM_ARB,2,FALSE)&\" \"&VLOOKUP(PTA!R42,AL_NUM_ARB,4,FALSE)&\" \"&VLOOKUP(PTA!R42,AL_NUM_ARB,6,FALSE)))","v":"X"},{"$f":"IF(OR(PTA!S42=\"\",PTA!S42=\"X\"),\"X\",IF(PTA!S42=\"*\",\"*\",VLOOKUP(PTA!S42,AL_NUM_ARB,2,FALSE)&\" \"&VLOOKUP(PTA!S42,AL_NUM_ARB,4,FALSE)&\" \"&VLOOKUP(PTA!S42,AL_NUM_ARB,6,FALSE)))","v":"X"},{"$f":"IF(OR(PTA!T42=\"\",PTA!T42=\"X\"),\"X\",IF(PTA!T42=\"*\",\"*\",VLOOKUP(PTA!T42,AL_NUM_ARB,2,FALSE)&\" \"&VLOOKUP(PTA!T42,AL_NUM_ARB,4,FALSE)&\" \"&VLOOKUP(PTA!T42,AL_NUM_ARB,6,FALSE)))","v":"X"},{"$f":"IF(OR(PTA!U42=\"\",PTA!U42=\"X\"),\"X\",IF(PTA!U42=\"*\",\"*\",VLOOKUP(PTA!U42,AL_NUM_ARB,2,FALSE)&\" \"&VLOOKUP(PTA!U42,AL_NUM_ARB,4,FALSE)&\" \"&VLOOKUP(PTA!U42,AL_NUM_ARB,6,FALSE)))","v":"X"},{"$f":"IF(OR(PTA!V42=\"\",PTA!V42=\"X\"),\"X\",IF(PTA!V42=\"*\",\"*\",VLOOKUP(PTA!V42,AL_NUM_ARB,2,FALSE)&\" \"&VLOOKUP(PTA!V42,AL_NUM_ARB,4,FALSE)&\" \"&VLOOKUP(PTA!V42,AL_NUM_ARB,6,FALSE)))","v":"X"},{"$f":"IF(OR(PTA!W42=\"\",PTA!W42=\"X\"),\"X\",IF(PTA!W42=\"*\",\"*\",VLOOKUP(PTA!W42,AL_NUM_ARB,2,FALSE)&\" \"&VLOOKUP(PTA!W42,AL_NUM_ARB,4,FALSE)&\" \"&VLOOKUP(PTA!W42,AL_NUM_ARB,6,FALSE)))","v":"X"},{"$f":"IF(OR(PTA!X42=\"\",PTA!X42=\"X\"),\"X\",IF(PTA!X42=\"*\",\"*\",VLOOKUP(PTA!X42,AL_NUM_ARB,2,FALSE)&\" \"&VLOOKUP(PTA!X42,AL_NUM_ARB,4,FALSE)&\" \"&VLOOKUP(PTA!X42,AL_NUM_ARB,6,FALSE)))","v":"X"},{"$f":"IF(OR(PTA!Y42=\"\",PTA!Y42=\"X\"),\"X\",IF(PTA!Y42=\"*\",\"*\",VLOOKUP(PTA!Y42,AL_NUM_ARB,2,FALSE)&\" \"&VLOOKUP(PTA!Y42,AL_NUM_ARB,4,FALSE)&\" \"&VLOOKUP(PTA!Y42,AL_NUM_ARB,6,FALSE)))","v":"X"},{"$f":"IF(OR(PTA!Z42=\"\",PTA!Z42=\"X\"),\"X\",IF(PTA!Z42=\"*\",\"*\",VLOOKUP(PTA!Z42,AL_NUM_ARB,2,FALSE)&\" \"&VLOOKUP(PTA!Z42,AL_NUM_ARB,4,FALSE)&\" \"&VLOOKUP(PTA!Z42,AL_NUM_ARB,6,FALSE)))","v":"X"},{"$f":"IF(OR(PTA!AA42=\"\",PTA!AA42=\"X\"),\"X\",IF(PTA!AA42=\"*\",\"*\",VLOOKUP(PTA!AA42,AL_NUM_ARB,2,FALSE)&\" \"&VLOOKUP(PTA!AA42,AL_NUM_ARB,4,FALSE)&\" \"&VLOOKUP(PTA!AA42,AL_NUM_ARB,6,FALSE)))","v":"X"},{"$f":"IF(OR(PTA!AB42=\"\",PTA!AB42=\"X\"),\"X\",IF(PTA!AB42=\"*\",\"*\",VLOOKUP(PTA!AB42,AL_NUM_ARB,2,FALSE)&\" \"&VLOOKUP(PTA!AB42,AL_NUM_ARB,4,FALSE)&\" \"&VLOOKUP(PTA!AB42,AL_NUM_ARB,6,FALSE)))","v":"X"},{"$f":"IF(OR(PTA!AC42=\"\",PTA!AC42=\"X\"),\"X\",IF(PTA!AC42=\"*\",\"*\",VLOOKUP(PTA!AC42,AL_NUM_ARB,2,FALSE)&\" \"&VLOOKUP(PTA!AC42,AL_NUM_ARB,4,FALSE)&\" \"&VLOOKUP(PTA!AC42,AL_NUM_ARB,6,FALSE)))","v":"X"},{"$f":"IF(OR(PTA!AD42=\"\",PTA!AD42=\"X\"),\"X\",IF(PTA!AD42=\"*\",\"*\",VLOOKUP(PTA!AD42,AL_NUM_ARB,2,FALSE)&\" \"&VLOOKUP(PTA!AD42,AL_NUM_ARB,4,FALSE)&\" \"&VLOOKUP(PTA!AD42,AL_NUM_ARB,6,FALSE)))","v":"X"},{"$f":"IF(OR(PTA!AE42=\"\",PTA!AE42=\"X\"),\"X\",IF(PTA!AE42=\"*\",\"*\",VLOOKUP(PTA!AE42,AL_NUM_ARB,2,FALSE)&\" \"&VLOOKUP(PTA!AE42,AL_NUM_ARB,4,FALSE)&\" \"&VLOOKUP(PTA!AE42,AL_NUM_ARB,6,FALSE)))","v":"X"},{"$f":"IF(OR(PTA!AF42=\"\",PTA!AF42=\"X\"),\"X\",IF(PTA!AF42=\"*\",\"*\",VLOOKUP(PTA!AF42,AL_NUM_ARB,2,FALSE)&\" \"&VLOOKUP(PTA!AF42,AL_NUM_ARB,4,FALSE)&\" \"&VLOOKUP(PTA!AF42,AL_NUM_ARB,6,FALSE)))","v":"X"},{"$f":"IF(OR(PTA!AG42=\"\",PTA!AG42=\"X\"),\"X\",IF(PTA!AG42=\"*\",\"*\",VLOOKUP(PTA!AG42,AL_NUM_ARB,2,FALSE)&\" \"&VLOOKUP(PTA!AG42,AL_NUM_ARB,4,FALSE)&\" \"&VLOOKUP(PTA!AG42,AL_NUM_ARB,6,FALSE)))","v":"X"},{"$f":"IF(OR(PTA!AH42=\"\",PTA!AH42=\"X\"),\"X\",IF(PTA!AH42=\"*\",\"*\",VLOOKUP(PTA!AH42,AL_NUM_ARB,2,FALSE)&\" \"&VLOOKUP(PTA!AH42,AL_NUM_ARB,4,FALSE)&\" \"&VLOOKUP(PTA!AH42,AL_NUM_ARB,6,FALSE)))","v":"X"},{"$f":"IF(OR(PTA!AI42=\"\",PTA!AI42=\"X\"),\"X\",IF(PTA!AI42=\"*\",\"*\",VLOOKUP(PTA!AI42,AL_NUM_ARB,2,FALSE)&\" \"&VLOOKUP(PTA!AI42,AL_NUM_ARB,4,FALSE)&\" \"&VLOOKUP(PTA!AI42,AL_NUM_ARB,6,FALSE)))","v":"X"},{"$f":"IF(OR(PTA!AJ42=\"\",PTA!AJ42=\"X\"),\"X\",IF(PTA!AJ42=\"*\",\"*\",VLOOKUP(PTA!AJ42,AL_NUM_ARB,2,FALSE)&\" \"&VLOOKUP(PTA!AJ42,AL_NUM_ARB,4,FALSE)&\" \"&VLOOKUP(PTA!AJ42,AL_NUM_ARB,6,FALSE)))","v":"X"},{"$f":"IF(OR(PTA!AK42=\"\",PTA!AK42=\"X\"),\"X\",IF(PTA!AK42=\"*\",\"*\",VLOOKUP(PTA!AK42,AL_NUM_ARB,2,FALSE)&\" \"&VLOOKUP(PTA!AK42,AL_NUM_ARB,4,FALSE)&\" \"&VLOOKUP(PTA!AK42,AL_NUM_ARB,6,FALSE)))","v":"X"},{"$f":"IF(OR(PTA!AL42=\"\",PTA!AL42=\"X\"),\"X\",IF(PTA!AL42=\"*\",\"*\",VLOOKUP(PTA!AL42,AL_NUM_ARB,2,FALSE)&\" \"&VLOOKUP(PTA!AL42,AL_NUM_ARB,4,FALSE)&\" \"&VLOOKUP(PTA!AL42,AL_NUM_ARB,6,FALSE)))","v":"X"},{"$f":"IF(OR(PTA!AM42=\"\",PTA!AM42=\"X\"),\"X\",IF(PTA!AM42=\"*\",\"*\",VLOOKUP(PTA!AM42,AL_NUM_ARB,2,FALSE)&\" \"&VLOOKUP(PTA!AM42,AL_NUM_ARB,4,FALSE)&\" \"&VLOOKUP(PTA!AM42,AL_NUM_ARB,6,FALSE)))","v":"X"},{"$f":"IF(OR(PTA!AN42=\"\",PTA!AN42=\"X\"),\"X\",IF(PTA!AN42=\"*\",\"*\",VLOOKUP(PTA!AN42,AL_NUM_ARB,2,FALSE)&\" \"&VLOOKUP(PTA!AN42,AL_NUM_ARB,4,FALSE)&\" \"&VLOOKUP(PTA!AN42,AL_NUM_ARB,6,FALSE)))","v":"X"},{"$f":"IF(OR(PTA!AO42=\"\",PTA!AO42=\"X\"),\"X\",IF(PTA!AO42=\"*\",\"*\",VLOOKUP(PTA!AO42,AL_NUM_ARB,2,FALSE)&\" \"&VLOOKUP(PTA!AO42,AL_NUM_ARB,4,FALSE)&\" \"&VLOOKUP(PTA!AO42,AL_NUM_ARB,6,FALSE)))","v":"X"},{"$f":"IF(OR(PTA!AP42=\"\",PTA!AP42=\"X\"),\"X\",IF(PTA!AP42=\"*\",\"*\",VLOOKUP(PTA!AP42,AL_NUM_ARB,2,FALSE)&\" \"&VLOOKUP(PTA!AP42,AL_NUM_ARB,4,FALSE)&\" \"&VLOOKUP(PTA!AP42,AL_NUM_ARB,6,FALSE)))","v":"X"},{"$f":"IF(OR(PTA!AQ42=\"\",PTA!AQ42=\"X\"),\"X\",IF(PTA!AQ42=\"*\",\"*\",VLOOKUP(PTA!AQ42,AL_NUM_ARB,2,FALSE)&\" \"&VLOOKUP(PTA!AQ42,AL_NUM_ARB,4,FALSE)&\" \"&VLOOKUP(PTA!AQ42,AL_NUM_ARB,6,FALSE)))","v":"X"},{"$f":"IF(OR(PTA!AR42=\"\",PTA!AR42=\"X\"),\"X\",IF(PTA!AR42=\"*\",\"*\",VLOOKUP(PTA!AR42,AL_NUM_ARB,2,FALSE)&\" \"&VLOOKUP(PTA!AR42,AL_NUM_ARB,4,FALSE)&\" \"&VLOOKUP(PTA!AR42,AL_NUM_ARB,6,FALSE)))","v":"X"},{"$f":"IF(OR(PTA!AS42=\"\",PTA!AS42=\"X\"),\"X\",IF(PTA!AS42=\"*\",\"*\",VLOOKUP(PTA!AS42,AL_NUM_ARB,2,FALSE)&\" \"&VLOOKUP(PTA!AS42,AL_NUM_ARB,4,FALSE)&\" \"&VLOOKUP(PTA!AS42,AL_NUM_ARB,6,FALSE)))","v":"X"},{"$f":"IF(OR(PTA!AT42=\"\",PTA!AT42=\"X\"),\"X\",IF(PTA!AT42=\"*\",\"*\",VLOOKUP(PTA!AT42,AL_NUM_ARB,2,FALSE)&\" \"&VLOOKUP(PTA!AT42,AL_NUM_ARB,4,FALSE)&\" \"&VLOOKUP(PTA!AT42,AL_NUM_ARB,6,FALSE)))","v":"X"},{"$f":"IF(OR(PTA!AU42=\"\",PTA!AU42=\"X\"),\"X\",IF(PTA!AU42=\"*\",\"*\",VLOOKUP(PTA!AU42,AL_NUM_ARB,2,FALSE)&\" \"&VLOOKUP(PTA!AU42,AL_NUM_ARB,4,FALSE)&\" \"&VLOOKUP(PTA!AU42,AL_NUM_ARB,6,FALSE)))","v":"X"},{"$f":"IF(OR(PTA!AV42=\"\",PTA!AV42=\"X\"),\"X\",IF(PTA!AV42=\"*\",\"*\",VLOOKUP(PTA!AV42,AL_NUM_ARB,2,FALSE)&\" \"&VLOOKUP(PTA!AV42,AL_NUM_ARB,4,FALSE)&\" \"&VLOOKUP(PTA!AV42,AL_NUM_ARB,6,FALSE)))","v":"X"},{"$f":"IF(OR(PTA!AW42=\"\",PTA!AW42=\"X\"),\"X\",IF(PTA!AW42=\"*\",\"*\",VLOOKUP(PTA!AW42,AL_NUM_ARB,2,FALSE)&\" \"&VLOOKUP(PTA!AW42,AL_NUM_ARB,4,FALSE)&\" \"&VLOOKUP(PTA!AW42,AL_NUM_ARB,6,FALSE)))","v":"X"},{"$f":"IF(OR(PTA!AX42=\"\",PTA!AX42=\"X\"),\"X\",IF(PTA!AX42=\"*\",\"*\",VLOOKUP(PTA!AX42,AL_NUM_ARB,2,FALSE)&\" \"&VLOOKUP(PTA!AX42,AL_NUM_ARB,4,FALSE)&\" \"&VLOOKUP(PTA!AX42,AL_NUM_ARB,6,FALSE)))","v":"X"},{"$f":"IF(OR(PTA!AY42=\"\",PTA!AY42=\"X\"),\"X\",IF(PTA!AY42=\"*\",\"*\",VLOOKUP(PTA!AY42,AL_NUM_ARB,2,FALSE)&\" \"&VLOOKUP(PTA!AY42,AL_NUM_ARB,4,FALSE)&\" \"&VLOOKUP(PTA!AY42,AL_NUM_ARB,6,FALSE)))","v":"X"},{"$f":"IF(OR(PTA!AZ42=\"\",PTA!AZ42=\"X\"),\"X\",IF(PTA!AZ42=\"*\",\"*\",VLOOKUP(PTA!AZ42,AL_NUM_ARB,2,FALSE)&\" \"&VLOOKUP(PTA!AZ42,AL_NUM_ARB,4,FALSE)&\" \"&VLOOKUP(PTA!AZ42,AL_NUM_ARB,6,FALSE)))","v":"X"},{"$f":"IF(OR(PTA!BA42=\"\",PTA!BA42=\"X\"),\"X\",IF(PTA!BA42=\"*\",\"*\",VLOOKUP(PTA!BA42,AL_NUM_ARB,2,FALSE)&\" \"&VLOOKUP(PTA!BA42,AL_NUM_ARB,4,FALSE)&\" \"&VLOOKUP(PTA!BA42,AL_NUM_ARB,6,FALSE)))","v":"X"},{"$f":"IF(OR(PTA!BB42=\"\",PTA!BB42=\"X\"),\"X\",IF(PTA!BB42=\"*\",\"*\",VLOOKUP(PTA!BB42,AL_NUM_ARB,2,FALSE)&\" \"&VLOOKUP(PTA!BB42,AL_NUM_ARB,4,FALSE)&\" \"&VLOOKUP(PTA!BB42,AL_NUM_ARB,6,FALSE)))","v":"X"},{"$f":"IF(OR(PTA!BC42=\"\",PTA!BC42=\"X\"),\"X\",IF(PTA!BC42=\"*\",\"*\",VLOOKUP(PTA!BC42,AL_NUM_ARB,2,FALSE)&\" \"&VLOOKUP(PTA!BC42,AL_NUM_ARB,4,FALSE)&\" \"&VLOOKUP(PTA!BC42,AL_NUM_ARB,6,FALSE)))","v":"X"},{"$f":"IF(OR(PTA!BD42=\"\",PTA!BD42=\"X\"),\"X\",IF(PTA!BD42=\"*\",\"*\",VLOOKUP(PTA!BD42,AL_NUM_ARB,2,FALSE)&\" \"&VLOOKUP(PTA!BD42,AL_NUM_ARB,4,FALSE)&\" \"&VLOOKUP(PTA!BD42,AL_NUM_ARB,6,FALSE)))","v":"X"},{"$f":"IF(OR(PTA!BE42=\"\",PTA!BE42=\"X\"),\"X\",IF(PTA!BE42=\"*\",\"*\",VLOOKUP(PTA!BE42,AL_NUM_ARB,2,FALSE)&\" \"&VLOOKUP(PTA!BE42,AL_NUM_ARB,4,FALSE)&\" \"&VLOOKUP(PTA!BE42,AL_NUM_ARB,6,FALSE)))","v":"X"},{"$f":"IF(OR(PTA!BF42=\"\",PTA!BF42=\"X\"),\"X\",IF(PTA!BF42=\"*\",\"*\",VLOOKUP(PTA!BF42,AL_NUM_ARB,2,FALSE)&\" \"&VLOOKUP(PTA!BF42,AL_NUM_ARB,4,FALSE)&\" \"&VLOOKUP(PTA!BF42,AL_NUM_ARB,6,FALSE)))","v":"X"},{"$f":"IF(OR(PTA!BG42=\"\",PTA!BG42=\"X\"),\"X\",IF(PTA!BG42=\"*\",\"*\",VLOOKUP(PTA!BG42,AL_NUM_ARB,2,FALSE)&\" \"&VLOOKUP(PTA!BG42,AL_NUM_ARB,4,FALSE)&\" \"&VLOOKUP(PTA!BG42,AL_NUM_ARB,6,FALSE)))","v":"X"},{"$f":"IF(OR(PTA!BH42=\"\",PTA!BH42=\"X\"),\"X\",IF(PTA!BH42=\"*\",\"*\",VLOOKUP(PTA!BH42,AL_NUM_ARB,2,FALSE)&\" \"&VLOOKUP(PTA!BH42,AL_NUM_ARB,4,FALSE)&\" \"&VLOOKUP(PTA!BH42,AL_NUM_ARB,6,FALSE)))","v":"X"},{"$f":"IF(OR(PTA!BI42=\"\",PTA!BI42=\"X\"),\"X\",IF(PTA!BI42=\"*\",\"*\",VLOOKUP(PTA!BI42,AL_NUM_ARB,2,FALSE)&\" \"&VLOOKUP(PTA!BI42,AL_NUM_ARB,4,FALSE)&\" \"&VLOOKUP(PTA!BI42,AL_NUM_ARB,6,FALSE)))","v":"X"},{"$f":"IF(OR(PTA!BJ42=\"\",PTA!BJ42=\"X\"),\"X\",IF(PTA!BJ42=\"*\",\"*\",VLOOKUP(PTA!BJ42,AL_NUM_ARB,2,FALSE)&\" \"&VLOOKUP(PTA!BJ42,AL_NUM_ARB,4,FALSE)&\" \"&VLOOKUP(PTA!BJ42,AL_NUM_ARB,6,FALSE)))","v":"X"},{"$f":"IF(OR(PTA!BK42=\"\",PTA!BK42=\"X\"),\"X\",IF(PTA!BK42=\"*\",\"*\",VLOOKUP(PTA!BK42,AL_NUM_ARB,2,FALSE)&\" \"&VLOOKUP(PTA!BK42,AL_NUM_ARB,4,FALSE)&\" \"&VLOOKUP(PTA!BK42,AL_NUM_ARB,6,FALSE)))","v":"X"},{"$f":"IF(OR(PTA!BL42=\"\",PTA!BL42=\"X\"),\"X\",IF(PTA!BL42=\"*\",\"*\",VLOOKUP(PTA!BL42,AL_NUM_ARB,2,FALSE)&\" \"&VLOOKUP(PTA!BL42,AL_NUM_ARB,4,FALSE)&\" \"&VLOOKUP(PTA!BL42,AL_NUM_ARB,6,FALSE)))","v":"X"},{"$f":"IF(OR(PTA!BM42=\"\",PTA!BM42=\"X\"),\"X\",IF(PTA!BM42=\"*\",\"*\",VLOOKUP(PTA!BM42,AL_NUM_ARB,2,FALSE)&\" \"&VLOOKUP(PTA!BM42,AL_NUM_ARB,4,FALSE)&\" \"&VLOOKUP(PTA!BM42,AL_NUM_ARB,6,FALSE)))","v":"X"},{"$f":"IF(OR(PTA!BN42=\"\",PTA!BN42=\"X\"),\"X\",IF(PTA!BN42=\"*\",\"*\",VLOOKUP(PTA!BN42,AL_NUM_ARB,2,FALSE)&\" \"&VLOOKUP(PTA!BN42,AL_NUM_ARB,4,FALSE)&\" \"&VLOOKUP(PTA!BN42,AL_NUM_ARB,6,FALSE)))","v":"X"},{"$f":"IF(OR(PTA!BO42=\"\",PTA!BO42=\"X\"),\"X\",IF(PTA!BO42=\"*\",\"*\",VLOOKUP(PTA!BO42,AL_NUM_ARB,2,FALSE)&\" \"&VLOOKUP(PTA!BO42,AL_NUM_ARB,4,FALSE)&\" \"&VLOOKUP(PTA!BO42,AL_NUM_ARB,6,FALSE)))","v":"X"},{"$f":"IF(OR(PTA!BP42=\"\",PTA!BP42=\"X\"),\"X\",IF(PTA!BP42=\"*\",\"*\",VLOOKUP(PTA!BP42,AL_NUM_ARB,2,FALSE)&\" \"&VLOOKUP(PTA!BP42,AL_NUM_ARB,4,FALSE)&\" \"&VLOOKUP(PTA!BP42,AL_NUM_ARB,6,FALSE)))","v":"X"},{"$f":"IF(OR(PTA!BQ42=\"\",PTA!BQ42=\"X\"),\"X\",IF(PTA!BQ42=\"*\",\"*\",VLOOKUP(PTA!BQ42,AL_NUM_ARB,2,FALSE)&\" \"&VLOOKUP(PTA!BQ42,AL_NUM_ARB,4,FALSE)&\" \"&VLOOKUP(PTA!BQ42,AL_NUM_ARB,6,FALSE)))","v":"X"},{"$f":"IF(OR(PTA!BR42=\"\",PTA!BR42=\"X\"),\"X\",IF(PTA!BR42=\"*\",\"*\",VLOOKUP(PTA!BR42,AL_NUM_ARB,2,FALSE)&\" \"&VLOOKUP(PTA!BR42,AL_NUM_ARB,4,FALSE)&\" \"&VLOOKUP(PTA!BR42,AL_NUM_ARB,6,FALSE)))","v":"X"},{"$f":"IF(OR(PTA!BT42=\"\",PTA!BT42=\"X\"),\"X\",VLOOKUP(PTA!BT42,AL_NUM_ARB,2,FALSE)&\" \"&VLOOKUP(PTA!BT42,AL_NUM_ARB,4,FALSE)&\" \"&VLOOKUP(PTA!BT42,AL_NUM_ARB,6,FALSE))","v":"X"},{"$f":"IF(OR(PTA!BU42=\"\",PTA!BU42=\"X\"),\"X\",VLOOKUP(PTA!BU42,AL_NUM_ARB,2,FALSE)&\" \"&VLOOKUP(PTA!BU42,AL_NUM_ARB,4,FALSE)&\" \"&VLOOKUP(PTA!BU42,AL_NUM_ARB,6,FALSE))","v":"X"},{"$f":"IF(OR(PTA!BV42=\"\",PTA!BV42=\"X\"),\"X\",VLOOKUP(PTA!BV42,AL_NUM_ARB,2,FALSE)&\" \"&VLOOKUP(PTA!BV42,AL_NUM_ARB,4,FALSE)&\" \"&VLOOKUP(PTA!BV42,AL_NUM_ARB,6,FALSE))","v":"X"},{"$f":"IF(OR(PTA!BW42=\"\",PTA!BW42=\"X\"),\"X\",VLOOKUP(PTA!BW42,AL_NUM_ARB,2,FALSE)&\" \"&VLOOKUP(PTA!BW42,AL_NUM_ARB,4,FALSE)&\" \"&VLOOKUP(PTA!BW42,AL_NUM_ARB,6,FALSE))","v":"X"},"16:30:00"]
[{"$f":"PTA!A43","v":""},{"$f":"PTA!B43","v":"00:00:00"},{"$f":"PTA!C43","v":32},{"$f":"PTA!D43","v":0},{"$f":"IF(OR(PTA!E43=\"\",PTA!E43=\"X\"),\"X\",IF(PTA!E43=\"*\",\"*\",VLOOKUP(PTA!E43,AL_NUM_ARB,2,FALSE)&\" \"&VLOOKUP(PTA!E43,AL_NUM_ARB,4,FALSE)&\" \"&VLOOKUP(PTA!E43,AL_NUM_ARB,6,FALSE)))","v":"X"},{"$f":"IF(OR(PTA!F43=\"\",PTA!F43=\"X\"),\"X\",IF(PTA!F43=\"*\",\"*\",VLOOKUP(PTA!F43,AL_NUM_ARB,2,FALSE)&\" \"&VLOOKUP(PTA!F43,AL_NUM_ARB,4,FALSE)&\" \"&VLOOKUP(PTA!F43,AL_NUM_ARB,6,FALSE)))","v":"X"},{"$f":"IF(OR(PTA!G43=\"\",PTA!G43=\"X\"),\"X\",IF(PTA!G43=\"*\",\"*\",VLOOKUP(PTA!G43,AL_NUM_ARB,2,FALSE)&\" \"&VLOOKUP(PTA!G43,AL_NUM_ARB,4,FALSE)&\" \"&VLOOKUP(PTA!G43,AL_NUM_ARB,6,FALSE)))","v":"X"},{"$f":"IF(OR(PTA!H43=\"\",PTA!H43=\"X\"),\"X\",IF(PTA!H43=\"*\",\"*\",VLOOKUP(PTA!H43,AL_NUM_ARB,2,FALSE)&\" \"&VLOOKUP(PTA!H43,AL_NUM_ARB,4,FALSE)&\" \"&VLOOKUP(PTA!H43,AL_NUM_ARB,6,FALSE)))","v":"X"},{"$f":"IF(OR(PTA!I43=\"\",PTA!I43=\"X\"),\"X\",IF(PTA!I43=\"*\",\"*\",VLOOKUP(PTA!I43,AL_NUM_ARB,2,FALSE)&\" \"&VLOOKUP(PTA!I43,AL_NUM_ARB,4,FALSE)&\" \"&VLOOKUP(PTA!I43,AL_NUM_ARB,6,FALSE)))","v":"X"},{"$f":"IF(OR(PTA!J43=\"\",PTA!J43=\"X\"),\"X\",IF(PTA!J43=\"*\",\"*\",VLOOKUP(PTA!J43,AL_NUM_ARB,2,FALSE)&\" \"&VLOOKUP(PTA!J43,AL_NUM_ARB,4,FALSE)&\" \"&VLOOKUP(PTA!J43,AL_NUM_ARB,6,FALSE)))","v":"X"},{"$f":"IF(OR(PTA!K43=\"\",PTA!K43=\"X\"),\"X\",IF(PTA!K43=\"*\",\"*\",VLOOKUP(PTA!K43,AL_NUM_ARB,2,FALSE)&\" \"&VLOOKUP(PTA!K43,AL_NUM_ARB,4,FALSE)&\" \"&VLOOKUP(PTA!K43,AL_NUM_ARB,6,FALSE)))","v":"X"},{"$f":"IF(OR(PTA!L43=\"\",PTA!L43=\"X\"),\"X\",IF(PTA!L43=\"*\",\"*\",VLOOKUP(PTA!L43,AL_NUM_ARB,2,FALSE)&\" \"&VLOOKUP(PTA!L43,AL_NUM_ARB,4,FALSE)&\" \"&VLOOKUP(PTA!L43,AL_NUM_ARB,6,FALSE)))","v":"X"},{"$f":"IF(OR(PTA!M43=\"\",PTA!M43=\"X\"),\"X\",IF(PTA!M43=\"*\",\"*\",VLOOKUP(PTA!M43,AL_NUM_ARB,2,FALSE)&\" \"&VLOOKUP(PTA!M43,AL_NUM_ARB,4,FALSE)&\" \"&VLOOKUP(PTA!M43,AL_NUM_ARB,6,FALSE)))","v":"X"},{"$f":"IF(OR(PTA!N43=\"\",PTA!N43=\"X\"),\"X\",IF(PTA!N43=\"*\",\"*\",VLOOKUP(PTA!N43,AL_NUM_ARB,2,FALSE)&\" \"&VLOOKUP(PTA!N43,AL_NUM_ARB,4,FALSE)&\" \"&VLOOKUP(PTA!N43,AL_NUM_ARB,6,FALSE)))","v":"X"},{"$f":"IF(OR(PTA!O43=\"\",PTA!O43=\"X\"),\"X\",IF(PTA!O43=\"*\",\"*\",VLOOKUP(PTA!O43,AL_NUM_ARB,2,FALSE)&\" \"&VLOOKUP(PTA!O43,AL_NUM_ARB,4,FALSE)&\" \"&VLOOKUP(PTA!O43,AL_NUM_ARB,6,FALSE)))","v":"X"},{"$f":"IF(OR(PTA!P43=\"\",PTA!P43=\"X\"),\"X\",IF(PTA!P43=\"*\",\"*\",VLOOKUP(PTA!P43,AL_NUM_ARB,2,FALSE)&\" \"&VLOOKUP(PTA!P43,AL_NUM_ARB,4,FALSE)&\" \"&VLOOKUP(PTA!P43,AL_NUM_ARB,6,FALSE)))","v":"X"},{"$f":"IF(OR(PTA!Q43=\"\",PTA!Q43=\"X\"),\"X\",IF(PTA!Q43=\"*\",\"*\",VLOOKUP(PTA!Q43,AL_NUM_ARB,2,FALSE)&\" \"&VLOOKUP(PTA!Q43,AL_NUM_ARB,4,FALSE)&\" \"&VLOOKUP(PTA!Q43,AL_NUM_ARB,6,FALSE)))","v":"X"},{"$f":"IF(OR(PTA!R43=\"\",PTA!R43=\"X\"),\"X\",IF(PTA!R43=\"*\",\"*\",VLOOKUP(PTA!R43,AL_NUM_ARB,2,FALSE)&\" \"&VLOOKUP(PTA!R43,AL_NUM_ARB,4,FALSE)&\" \"&VLOOKUP(PTA!R43,AL_NUM_ARB,6,FALSE)))","v":"X"},{"$f":"IF(OR(PTA!S43=\"\",PTA!S43=\"X\"),\"X\",IF(PTA!S43=\"*\",\"*\",VLOOKUP(PTA!S43,AL_NUM_ARB,2,FALSE)&\" \"&VLOOKUP(PTA!S43,AL_NUM_ARB,4,FALSE)&\" \"&VLOOKUP(PTA!S43,AL_NUM_ARB,6,FALSE)))","v":"X"},{"$f":"IF(OR(PTA!T43=\"\",PTA!T43=\"X\"),\"X\",IF(PTA!T43=\"*\",\"*\",VLOOKUP(PTA!T43,AL_NUM_ARB,2,FALSE)&\" \"&VLOOKUP(PTA!T43,AL_NUM_ARB,4,FALSE)&\" \"&VLOOKUP(PTA!T43,AL_NUM_ARB,6,FALSE)))","v":"X"},{"$f":"IF(OR(PTA!U43=\"\",PTA!U43=\"X\"),\"X\",IF(PTA!U43=\"*\",\"*\",VLOOKUP(PTA!U43,AL_NUM_ARB,2,FALSE)&\" \"&VLOOKUP(PTA!U43,AL_NUM_ARB,4,FALSE)&\" \"&VLOOKUP(PTA!U43,AL_NUM_ARB,6,FALSE)))","v":"X"},{"$f":"IF(OR(PTA!V43=\"\",PTA!V43=\"X\"),\"X\",IF(PTA!V43=\"*\",\"*\",VLOOKUP(PTA!V43,AL_NUM_ARB,2,FALSE)&\" \"&VLOOKUP(PTA!V43,AL_NUM_ARB,4,FALSE)&\" \"&VLOOKUP(PTA!V43,AL_NUM_ARB,6,FALSE)))","v":"X"},{"$f":"IF(OR(PTA!W43=\"\",PTA!W43=\"X\"),\"X\",IF(PTA!W43=\"*\",\"*\",VLOOKUP(PTA!W43,AL_NUM_ARB,2,FALSE)&\" \"&VLOOKUP(PTA!W43,AL_NUM_ARB,4,FALSE)&\" \"&VLOOKUP(PTA!W43,AL_NUM_ARB,6,FALSE)))","v":"X"},{"$f":"IF(OR(PTA!X43=\"\",PTA!X43=\"X\"),\"X\",IF(PTA!X43=\"*\",\"*\",VLOOKUP(PTA!X43,AL_NUM_ARB,2,FALSE)&\" \"&VLOOKUP(PTA!X43,AL_NUM_ARB,4,FALSE)&\" \"&VLOOKUP(PTA!X43,AL_NUM_ARB,6,FALSE)))","v":"X"},{"$f":"IF(OR(PTA!Y43=\"\",PTA!Y43=\"X\"),\"X\",IF(PTA!Y43=\"*\",\"*\",VLOOKUP(PTA!Y43,AL_NUM_ARB,2,FALSE)&\" \"&VLOOKUP(PTA!Y43,AL_NUM_ARB,4,FALSE)&\" \"&VLOOKUP(PTA!Y43,AL_NUM_ARB,6,FALSE)))","v":"X"},{"$f":"IF(OR(PTA!Z43=\"\",PTA!Z43=\"X\"),\"X\",IF(PTA!Z43=\"*\",\"*\",VLOOKUP(PTA!Z43,AL_NUM_ARB,2,FALSE)&\" \"&VLOOKUP(PTA!Z43,AL_NUM_ARB,4,FALSE)&\" \"&VLOOKUP(PTA!Z43,AL_NUM_ARB,6,FALSE)))","v":"X"},{"$f":"IF(OR(PTA!AA43=\"\",PTA!AA43=\"X\"),\"X\",IF(PTA!AA43=\"*\",\"*\",VLOOKUP(PTA!AA43,AL_NUM_ARB,2,FALSE)&\" \"&VLOOKUP(PTA!AA43,AL_NUM_ARB,4,FALSE)&\" \"&VLOOKUP(PTA!AA43,AL_NUM_ARB,6,FALSE)))","v":"X"},{"$f":"IF(OR(PTA!AB43=\"\",PTA!AB43=\"X\"),\"X\",IF(PTA!AB43=\"*\",\"*\",VLOOKUP(PTA!AB43,AL_NUM_ARB,2,FALSE)&\" \"&VLOOKUP(PTA!AB43,AL_NUM_ARB,4,FALSE)&\" \"&VLOOKUP(PTA!AB43,AL_NUM_ARB,6,FALSE)))","v":"X"},{"$f":"IF(OR(PTA!AC43=\"\",PTA!AC43=\"X\"),\"X\",IF(PTA!AC43=\"*\",\"*\",VLOOKUP(PTA!AC43,AL_NUM_ARB,2,FALSE)&\" \"&VLOOKUP(PTA!AC43,AL_NUM_ARB,4,FALSE)&\" \"&VLOOKUP(PTA!AC43,AL_NUM_ARB,6,FALSE)))","v":"X"},{"$f":"IF(OR(PTA!AD43=\"\",PTA!AD43=\"X\"),\"X\",IF(PTA!AD43=\"*\",\"*\",VLOOKUP(PTA!AD43,AL_NUM_ARB,2,FALSE)&\" \"&VLOOKUP(PTA!AD43,AL_NUM_ARB,4,FALSE)&\" \"&VLOOKUP(PTA!AD43,AL_NUM_ARB,6,FALSE)))","v":"X"},{"$f":"IF(OR(PTA!AE43=\"\",PTA!AE43=\"X\"),\"X\",IF(PTA!AE43=\"*\",\"*\",VLOOKUP(PTA!AE43,AL_NUM_ARB,2,FALSE)&\" \"&VLOOKUP(PTA!AE43,AL_NUM_ARB,4,FALSE)&\" \"&VLOOKUP(PTA!AE43,AL_NUM_ARB,6,FALSE)))","v":"X"},{"$f":"IF(OR(PTA!AF43=\"\",PTA!AF43=\"X\"),\"X\",IF(PTA!AF43=\"*\",\"*\",VLOOKUP(PTA!AF43,AL_NUM_ARB,2,FALSE)&\" \"&VLOOKUP(PTA!AF43,AL_NUM_ARB,4,FALSE)&\" \"&VLOOKUP(PTA!AF43,AL_NUM_ARB,6,FALSE)))","v":"X"},{"$f":"IF(OR(PTA!AG43=\"\",PTA!AG43=\"X\"),\"X\",IF(PTA!AG43=\"*\",\"*\",VLOOKUP(PTA!AG43,AL_NUM_ARB,2,FALSE)&\" \"&VLOOKUP(PTA!AG43,AL_NUM_ARB,4,FALSE)&\" \"&VLOOKUP(PTA!AG43,AL_NUM_ARB,6,FALSE)))","v":"X"},{"$f":"IF(OR(PTA!AH43=\"\",PTA!AH43=\"X\"),\"X\",IF(PTA!AH43=\"*\",\"*\",VLOOKUP(PTA!AH43,AL_NUM_ARB,2,FALSE)&\" \"&VLOOKUP(PTA!AH43,AL_NUM_ARB,4,FALSE)&\" \"&VLOOKUP(PTA!AH43,AL_NUM_ARB,6,FALSE)))","v":"X"},{"$f":"IF(OR(PTA!AI43=\"\",PTA!AI43=\"X\"),\"X\",IF(PTA!AI43=\"*\",\"*\",VLOOKUP(PTA!AI43,AL_NUM_ARB,2,FALSE)&\" \"&VLOOKUP(PTA!AI43,AL_NUM_ARB,4,FALSE)&\" \"&VLOOKUP(PTA!AI43,AL_NUM_ARB,6,FALSE)))","v":"X"},{"$f":"IF(OR(PTA!AJ43=\"\",PTA!AJ43=\"X\"),\"X\",IF(PTA!AJ43=\"*\",\"*\",VLOOKUP(PTA!AJ43,AL_NUM_ARB,2,FALSE)&\" \"&VLOOKUP(PTA!AJ43,AL_NUM_ARB,4,FALSE)&\" \"&VLOOKUP(PTA!AJ43,AL_NUM_ARB,6,FALSE)))","v":"X"},{"$f":"IF(OR(PTA!AK43=\"\",PTA!AK43=\"X\"),\"X\",IF(PTA!AK43=\"*\",\"*\",VLOOKUP(PTA!AK43,AL_NUM_ARB,2,FALSE)&\" \"&VLOOKUP(PTA!AK43,AL_NUM_ARB,4,FALSE)&\" \"&VLOOKUP(PTA!AK43,AL_NUM_ARB,6,FALSE)))","v":"X"},{"$f":"IF(OR(PTA!AL43=\"\",PTA!AL43=\"X\"),\"X\",IF(PTA!AL43=\"*\",\"*\",VLOOKUP(PTA!AL43,AL_NUM_ARB,2,FALSE)&\" \"&VLOOKUP(PTA!AL43,AL_NUM_ARB,4,FALSE)&\" \"&VLOOKUP(PTA!AL43,AL_NUM_ARB,6,FALSE)))","v":"X"},{"$f":"IF(OR(PTA!AM43=\"\",PTA!AM43=\"X\"),\"X\",IF(PTA!AM43=\"*\",\"*\",VLOOKUP(PTA!AM43,AL_NUM_ARB,2,FALSE)&\" \"&VLOOKUP(PTA!AM43,AL_NUM_ARB,4,FALSE)&\" \"&VLOOKUP(PTA!AM43,AL_NUM_ARB,6,FALSE)))","v":"X"},{"$f":"IF(OR(PTA!AN43=\"\",PTA!AN43=\"X\"),\"X\",IF(PTA!AN43=\"*\",\"*\",VLOOKUP(PTA!AN43,AL_NUM_ARB,2,FALSE)&\" \"&VLOOKUP(PTA!AN43,AL_NUM_ARB,4,FALSE)&\" \"&VLOOKUP(PTA!AN43,AL_NUM_ARB,6,FALSE)))","v":"X"},{"$f":"IF(OR(PTA!AO43=\"\",PTA!AO43=\"X\"),\"X\",IF(PTA!AO43=\"*\",\"*\",VLOOKUP(PTA!AO43,AL_NUM_ARB,2,FALSE)&\" \"&VLOOKUP(PTA!AO43,AL_NUM_ARB,4,FALSE)&\" \"&VLOOKUP(PTA!AO43,AL_NUM_ARB,6,FALSE)))","v":"X"},{"$f":"IF(OR(PTA!AP43=\"\",PTA!AP43=\"X\"),\"X\",IF(PTA!AP43=\"*\",\"*\",VLOOKUP(PTA!AP43,AL_NUM_ARB,2,FALSE)&\" \"&VLOOKUP(PTA!AP43,AL_NUM_ARB,4,FALSE)&\" \"&VLOOKUP(PTA!AP43,AL_NUM_ARB,6,FALSE)))","v":"X"},{"$f":"IF(OR(PTA!AQ43=\"\",PTA!AQ43=\"X\"),\"X\",IF(PTA!AQ43=\"*\",\"*\",VLOOKUP(PTA!AQ43,AL_NUM_ARB,2,FALSE)&\" \"&VLOOKUP(PTA!AQ43,AL_NUM_ARB,4,FALSE)&\" \"&VLOOKUP(PTA!AQ43,AL_NUM_ARB,6,FALSE)))","v":"X"},{"$f":"IF(OR(PTA!AR43=\"\",PTA!AR43=\"X\"),\"X\",IF(PTA!AR43=\"*\",\"*\",VLOOKUP(PTA!AR43,AL_NUM_ARB,2,FALSE)&\" \"&VLOOKUP(PTA!AR43,AL_NUM_ARB,4,FALSE)&\" \"&VLOOKUP(PTA!AR43,AL_NUM_ARB,6,FALSE)))","v":"X"},{"$f":"IF(OR(PTA!AS43=\"\",PTA!AS43=\"X\"),\"X\",IF(PTA!AS43=\"*\",\"*\",VLOOKUP(PTA!AS43,AL_NUM_ARB,2,FALSE)&\" \"&VLOOKUP(PTA!AS43,AL_NUM_ARB,4,FALSE)&\" \"&VLOOKUP(PTA!AS43,AL_NUM_ARB,6,FALSE)))","v":"X"},{"$f":"IF(OR(PTA!AT43=\"\",PTA!AT43=\"X\"),\"X\",IF(PTA!AT43=\"*\",\"*\",VLOOKUP(PTA!AT43,AL_NUM_ARB,2,FALSE)&\" \"&VLOOKUP(PTA!AT43,AL_NUM_ARB,4,FALSE)&\" \"&VLOOKUP(PTA!AT43,AL_NUM_ARB,6,FALSE)))","v":"X"},{"$f":"IF(OR(PTA!AU43=\"\",PTA!AU43=\"X\"),\"X\",IF(PTA!AU43=\"*\",\"*\",VLOOKUP(PTA!AU43,AL_NUM_ARB,2,FALSE)&\" \"&VLOOKUP(PTA!AU43,AL_NUM_ARB,4,FALSE)&\" \"&VLOOKUP(PTA!AU43,AL_NUM_ARB,6,FALSE)))","v":"X"},{"$f":"IF(OR(PTA!AV43=\"\",PTA!AV43=\"X\"),\"X\",IF(PTA!AV43=\"*\",\"*\",VLOOKUP(PTA!AV43,AL_NUM_ARB,2,FALSE)&\" \"&VLOOKUP(PTA!AV43,AL_NUM_ARB,4,FALSE)&\" \"&VLOOKUP(PTA!AV43,AL_NUM_ARB,6,FALSE)))","v":"X"},{"$f":"IF(OR(PTA!AW43=\"\",PTA!AW43=\"X\"),\"X\",IF(PTA!AW43=\"*\",\"*\",VLOOKUP(PTA!AW43,AL_NUM_ARB,2,FALSE)&\" \"&VLOOKUP(PTA!AW43,AL_NUM_ARB,4,FALSE)&\" \"&VLOOKUP(PTA!AW43,AL_NUM_ARB,6,FALSE)))","v":"X"},{"$f":"IF(OR(PTA!AX43=\"\",PTA!AX43=\"X\"),\"X\",IF(PTA!AX43=\"*\",\"*\",VLOOKUP(PTA!AX43,AL_NUM_ARB,2,FALSE)&\" \"&VLOOKUP(PTA!AX43,AL_NUM_ARB,4,FALSE)&\" \"&VLOOKUP(PTA!AX43,AL_NUM_ARB,6,FALSE)))","v":"X"},{"$f":"IF(OR(PTA!AY43=\"\",PTA!AY43=\"X\"),\"X\",IF(PTA!AY43=\"*\",\"*\",VLOOKUP(PTA!AY43,AL_NUM_ARB,2,FALSE)&\" \"&VLOOKUP(PTA!AY43,AL_NUM_ARB,4,FALSE)&\" \"&VLOOKUP(PTA!AY43,AL_NUM_ARB,6,FALSE)))","v":"X"},{"$f":"IF(OR(PTA!AZ43=\"\",PTA!AZ43=\"X\"),\"X\",IF(PTA!AZ43=\"*\",\"*\",VLOOKUP(PTA!AZ43,AL_NUM_ARB,2,FALSE)&\" \"&VLOOKUP(PTA!AZ43,AL_NUM_ARB,4,FALSE)&\" \"&VLOOKUP(PTA!AZ43,AL_NUM_ARB,6,FALSE)))","v":"X"},{"$f":"IF(OR(PTA!BA43=\"\",PTA!BA43=\"X\"),\"X\",IF(PTA!BA43=\"*\",\"*\",VLOOKUP(PTA!BA43,AL_NUM_ARB,2,FALSE)&\" \"&VLOOKUP(PTA!BA43,AL_NUM_ARB,4,FALSE)&\" \"&VLOOKUP(PTA!BA43,AL_NUM_ARB,6,FALSE)))","v":"X"},{"$f":"IF(OR(PTA!BB43=\"\",PTA!BB43=\"X\"),\"X\",IF(PTA!BB43=\"*\",\"*\",VLOOKUP(PTA!BB43,AL_NUM_ARB,2,FALSE)&\" \"&VLOOKUP(PTA!BB43,AL_NUM_ARB,4,FALSE)&\" \"&VLOOKUP(PTA!BB43,AL_NUM_ARB,6,FALSE)))","v":"X"},{"$f":"IF(OR(PTA!BC43=\"\",PTA!BC43=\"X\"),\"X\",IF(PTA!BC43=\"*\",\"*\",VLOOKUP(PTA!BC43,AL_NUM_ARB,2,FALSE)&\" \"&VLOOKUP(PTA!BC43,AL_NUM_ARB,4,FALSE)&\" \"&VLOOKUP(PTA!BC43,AL_NUM_ARB,6,FALSE)))","v":"X"},{"$f":"IF(OR(PTA!BD43=\"\",PTA!BD43=\"X\"),\"X\",IF(PTA!BD43=\"*\",\"*\",VLOOKUP(PTA!BD43,AL_NUM_ARB,2,FALSE)&\" \"&VLOOKUP(PTA!BD43,AL_NUM_ARB,4,FALSE)&\" \"&VLOOKUP(PTA!BD43,AL_NUM_ARB,6,FALSE)))","v":"X"},{"$f":"IF(OR(PTA!BE43=\"\",PTA!BE43=\"X\"),\"X\",IF(PTA!BE43=\"*\",\"*\",VLOOKUP(PTA!BE43,AL_NUM_ARB,2,FALSE)&\" \"&VLOOKUP(PTA!BE43,AL_NUM_ARB,4,FALSE)&\" \"&VLOOKUP(PTA!BE43,AL_NUM_ARB,6,FALSE)))","v":"X"},{"$f":"IF(OR(PTA!BF43=\"\",PTA!BF43=\"X\"),\"X\",IF(PTA!BF43=\"*\",\"*\",VLOOKUP(PTA!BF43,AL_NUM_ARB,2,FALSE)&\" \"&VLOOKUP(PTA!BF43,AL_NUM_ARB,4,FALSE)&\" \"&VLOOKUP(PTA!BF43,AL_NUM_ARB,6,FALSE)))","v":"X"},{"$f":"IF(OR(PTA!BG43=\"\",PTA!BG43=\"X\"),\"X\",IF(PTA!BG43=\"*\",\"*\",VLOOKUP(PTA!BG43,AL_NUM_ARB,2,FALSE)&\" \"&VLOOKUP(PTA!BG43,AL_NUM_ARB,4,FALSE)&\" \"&VLOOKUP(PTA!BG43,AL_NUM_ARB,6,FALSE)))","v":"X"},{"$f":"IF(OR(PTA!BH43=\"\",PTA!BH43=\"X\"),\"X\",IF(PTA!BH43=\"*\",\"*\",VLOOKUP(PTA!BH43,AL_NUM_ARB,2,FALSE)&\" \"&VLOOKUP(PTA!BH43,AL_NUM_ARB,4,FALSE)&\" \"&VLOOKUP(PTA!BH43,AL_NUM_ARB,6,FALSE)))","v":"X"},{"$f":"IF(OR(PTA!BI43=\"\",PTA!BI43=\"X\"),\"X\",IF(PTA!BI43=\"*\",\"*\",VLOOKUP(PTA!BI43,AL_NUM_ARB,2,FALSE)&\" \"&VLOOKUP(PTA!BI43,AL_NUM_ARB,4,FALSE)&\" \"&VLOOKUP(PTA!BI43,AL_NUM_ARB,6,FALSE)))","v":"X"},{"$f":"IF(OR(PTA!BJ43=\"\",PTA!BJ43=\"X\"),\"X\",IF(PTA!BJ43=\"*\",\"*\",VLOOKUP(PTA!BJ43,AL_NUM_ARB,2,FALSE)&\" \"&VLOOKUP(PTA!BJ43,AL_NUM_ARB,4,FALSE)&\" \"&VLOOKUP(PTA!BJ43,AL_NUM_ARB,6,FALSE)))","v":"X"},{"$f":"IF(OR(PTA!BK43=\"\",PTA!BK43=\"X\"),\"X\",IF(PTA!BK43=\"*\",\"*\",VLOOKUP(PTA!BK43,AL_NUM_ARB,2,FALSE)&\" \"&VLOOKUP(PTA!BK43,AL_NUM_ARB,4,FALSE)&\" \"&VLOOKUP(PTA!BK43,AL_NUM_ARB,6,FALSE)))","v":"X"},{"$f":"IF(OR(PTA!BL43=\"\",PTA!BL43=\"X\"),\"X\",IF(PTA!BL43=\"*\",\"*\",VLOOKUP(PTA!BL43,AL_NUM_ARB,2,FALSE)&\" \"&VLOOKUP(PTA!BL43,AL_NUM_ARB,4,FALSE)&\" \"&VLOOKUP(PTA!BL43,AL_NUM_ARB,6,FALSE)))","v":"X"},{"$f":"IF(OR(PTA!BM43=\"\",PTA!BM43=\"X\"),\"X\",IF(PTA!BM43=\"*\",\"*\",VLOOKUP(PTA!BM43,AL_NUM_ARB,2,FALSE)&\" \"&VLOOKUP(PTA!BM43,AL_NUM_ARB,4,FALSE)&\" \"&VLOOKUP(PTA!BM43,AL_NUM_ARB,6,FALSE)))","v":"X"},{"$f":"IF(OR(PTA!BN43=\"\",PTA!BN43=\"X\"),\"X\",IF(PTA!BN43=\"*\",\"*\",VLOOKUP(PTA!BN43,AL_NUM_ARB,2,FALSE)&\" \"&VLOOKUP(PTA!BN43,AL_NUM_ARB,4,FALSE)&\" \"&VLOOKUP(PTA!BN43,AL_NUM_ARB,6,FALSE)))","v":"X"},{"$f":"IF(OR(PTA!BO43=\"\",PTA!BO43=\"X\"),\"X\",IF(PTA!BO43=\"*\",\"*\",VLOOKUP(PTA!BO43,AL_NUM_ARB,2,FALSE)&\" \"&VLOOKUP(PTA!BO43,AL_NUM_ARB,4,FALSE)&\" \"&VLOOKUP(PTA!BO43,AL_NUM_ARB,6,FALSE)))","v":"X"},{"$f":"IF(OR(PTA!BP43=\"\",PTA!BP43=\"X\"),\"X\",IF(PTA!BP43=\"*\",\"*\",VLOOKUP(PTA!BP43,AL_NUM_ARB,2,FALSE)&\" \"&VLOOKUP(PTA!BP43,AL_NUM_ARB,4,FALSE)&\" \"&VLOOKUP(PTA!BP43,AL_NUM_ARB,6,FALSE)))","v":"X"},{"$f":"IF(OR(PTA!BQ43=\"\",PTA!BQ43=\"X\"),\"X\",IF(PTA!BQ43=\"*\",\"*\",VLOOKUP(PTA!BQ43,AL_NUM_ARB,2,FALSE)&\" \"&VLOOKUP(PTA!BQ43,AL_NUM_ARB,4,FALSE)&\" \"&VLOOKUP(PTA!BQ43,AL_NUM_ARB,6,FALSE)))","v":"X"},{"$f":"IF(OR(PTA!BR43=\"\",PTA!BR43=\"X\"),\"X\",IF(PTA!BR43=\"*\",\"*\",VLOOKUP(PTA!BR43,AL_NUM_ARB,2,FALSE)&\" \"&VLOOKUP(PTA!BR43,AL_NUM_ARB,4,FALSE)&\" \"&VLOOKUP(PTA!BR43,AL_NUM_ARB,6,FALSE)))","v":"X"},{"$f":"IF(OR(PTA!BT43=\"\",PTA!BT43=\"X\"),\"X\",VLOOKUP(PTA!BT43,AL_NUM_ARB,2,FALSE)&\" \"&VLOOKUP(PTA!BT43,AL_NUM_ARB,4,FALSE)&\" \"&VLOOKUP(PTA!BT43,AL_NUM_ARB,6,FALSE))","v":"X"},{"$f":"IF(OR(PTA!BU43=\"\",PTA!BU43=\"X\"),\"X\",VLOOKUP(PTA!BU43,AL_NUM_ARB,2,FALSE)&\" \"&VLOOKUP(PTA!BU43,AL_NUM_ARB,4,FALSE)&\" \"&VLOOKUP(PTA!BU43,AL_NUM_ARB,6,FALSE))","v":"X"},{"$f":"IF(OR(PTA!BV43=\"\",PTA!BV43=\"X\"),\"X\",VLOOKUP(PTA!BV43,AL_NUM_ARB,2,FALSE)&\" \"&VLOOKUP(PTA!BV43,AL_NUM_ARB,4,FALSE)&\" \"&VLOOKUP(PTA!BV43,AL_NUM_ARB,6,FALSE))","v":"X"},{"$f":"IF(OR(PTA!BW43=\"\",PTA!BW43=\"X\"),\"X\",VLOOKUP(PTA!BW43,AL_NUM_ARB,2,FALSE)&\" \"&VLOOKUP(PTA!BW43,AL_NUM_ARB,4,FALSE)&\" \"&VLOOKUP(PTA!BW43,AL_NUM_ARB,6,FALSE))","v":"X"},"17:00:00"]
[{"$f":"PTA!A44","v":""},{"$f":"PTA!B44","v":"00:00:00"},{"$f":"PTA!C44","v":32},{"$f":"PTA!D44","v":0},{"$f":"IF(OR(PTA!E44=\"\",PTA!E44=\"X\"),\"X\",IF(PTA!E44=\"*\",\"*\",VLOOKUP(PTA!E44,AL_NUM_ARB,2,FALSE)&\" \"&VLOOKUP(PTA!E44,AL_NUM_ARB,4,FALSE)&\" \"&VLOOKUP(PTA!E44,AL_NUM_ARB,6,FALSE)))","v":"X"},{"$f":"IF(OR(PTA!F44=\"\",PTA!F44=\"X\"),\"X\",IF(PTA!F44=\"*\",\"*\",VLOOKUP(PTA!F44,AL_NUM_ARB,2,FALSE)&\" \"&VLOOKUP(PTA!F44,AL_NUM_ARB,4,FALSE)&\" \"&VLOOKUP(PTA!F44,AL_NUM_ARB,6,FALSE)))","v":"X"},{"$f":"IF(OR(PTA!G44=\"\",PTA!G44=\"X\"),\"X\",IF(PTA!G44=\"*\",\"*\",VLOOKUP(PTA!G44,AL_NUM_ARB,2,FALSE)&\" \"&VLOOKUP(PTA!G44,AL_NUM_ARB,4,FALSE)&\" \"&VLOOKUP(PTA!G44,AL_NUM_ARB,6,FALSE)))","v":"X"},{"$f":"IF(OR(PTA!H44=\"\",PTA!H44=\"X\"),\"X\",IF(PTA!H44=\"*\",\"*\",VLOOKUP(PTA!H44,AL_NUM_ARB,2,FALSE)&\" \"&VLOOKUP(PTA!H44,AL_NUM_ARB,4,FALSE)&\" \"&VLOOKUP(PTA!H44,AL_NUM_ARB,6,FALSE)))","v":"X"},{"$f":"IF(OR(PTA!I44=\"\",PTA!I44=\"X\"),\"X\",IF(PTA!I44=\"*\",\"*\",VLOOKUP(PTA!I44,AL_NUM_ARB,2,FALSE)&\" \"&VLOOKUP(PTA!I44,AL_NUM_ARB,4,FALSE)&\" \"&VLOOKUP(PTA!I44,AL_NUM_ARB,6,FALSE)))","v":"X"},{"$f":"IF(OR(PTA!J44=\"\",PTA!J44=\"X\"),\"X\",IF(PTA!J44=\"*\",\"*\",VLOOKUP(PTA!J44,AL_NUM_ARB,2,FALSE)&\" \"&VLOOKUP(PTA!J44,AL_NUM_ARB,4,FALSE)&\" \"&VLOOKUP(PTA!J44,AL_NUM_ARB,6,FALSE)))","v":"X"},{"$f":"IF(OR(PTA!K44=\"\",PTA!K44=\"X\"),\"X\",IF(PTA!K44=\"*\",\"*\",VLOOKUP(PTA!K44,AL_NUM_ARB,2,FALSE)&\" \"&VLOOKUP(PTA!K44,AL_NUM_ARB,4,FALSE)&\" \"&VLOOKUP(PTA!K44,AL_NUM_ARB,6,FALSE)))","v":"X"},{"$f":"IF(OR(PTA!L44=\"\",PTA!L44=\"X\"),\"X\",IF(PTA!L44=\"*\",\"*\",VLOOKUP(PTA!L44,AL_NUM_ARB,2,FALSE)&\" \"&VLOOKUP(PTA!L44,AL_NUM_ARB,4,FALSE)&\" \"&VLOOKUP(PTA!L44,AL_NUM_ARB,6,FALSE)))","v":"X"},{"$f":"IF(OR(PTA!M44=\"\",PTA!M44=\"X\"),\"X\",IF(PTA!M44=\"*\",\"*\",VLOOKUP(PTA!M44,AL_NUM_ARB,2,FALSE)&\" \"&VLOOKUP(PTA!M44,AL_NUM_ARB,4,FALSE)&\" \"&VLOOKUP(PTA!M44,AL_NUM_ARB,6,FALSE)))","v":"X"},{"$f":"IF(OR(PTA!N44=\"\",PTA!N44=\"X\"),\"X\",IF(PTA!N44=\"*\",\"*\",VLOOKUP(PTA!N44,AL_NUM_ARB,2,FALSE)&\" \"&VLOOKUP(PTA!N44,AL_NUM_ARB,4,FALSE)&\" \"&VLOOKUP(PTA!N44,AL_NUM_ARB,6,FALSE)))","v":"X"},{"$f":"IF(OR(PTA!O44=\"\",PTA!O44=\"X\"),\"X\",IF(PTA!O44=\"*\",\"*\",VLOOKUP(PTA!O44,AL_NUM_ARB,2,FALSE)&\" \"&VLOOKUP(PTA!O44,AL_NUM_ARB,4,FALSE)&\" \"&VLOOKUP(PTA!O44,AL_NUM_ARB,6,FALSE)))","v":"X"},{"$f":"IF(OR(PTA!P44=\"\",PTA!P44=\"X\"),\"X\",IF(PTA!P44=\"*\",\"*\",VLOOKUP(PTA!P44,AL_NUM_ARB,2,FALSE)&\" \"&VLOOKUP(PTA!P44,AL_NUM_ARB,4,FALSE)&\" \"&VLOOKUP(PTA!P44,AL_NUM_ARB,6,FALSE)))","v":"X"},{"$f":"IF(OR(PTA!Q44=\"\",PTA!Q44=\"X\"),\"X\",IF(PTA!Q44=\"*\",\"*\",VLOOKUP(PTA!Q44,AL_NUM_ARB,2,FALSE)&\" \"&VLOOKUP(PTA!Q44,AL_NUM_ARB,4,FALSE)&\" \"&VLOOKUP(PTA!Q44,AL_NUM_ARB,6,FALSE)))","v":"X"},{"$f":"IF(OR(PTA!R44=\"\",PTA!R44=\"X\"),\"X\",IF(PTA!R44=\"*\",\"*\",VLOOKUP(PTA!R44,AL_NUM_ARB,2,FALSE)&\" \"&VLOOKUP(PTA!R44,AL_NUM_ARB,4,FALSE)&\" \"&VLOOKUP(PTA!R44,AL_NUM_ARB,6,FALSE)))","v":"X"},{"$f":"IF(OR(PTA!S44=\"\",PTA!S44=\"X\"),\"X\",IF(PTA!S44=\"*\",\"*\",VLOOKUP(PTA!S44,AL_NUM_ARB,2,FALSE)&\" \"&VLOOKUP(PTA!S44,AL_NUM_ARB,4,FALSE)&\" \"&VLOOKUP(PTA!S44,AL_NUM_ARB,6,FALSE)))","v":"X"},{"$f":"IF(OR(PTA!T44=\"\",PTA!T44=\"X\"),\"X\",IF(PTA!T44=\"*\",\"*\",VLOOKUP(PTA!T44,AL_NUM_ARB,2,FALSE)&\" \"&VLOOKUP(PTA!T44,AL_NUM_ARB,4,FALSE)&\" \"&VLOOKUP(PTA!T44,AL_NUM_ARB,6,FALSE)))","v":"X"},{"$f":"IF(OR(PTA!U44=\"\",PTA!U44=\"X\"),\"X\",IF(PTA!U44=\"*\",\"*\",VLOOKUP(PTA!U44,AL_NUM_ARB,2,FALSE)&\" \"&VLOOKUP(PTA!U44,AL_NUM_ARB,4,FALSE)&\" \"&VLOOKUP(PTA!U44,AL_NUM_ARB,6,FALSE)))","v":"X"},{"$f":"IF(OR(PTA!V44=\"\",PTA!V44=\"X\"),\"X\",IF(PTA!V44=\"*\",\"*\",VLOOKUP(PTA!V44,AL_NUM_ARB,2,FALSE)&\" \"&VLOOKUP(PTA!V44,AL_NUM_ARB,4,FALSE)&\" \"&VLOOKUP(PTA!V44,AL_NUM_ARB,6,FALSE)))","v":"X"},{"$f":"IF(OR(PTA!W44=\"\",PTA!W44=\"X\"),\"X\",IF(PTA!W44=\"*\",\"*\",VLOOKUP(PTA!W44,AL_NUM_ARB,2,FALSE)&\" \"&VLOOKUP(PTA!W44,AL_NUM_ARB,4,FALSE)&\" \"&VLOOKUP(PTA!W44,AL_NUM_ARB,6,FALSE)))","v":"X"},{"$f":"IF(OR(PTA!X44=\"\",PTA!X44=\"X\"),\"X\",IF(PTA!X44=\"*\",\"*\",VLOOKUP(PTA!X44,AL_NUM_ARB,2,FALSE)&\" \"&VLOOKUP(PTA!X44,AL_NUM_ARB,4,FALSE)&\" \"&VLOOKUP(PTA!X44,AL_NUM_ARB,6,FALSE)))","v":"X"},{"$f":"IF(OR(PTA!Y44=\"\",PTA!Y44=\"X\"),\"X\",IF(PTA!Y44=\"*\",\"*\",VLOOKUP(PTA!Y44,AL_NUM_ARB,2,FALSE)&\" \"&VLOOKUP(PTA!Y44,AL_NUM_ARB,4,FALSE)&\" \"&VLOOKUP(PTA!Y44,AL_NUM_ARB,6,FALSE)))","v":"X"},{"$f":"IF(OR(PTA!Z44=\"\",PTA!Z44=\"X\"),\"X\",IF(PTA!Z44=\"*\",\"*\",VLOOKUP(PTA!Z44,AL_NUM_ARB,2,FALSE)&\" \"&VLOOKUP(PTA!Z44,AL_NUM_ARB,4,FALSE)&\" \"&VLOOKUP(PTA!Z44,AL_NUM_ARB,6,FALSE)))","v":"X"},{"$f":"IF(OR(PTA!AA44=\"\",PTA!AA44=\"X\"),\"X\",IF(PTA!AA44=\"*\",\"*\",VLOOKUP(PTA!AA44,AL_NUM_ARB,2,FALSE)&\" \"&VLOOKUP(PTA!AA44,AL_NUM_ARB,4,FALSE)&\" \"&VLOOKUP(PTA!AA44,AL_NUM_ARB,6,FALSE)))","v":"X"},{"$f":"IF(OR(PTA!AB44=\"\",PTA!AB44=\"X\"),\"X\",IF(PTA!AB44=\"*\",\"*\",VLOOKUP(PTA!AB44,AL_NUM_ARB,2,FALSE)&\" \"&VLOOKUP(PTA!AB44,AL_NUM_ARB,4,FALSE)&\" \"&VLOOKUP(PTA!AB44,AL_NUM_ARB,6,FALSE)))","v":"X"},{"$f":"IF(OR(PTA!AC44=\"\",PTA!AC44=\"X\"),\"X\",IF(PTA!AC44=\"*\",\"*\",VLOOKUP(PTA!AC44,AL_NUM_ARB,2,FALSE)&\" \"&VLOOKUP(PTA!AC44,AL_NUM_ARB,4,FALSE)&\" \"&VLOOKUP(PTA!AC44,AL_NUM_ARB,6,FALSE)))","v":"X"},{"$f":"IF(OR(PTA!AD44=\"\",PTA!AD44=\"X\"),\"X\",IF(PTA!AD44=\"*\",\"*\",VLOOKUP(PTA!AD44,AL_NUM_ARB,2,FALSE)&\" \"&VLOOKUP(PTA!AD44,AL_NUM_ARB,4,FALSE)&\" \"&VLOOKUP(PTA!AD44,AL_NUM_ARB,6,FALSE)))","v":"X"},{"$f":"IF(OR(PTA!AE44=\"\",PTA!AE44=\"X\"),\"X\",IF(PTA!AE44=\"*\",\"*\",VLOOKUP(PTA!AE44,AL_NUM_ARB,2,FALSE)&\" \"&VLOOKUP(PTA!AE44,AL_NUM_ARB,4,FALSE)&\" \"&VLOOKUP(PTA!AE44,AL_NUM_ARB,6,FALSE)))","v":"X"},{"$f":"IF(OR(PTA!AF44=\"\",PTA!AF44=\"X\"),\"X\",IF(PTA!AF44=\"*\",\"*\",VLOOKUP(PTA!AF44,AL_NUM_ARB,2,FALSE)&\" \"&VLOOKUP(PTA!AF44,AL_NUM_ARB,4,FALSE)&\" \"&VLOOKUP(PTA!AF44,AL_NUM_ARB,6,FALSE)))","v":"X"},{"$f":"IF(OR(PTA!AG44=\"\",PTA!AG44=\"X\"),\"X\",IF(PTA!AG44=\"*\",\"*\",VLOOKUP(PTA!AG44,AL_NUM_ARB,2,FALSE)&\" \"&VLOOKUP(PTA!AG44,AL_NUM_ARB,4,FALSE)&\" \"&VLOOKUP(PTA!AG44,AL_NUM_ARB,6,FALSE)))","v":"X"},{"$f":"IF(OR(PTA!AH44=\"\",PTA!AH44=\"X\"),\"X\",IF(PTA!AH44=\"*\",\"*\",VLOOKUP(PTA!AH44,AL_NUM_ARB,2,FALSE)&\" \"&VLOOKUP(PTA!AH44,AL_NUM_ARB,4,FALSE)&\" \"&VLOOKUP(PTA!AH44,AL_NUM_ARB,6,FALSE)))","v":"X"},{"$f":"IF(OR(PTA!AI44=\"\",PTA!AI44=\"X\"),\"X\",IF(PTA!AI44=\"*\",\"*\",VLOOKUP(PTA!AI44,AL_NUM_ARB,2,FALSE)&\" \"&VLOOKUP(PTA!AI44,AL_NUM_ARB,4,FALSE)&\" \"&VLOOKUP(PTA!AI44,AL_NUM_ARB,6,FALSE)))","v":"X"},{"$f":"IF(OR(PTA!AJ44=\"\",PTA!AJ44=\"X\"),\"X\",IF(PTA!AJ44=\"*\",\"*\",VLOOKUP(PTA!AJ44,AL_NUM_ARB,2,FALSE)&\" \"&VLOOKUP(PTA!AJ44,AL_NUM_ARB,4,FALSE)&\" \"&VLOOKUP(PTA!AJ44,AL_NUM_ARB,6,FALSE)))","v":"X"},{"$f":"IF(OR(PTA!AK44=\"\",PTA!AK44=\"X\"),\"X\",IF(PTA!AK44=\"*\",\"*\",VLOOKUP(PTA!AK44,AL_NUM_ARB,2,FALSE)&\" \"&VLOOKUP(PTA!AK44,AL_NUM_ARB,4,FALSE)&\" \"&VLOOKUP(PTA!AK44,AL_NUM_ARB,6,FALSE)))","v":"X"},{"$f":"IF(OR(PTA!AL44=\"\",PTA!AL44=\"X\"),\"X\",IF(PTA!AL44=\"*\",\"*\",VLOOKUP(PTA!AL44,AL_NUM_ARB,2,FALSE)&\" \"&VLOOKUP(PTA!AL44,AL_NUM_ARB,4,FALSE)&\" \"&VLOOKUP(PTA!AL44,AL_NUM_ARB,6,FALSE)))","v":"X"},{"$f":"IF(OR(PTA!AM44=\"\",PTA!AM44=\"X\"),\"X\",IF(PTA!AM44=\"*\",\"*\",VLOOKUP(PTA!AM44,AL_NUM_ARB,2,FALSE)&\" \"&VLOOKUP(PTA!AM44,AL_NUM_ARB,4,FALSE)&\" \"&VLOOKUP(PTA!AM44,AL_NUM_ARB,6,FALSE)))","v":"X"},{"$f":"IF(OR(PTA!AN44=\"\",PTA!AN44=\"X\"),\"X\",IF(PTA!AN44=\"*\",\"*\",VLOOKUP(PTA!AN44,AL_NUM_ARB,2,FALSE)&\" \"&VLOOKUP(PTA!AN44,AL_NUM_ARB,4,FALSE)&\" \"&VLOOKUP(PTA!AN44,AL_NUM_ARB,6,FALSE)))","v":"X"},{"$f":"IF(OR(PTA!AO44=\"\",PTA!AO44=\"X\"),\"X\",IF(PTA!AO44=\"*\",\"*\",VLOOKUP(PTA!AO44,AL_NUM_ARB,2,FALSE)&\" \"&VLOOKUP(PTA!AO44,AL_NUM_ARB,4,FALSE)&\" \"&VLOOKUP(PTA!AO44,AL_NUM_ARB,6,FALSE)))","v":"X"},{"$f":"IF(OR(PTA!AP44=\"\",PTA!AP44=\"X\"),\"X\",IF(PTA!AP44=\"*\",\"*\",VLOOKUP(PTA!AP44,AL_NUM_ARB,2,FALSE)&\" \"&VLOOKUP(PTA!AP44,AL_NUM_ARB,4,FALSE)&\" \"&VLOOKUP(PTA!AP44,AL_NUM_ARB,6,FALSE)))","v":"X"},{"$f":"IF(OR(PTA!AQ44=\"\",PTA!AQ44=\"X\"),\"X\",IF(PTA!AQ44=\"*\",\"*\",VLOOKUP(PTA!AQ44,AL_NUM_ARB,2,FALSE)&\" \"&VLOOKUP(PTA!AQ44,AL_NUM_ARB,4,FALSE)&\" \"&VLOOKUP(PTA!AQ44,AL_NUM_ARB,6,FALSE)))","v":"X"},{"$f":"IF(OR(PTA!AR44=\"\",PTA!AR44=\"X\"),\"X\",IF(PTA!AR44=\"*\",\"*\",VLOOKUP(PTA!AR44,AL_NUM_ARB,2,FALSE)&\" \"&VLOOKUP(PTA!AR44,AL_NUM_ARB,4,FALSE)&\" \"&VLOOKUP(PTA!AR44,AL_NUM_ARB,6,FALSE)))","v":"X"},{"$f":"IF(OR(PTA!AS44=\"\",PTA!AS44=\"X\"),\"X\",IF(PTA!AS44=\"*\",\"*\",VLOOKUP(PTA!AS44,AL_NUM_ARB,2,FALSE)&\" \"&VLOOKUP(PTA!AS44,AL_NUM_ARB,4,FALSE)&\" \"&VLOOKUP(PTA!AS44,AL_NUM_ARB,6,FALSE)))","v":"X"},{"$f":"IF(OR(PTA!AT44=\"\",PTA!AT44=\"X\"),\"X\",IF(PTA!AT44=\"*\",\"*\",VLOOKUP(PTA!AT44,AL_NUM_ARB,2,FALSE)&\" \"&VLOOKUP(PTA!AT44,AL_NUM_ARB,4,FALSE)&\" \"&VLOOKUP(PTA!AT44,AL_NUM_ARB,6,FALSE)))","v":"X"},{"$f":"IF(OR(PTA!AU44=\"\",PTA!AU44=\"X\"),\"X\",IF(PTA!AU44=\"*\",\"*\",VLOOKUP(PTA!AU44,AL_NUM_ARB,2,FALSE)&\" \"&VLOOKUP(PTA!AU44,AL_NUM_ARB,4,FALSE)&\" \"&VLOOKUP(PTA!AU44,AL_NUM_ARB,6,FALSE)))","v":"X"},{"$f":"IF(OR(PTA!AV44=\"\",PTA!AV44=\"X\"),\"X\",IF(PTA!AV44=\"*\",\"*\",VLOOKUP(PTA!AV44,AL_NUM_ARB,2,FALSE)&\" \"&VLOOKUP(PTA!AV44,AL_NUM_ARB,4,FALSE)&\" \"&VLOOKUP(PTA!AV44,AL_NUM_ARB,6,FALSE)))","v":"X"},{"$f":"IF(OR(PTA!AW44=\"\",PTA!AW44=\"X\"),\"X\",IF(PTA!AW44=\"*\",\"*\",VLOOKUP(PTA!AW44,AL_NUM_ARB,2,FALSE)&\" \"&VLOOKUP(PTA!AW44,AL_NUM_ARB,4,FALSE)&\" \"&VLOOKUP(PTA!AW44,AL_NUM_ARB,6,FALSE)))","v":"X"},{"$f":"IF(OR(PTA!AX44=\"\",PTA!AX44=\"X\"),\"X\",IF(PTA!AX44=\"*\",\"*\",VLOOKUP(PTA!AX44,AL_NUM_ARB,2,FALSE)&\" \"&VLOOKUP(PTA!AX44,AL_NUM_ARB,4,FALSE)&\" \"&VLOOKUP(PTA!AX44,AL_NUM_ARB,6,FALSE)))","v":"X"},{"$f":"IF(OR(PTA!AY44=\"\",PTA!AY44=\"X\"),\"X\",IF(PTA!AY44=\"*\",\"*\",VLOOKUP(PTA!AY44,AL_NUM_ARB,2,FALSE)&\" \"&VLOOKUP(PTA!AY44,AL_NUM_ARB,4,FALSE)&\" \"&VLOOKUP(PTA!AY44,AL_NUM_ARB,6,FALSE)))","v":"X"},{"$f":"IF(OR(PTA!AZ44=\"\",PTA!AZ44=\"X\"),\"X\",IF(PTA!AZ44=\"*\",\"*\",VLOOKUP(PTA!AZ44,AL_NUM_ARB,2,FALSE)&\" \"&VLOOKUP(PTA!AZ44,AL_NUM_ARB,4,FALSE)&\" \"&VLOOKUP(PTA!AZ44,AL_NUM_ARB,6,FALSE)))","v":"X"},{"$f":"IF(OR(PTA!BA44=\"\",PTA!BA44=\"X\"),\"X\",IF(PTA!BA44=\"*\",\"*\",VLOOKUP(PTA!BA44,AL_NUM_ARB,2,FALSE)&\" \"&VLOOKUP(PTA!BA44,AL_NUM_ARB,4,FALSE)&\" \"&VLOOKUP(PTA!BA44,AL_NUM_ARB,6,FALSE)))","v":"X"},{"$f":"IF(OR(PTA!BB44=\"\",PTA!BB44=\"X\"),\"X\",IF(PTA!BB44=\"*\",\"*\",VLOOKUP(PTA!BB44,AL_NUM_ARB,2,FALSE)&\" \"&VLOOKUP(PTA!BB44,AL_NUM_ARB,4,FALSE)&\" \"&VLOOKUP(PTA!BB44,AL_NUM_ARB,6,FALSE)))","v":"X"},{"$f":"IF(OR(PTA!BC44=\"\",PTA!BC44=\"X\"),\"X\",IF(PTA!BC44=\"*\",\"*\",VLOOKUP(PTA!BC44,AL_NUM_ARB,2,FALSE)&\" \"&VLOOKUP(PTA!BC44,AL_NUM_ARB,4,FALSE)&\" \"&VLOOKUP(PTA!BC44,AL_NUM_ARB,6,FALSE)))","v":"X"},{"$f":"IF(OR(PTA!BD44=\"\",PTA!BD44=\"X\"),\"X\",IF(PTA!BD44=\"*\",\"*\",VLOOKUP(PTA!BD44,AL_NUM_ARB,2,FALSE)&\" \"&VLOOKUP(PTA!BD44,AL_NUM_ARB,4,FALSE)&\" \"&VLOOKUP(PTA!BD44,AL_NUM_ARB,6,FALSE)))","v":"X"},{"$f":"IF(OR(PTA!BE44=\"\",PTA!BE44=\"X\"),\"X\",IF(PTA!BE44=\"*\",\"*\",VLOOKUP(PTA!BE44,AL_NUM_ARB,2,FALSE)&\" \"&VLOOKUP(PTA!BE44,AL_NUM_ARB,4,FALSE)&\" \"&VLOOKUP(PTA!BE44,AL_NUM_ARB,6,FALSE)))","v":"X"},{"$f":"IF(OR(PTA!BF44=\"\",PTA!BF44=\"X\"),\"X\",IF(PTA!BF44=\"*\",\"*\",VLOOKUP(PTA!BF44,AL_NUM_ARB,2,FALSE)&\" \"&VLOOKUP(PTA!BF44,AL_NUM_ARB,4,FALSE)&\" \"&VLOOKUP(PTA!BF44,AL_NUM_ARB,6,FALSE)))","v":"X"},{"$f":"IF(OR(PTA!BG44=\"\",PTA!BG44=\"X\"),\"X\",IF(PTA!BG44=\"*\",\"*\",VLOOKUP(PTA!BG44,AL_NUM_ARB,2,FALSE)&\" \"&VLOOKUP(PTA!BG44,AL_NUM_ARB,4,FALSE)&\" \"&VLOOKUP(PTA!BG44,AL_NUM_ARB,6,FALSE)))","v":"X"},{"$f":"IF(OR(PTA!BH44=\"\",PTA!BH44=\"X\"),\"X\",IF(PTA!BH44=\"*\",\"*\",VLOOKUP(PTA!BH44,AL_NUM_ARB,2,FALSE)&\" \"&VLOOKUP(PTA!BH44,AL_NUM_ARB,4,FALSE)&\" \"&VLOOKUP(PTA!BH44,AL_NUM_ARB,6,FALSE)))","v":"X"},{"$f":"IF(OR(PTA!BI44=\"\",PTA!BI44=\"X\"),\"X\",IF(PTA!BI44=\"*\",\"*\",VLOOKUP(PTA!BI44,AL_NUM_ARB,2,FALSE)&\" \"&VLOOKUP(PTA!BI44,AL_NUM_ARB,4,FALSE)&\" \"&VLOOKUP(PTA!BI44,AL_NUM_ARB,6,FALSE)))","v":"X"},{"$f":"IF(OR(PTA!BJ44=\"\",PTA!BJ44=\"X\"),\"X\",IF(PTA!BJ44=\"*\",\"*\",VLOOKUP(PTA!BJ44,AL_NUM_ARB,2,FALSE)&\" \"&VLOOKUP(PTA!BJ44,AL_NUM_ARB,4,FALSE)&\" \"&VLOOKUP(PTA!BJ44,AL_NUM_ARB,6,FALSE)))","v":"X"},{"$f":"IF(OR(PTA!BK44=\"\",PTA!BK44=\"X\"),\"X\",IF(PTA!BK44=\"*\",\"*\",VLOOKUP(PTA!BK44,AL_NUM_ARB,2,FALSE)&\" \"&VLOOKUP(PTA!BK44,AL_NUM_ARB,4,FALSE)&\" \"&VLOOKUP(PTA!BK44,AL_NUM_ARB,6,FALSE)))","v":"X"},{"$f":"IF(OR(PTA!BL44=\"\",PTA!BL44=\"X\"),\"X\",IF(PTA!BL44=\"*\",\"*\",VLOOKUP(PTA!BL44,AL_NUM_ARB,2,FALSE)&\" \"&VLOOKUP(PTA!BL44,AL_NUM_ARB,4,FALSE)&\" \"&VLOOKUP(PTA!BL44,AL_NUM_ARB,6,FALSE)))","v":"X"},{"$f":"IF(OR(PTA!BM44=\"\",PTA!BM44=\"X\"),\"X\",IF(PTA!BM44=\"*\",\"*\",VLOOKUP(PTA!BM44,AL_NUM_ARB,2,FALSE)&\" \"&VLOOKUP(PTA!BM44,AL_NUM_ARB,4,FALSE)&\" \"&VLOOKUP(PTA!BM44,AL_NUM_ARB,6,FALSE)))","v":"X"},{"$f":"IF(OR(PTA!BN44=\"\",PTA!BN44=\"X\"),\"X\",IF(PTA!BN44=\"*\",\"*\",VLOOKUP(PTA!BN44,AL_NUM_ARB,2,FALSE)&\" \"&VLOOKUP(PTA!BN44,AL_NUM_ARB,4,FALSE)&\" \"&VLOOKUP(PTA!BN44,AL_NUM_ARB,6,FALSE)))","v":"X"},{"$f":"IF(OR(PTA!BO44=\"\",PTA!BO44=\"X\"),\"X\",IF(PTA!BO44=\"*\",\"*\",VLOOKUP(PTA!BO44,AL_NUM_ARB,2,FALSE)&\" \"&VLOOKUP(PTA!BO44,AL_NUM_ARB,4,FALSE)&\" \"&VLOOKUP(PTA!BO44,AL_NUM_ARB,6,FALSE)))","v":"X"},{"$f":"IF(OR(PTA!BP44=\"\",PTA!BP44=\"X\"),\"X\",IF(PTA!BP44=\"*\",\"*\",VLOOKUP(PTA!BP44,AL_NUM_ARB,2,FALSE)&\" \"&VLOOKUP(PTA!BP44,AL_NUM_ARB,4,FALSE)&\" \"&VLOOKUP(PTA!BP44,AL_NUM_ARB,6,FALSE)))","v":"X"},{"$f":"IF(OR(PTA!BQ44=\"\",PTA!BQ44=\"X\"),\"X\",IF(PTA!BQ44=\"*\",\"*\",VLOOKUP(PTA!BQ44,AL_NUM_ARB,2,FALSE)&\" \"&VLOOKUP(PTA!BQ44,AL_NUM_ARB,4,FALSE)&\" \"&VLOOKUP(PTA!BQ44,AL_NUM_ARB,6,FALSE)))","v":"X"},{"$f":"IF(OR(PTA!BR44=\"\",PTA!BR44=\"X\"),\"X\",IF(PTA!BR44=\"*\",\"*\",VLOOKUP(PTA!BR44,AL_NUM_ARB,2,FALSE)&\" \"&VLOOKUP(PTA!BR44,AL_NUM_ARB,4,FALSE)&\" \"&VLOOKUP(PTA!BR44,AL_NUM_ARB,6,FALSE)))","v":"X"},{"$f":"IF(OR(PTA!BT44=\"\",PTA!BT44=\"X\"),\"X\",VLOOKUP(PTA!BT44,AL_NUM_ARB,2,FALSE)&\" \"&VLOOKUP(PTA!BT44,AL_NUM_ARB,4,FALSE)&\" \"&VLOOKUP(PTA!BT44,AL_NUM_ARB,6,FALSE))","v":"X"},{"$f":"IF(OR(PTA!BU44=\"\",PTA!BU44=\"X\"),\"X\",VLOOKUP(PTA!BU44,AL_NUM_ARB,2,FALSE)&\" \"&VLOOKUP(PTA!BU44,AL_NUM_ARB,4,FALSE)&\" \"&VLOOKUP(PTA!BU44,AL_NUM_ARB,6,FALSE))","v":"X"},{"$f":"IF(OR(PTA!BV44=\"\",PTA!BV44=\"X\"),\"X\",VLOOKUP(PTA!BV44,AL_NUM_ARB,2,FALSE)&\" \"&VLOOKUP(PTA!BV44,AL_NUM_ARB,4,FALSE)&\" \"&VLOOKUP(PTA!BV44,AL_NUM_ARB,6,FALSE))","v":"X"},{"$f":"IF(OR(PTA!BW44=\"\",PTA!BW44=\"X\"),\"X\",VLOOKUP(PTA!BW44,AL_NUM_ARB,2,FALSE)&\" \"&VLOOKUP(PTA!BW44,AL_NUM_ARB,4,FALSE)&\" \"&VLOOKUP(PTA!BW44,AL_NUM_ARB,6,FALSE))","v":"X"},"17:30:00"]
[{"$f":"PTA!A45","v":""},{"$f":"PTA!B45","v":"00:00:00"},{"$f":"PTA!C45","v":32},{"$f":"PTA!D45","v":0},{"$f":"IF(OR(PTA!E45=\"\",PTA!E45=\"X\"),\"X\",IF(PTA!E45=\"*\",\"*\",VLOOKUP(PTA!E45,AL_NUM_ARB,2,FALSE)&\" \"&VLOOKUP(PTA!E45,AL_NUM_ARB,4,FALSE)&\" \"&VLOOKUP(PTA!E45,AL_NUM_ARB,6,FALSE)))","v":"X"},{"$f":"IF(OR(PTA!F45=\"\",PTA!F45=\"X\"),\"X\",IF(PTA!F45=\"*\",\"*\",VLOOKUP(PTA!F45,AL_NUM_ARB,2,FALSE)&\" \"&VLOOKUP(PTA!F45,AL_NUM_ARB,4,FALSE)&\" \"&VLOOKUP(PTA!F45,AL_NUM_ARB,6,FALSE)))","v":"X"},{"$f":"IF(OR(PTA!G45=\"\",PTA!G45=\"X\"),\"X\",IF(PTA!G45=\"*\",\"*\",VLOOKUP(PTA!G45,AL_NUM_ARB,2,FALSE)&\" \"&VLOOKUP(PTA!G45,AL_NUM_ARB,4,FALSE)&\" \"&VLOOKUP(PTA!G45,AL_NUM_ARB,6,FALSE)))","v":"X"},{"$f":"IF(OR(PTA!H45=\"\",PTA!H45=\"X\"),\"X\",IF(PTA!H45=\"*\",\"*\",VLOOKUP(PTA!H45,AL_NUM_ARB,2,FALSE)&\" \"&VLOOKUP(PTA!H45,AL_NUM_ARB,4,FALSE)&\" \"&VLOOKUP(PTA!H45,AL_NUM_ARB,6,FALSE)))","v":"X"},{"$f":"IF(OR(PTA!I45=\"\",PTA!I45=\"X\"),\"X\",IF(PTA!I45=\"*\",\"*\",VLOOKUP(PTA!I45,AL_NUM_ARB,2,FALSE)&\" \"&VLOOKUP(PTA!I45,AL_NUM_ARB,4,FALSE)&\" \"&VLOOKUP(PTA!I45,AL_NUM_ARB,6,FALSE)))","v":"X"},{"$f":"IF(OR(PTA!J45=\"\",PTA!J45=\"X\"),\"X\",IF(PTA!J45=\"*\",\"*\",VLOOKUP(PTA!J45,AL_NUM_ARB,2,FALSE)&\" \"&VLOOKUP(PTA!J45,AL_NUM_ARB,4,FALSE)&\" \"&VLOOKUP(PTA!J45,AL_NUM_ARB,6,FALSE)))","v":"X"},{"$f":"IF(OR(PTA!K45=\"\",PTA!K45=\"X\"),\"X\",IF(PTA!K45=\"*\",\"*\",VLOOKUP(PTA!K45,AL_NUM_ARB,2,FALSE)&\" \"&VLOOKUP(PTA!K45,AL_NUM_ARB,4,FALSE)&\" \"&VLOOKUP(PTA!K45,AL_NUM_ARB,6,FALSE)))","v":"X"},{"$f":"IF(OR(PTA!L45=\"\",PTA!L45=\"X\"),\"X\",IF(PTA!L45=\"*\",\"*\",VLOOKUP(PTA!L45,AL_NUM_ARB,2,FALSE)&\" \"&VLOOKUP(PTA!L45,AL_NUM_ARB,4,FALSE)&\" \"&VLOOKUP(PTA!L45,AL_NUM_ARB,6,FALSE)))","v":"X"},{"$f":"IF(OR(PTA!M45=\"\",PTA!M45=\"X\"),\"X\",IF(PTA!M45=\"*\",\"*\",VLOOKUP(PTA!M45,AL_NUM_ARB,2,FALSE)&\" \"&VLOOKUP(PTA!M45,AL_NUM_ARB,4,FALSE)&\" \"&VLOOKUP(PTA!M45,AL_NUM_ARB,6,FALSE)))","v":"X"},{"$f":"IF(OR(PTA!N45=\"\",PTA!N45=\"X\"),\"X\",IF(PTA!N45=\"*\",\"*\",VLOOKUP(PTA!N45,AL_NUM_ARB,2,FALSE)&\" \"&VLOOKUP(PTA!N45,AL_NUM_ARB,4,FALSE)&\" \"&VLOOKUP(PTA!N45,AL_NUM_ARB,6,FALSE)))","v":"X"},{"$f":"IF(OR(PTA!O45=\"\",PTA!O45=\"X\"),\"X\",IF(PTA!O45=\"*\",\"*\",VLOOKUP(PTA!O45,AL_NUM_ARB,2,FALSE)&\" \"&VLOOKUP(PTA!O45,AL_NUM_ARB,4,FALSE)&\" \"&VLOOKUP(PTA!O45,AL_NUM_ARB,6,FALSE)))","v":"X"},{"$f":"IF(OR(PTA!P45=\"\",PTA!P45=\"X\"),\"X\",IF(PTA!P45=\"*\",\"*\",VLOOKUP(PTA!P45,AL_NUM_ARB,2,FALSE)&\" \"&VLOOKUP(PTA!P45,AL_NUM_ARB,4,FALSE)&\" \"&VLOOKUP(PTA!P45,AL_NUM_ARB,6,FALSE)))","v":"X"},{"$f":"IF(OR(PTA!Q45=\"\",PTA!Q45=\"X\"),\"X\",IF(PTA!Q45=\"*\",\"*\",VLOOKUP(PTA!Q45,AL_NUM_ARB,2,FALSE)&\" \"&VLOOKUP(PTA!Q45,AL_NUM_ARB,4,FALSE)&\" \"&VLOOKUP(PTA!Q45,AL_NUM_ARB,6,FALSE)))","v":"X"},{"$f":"IF(OR(PTA!R45=\"\",PTA!R45=\"X\"),\"X\",IF(PTA!R45=\"*\",\"*\",VLOOKUP(PTA!R45,AL_NUM_ARB,2,FALSE)&\" \"&VLOOKUP(PTA!R45,AL_NUM_ARB,4,FALSE)&\" \"&VLOOKUP(PTA!R45,AL_NUM_ARB,6,FALSE)))","v":"X"},{"$f":"IF(OR(PTA!S45=\"\",PTA!S45=\"X\"),\"X\",IF(PTA!S45=\"*\",\"*\",VLOOKUP(PTA!S45,AL_NUM_ARB,2,FALSE)&\" \"&VLOOKUP(PTA!S45,AL_NUM_ARB,4,FALSE)&\" \"&VLOOKUP(PTA!S45,AL_NUM_ARB,6,FALSE)))","v":"X"},{"$f":"IF(OR(PTA!T45=\"\",PTA!T45=\"X\"),\"X\",IF(PTA!T45=\"*\",\"*\",VLOOKUP(PTA!T45,AL_NUM_ARB,2,FALSE)&\" \"&VLOOKUP(PTA!T45,AL_NUM_ARB,4,FALSE)&\" \"&VLOOKUP(PTA!T45,AL_NUM_ARB,6,FALSE)))","v":"X"},{"$f":"IF(OR(PTA!U45=\"\",PTA!U45=\"X\"),\"X\",IF(PTA!U45=\"*\",\"*\",VLOOKUP(PTA!U45,AL_NUM_ARB,2,FALSE)&\" \"&VLOOKUP(PTA!U45,AL_NUM_ARB,4,FALSE)&\" \"&VLOOKUP(PTA!U45,AL_NUM_ARB,6,FALSE)))","v":"X"},{"$f":"IF(OR(PTA!V45=\"\",PTA!V45=\"X\"),\"X\",IF(PTA!V45=\"*\",\"*\",VLOOKUP(PTA!V45,AL_NUM_ARB,2,FALSE)&\" \"&VLOOKUP(PTA!V45,AL_NUM_ARB,4,FALSE)&\" \"&VLOOKUP(PTA!V45,AL_NUM_ARB,6,FALSE)))","v":"X"},{"$f":"IF(OR(PTA!W45=\"\",PTA!W45=\"X\"),\"X\",IF(PTA!W45=\"*\",\"*\",VLOOKUP(PTA!W45,AL_NUM_ARB,2,FALSE)&\" \"&VLOOKUP(PTA!W45,AL_NUM_ARB,4,FALSE)&\" \"&VLOOKUP(PTA!W45,AL_NUM_ARB,6,FALSE)))","v":"X"},{"$f":"IF(OR(PTA!X45=\"\",PTA!X45=\"X\"),\"X\",IF(PTA!X45=\"*\",\"*\",VLOOKUP(PTA!X45,AL_NUM_ARB,2,FALSE)&\" \"&VLOOKUP(PTA!X45,AL_NUM_ARB,4,FALSE)&\" \"&VLOOKUP(PTA!X45,AL_NUM_ARB,6,FALSE)))","v":"X"},{"$f":"IF(OR(PTA!Y45=\"\",PTA!Y45=\"X\"),\"X\",IF(PTA!Y45=\"*\",\"*\",VLOOKUP(PTA!Y45,AL_NUM_ARB,2,FALSE)&\" \"&VLOOKUP(PTA!Y45,AL_NUM_ARB,4,FALSE)&\" \"&VLOOKUP(PTA!Y45,AL_NUM_ARB,6,FALSE)))","v":"X"},{"$f":"IF(OR(PTA!Z45=\"\",PTA!Z45=\"X\"),\"X\",IF(PTA!Z45=\"*\",\"*\",VLOOKUP(PTA!Z45,AL_NUM_ARB,2,FALSE)&\" \"&VLOOKUP(PTA!Z45,AL_NUM_ARB,4,FALSE)&\" \"&VLOOKUP(PTA!Z45,AL_NUM_ARB,6,FALSE)))","v":"X"},{"$f":"IF(OR(PTA!AA45=\"\",PTA!AA45=\"X\"),\"X\",IF(PTA!AA45=\"*\",\"*\",VLOOKUP(PTA!AA45,AL_NUM_ARB,2,FALSE)&\" \"&VLOOKUP(PTA!AA45,AL_NUM_ARB,4,FALSE)&\" \"&VLOOKUP(PTA!AA45,AL_NUM_ARB,6,FALSE)))","v":"X"},{"$f":"IF(OR(PTA!AB45=\"\",PTA!AB45=\"X\"),\"X\",IF(PTA!AB45=\"*\",\"*\",VLOOKUP(PTA!AB45,AL_NUM_ARB,2,FALSE)&\" \"&VLOOKUP(PTA!AB45,AL_NUM_ARB,4,FALSE)&\" \"&VLOOKUP(PTA!AB45,AL_NUM_ARB,6,FALSE)))","v":"X"},{"$f":"IF(OR(PTA!AC45=\"\",PTA!AC45=\"X\"),\"X\",IF(PTA!AC45=\"*\",\"*\",VLOOKUP(PTA!AC45,AL_NUM_ARB,2,FALSE)&\" \"&VLOOKUP(PTA!AC45,AL_NUM_ARB,4,FALSE)&\" \"&VLOOKUP(PTA!AC45,AL_NUM_ARB,6,FALSE)))","v":"X"},{"$f":"IF(OR(PTA!AD45=\"\",PTA!AD45=\"X\"),\"X\",IF(PTA!AD45=\"*\",\"*\",VLOOKUP(PTA!AD45,AL_NUM_ARB,2,FALSE)&\" \"&VLOOKUP(PTA!AD45,AL_NUM_ARB,4,FALSE)&\" \"&VLOOKUP(PTA!AD45,AL_NUM_ARB,6,FALSE)))","v":"X"},{"$f":"IF(OR(PTA!AE45=\"\",PTA!AE45=\"X\"),\"X\",IF(PTA!AE45=\"*\",\"*\",VLOOKUP(PTA!AE45,AL_NUM_ARB,2,FALSE)&\" \"&VLOOKUP(PTA!AE45,AL_NUM_ARB,4,FALSE)&\" \"&VLOOKUP(PTA!AE45,AL_NUM_ARB,6,FALSE)))","v":"X"},{"$f":"IF(OR(PTA!AF45=\"\",PTA!AF45=\"X\"),\"X\",IF(PTA!AF45=\"*\",\"*\",VLOOKUP(PTA!AF45,AL_NUM_ARB,2,FALSE)&\" \"&VLOOKUP(PTA!AF45,AL_NUM_ARB,4,FALSE)&\" \"&VLOOKUP(PTA!AF45,AL_NUM_ARB,6,FALSE)))","v":"X"},{"$f":"IF(OR(PTA!AG45=\"\",PTA!AG45=\"X\"),\"X\",IF(PTA!AG45=\"*\",\"*\",VLOOKUP(PTA!AG45,AL_NUM_ARB,2,FALSE)&\" \"&VLOOKUP(PTA!AG45,AL_NUM_ARB,4,FALSE)&\" \"&VLOOKUP(PTA!AG45,AL_NUM_ARB,6,FALSE)))","v":"X"},{"$f":"IF(OR(PTA!AH45=\"\",PTA!AH45=\"X\"),\"X\",IF(PTA!AH45=\"*\",\"*\",VLOOKUP(PTA!AH45,AL_NUM_ARB,2,FALSE)&\" \"&VLOOKUP(PTA!AH45,AL_NUM_ARB,4,FALSE)&\" \"&VLOOKUP(PTA!AH45,AL_NUM_ARB,6,FALSE)))","v":"X"},{"$f":"IF(OR(PTA!AI45=\"\",PTA!AI45=\"X\"),\"X\",IF(PTA!AI45=\"*\",\"*\",VLOOKUP(PTA!AI45,AL_NUM_ARB,2,FALSE)&\" \"&VLOOKUP(PTA!AI45,AL_NUM_ARB,4,FALSE)&\" \"&VLOOKUP(PTA!AI45,AL_NUM_ARB,6,FALSE)))","v":"X"},{"$f":"IF(OR(PTA!AJ45=\"\",PTA!AJ45=\"X\"),\"X\",IF(PTA!AJ45=\"*\",\"*\",VLOOKUP(PTA!AJ45,AL_NUM_ARB,2,FALSE)&\" \"&VLOOKUP(PTA!AJ45,AL_NUM_ARB,4,FALSE)&\" \"&VLOOKUP(PTA!AJ45,AL_NUM_ARB,6,FALSE)))","v":"X"},{"$f":"IF(OR(PTA!AK45=\"\",PTA!AK45=\"X\"),\"X\",IF(PTA!AK45=\"*\",\"*\",VLOOKUP(PTA!AK45,AL_NUM_ARB,2,FALSE)&\" \"&VLOOKUP(PTA!AK45,AL_NUM_ARB,4,FALSE)&\" \"&VLOOKUP(PTA!AK45,AL_NUM_ARB,6,FALSE)))","v":"X"},{"$f":"IF(OR(PTA!AL45=\"\",PTA!AL45=\"X\"),\"X\",IF(PTA!AL45=\"*\",\"*\",VLOOKUP(PTA!AL45,AL_NUM_ARB,2,FALSE)&\" \"&VLOOKUP(PTA!AL45,AL_NUM_ARB,4,FALSE)&\" \"&VLOOKUP(PTA!AL45,AL_NUM_ARB,6,FALSE)))","v":"X"},{"$f":"IF(OR(PTA!AM45=\"\",PTA!AM45=\"X\"),\"X\",IF(PTA!AM45=\"*\",\"*\",VLOOKUP(PTA!AM45,AL_NUM_ARB,2,FALSE)&\" \"&VLOOKUP(PTA!AM45,AL_NUM_ARB,4,FALSE)&\" \"&VLOOKUP(PTA!AM45,AL_NUM_ARB,6,FALSE)))","v":"X"},{"$f":"IF(OR(PTA!AN45=\"\",PTA!AN45=\"X\"),\"X\",IF(PTA!AN45=\"*\",\"*\",VLOOKUP(PTA!AN45,AL_NUM_ARB,2,FALSE)&\" \"&VLOOKUP(PTA!AN45,AL_NUM_ARB,4,FALSE)&\" \"&VLOOKUP(PTA!AN45,AL_NUM_ARB,6,FALSE)))","v":"X"},{"$f":"IF(OR(PTA!AO45=\"\",PTA!AO45=\"X\"),\"X\",IF(PTA!AO45=\"*\",\"*\",VLOOKUP(PTA!AO45,AL_NUM_ARB,2,FALSE)&\" \"&VLOOKUP(PTA!AO45,AL_NUM_ARB,4,FALSE)&\" \"&VLOOKUP(PTA!AO45,AL_NUM_ARB,6,FALSE)))","v":"X"},{"$f":"IF(OR(PTA!AP45=\"\",PTA!AP45=\"X\"),\"X\",IF(PTA!AP45=\"*\",\"*\",VLOOKUP(PTA!AP45,AL_NUM_ARB,2,FALSE)&\" \"&VLOOKUP(PTA!AP45,AL_NUM_ARB,4,FALSE)&\" \"&VLOOKUP(PTA!AP45,AL_NUM_ARB,6,FALSE)))","v":"X"},{"$f":"IF(OR(PTA!AQ45=\"\",PTA!AQ45=\"X\"),\"X\",IF(PTA!AQ45=\"*\",\"*\",VLOOKUP(PTA!AQ45,AL_NUM_ARB,2,FALSE)&\" \"&VLOOKUP(PTA!AQ45,AL_NUM_ARB,4,FALSE)&\" \"&VLOOKUP(PTA!AQ45,AL_NUM_ARB,6,FALSE)))","v":"X"},{"$f":"IF(OR(PTA!AR45=\"\",PTA!AR45=\"X\"),\"X\",IF(PTA!AR45=\"*\",\"*\",VLOOKUP(PTA!AR45,AL_NUM_ARB,2,FALSE)&\" \"&VLOOKUP(PTA!AR45,AL_NUM_ARB,4,FALSE)&\" \"&VLOOKUP(PTA!AR45,AL_NUM_ARB,6,FALSE)))","v":"X"},{"$f":"IF(OR(PTA!AS45=\"\",PTA!AS45=\"X\"),\"X\",IF(PTA!AS45=\"*\",\"*\",VLOOKUP(PTA!AS45,AL_NUM_ARB,2,FALSE)&\" \"&VLOOKUP(PTA!AS45,AL_NUM_ARB,4,FALSE)&\" \"&VLOOKUP(PTA!AS45,AL_NUM_ARB,6,FALSE)))","v":"X"},{"$f":"IF(OR(PTA!AT45=\"\",PTA!AT45=\"X\"),\"X\",IF(PTA!AT45=\"*\",\"*\",VLOOKUP(PTA!AT45,AL_NUM_ARB,2,FALSE)&\" \"&VLOOKUP(PTA!AT45,AL_NUM_ARB,4,FALSE)&\" \"&VLOOKUP(PTA!AT45,AL_NUM_ARB,6,FALSE)))","v":"X"},{"$f":"IF(OR(PTA!AU45=\"\",PTA!AU45=\"X\"),\"X\",IF(PTA!AU45=\"*\",\"*\",VLOOKUP(PTA!AU45,AL_NUM_ARB,2,FALSE)&\" \"&VLOOKUP(PTA!AU45,AL_NUM_ARB,4,FALSE)&\" \"&VLOOKUP(PTA!AU45,AL_NUM_ARB,6,FALSE)))","v":"X"},{"$f":"IF(OR(PTA!AV45=\"\",PTA!AV45=\"X\"),\"X\",IF(PTA!AV45=\"*\",\"*\",VLOOKUP(PTA!AV45,AL_NUM_ARB,2,FALSE)&\" \"&VLOOKUP(PTA!AV45,AL_NUM_ARB,4,FALSE)&\" \"&VLOOKUP(PTA!AV45,AL_NUM_ARB,6,FALSE)))","v":"X"},{"$f":"IF(OR(PTA!AW45=\"\",PTA!AW45=\"X\"),\"X\",IF(PTA!AW45=\"*\",\"*\",VLOOKUP(PTA!AW45,AL_NUM_ARB,2,FALSE)&\" \"&VLOOKUP(PTA!AW45,AL_NUM_ARB,4,FALSE)&\" \"&VLOOKUP(PTA!AW45,AL_NUM_ARB,6,FALSE)))","v":"X"},{"$f":"IF(OR(PTA!AX45=\"\",PTA!AX45=\"X\"),\"X\",IF(PTA!AX45=\"*\",\"*\",VLOOKUP(PTA!AX45,AL_NUM_ARB,2,FALSE)&\" \"&VLOOKUP(PTA!AX45,AL_NUM_ARB,4,FALSE)&\" \"&VLOOKUP(PTA!AX45,AL_NUM_ARB,6,FALSE)))","v":"X"},{"$f":"IF(OR(PTA!AY45=\"\",PTA!AY45=\"X\"),\"X\",IF(PTA!AY45=\"*\",\"*\",VLOOKUP(PTA!AY45,AL_NUM_ARB,2,FALSE)&\" \"&VLOOKUP(PTA!AY45,AL_NUM_ARB,4,FALSE)&\" \"&VLOOKUP(PTA!AY45,AL_NUM_ARB,6,FALSE)))","v":"X"},{"$f":"IF(OR(PTA!AZ45=\"\",PTA!AZ45=\"X\"),\"X\",IF(PTA!AZ45=\"*\",\"*\",VLOOKUP(PTA!AZ45,AL_NUM_ARB,2,FALSE)&\" \"&VLOOKUP(PTA!AZ45,AL_NUM_ARB,4,FALSE)&\" \"&VLOOKUP(PTA!AZ45,AL_NUM_ARB,6,FALSE)))","v":"X"},{"$f":"IF(OR(PTA!BA45=\"\",PTA!BA45=\"X\"),\"X\",IF(PTA!BA45=\"*\",\"*\",VLOOKUP(PTA!BA45,AL_NUM_ARB,2,FALSE)&\" \"&VLOOKUP(PTA!BA45,AL_NUM_ARB,4,FALSE)&\" \"&VLOOKUP(PTA!BA45,AL_NUM_ARB,6,FALSE)))","v":"X"},{"$f":"IF(OR(PTA!BB45=\"\",PTA!BB45=\"X\"),\"X\",IF(PTA!BB45=\"*\",\"*\",VLOOKUP(PTA!BB45,AL_NUM_ARB,2,FALSE)&\" \"&VLOOKUP(PTA!BB45,AL_NUM_ARB,4,FALSE)&\" \"&VLOOKUP(PTA!BB45,AL_NUM_ARB,6,FALSE)))","v":"X"},{"$f":"IF(OR(PTA!BC45=\"\",PTA!BC45=\"X\"),\"X\",IF(PTA!BC45=\"*\",\"*\",VLOOKUP(PTA!BC45,AL_NUM_ARB,2,FALSE)&\" \"&VLOOKUP(PTA!BC45,AL_NUM_ARB,4,FALSE)&\" \"&VLOOKUP(PTA!BC45,AL_NUM_ARB,6,FALSE)))","v":"X"},{"$f":"IF(OR(PTA!BD45=\"\",PTA!BD45=\"X\"),\"X\",IF(PTA!BD45=\"*\",\"*\",VLOOKUP(PTA!BD45,AL_NUM_ARB,2,FALSE)&\" \"&VLOOKUP(PTA!BD45,AL_NUM_ARB,4,FALSE)&\" \"&VLOOKUP(PTA!BD45,AL_NUM_ARB,6,FALSE)))","v":"X"},{"$f":"IF(OR(PTA!BE45=\"\",PTA!BE45=\"X\"),\"X\",IF(PTA!BE45=\"*\",\"*\",VLOOKUP(PTA!BE45,AL_NUM_ARB,2,FALSE)&\" \"&VLOOKUP(PTA!BE45,AL_NUM_ARB,4,FALSE)&\" \"&VLOOKUP(PTA!BE45,AL_NUM_ARB,6,FALSE)))","v":"X"},{"$f":"IF(OR(PTA!BF45=\"\",PTA!BF45=\"X\"),\"X\",IF(PTA!BF45=\"*\",\"*\",VLOOKUP(PTA!BF45,AL_NUM_ARB,2,FALSE)&\" \"&VLOOKUP(PTA!BF45,AL_NUM_ARB,4,FALSE)&\" \"&VLOOKUP(PTA!BF45,AL_NUM_ARB,6,FALSE)))","v":"X"},{"$f":"IF(OR(PTA!BG45=\"\",PTA!BG45=\"X\"),\"X\",IF(PTA!BG45=\"*\",\"*\",VLOOKUP(PTA!BG45,AL_NUM_ARB,2,FALSE)&\" \"&VLOOKUP(PTA!BG45,AL_NUM_ARB,4,FALSE)&\" \"&VLOOKUP(PTA!BG45,AL_NUM_ARB,6,FALSE)))","v":"X"},{"$f":"IF(OR(PTA!BH45=\"\",PTA!BH45=\"X\"),\"X\",IF(PTA!BH45=\"*\",\"*\",VLOOKUP(PTA!BH45,AL_NUM_ARB,2,FALSE)&\" \"&VLOOKUP(PTA!BH45,AL_NUM_ARB,4,FALSE)&\" \"&VLOOKUP(PTA!BH45,AL_NUM_ARB,6,FALSE)))","v":"X"},{"$f":"IF(OR(PTA!BI45=\"\",PTA!BI45=\"X\"),\"X\",IF(PTA!BI45=\"*\",\"*\",VLOOKUP(PTA!BI45,AL_NUM_ARB,2,FALSE)&\" \"&VLOOKUP(PTA!BI45,AL_NUM_ARB,4,FALSE)&\" \"&VLOOKUP(PTA!BI45,AL_NUM_ARB,6,FALSE)))","v":"X"},{"$f":"IF(OR(PTA!BJ45=\"\",PTA!BJ45=\"X\"),\"X\",IF(PTA!BJ45=\"*\",\"*\",VLOOKUP(PTA!BJ45,AL_NUM_ARB,2,FALSE)&\" \"&VLOOKUP(PTA!BJ45,AL_NUM_ARB,4,FALSE)&\" \"&VLOOKUP(PTA!BJ45,AL_NUM_ARB,6,FALSE)))","v":"X"},{"$f":"IF(OR(PTA!BK45=\"\",PTA!BK45=\"X\"),\"X\",IF(PTA!BK45=\"*\",\"*\",VLOOKUP(PTA!BK45,AL_NUM_ARB,2,FALSE)&\" \"&VLOOKUP(PTA!BK45,AL_NUM_ARB,4,FALSE)&\" \"&VLOOKUP(PTA!BK45,AL_NUM_ARB,6,FALSE)))","v":"X"},{"$f":"IF(OR(PTA!BL45=\"\",PTA!BL45=\"X\"),\"X\",IF(PTA!BL45=\"*\",\"*\",VLOOKUP(PTA!BL45,AL_NUM_ARB,2,FALSE)&\" \"&VLOOKUP(PTA!BL45,AL_NUM_ARB,4,FALSE)&\" \"&VLOOKUP(PTA!BL45,AL_NUM_ARB,6,FALSE)))","v":"X"},{"$f":"IF(OR(PTA!BM45=\"\",PTA!BM45=\"X\"),\"X\",IF(PTA!BM45=\"*\",\"*\",VLOOKUP(PTA!BM45,AL_NUM_ARB,2,FALSE)&\" \"&VLOOKUP(PTA!BM45,AL_NUM_ARB,4,FALSE)&\" \"&VLOOKUP(PTA!BM45,AL_NUM_ARB,6,FALSE)))","v":"X"},{"$f":"IF(OR(PTA!BN45=\"\",PTA!BN45=\"X\"),\"X\",IF(PTA!BN45=\"*\",\"*\",VLOOKUP(PTA!BN45,AL_NUM_ARB,2,FALSE)&\" \"&VLOOKUP(PTA!BN45,AL_NUM_ARB,4,FALSE)&\" \"&VLOOKUP(PTA!BN45,AL_NUM_ARB,6,FALSE)))","v":"X"},{"$f":"IF(OR(PTA!BO45=\"\",PTA!BO45=\"X\"),\"X\",IF(PTA!BO45=\"*\",\"*\",VLOOKUP(PTA!BO45,AL_NUM_ARB,2,FALSE)&\" \"&VLOOKUP(PTA!BO45,AL_NUM_ARB,4,FALSE)&\" \"&VLOOKUP(PTA!BO45,AL_NUM_ARB,6,FALSE)))","v":"X"},{"$f":"IF(OR(PTA!BP45=\"\",PTA!BP45=\"X\"),\"X\",IF(PTA!BP45=\"*\",\"*\",VLOOKUP(PTA!BP45,AL_NUM_ARB,2,FALSE)&\" \"&VLOOKUP(PTA!BP45,AL_NUM_ARB,4,FALSE)&\" \"&VLOOKUP(PTA!BP45,AL_NUM_ARB,6,FALSE)))","v":"X"},{"$f":"IF(OR(PTA!BQ45=\"\",PTA!BQ45=\"X\"),\"X\",IF(PTA!BQ45=\"*\",\"*\",VLOOKUP(PTA!BQ45,AL_NUM_ARB,2,FALSE)&\" \"&VLOOKUP(PTA!BQ45,AL_NUM_ARB,4,FALSE)&\" \"&VLOOKUP(PTA!BQ45,AL_NUM_ARB,6,FALSE)))","v":"X"},{"$f":"IF(OR(PTA!BR45=\"\",PTA!BR45=\"X\"),\"X\",IF(PTA!BR45=\"*\",\"*\",VLOOKUP(PTA!BR45,AL_NUM_ARB,2,FALSE)&\" \"&VLOOKUP(PTA!BR45,AL_NUM_ARB,4,FALSE)&\" \"&VLOOKUP(PTA!BR45,AL_NUM_ARB,6,FALSE)))","v":"X"},{"$f":"IF(OR(PTA!BT45=\"\",PTA!BT45=\"X\"),\"X\",VLOOKUP(PTA!BT45,AL_NUM_ARB,2,FALSE)&\" \"&VLOOKUP(PTA!BT45,AL_NUM_ARB,4,FALSE)&\" \"&VLOOKUP(PTA!BT45,AL_NUM_ARB,6,FALSE))","v":"X"},{"$f":"IF(OR(PTA!BU45=\"\",PTA!BU45=\"X\"),\"X\",VLOOKUP(PTA!BU45,AL_NUM_ARB,2,FALSE)&\" \"&VLOOKUP(PTA!BU45,AL_NUM_ARB,4,FALSE)&\" \"&VLOOKUP(PTA!BU45,AL_NUM_ARB,6,FALSE))","v":"X"},{"$f":"IF(OR(PTA!BV45=\"\",PTA!BV45=\"X\"),\"X\",VLOOKUP(PTA!BV45,AL_NUM_ARB,2,FALSE)&\" \"&VLOOKUP(PTA!BV45,AL_NUM_ARB,4,FALSE)&\" \"&VLOOKUP(PTA!BV45,AL_NUM_ARB,6,FALSE))","v":"X"},{"$f":"IF(OR(PTA!BW45=\"\",PTA!BW45=\"X\"),\"X\",VLOOKUP(PTA!BW45,AL_NUM_ARB,2,FALSE)&\" \"&VLOOKUP(PTA!BW45,AL_NUM_ARB,4,FALSE)&\" \"&VLOOKUP(PTA!BW45,AL_NUM_ARB,6,FALSE))","v":"X"},"18:00:00"]
[{"$f":"PTA!A46","v":""},{"$f":"PTA!B46","v":"00:00:00"},{"$f":"PTA!C46","v":32},{"$f":"PTA!D46","v":0},{"$f":"IF(OR(PTA!E46=\"\",PTA!E46=\"X\"),\"X\",IF(PTA!E46=\"*\",\"*\",VLOOKUP(PTA!E46,AL_NUM_ARB,2,FALSE)&\" \"&VLOOKUP(PTA!E46,AL_NUM_ARB,4,FALSE)&\" \"&VLOOKUP(PTA!E46,AL_NUM_ARB,6,FALSE)))","v":"X"},{"$f":"IF(OR(PTA!F46=\"\",PTA!F46=\"X\"),\"X\",IF(PTA!F46=\"*\",\"*\",VLOOKUP(PTA!F46,AL_NUM_ARB,2,FALSE)&\" \"&VLOOKUP(PTA!F46,AL_NUM_ARB,4,FALSE)&\" \"&VLOOKUP(PTA!F46,AL_NUM_ARB,6,FALSE)))","v":"X"},{"$f":"IF(OR(PTA!G46=\"\",PTA!G46=\"X\"),\"X\",IF(PTA!G46=\"*\",\"*\",VLOOKUP(PTA!G46,AL_NUM_ARB,2,FALSE)&\" \"&VLOOKUP(PTA!G46,AL_NUM_ARB,4,FALSE)&\" \"&VLOOKUP(PTA!G46,AL_NUM_ARB,6,FALSE)))","v":"X"},{"$f":"IF(OR(PTA!H46=\"\",PTA!H46=\"X\"),\"X\",IF(PTA!H46=\"*\",\"*\",VLOOKUP(PTA!H46,AL_NUM_ARB,2,FALSE)&\" \"&VLOOKUP(PTA!H46,AL_NUM_ARB,4,FALSE)&\" \"&VLOOKUP(PTA!H46,AL_NUM_ARB,6,FALSE)))","v":"X"},{"$f":"IF(OR(PTA!I46=\"\",PTA!I46=\"X\"),\"X\",IF(PTA!I46=\"*\",\"*\",VLOOKUP(PTA!I46,AL_NUM_ARB,2,FALSE)&\" \"&VLOOKUP(PTA!I46,AL_NUM_ARB,4,FALSE)&\" \"&VLOOKUP(PTA!I46,AL_NUM_ARB,6,FALSE)))","v":"X"},{"$f":"IF(OR(PTA!J46=\"\",PTA!J46=\"X\"),\"X\",IF(PTA!J46=\"*\",\"*\",VLOOKUP(PTA!J46,AL_NUM_ARB,2,FALSE)&\" \"&VLOOKUP(PTA!J46,AL_NUM_ARB,4,FALSE)&\" \"&VLOOKUP(PTA!J46,AL_NUM_ARB,6,FALSE)))","v":"X"},{"$f":"IF(OR(PTA!K46=\"\",PTA!K46=\"X\"),\"X\",IF(PTA!K46=\"*\",\"*\",VLOOKUP(PTA!K46,AL_NUM_ARB,2,FALSE)&\" \"&VLOOKUP(PTA!K46,AL_NUM_ARB,4,FALSE)&\" \"&VLOOKUP(PTA!K46,AL_NUM_ARB,6,FALSE)))","v":"X"},{"$f":"IF(OR(PTA!L46=\"\",PTA!L46=\"X\"),\"X\",IF(PTA!L46=\"*\",\"*\",VLOOKUP(PTA!L46,AL_NUM_ARB,2,FALSE)&\" \"&VLOOKUP(PTA!L46,AL_NUM_ARB,4,FALSE)&\" \"&VLOOKUP(PTA!L46,AL_NUM_ARB,6,FALSE)))","v":"X"},{"$f":"IF(OR(PTA!M46=\"\",PTA!M46=\"X\"),\"X\",IF(PTA!M46=\"*\",\"*\",VLOOKUP(PTA!M46,AL_NUM_ARB,2,FALSE)&\" \"&VLOOKUP(PTA!M46,AL_NUM_ARB,4,FALSE)&\" \"&VLOOKUP(PTA!M46,AL_NUM_ARB,6,FALSE)))","v":"X"},{"$f":"IF(OR(PTA!N46=\"\",PTA!N46=\"X\"),\"X\",IF(PTA!N46=\"*\",\"*\",VLOOKUP(PTA!N46,AL_NUM_ARB,2,FALSE)&\" \"&VLOOKUP(PTA!N46,AL_NUM_ARB,4,FALSE)&\" \"&VLOOKUP(PTA!N46,AL_NUM_ARB,6,FALSE)))","v":"X"},{"$f":"IF(OR(PTA!O46=\"\",PTA!O46=\"X\"),\"X\",IF(PTA!O46=\"*\",\"*\",VLOOKUP(PTA!O46,AL_NUM_ARB,2,FALSE)&\" \"&VLOOKUP(PTA!O46,AL_NUM_ARB,4,FALSE)&\" \"&VLOOKUP(PTA!O46,AL_NUM_ARB,6,FALSE)))","v":"X"},{"$f":"IF(OR(PTA!P46=\"\",PTA!P46=\"X\"),\"X\",IF(PTA!P46=\"*\",\"*\",VLOOKUP(PTA!P46,AL_NUM_ARB,2,FALSE)&\" \"&VLOOKUP(PTA!P46,AL_NUM_ARB,4,FALSE)&\" \"&VLOOKUP(PTA!P46,AL_NUM_ARB,6,FALSE)))","v":"X"},{"$f":"IF(OR(PTA!Q46=\"\",PTA!Q46=\"X\"),\"X\",IF(PTA!Q46=\"*\",\"*\",VLOOKUP(PTA!Q46,AL_NUM_ARB,2,FALSE)&\" \"&VLOOKUP(PTA!Q46,AL_NUM_ARB,4,FALSE)&\" \"&VLOOKUP(PTA!Q46,AL_NUM_ARB,6,FALSE)))","v":"X"},{"$f":"IF(OR(PTA!R46=\"\",PTA!R46=\"X\"),\"X\",IF(PTA!R46=\"*\",\"*\",VLOOKUP(PTA!R46,AL_NUM_ARB,2,FALSE)&\" \"&VLOOKUP(PTA!R46,AL_NUM_ARB,4,FALSE)&\" \"&VLOOKUP(PTA!R46,AL_NUM_ARB,6,FALSE)))","v":"X"},{"$f":"IF(OR(PTA!S46=\"\",PTA!S46=\"X\"),\"X\",IF(PTA!S46=\"*\",\"*\",VLOOKUP(PTA!S46,AL_NUM_ARB,2,FALSE)&\" \"&VLOOKUP(PTA!S46,AL_NUM_ARB,4,FALSE)&\" \"&VLOOKUP(PTA!S46,AL_NUM_ARB,6,FALSE)))","v":"X"},{"$f":"IF(OR(PTA!T46=\"\",PTA!T46=\"X\"),\"X\",IF(PTA!T46=\"*\",\"*\",VLOOKUP(PTA!T46,AL_NUM_ARB,2,FALSE)&\" \"&VLOOKUP(PTA!T46,AL_NUM_ARB,4,FALSE)&\" \"&VLOOKUP(PTA!T46,AL_NUM_ARB,6,FALSE)))","v":"X"},{"$f":"IF(OR(PTA!U46=\"\",PTA!U46=\"X\"),\"X\",IF(PTA!U46=\"*\",\"*\",VLOOKUP(PTA!U46,AL_NUM_ARB,2,FALSE)&\" \"&VLOOKUP(PTA!U46,AL_NUM_ARB,4,FALSE)&\" \"&VLOOKUP(PTA!U46,AL_NUM_ARB,6,FALSE)))","v":"X"},{"$f":"IF(OR(PTA!V46=\"\",PTA!V46=\"X\"),\"X\",IF(PTA!V46=\"*\",\"*\",VLOOKUP(PTA!V46,AL_NUM_ARB,2,FALSE)&\" \"&VLOOKUP(PTA!V46,AL_NUM_ARB,4,FALSE)&\" \"&VLOOKUP(PTA!V46,AL_NUM_ARB,6,FALSE)))","v":"X"},{"$f":"IF(OR(PTA!W46=\"\",PTA!W46=\"X\"),\"X\",IF(PTA!W46=\"*\",\"*\",VLOOKUP(PTA!W46,AL_NUM_ARB,2,FALSE)&\" \"&VLOOKUP(PTA!W46,AL_NUM_ARB,4,FALSE)&\" \"&VLOOKUP(PTA!W46,AL_NUM_ARB,6,FALSE)))","v":"X"},{"$f":"IF(OR(PTA!X46=\"\",PTA!X46=\"X\"),\"X\",IF(PTA!X46=\"*\",\"*\",VLOOKUP(PTA!X46,AL_NUM_ARB,2,FALSE)&\" \"&VLOOKUP(PTA!X46,AL_NUM_ARB,4,FALSE)&\" \"&VLOOKUP(PTA!X46,AL_NUM_ARB,6,FALSE)))","v":"X"},{"$f":"IF(OR(PTA!Y46=\"\",PTA!Y46=\"X\"),\"X\",IF(PTA!Y46=\"*\",\"*\",VLOOKUP(PTA!Y46,AL_NUM_ARB,2,FALSE)&\" \"&VLOOKUP(PTA!Y46,AL_NUM_ARB,4,FALSE)&\" \"&VLOOKUP(PTA!Y46,AL_NUM_ARB,6,FALSE)))","v":"X"},{"$f":"IF(OR(PTA!Z46=\"\",PTA!Z46=\"X\"),\"X\",IF(PTA!Z46=\"*\",\"*\",VLOOKUP(PTA!Z46,AL_NUM_ARB,2,FALSE)&\" \"&VLOOKUP(PTA!Z46,AL_NUM_ARB,4,FALSE)&\" \"&VLOOKUP(PTA!Z46,AL_NUM_ARB,6,FALSE)))","v":"X"},{"$f":"IF(OR(PTA!AA46=\"\",PTA!AA46=\"X\"),\"X\",IF(PTA!AA46=\"*\",\"*\",VLOOKUP(PTA!AA46,AL_NUM_ARB,2,FALSE)&\" \"&VLOOKUP(PTA!AA46,AL_NUM_ARB,4,FALSE)&\" \"&VLOOKUP(PTA!AA46,AL_NUM_ARB,6,FALSE)))","v":"X"},{"$f":"IF(OR(PTA!AB46=\"\",PTA!AB46=\"X\"),\"X\",IF(PTA!AB46=\"*\",\"*\",VLOOKUP(PTA!AB46,AL_NUM_ARB,2,FALSE)&\" \"&VLOOKUP(PTA!AB46,AL_NUM_ARB,4,FALSE)&\" \"&VLOOKUP(PTA!AB46,AL_NUM_ARB,6,FALSE)))","v":"X"},{"$f":"IF(OR(PTA!AC46=\"\",PTA!AC46=\"X\"),\"X\",IF(PTA!AC46=\"*\",\"*\",VLOOKUP(PTA!AC46,AL_NUM_ARB,2,FALSE)&\" \"&VLOOKUP(PTA!AC46,AL_NUM_ARB,4,FALSE)&\" \"&VLOOKUP(PTA!AC46,AL_NUM_ARB,6,FALSE)))","v":"X"},{"$f":"IF(OR(PTA!AD46=\"\",PTA!AD46=\"X\"),\"X\",IF(PTA!AD46=\"*\",\"*\",VLOOKUP(PTA!AD46,AL_NUM_ARB,2,FALSE)&\" \"&VLOOKUP(PTA!AD46,AL_NUM_ARB,4,FALSE)&\" \"&VLOOKUP(PTA!AD46,AL_NUM_ARB,6,FALSE)))","v":"X"},{"$f":"IF(OR(PTA!AE46=\"\",PTA!AE46=\"X\"),\"X\",IF(PTA!AE46=\"*\",\"*\",VLOOKUP(PTA!AE46,AL_NUM_ARB,2,FALSE)&\" \"&VLOOKUP(PTA!AE46,AL_NUM_ARB,4,FALSE)&\" \"&VLOOKUP(PTA!AE46,AL_NUM_ARB,6,FALSE)))","v":"X"},{"$f":"IF(OR(PTA!AF46=\"\",PTA!AF46=\"X\"),\"X\",IF(PTA!AF46=\"*\",\"*\",VLOOKUP(PTA!AF46,AL_NUM_ARB,2,FALSE)&\" \"&VLOOKUP(PTA!AF46,AL_NUM_ARB,4,FALSE)&\" \"&VLOOKUP(PTA!AF46,AL_NUM_ARB,6,FALSE)))","v":"X"},{"$f":"IF(OR(PTA!AG46=\"\",PTA!AG46=\"X\"),\"X\",IF(PTA!AG46=\"*\",\"*\",VLOOKUP(PTA!AG46,AL_NUM_ARB,2,FALSE)&\" \"&VLOOKUP(PTA!AG46,AL_NUM_ARB,4,FALSE)&\" \"&VLOOKUP(PTA!AG46,AL_NUM_ARB,6,FALSE)))","v":"X"},{"$f":"IF(OR(PTA!AH46=\"\",PTA!AH46=\"X\"),\"X\",IF(PTA!AH46=\"*\",\"*\",VLOOKUP(PTA!AH46,AL_NUM_ARB,2,FALSE)&\" \"&VLOOKUP(PTA!AH46,AL_NUM_ARB,4,FALSE)&\" \"&VLOOKUP(PTA!AH46,AL_NUM_ARB,6,FALSE)))","v":"X"},{"$f":"IF(OR(PTA!AI46=\"\",PTA!AI46=\"X\"),\"X\",IF(PTA!AI46=\"*\",\"*\",VLOOKUP(PTA!AI46,AL_NUM_ARB,2,FALSE)&\" \"&VLOOKUP(PTA!AI46,AL_NUM_ARB,4,FALSE)&\" \"&VLOOKUP(PTA!AI46,AL_NUM_ARB,6,FALSE)))","v":"X"},{"$f":"IF(OR(PTA!AJ46=\"\",PTA!AJ46=\"X\"),\"X\",IF(PTA!AJ46=\"*\",\"*\",VLOOKUP(PTA!AJ46,AL_NUM_ARB,2,FALSE)&\" \"&VLOOKUP(PTA!AJ46,AL_NUM_ARB,4,FALSE)&\" \"&VLOOKUP(PTA!AJ46,AL_NUM_ARB,6,FALSE)))","v":"X"},{"$f":"IF(OR(PTA!AK46=\"\",PTA!AK46=\"X\"),\"X\",IF(PTA!AK46=\"*\",\"*\",VLOOKUP(PTA!AK46,AL_NUM_ARB,2,FALSE)&\" \"&VLOOKUP(PTA!AK46,AL_NUM_ARB,4,FALSE)&\" \"&VLOOKUP(PTA!AK46,AL_NUM_ARB,6,FALSE)))","v":"X"},{"$f":"IF(OR(PTA!AL46=\"\",PTA!AL46=\"X\"),\"X\",IF(PTA!AL46=\"*\",\"*\",VLOOKUP(PTA!AL46,AL_NUM_ARB,2,FALSE)&\" \"&VLOOKUP(PTA!AL46,AL_NUM_ARB,4,FALSE)&\" \"&VLOOKUP(PTA!AL46,AL_NUM_ARB,6,FALSE)))","v":"X"},{"$f":"IF(OR(PTA!AM46=\"\",PTA!AM46=\"X\"),\"X\",IF(PTA!AM46=\"*\",\"*\",VLOOKUP(PTA!AM46,AL_NUM_ARB,2,FALSE)&\" \"&VLOOKUP(PTA!AM46,AL_NUM_ARB,4,FALSE)&\" \"&VLOOKUP(PTA!AM46,AL_NUM_ARB,6,FALSE)))","v":"X"},{"$f":"IF(OR(PTA!AN46=\"\",PTA!AN46=\"X\"),\"X\",IF(PTA!AN46=\"*\",\"*\",VLOOKUP(PTA!AN46,AL_NUM_ARB,2,FALSE)&\" \"&VLOOKUP(PTA!AN46,AL_NUM_ARB,4,FALSE)&\" \"&VLOOKUP(PTA!AN46,AL_NUM_ARB,6,FALSE)))","v":"X"},{"$f":"IF(OR(PTA!AO46=\"\",PTA!AO46=\"X\"),\"X\",IF(PTA!AO46=\"*\",\"*\",VLOOKUP(PTA!AO46,AL_NUM_ARB,2,FALSE)&\" \"&VLOOKUP(PTA!AO46,AL_NUM_ARB,4,FALSE)&\" \"&VLOOKUP(PTA!AO46,AL_NUM_ARB,6,FALSE)))","v":"X"},{"$f":"IF(OR(PTA!AP46=\"\",PTA!AP46=\"X\"),\"X\",IF(PTA!AP46=\"*\",\"*\",VLOOKUP(PTA!AP46,AL_NUM_ARB,2,FALSE)&\" \"&VLOOKUP(PTA!AP46,AL_NUM_ARB,4,FALSE)&\" \"&VLOOKUP(PTA!AP46,AL_NUM_ARB,6,FALSE)))","v":"X"},{"$f":"IF(OR(PTA!AQ46=\"\",PTA!AQ46=\"X\"),\"X\",IF(PTA!AQ46=\"*\",\"*\",VLOOKUP(PTA!AQ46,AL_NUM_ARB,2,FALSE)&\" \"&VLOOKUP(PTA!AQ46,AL_NUM_ARB,4,FALSE)&\" \"&VLOOKUP(PTA!AQ46,AL_NUM_ARB,6,FALSE)))","v":"X"},{"$f":"IF(OR(PTA!AR46=\"\",PTA!AR46=\"X\"),\"X\",IF(PTA!AR46=\"*\",\"*\",VLOOKUP(PTA!AR46,AL_NUM_ARB,2,FALSE)&\" \"&VLOOKUP(PTA!AR46,AL_NUM_ARB,4,FALSE)&\" \"&VLOOKUP(PTA!AR46,AL_NUM_ARB,6,FALSE)))","v":"X"},{"$f":"IF(OR(PTA!AS46=\"\",PTA!AS46=\"X\"),\"X\",IF(PTA!AS46=\"*\",\"*\",VLOOKUP(PTA!AS46,AL_NUM_ARB,2,FALSE)&\" \"&VLOOKUP(PTA!AS46,AL_NUM_ARB,4,FALSE)&\" \"&VLOOKUP(PTA!AS46,AL_NUM_ARB,6,FALSE)))","v":"X"},{"$f":"IF(OR(PTA!AT46=\"\",PTA!AT46=\"X\"),\"X\",IF(PTA!AT46=\"*\",\"*\",VLOOKUP(PTA!AT46,AL_NUM_ARB,2,FALSE)&\" \"&VLOOKUP(PTA!AT46,AL_NUM_ARB,4,FALSE)&\" \"&VLOOKUP(PTA!AT46,AL_NUM_ARB,6,FALSE)))","v":"X"},{"$f":"IF(OR(PTA!AU46=\"\",PTA!AU46=\"X\"),\"X\",IF(PTA!AU46=\"*\",\"*\",VLOOKUP(PTA!AU46,AL_NUM_ARB,2,FALSE)&\" \"&VLOOKUP(PTA!AU46,AL_NUM_ARB,4,FALSE)&\" \"&VLOOKUP(PTA!AU46,AL_NUM_ARB,6,FALSE)))","v":"X"},{"$f":"IF(OR(PTA!AV46=\"\",PTA!AV46=\"X\"),\"X\",IF(PTA!AV46=\"*\",\"*\",VLOOKUP(PTA!AV46,AL_NUM_ARB,2,FALSE)&\" \"&VLOOKUP(PTA!AV46,AL_NUM_ARB,4,FALSE)&\" \"&VLOOKUP(PTA!AV46,AL_NUM_ARB,6,FALSE)))","v":"X"},{"$f":"IF(OR(PTA!AW46=\"\",PTA!AW46=\"X\"),\"X\",IF(PTA!AW46=\"*\",\"*\",VLOOKUP(PTA!AW46,AL_NUM_ARB,2,FALSE)&\" \"&VLOOKUP(PTA!AW46,AL_NUM_ARB,4,FALSE)&\" \"&VLOOKUP(PTA!AW46,AL_NUM_ARB,6,FALSE)))","v":"X"},{"$f":"IF(OR(PTA!AX46=\"\",PTA!AX46=\"X\"),\"X\",IF(PTA!AX46=\"*\",\"*\",VLOOKUP(PTA!AX46,AL_NUM_ARB,2,FALSE)&\" \"&VLOOKUP(PTA!AX46,AL_NUM_ARB,4,FALSE)&\" \"&VLOOKUP(PTA!AX46,AL_NUM_ARB,6,FALSE)))","v":"X"},{"$f":"IF(OR(PTA!AY46=\"\",PTA!AY46=\"X\"),\"X\",IF(PTA!AY46=\"*\",\"*\",VLOOKUP(PTA!AY46,AL_NUM_ARB,2,FALSE)&\" \"&VLOOKUP(PTA!AY46,AL_NUM_ARB,4,FALSE)&\" \"&VLOOKUP(PTA!AY46,AL_NUM_ARB,6,FALSE)))","v":"X"},{"$f":"IF(OR(PTA!AZ46=\"\",PTA!AZ46=\"X\"),\"X\",IF(PTA!AZ46=\"*\",\"*\",VLOOKUP(PTA!AZ46,AL_NUM_ARB,2,FALSE)&\" \"&VLOOKUP(PTA!AZ46,AL_NUM_ARB,4,FALSE)&\" \"&VLOOKUP(PTA!AZ46,AL_NUM_ARB,6,FALSE)))","v":"X"},{"$f":"IF(OR(PTA!BA46=\"\",PTA!BA46=\"X\"),\"X\",IF(PTA!BA46=\"*\",\"*\",VLOOKUP(PTA!BA46,AL_NUM_ARB,2,FALSE)&\" \"&VLOOKUP(PTA!BA46,AL_NUM_ARB,4,FALSE)&\" \"&VLOOKUP(PTA!BA46,AL_NUM_ARB,6,FALSE)))","v":"X"},{"$f":"IF(OR(PTA!BB46=\"\",PTA!BB46=\"X\"),\"X\",IF(PTA!BB46=\"*\",\"*\",VLOOKUP(PTA!BB46,AL_NUM_ARB,2,FALSE)&\" \"&VLOOKUP(PTA!BB46,AL_NUM_ARB,4,FALSE)&\" \"&VLOOKUP(PTA!BB46,AL_NUM_ARB,6,FALSE)))","v":"X"},{"$f":"IF(OR(PTA!BC46=\"\",PTA!BC46=\"X\"),\"X\",IF(PTA!BC46=\"*\",\"*\",VLOOKUP(PTA!BC46,AL_NUM_ARB,2,FALSE)&\" \"&VLOOKUP(PTA!BC46,AL_NUM_ARB,4,FALSE)&\" \"&VLOOKUP(PTA!BC46,AL_NUM_ARB,6,FALSE)))","v":"X"},{"$f":"IF(OR(PTA!BD46=\"\",PTA!BD46=\"X\"),\"X\",IF(PTA!BD46=\"*\",\"*\",VLOOKUP(PTA!BD46,AL_NUM_ARB,2,FALSE)&\" \"&VLOOKUP(PTA!BD46,AL_NUM_ARB,4,FALSE)&\" \"&VLOOKUP(PTA!BD46,AL_NUM_ARB,6,FALSE)))","v":"X"},{"$f":"IF(OR(PTA!BE46=\"\",PTA!BE46=\"X\"),\"X\",IF(PTA!BE46=\"*\",\"*\",VLOOKUP(PTA!BE46,AL_NUM_ARB,2,FALSE)&\" \"&VLOOKUP(PTA!BE46,AL_NUM_ARB,4,FALSE)&\" \"&VLOOKUP(PTA!BE46,AL_NUM_ARB,6,FALSE)))","v":"X"},{"$f":"IF(OR(PTA!BF46=\"\",PTA!BF46=\"X\"),\"X\",IF(PTA!BF46=\"*\",\"*\",VLOOKUP(PTA!BF46,AL_NUM_ARB,2,FALSE)&\" \"&VLOOKUP(PTA!BF46,AL_NUM_ARB,4,FALSE)&\" \"&VLOOKUP(PTA!BF46,AL_NUM_ARB,6,FALSE)))","v":"X"},{"$f":"IF(OR(PTA!BG46=\"\",PTA!BG46=\"X\"),\"X\",IF(PTA!BG46=\"*\",\"*\",VLOOKUP(PTA!BG46,AL_NUM_ARB,2,FALSE)&\" \"&VLOOKUP(PTA!BG46,AL_NUM_ARB,4,FALSE)&\" \"&VLOOKUP(PTA!BG46,AL_NUM_ARB,6,FALSE)))","v":"X"},{"$f":"IF(OR(PTA!BH46=\"\",PTA!BH46=\"X\"),\"X\",IF(PTA!BH46=\"*\",\"*\",VLOOKUP(PTA!BH46,AL_NUM_ARB,2,FALSE)&\" \"&VLOOKUP(PTA!BH46,AL_NUM_ARB,4,FALSE)&\" \"&VLOOKUP(PTA!BH46,AL_NUM_ARB,6,FALSE)))","v":"X"},{"$f":"IF(OR(PTA!BI46=\"\",PTA!BI46=\"X\"),\"X\",IF(PTA!BI46=\"*\",\"*\",VLOOKUP(PTA!BI46,AL_NUM_ARB,2,FALSE)&\" \"&VLOOKUP(PTA!BI46,AL_NUM_ARB,4,FALSE)&\" \"&VLOOKUP(PTA!BI46,AL_NUM_ARB,6,FALSE)))","v":"X"},{"$f":"IF(OR(PTA!BJ46=\"\",PTA!BJ46=\"X\"),\"X\",IF(PTA!BJ46=\"*\",\"*\",VLOOKUP(PTA!BJ46,AL_NUM_ARB,2,FALSE)&\" \"&VLOOKUP(PTA!BJ46,AL_NUM_ARB,4,FALSE)&\" \"&VLOOKUP(PTA!BJ46,AL_NUM_ARB,6,FALSE)))","v":"X"},{"$f":"IF(OR(PTA!BK46=\"\",PTA!BK46=\"X\"),\"X\",IF(PTA!BK46=\"*\",\"*\",VLOOKUP(PTA!BK46,AL_NUM_ARB,2,FALSE)&\" \"&VLOOKUP(PTA!BK46,AL_NUM_ARB,4,FALSE)&\" \"&VLOOKUP(PTA!BK46,AL_NUM_ARB,6,FALSE)))","v":"X"},{"$f":"IF(OR(PTA!BL46=\"\",PTA!BL46=\"X\"),\"X\",IF(PTA!BL46=\"*\",\"*\",VLOOKUP(PTA!BL46,AL_NUM_ARB,2,FALSE)&\" \"&VLOOKUP(PTA!BL46,AL_NUM_ARB,4,FALSE)&\" \"&VLOOKUP(PTA!BL46,AL_NUM_ARB,6,FALSE)))","v":"X"},{"$f":"IF(OR(PTA!BM46=\"\",PTA!BM46=\"X\"),\"X\",IF(PTA!BM46=\"*\",\"*\",VLOOKUP(PTA!BM46,AL_NUM_ARB,2,FALSE)&\" \"&VLOOKUP(PTA!BM46,AL_NUM_ARB,4,FALSE)&\" \"&VLOOKUP(PTA!BM46,AL_NUM_ARB,6,FALSE)))","v":"X"},{"$f":"IF(OR(PTA!BN46=\"\",PTA!BN46=\"X\"),\"X\",IF(PTA!BN46=\"*\",\"*\",VLOOKUP(PTA!BN46,AL_NUM_ARB,2,FALSE)&\" \"&VLOOKUP(PTA!BN46,AL_NUM_ARB,4,FALSE)&\" \"&VLOOKUP(PTA!BN46,AL_NUM_ARB,6,FALSE)))","v":"X"},{"$f":"IF(OR(PTA!BO46=\"\",PTA!BO46=\"X\"),\"X\",IF(PTA!BO46=\"*\",\"*\",VLOOKUP(PTA!BO46,AL_NUM_ARB,2,FALSE)&\" \"&VLOOKUP(PTA!BO46,AL_NUM_ARB,4,FALSE)&\" \"&VLOOKUP(PTA!BO46,AL_NUM_ARB,6,FALSE)))","v":"X"},{"$f":"IF(OR(PTA!BP46=\"\",PTA!BP46=\"X\"),\"X\",IF(PTA!BP46=\"*\",\"*\",VLOOKUP(PTA!BP46,AL_NUM_ARB,2,FALSE)&\" \"&VLOOKUP(PTA!BP46,AL_NUM_ARB,4,FALSE)&\" \"&VLOOKUP(PTA!BP46,AL_NUM_ARB,6,FALSE)))","v":"X"},{"$f":"IF(OR(PTA!BQ46=\"\",PTA!BQ46=\"X\"),\"X\",IF(PTA!BQ46=\"*\",\"*\",VLOOKUP(PTA!BQ46,AL_NUM_ARB,2,FALSE)&\" \"&VLOOKUP(PTA!BQ46,AL_NUM_ARB,4,FALSE)&\" \"&VLOOKUP(PTA!BQ46,AL_NUM_ARB,6,FALSE)))","v":"X"},{"$f":"IF(OR(PTA!BR46=\"\",PTA!BR46=\"X\"),\"X\",IF(PTA!BR46=\"*\",\"*\",VLOOKUP(PTA!BR46,AL_NUM_ARB,2,FALSE)&\" \"&VLOOKUP(PTA!BR46,AL_NUM_ARB,4,FALSE)&\" \"&VLOOKUP(PTA!BR46,AL_NUM_ARB,6,FALSE)))","v":"X"},{"$f":"IF(OR(PTA!BT46=\"\",PTA!BT46=\"X\"),\"X\",VLOOKUP(PTA!BT46,AL_NUM_ARB,2,FALSE)&\" \"&VLOOKUP(PTA!BT46,AL_NUM_ARB,4,FALSE)&\" \"&VLOOKUP(PTA!BT46,AL_NUM_ARB,6,FALSE))","v":"X"},{"$f":"IF(OR(PTA!BU46=\"\",PTA!BU46=\"X\"),\"X\",VLOOKUP(PTA!BU46,AL_NUM_ARB,2,FALSE)&\" \"&VLOOKUP(PTA!BU46,AL_NUM_ARB,4,FALSE)&\" \"&VLOOKUP(PTA!BU46,AL_NUM_ARB,6,FALSE))","v":"X"},{"$f":"IF(OR(PTA!BV46=\"\",PTA!BV46=\"X\"),\"X\",VLOOKUP(PTA!BV46,AL_NUM_ARB,2,FALSE)&\" \"&VLOOKUP(PTA!BV46,AL_NUM_ARB,4,FALSE)&\" \"&VLOOKUP(PTA!BV46,AL_NUM_ARB,6,FALSE))","v":"X"},{"$f":"IF(OR(PTA!BW46=\"\",PTA!BW46=\"X\"),\"X\",VLOOKUP(PTA!BW46,AL_NUM_ARB,2,FALSE)&\" \"&VLOOKUP(PTA!BW46,AL_NUM_ARB,4,FALSE)&\" \"&VLOOKUP(PTA!BW46,AL_NUM_ARB,6,FALSE))","v":"X"},"18:30:00"]
[{"$f":"PTA!A47","v":""},{"$f":"PTA!B47","v":"00:00:00"},{"$f":"PTA!C47","v":32},{"$f":"PTA!D47","v":0},{"$f":"IF(OR(PTA!E47=\"\",PTA!E47=\"X\"),\"X\",IF(PTA!E47=\"*\",\"*\",VLOOKUP(PTA!E47,AL_NUM_ARB,2,FALSE)&\" \"&VLOOKUP(PTA!E47,AL_NUM_ARB,4,FALSE)&\" \"&VLOOKUP(PTA!E47,AL_NUM_ARB,6,FALSE)))","v":"X"},{"$f":"IF(OR(PTA!F47=\"\",PTA!F47=\"X\"),\"X\",IF(PTA!F47=\"*\",\"*\",VLOOKUP(PTA!F47,AL_NUM_ARB,2,FALSE)&\" \"&VLOOKUP(PTA!F47,AL_NUM_ARB,4,FALSE)&\" \"&VLOOKUP(PTA!F47,AL_NUM_ARB,6,FALSE)))","v":"X"},{"$f":"IF(OR(PTA!G47=\"\",PTA!G47=\"X\"),\"X\",IF(PTA!G47=\"*\",\"*\",VLOOKUP(PTA!G47,AL_NUM_ARB,2,FALSE)&\" \"&VLOOKUP(PTA!G47,AL_NUM_ARB,4,FALSE)&\" \"&VLOOKUP(PTA!G47,AL_NUM_ARB,6,FALSE)))","v":"X"},{"$f":"IF(OR(PTA!H47=\"\",PTA!H47=\"X\"),\"X\",IF(PTA!H47=\"*\",\"*\",VLOOKUP(PTA!H47,AL_NUM_ARB,2,FALSE)&\" \"&VLOOKUP(PTA!H47,AL_NUM_ARB,4,FALSE)&\" \"&VLOOKUP(PTA!H47,AL_NUM_ARB,6,FALSE)))","v":"X"},{"$f":"IF(OR(PTA!I47=\"\",PTA!I47=\"X\"),\"X\",IF(PTA!I47=\"*\",\"*\",VLOOKUP(PTA!I47,AL_NUM_ARB,2,FALSE)&\" \"&VLOOKUP(PTA!I47,AL_NUM_ARB,4,FALSE)&\" \"&VLOOKUP(PTA!I47,AL_NUM_ARB,6,FALSE)))","v":"X"},{"$f":"IF(OR(PTA!J47=\"\",PTA!J47=\"X\"),\"X\",IF(PTA!J47=\"*\",\"*\",VLOOKUP(PTA!J47,AL_NUM_ARB,2,FALSE)&\" \"&VLOOKUP(PTA!J47,AL_NUM_ARB,4,FALSE)&\" \"&VLOOKUP(PTA!J47,AL_NUM_ARB,6,FALSE)))","v":"X"},{"$f":"IF(OR(PTA!K47=\"\",PTA!K47=\"X\"),\"X\",IF(PTA!K47=\"*\",\"*\",VLOOKUP(PTA!K47,AL_NUM_ARB,2,FALSE)&\" \"&VLOOKUP(PTA!K47,AL_NUM_ARB,4,FALSE)&\" \"&VLOOKUP(PTA!K47,AL_NUM_ARB,6,FALSE)))","v":"X"},{"$f":"IF(OR(PTA!L47=\"\",PTA!L47=\"X\"),\"X\",IF(PTA!L47=\"*\",\"*\",VLOOKUP(PTA!L47,AL_NUM_ARB,2,FALSE)&\" \"&VLOOKUP(PTA!L47,AL_NUM_ARB,4,FALSE)&\" \"&VLOOKUP(PTA!L47,AL_NUM_ARB,6,FALSE)))","v":"X"},{"$f":"IF(OR(PTA!M47=\"\",PTA!M47=\"X\"),\"X\",IF(PTA!M47=\"*\",\"*\",VLOOKUP(PTA!M47,AL_NUM_ARB,2,FALSE)&\" \"&VLOOKUP(PTA!M47,AL_NUM_ARB,4,FALSE)&\" \"&VLOOKUP(PTA!M47,AL_NUM_ARB,6,FALSE)))","v":"X"},{"$f":"IF(OR(PTA!N47=\"\",PTA!N47=\"X\"),\"X\",IF(PTA!N47=\"*\",\"*\",VLOOKUP(PTA!N47,AL_NUM_ARB,2,FALSE)&\" \"&VLOOKUP(PTA!N47,AL_NUM_ARB,4,FALSE)&\" \"&VLOOKUP(PTA!N47,AL_NUM_ARB,6,FALSE)))","v":"X"},{"$f":"IF(OR(PTA!O47=\"\",PTA!O47=\"X\"),\"X\",IF(PTA!O47=\"*\",\"*\",VLOOKUP(PTA!O47,AL_NUM_ARB,2,FALSE)&\" \"&VLOOKUP(PTA!O47,AL_NUM_ARB,4,FALSE)&\" \"&VLOOKUP(PTA!O47,AL_NUM_ARB,6,FALSE)))","v":"X"},{"$f":"IF(OR(PTA!P47=\"\",PTA!P47=\"X\"),\"X\",IF(PTA!P47=\"*\",\"*\",VLOOKUP(PTA!P47,AL_NUM_ARB,2,FALSE)&\" \"&VLOOKUP(PTA!P47,AL_NUM_ARB,4,FALSE)&\" \"&VLOOKUP(PTA!P47,AL_NUM_ARB,6,FALSE)))","v":"X"},{"$f":"IF(OR(PTA!Q47=\"\",PTA!Q47=\"X\"),\"X\",IF(PTA!Q47=\"*\",\"*\",VLOOKUP(PTA!Q47,AL_NUM_ARB,2,FALSE)&\" \"&VLOOKUP(PTA!Q47,AL_NUM_ARB,4,FALSE)&\" \"&VLOOKUP(PTA!Q47,AL_NUM_ARB,6,FALSE)))","v":"X"},{"$f":"IF(OR(PTA!R47=\"\",PTA!R47=\"X\"),\"X\",IF(PTA!R47=\"*\",\"*\",VLOOKUP(PTA!R47,AL_NUM_ARB,2,FALSE)&\" \"&VLOOKUP(PTA!R47,AL_NUM_ARB,4,FALSE)&\" \"&VLOOKUP(PTA!R47,AL_NUM_ARB,6,FALSE)))","v":"X"},{"$f":"IF(OR(PTA!S47=\"\",PTA!S47=\"X\"),\"X\",IF(PTA!S47=\"*\",\"*\",VLOOKUP(PTA!S47,AL_NUM_ARB,2,FALSE)&\" \"&VLOOKUP(PTA!S47,AL_NUM_ARB,4,FALSE)&\" \"&VLOOKUP(PTA!S47,AL_NUM_ARB,6,FALSE)))","v":"X"},{"$f":"IF(OR(PTA!T47=\"\",PTA!T47=\"X\"),\"X\",IF(PTA!T47=\"*\",\"*\",VLOOKUP(PTA!T47,AL_NUM_ARB,2,FALSE)&\" \"&VLOOKUP(PTA!T47,AL_NUM_ARB,4,FALSE)&\" \"&VLOOKUP(PTA!T47,AL_NUM_ARB,6,FALSE)))","v":"X"},{"$f":"IF(OR(PTA!U47=\"\",PTA!U47=\"X\"),\"X\",IF(PTA!U47=\"*\",\"*\",VLOOKUP(PTA!U47,AL_NUM_ARB,2,FALSE)&\" \"&VLOOKUP(PTA!U47,AL_NUM_ARB,4,FALSE)&\" \"&VLOOKUP(PTA!U47,AL_NUM_ARB,6,FALSE)))","v":"X"},{"$f":"IF(OR(PTA!V47=\"\",PTA!V47=\"X\"),\"X\",IF(PTA!V47=\"*\",\"*\",VLOOKUP(PTA!V47,AL_NUM_ARB,2,FALSE)&\" \"&VLOOKUP(PTA!V47,AL_NUM_ARB,4,FALSE)&\" \"&VLOOKUP(PTA!V47,AL_NUM_ARB,6,FALSE)))","v":"X"},{"$f":"IF(OR(PTA!W47=\"\",PTA!W47=\"X\"),\"X\",IF(PTA!W47=\"*\",\"*\",VLOOKUP(PTA!W47,AL_NUM_ARB,2,FALSE)&\" \"&VLOOKUP(PTA!W47,AL_NUM_ARB,4,FALSE)&\" \"&VLOOKUP(PTA!W47,AL_NUM_ARB,6,FALSE)))","v":"X"},{"$f":"IF(OR(PTA!X47=\"\",PTA!X47=\"X\"),\"X\",IF(PTA!X47=\"*\",\"*\",VLOOKUP(PTA!X47,AL_NUM_ARB,2,FALSE)&\" \"&VLOOKUP(PTA!X47,AL_NUM_ARB,4,FALSE)&\" \"&VLOOKUP(PTA!X47,AL_NUM_ARB,6,FALSE)))","v":"X"},{"$f":"IF(OR(PTA!Y47=\"\",PTA!Y47=\"X\"),\"X\",IF(PTA!Y47=\"*\",\"*\",VLOOKUP(PTA!Y47,AL_NUM_ARB,2,FALSE)&\" \"&VLOOKUP(PTA!Y47,AL_NUM_ARB,4,FALSE)&\" \"&VLOOKUP(PTA!Y47,AL_NUM_ARB,6,FALSE)))","v":"X"},{"$f":"IF(OR(PTA!Z47=\"\",PTA!Z47=\"X\"),\"X\",IF(PTA!Z47=\"*\",\"*\",VLOOKUP(PTA!Z47,AL_NUM_ARB,2,FALSE)&\" \"&VLOOKUP(PTA!Z47,AL_NUM_ARB,4,FALSE)&\" \"&VLOOKUP(PTA!Z47,AL_NUM_ARB,6,FALSE)))","v":"X"},{"$f":"IF(OR(PTA!AA47=\"\",PTA!AA47=\"X\"),\"X\",IF(PTA!AA47=\"*\",\"*\",VLOOKUP(PTA!AA47,AL_NUM_ARB,2,FALSE)&\" \"&VLOOKUP(PTA!AA47,AL_NUM_ARB,4,FALSE)&\" \"&VLOOKUP(PTA!AA47,AL_NUM_ARB,6,FALSE)))","v":"X"},{"$f":"IF(OR(PTA!AB47=\"\",PTA!AB47=\"X\"),\"X\",IF(PTA!AB47=\"*\",\"*\",VLOOKUP(PTA!AB47,AL_NUM_ARB,2,FALSE)&\" \"&VLOOKUP(PTA!AB47,AL_NUM_ARB,4,FALSE)&\" \"&VLOOKUP(PTA!AB47,AL_NUM_ARB,6,FALSE)))","v":"X"},{"$f":"IF(OR(PTA!AC47=\"\",PTA!AC47=\"X\"),\"X\",IF(PTA!AC47=\"*\",\"*\",VLOOKUP(PTA!AC47,AL_NUM_ARB,2,FALSE)&\" \"&VLOOKUP(PTA!AC47,AL_NUM_ARB,4,FALSE)&\" \"&VLOOKUP(PTA!AC47,AL_NUM_ARB,6,FALSE)))","v":"X"},{"$f":"IF(OR(PTA!AD47=\"\",PTA!AD47=\"X\"),\"X\",IF(PTA!AD47=\"*\",\"*\",VLOOKUP(PTA!AD47,AL_NUM_ARB,2,FALSE)&\" \"&VLOOKUP(PTA!AD47,AL_NUM_ARB,4,FALSE)&\" \"&VLOOKUP(PTA!AD47,AL_NUM_ARB,6,FALSE)))","v":"X"},{"$f":"IF(OR(PTA!AE47=\"\",PTA!AE47=\"X\"),\"X\",IF(PTA!AE47=\"*\",\"*\",VLOOKUP(PTA!AE47,AL_NUM_ARB,2,FALSE)&\" \"&VLOOKUP(PTA!AE47,AL_NUM_ARB,4,FALSE)&\" \"&VLOOKUP(PTA!AE47,AL_NUM_ARB,6,FALSE)))","v":"X"},{"$f":"IF(OR(PTA!AF47=\"\",PTA!AF47=\"X\"),\"X\",IF(PTA!AF47=\"*\",\"*\",VLOOKUP(PTA!AF47,AL_NUM_ARB,2,FALSE)&\" \"&VLOOKUP(PTA!AF47,AL_NUM_ARB,4,FALSE)&\" \"&VLOOKUP(PTA!AF47,AL_NUM_ARB,6,FALSE)))","v":"X"},{"$f":"IF(OR(PTA!AG47=\"\",PTA!AG47=\"X\"),\"X\",IF(PTA!AG47=\"*\",\"*\",VLOOKUP(PTA!AG47,AL_NUM_ARB,2,FALSE)&\" \"&VLOOKUP(PTA!AG47,AL_NUM_ARB,4,FALSE)&\" \"&VLOOKUP(PTA!AG47,AL_NUM_ARB,6,FALSE)))","v":"X"},{"$f":"IF(OR(PTA!AH47=\"\",PTA!AH47=\"X\"),\"X\",IF(PTA!AH47=\"*\",\"*\",VLOOKUP(PTA!AH47,AL_NUM_ARB,2,FALSE)&\" \"&VLOOKUP(PTA!AH47,AL_NUM_ARB,4,FALSE)&\" \"&VLOOKUP(PTA!AH47,AL_NUM_ARB,6,FALSE)))","v":"X"},{"$f":"IF(OR(PTA!AI47=\"\",PTA!AI47=\"X\"),\"X\",IF(PTA!AI47=\"*\",\"*\",VLOOKUP(PTA!AI47,AL_NUM_ARB,2,FALSE)&\" \"&VLOOKUP(PTA!AI47,AL_NUM_ARB,4,FALSE)&\" \"&VLOOKUP(PTA!AI47,AL_NUM_ARB,6,FALSE)))","v":"X"},{"$f":"IF(OR(PTA!AJ47=\"\",PTA!AJ47=\"X\"),\"X\",IF(PTA!AJ47=\"*\",\"*\",VLOOKUP(PTA!AJ47,AL_NUM_ARB,2,FALSE)&\" \"&VLOOKUP(PTA!AJ47,AL_NUM_ARB,4,FALSE)&\" \"&VLOOKUP(PTA!AJ47,AL_NUM_ARB,6,FALSE)))","v":"X"},{"$f":"IF(OR(PTA!AK47=\"\",PTA!AK47=\"X\"),\"X\",IF(PTA!AK47=\"*\",\"*\",VLOOKUP(PTA!AK47,AL_NUM_ARB,2,FALSE)&\" \"&VLOOKUP(PTA!AK47,AL_NUM_ARB,4,FALSE)&\" \"&VLOOKUP(PTA!AK47,AL_NUM_ARB,6,FALSE)))","v":"X"},{"$f":"IF(OR(PTA!AL47=\"\",PTA!AL47=\"X\"),\"X\",IF(PTA!AL47=\"*\",\"*\",VLOOKUP(PTA!AL47,AL_NUM_ARB,2,FALSE)&\" \"&VLOOKUP(PTA!AL47,AL_NUM_ARB,4,FALSE)&\" \"&VLOOKUP(PTA!AL47,AL_NUM_ARB,6,FALSE)))","v":"X"},{"$f":"IF(OR(PTA!AM47=\"\",PTA!AM47=\"X\"),\"X\",IF(PTA!AM47=\"*\",\"*\",VLOOKUP(PTA!AM47,AL_NUM_ARB,2,FALSE)&\" \"&VLOOKUP(PTA!AM47,AL_NUM_ARB,4,FALSE)&\" \"&VLOOKUP(PTA!AM47,AL_NUM_ARB,6,FALSE)))","v":"X"},{"$f":"IF(OR(PTA!AN47=\"\",PTA!AN47=\"X\"),\"X\",IF(PTA!AN47=\"*\",\"*\",VLOOKUP(PTA!AN47,AL_NUM_ARB,2,FALSE)&\" \"&VLOOKUP(PTA!AN47,AL_NUM_ARB,4,FALSE)&\" \"&VLOOKUP(PTA!AN47,AL_NUM_ARB,6,FALSE)))","v":"X"},{"$f":"IF(OR(PTA!AO47=\"\",PTA!AO47=\"X\"),\"X\",IF(PTA!AO47=\"*\",\"*\",VLOOKUP(PTA!AO47,AL_NUM_ARB,2,FALSE)&\" \"&VLOOKUP(PTA!AO47,AL_NUM_ARB,4,FALSE)&\" \"&VLOOKUP(PTA!AO47,AL_NUM_ARB,6,FALSE)))","v":"X"},{"$f":"IF(OR(PTA!AP47=\"\",PTA!AP47=\"X\"),\"X\",IF(PTA!AP47=\"*\",\"*\",VLOOKUP(PTA!AP47,AL_NUM_ARB,2,FALSE)&\" \"&VLOOKUP(PTA!AP47,AL_NUM_ARB,4,FALSE)&\" \"&VLOOKUP(PTA!AP47,AL_NUM_ARB,6,FALSE)))","v":"X"},{"$f":"IF(OR(PTA!AQ47=\"\",PTA!AQ47=\"X\"),\"X\",IF(PTA!AQ47=\"*\",\"*\",VLOOKUP(PTA!AQ47,AL_NUM_ARB,2,FALSE)&\" \"&VLOOKUP(PTA!AQ47,AL_NUM_ARB,4,FALSE)&\" \"&VLOOKUP(PTA!AQ47,AL_NUM_ARB,6,FALSE)))","v":"X"},{"$f":"IF(OR(PTA!AR47=\"\",PTA!AR47=\"X\"),\"X\",IF(PTA!AR47=\"*\",\"*\",VLOOKUP(PTA!AR47,AL_NUM_ARB,2,FALSE)&\" \"&VLOOKUP(PTA!AR47,AL_NUM_ARB,4,FALSE)&\" \"&VLOOKUP(PTA!AR47,AL_NUM_ARB,6,FALSE)))","v":"X"},{"$f":"IF(OR(PTA!AS47=\"\",PTA!AS47=\"X\"),\"X\",IF(PTA!AS47=\"*\",\"*\",VLOOKUP(PTA!AS47,AL_NUM_ARB,2,FALSE)&\" \"&VLOOKUP(PTA!AS47,AL_NUM_ARB,4,FALSE)&\" \"&VLOOKUP(PTA!AS47,AL_NUM_ARB,6,FALSE)))","v":"X"},{"$f":"IF(OR(PTA!AT47=\"\",PTA!AT47=\"X\"),\"X\",IF(PTA!AT47=\"*\",\"*\",VLOOKUP(PTA!AT47,AL_NUM_ARB,2,FALSE)&\" \"&VLOOKUP(PTA!AT47,AL_NUM_ARB,4,FALSE)&\" \"&VLOOKUP(PTA!AT47,AL_NUM_ARB,6,FALSE)))","v":"X"},{"$f":"IF(OR(PTA!AU47=\"\",PTA!AU47=\"X\"),\"X\",IF(PTA!AU47=\"*\",\"*\",VLOOKUP(PTA!AU47,AL_NUM_ARB,2,FALSE)&\" \"&VLOOKUP(PTA!AU47,AL_NUM_ARB,4,FALSE)&\" \"&VLOOKUP(PTA!AU47,AL_NUM_ARB,6,FALSE)))","v":"X"},{"$f":"IF(OR(PTA!AV47=\"\",PTA!AV47=\"X\"),\"X\",IF(PTA!AV47=\"*\",\"*\",VLOOKUP(PTA!AV47,AL_NUM_ARB,2,FALSE)&\" \"&VLOOKUP(PTA!AV47,AL_NUM_ARB,4,FALSE)&\" \"&VLOOKUP(PTA!AV47,AL_NUM_ARB,6,FALSE)))","v":"X"},{"$f":"IF(OR(PTA!AW47=\"\",PTA!AW47=\"X\"),\"X\",IF(PTA!AW47=\"*\",\"*\",VLOOKUP(PTA!AW47,AL_NUM_ARB,2,FALSE)&\" \"&VLOOKUP(PTA!AW47,AL_NUM_ARB,4,FALSE)&\" \"&VLOOKUP(PTA!AW47,AL_NUM_ARB,6,FALSE)))","v":"X"},{"$f":"IF(OR(PTA!AX47=\"\",PTA!AX47=\"X\"),\"X\",IF(PTA!AX47=\"*\",\"*\",VLOOKUP(PTA!AX47,AL_NUM_ARB,2,FALSE)&\" \"&VLOOKUP(PTA!AX47,AL_NUM_ARB,4,FALSE)&\" \"&VLOOKUP(PTA!AX47,AL_NUM_ARB,6,FALSE)))","v":"X"},{"$f":"IF(OR(PTA!AY47=\"\",PTA!AY47=\"X\"),\"X\",IF(PTA!AY47=\"*\",\"*\",VLOOKUP(PTA!AY47,AL_NUM_ARB,2,FALSE)&\" \"&VLOOKUP(PTA!AY47,AL_NUM_ARB,4,FALSE)&\" \"&VLOOKUP(PTA!AY47,AL_NUM_ARB,6,FALSE)))","v":"X"},{"$f":"IF(OR(PTA!AZ47=\"\",PTA!AZ47=\"X\"),\"X\",IF(PTA!AZ47=\"*\",\"*\",VLOOKUP(PTA!AZ47,AL_NUM_ARB,2,FALSE)&\" \"&VLOOKUP(PTA!AZ47,AL_NUM_ARB,4,FALSE)&\" \"&VLOOKUP(PTA!AZ47,AL_NUM_ARB,6,FALSE)))","v":"X"},{"$f":"IF(OR(PTA!BA47=\"\",PTA!BA47=\"X\"),\"X\",IF(PTA!BA47=\"*\",\"*\",VLOOKUP(PTA!BA47,AL_NUM_ARB,2,FALSE)&\" \"&VLOOKUP(PTA!BA47,AL_NUM_ARB,4,FALSE)&\" \"&VLOOKUP(PTA!BA47,AL_NUM_ARB,6,FALSE)))","v":"X"},{"$f":"IF(OR(PTA!BB47=\"\",PTA!BB47=\"X\"),\"X\",IF(PTA!BB47=\"*\",\"*\",VLOOKUP(PTA!BB47,AL_NUM_ARB,2,FALSE)&\" \"&VLOOKUP(PTA!BB47,AL_NUM_ARB,4,FALSE)&\" \"&VLOOKUP(PTA!BB47,AL_NUM_ARB,6,FALSE)))","v":"X"},{"$f":"IF(OR(PTA!BC47=\"\",PTA!BC47=\"X\"),\"X\",IF(PTA!BC47=\"*\",\"*\",VLOOKUP(PTA!BC47,AL_NUM_ARB,2,FALSE)&\" \"&VLOOKUP(PTA!BC47,AL_NUM_ARB,4,FALSE)&\" \"&VLOOKUP(PTA!BC47,AL_NUM_ARB,6,FALSE)))","v":"X"},{"$f":"IF(OR(PTA!BD47=\"\",PTA!BD47=\"X\"),\"X\",IF(PTA!BD47=\"*\",\"*\",VLOOKUP(PTA!BD47,AL_NUM_ARB,2,FALSE)&\" \"&VLOOKUP(PTA!BD47,AL_NUM_ARB,4,FALSE)&\" \"&VLOOKUP(PTA!BD47,AL_NUM_ARB,6,FALSE)))","v":"X"},{"$f":"IF(OR(PTA!BE47=\"\",PTA!BE47=\"X\"),\"X\",IF(PTA!BE47=\"*\",\"*\",VLOOKUP(PTA!BE47,AL_NUM_ARB,2,FALSE)&\" \"&VLOOKUP(PTA!BE47,AL_NUM_ARB,4,FALSE)&\" \"&VLOOKUP(PTA!BE47,AL_NUM_ARB,6,FALSE)))","v":"X"},{"$f":"IF(OR(PTA!BF47=\"\",PTA!BF47=\"X\"),\"X\",IF(PTA!BF47=\"*\",\"*\",VLOOKUP(PTA!BF47,AL_NUM_ARB,2,FALSE)&\" \"&VLOOKUP(PTA!BF47,AL_NUM_ARB,4,FALSE)&\" \"&VLOOKUP(PTA!BF47,AL_NUM_ARB,6,FALSE)))","v":"X"},{"$f":"IF(OR(PTA!BG47=\"\",PTA!BG47=\"X\"),\"X\",IF(PTA!BG47=\"*\",\"*\",VLOOKUP(PTA!BG47,AL_NUM_ARB,2,FALSE)&\" \"&VLOOKUP(PTA!BG47,AL_NUM_ARB,4,FALSE)&\" \"&VLOOKUP(PTA!BG47,AL_NUM_ARB,6,FALSE)))","v":"X"},{"$f":"IF(OR(PTA!BH47=\"\",PTA!BH47=\"X\"),\"X\",IF(PTA!BH47=\"*\",\"*\",VLOOKUP(PTA!BH47,AL_NUM_ARB,2,FALSE)&\" \"&VLOOKUP(PTA!BH47,AL_NUM_ARB,4,FALSE)&\" \"&VLOOKUP(PTA!BH47,AL_NUM_ARB,6,FALSE)))","v":"X"},{"$f":"IF(OR(PTA!BI47=\"\",PTA!BI47=\"X\"),\"X\",IF(PTA!BI47=\"*\",\"*\",VLOOKUP(PTA!BI47,AL_NUM_ARB,2,FALSE)&\" \"&VLOOKUP(PTA!BI47,AL_NUM_ARB,4,FALSE)&\" \"&VLOOKUP(PTA!BI47,AL_NUM_ARB,6,FALSE)))","v":"X"},{"$f":"IF(OR(PTA!BJ47=\"\",PTA!BJ47=\"X\"),\"X\",IF(PTA!BJ47=\"*\",\"*\",VLOOKUP(PTA!BJ47,AL_NUM_ARB,2,FALSE)&\" \"&VLOOKUP(PTA!BJ47,AL_NUM_ARB,4,FALSE)&\" \"&VLOOKUP(PTA!BJ47,AL_NUM_ARB,6,FALSE)))","v":"X"},{"$f":"IF(OR(PTA!BK47=\"\",PTA!BK47=\"X\"),\"X\",IF(PTA!BK47=\"*\",\"*\",VLOOKUP(PTA!BK47,AL_NUM_ARB,2,FALSE)&\" \"&VLOOKUP(PTA!BK47,AL_NUM_ARB,4,FALSE)&\" \"&VLOOKUP(PTA!BK47,AL_NUM_ARB,6,FALSE)))","v":"X"},{"$f":"IF(OR(PTA!BL47=\"\",PTA!BL47=\"X\"),\"X\",IF(PTA!BL47=\"*\",\"*\",VLOOKUP(PTA!BL47,AL_NUM_ARB,2,FALSE)&\" \"&VLOOKUP(PTA!BL47,AL_NUM_ARB,4,FALSE)&\" \"&VLOOKUP(PTA!BL47,AL_NUM_ARB,6,FALSE)))","v":"X"},{"$f":"IF(OR(PTA!BM47=\"\",PTA!BM47=\"X\"),\"X\",IF(PTA!BM47=\"*\",\"*\",VLOOKUP(PTA!BM47,AL_NUM_ARB,2,FALSE)&\" \"&VLOOKUP(PTA!BM47,AL_NUM_ARB,4,FALSE)&\" \"&VLOOKUP(PTA!BM47,AL_NUM_ARB,6,FALSE)))","v":"X"},{"$f":"IF(OR(PTA!BN47=\"\",PTA!BN47=\"X\"),\"X\",IF(PTA!BN47=\"*\",\"*\",VLOOKUP(PTA!BN47,AL_NUM_ARB,2,FALSE)&\" \"&VLOOKUP(PTA!BN47,AL_NUM_ARB,4,FALSE)&\" \"&VLOOKUP(PTA!BN47,AL_NUM_ARB,6,FALSE)))","v":"X"},{"$f":"IF(OR(PTA!BO47=\"\",PTA!BO47=\"X\"),\"X\",IF(PTA!BO47=\"*\",\"*\",VLOOKUP(PTA!BO47,AL_NUM_ARB,2,FALSE)&\" \"&VLOOKUP(PTA!BO47,AL_NUM_ARB,4,FALSE)&\" \"&VLOOKUP(PTA!BO47,AL_NUM_ARB,6,FALSE)))","v":"X"},{"$f":"IF(OR(PTA!BP47=\"\",PTA!BP47=\"X\"),\"X\",IF(PTA!BP47=\"*\",\"*\",VLOOKUP(PTA!BP47,AL_NUM_ARB,2,FALSE)&\" \"&VLOOKUP(PTA!BP47,AL_NUM_ARB,4,FALSE)&\" \"&VLOOKUP(PTA!BP47,AL_NUM_ARB,6,FALSE)))","v":"X"},{"$f":"IF(OR(PTA!BQ47=\"\",PTA!BQ47=\"X\"),\"X\",IF(PTA!BQ47=\"*\",\"*\",VLOOKUP(PTA!BQ47,AL_NUM_ARB,2,FALSE)&\" \"&VLOOKUP(PTA!BQ47,AL_NUM_ARB,4,FALSE)&\" \"&VLOOKUP(PTA!BQ47,AL_NUM_ARB,6,FALSE)))","v":"X"},{"$f":"IF(OR(PTA!BR47=\"\",PTA!BR47=\"X\"),\"X\",IF(PTA!BR47=\"*\",\"*\",VLOOKUP(PTA!BR47,AL_NUM_ARB,2,FALSE)&\" \"&VLOOKUP(PTA!BR47,AL_NUM_ARB,4,FALSE)&\" \"&VLOOKUP(PTA!BR47,AL_NUM_ARB,6,FALSE)))","v":"X"},{"$f":"IF(OR(PTA!BT47=\"\",PTA!BT47=\"X\"),\"X\",VLOOKUP(PTA!BT47,AL_NUM_ARB,2,FALSE)&\" \"&VLOOKUP(PTA!BT47,AL_NUM_ARB,4,FALSE)&\" \"&VLOOKUP(PTA!BT47,AL_NUM_ARB,6,FALSE))","v":"X"},{"$f":"IF(OR(PTA!BU47=\"\",PTA!BU47=\"X\"),\"X\",VLOOKUP(PTA!BU47,AL_NUM_ARB,2,FALSE)&\" \"&VLOOKUP(PTA!BU47,AL_NUM_ARB,4,FALSE)&\" \"&VLOOKUP(PTA!BU47,AL_NUM_ARB,6,FALSE))","v":"X"},{"$f":"IF(OR(PTA!BV47=\"\",PTA!BV47=\"X\"),\"X\",VLOOKUP(PTA!BV47,AL_NUM_ARB,2,FALSE)&\" \"&VLOOKUP(PTA!BV47,AL_NUM_ARB,4,FALSE)&\" \"&VLOOKUP(PTA!BV47,AL_NUM_ARB,6,FALSE))","v":"X"},{"$f":"IF(OR(PTA!BW47=\"\",PTA!BW47=\"X\"),\"X\",VLOOKUP(PTA!BW47,AL_NUM_ARB,2,FALSE)&\" \"&VLOOKUP(PTA!BW47,AL_NUM_ARB,4,FALSE)&\" \"&VLOOKUP(PTA!BW47,AL_NUM_ARB,6,FALSE))","v":"X"},"19:00:00"]
[{"$f":"PTA!A48","v":""},{"$f":"PTA!B48","v":"00:00:00"},{"$f":"PTA!C48","v":32},{"$f":"PTA!D48","v":0},{"$f":"IF(OR(PTA!E48=\"\",PTA!E48=\"X\"),\"X\",IF(PTA!E48=\"*\",\"*\",VLOOKUP(PTA!E48,AL_NUM_ARB,2,FALSE)&\" \"&VLOOKUP(PTA!E48,AL_NUM_ARB,4,FALSE)&\" \"&VLOOKUP(PTA!E48,AL_NUM_ARB,6,FALSE)))","v":"X"},{"$f":"IF(OR(PTA!F48=\"\",PTA!F48=\"X\"),\"X\",IF(PTA!F48=\"*\",\"*\",VLOOKUP(PTA!F48,AL_NUM_ARB,2,FALSE)&\" \"&VLOOKUP(PTA!F48,AL_NUM_ARB,4,FALSE)&\" \"&VLOOKUP(PTA!F48,AL_NUM_ARB,6,FALSE)))","v":"X"},{"$f":"IF(OR(PTA!G48=\"\",PTA!G48=\"X\"),\"X\",IF(PTA!G48=\"*\",\"*\",VLOOKUP(PTA!G48,AL_NUM_ARB,2,FALSE)&\" \"&VLOOKUP(PTA!G48,AL_NUM_ARB,4,FALSE)&\" \"&VLOOKUP(PTA!G48,AL_NUM_ARB,6,FALSE)))","v":"X"},{"$f":"IF(OR(PTA!H48=\"\",PTA!H48=\"X\"),\"X\",IF(PTA!H48=\"*\",\"*\",VLOOKUP(PTA!H48,AL_NUM_ARB,2,FALSE)&\" \"&VLOOKUP(PTA!H48,AL_NUM_ARB,4,FALSE)&\" \"&VLOOKUP(PTA!H48,AL_NUM_ARB,6,FALSE)))","v":"X"},{"$f":"IF(OR(PTA!I48=\"\",PTA!I48=\"X\"),\"X\",IF(PTA!I48=\"*\",\"*\",VLOOKUP(PTA!I48,AL_NUM_ARB,2,FALSE)&\" \"&VLOOKUP(PTA!I48,AL_NUM_ARB,4,FALSE)&\" \"&VLOOKUP(PTA!I48,AL_NUM_ARB,6,FALSE)))","v":"X"},{"$f":"IF(OR(PTA!J48=\"\",PTA!J48=\"X\"),\"X\",IF(PTA!J48=\"*\",\"*\",VLOOKUP(PTA!J48,AL_NUM_ARB,2,FALSE)&\" \"&VLOOKUP(PTA!J48,AL_NUM_ARB,4,FALSE)&\" \"&VLOOKUP(PTA!J48,AL_NUM_ARB,6,FALSE)))","v":"X"},{"$f":"IF(OR(PTA!K48=\"\",PTA!K48=\"X\"),\"X\",IF(PTA!K48=\"*\",\"*\",VLOOKUP(PTA!K48,AL_NUM_ARB,2,FALSE)&\" \"&VLOOKUP(PTA!K48,AL_NUM_ARB,4,FALSE)&\" \"&VLOOKUP(PTA!K48,AL_NUM_ARB,6,FALSE)))","v":"X"},{"$f":"IF(OR(PTA!L48=\"\",PTA!L48=\"X\"),\"X\",IF(PTA!L48=\"*\",\"*\",VLOOKUP(PTA!L48,AL_NUM_ARB,2,FALSE)&\" \"&VLOOKUP(PTA!L48,AL_NUM_ARB,4,FALSE)&\" \"&VLOOKUP(PTA!L48,AL_NUM_ARB,6,FALSE)))","v":"X"},{"$f":"IF(OR(PTA!M48=\"\",PTA!M48=\"X\"),\"X\",IF(PTA!M48=\"*\",\"*\",VLOOKUP(PTA!M48,AL_NUM_ARB,2,FALSE)&\" \"&VLOOKUP(PTA!M48,AL_NUM_ARB,4,FALSE)&\" \"&VLOOKUP(PTA!M48,AL_NUM_ARB,6,FALSE)))","v":"X"},{"$f":"IF(OR(PTA!N48=\"\",PTA!N48=\"X\"),\"X\",IF(PTA!N48=\"*\",\"*\",VLOOKUP(PTA!N48,AL_NUM_ARB,2,FALSE)&\" \"&VLOOKUP(PTA!N48,AL_NUM_ARB,4,FALSE)&\" \"&VLOOKUP(PTA!N48,AL_NUM_ARB,6,FALSE)))","v":"X"},{"$f":"IF(OR(PTA!O48=\"\",PTA!O48=\"X\"),\"X\",IF(PTA!O48=\"*\",\"*\",VLOOKUP(PTA!O48,AL_NUM_ARB,2,FALSE)&\" \"&VLOOKUP(PTA!O48,AL_NUM_ARB,4,FALSE)&\" \"&VLOOKUP(PTA!O48,AL_NUM_ARB,6,FALSE)))","v":"X"},{"$f":"IF(OR(PTA!P48=\"\",PTA!P48=\"X\"),\"X\",IF(PTA!P48=\"*\",\"*\",VLOOKUP(PTA!P48,AL_NUM_ARB,2,FALSE)&\" \"&VLOOKUP(PTA!P48,AL_NUM_ARB,4,FALSE)&\" \"&VLOOKUP(PTA!P48,AL_NUM_ARB,6,FALSE)))","v":"X"},{"$f":"IF(OR(PTA!Q48=\"\",PTA!Q48=\"X\"),\"X\",IF(PTA!Q48=\"*\",\"*\",VLOOKUP(PTA!Q48,AL_NUM_ARB,2,FALSE)&\" \"&VLOOKUP(PTA!Q48,AL_NUM_ARB,4,FALSE)&\" \"&VLOOKUP(PTA!Q48,AL_NUM_ARB,6,FALSE)))","v":"X"},{"$f":"IF(OR(PTA!R48=\"\",PTA!R48=\"X\"),\"X\",IF(PTA!R48=\"*\",\"*\",VLOOKUP(PTA!R48,AL_NUM_ARB,2,FALSE)&\" \"&VLOOKUP(PTA!R48,AL_NUM_ARB,4,FALSE)&\" \"&VLOOKUP(PTA!R48,AL_NUM_ARB,6,FALSE)))","v":"X"},{"$f":"IF(OR(PTA!S48=\"\",PTA!S48=\"X\"),\"X\",IF(PTA!S48=\"*\",\"*\",VLOOKUP(PTA!S48,AL_NUM_ARB,2,FALSE)&\" \"&VLOOKUP(PTA!S48,AL_NUM_ARB,4,FALSE)&\" \"&VLOOKUP(PTA!S48,AL_NUM_ARB,6,FALSE)))","v":"X"},{"$f":"IF(OR(PTA!T48=\"\",PTA!T48=\"X\"),\"X\",IF(PTA!T48=\"*\",\"*\",VLOOKUP(PTA!T48,AL_NUM_ARB,2,FALSE)&\" \"&VLOOKUP(PTA!T48,AL_NUM_ARB,4,FALSE)&\" \"&VLOOKUP(PTA!T48,AL_NUM_ARB,6,FALSE)))","v":"X"},{"$f":"IF(OR(PTA!U48=\"\",PTA!U48=\"X\"),\"X\",IF(PTA!U48=\"*\",\"*\",VLOOKUP(PTA!U48,AL_NUM_ARB,2,FALSE)&\" \"&VLOOKUP(PTA!U48,AL_NUM_ARB,4,FALSE)&\" \"&VLOOKUP(PTA!U48,AL_NUM_ARB,6,FALSE)))","v":"X"},{"$f":"IF(OR(PTA!V48=\"\",PTA!V48=\"X\"),\"X\",IF(PTA!V48=\"*\",\"*\",VLOOKUP(PTA!V48,AL_NUM_ARB,2,FALSE)&\" \"&VLOOKUP(PTA!V48,AL_NUM_ARB,4,FALSE)&\" \"&VLOOKUP(PTA!V48,AL_NUM_ARB,6,FALSE)))","v":"X"},{"$f":"IF(OR(PTA!W48=\"\",PTA!W48=\"X\"),\"X\",IF(PTA!W48=\"*\",\"*\",VLOOKUP(PTA!W48,AL_NUM_ARB,2,FALSE)&\" \"&VLOOKUP(PTA!W48,AL_NUM_ARB,4,FALSE)&\" \"&VLOOKUP(PTA!W48,AL_NUM_ARB,6,FALSE)))","v":"X"},{"$f":"IF(OR(PTA!X48=\"\",PTA!X48=\"X\"),\"X\",IF(PTA!X48=\"*\",\"*\",VLOOKUP(PTA!X48,AL_NUM_ARB,2,FALSE)&\" \"&VLOOKUP(PTA!X48,AL_NUM_ARB,4,FALSE)&\" \"&VLOOKUP(PTA!X48,AL_NUM_ARB,6,FALSE)))","v":"X"},{"$f":"IF(OR(PTA!Y48=\"\",PTA!Y48=\"X\"),\"X\",IF(PTA!Y48=\"*\",\"*\",VLOOKUP(PTA!Y48,AL_NUM_ARB,2,FALSE)&\" \"&VLOOKUP(PTA!Y48,AL_NUM_ARB,4,FALSE)&\" \"&VLOOKUP(PTA!Y48,AL_NUM_ARB,6,FALSE)))","v":"X"},{"$f":"IF(OR(PTA!Z48=\"\",PTA!Z48=\"X\"),\"X\",IF(PTA!Z48=\"*\",\"*\",VLOOKUP(PTA!Z48,AL_NUM_ARB,2,FALSE)&\" \"&VLOOKUP(PTA!Z48,AL_NUM_ARB,4,FALSE)&\" \"&VLOOKUP(PTA!Z48,AL_NUM_ARB,6,FALSE)))","v":"X"},{"$f":"IF(OR(PTA!AA48=\"\",PTA!AA48=\"X\"),\"X\",IF(PTA!AA48=\"*\",\"*\",VLOOKUP(PTA!AA48,AL_NUM_ARB,2,FALSE)&\" \"&VLOOKUP(PTA!AA48,AL_NUM_ARB,4,FALSE)&\" \"&VLOOKUP(PTA!AA48,AL_NUM_ARB,6,FALSE)))","v":"X"},{"$f":"IF(OR(PTA!AB48=\"\",PTA!AB48=\"X\"),\"X\",IF(PTA!AB48=\"*\",\"*\",VLOOKUP(PTA!AB48,AL_NUM_ARB,2,FALSE)&\" \"&VLOOKUP(PTA!AB48,AL_NUM_ARB,4,FALSE)&\" \"&VLOOKUP(PTA!AB48,AL_NUM_ARB,6,FALSE)))","v":"X"},{"$f":"IF(OR(PTA!AC48=\"\",PTA!AC48=\"X\"),\"X\",IF(PTA!AC48=\"*\",\"*\",VLOOKUP(PTA!AC48,AL_NUM_ARB,2,FALSE)&\" \"&VLOOKUP(PTA!AC48,AL_NUM_ARB,4,FALSE)&\" \"&VLOOKUP(PTA!AC48,AL_NUM_ARB,6,FALSE)))","v":"X"},{"$f":"IF(OR(PTA!AD48=\"\",PTA!AD48=\"X\"),\"X\",IF(PTA!AD48=\"*\",\"*\",VLOOKUP(PTA!AD48,AL_NUM_ARB,2,FALSE)&\" \"&VLOOKUP(PTA!AD48,AL_NUM_ARB,4,FALSE)&\" \"&VLOOKUP(PTA!AD48,AL_NUM_ARB,6,FALSE)))","v":"X"},{"$f":"IF(OR(PTA!AE48=\"\",PTA!AE48=\"X\"),\"X\",IF(PTA!AE48=\"*\",\"*\",VLOOKUP(PTA!AE48,AL_NUM_ARB,2,FALSE)&\" \"&VLOOKUP(PTA!AE48,AL_NUM_ARB,4,FALSE)&\" \"&VLOOKUP(PTA!AE48,AL_NUM_ARB,6,FALSE)))","v":"X"},{"$f":"IF(OR(PTA!AF48=\"\",PTA!AF48=\"X\"),\"X\",IF(PTA!AF48=\"*\",\"*\",VLOOKUP(PTA!AF48,AL_NUM_ARB,2,FALSE)&\" \"&VLOOKUP(PTA!AF48,AL_NUM_ARB,4,FALSE)&\" \"&VLOOKUP(PTA!AF48,AL_NUM_ARB,6,FALSE)))","v":"X"},{"$f":"IF(OR(PTA!AG48=\"\",PTA!AG48=\"X\"),\"X\",IF(PTA!AG48=\"*\",\"*\",VLOOKUP(PTA!AG48,AL_NUM_ARB,2,FALSE)&\" \"&VLOOKUP(PTA!AG48,AL_NUM_ARB,4,FALSE)&\" \"&VLOOKUP(PTA!AG48,AL_NUM_ARB,6,FALSE)))","v":"X"},{"$f":"IF(OR(PTA!AH48=\"\",PTA!AH48=\"X\"),\"X\",IF(PTA!AH48=\"*\",\"*\",VLOOKUP(PTA!AH48,AL_NUM_ARB,2,FALSE)&\" \"&VLOOKUP(PTA!AH48,AL_NUM_ARB,4,FALSE)&\" \"&VLOOKUP(PTA!AH48,AL_NUM_ARB,6,FALSE)))","v":"X"},{"$f":"IF(OR(PTA!AI48=\"\",PTA!AI48=\"X\"),\"X\",IF(PTA!AI48=\"*\",\"*\",VLOOKUP(PTA!AI48,AL_NUM_ARB,2,FALSE)&\" \"&VLOOKUP(PTA!AI48,AL_NUM_ARB,4,FALSE)&\" \"&VLOOKUP(PTA!AI48,AL_NUM_ARB,6,FALSE)))","v":"X"},{"$f":"IF(OR(PTA!AJ48=\"\",PTA!AJ48=\"X\"),\"X\",IF(PTA!AJ48=\"*\",\"*\",VLOOKUP(PTA!AJ48,AL_NUM_ARB,2,FALSE)&\" \"&VLOOKUP(PTA!AJ48,AL_NUM_ARB,4,FALSE)&\" \"&VLOOKUP(PTA!AJ48,AL_NUM_ARB,6,FALSE)))","v":"X"},{"$f":"IF(OR(PTA!AK48=\"\",PTA!AK48=\"X\"),\"X\",IF(PTA!AK48=\"*\",\"*\",VLOOKUP(PTA!AK48,AL_NUM_ARB,2,FALSE)&\" \"&VLOOKUP(PTA!AK48,AL_NUM_ARB,4,FALSE)&\" \"&VLOOKUP(PTA!AK48,AL_NUM_ARB,6,FALSE)))","v":"X"},{"$f":"IF(OR(PTA!AL48=\"\",PTA!AL48=\"X\"),\"X\",IF(PTA!AL48=\"*\",\"*\",VLOOKUP(PTA!AL48,AL_NUM_ARB,2,FALSE)&\" \"&VLOOKUP(PTA!AL48,AL_NUM_ARB,4,FALSE)&\" \"&VLOOKUP(PTA!AL48,AL_NUM_ARB,6,FALSE)))","v":"X"},{"$f":"IF(OR(PTA!AM48=\"\",PTA!AM48=\"X\"),\"X\",IF(PTA!AM48=\"*\",\"*\",VLOOKUP(PTA!AM48,AL_NUM_ARB,2,FALSE)&\" \"&VLOOKUP(PTA!AM48,AL_NUM_ARB,4,FALSE)&\" \"&VLOOKUP(PTA!AM48,AL_NUM_ARB,6,FALSE)))","v":"X"},{"$f":"IF(OR(PTA!AN48=\"\",PTA!AN48=\"X\"),\"X\",IF(PTA!AN48=\"*\",\"*\",VLOOKUP(PTA!AN48,AL_NUM_ARB,2,FALSE)&\" \"&VLOOKUP(PTA!AN48,AL_NUM_ARB,4,FALSE)&\" \"&VLOOKUP(PTA!AN48,AL_NUM_ARB,6,FALSE)))","v":"X"},{"$f":"IF(OR(PTA!AO48=\"\",PTA!AO48=\"X\"),\"X\",IF(PTA!AO48=\"*\",\"*\",VLOOKUP(PTA!AO48,AL_NUM_ARB,2,FALSE)&\" \"&VLOOKUP(PTA!AO48,AL_NUM_ARB,4,FALSE)&\" \"&VLOOKUP(PTA!AO48,AL_NUM_ARB,6,FALSE)))","v":"X"},{"$f":"IF(OR(PTA!AP48=\"\",PTA!AP48=\"X\"),\"X\",IF(PTA!AP48=\"*\",\"*\",VLOOKUP(PTA!AP48,AL_NUM_ARB,2,FALSE)&\" \"&VLOOKUP(PTA!AP48,AL_NUM_ARB,4,FALSE)&\" \"&VLOOKUP(PTA!AP48,AL_NUM_ARB,6,FALSE)))","v":"X"},{"$f":"IF(OR(PTA!AQ48=\"\",PTA!AQ48=\"X\"),\"X\",IF(PTA!AQ48=\"*\",\"*\",VLOOKUP(PTA!AQ48,AL_NUM_ARB,2,FALSE)&\" \"&VLOOKUP(PTA!AQ48,AL_NUM_ARB,4,FALSE)&\" \"&VLOOKUP(PTA!AQ48,AL_NUM_ARB,6,FALSE)))","v":"X"},{"$f":"IF(OR(PTA!AR48=\"\",PTA!AR48=\"X\"),\"X\",IF(PTA!AR48=\"*\",\"*\",VLOOKUP(PTA!AR48,AL_NUM_ARB,2,FALSE)&\" \"&VLOOKUP(PTA!AR48,AL_NUM_ARB,4,FALSE)&\" \"&VLOOKUP(PTA!AR48,AL_NUM_ARB,6,FALSE)))","v":"X"},{"$f":"IF(OR(PTA!AS48=\"\",PTA!AS48=\"X\"),\"X\",IF(PTA!AS48=\"*\",\"*\",VLOOKUP(PTA!AS48,AL_NUM_ARB,2,FALSE)&\" \"&VLOOKUP(PTA!AS48,AL_NUM_ARB,4,FALSE)&\" \"&VLOOKUP(PTA!AS48,AL_NUM_ARB,6,FALSE)))","v":"X"},{"$f":"IF(OR(PTA!AT48=\"\",PTA!AT48=\"X\"),\"X\",IF(PTA!AT48=\"*\",\"*\",VLOOKUP(PTA!AT48,AL_NUM_ARB,2,FALSE)&\" \"&VLOOKUP(PTA!AT48,AL_NUM_ARB,4,FALSE)&\" \"&VLOOKUP(PTA!AT48,AL_NUM_ARB,6,FALSE)))","v":"X"},{"$f":"IF(OR(PTA!AU48=\"\",PTA!AU48=\"X\"),\"X\",IF(PTA!AU48=\"*\",\"*\",VLOOKUP(PTA!AU48,AL_NUM_ARB,2,FALSE)&\" \"&VLOOKUP(PTA!AU48,AL_NUM_ARB,4,FALSE)&\" \"&VLOOKUP(PTA!AU48,AL_NUM_ARB,6,FALSE)))","v":"X"},{"$f":"IF(OR(PTA!AV48=\"\",PTA!AV48=\"X\"),\"X\",IF(PTA!AV48=\"*\",\"*\",VLOOKUP(PTA!AV48,AL_NUM_ARB,2,FALSE)&\" \"&VLOOKUP(PTA!AV48,AL_NUM_ARB,4,FALSE)&\" \"&VLOOKUP(PTA!AV48,AL_NUM_ARB,6,FALSE)))","v":"X"},{"$f":"IF(OR(PTA!AW48=\"\",PTA!AW48=\"X\"),\"X\",IF(PTA!AW48=\"*\",\"*\",VLOOKUP(PTA!AW48,AL_NUM_ARB,2,FALSE)&\" \"&VLOOKUP(PTA!AW48,AL_NUM_ARB,4,FALSE)&\" \"&VLOOKUP(PTA!AW48,AL_NUM_ARB,6,FALSE)))","v":"X"},{"$f":"IF(OR(PTA!AX48=\"\",PTA!AX48=\"X\"),\"X\",IF(PTA!AX48=\"*\",\"*\",VLOOKUP(PTA!AX48,AL_NUM_ARB,2,FALSE)&\" \"&VLOOKUP(PTA!AX48,AL_NUM_ARB,4,FALSE)&\" \"&VLOOKUP(PTA!AX48,AL_NUM_ARB,6,FALSE)))","v":"X"},{"$f":"IF(OR(PTA!AY48=\"\",PTA!AY48=\"X\"),\"X\",IF(PTA!AY48=\"*\",\"*\",VLOOKUP(PTA!AY48,AL_NUM_ARB,2,FALSE)&\" \"&VLOOKUP(PTA!AY48,AL_NUM_ARB,4,FALSE)&\" \"&VLOOKUP(PTA!AY48,AL_NUM_ARB,6,FALSE)))","v":"X"},{"$f":"IF(OR(PTA!AZ48=\"\",PTA!AZ48=\"X\"),\"X\",IF(PTA!AZ48=\"*\",\"*\",VLOOKUP(PTA!AZ48,AL_NUM_ARB,2,FALSE)&\" \"&VLOOKUP(PTA!AZ48,AL_NUM_ARB,4,FALSE)&\" \"&VLOOKUP(PTA!AZ48,AL_NUM_ARB,6,FALSE)))","v":"X"},{"$f":"IF(OR(PTA!BA48=\"\",PTA!BA48=\"X\"),\"X\",IF(PTA!BA48=\"*\",\"*\",VLOOKUP(PTA!BA48,AL_NUM_ARB,2,FALSE)&\" \"&VLOOKUP(PTA!BA48,AL_NUM_ARB,4,FALSE)&\" \"&VLOOKUP(PTA!BA48,AL_NUM_ARB,6,FALSE)))","v":"X"},{"$f":"IF(OR(PTA!BB48=\"\",PTA!BB48=\"X\"),\"X\",IF(PTA!BB48=\"*\",\"*\",VLOOKUP(PTA!BB48,AL_NUM_ARB,2,FALSE)&\" \"&VLOOKUP(PTA!BB48,AL_NUM_ARB,4,FALSE)&\" \"&VLOOKUP(PTA!BB48,AL_NUM_ARB,6,FALSE)))","v":"X"},{"$f":"IF(OR(PTA!BC48=\"\",PTA!BC48=\"X\"),\"X\",IF(PTA!BC48=\"*\",\"*\",VLOOKUP(PTA!BC48,AL_NUM_ARB,2,FALSE)&\" \"&VLOOKUP(PTA!BC48,AL_NUM_ARB,4,FALSE)&\" \"&VLOOKUP(PTA!BC48,AL_NUM_ARB,6,FALSE)))","v":"X"},{"$f":"IF(OR(PTA!BD48=\"\",PTA!BD48=\"X\"),\"X\",IF(PTA!BD48=\"*\",\"*\",VLOOKUP(PTA!BD48,AL_NUM_ARB,2,FALSE)&\" \"&VLOOKUP(PTA!BD48,AL_NUM_ARB,4,FALSE)&\" \"&VLOOKUP(PTA!BD48,AL_NUM_ARB,6,FALSE)))","v":"X"},{"$f":"IF(OR(PTA!BE48=\"\",PTA!BE48=\"X\"),\"X\",IF(PTA!BE48=\"*\",\"*\",VLOOKUP(PTA!BE48,AL_NUM_ARB,2,FALSE)&\" \"&VLOOKUP(PTA!BE48,AL_NUM_ARB,4,FALSE)&\" \"&VLOOKUP(PTA!BE48,AL_NUM_ARB,6,FALSE)))","v":"X"},{"$f":"IF(OR(PTA!BF48=\"\",PTA!BF48=\"X\"),\"X\",IF(PTA!BF48=\"*\",\"*\",VLOOKUP(PTA!BF48,AL_NUM_ARB,2,FALSE)&\" \"&VLOOKUP(PTA!BF48,AL_NUM_ARB,4,FALSE)&\" \"&VLOOKUP(PTA!BF48,AL_NUM_ARB,6,FALSE)))","v":"X"},{"$f":"IF(OR(PTA!BG48=\"\",PTA!BG48=\"X\"),\"X\",IF(PTA!BG48=\"*\",\"*\",VLOOKUP(PTA!BG48,AL_NUM_ARB,2,FALSE)&\" \"&VLOOKUP(PTA!BG48,AL_NUM_ARB,4,FALSE)&\" \"&VLOOKUP(PTA!BG48,AL_NUM_ARB,6,FALSE)))","v":"X"},{"$f":"IF(OR(PTA!BH48=\"\",PTA!BH48=\"X\"),\"X\",IF(PTA!BH48=\"*\",\"*\",VLOOKUP(PTA!BH48,AL_NUM_ARB,2,FALSE)&\" \"&VLOOKUP(PTA!BH48,AL_NUM_ARB,4,FALSE)&\" \"&VLOOKUP(PTA!BH48,AL_NUM_ARB,6,FALSE)))","v":"X"},{"$f":"IF(OR(PTA!BI48=\"\",PTA!BI48=\"X\"),\"X\",IF(PTA!BI48=\"*\",\"*\",VLOOKUP(PTA!BI48,AL_NUM_ARB,2,FALSE)&\" \"&VLOOKUP(PTA!BI48,AL_NUM_ARB,4,FALSE)&\" \"&VLOOKUP(PTA!BI48,AL_NUM_ARB,6,FALSE)))","v":"X"},{"$f":"IF(OR(PTA!BJ48=\"\",PTA!BJ48=\"X\"),\"X\",IF(PTA!BJ48=\"*\",\"*\",VLOOKUP(PTA!BJ48,AL_NUM_ARB,2,FALSE)&\" \"&VLOOKUP(PTA!BJ48,AL_NUM_ARB,4,FALSE)&\" \"&VLOOKUP(PTA!BJ48,AL_NUM_ARB,6,FALSE)))","v":"X"},{"$f":"IF(OR(PTA!BK48=\"\",PTA!BK48=\"X\"),\"X\",IF(PTA!BK48=\"*\",\"*\",VLOOKUP(PTA!BK48,AL_NUM_ARB,2,FALSE)&\" \"&VLOOKUP(PTA!BK48,AL_NUM_ARB,4,FALSE)&\" \"&VLOOKUP(PTA!BK48,AL_NUM_ARB,6,FALSE)))","v":"X"},{"$f":"IF(OR(PTA!BL48=\"\",PTA!BL48=\"X\"),\"X\",IF(PTA!BL48=\"*\",\"*\",VLOOKUP(PTA!BL48,AL_NUM_ARB,2,FALSE)&\" \"&VLOOKUP(PTA!BL48,AL_NUM_ARB,4,FALSE)&\" \"&VLOOKUP(PTA!BL48,AL_NUM_ARB,6,FALSE)))","v":"X"},{"$f":"IF(OR(PTA!BM48=\"\",PTA!BM48=\"X\"),\"X\",IF(PTA!BM48=\"*\",\"*\",VLOOKUP(PTA!BM48,AL_NUM_ARB,2,FALSE)&\" \"&VLOOKUP(PTA!BM48,AL_NUM_ARB,4,FALSE)&\" \"&VLOOKUP(PTA!BM48,AL_NUM_ARB,6,FALSE)))","v":"X"},{"$f":"IF(OR(PTA!BN48=\"\",PTA!BN48=\"X\"),\"X\",IF(PTA!BN48=\"*\",\"*\",VLOOKUP(PTA!BN48,AL_NUM_ARB,2,FALSE)&\" \"&VLOOKUP(PTA!BN48,AL_NUM_ARB,4,FALSE)&\" \"&VLOOKUP(PTA!BN48,AL_NUM_ARB,6,FALSE)))","v":"X"},{"$f":"IF(OR(PTA!BO48=\"\",PTA!BO48=\"X\"),\"X\",IF(PTA!BO48=\"*\",\"*\",VLOOKUP(PTA!BO48,AL_NUM_ARB,2,FALSE)&\" \"&VLOOKUP(PTA!BO48,AL_NUM_ARB,4,FALSE)&\" \"&VLOOKUP(PTA!BO48,AL_NUM_ARB,6,FALSE)))","v":"X"},{"$f":"IF(OR(PTA!BP48=\"\",PTA!BP48=\"X\"),\"X\",IF(PTA!BP48=\"*\",\"*\",VLOOKUP(PTA!BP48,AL_NUM_ARB,2,FALSE)&\" \"&VLOOKUP(PTA!BP48,AL_NUM_ARB,4,FALSE)&\" \"&VLOOKUP(PTA!BP48,AL_NUM_ARB,6,FALSE)))","v":"X"},{"$f":"IF(OR(PTA!BQ48=\"\",PTA!BQ48=\"X\"),\"X\",IF(PTA!BQ48=\"*\",\"*\",VLOOKUP(PTA!BQ48,AL_NUM_ARB,2,FALSE)&\" \"&VLOOKUP(PTA!BQ48,AL_NUM_ARB,4,FALSE)&\" \"&VLOOKUP(PTA!BQ48,AL_NUM_ARB,6,FALSE)))","v":"X"},{"$f":"IF(OR(PTA!BR48=\"\",PTA!BR48=\"X\"),\"X\",IF(PTA!BR48=\"*\",\"*\",VLOOKUP(PTA!BR48,AL_NUM_ARB,2,FALSE)&\" \"&VLOOKUP(PTA!BR48,AL_NUM_ARB,4,FALSE)&\" \"&VLOOKUP(PTA!BR48,AL_NUM_ARB,6,FALSE)))","v":"X"},{"$f":"IF(OR(PTA!BT48=\"\",PTA!BT48=\"X\"),\"X\",VLOOKUP(PTA!BT48,AL_NUM_ARB,2,FALSE)&\" \"&VLOOKUP(PTA!BT48,AL_NUM_ARB,4,FALSE)&\" \"&VLOOKUP(PTA!BT48,AL_NUM_ARB,6,FALSE))","v":"X"},{"$f":"IF(OR(PTA!BU48=\"\",PTA!BU48=\"X\"),\"X\",VLOOKUP(PTA!BU48,AL_NUM_ARB,2,FALSE)&\" \"&VLOOKUP(PTA!BU48,AL_NUM_ARB,4,FALSE)&\" \"&VLOOKUP(PTA!BU48,AL_NUM_ARB,6,FALSE))","v":"X"},{"$f":"IF(OR(PTA!BV48=\"\",PTA!BV48=\"X\"),\"X\",VLOOKUP(PTA!BV48,AL_NUM_ARB,2,FALSE)&\" \"&VLOOKUP(PTA!BV48,AL_NUM_ARB,4,FALSE)&\" \"&VLOOKUP(PTA!BV48,AL_NUM_ARB,6,FALSE))","v":"X"},{"$f":"IF(OR(PTA!BW48=\"\",PTA!BW48=\"X\"),\"X\",VLOOKUP(PTA!BW48,AL_NUM_ARB,2,FALSE)&\" \"&VLOOKUP(PTA!BW48,AL_NUM_ARB,4,FALSE)&\" \"&VLOOKUP(PTA!BW48,AL_NUM_ARB,6,FALSE))","v":"X"},"19:30:00"]
[{"$f":"PTA!A49","v":""},{"$f":"PTA!B49","v":"00:00:00"},{"$f":"PTA!C49","v":32},{"$f":"PTA!D49","v":0},{"$f":"IF(OR(PTA!E49=\"\",PTA!E49=\"X\"),\"X\",IF(PTA!E49=\"*\",\"*\",VLOOKUP(PTA!E49,AL_NUM_ARB,2,FALSE)&\" \"&VLOOKUP(PTA!E49,AL_NUM_ARB,4,FALSE)&\" \"&VLOOKUP(PTA!E49,AL_NUM_ARB,6,FALSE)))","v":"X"},{"$f":"IF(OR(PTA!F49=\"\",PTA!F49=\"X\"),\"X\",IF(PTA!F49=\"*\",\"*\",VLOOKUP(PTA!F49,AL_NUM_ARB,2,FALSE)&\" \"&VLOOKUP(PTA!F49,AL_NUM_ARB,4,FALSE)&\" \"&VLOOKUP(PTA!F49,AL_NUM_ARB,6,FALSE)))","v":"X"},{"$f":"IF(OR(PTA!G49=\"\",PTA!G49=\"X\"),\"X\",IF(PTA!G49=\"*\",\"*\",VLOOKUP(PTA!G49,AL_NUM_ARB,2,FALSE)&\" \"&VLOOKUP(PTA!G49,AL_NUM_ARB,4,FALSE)&\" \"&VLOOKUP(PTA!G49,AL_NUM_ARB,6,FALSE)))","v":"X"},{"$f":"IF(OR(PTA!H49=\"\",PTA!H49=\"X\"),\"X\",IF(PTA!H49=\"*\",\"*\",VLOOKUP(PTA!H49,AL_NUM_ARB,2,FALSE)&\" \"&VLOOKUP(PTA!H49,AL_NUM_ARB,4,FALSE)&\" \"&VLOOKUP(PTA!H49,AL_NUM_ARB,6,FALSE)))","v":"X"},{"$f":"IF(OR(PTA!I49=\"\",PTA!I49=\"X\"),\"X\",IF(PTA!I49=\"*\",\"*\",VLOOKUP(PTA!I49,AL_NUM_ARB,2,FALSE)&\" \"&VLOOKUP(PTA!I49,AL_NUM_ARB,4,FALSE)&\" \"&VLOOKUP(PTA!I49,AL_NUM_ARB,6,FALSE)))","v":"X"},{"$f":"IF(OR(PTA!J49=\"\",PTA!J49=\"X\"),\"X\",IF(PTA!J49=\"*\",\"*\",VLOOKUP(PTA!J49,AL_NUM_ARB,2,FALSE)&\" \"&VLOOKUP(PTA!J49,AL_NUM_ARB,4,FALSE)&\" \"&VLOOKUP(PTA!J49,AL_NUM_ARB,6,FALSE)))","v":"X"},{"$f":"IF(OR(PTA!K49=\"\",PTA!K49=\"X\"),\"X\",IF(PTA!K49=\"*\",\"*\",VLOOKUP(PTA!K49,AL_NUM_ARB,2,FALSE)&\" \"&VLOOKUP(PTA!K49,AL_NUM_ARB,4,FALSE)&\" \"&VLOOKUP(PTA!K49,AL_NUM_ARB,6,FALSE)))","v":"X"},{"$f":"IF(OR(PTA!L49=\"\",PTA!L49=\"X\"),\"X\",IF(PTA!L49=\"*\",\"*\",VLOOKUP(PTA!L49,AL_NUM_ARB,2,FALSE)&\" \"&VLOOKUP(PTA!L49,AL_NUM_ARB,4,FALSE)&\" \"&VLOOKUP(PTA!L49,AL_NUM_ARB,6,FALSE)))","v":"X"},{"$f":"IF(OR(PTA!M49=\"\",PTA!M49=\"X\"),\"X\",IF(PTA!M49=\"*\",\"*\",VLOOKUP(PTA!M49,AL_NUM_ARB,2,FALSE)&\" \"&VLOOKUP(PTA!M49,AL_NUM_ARB,4,FALSE)&\" \"&VLOOKUP(PTA!M49,AL_NUM_ARB,6,FALSE)))","v":"X"},{"$f":"IF(OR(PTA!N49=\"\",PTA!N49=\"X\"),\"X\",IF(PTA!N49=\"*\",\"*\",VLOOKUP(PTA!N49,AL_NUM_ARB,2,FALSE)&\" \"&VLOOKUP(PTA!N49,AL_NUM_ARB,4,FALSE)&\" \"&VLOOKUP(PTA!N49,AL_NUM_ARB,6,FALSE)))","v":"X"},{"$f":"IF(OR(PTA!O49=\"\",PTA!O49=\"X\"),\"X\",IF(PTA!O49=\"*\",\"*\",VLOOKUP(PTA!O49,AL_NUM_ARB,2,FALSE)&\" \"&VLOOKUP(PTA!O49,AL_NUM_ARB,4,FALSE)&\" \"&VLOOKUP(PTA!O49,AL_NUM_ARB,6,FALSE)))","v":"X"},{"$f":"IF(OR(PTA!P49=\"\",PTA!P49=\"X\"),\"X\",IF(PTA!P49=\"*\",\"*\",VLOOKUP(PTA!P49,AL_NUM_ARB,2,FALSE)&\" \"&VLOOKUP(PTA!P49,AL_NUM_ARB,4,FALSE)&\" \"&VLOOKUP(PTA!P49,AL_NUM_ARB,6,FALSE)))","v":"X"},{"$f":"IF(OR(PTA!Q49=\"\",PTA!Q49=\"X\"),\"X\",IF(PTA!Q49=\"*\",\"*\",VLOOKUP(PTA!Q49,AL_NUM_ARB,2,FALSE)&\" \"&VLOOKUP(PTA!Q49,AL_NUM_ARB,4,FALSE)&\" \"&VLOOKUP(PTA!Q49,AL_NUM_ARB,6,FALSE)))","v":"X"},{"$f":"IF(OR(PTA!R49=\"\",PTA!R49=\"X\"),\"X\",IF(PTA!R49=\"*\",\"*\",VLOOKUP(PTA!R49,AL_NUM_ARB,2,FALSE)&\" \"&VLOOKUP(PTA!R49,AL_NUM_ARB,4,FALSE)&\" \"&VLOOKUP(PTA!R49,AL_NUM_ARB,6,FALSE)))","v":"X"},{"$f":"IF(OR(PTA!S49=\"\",PTA!S49=\"X\"),\"X\",IF(PTA!S49=\"*\",\"*\",VLOOKUP(PTA!S49,AL_NUM_ARB,2,FALSE)&\" \"&VLOOKUP(PTA!S49,AL_NUM_ARB,4,FALSE)&\" \"&VLOOKUP(PTA!S49,AL_NUM_ARB,6,FALSE)))","v":"X"},{"$f":"IF(OR(PTA!T49=\"\",PTA!T49=\"X\"),\"X\",IF(PTA!T49=\"*\",\"*\",VLOOKUP(PTA!T49,AL_NUM_ARB,2,FALSE)&\" \"&VLOOKUP(PTA!T49,AL_NUM_ARB,4,FALSE)&\" \"&VLOOKUP(PTA!T49,AL_NUM_ARB,6,FALSE)))","v":"X"},{"$f":"IF(OR(PTA!U49=\"\",PTA!U49=\"X\"),\"X\",IF(PTA!U49=\"*\",\"*\",VLOOKUP(PTA!U49,AL_NUM_ARB,2,FALSE)&\" \"&VLOOKUP(PTA!U49,AL_NUM_ARB,4,FALSE)&\" \"&VLOOKUP(PTA!U49,AL_NUM_ARB,6,FALSE)))","v":"X"},{"$f":"IF(OR(PTA!V49=\"\",PTA!V49=\"X\"),\"X\",IF(PTA!V49=\"*\",\"*\",VLOOKUP(PTA!V49,AL_NUM_ARB,2,FALSE)&\" \"&VLOOKUP(PTA!V49,AL_NUM_ARB,4,FALSE)&\" \"&VLOOKUP(PTA!V49,AL_NUM_ARB,6,FALSE)))","v":"X"},{"$f":"IF(OR(PTA!W49=\"\",PTA!W49=\"X\"),\"X\",IF(PTA!W49=\"*\",\"*\",VLOOKUP(PTA!W49,AL_NUM_ARB,2,FALSE)&\" \"&VLOOKUP(PTA!W49,AL_NUM_ARB,4,FALSE)&\" \"&VLOOKUP(PTA!W49,AL_NUM_ARB,6,FALSE)))","v":"X"},{"$f":"IF(OR(PTA!X49=\"\",PTA!X49=\"X\"),\"X\",IF(PTA!X49=\"*\",\"*\",VLOOKUP(PTA!X49,AL_NUM_ARB,2,FALSE)&\" \"&VLOOKUP(PTA!X49,AL_NUM_ARB,4,FALSE)&\" \"&VLOOKUP(PTA!X49,AL_NUM_ARB,6,FALSE)))","v":"X"},{"$f":"IF(OR(PTA!Y49=\"\",PTA!Y49=\"X\"),\"X\",IF(PTA!Y49=\"*\",\"*\",VLOOKUP(PTA!Y49,AL_NUM_ARB,2,FALSE)&\" \"&VLOOKUP(PTA!Y49,AL_NUM_ARB,4,FALSE)&\" \"&VLOOKUP(PTA!Y49,AL_NUM_ARB,6,FALSE)))","v":"X"},{"$f":"IF(OR(PTA!Z49=\"\",PTA!Z49=\"X\"),\"X\",IF(PTA!Z49=\"*\",\"*\",VLOOKUP(PTA!Z49,AL_NUM_ARB,2,FALSE)&\" \"&VLOOKUP(PTA!Z49,AL_NUM_ARB,4,FALSE)&\" \"&VLOOKUP(PTA!Z49,AL_NUM_ARB,6,FALSE)))","v":"X"},{"$f":"IF(OR(PTA!AA49=\"\",PTA!AA49=\"X\"),\"X\",IF(PTA!AA49=\"*\",\"*\",VLOOKUP(PTA!AA49,AL_NUM_ARB,2,FALSE)&\" \"&VLOOKUP(PTA!AA49,AL_NUM_ARB,4,FALSE)&\" \"&VLOOKUP(PTA!AA49,AL_NUM_ARB,6,FALSE)))","v":"X"},{"$f":"IF(OR(PTA!AB49=\"\",PTA!AB49=\"X\"),\"X\",IF(PTA!AB49=\"*\",\"*\",VLOOKUP(PTA!AB49,AL_NUM_ARB,2,FALSE)&\" \"&VLOOKUP(PTA!AB49,AL_NUM_ARB,4,FALSE)&\" \"&VLOOKUP(PTA!AB49,AL_NUM_ARB,6,FALSE)))","v":"X"},{"$f":"IF(OR(PTA!AC49=\"\",PTA!AC49=\"X\"),\"X\",IF(PTA!AC49=\"*\",\"*\",VLOOKUP(PTA!AC49,AL_NUM_ARB,2,FALSE)&\" \"&VLOOKUP(PTA!AC49,AL_NUM_ARB,4,FALSE)&\" \"&VLOOKUP(PTA!AC49,AL_NUM_ARB,6,FALSE)))","v":"X"},{"$f":"IF(OR(PTA!AD49=\"\",PTA!AD49=\"X\"),\"X\",IF(PTA!AD49=\"*\",\"*\",VLOOKUP(PTA!AD49,AL_NUM_ARB,2,FALSE)&\" \"&VLOOKUP(PTA!AD49,AL_NUM_ARB,4,FALSE)&\" \"&VLOOKUP(PTA!AD49,AL_NUM_ARB,6,FALSE)))","v":"X"},{"$f":"IF(OR(PTA!AE49=\"\",PTA!AE49=\"X\"),\"X\",IF(PTA!AE49=\"*\",\"*\",VLOOKUP(PTA!AE49,AL_NUM_ARB,2,FALSE)&\" \"&VLOOKUP(PTA!AE49,AL_NUM_ARB,4,FALSE)&\" \"&VLOOKUP(PTA!AE49,AL_NUM_ARB,6,FALSE)))","v":"X"},{"$f":"IF(OR(PTA!AF49=\"\",PTA!AF49=\"X\"),\"X\",IF(PTA!AF49=\"*\",\"*\",VLOOKUP(PTA!AF49,AL_NUM_ARB,2,FALSE)&\" \"&VLOOKUP(PTA!AF49,AL_NUM_ARB,4,FALSE)&\" \"&VLOOKUP(PTA!AF49,AL_NUM_ARB,6,FALSE)))","v":"X"},{"$f":"IF(OR(PTA!AG49=\"\",PTA!AG49=\"X\"),\"X\",IF(PTA!AG49=\"*\",\"*\",VLOOKUP(PTA!AG49,AL_NUM_ARB,2,FALSE)&\" \"&VLOOKUP(PTA!AG49,AL_NUM_ARB,4,FALSE)&\" \"&VLOOKUP(PTA!AG49,AL_NUM_ARB,6,FALSE)))","v":"X"},{"$f":"IF(OR(PTA!AH49=\"\",PTA!AH49=\"X\"),\"X\",IF(PTA!AH49=\"*\",\"*\",VLOOKUP(PTA!AH49,AL_NUM_ARB,2,FALSE)&\" \"&VLOOKUP(PTA!AH49,AL_NUM_ARB,4,FALSE)&\" \"&VLOOKUP(PTA!AH49,AL_NUM_ARB,6,FALSE)))","v":"X"},{"$f":"IF(OR(PTA!AI49=\"\",PTA!AI49=\"X\"),\"X\",IF(PTA!AI49=\"*\",\"*\",VLOOKUP(PTA!AI49,AL_NUM_ARB,2,FALSE)&\" \"&VLOOKUP(PTA!AI49,AL_NUM_ARB,4,FALSE)&\" \"&VLOOKUP(PTA!AI49,AL_NUM_ARB,6,FALSE)))","v":"X"},{"$f":"IF(OR(PTA!AJ49=\"\",PTA!AJ49=\"X\"),\"X\",IF(PTA!AJ49=\"*\",\"*\",VLOOKUP(PTA!AJ49,AL_NUM_ARB,2,FALSE)&\" \"&VLOOKUP(PTA!AJ49,AL_NUM_ARB,4,FALSE)&\" \"&VLOOKUP(PTA!AJ49,AL_NUM_ARB,6,FALSE)))","v":"X"},{"$f":"IF(OR(PTA!AK49=\"\",PTA!AK49=\"X\"),\"X\",IF(PTA!AK49=\"*\",\"*\",VLOOKUP(PTA!AK49,AL_NUM_ARB,2,FALSE)&\" \"&VLOOKUP(PTA!AK49,AL_NUM_ARB,4,FALSE)&\" \"&VLOOKUP(PTA!AK49,AL_NUM_ARB,6,FALSE)))","v":"X"},{"$f":"IF(OR(PTA!AL49=\"\",PTA!AL49=\"X\"),\"X\",IF(PTA!AL49=\"*\",\"*\",VLOOKUP(PTA!AL49,AL_NUM_ARB,2,FALSE)&\" \"&VLOOKUP(PTA!AL49,AL_NUM_ARB,4,FALSE)&\" \"&VLOOKUP(PTA!AL49,AL_NUM_ARB,6,FALSE)))","v":"X"},{"$f":"IF(OR(PTA!AM49=\"\",PTA!AM49=\"X\"),\"X\",IF(PTA!AM49=\"*\",\"*\",VLOOKUP(PTA!AM49,AL_NUM_ARB,2,FALSE)&\" \"&VLOOKUP(PTA!AM49,AL_NUM_ARB,4,FALSE)&\" \"&VLOOKUP(PTA!AM49,AL_NUM_ARB,6,FALSE)))","v":"X"},{"$f":"IF(OR(PTA!AN49=\"\",PTA!AN49=\"X\"),\"X\",IF(PTA!AN49=\"*\",\"*\",VLOOKUP(PTA!AN49,AL_NUM_ARB,2,FALSE)&\" \"&VLOOKUP(PTA!AN49,AL_NUM_ARB,4,FALSE)&\" \"&VLOOKUP(PTA!AN49,AL_NUM_ARB,6,FALSE)))","v":"X"},{"$f":"IF(OR(PTA!AO49=\"\",PTA!AO49=\"X\"),\"X\",IF(PTA!AO49=\"*\",\"*\",VLOOKUP(PTA!AO49,AL_NUM_ARB,2,FALSE)&\" \"&VLOOKUP(PTA!AO49,AL_NUM_ARB,4,FALSE)&\" \"&VLOOKUP(PTA!AO49,AL_NUM_ARB,6,FALSE)))","v":"X"},{"$f":"IF(OR(PTA!AP49=\"\",PTA!AP49=\"X\"),\"X\",IF(PTA!AP49=\"*\",\"*\",VLOOKUP(PTA!AP49,AL_NUM_ARB,2,FALSE)&\" \"&VLOOKUP(PTA!AP49,AL_NUM_ARB,4,FALSE)&\" \"&VLOOKUP(PTA!AP49,AL_NUM_ARB,6,FALSE)))","v":"X"},{"$f":"IF(OR(PTA!AQ49=\"\",PTA!AQ49=\"X\"),\"X\",IF(PTA!AQ49=\"*\",\"*\",VLOOKUP(PTA!AQ49,AL_NUM_ARB,2,FALSE)&\" \"&VLOOKUP(PTA!AQ49,AL_NUM_ARB,4,FALSE)&\" \"&VLOOKUP(PTA!AQ49,AL_NUM_ARB,6,FALSE)))","v":"X"},{"$f":"IF(OR(PTA!AR49=\"\",PTA!AR49=\"X\"),\"X\",IF(PTA!AR49=\"*\",\"*\",VLOOKUP(PTA!AR49,AL_NUM_ARB,2,FALSE)&\" \"&VLOOKUP(PTA!AR49,AL_NUM_ARB,4,FALSE)&\" \"&VLOOKUP(PTA!AR49,AL_NUM_ARB,6,FALSE)))","v":"X"},{"$f":"IF(OR(PTA!AS49=\"\",PTA!AS49=\"X\"),\"X\",IF(PTA!AS49=\"*\",\"*\",VLOOKUP(PTA!AS49,AL_NUM_ARB,2,FALSE)&\" \"&VLOOKUP(PTA!AS49,AL_NUM_ARB,4,FALSE)&\" \"&VLOOKUP(PTA!AS49,AL_NUM_ARB,6,FALSE)))","v":"X"},{"$f":"IF(OR(PTA!AT49=\"\",PTA!AT49=\"X\"),\"X\",IF(PTA!AT49=\"*\",\"*\",VLOOKUP(PTA!AT49,AL_NUM_ARB,2,FALSE)&\" \"&VLOOKUP(PTA!AT49,AL_NUM_ARB,4,FALSE)&\" \"&VLOOKUP(PTA!AT49,AL_NUM_ARB,6,FALSE)))","v":"X"},{"$f":"IF(OR(PTA!AU49=\"\",PTA!AU49=\"X\"),\"X\",IF(PTA!AU49=\"*\",\"*\",VLOOKUP(PTA!AU49,AL_NUM_ARB,2,FALSE)&\" \"&VLOOKUP(PTA!AU49,AL_NUM_ARB,4,FALSE)&\" \"&VLOOKUP(PTA!AU49,AL_NUM_ARB,6,FALSE)))","v":"X"},{"$f":"IF(OR(PTA!AV49=\"\",PTA!AV49=\"X\"),\"X\",IF(PTA!AV49=\"*\",\"*\",VLOOKUP(PTA!AV49,AL_NUM_ARB,2,FALSE)&\" \"&VLOOKUP(PTA!AV49,AL_NUM_ARB,4,FALSE)&\" \"&VLOOKUP(PTA!AV49,AL_NUM_ARB,6,FALSE)))","v":"X"},{"$f":"IF(OR(PTA!AW49=\"\",PTA!AW49=\"X\"),\"X\",IF(PTA!AW49=\"*\",\"*\",VLOOKUP(PTA!AW49,AL_NUM_ARB,2,FALSE)&\" \"&VLOOKUP(PTA!AW49,AL_NUM_ARB,4,FALSE)&\" \"&VLOOKUP(PTA!AW49,AL_NUM_ARB,6,FALSE)))","v":"X"},{"$f":"IF(OR(PTA!AX49=\"\",PTA!AX49=\"X\"),\"X\",IF(PTA!AX49=\"*\",\"*\",VLOOKUP(PTA!AX49,AL_NUM_ARB,2,FALSE)&\" \"&VLOOKUP(PTA!AX49,AL_NUM_ARB,4,FALSE)&\" \"&VLOOKUP(PTA!AX49,AL_NUM_ARB,6,FALSE)))","v":"X"},{"$f":"IF(OR(PTA!AY49=\"\",PTA!AY49=\"X\"),\"X\",IF(PTA!AY49=\"*\",\"*\",VLOOKUP(PTA!AY49,AL_NUM_ARB,2,FALSE)&\" \"&VLOOKUP(PTA!AY49,AL_NUM_ARB,4,FALSE)&\" \"&VLOOKUP(PTA!AY49,AL_NUM_ARB,6,FALSE)))","v":"X"},{"$f":"IF(OR(PTA!AZ49=\"\",PTA!AZ49=\"X\"),\"X\",IF(PTA!AZ49=\"*\",\"*\",VLOOKUP(PTA!AZ49,AL_NUM_ARB,2,FALSE)&\" \"&VLOOKUP(PTA!AZ49,AL_NUM_ARB,4,FALSE)&\" \"&VLOOKUP(PTA!AZ49,AL_NUM_ARB,6,FALSE)))","v":"X"},{"$f":"IF(OR(PTA!BA49=\"\",PTA!BA49=\"X\"),\"X\",IF(PTA!BA49=\"*\",\"*\",VLOOKUP(PTA!BA49,AL_NUM_ARB,2,FALSE)&\" \"&VLOOKUP(PTA!BA49,AL_NUM_ARB,4,FALSE)&\" \"&VLOOKUP(PTA!BA49,AL_NUM_ARB,6,FALSE)))","v":"X"},{"$f":"IF(OR(PTA!BB49=\"\",PTA!BB49=\"X\"),\"X\",IF(PTA!BB49=\"*\",\"*\",VLOOKUP(PTA!BB49,AL_NUM_ARB,2,FALSE)&\" \"&VLOOKUP(PTA!BB49,AL_NUM_ARB,4,FALSE)&\" \"&VLOOKUP(PTA!BB49,AL_NUM_ARB,6,FALSE)))","v":"X"},{"$f":"IF(OR(PTA!BC49=\"\",PTA!BC49=\"X\"),\"X\",IF(PTA!BC49=\"*\",\"*\",VLOOKUP(PTA!BC49,AL_NUM_ARB,2,FALSE)&\" \"&VLOOKUP(PTA!BC49,AL_NUM_ARB,4,FALSE)&\" \"&VLOOKUP(PTA!BC49,AL_NUM_ARB,6,FALSE)))","v":"X"},{"$f":"IF(OR(PTA!BD49=\"\",PTA!BD49=\"X\"),\"X\",IF(PTA!BD49=\"*\",\"*\",VLOOKUP(PTA!BD49,AL_NUM_ARB,2,FALSE)&\" \"&VLOOKUP(PTA!BD49,AL_NUM_ARB,4,FALSE)&\" \"&VLOOKUP(PTA!BD49,AL_NUM_ARB,6,FALSE)))","v":"X"},{"$f":"IF(OR(PTA!BE49=\"\",PTA!BE49=\"X\"),\"X\",IF(PTA!BE49=\"*\",\"*\",VLOOKUP(PTA!BE49,AL_NUM_ARB,2,FALSE)&\" \"&VLOOKUP(PTA!BE49,AL_NUM_ARB,4,FALSE)&\" \"&VLOOKUP(PTA!BE49,AL_NUM_ARB,6,FALSE)))","v":"X"},{"$f":"IF(OR(PTA!BF49=\"\",PTA!BF49=\"X\"),\"X\",IF(PTA!BF49=\"*\",\"*\",VLOOKUP(PTA!BF49,AL_NUM_ARB,2,FALSE)&\" \"&VLOOKUP(PTA!BF49,AL_NUM_ARB,4,FALSE)&\" \"&VLOOKUP(PTA!BF49,AL_NUM_ARB,6,FALSE)))","v":"X"},{"$f":"IF(OR(PTA!BG49=\"\",PTA!BG49=\"X\"),\"X\",IF(PTA!BG49=\"*\",\"*\",VLOOKUP(PTA!BG49,AL_NUM_ARB,2,FALSE)&\" \"&VLOOKUP(PTA!BG49,AL_NUM_ARB,4,FALSE)&\" \"&VLOOKUP(PTA!BG49,AL_NUM_ARB,6,FALSE)))","v":"X"},{"$f":"IF(OR(PTA!BH49=\"\",PTA!BH49=\"X\"),\"X\",IF(PTA!BH49=\"*\",\"*\",VLOOKUP(PTA!BH49,AL_NUM_ARB,2,FALSE)&\" \"&VLOOKUP(PTA!BH49,AL_NUM_ARB,4,FALSE)&\" \"&VLOOKUP(PTA!BH49,AL_NUM_ARB,6,FALSE)))","v":"X"},{"$f":"IF(OR(PTA!BI49=\"\",PTA!BI49=\"X\"),\"X\",IF(PTA!BI49=\"*\",\"*\",VLOOKUP(PTA!BI49,AL_NUM_ARB,2,FALSE)&\" \"&VLOOKUP(PTA!BI49,AL_NUM_ARB,4,FALSE)&\" \"&VLOOKUP(PTA!BI49,AL_NUM_ARB,6,FALSE)))","v":"X"},{"$f":"IF(OR(PTA!BJ49=\"\",PTA!BJ49=\"X\"),\"X\",IF(PTA!BJ49=\"*\",\"*\",VLOOKUP(PTA!BJ49,AL_NUM_ARB,2,FALSE)&\" \"&VLOOKUP(PTA!BJ49,AL_NUM_ARB,4,FALSE)&\" \"&VLOOKUP(PTA!BJ49,AL_NUM_ARB,6,FALSE)))","v":"X"},{"$f":"IF(OR(PTA!BK49=\"\",PTA!BK49=\"X\"),\"X\",IF(PTA!BK49=\"*\",\"*\",VLOOKUP(PTA!BK49,AL_NUM_ARB,2,FALSE)&\" \"&VLOOKUP(PTA!BK49,AL_NUM_ARB,4,FALSE)&\" \"&VLOOKUP(PTA!BK49,AL_NUM_ARB,6,FALSE)))","v":"X"},{"$f":"IF(OR(PTA!BL49=\"\",PTA!BL49=\"X\"),\"X\",IF(PTA!BL49=\"*\",\"*\",VLOOKUP(PTA!BL49,AL_NUM_ARB,2,FALSE)&\" \"&VLOOKUP(PTA!BL49,AL_NUM_ARB,4,FALSE)&\" \"&VLOOKUP(PTA!BL49,AL_NUM_ARB,6,FALSE)))","v":"X"},{"$f":"IF(OR(PTA!BM49=\"\",PTA!BM49=\"X\"),\"X\",IF(PTA!BM49=\"*\",\"*\",VLOOKUP(PTA!BM49,AL_NUM_ARB,2,FALSE)&\" \"&VLOOKUP(PTA!BM49,AL_NUM_ARB,4,FALSE)&\" \"&VLOOKUP(PTA!BM49,AL_NUM_ARB,6,FALSE)))","v":"X"},{"$f":"IF(OR(PTA!BN49=\"\",PTA!BN49=\"X\"),\"X\",IF(PTA!BN49=\"*\",\"*\",VLOOKUP(PTA!BN49,AL_NUM_ARB,2,FALSE)&\" \"&VLOOKUP(PTA!BN49,AL_NUM_ARB,4,FALSE)&\" \"&VLOOKUP(PTA!BN49,AL_NUM_ARB,6,FALSE)))","v":"X"},{"$f":"IF(OR(PTA!BO49=\"\",PTA!BO49=\"X\"),\"X\",IF(PTA!BO49=\"*\",\"*\",VLOOKUP(PTA!BO49,AL_NUM_ARB,2,FALSE)&\" \"&VLOOKUP(PTA!BO49,AL_NUM_ARB,4,FALSE)&\" \"&VLOOKUP(PTA!BO49,AL_NUM_ARB,6,FALSE)))","v":"X"},{"$f":"IF(OR(PTA!BP49=\"\",PTA!BP49=\"X\"),\"X\",IF(PTA!BP49=\"*\",\"*\",VLOOKUP(PTA!BP49,AL_NUM_ARB,2,FALSE)&\" \"&VLOOKUP(PTA!BP49,AL_NUM_ARB,4,FALSE)&\" \"&VLOOKUP(PTA!BP49,AL_NUM_ARB,6,FALSE)))","v":"X"},{"$f":"IF(OR(PTA!BQ49=\"\",PTA!BQ49=\"X\"),\"X\",IF(PTA!BQ49=\"*\",\"*\",VLOOKUP(PTA!BQ49,AL_NUM_ARB,2,FALSE)&\" \"&VLOOKUP(PTA!BQ49,AL_NUM_ARB,4,FALSE)&\" \"&VLOOKUP(PTA!BQ49,AL_NUM_ARB,6,FALSE)))","v":"X"},{"$f":"IF(OR(PTA!BR49=\"\",PTA!BR49=\"X\"),\"X\",IF(PTA!BR49=\"*\",\"*\",VLOOKUP(PTA!BR49,AL_NUM_ARB,2,FALSE)&\" \"&VLOOKUP(PTA!BR49,AL_NUM_ARB,4,FALSE)&\" \"&VLOOKUP(PTA!BR49,AL_NUM_ARB,6,FALSE)))","v":"X"},{"$f":"IF(OR(PTA!BT49=\"\",PTA!BT49=\"X\"),\"X\",VLOOKUP(PTA!BT49,AL_NUM_ARB,2,FALSE)&\" \"&VLOOKUP(PTA!BT49,AL_NUM_ARB,4,FALSE)&\" \"&VLOOKUP(PTA!BT49,AL_NUM_ARB,6,FALSE))","v":"X"},{"$f":"IF(OR(PTA!BU49=\"\",PTA!BU49=\"X\"),\"X\",VLOOKUP(PTA!BU49,AL_NUM_ARB,2,FALSE)&\" \"&VLOOKUP(PTA!BU49,AL_NUM_ARB,4,FALSE)&\" \"&VLOOKUP(PTA!BU49,AL_NUM_ARB,6,FALSE))","v":"X"},{"$f":"IF(OR(PTA!BV49=\"\",PTA!BV49=\"X\"),\"X\",VLOOKUP(PTA!BV49,AL_NUM_ARB,2,FALSE)&\" \"&VLOOKUP(PTA!BV49,AL_NUM_ARB,4,FALSE)&\" \"&VLOOKUP(PTA!BV49,AL_NUM_ARB,6,FALSE))","v":"X"},{"$f":"IF(OR(PTA!BW49=\"\",PTA!BW49=\"X\"),\"X\",VLOOKUP(PTA!BW49,AL_NUM_ARB,2,FALSE)&\" \"&VLOOKUP(PTA!BW49,AL_NUM_ARB,4,FALSE)&\" \"&VLOOKUP(PTA!BW49,AL_NUM_ARB,6,FALSE))","v":"X"},"20:00:00"]
[{"$f":"PTA!A50","v":""},{"$f":"PTA!B50","v":"00:00:00"},{"$f":"PTA!C50","v":32},{"$f":"PTA!D50","v":0},{"$f":"IF(OR(PTA!E50=\"\",PTA!E50=\"X\"),\"X\",IF(PTA!E50=\"*\",\"*\",VLOOKUP(PTA!E50,AL_NUM_ARB,2,FALSE)&\" \"&VLOOKUP(PTA!E50,AL_NUM_ARB,4,FALSE)&\" \"&VLOOKUP(PTA!E50,AL_NUM_ARB,6,FALSE)))","v":"X"},{"$f":"IF(OR(PTA!F50=\"\",PTA!F50=\"X\"),\"X\",IF(PTA!F50=\"*\",\"*\",VLOOKUP(PTA!F50,AL_NUM_ARB,2,FALSE)&\" \"&VLOOKUP(PTA!F50,AL_NUM_ARB,4,FALSE)&\" \"&VLOOKUP(PTA!F50,AL_NUM_ARB,6,FALSE)))","v":"X"},{"$f":"IF(OR(PTA!G50=\"\",PTA!G50=\"X\"),\"X\",IF(PTA!G50=\"*\",\"*\",VLOOKUP(PTA!G50,AL_NUM_ARB,2,FALSE)&\" \"&VLOOKUP(PTA!G50,AL_NUM_ARB,4,FALSE)&\" \"&VLOOKUP(PTA!G50,AL_NUM_ARB,6,FALSE)))","v":"X"},{"$f":"IF(OR(PTA!H50=\"\",PTA!H50=\"X\"),\"X\",IF(PTA!H50=\"*\",\"*\",VLOOKUP(PTA!H50,AL_NUM_ARB,2,FALSE)&\" \"&VLOOKUP(PTA!H50,AL_NUM_ARB,4,FALSE)&\" \"&VLOOKUP(PTA!H50,AL_NUM_ARB,6,FALSE)))","v":"X"},{"$f":"IF(OR(PTA!I50=\"\",PTA!I50=\"X\"),\"X\",IF(PTA!I50=\"*\",\"*\",VLOOKUP(PTA!I50,AL_NUM_ARB,2,FALSE)&\" \"&VLOOKUP(PTA!I50,AL_NUM_ARB,4,FALSE)&\" \"&VLOOKUP(PTA!I50,AL_NUM_ARB,6,FALSE)))","v":"X"},{"$f":"IF(OR(PTA!J50=\"\",PTA!J50=\"X\"),\"X\",IF(PTA!J50=\"*\",\"*\",VLOOKUP(PTA!J50,AL_NUM_ARB,2,FALSE)&\" \"&VLOOKUP(PTA!J50,AL_NUM_ARB,4,FALSE)&\" \"&VLOOKUP(PTA!J50,AL_NUM_ARB,6,FALSE)))","v":"X"},{"$f":"IF(OR(PTA!K50=\"\",PTA!K50=\"X\"),\"X\",IF(PTA!K50=\"*\",\"*\",VLOOKUP(PTA!K50,AL_NUM_ARB,2,FALSE)&\" \"&VLOOKUP(PTA!K50,AL_NUM_ARB,4,FALSE)&\" \"&VLOOKUP(PTA!K50,AL_NUM_ARB,6,FALSE)))","v":"X"},{"$f":"IF(OR(PTA!L50=\"\",PTA!L50=\"X\"),\"X\",IF(PTA!L50=\"*\",\"*\",VLOOKUP(PTA!L50,AL_NUM_ARB,2,FALSE)&\" \"&VLOOKUP(PTA!L50,AL_NUM_ARB,4,FALSE)&\" \"&VLOOKUP(PTA!L50,AL_NUM_ARB,6,FALSE)))","v":"X"},{"$f":"IF(OR(PTA!M50=\"\",PTA!M50=\"X\"),\"X\",IF(PTA!M50=\"*\",\"*\",VLOOKUP(PTA!M50,AL_NUM_ARB,2,FALSE)&\" \"&VLOOKUP(PTA!M50,AL_NUM_ARB,4,FALSE)&\" \"&VLOOKUP(PTA!M50,AL_NUM_ARB,6,FALSE)))","v":"X"},{"$f":"IF(OR(PTA!N50=\"\",PTA!N50=\"X\"),\"X\",IF(PTA!N50=\"*\",\"*\",VLOOKUP(PTA!N50,AL_NUM_ARB,2,FALSE)&\" \"&VLOOKUP(PTA!N50,AL_NUM_ARB,4,FALSE)&\" \"&VLOOKUP(PTA!N50,AL_NUM_ARB,6,FALSE)))","v":"X"},{"$f":"IF(OR(PTA!O50=\"\",PTA!O50=\"X\"),\"X\",IF(PTA!O50=\"*\",\"*\",VLOOKUP(PTA!O50,AL_NUM_ARB,2,FALSE)&\" \"&VLOOKUP(PTA!O50,AL_NUM_ARB,4,FALSE)&\" \"&VLOOKUP(PTA!O50,AL_NUM_ARB,6,FALSE)))","v":"X"},{"$f":"IF(OR(PTA!P50=\"\",PTA!P50=\"X\"),\"X\",IF(PTA!P50=\"*\",\"*\",VLOOKUP(PTA!P50,AL_NUM_ARB,2,FALSE)&\" \"&VLOOKUP(PTA!P50,AL_NUM_ARB,4,FALSE)&\" \"&VLOOKUP(PTA!P50,AL_NUM_ARB,6,FALSE)))","v":"X"},{"$f":"IF(OR(PTA!Q50=\"\",PTA!Q50=\"X\"),\"X\",IF(PTA!Q50=\"*\",\"*\",VLOOKUP(PTA!Q50,AL_NUM_ARB,2,FALSE)&\" \"&VLOOKUP(PTA!Q50,AL_NUM_ARB,4,FALSE)&\" \"&VLOOKUP(PTA!Q50,AL_NUM_ARB,6,FALSE)))","v":"X"},{"$f":"IF(OR(PTA!R50=\"\",PTA!R50=\"X\"),\"X\",IF(PTA!R50=\"*\",\"*\",VLOOKUP(PTA!R50,AL_NUM_ARB,2,FALSE)&\" \"&VLOOKUP(PTA!R50,AL_NUM_ARB,4,FALSE)&\" \"&VLOOKUP(PTA!R50,AL_NUM_ARB,6,FALSE)))","v":"X"},{"$f":"IF(OR(PTA!S50=\"\",PTA!S50=\"X\"),\"X\",IF(PTA!S50=\"*\",\"*\",VLOOKUP(PTA!S50,AL_NUM_ARB,2,FALSE)&\" \"&VLOOKUP(PTA!S50,AL_NUM_ARB,4,FALSE)&\" \"&VLOOKUP(PTA!S50,AL_NUM_ARB,6,FALSE)))","v":"X"},{"$f":"IF(OR(PTA!T50=\"\",PTA!T50=\"X\"),\"X\",IF(PTA!T50=\"*\",\"*\",VLOOKUP(PTA!T50,AL_NUM_ARB,2,FALSE)&\" \"&VLOOKUP(PTA!T50,AL_NUM_ARB,4,FALSE)&\" \"&VLOOKUP(PTA!T50,AL_NUM_ARB,6,FALSE)))","v":"X"},{"$f":"IF(OR(PTA!U50=\"\",PTA!U50=\"X\"),\"X\",IF(PTA!U50=\"*\",\"*\",VLOOKUP(PTA!U50,AL_NUM_ARB,2,FALSE)&\" \"&VLOOKUP(PTA!U50,AL_NUM_ARB,4,FALSE)&\" \"&VLOOKUP(PTA!U50,AL_NUM_ARB,6,FALSE)))","v":"X"},{"$f":"IF(OR(PTA!V50=\"\",PTA!V50=\"X\"),\"X\",IF(PTA!V50=\"*\",\"*\",VLOOKUP(PTA!V50,AL_NUM_ARB,2,FALSE)&\" \"&VLOOKUP(PTA!V50,AL_NUM_ARB,4,FALSE)&\" \"&VLOOKUP(PTA!V50,AL_NUM_ARB,6,FALSE)))","v":"X"},{"$f":"IF(OR(PTA!W50=\"\",PTA!W50=\"X\"),\"X\",IF(PTA!W50=\"*\",\"*\",VLOOKUP(PTA!W50,AL_NUM_ARB,2,FALSE)&\" \"&VLOOKUP(PTA!W50,AL_NUM_ARB,4,FALSE)&\" \"&VLOOKUP(PTA!W50,AL_NUM_ARB,6,FALSE)))","v":"X"},{"$f":"IF(OR(PTA!X50=\"\",PTA!X50=\"X\"),\"X\",IF(PTA!X50=\"*\",\"*\",VLOOKUP(PTA!X50,AL_NUM_ARB,2,FALSE)&\" \"&VLOOKUP(PTA!X50,AL_NUM_ARB,4,FALSE)&\" \"&VLOOKUP(PTA!X50,AL_NUM_ARB,6,FALSE)))","v":"X"},{"$f":"IF(OR(PTA!Y50=\"\",PTA!Y50=\"X\"),\"X\",IF(PTA!Y50=\"*\",\"*\",VLOOKUP(PTA!Y50,AL_NUM_ARB,2,FALSE)&\" \"&VLOOKUP(PTA!Y50,AL_NUM_ARB,4,FALSE)&\" \"&VLOOKUP(PTA!Y50,AL_NUM_ARB,6,FALSE)))","v":"X"},{"$f":"IF(OR(PTA!Z50=\"\",PTA!Z50=\"X\"),\"X\",IF(PTA!Z50=\"*\",\"*\",VLOOKUP(PTA!Z50,AL_NUM_ARB,2,FALSE)&\" \"&VLOOKUP(PTA!Z50,AL_NUM_ARB,4,FALSE)&\" \"&VLOOKUP(PTA!Z50,AL_NUM_ARB,6,FALSE)))","v":"X"},{"$f":"IF(OR(PTA!AA50=\"\",PTA!AA50=\"X\"),\"X\",IF(PTA!AA50=\"*\",\"*\",VLOOKUP(PTA!AA50,AL_NUM_ARB,2,FALSE)&\" \"&VLOOKUP(PTA!AA50,AL_NUM_ARB,4,FALSE)&\" \"&VLOOKUP(PTA!AA50,AL_NUM_ARB,6,FALSE)))","v":"X"},{"$f":"IF(OR(PTA!AB50=\"\",PTA!AB50=\"X\"),\"X\",IF(PTA!AB50=\"*\",\"*\",VLOOKUP(PTA!AB50,AL_NUM_ARB,2,FALSE)&\" \"&VLOOKUP(PTA!AB50,AL_NUM_ARB,4,FALSE)&\" \"&VLOOKUP(PTA!AB50,AL_NUM_ARB,6,FALSE)))","v":"X"},{"$f":"IF(OR(PTA!AC50=\"\",PTA!AC50=\"X\"),\"X\",IF(PTA!AC50=\"*\",\"*\",VLOOKUP(PTA!AC50,AL_NUM_ARB,2,FALSE)&\" \"&VLOOKUP(PTA!AC50,AL_NUM_ARB,4,FALSE)&\" \"&VLOOKUP(PTA!AC50,AL_NUM_ARB,6,FALSE)))","v":"X"},{"$f":"IF(OR(PTA!AD50=\"\",PTA!AD50=\"X\"),\"X\",IF(PTA!AD50=\"*\",\"*\",VLOOKUP(PTA!AD50,AL_NUM_ARB,2,FALSE)&\" \"&VLOOKUP(PTA!AD50,AL_NUM_ARB,4,FALSE)&\" \"&VLOOKUP(PTA!AD50,AL_NUM_ARB,6,FALSE)))","v":"X"},{"$f":"IF(OR(PTA!AE50=\"\",PTA!AE50=\"X\"),\"X\",IF(PTA!AE50=\"*\",\"*\",VLOOKUP(PTA!AE50,AL_NUM_ARB,2,FALSE)&\" \"&VLOOKUP(PTA!AE50,AL_NUM_ARB,4,FALSE)&\" \"&VLOOKUP(PTA!AE50,AL_NUM_ARB,6,FALSE)))","v":"X"},{"$f":"IF(OR(PTA!AF50=\"\",PTA!AF50=\"X\"),\"X\",IF(PTA!AF50=\"*\",\"*\",VLOOKUP(PTA!AF50,AL_NUM_ARB,2,FALSE)&\" \"&VLOOKUP(PTA!AF50,AL_NUM_ARB,4,FALSE)&\" \"&VLOOKUP(PTA!AF50,AL_NUM_ARB,6,FALSE)))","v":"X"},{"$f":"IF(OR(PTA!AG50=\"\",PTA!AG50=\"X\"),\"X\",IF(PTA!AG50=\"*\",\"*\",VLOOKUP(PTA!AG50,AL_NUM_ARB,2,FALSE)&\" \"&VLOOKUP(PTA!AG50,AL_NUM_ARB,4,FALSE)&\" \"&VLOOKUP(PTA!AG50,AL_NUM_ARB,6,FALSE)))","v":"X"},{"$f":"IF(OR(PTA!AH50=\"\",PTA!AH50=\"X\"),\"X\",IF(PTA!AH50=\"*\",\"*\",VLOOKUP(PTA!AH50,AL_NUM_ARB,2,FALSE)&\" \"&VLOOKUP(PTA!AH50,AL_NUM_ARB,4,FALSE)&\" \"&VLOOKUP(PTA!AH50,AL_NUM_ARB,6,FALSE)))","v":"X"},{"$f":"IF(OR(PTA!AI50=\"\",PTA!AI50=\"X\"),\"X\",IF(PTA!AI50=\"*\",\"*\",VLOOKUP(PTA!AI50,AL_NUM_ARB,2,FALSE)&\" \"&VLOOKUP(PTA!AI50,AL_NUM_ARB,4,FALSE)&\" \"&VLOOKUP(PTA!AI50,AL_NUM_ARB,6,FALSE)))","v":"X"},{"$f":"IF(OR(PTA!AJ50=\"\",PTA!AJ50=\"X\"),\"X\",IF(PTA!AJ50=\"*\",\"*\",VLOOKUP(PTA!AJ50,AL_NUM_ARB,2,FALSE)&\" \"&VLOOKUP(PTA!AJ50,AL_NUM_ARB,4,FALSE)&\" \"&VLOOKUP(PTA!AJ50,AL_NUM_ARB,6,FALSE)))","v":"X"},{"$f":"IF(OR(PTA!AK50=\"\",PTA!AK50=\"X\"),\"X\",IF(PTA!AK50=\"*\",\"*\",VLOOKUP(PTA!AK50,AL_NUM_ARB,2,FALSE)&\" \"&VLOOKUP(PTA!AK50,AL_NUM_ARB,4,FALSE)&\" \"&VLOOKUP(PTA!AK50,AL_NUM_ARB,6,FALSE)))","v":"X"},{"$f":"IF(OR(PTA!AL50=\"\",PTA!AL50=\"X\"),\"X\",IF(PTA!AL50=\"*\",\"*\",VLOOKUP(PTA!AL50,AL_NUM_ARB,2,FALSE)&\" \"&VLOOKUP(PTA!AL50,AL_NUM_ARB,4,FALSE)&\" \"&VLOOKUP(PTA!AL50,AL_NUM_ARB,6,FALSE)))","v":"X"},{"$f":"IF(OR(PTA!AM50=\"\",PTA!AM50=\"X\"),\"X\",IF(PTA!AM50=\"*\",\"*\",VLOOKUP(PTA!AM50,AL_NUM_ARB,2,FALSE)&\" \"&VLOOKUP(PTA!AM50,AL_NUM_ARB,4,FALSE)&\" \"&VLOOKUP(PTA!AM50,AL_NUM_ARB,6,FALSE)))","v":"X"},{"$f":"IF(OR(PTA!AN50=\"\",PTA!AN50=\"X\"),\"X\",IF(PTA!AN50=\"*\",\"*\",VLOOKUP(PTA!AN50,AL_NUM_ARB,2,FALSE)&\" \"&VLOOKUP(PTA!AN50,AL_NUM_ARB,4,FALSE)&\" \"&VLOOKUP(PTA!AN50,AL_NUM_ARB,6,FALSE)))","v":"X"},{"$f":"IF(OR(PTA!AO50=\"\",PTA!AO50=\"X\"),\"X\",IF(PTA!AO50=\"*\",\"*\",VLOOKUP(PTA!AO50,AL_NUM_ARB,2,FALSE)&\" \"&VLOOKUP(PTA!AO50,AL_NUM_ARB,4,FALSE)&\" \"&VLOOKUP(PTA!AO50,AL_NUM_ARB,6,FALSE)))","v":"X"},{"$f":"IF(OR(PTA!AP50=\"\",PTA!AP50=\"X\"),\"X\",IF(PTA!AP50=\"*\",\"*\",VLOOKUP(PTA!AP50,AL_NUM_ARB,2,FALSE)&\" \"&VLOOKUP(PTA!AP50,AL_NUM_ARB,4,FALSE)&\" \"&VLOOKUP(PTA!AP50,AL_NUM_ARB,6,FALSE)))","v":"X"},{"$f":"IF(OR(PTA!AQ50=\"\",PTA!AQ50=\"X\"),\"X\",IF(PTA!AQ50=\"*\",\"*\",VLOOKUP(PTA!AQ50,AL_NUM_ARB,2,FALSE)&\" \"&VLOOKUP(PTA!AQ50,AL_NUM_ARB,4,FALSE)&\" \"&VLOOKUP(PTA!AQ50,AL_NUM_ARB,6,FALSE)))","v":"X"},{"$f":"IF(OR(PTA!AR50=\"\",PTA!AR50=\"X\"),\"X\",IF(PTA!AR50=\"*\",\"*\",VLOOKUP(PTA!AR50,AL_NUM_ARB,2,FALSE)&\" \"&VLOOKUP(PTA!AR50,AL_NUM_ARB,4,FALSE)&\" \"&VLOOKUP(PTA!AR50,AL_NUM_ARB,6,FALSE)))","v":"X"},{"$f":"IF(OR(PTA!AS50=\"\",PTA!AS50=\"X\"),\"X\",IF(PTA!AS50=\"*\",\"*\",VLOOKUP(PTA!AS50,AL_NUM_ARB,2,FALSE)&\" \"&VLOOKUP(PTA!AS50,AL_NUM_ARB,4,FALSE)&\" \"&VLOOKUP(PTA!AS50,AL_NUM_ARB,6,FALSE)))","v":"X"},{"$f":"IF(OR(PTA!AT50=\"\",PTA!AT50=\"X\"),\"X\",IF(PTA!AT50=\"*\",\"*\",VLOOKUP(PTA!AT50,AL_NUM_ARB,2,FALSE)&\" \"&VLOOKUP(PTA!AT50,AL_NUM_ARB,4,FALSE)&\" \"&VLOOKUP(PTA!AT50,AL_NUM_ARB,6,FALSE)))","v":"X"},{"$f":"IF(OR(PTA!AU50=\"\",PTA!AU50=\"X\"),\"X\",IF(PTA!AU50=\"*\",\"*\",VLOOKUP(PTA!AU50,AL_NUM_ARB,2,FALSE)&\" \"&VLOOKUP(PTA!AU50,AL_NUM_ARB,4,FALSE)&\" \"&VLOOKUP(PTA!AU50,AL_NUM_ARB,6,FALSE)))","v":"X"},{"$f":"IF(OR(PTA!AV50=\"\",PTA!AV50=\"X\"),\"X\",IF(PTA!AV50=\"*\",\"*\",VLOOKUP(PTA!AV50,AL_NUM_ARB,2,FALSE)&\" \"&VLOOKUP(PTA!AV50,AL_NUM_ARB,4,FALSE)&\" \"&VLOOKUP(PTA!AV50,AL_NUM_ARB,6,FALSE)))","v":"X"},{"$f":"IF(OR(PTA!AW50=\"\",PTA!AW50=\"X\"),\"X\",IF(PTA!AW50=\"*\",\"*\",VLOOKUP(PTA!AW50,AL_NUM_ARB,2,FALSE)&\" \"&VLOOKUP(PTA!AW50,AL_NUM_ARB,4,FALSE)&\" \"&VLOOKUP(PTA!AW50,AL_NUM_ARB,6,FALSE)))","v":"X"},{"$f":"IF(OR(PTA!AX50=\"\",PTA!AX50=\"X\"),\"X\",IF(PTA!AX50=\"*\",\"*\",VLOOKUP(PTA!AX50,AL_NUM_ARB,2,FALSE)&\" \"&VLOOKUP(PTA!AX50,AL_NUM_ARB,4,FALSE)&\" \"&VLOOKUP(PTA!AX50,AL_NUM_ARB,6,FALSE)))","v":"X"},{"$f":"IF(OR(PTA!AY50=\"\",PTA!AY50=\"X\"),\"X\",IF(PTA!AY50=\"*\",\"*\",VLOOKUP(PTA!AY50,AL_NUM_ARB,2,FALSE)&\" \"&VLOOKUP(PTA!AY50,AL_NUM_ARB,4,FALSE)&\" \"&VLOOKUP(PTA!AY50,AL_NUM_ARB,6,FALSE)))","v":"X"},{"$f":"IF(OR(PTA!AZ50=\"\",PTA!AZ50=\"X\"),\"X\",IF(PTA!AZ50=\"*\",\"*\",VLOOKUP(PTA!AZ50,AL_NUM_ARB,2,FALSE)&\" \"&VLOOKUP(PTA!AZ50,AL_NUM_ARB,4,FALSE)&\" \"&VLOOKUP(PTA!AZ50,AL_NUM_ARB,6,FALSE)))","v":"X"},{"$f":"IF(OR(PTA!BA50=\"\",PTA!BA50=\"X\"),\"X\",IF(PTA!BA50=\"*\",\"*\",VLOOKUP(PTA!BA50,AL_NUM_ARB,2,FALSE)&\" \"&VLOOKUP(PTA!BA50,AL_NUM_ARB,4,FALSE)&\" \"&VLOOKUP(PTA!BA50,AL_NUM_ARB,6,FALSE)))","v":"X"},{"$f":"IF(OR(PTA!BB50=\"\",PTA!BB50=\"X\"),\"X\",IF(PTA!BB50=\"*\",\"*\",VLOOKUP(PTA!BB50,AL_NUM_ARB,2,FALSE)&\" \"&VLOOKUP(PTA!BB50,AL_NUM_ARB,4,FALSE)&\" \"&VLOOKUP(PTA!BB50,AL_NUM_ARB,6,FALSE)))","v":"X"},{"$f":"IF(OR(PTA!BC50=\"\",PTA!BC50=\"X\"),\"X\",IF(PTA!BC50=\"*\",\"*\",VLOOKUP(PTA!BC50,AL_NUM_ARB,2,FALSE)&\" \"&VLOOKUP(PTA!BC50,AL_NUM_ARB,4,FALSE)&\" \"&VLOOKUP(PTA!BC50,AL_NUM_ARB,6,FALSE)))","v":"X"},{"$f":"IF(OR(PTA!BD50=\"\",PTA!BD50=\"X\"),\"X\",IF(PTA!BD50=\"*\",\"*\",VLOOKUP(PTA!BD50,AL_NUM_ARB,2,FALSE)&\" \"&VLOOKUP(PTA!BD50,AL_NUM_ARB,4,FALSE)&\" \"&VLOOKUP(PTA!BD50,AL_NUM_ARB,6,FALSE)))","v":"X"},{"$f":"IF(OR(PTA!BE50=\"\",PTA!BE50=\"X\"),\"X\",IF(PTA!BE50=\"*\",\"*\",VLOOKUP(PTA!BE50,AL_NUM_ARB,2,FALSE)&\" \"&VLOOKUP(PTA!BE50,AL_NUM_ARB,4,FALSE)&\" \"&VLOOKUP(PTA!BE50,AL_NUM_ARB,6,FALSE)))","v":"X"},{"$f":"IF(OR(PTA!BF50=\"\",PTA!BF50=\"X\"),\"X\",IF(PTA!BF50=\"*\",\"*\",VLOOKUP(PTA!BF50,AL_NUM_ARB,2,FALSE)&\" \"&VLOOKUP(PTA!BF50,AL_NUM_ARB,4,FALSE)&\" \"&VLOOKUP(PTA!BF50,AL_NUM_ARB,6,FALSE)))","v":"X"},{"$f":"IF(OR(PTA!BG50=\"\",PTA!BG50=\"X\"),\"X\",IF(PTA!BG50=\"*\",\"*\",VLOOKUP(PTA!BG50,AL_NUM_ARB,2,FALSE)&\" \"&VLOOKUP(PTA!BG50,AL_NUM_ARB,4,FALSE)&\" \"&VLOOKUP(PTA!BG50,AL_NUM_ARB,6,FALSE)))","v":"X"},{"$f":"IF(OR(PTA!BH50=\"\",PTA!BH50=\"X\"),\"X\",IF(PTA!BH50=\"*\",\"*\",VLOOKUP(PTA!BH50,AL_NUM_ARB,2,FALSE)&\" \"&VLOOKUP(PTA!BH50,AL_NUM_ARB,4,FALSE)&\" \"&VLOOKUP(PTA!BH50,AL_NUM_ARB,6,FALSE)))","v":"X"},{"$f":"IF(OR(PTA!BI50=\"\",PTA!BI50=\"X\"),\"X\",IF(PTA!BI50=\"*\",\"*\",VLOOKUP(PTA!BI50,AL_NUM_ARB,2,FALSE)&\" \"&VLOOKUP(PTA!BI50,AL_NUM_ARB,4,FALSE)&\" \"&VLOOKUP(PTA!BI50,AL_NUM_ARB,6,FALSE)))","v":"X"},{"$f":"IF(OR(PTA!BJ50=\"\",PTA!BJ50=\"X\"),\"X\",IF(PTA!BJ50=\"*\",\"*\",VLOOKUP(PTA!BJ50,AL_NUM_ARB,2,FALSE)&\" \"&VLOOKUP(PTA!BJ50,AL_NUM_ARB,4,FALSE)&\" \"&VLOOKUP(PTA!BJ50,AL_NUM_ARB,6,FALSE)))","v":"X"},{"$f":"IF(OR(PTA!BK50=\"\",PTA!BK50=\"X\"),\"X\",IF(PTA!BK50=\"*\",\"*\",VLOOKUP(PTA!BK50,AL_NUM_ARB,2,FALSE)&\" \"&VLOOKUP(PTA!BK50,AL_NUM_ARB,4,FALSE)&\" \"&VLOOKUP(PTA!BK50,AL_NUM_ARB,6,FALSE)))","v":"X"},{"$f":"IF(OR(PTA!BL50=\"\",PTA!BL50=\"X\"),\"X\",IF(PTA!BL50=\"*\",\"*\",VLOOKUP(PTA!BL50,AL_NUM_ARB,2,FALSE)&\" \"&VLOOKUP(PTA!BL50,AL_NUM_ARB,4,FALSE)&\" \"&VLOOKUP(PTA!BL50,AL_NUM_ARB,6,FALSE)))","v":"X"},{"$f":"IF(OR(PTA!BM50=\"\",PTA!BM50=\"X\"),\"X\",IF(PTA!BM50=\"*\",\"*\",VLOOKUP(PTA!BM50,AL_NUM_ARB,2,FALSE)&\" \"&VLOOKUP(PTA!BM50,AL_NUM_ARB,4,FALSE)&\" \"&VLOOKUP(PTA!BM50,AL_NUM_ARB,6,FALSE)))","v":"X"},{"$f":"IF(OR(PTA!BN50=\"\",PTA!BN50=\"X\"),\"X\",IF(PTA!BN50=\"*\",\"*\",VLOOKUP(PTA!BN50,AL_NUM_ARB,2,FALSE)&\" \"&VLOOKUP(PTA!BN50,AL_NUM_ARB,4,FALSE)&\" \"&VLOOKUP(PTA!BN50,AL_NUM_ARB,6,FALSE)))","v":"X"},{"$f":"IF(OR(PTA!BO50=\"\",PTA!BO50=\"X\"),\"X\",IF(PTA!BO50=\"*\",\"*\",VLOOKUP(PTA!BO50,AL_NUM_ARB,2,FALSE)&\" \"&VLOOKUP(PTA!BO50,AL_NUM_ARB,4,FALSE)&\" \"&VLOOKUP(PTA!BO50,AL_NUM_ARB,6,FALSE)))","v":"X"},{"$f":"IF(OR(PTA!BP50=\"\",PTA!BP50=\"X\"),\"X\",IF(PTA!BP50=\"*\",\"*\",VLOOKUP(PTA!BP50,AL_NUM_ARB,2,FALSE)&\" \"&VLOOKUP(PTA!BP50,AL_NUM_ARB,4,FALSE)&\" \"&VLOOKUP(PTA!BP50,AL_NUM_ARB,6,FALSE)))","v":"X"},{"$f":"IF(OR(PTA!BQ50=\"\",PTA!BQ50=\"X\"),\"X\",IF(PTA!BQ50=\"*\",\"*\",VLOOKUP(PTA!BQ50,AL_NUM_ARB,2,FALSE)&\" \"&VLOOKUP(PTA!BQ50,AL_NUM_ARB,4,FALSE)&\" \"&VLOOKUP(PTA!BQ50,AL_NUM_ARB,6,FALSE)))","v":"X"},{"$f":"IF(OR(PTA!BR50=\"\",PTA!BR50=\"X\"),\"X\",IF(PTA!BR50=\"*\",\"*\",VLOOKUP(PTA!BR50,AL_NUM_ARB,2,FALSE)&\" \"&VLOOKUP(PTA!BR50,AL_NUM_ARB,4,FALSE)&\" \"&VLOOKUP(PTA!BR50,AL_NUM_ARB,6,FALSE)))","v":"X"},{"$f":"IF(OR(PTA!BT50=\"\",PTA!BT50=\"X\"),\"X\",VLOOKUP(PTA!BT50,AL_NUM_ARB,2,FALSE)&\" \"&VLOOKUP(PTA!BT50,AL_NUM_ARB,4,FALSE)&\" \"&VLOOKUP(PTA!BT50,AL_NUM_ARB,6,FALSE))","v":"X"},{"$f":"IF(OR(PTA!BU50=\"\",PTA!BU50=\"X\"),\"X\",VLOOKUP(PTA!BU50,AL_NUM_ARB,2,FALSE)&\" \"&VLOOKUP(PTA!BU50,AL_NUM_ARB,4,FALSE)&\" \"&VLOOKUP(PTA!BU50,AL_NUM_ARB,6,FALSE))","v":"X"},{"$f":"IF(OR(PTA!BV50=\"\",PTA!BV50=\"X\"),\"X\",VLOOKUP(PTA!BV50,AL_NUM_ARB,2,FALSE)&\" \"&VLOOKUP(PTA!BV50,AL_NUM_ARB,4,FALSE)&\" \"&VLOOKUP(PTA!BV50,AL_NUM_ARB,6,FALSE))","v":"X"},{"$f":"IF(OR(PTA!BW50=\"\",PTA!BW50=\"X\"),\"X\",VLOOKUP(PTA!BW50,AL_NUM_ARB,2,FALSE)&\" \"&VLOOKUP(PTA!BW50,AL_NUM_ARB,4,FALSE)&\" \"&VLOOKUP(PTA!BW50,AL_NUM_ARB,6,FALSE))","v":"X"},{"$f":"BW39+Part1","v":"15:30:00"}]
[null,{"$f":"Paramètres!D20","v":"00:00:00"},null,null,"FIN DE LA JOURNEE",null,null,null,null,null,null,null,null,null,null,null,null,null,null,null,null,null,null,null,null,null,null,null,null,null,null,null,null,null,null,null,null,null,null,null,null,null,null,null,null,null,null,null,null,null,null,null,null,null,null,null,null,null,null,null,null,null,null,null,null,null,null,null,null,null,null,null,null,null,{"$f":"Y51","v":"00:00:00"}]

{"sheet":"Récap NF ORGA","index":14,"n_rows":95,"n_cols":14,"rows_kept":95,"cut":false,"hidden":true,"merged":[[11,2,11,9],[12,2,12,3],[12,4,13,4],[12,5,13,5],[12,6,13,6],[12,7,13,7],[12,8,13,8],[12,9,13,9]]}
[]
[null,null,"FEDERATION FRANCAISE DE TENNIS DE TABLE",null,null,null,null,null,null,null,{"$f":"'Note de Frais'!H1","v":"Saison 2025/2026"}]
[null,null,"3, rue Dieudonné Costes - BP40348   75625 PARIS CEDEX 13",null,null,null,null,null,null,null,"ARB. 2.5.1"]
[null,null,null,null,null,null,null,null,null,null,null,"Prest"]
[]
[null,"RECAPITULATIF D'INDEMNITES D'ARBITRAGE"]
[]
[null,"Epreuve :",{"$f":"Comp","v":0},null,null,null,null,"Date :",null,{"$f":"Date_comp","v":""}]
[]
[null,null,null,null,null,null,null,"Lieu :",null,{"$f":"Lieu","v":0}]
[]
[null,null,"INDEMNITES",null,null,null,null,null,null,null,null,"NB","Si","Reste"]
[null,"Nom - Prénom","Déplacements",null,"Péage","Repas","Hotel","Prestation","Autres","TOTAL","Signature","Jours","Prestations"]
[null,null,"Voiture","SNCF",null,null,null,null,null,null,null,null,"avancées","à régler"]
[{"$f":"IF(B15<\"A\",\"\",VLOOKUP(B15,Base_arb_NF,7,FALSE))","v":""},{"$f":"'Arbitres CFA'!C2","v":0},null,null,null,null,null,{"$f":"IF(B15<\"A\",\"\",IF(L15>0,$L15*(VLOOKUP(A15,Prest_NF,2,FALSE)),0))","v":""},null,{"$f":"SUM(C15:I15)","v":0},"",{"$f":"IF(B15<\"A\",\"\",VLOOKUP(B15,Base_arb_NF,8,FALSE))","v":""},{"$f":"H15","v":""},{"$f":"IF(J15=0,0,J15-M15)","v":0}]
["",{"$f":"'Arbitres CFA'!C3","v":0},null,null,null,null,null,{"$f":"IF(B16<\"A\",\"\",IF(L16>0,$L16*(VLOOKUP(A16,Prest_NF,2,FALSE)),0))","v":""},null,{"$f":"SUM(C16:I16)","v":0},null,"",{"$f":"H16","v":""},0]
["",{"$f":"'Arbitres CFA'!C4","v":0},null,null,null,null,null,"",null,{"$f":"SUM(C17:I17)","v":0},null,"",{"$f":"H17","v":""},0]
["",{"$f":"'Arbitres CFA'!C5","v":0},null,null,null,null,null,"",null,0,null,"",{"$f":"H18","v":""},0]
["",{"$f":"'Arbitres CFA'!C6","v":0},null,null,null,null,null,"",null,0,null,"",{"$f":"H19","v":""},0]
["",{"$f":"'Arbitres CFA'!C7","v":0},null,null,null,null,null,"",null,0,null,"","",0]
["",{"$f":"'Arbitres CFA'!C8","v":0},null,null,null,null,null,"",null,0,null,"","",0]
[null,null,null,null,null,null,null,null,null,{"$f":"SUM(J15:J21)","v":0},null,"",0]
["",{"$f":"'Arbitres CFA'!C9","v":0},null,null,null,null,null,{"$f":"IF(B23<\"A\",\"\",IF(L23>0,$L23*(VLOOKUP(A23,Prest_NF,2,FALSE)),0))","v":""},null,0,null,"","",0]
["",{"$f":"'Arbitres CFA'!C10","v":0},null,null,null,null,null,{"$f":"IF(B24<\"A\",\"\",IF(L24>0,$L24*(VLOOKUP(A24,Prest_NF,2,FALSE)),0))","v":""},null,0,null,"","",0]
["",{"$f":"'Arbitres CFA'!C11","v":0},null,null,null,null,null,{"$f":"IF(B25<\"A\",\"\",IF(L25>0,$L25*(VLOOKUP(A25,Prest_NF,2,FALSE)),0))","v":""},null,0,null,"","",0]
["",{"$f":"'Arbitres CFA'!C12","v":0},null,null,null,null,null,{"$f":"IF(B26<\"A\",\"\",IF(L26>0,$L26*(VLOOKUP(A26,Prest_NF,2,FALSE)),0))","v":""},null,0,null,"","",0]
[null,null,null,null,null,null,null,null,null,{"$f":"SUM(J24:J26)","v":0},null,""]
["",{"$f":"'Arbitres CFA'!C14","v":0},null,null,null,null,null,{"$f":"IF(B28<\"A\",\"\",IF(L28>0,$L28*(VLOOKUP(A28,Prest_NF,2,FALSE)),0))","v":""},null,0,null,"","",0]
["",{"$f":"'Arbitres CFA'!C15","v":0},null,null,null,null,null,"",null,0,null,"","",0]
["",{"$f":"'Arbitres CFA'!C16","v":0},null,null,null,null,null,"",null,0,null,"","",0]
["",{"$f":"'Arbitres CFA'!C17","v":0},null,null,null,null,null,"",null,0,null,"","",0]
["",{"$f":"'Arbitres CFA'!C18","v":0},null,null,null,null,null,"",null,0,null,"","",0]
["",{"$f":"'Arbitres CFA'!C19","v":0},null,null,null,null,null,"",null,0,null,"","",0]
["",{"$f":"'Arbitres CFA'!C20","v":0},null,null,null,null,null,"",null,0,null,"","",0]
["",{"$f":"'Arbitres CFA'!C21","v":0},null,null,null,null,null,"",null,0,null,"","",0]
["",{"$f":"'Arbitres CFA'!C22","v":0},null,null,null,null,null,"",null,0,null,"","",0]
["",{"$f":"'Arbitres CFA'!C23","v":0},null,null,null,null,null,"",null,0,null,"","",0]
["",{"$f":"'Arbitres CFA'!C24","v":0},null,null,null,null,null,"",null,0,null,"","",0]
["",{"$f":"'Arbitres CFA'!C25","v":0},null,null,null,null,null,"",null,0,null,"","",0]
["",{"$f":"'Arbitres CFA'!C26","v":0},null,null,null,null,null,"",null,{"$f":"SUM(C40:I40)","v":0},null,"","",0]
["",{"$f":"'Arbitres CFA'!C27","v":0},null,null,null,null,null,"",null,0,null,"","",0]
["",{"$f":"'Arbitres CFA'!C28","v":0},null,null,null,null,null,"",null,0,null,"","",0]
["",{"$f":"'Arbitres CFA'!C29","v":0},null,null,null,null,null,"",null,0,null,"","",0]
["",{"$f":"'Arbitres CFA'!C30","v":0},null,null,null,null,null,"",null,0,null,"","",0]
["",{"$f":"'Arbitres CFA'!C31","v":0},null,null,null,null,null,"",null,0,null,"","",0]
["",{"$f":"'Arbitres CFA'!C32","v":0},null,null,null,null,null,"",null,0,null,"","",0]
["",{"$f":"'Arbitres CFA'!C33","v":0},null,null,null,null,null,"",null,0,null,{"$f":"IF(B47<\"A\",\"\",VLOOKUP(B47,Base_arb_NF,8,FALSE))","v":""},"",0]
["",{"$f":"'Arbitres CFA'!C34","v":0},null,null,null,null,null,"",null,0,null,"","",0]
["",{"$f":"'Arbitres CFA'!C35","v":0},null,null,null,null,null,"",null,0,null,"","",0]
["",{"$f":"'Arbitres CFA'!C36","v":0},null,null,null,null,null,"",null,0,null,"","",0]
["",{"$f":"'Arbitres CFA'!C37","v":0},null,null,null,null,null,"",null,0,null,"","",0]
["",{"$f":"'Arbitres CFA'!C38","v":0},null,null,null,null,null,"",null,{"$f":"SUM(C52:I52)","v":0},null,"","",0]
["",{"$f":"'Arbitres CFA'!C39","v":0},null,null,null,null,null,"",null,0,null,"","",0]
["",{"$f":"'Arbitres CFA'!C40","v":0},null,null,null,null,null,"",null,0,null,"","",0]
["",{"$f":"'Arbitres CFA'!C41","v":0},null,null,null,null,null,"",null,0,null,"","",0]
["",{"$f":"'Arbitres CFA'!C42","v":0},null,null,null,null,null,"",null,0,null,"","",0]
["",{"$f":"'Arbitres CFA'!C43","v":0},null,null,null,null,null,"",null,0,null,"","",0]
["",{"$f":"'Arbitres CFA'!C44","v":0},null,null,null,null,null,"",null,0,null,"","",0]
["",{"$f":"'Arbitres CFA'!C45","v":0},null,null,null,null,null,"",null,0,null,"","",0]
["",{"$f":"'Arbitres CFA'!C46","v":0},null,null,null,null,null,{"$f":"IF(B60<\"A\",\"\",IF(L60>0,$L60*(VLOOKUP(A60,Prest_NF,2,FALSE)),0))","v":""},null,0,null,"","",0]
["",{"$f":"'Arbitres CFA'!C47","v":0},null,null,null,null,null,"",null,0,null,"","",0]
["",{"$f":"'Arbitres CFA'!C48","v":0},null,null,null,null,null,"",null,0,null,"","",0]
["",{"$f":"'Arbitres CFA'!C49","v":0},null,null,null,null,null,"",null,0,null,"","",0]
["",{"$f":"'Arbitres CFA'!C50","v":0},null,null,null,null,null,"",null,0,null,"","",0]
["",{"$f":"'Arbitres CFA'!C51","v":0},null,null,null,null,null,"",null,0,null,"","",0]
["",{"$f":"'Arbitres CFA'!C52","v":0},null,null,null,null,null,"",null,0,null,"","",0]
["",{"$f":"'Arbitres CFA'!C53","v":0},null,null,null,null,null,"",null,0,null,"","",0]
["",{"$f":"'Arbitres CFA'!C54","v":0},null,null,null,null,null,"",null,0,null,"","",0]
["",{"$f":"'Arbitres CFA'!C55","v":0},null,null,null,null,null,"",null,0,null,"","",0]
["",{"$f":"'Arbitres CFA'!C56","v":0},null,null,null,null,null,"",null,0,null,"","",0]
["",{"$f":"'Arbitres CFA'!C57","v":0},null,null,null,null,null,"",null,0,null,"","",0]
["",{"$f":"'Arbitres CFA'!C58","v":0},null,null,null,null,null,"",null,0,null,"","",0]
["",{"$f":"'Arbitres CFA'!C59","v":0},null,null,null,null,null,"",null,0,null,"","",0]
["",{"$f":"'Arbitres CFA'!C60","v":0},null,null,null,null,null,"",null,0,null,"","",0]
["",{"$f":"'Arbitres CFA'!C61","v":0},null,null,null,null,null,"",null,0,null,"","",0]
["",{"$f":"'Arbitres CFA'!C62","v":0},null,null,null,null,null,"",null,0,null,"","",0]
["",{"$f":"'Arbitres CFA'!C63","v":0},null,null,null,null,null,"",null,0,null,"","",0]
["",null,null,null,null,null,null,{"$f":"IF(B78<\"A\",\"\",IF(L78>0,$L78*(VLOOKUP(A78,Prest_NF,2,FALSE)),$L$8*(VLOOKUP(A78,Prest_NF,2,FALSE))))","v":""},null,{"$f":"SUM(J28:J77)","v":0},null,null,""]
[null,null,null,null,null,null,null,null,"TOTAL",{"$f":"J78+J27+J22","v":0},null,null,{"$f":"SUM(M15:M78)","v":0},{"$f":"SUM(N15:N78)","v":0}]
[]
[null,"Ce document est à adresser directement pour visa, au Président de la Commission Fédérale de l'Arbitrage"]
[]
[null,"Ne pas l'adresser à la F.F.T.T."]
[]
[null,"Chèque à l'Ordre de :"]
[]
[null,"Adresse :"]
[]
[]
[]
[]
[]
[]
[null,null,null,null,null,null,null,null,null,null,null,null,{"$f":"'Récap NF ORGA Prest'!J76","v":0}]
[null,null,null,null,null,null,null,null,null,null,null,null,{"$f":"M79+N79","v":0}]

{"sheet":"Récap NF ORGA Prest","index":15,"n_rows":76,"n_cols":11,"rows_kept":76,"cut":false,"hidden":true,"merged":[[4,3,5,9],[11,2,11,9],[12,2,12,3],[12,4,13,4],[12,5,13,5],[12,6,13,6],[12,7,13,7],[12,8,13,8],[12,9,13,9]]}
[]
[null,null,null,"FEDERATION FRANCAISE DE TENNIS DE TABLE",null,null,null,null,null,{"$f":"'Récap NF ORGA'!K2","v":"Saison 2025/2026"}]
[null,null,null,"3, rue Dieudonné Costes - BP40348   75625 PARIS CEDEX 13",null,null,null,null,null,"ARB. 2.5.1"]
[]
[null,null,null,"RECAPITULATIF D'INDEMNITES D'ARBITRAGE"]
[]
[]
[null,"Epreuve :",{"$f":"Comp","v":0},null,null,null,null,"Date :",{"$f":"'Récap NF ORGA'!J8","v":""}]
[]
[null,null,null,null,null,null,null,"Lieu :",{"$f":"Lieu","v":0}]
[]
[null,null,"INDEMNITES"]
[null,"Nom - Prénom","Déplacements",null,"Péage","Repas","Hotel","Prestation","Autres","TOTAL","Signature"]
[null,null,"Voiture","SNCF"]
[{"$f":"IF(B15<\"A\",\"\",VLOOKUP(B15,Base_arb_NF,7,FALSE))","v":""},{"$f":"'Récap NF ORGA'!B15","v":0},null,null,null,null,null,{"$f":"'Récap NF ORGA'!H15","v":""},null,{"$f":"SUM(C15:I15)","v":0}]
["",{"$f":"'Récap NF ORGA'!B16","v":0},null,null,null,null,null,{"$f":"'Récap NF ORGA'!H16","v":""},null,{"$f":"SUM(C16:I16)","v":0}]
["",{"$f":"'Récap NF ORGA'!B17","v":0},null,null,null,null,null,{"$f":"'Récap NF ORGA'!H17","v":""},null,0]
["",{"$f":"'Récap NF ORGA'!B18","v":0},null,null,null,null,null,{"$f":"'Récap NF ORGA'!H18","v":""},null,{"$f":"SUM(C18:I18)","v":0}]
["",{"$f":"'Récap NF ORGA'!B19","v":0},null,null,null,null,null,{"$f":"'Récap NF ORGA'!H19","v":""},null,{"$f":"SUM(C19:I19)","v":0}]
["",{"$f":"'Récap NF ORGA'!B20","v":0},null,null,null,null,null,{"$f":"'Récap NF ORGA'!H20","v":""},null,{"$f":"SUM(C20:I20)","v":0}]
["",{"$f":"'Récap NF ORGA'!B21","v":0},null,null,null,null,null,{"$f":"'Récap NF ORGA'!H21","v":""},null,0]
["",{"$f":"'Récap NF ORGA'!B23","v":0},null,null,null,null,null,{"$f":"'Récap NF ORGA'!H23","v":""},null,0]
["",{"$f":"'Récap NF ORGA'!B24","v":0},null,null,null,null,null,{"$f":"'Récap NF ORGA'!H24","v":""},null,0]
["",{"$f":"'Récap NF ORGA'!B25","v":0},null,null,null,null,null,{"$f":"'Récap NF ORGA'!H25","v":""},null,0]
["",{"$f":"'Récap NF ORGA'!B26","v":0},null,null,null,null,null,{"$f":"'Récap NF ORGA'!H26","v":""},null,0]
["",{"$f":"'Récap NF ORGA'!B28","v":0},null,null,null,null,null,{"$f":"'Récap NF ORGA'!H28","v":""},null,0]
["",{"$f":"'Récap NF ORGA'!B29","v":0},null,null,null,null,null,{"$f":"'Récap NF ORGA'!H29","v":""},null,0]
["",{"$f":"'Récap NF ORGA'!B30","v":0},null,null,null,null,null,{"$f":"'Récap NF ORGA'!H30","v":""},null,0]
["",{"$f":"'Récap NF ORGA'!B31","v":0},null,null,null,null,null,{"$f":"'Récap NF ORGA'!H31","v":""},null,0]
["",{"$f":"'Récap NF ORGA'!B32","v":0},null,null,null,null,null,{"$f":"'Récap NF ORGA'!H32","v":""},null,0]
["",{"$f":"'Récap NF ORGA'!B33","v":0},null,null,null,null,null,{"$f":"'Récap NF ORGA'!H33","v":""},null,0]
["",{"$f":"'Récap NF ORGA'!B34","v":0},null,null,null,null,null,{"$f":"'Récap NF ORGA'!H34","v":""},null,0]
["",{"$f":"'Récap NF ORGA'!B35","v":0},null,null,null,null,null,{"$f":"'Récap NF ORGA'!H35","v":""},null,0]
["",{"$f":"'Récap NF ORGA'!B36","v":0},null,null,null,null,null,{"$f":"'Récap NF ORGA'!H36","v":""},null,0]
["",{"$f":"'Récap NF ORGA'!B37","v":0},null,null,null,null,null,{"$f":"'Récap NF ORGA'!H37","v":""},null,0]
["",{"$f":"'Récap NF ORGA'!B38","v":0},null,null,null,null,null,{"$f":"'Récap NF ORGA'!H38","v":""},null,0]
["",{"$f":"'Récap NF ORGA'!B39","v":0},null,null,null,null,null,{"$f":"'Récap NF ORGA'!H39","v":""},null,0]
["",{"$f":"'Récap NF ORGA'!B40","v":0},null,null,null,null,null,{"$f":"'Récap NF ORGA'!H40","v":""},null,0]
["",{"$f":"'Récap NF ORGA'!B41","v":0},null,null,null,null,null,{"$f":"'Récap NF ORGA'!H41","v":""},null,0]
["",{"$f":"'Récap NF ORGA'!B42","v":0},null,null,null,null,null,{"$f":"'Récap NF ORGA'!H42","v":""},null,0]
["",{"$f":"'Récap NF ORGA'!B43","v":0},null,null,null,null,null,{"$f":"'Récap NF ORGA'!H43","v":""},null,0]
["",{"$f":"'Récap NF ORGA'!B44","v":0},null,null,null,null,null,{"$f":"'Récap NF ORGA'!H44","v":""},null,0]
["",{"$f":"'Récap NF ORGA'!B45","v":0},null,null,null,null,null,{"$f":"'Récap NF ORGA'!H45","v":""},null,0]
["",{"$f":"'Récap NF ORGA'!B46","v":0},null,null,null,null,null,{"$f":"'Récap NF ORGA'!H46","v":""},null,0]
["",{"$f":"'Récap NF ORGA'!B47","v":0},null,null,null,null,null,{"$f":"'Récap NF ORGA'!H47","v":""},null,0]
["",{"$f":"'Récap NF ORGA'!B48","v":0},null,null,null,null,null,{"$f":"'Récap NF ORGA'!H48","v":""},null,0]
["",{"$f":"'Récap NF ORGA'!B49","v":0},null,null,null,null,null,{"$f":"'Récap NF ORGA'!H49","v":""},null,0]
["",{"$f":"'Récap NF ORGA'!B50","v":0},null,null,null,null,null,{"$f":"'Récap NF ORGA'!H50","v":""},null,0]
["",{"$f":"'Récap NF ORGA'!B51","v":0},null,null,null,null,null,{"$f":"'Récap NF ORGA'!H51","v":""},null,0]
[{"$f":"IF(B50<\"A\",\"\",VLOOKUP(B50,Base_arb_NF,7,FALSE))","v":""},{"$f":"'Récap NF ORGA'!B52","v":0},null,null,null,null,null,{"$f":"'Récap NF ORGA'!H52","v":""},null,{"$f":"SUM(C50:I50)","v":0}]
["",{"$f":"'Récap NF ORGA'!B53","v":0},null,null,null,null,null,{"$f":"'Récap NF ORGA'!H53","v":""},null,0]
["",{"$f":"'Récap NF ORGA'!B54","v":0},null,null,null,null,null,{"$f":"'Récap NF ORGA'!H54","v":""},null,0]
["",{"$f":"'Récap NF ORGA'!B55","v":0},null,null,null,null,null,{"$f":"'Récap NF ORGA'!H55","v":""},null,0]
["",{"$f":"'Récap NF ORGA'!B56","v":0},null,null,null,null,null,{"$f":"'Récap NF ORGA'!H56","v":""},null,0]
["",{"$f":"'Récap NF ORGA'!B57","v":0},null,null,null,null,null,{"$f":"'Récap NF ORGA'!H57","v":""},null,0]
["",{"$f":"'Récap NF ORGA'!B58","v":0},null,null,null,null,null,{"$f":"'Récap NF ORGA'!H58","v":""},null,0]
["",{"$f":"'Récap NF ORGA'!B59","v":0},null,null,null,null,null,{"$f":"'Récap NF ORGA'!H59","v":""},null,0]
["",{"$f":"'Récap NF ORGA'!B60","v":0},null,null,null,null,null,{"$f":"'Récap NF ORGA'!H60","v":""},null,0]
["",{"$f":"'Récap NF ORGA'!B61","v":0},null,null,null,null,null,{"$f":"'Récap NF ORGA'!H61","v":""},null,0]
["",{"$f":"'Récap NF ORGA'!B62","v":0},null,null,null,null,null,{"$f":"'Récap NF ORGA'!H62","v":""},null,0]
["",{"$f":"'Récap NF ORGA'!B63","v":0},null,null,null,null,null,{"$f":"'Récap NF ORGA'!H63","v":""},null,0]
["",{"$f":"'Récap NF ORGA'!B64","v":0},null,null,null,null,null,{"$f":"'Récap NF ORGA'!H64","v":""},null,0]
["",{"$f":"'Récap NF ORGA'!B65","v":0},null,null,null,null,null,{"$f":"'Récap NF ORGA'!H65","v":""},null,0]
["",{"$f":"'Récap NF ORGA'!B66","v":0},null,null,null,null,null,{"$f":"'Récap NF ORGA'!H66","v":""},null,0]
["",{"$f":"'Récap NF ORGA'!B67","v":0},null,null,null,null,null,{"$f":"'Récap NF ORGA'!H67","v":""},null,0]
["",{"$f":"'Récap NF ORGA'!B68","v":0},null,null,null,null,null,{"$f":"'Récap NF ORGA'!H68","v":""},null,0]
["",{"$f":"'Récap NF ORGA'!B69","v":0},null,null,null,null,null,{"$f":"'Récap NF ORGA'!H69","v":""},null,0]
["",{"$f":"'Récap NF ORGA'!B70","v":0},null,null,null,null,null,{"$f":"'Récap NF ORGA'!H70","v":""},null,0]
["",{"$f":"'Récap NF ORGA'!B71","v":0},null,null,null,null,null,{"$f":"'Récap NF ORGA'!H71","v":""},null,0]
["",{"$f":"'Récap NF ORGA'!B72","v":0},null,null,null,null,null,{"$f":"'Récap NF ORGA'!H72","v":""},null,0]
["",{"$f":"'Récap NF ORGA'!B73","v":0},null,null,null,null,null,{"$f":"'Récap NF ORGA'!H73","v":""},null,0]
["",{"$f":"'Récap NF ORGA'!B74","v":0},null,null,null,null,null,{"$f":"'Récap NF ORGA'!H74","v":""},null,0]
[{"$f":"IF(B73<\"A\",\"\",VLOOKUP(B73,Base_arb_NF,7,FALSE))","v":""},{"$f":"'Récap NF ORGA'!B75","v":0},null,null,null,null,null,{"$f":"'Récap NF ORGA'!H75","v":""},null,{"$f":"SUM(C73:I73)","v":0}]
[{"$f":"IF(B74<\"A\",\"\",VLOOKUP(B74,Base_arb_NF,7,FALSE))","v":""},{"$f":"'Récap NF ORGA'!B76","v":0},null,null,null,null,null,{"$f":"'Récap NF ORGA'!H76","v":""},null,{"$f":"SUM(C74:I74)","v":0}]
[{"$f":"IF(B75<\"A\",\"\",VLOOKUP(B75,Base_arb_NF,7,FALSE))","v":""},{"$f":"'Récap NF ORGA'!B77","v":0},null,null,null,null,null,{"$f":"'Récap NF ORGA'!H77","v":""},null,{"$f":"SUM(C75:I75)","v":0}]
["",null,null,null,null,null,null,"TOTAL",null,{"$f":"SUM(J15:J75)","v":0}]

{"sheet":"Prépa_Equipes","index":16,"n_rows":73,"n_cols":12,"rows_kept":73,"cut":false,"hidden":true,"merged":[[0,0,0,3],[0,5,0,8]]}
[null,null,null,null,null,null,null,null,null,{"$f":"IF(L2>0,L2,COUNTIF(Arbitres!A4:'Arbitres'!A75,\">0\"))","v":0},null,"Saisie Manuelle Nbre Arbitres"]
[{"$f":"IF(Nbre_EQ_Prépa>=C2,C2,\"\")","v":1},"A1",1,"A1",null,{"$f":"IF(Nbre_arb_alphaNum>=H2,H2,\"\")","v":""},{"$f":"IF(F2=\"\",\"\",I2)","v":""},1,"A1","A1",{"$f":"IF(F2=\"\",\"\",J2)","v":""}]
[2,{"$f":"IF(A3=\"\",\"\",D3)","v":"B1"},2,"B1",null,"",{"$f":"IF(F3=\"\",\"\",I3)","v":""},2,"A2","A2",{"$f":"IF(F3=\"\",\"\",J3)","v":""}]
[3,"C1",3,"C1",null,"","",3,"A3","A3",""]
[4,"D1",4,"D1",null,"","",4,"A4","A4",""]
[5,"E1",5,"E1",null,"","",5,"A5","B1",""]
[6,"F1",6,"F1",null,"","",6,"A6","B2",""]
[7,"G1",7,"G1",null,"","",7,"B1","B3",""]
[8,"H1",8,"H1",null,"","",8,"B2","B4",""]
[9,"I1",9,"I1",null,"","",9,"B3","C1",""]
[10,"J1",10,"J1",null,"","",10,"B4","C2",""]
[11,"K1",11,"K1",null,"","",11,"B5","C3",""]
[12,"L1",12,"L1",null,"","",12,"B6","C4",""]
[13,"M1",13,"M1",null,"","",13,"C1","D1",""]
[14,"N1",14,"N1",null,"","",14,"C2","D2",""]
[15,"O1",15,"O1",null,"","",15,"C3","D3",""]
[16,"P1",16,"P1",null,"","",16,"C4","D4",""]
["","",17,"Q1",null,"","",17,"C5","E1",""]
["","",18,"R1",null,"","",18,"C6","E2",""]
["","",19,"S1",null,"","",19,"D1","E3",""]
["","",20,"T1",null,"","",20,"D2","E4",""]
["","",21,"U1",null,"","",21,"D3","F1",""]
["","",22,"V1",null,"","",22,"D4","F2",""]
["","",23,"W1",null,"","",23,"D5","F3",""]
["","",24,"X1",null,"","",24,"D6","F4",""]
[null,null,null,null,null,"","",25,"E1","G1",""]
[null,null,null,null,null,"","",26,"E2","G2",""]
[null,null,null,null,null,"","",27,"E3","G3",""]
[null,null,null,null,null,"","",28,"E4","G4",""]
[null,null,null,null,null,"","",29,"E5","H1",""]
[null,null,null,null,null,"","",30,"E6","H2",""]
[null,null,null,null,null,"","",31,"F1","H3",""]
[null,null,null,null,null,"","",32,"F2","H4",""]
[null,null,null,null,null,{"$f":"IF(Nbre_arb_alphaNum>=H34,H34,\"\")","v":""},"",33,"F3","I1",""]
[null,null,null,null,null,"","",34,"F4","I2",""]
[null,null,null,null,null,"","",35,"F5","I3",""]
[null,null,null,null,null,"","",36,"F6","I4",""]
[null,null,null,null,null,"","",37,"G1","J1",""]
[null,null,null,null,null,"","",38,"G2","J2",""]
[null,null,null,null,null,"","",39,"G3","J3",""]
[null,null,null,null,null,"","",40,"G4","J4",""]
[null,null,null,null,null,"","",41,"G5","K1",""]
[null,null,null,null,null,"","",42,"G6","K2",""]
[null,null,null,null,null,"","",43,"H1","K3",""]
[null,null,null,null,null,"","",44,"H2","K4",""]
[null,null,null,null,null,"","",45,"H3","L1",""]
[null,null,null,null,null,"","",46,"H4","L2",""]
[null,null,null,null,null,"","",47,"H5","L3",""]
[null,null,null,null,null,"","",48,"H6","L4",""]
[null,null,null,null,null,"","",49,"I1","M1",""]
[null,null,null,null,null,"","",50,"I2","M2",""]
[null,null,null,null,null,"","",51,"I3","M3",""]
[null,null,null,null,null,"","",52,"I4","M4",""]
[null,null,null,null,null,"","",53,"I5","N1",""]
[null,null,null,null,null,"","",54,"I6","N2",""]
[null,null,null,null,null,"","",55,"I7","N3",""]
[null,null,null,null,null,"","",56,"J1","N4",""]
[null,null,null,null,null,"","",57,"J2","O1",""]
[null,null,null,null,null,"","",58,"J3","O2",""]
[null,null,null,null,null,"","",59,"J4","O3",""]
[null,null,null,null,null,"","",60,"J5","O4",""]
[null,null,null,null,null,"","",61,"J6","P1",""]
[null,null,null,null,null,"","",62,"K1","P2",""]
[null,null,null,null,null,"","",63,"K2","P3",""]
[null,null,null,null,null,"","",64,"K3","P4",""]
[null,null,null,null,null,{"$f":"IF(Nbre_arb_alphaNum>=H66,H66,\"\")","v":""},"",65,"K4","Q1",""]
[null,null,null,null,null,"",{"$f":"IF(F67=\"\",\"\",I67)","v":""},66,"K5","Q2",{"$f":"IF(F67=\"\",\"\",J67)","v":""}]
[null,null,null,null,null,"","",67,"K6","Q3",""]
[null,null,null,null,null,"","",68,"L1","Q4",""]
[null,null,null,null,null,"","",69,"L2","R1",""]
[null,null,null,null,null,"","",70,"L3","R2",""]
[null,null,null,null,null,"","",71,"L4","R3",""]
[null,null,null,null,null,"","",72,"L5","R4",""]