{"text_format":"1","workbook":"xlsx","n_sheets":38,"sheets":["Export SPIDD","Sommaire","NFRINT","TS-200","TS-201b","TS-201c","TS-208a","G-208a","TS-216a","G-216a","TS-216c","G-216c","TS-216d","G-216d","TS-216e","G-216e","TS-232a","G-232a","TS-232c","G-232c","TS-232e","G-232e","TS-232f","G-232f","TS-264a","G-264a","TS-264c","G-264c","TS-264f","G-264f","TS-296a","G-296a","TS-296c","G-296c","TS-016c","TS-032c","TS-064c","TS-128c"],"not_rendered":{"charts":0,"images":1,"macros":1,"external_links":7,"defined_names":271,"comments":3,"pivot_tables":16},"unopened":[],"bounds":{"document_bytes":16777216,"sheet_cells":100000,"rows_first":2000,"rows_last":500,"rows_between":2000,"halvings":0,"cell_chars":16384,"cell_head_chars":4096},"cells_cut":0,"cells_raw":0,"read":"whole","date_system":"1900"}

{"sheet":"Export SPIDD","index":0,"n_rows":151,"n_cols":12,"rows_kept":151,"cut":false,"hidden":false,"merged":[]}
["Poule","Place","Dossard","Nom","Prenom","Nb Point","Club",null,"N","Dossard","Nom Prénom","Club"]
["1",1,44,"LUCAS","Ifig",1007,"EQUEURDREVILLE",null,{"$f":"A2&B2","v":"11"},{"$f":"C2","v":44},{"$f":"D2&\" \"&E2","v":"LUCAS Ifig"},{"$f":"G2","v":"EQUEURDREVILLE"}]
["2",1,50,"VIDAL","Charles",736,"ASSUN TT",null,"21",50,"VIDAL Charles","ASSUN TT"]
["3",1,49,"ROBION","Paul",764,"SIOUVILLE ATTLC",null,"31",49,"ROBION Paul","SIOUVILLE ATTLC"]
["4",1,47,"LEVILLAIN","Camille",783,"ST PAIR BRICQUE",null,"41",47,"LEVILLAIN Camille","ST PAIR BRICQUE"]
["5",1,52,"COUEDEL-COULON","Eloan",689,"TT SAINT JAMES",null,"51",52,"COUEDEL-COULON Eloan","TT SAINT JAMES"]
["6",1,45,"LECLERC","Alexandre-Bao",886,"OC AGNEAUX",null,"61",45,"LECLERC Alexandre-Bao","OC AGNEAUX"]
["7",1,46,"NICOLLE","Augustin",862,"COUTANCES JA",null,"71",46,"NICOLLE Augustin","COUTANCES JA"]
["8",1,48,"NICOLLE","Emile",764,"COUTANCES JA",null,"81",48,"NICOLLE Emile","COUTANCES JA"]
["9",1,51,"RIPOCHE","Nathan",734,"ST PAIR BRICQUE",null,"91",51,"RIPOCHE Nathan","ST PAIR BRICQUE"]
["10",1,58,"PEIN","Edgar",602,"ST PAIR BRICQUE",null,"101",58,"PEIN Edgar","ST PAIR BRICQUE"]
["11",1,54,"RICOUX","Bastien",673,"ATTDUCEYAVRANCH",null,"111",54,"RICOUX Bastien","ATTDUCEYAVRANCH"]
["12",1,55,"ROC","Ferdinand",658,"ATTDUCEYAVRANCH",null,"121",55,"ROC Ferdinand","ATTDUCEYAVRANCH"]
["13",1,57,"RIGOT","Noe",619,"CARANTILLAISE",null,"131",57,"RIGOT Noe","CARANTILLAISE"]
["14",1,53,"MASSELINE","Malo",673,"TORIGNAISE ESTT",null,"141",53,"MASSELINE Malo","TORIGNAISE ESTT"]
["15",1,59,"BRILLET","Pacome",594,"TT SAINT JAMES",null,"151",59,"BRILLET Pacome","TT SAINT JAMES"]
["16",1,56,"VARIN","Louis",639,"TORIGNAISE ESTT",null,"161",56,"VARIN Louis","TORIGNAISE ESTT"]
["17",1,121,"LUCAS","Ifig",1007,"EQUEURDREVILLE",null,"171",121,"LUCAS Ifig","EQUEURDREVILLE"]
["18",1,122,"VIDAL","Charles",736,"ASSUN TT",null,"181",122,"VIDAL Charles","ASSUN TT"]
["19",1,123,"ROBION","Paul",764,"SIOUVILLE ATTLC",null,"191",123,"ROBION Paul","SIOUVILLE ATTLC"]
["20",1,124,"LEVILLAIN","Camille",783,"ST PAIR BRICQUE",null,"201",124,"LEVILLAIN Camille","ST PAIR BRICQUE"]
["21",1,125,"COUEDEL-COULON","Eloan",689,"TT SAINT JAMES",null,"211",125,"COUEDEL-COULON Eloan","TT SAINT JAMES"]
["22",1,126,"LECLERC","Alexandre-Bao",886,"OC AGNEAUX",null,"221",126,"LECLERC Alexandre-Bao","OC AGNEAUX"]
["23",1,127,"NICOLLE","Augustin",862,"COUTANCES JA",null,"231",127,"NICOLLE Augustin","COUTANCES JA"]
["24",1,128,"NICOLLE","Emile",764,"COUTANCES JA",null,"241",128,"NICOLLE Emile","COUTANCES JA"]
["25",1,129,"RIPOCHE","Nathan",734,"ST PAIR BRICQUE",null,"251",129,"RIPOCHE Nathan","ST PAIR BRICQUE"]
["26",1,130,"PEIN","Edgar",602,"ST PAIR BRICQUE",null,"261",130,"PEIN Edgar","ST PAIR BRICQUE"]
["27",1,131,"RICOUX","Bastien",673,"ATTDUCEYAVRANCH",null,"271",131,"RICOUX Bastien","ATTDUCEYAVRANCH"]
["28",1,132,"ROC","Ferdinand",658,"ATTDUCEYAVRANCH",null,"281",132,"ROC Ferdinand","ATTDUCEYAVRANCH"]
["29",1,133,"RIGOT","Noe",619,"CARANTILLAISE",null,"291",133,"RIGOT Noe","CARANTILLAISE"]
["30",1,134,"MASSELINE","Malo",673,"TORIGNAISE ESTT",null,"301",134,"MASSELINE Malo","TORIGNAISE ESTT"]
["31",1,135,"BRILLET","Pacome",594,"TT SAINT JAMES",null,"311",135,"BRILLET Pacome","TT SAINT JAMES"]
["32",1,136,"VARIN","Louis",639,"TORIGNAISE ESTT",null,"321",136,"VARIN Louis","TORIGNAISE ESTT"]
["1",2,201,"LUCAS","Ifig",1007,"EQUEURDREVILLE",null,"12",201,"LUCAS Ifig","EQUEURDREVILLE"]
["2",2,202,"VIDAL","Charles",736,"ASSUN TT",null,"22",202,"VIDAL Charles","ASSUN TT"]
["3",2,203,"ROBION","Paul",764,"SIOUVILLE ATTLC",null,"32",203,"ROBION Paul","SIOUVILLE ATTLC"]
["4",2,204,"LEVILLAIN","Camille",783,"ST PAIR BRICQUE",null,"42",204,"LEVILLAIN Camille","ST PAIR BRICQUE"]
["5",2,205,"COUEDEL-COULON","Eloan",689,"TT SAINT JAMES",null,"52",205,"COUEDEL-COULON Eloan","TT SAINT JAMES"]
["6",2,206,"LECLERC","Alexandre-Bao",886,"OC AGNEAUX",null,"62",206,"LECLERC Alexandre-Bao","OC AGNEAUX"]
["7",2,207,"NICOLLE","Augustin",862,"COUTANCES JA",null,"72",207,"NICOLLE Augustin","COUTANCES JA"]
["8",2,208,"NICOLLE","Emile",764,"COUTANCES JA",null,"82",208,"NICOLLE Emile","COUTANCES JA"]
["9",2,209,"RIPOCHE","Nathan",734,"ST PAIR BRICQUE",null,"92",209,"RIPOCHE Nathan","ST PAIR BRICQUE"]
["10",2,210,"PEIN","Edgar",602,"ST PAIR BRICQUE",null,"102",210,"PEIN Edgar","ST PAIR BRICQUE"]
["11",2,211,"RICOUX","Bastien",673,"ATTDUCEYAVRANCH",null,"112",211,"RICOUX Bastien","ATTDUCEYAVRANCH"]
["12",2,212,"ROC","Ferdinand",658,"ATTDUCEYAVRANCH",null,"122",212,"ROC Ferdinand","ATTDUCEYAVRANCH"]
["13",2,213,"RIGOT","Noe",619,"CARANTILLAISE",null,"132",213,"RIGOT Noe","CARANTILLAISE"]
["14",2,214,"MASSELINE","Malo",673,"TORIGNAISE ESTT",null,"142",214,"MASSELINE Malo","TORIGNAISE ESTT"]
["15",2,215,"BRILLET","Pacome",594,"TT SAINT JAMES",null,"152",215,"BRILLET Pacome","TT SAINT JAMES"]
["16",2,216,"VARIN","Louis",639,"TORIGNAISE ESTT",null,{"$f":"A49&B49","v":"162"},{"$f":"C49","v":216},{"$f":"D49&\" \"&E49","v":"VARIN Louis"},{"$f":"G49","v":"TORIGNAISE ESTT"}]
["17",2,217,"LUCAS","Ifig",1007,"EQUEURDREVILLE",null,"172",217,"LUCAS Ifig","EQUEURDREVILLE"]
["18",2,218,"VIDAL","Charles",736,"ASSUN TT",null,"182",218,"VIDAL Charles","ASSUN TT"]
["19",2,219,"ROBION","Paul",764,"SIOUVILLE ATTLC",null,"192",219,"ROBION Paul","SIOUVILLE ATTLC"]
["20",2,220,"LEVILLAIN","Camille",783,"ST PAIR BRICQUE",null,"202",220,"LEVILLAIN Camille","ST PAIR BRICQUE"]
["21",2,221,"COUEDEL-COULON","Eloan",689,"TT SAINT JAMES",null,"212",221,"COUEDEL-COULON Eloan","TT SAINT JAMES"]
["22",2,222,"LECLERC","Alexandre-Bao",886,"OC AGNEAUX",null,"222",222,"LECLERC Alexandre-Bao","OC AGNEAUX"]
["23",2,223,"NICOLLE","Augustin",862,"COUTANCES JA",null,"232",223,"NICOLLE Augustin","COUTANCES JA"]
["24",2,224,"NICOLLE","Emile",764,"COUTANCES JA",null,"242",224,"NICOLLE Emile","COUTANCES JA"]
["25",2,225,"RIPOCHE","Nathan",734,"ST PAIR BRICQUE",null,"252",225,"RIPOCHE Nathan","ST PAIR BRICQUE"]
["26",2,226,"PEIN","Edgar",602,"ST PAIR BRICQUE",null,"262",226,"PEIN Edgar","ST PAIR BRICQUE"]
["27",2,227,"RICOUX","Bastien",673,"ATTDUCEYAVRANCH",null,"272",227,"RICOUX Bastien","ATTDUCEYAVRANCH"]
["28",2,228,"ROC","Ferdinand",658,"ATTDUCEYAVRANCH",null,"282",228,"ROC Ferdinand","ATTDUCEYAVRANCH"]
["29",2,229,"RIGOT","Noe",619,"CARANTILLAISE",null,"292",229,"RIGOT Noe","CARANTILLAISE"]
["30",2,230,"MASSELINE","Malo",673,"TORIGNAISE ESTT",null,"302",230,"MASSELINE Malo","TORIGNAISE ESTT"]
["31",2,231,"BRILLET","Pacome",594,"TT SAINT JAMES",null,"312",231,"BRILLET Pacome","TT SAINT JAMES"]
["32",2,232,"VARIN","Louis",639,"TORIGNAISE ESTT",null,"322",232,"VARIN Louis","TORIGNAISE ESTT"]
["1",3,301,"LUCAS","Ifig",1007,"EQUEURDREVILLE",null,"13",301,"LUCAS Ifig","EQUEURDREVILLE"]
["2",3,302,"VIDAL","Charles",736,"ASSUN TT",null,"23",302,"VIDAL Charles","ASSUN TT"]
["3",3,303,"ROBION","Paul",764,"SIOUVILLE ATTLC",null,"33",303,"ROBION Paul","SIOUVILLE ATTLC"]
["4",3,304,"LEVILLAIN","Camille",783,"ST PAIR BRICQUE",null,"43",304,"LEVILLAIN Camille","ST PAIR BRICQUE"]
["5",3,305,"COUEDEL-COULON","Eloan",689,"TT SAINT JAMES",null,"53",305,"COUEDEL-COULON Eloan","TT SAINT JAMES"]
["6",3,306,"LECLERC","Alexandre-Bao",886,"OC AGNEAUX",null,"63",306,"LECLERC Alexandre-Bao","OC AGNEAUX"]
["7",3,307,"NICOLLE","Augustin",862,"COUTANCES JA",null,"73",307,"NICOLLE Augustin","COUTANCES JA"]
["8",3,308,"NICOLLE","Emile",764,"COUTANCES JA",null,"83",308,"NICOLLE Emile","COUTANCES JA"]
["9",3,309,"RIPOCHE","Nathan",734,"ST PAIR BRICQUE",null,"93",309,"RIPOCHE Nathan","ST PAIR BRICQUE"]
["10",3,310,"PEIN","Edgar",602,"ST PAIR BRICQUE",null,"103",310,"PEIN Edgar","ST PAIR BRICQUE"]
["11",3,311,"RICOUX","Bastien",673,"ATTDUCEYAVRANCH",null,"113",311,"RICOUX Bastien","ATTDUCEYAVRANCH"]
["12",3,312,"ROC","Ferdinand",658,"ATTDUCEYAVRANCH",null,"123",312,"ROC Ferdinand","ATTDUCEYAVRANCH"]
["13",3,313,"RIGOT","Noe",619,"CARANTILLAISE",null,"133",313,"RIGOT Noe","CARANTILLAISE"]
["14",3,314,"MASSELINE","Malo",673,"TORIGNAISE ESTT",null,"143",314,"MASSELINE Malo","TORIGNAISE ESTT"]
["15",3,315,"BRILLET","Pacome",594,"TT SAINT JAMES",null,"153",315,"BRILLET Pacome","TT SAINT JAMES"]
["16",3,316,"VARIN","Louis",639,"TORIGNAISE ESTT",null,"163",316,"VARIN Louis","TORIGNAISE ESTT"]
["17",3,317,"LUCAS","Ifig",1007,"EQUEURDREVILLE",null,"173",317,"LUCAS Ifig","EQUEURDREVILLE"]
["18",3,318,"VIDAL","Charles",736,"ASSUN TT",null,"183",318,"VIDAL Charles","ASSUN TT"]
["19",3,319,"ROBION","Paul",764,"SIOUVILLE ATTLC",null,"193",319,"ROBION Paul","SIOUVILLE ATTLC"]
["20",3,320,"LEVILLAIN","Camille",783,"ST PAIR BRICQUE",null,"203",320,"LEVILLAIN Camille","ST PAIR BRICQUE"]
["21",3,321,"COUEDEL-COULON","Eloan",689,"TT SAINT JAMES",null,"213",321,"COUEDEL-COULON Eloan","TT SAINT JAMES"]
["22",3,322,"LECLERC","Alexandre-Bao",886,"OC AGNEAUX",null,"223",322,"LECLERC Alexandre-Bao","OC AGNEAUX"]
["23",3,323,"NICOLLE","Augustin",862,"COUTANCES JA",null,"233",323,"NICOLLE Augustin","COUTANCES JA"]
["24",3,324,"NICOLLE","Emile",764,"COUTANCES JA",null,"243",324,"NICOLLE Emile","COUTANCES JA"]
["25",3,325,"RIPOCHE","Nathan",734,"ST PAIR BRICQUE",null,"253",325,"RIPOCHE Nathan","ST PAIR BRICQUE"]
["26",3,326,"PEIN","Edgar",602,"ST PAIR BRICQUE",null,"263",326,"PEIN Edgar","ST PAIR BRICQUE"]
["27",3,327,"RICOUX","Bastien",673,"ATTDUCEYAVRANCH",null,"273",327,"RICOUX Bastien","ATTDUCEYAVRANCH"]
["28",3,328,"ROC","Ferdinand",658,"ATTDUCEYAVRANCH",null,"283",328,"ROC Ferdinand","ATTDUCEYAVRANCH"]
["29",3,329,"RIGOT","Noe",619,"CARANTILLAISE",null,"293",329,"RIGOT Noe","CARANTILLAISE"]
["30",3,330,"MASSELINE","Malo",673,"TORIGNAISE ESTT",null,"303",330,"MASSELINE Malo","TORIGNAISE ESTT"]
["31",3,331,"BRILLET","Pacome",594,"TT SAINT JAMES",null,"313",331,"BRILLET Pacome","TT SAINT JAMES"]
["32",3,332,"VARIN","Louis",639,"TORIGNAISE ESTT",null,"323",332,"VARIN Louis","TORIGNAISE ESTT"]
[null,null,null,null,null,null,null,null,"",0," ",0]
[null,null,null,null,null,null,null,null,"",0," ",0]
[null,null,null,null,null,null,null,null,"",0," ",0]
[null,null,null,null,null,null,null,null,"",0," ",0]
[null,null,null,null,null,null,null,null,"",0," ",0]
[null,null,null,null,null,null,null,null,"",0," ",0]
[null,null,null,null,null,null,null,null,"",0," ",0]
[null,null,null,null,null,null,null,null,"",0," ",0]
[null,null,null,null,null,null,null,null,"",0," ",0]
[null,null,null,null,null,null,null,null,"",0," ",0]
[null,null,null,null,null,null,null,null,"",0," ",0]
[null,null,null,null,null,null,null,null,"",0," ",0]
[null,null,null,null,null,null,null,null,"",0," ",0]
[null,null,null,null,null,null,null,null,"",0," ",0]
[null,null,null,null,null,null,null,null,"",0," ",0]
[null,null,null,null,null,null,null,null,{"$f":"A113&B113","v":""},{"$f":"C113","v":0},{"$f":"D113&\" \"&E113","v":" "},{"$f":"G113","v":0}]
[null,null,null,null,null,null,null,null,"",0," ",0]
[null,null,null,null,null,null,null,null,"",0," ",0]
[null,null,null,null,null,null,null,null,"",0," ",0]
[null,null,null,null,null,null,null,null,"",0," ",0]
[null,null,null,null,null,null,null,null,"",0," ",0]
[null,null,null,null,null,null,null,null,"",0," ",0]
[null,null,null,null,null,null,null,null,"",0," ",0]
[null,null,null,null,null,null,null,null,"",0," ",0]
[null,null,null,null,null,null,null,null,"",0," ",0]
[null,null,null,null,null,null,null,null,"",0," ",0]
[null,null,null,null,null,null,null,null,"",0," ",0]
[null,null,null,null,null,null,null,null,"",0," ",0]
[null,null,null,null,null,null,null,null,"",0," ",0]
[null,null,null,null,null,null,null,null,"",0," ",0]
[null,null,null,null,null,null,null,null,"",0," ",0]
[null,null,null,null,null,null,null,null,"",0," ",0]
[null,null,null,null,null,null,null,null,"",0," ",0]
[null,null,null,null,null,null,null,null,"",0," ",0]
[null,null,null,null,null,null,null,null,"",0," ",0]
[null,null,null,null,null,null,null,null,"",0," ",0]
[null,null,null,null,null,null,null,null,"",0," ",0]
[null,null,null,null,null,null,null,null,"",0," ",0]
[null,null,null,null,null,null,null,null,"",0," ",0]
[null,null,null,null,null,null,null,null,"",0," ",0]
[null,null,null,null,null,null,null,null,"",0," ",0]
[null,null,null,null,null,null,null,null,"",0," ",0]
[null,null,null,null,null,null,null,null,"",0," ",0]
[null,null,null,null,null,null,null,null,"",0," ",0]
[null,null,null,null,null,null,null,null,"",0," ",0]
[null,null,null,null,null,null,null,null,"",0," ",0]
[null,null,null,null,null,null,null,null,"",0," ",0]
[null,null,null,null,null,null,null,null,"",0," ",0]
[null,null,null,null,null,null,null,null,"",0," ",0]
[null,null,null,null,null,null,null,null,"",0," ",0]
[null,null,null,null,null,null,null,null,"",0," ",0]
[null,null,null,null,null,null,null,null,"",0," ",0]
[null,null,null,null,null,null,null,null,"",0," ",0]
[null,null,null,null,null,null,null,null,"",0," ",0]

{"sheet":"Sommaire","index":1,"n_rows":46,"n_cols":6,"rows_kept":46,"cut":false,"hidden":false,"merged":[[45,1,45,5],[5,0,5,1],[40,1,40,5],[41,1,41,5],[42,1,42,5],[43,1,43,5]]}
[]
[null,null,null,null,null,"Mise à jour le 27 octobre 2024"]
[]
["TIRAGES AU SORT"]
[]
["Désignation",null,"Tableaux CF N1","Nom de fichier","Référence","Mise à jour"]
["n","Export de SPIDD des joueurs qualifiés à l'issue des poules pour le TED (1)",null,"Export SPIDD"]
["n","Données épreuve (2)",null,"TS-200","TS/15/200","05-2015"]
["n","Tirage au sort (3) : Tableau 8 joueurs (4 poules et 2 qualifiés)","SDA","TS-208a","TS/13/208a","09-2018"]
["n","Grille de tirage au sort (4) : Tableau 8 joueurs (4 poules et 2 qualifiés)",null,"G-208a","G/24/208e","10-2024"]
["n","Tirage au sort (3) : Tableau 16 joueurs (8 poules et 2 qualifiés)","SMA","TS-216a","TS/13/216a","09-2018"]
["n","Grille de tirage au sort (4) : Tableau 16 joueurs (8 poules et 2 qualifiés)",null,"G-216a","G/24/216a","10-2024"]
["n","Tirage au sort (3) : Tableau 16 joueurs (5 poules et 3 qualifiés)","JGA et JFA","TS-216c","TS/15/216c","09-2018"]
["n","Grille de tirage au sort (4) : Tableau 16 joueurs (5 poules et 3 qualifiés)",null,"G-216c","G/24/216c","10-2024"]
["n","Tirage au sort (3) : Tableau 16 joueurs (4 poules et 4 qualifiés)","CGA et CFA","TS-216d","TS/18/216d","09-2018"]
["n","Grille de tirage au sort (4) : Tableau 16 joueurs (4 poules et 4 qualifiés)",null,"G-216d","G/24/216d","10-2024"]
["n","Tirage au sort (3) : Tableau 16 joueurs KO (4 poules et 4 qualifiés)",null,"TS-216e","TS/19/216e","06-2019"]
["n","Grille de tirage au sort (4) : Tableau 16 joueurs KO (4 poules et 4 qualifiés)",null,"G-216e","G/24/216e","10-2024"]
["n","Tirage au sort (3) : Tableau 32 joueurs (16 poules et 2 qualifiés)","SMB et SDB","TS-232a","TS/13/232a","09-2018"]
["n","Grille de tirage au sort (4) : Tableau 32 joueurs (16 poules et 2 qualifiés)",null,"G-232a","G/24/232a","10-2024"]
["n","Tirage au sort (3) : Tableau 32 joueurs (10 poules et 3 qualifiés)","JGB et JFB incomplets","TS-232c","TS/13/232c","09-2018"]
["n","Grille de tirage au sort (4) : Tableau 32 joueurs (10 poules et 3 qualifiés)",null,"G-232c","G/24/232c","10-2024"]
["n","Tirage au sort (3) : Tableau 32 joueurs (8 poules et 4 qualifiés)","CGB et CFB incomplets","TS-232e","TS/18/232e","09-2018"]
["n","Grille de tirage au sort (4) : Tableau 32 joueurs (8 poules et 4 qualifiés)",null,"G-232e","G/24/232e","10-2024"]
["n","Tirage au sort (3) : Tableau 32 joueurs KO (8 poules et 4 qualifiés)",null,"TS-232f","TS/19/232f","06-2019"]
["n","Grille de tirage au sort (4) : Tableau 32 joueurs KO (8 poules et 4 qualifiés)",null,"G-232f","TS/24/232f","10-2024"]
["n","Tirage au sort : Tableau 64 joueurs (32 poules et 2 qualifiés)",null,"TS-264a","TS/13/264a","09-2018"]
["n","Grille de tirage au sort (4) : Tableau 64 joueurs (32 poules et 2 qualifiés)",null,"G-264a","G/24/264a","10-2024"]
["n","Tirage au sort (3) : Tableau 64 joueurs (21 poules et 3 qualifiés)","JGB et JFB","TS-264c","TS/13/264c","09-2018"]
["n","Grille de tirage au sort (4) : Tableau 64 joueurs (21 poules et 3 qualifiés)",null,"G-264c","G/24/264c","10-2024"]
["n","Tirage au sort (3) : Tableau 64 joueurs (16 poules et 4 qualifiés)","CGB et CFB","TS-264f","TS/18/264f","09-2018"]
["n","Grille de tirage au sort (4) : Tableau 64 joueurs (16 poules et 4 qualifiés)",null,"G-264f","G/24/264f","10-2024"]
["n","Tirage au sort : Tableau 96 joueurs (48 poules et 2 qualifiés)",null,"TS-296a","TS/13/296a","09-2018"]
["n","Grille de tirage au sort (4) : Tableau 96 joueurs (48 poules et 2 qualifiés)",null,"G-296a","G/24/296a","10-2024"]
["n","Tirage au sort : Tableau 96 joueurs (32 poules et 3 qualifiés)",null,"TS-296c","TS/15/296c","09-2018"]
["n","Grille de tirage au sort (4) : Tableau 96 joueurs (32 poules et 3 qualifiés)",null,"G-296c","G/24/296c","10-2024"]
["n","Tirage au sort : Tableau de préparation : 16 joueurs",null,"TS-016c","TS/15/016c","06-2019"]
["n","Tirage au sort : Tableau de préparation : 32 joueurs",null,"TS-032c","TS/15/032c","06-2019"]
["n","Tirage au sort : Tableau de préparation : 64 joueurs",null,"TS-064c","TS/15/064c","06-2019"]
["n","Tirage au sort : Tableau de préparation : 128 joueurs",null,"TS-128c","TS/15/064c","06-2019"]
[null,"(1) l'export des qualifiés à partir de la fiche de tirage au sort de SPIDD permet d'alimenter automatiquement les 1er, 2ème, 3ème et 4ème de poule."]
[null,"(2) la saisie des données de l'épreuve alimente automatiquement les différents fichiers du classeur\n     la saisie de la liste des joueurs permet dans les différents fichiers du classeur un affichage automatique des infos du joueur\n    après la saisie de son numéro de dossard"]
[null,"(3) ces fichiers peuvent être utilisés manuellement ou avec une aide informatique, notamment pour une présentation publique.\n     Pour une utilisation avec une aide informatique voir Mode opératoire mise en poules par blocs et Mode opératoire Tableaux de tirage au sort."]
[null,"Important :\nCes fichiers de tirage au sort n’effectuent pas un tirage au sort automatique. Ils sont juste une aide pour la présentation et pour certains points de placement…mais pas tous\nAu préalable le juge arbitre doit avoir préparer son tirage notamment pour les tableaux incomplets (numéros à neutraliser, équilibre du tableau, etc…).\nC’est toujours le juge arbitre qui dirige son tirage au sort et le valide. Il doit tout au long du tirage l’expliquer."]
[]
[null,"(4) la saisie du tirage au sort du tableau alimente automatiquement la grille de tirage au sort.\n     Cette grille peut être copier puis coller directement dans le pop-up de tirage au sort de SPIDD V2 en cliquant sur \"Coller tirage\".\n      Attention bien sélectionner le nombre de poules du tableau avant de copier le TAS.\n"]

{"sheet":"NFRINT","index":2,"n_rows":130,"n_cols":19,"rows_kept":130,"cut":false,"hidden":true,"merged":[]}
[]
["N° tableau","Bloc\nTAS","Ordre des valeurs",null,"N° tableau","Bloc\nTAS","Ordre des valeurs",null,"N° tableau","Bloc\nTAS","Ordre des valeurs",null,"N° tableau","Bloc\nTAS","Ordre des valeurs",null,"N° tableau","Bloc\nTAS","Ordre des valeurs"]
[1,1,1,null,1,1,1,null,1,1,1,null,1,1,1,null,1,1,1]
[2,"5=",8,null,2,"9=",16,null,2,"17=",32,null,2,"33=",64,null,{"$f":"Q3+1","v":2},"64=",128]
[3,"5=",5,null,3,"9=",9,null,3,"17=",17,null,3,"33=",33,null,{"$f":"Q4+1","v":3},"64=",65]
[4,"3=",4,null,4,"5=",8,null,4,"9=",16,null,4,"17=",32,null,4,"33=",64]
[5,"3=",3,null,5,"5=",5,null,5,"9=",9,null,5,"17=",17,null,5,"33=",33]
[6,"5=",6,null,6,"9=",12,null,6,"17=",24,null,6,"33=",48,null,6,"64=",96]
[7,"5=",7,null,7,"9=",13,null,7,"17=",25,null,7,"33=",49,null,7,"64=",97]
[8,2,2,null,8,"3=",4,null,8,"5=",8,null,8,"9=",16,null,8,"17=",32]
[null,null,null,null,9,"3=",3,null,9,"5=",5,null,9,"9=",9,null,9,"17=",17]
[null,null,null,null,10,"9=",14,null,10,"17=",28,null,10,"33=",56,null,10,"64=",112]
[null,null,null,null,11,"9=",11,null,11,"17=",21,null,11,"33=",41,null,11,"64=",81]
[null,null,null,null,12,"5=",6,null,12,"9=",12,null,12,"17=",24,null,12,"33=",48]
[null,null,null,null,13,"5=",7,null,13,"9=",13,null,13,"17=",25,null,13,"33=",49]
[null,null,null,null,14,"9=",10,null,14,"17=",20,null,14,"33=",40,null,14,"64=",80]
[null,null,null,null,15,"9=",15,null,15,"17=",29,null,15,"33=",57,null,15,"64=",113]
[null,null,null,null,16,2,2,null,16,"3=",4,null,16,"5=",8,null,16,"9=",16]
[null,null,null,null,null,null,null,null,17,"3=",3,null,17,"5=",5,null,17,"9=",9]
[null,null,null,null,null,null,null,null,18,"17=",30,null,18,"33=",60,null,18,"64=",120]
[null,null,null,null,null,null,null,null,19,"17=",19,null,19,"33=",37,null,19,"64=",73]
[null,null,null,null,null,null,null,null,20,"9=",14,null,20,"17=",28,null,20,"33=",56]
[null,null,null,null,null,null,null,null,21,"9=",11,null,21,"17=",21,null,21,"33=",41]
[null,null,null,null,null,null,null,null,22,"17=",22,null,22,"33=",44,null,22,"64=",88]
[null,null,null,null,null,null,null,null,23,"17=",27,null,23,"33=",53,null,23,"64=",105]
[null,null,null,null,null,null,null,null,24,"5=",6,null,24,"9=",12,null,24,"17=",24]
[null,null,null,null,null,null,null,null,25,"5=",7,null,25,"9=",13,null,25,"17=",25]
[null,null,null,null,null,null,null,null,26,"17=",26,null,26,"33=",52,null,26,"64=",104]
[null,null,null,null,null,null,null,null,27,"17=",23,null,27,"33=",45,null,27,"64=",89]
[null,null,null,null,null,null,null,null,28,"9=",10,null,28,"17=",20,null,28,"33=",40]
[null,null,null,null,null,null,null,null,29,"9=",15,null,29,"17=",29,null,29,"33=",57]
[null,null,null,null,null,null,null,null,30,"17=",18,null,30,"33=",36,null,30,"64=",72]
[null,null,null,null,null,null,null,null,31,"17=",31,null,31,"33=",61,null,31,"64=",121]
[null,null,null,null,null,null,null,null,32,2,2,null,32,"3=",4,null,32,"5=",8]
[null,null,null,null,null,null,null,null,null,null,null,null,33,"3=",3,null,33,"5=",5]
[null,null,null,null,null,null,null,null,null,null,null,null,34,"33=",62,null,34,"64=",124]
[null,null,null,null,null,null,null,null,null,null,null,null,35,"33=",35,null,35,"64=",69]
[null,null,null,null,null,null,null,null,null,null,null,null,36,"17=",30,null,36,"33=",60]
[null,null,null,null,null,null,null,null,null,null,null,null,37,"17=",19,null,37,"33=",37]
[null,null,null,null,null,null,null,null,null,null,null,null,38,"33=",46,null,38,"64=",92]
[null,null,null,null,null,null,null,null,null,null,null,null,39,"33=",51,null,39,"64=",101]
[null,null,null,null,null,null,null,null,null,null,null,null,40,"9=",14,null,40,"17=",28]
[null,null,null,null,null,null,null,null,null,null,null,null,41,"9=",11,null,41,"17=",21]
[null,null,null,null,null,null,null,null,null,null,null,null,42,"33=",54,null,42,"64=",108]
[null,null,null,null,null,null,null,null,null,null,null,null,43,"33=",43,null,43,"64=",85]
[null,null,null,null,null,null,null,null,null,null,null,null,44,"17=",22,null,44,"33=",44]
[null,null,null,null,null,null,null,null,null,null,null,null,45,"17=",27,null,45,"33=",53]
[null,null,null,null,null,null,null,null,null,null,null,null,46,"33=",38,null,46,"64=",76]
[null,null,null,null,null,null,null,null,null,null,null,null,47,"33=",59,null,47,"64=",117]
[null,null,null,null,null,null,null,null,null,null,null,null,48,"5=",6,null,48,"9=",12]
[null,null,null,null,null,null,null,null,null,null,null,null,49,"5=",7,null,49,"9=",13]
[null,null,null,null,null,null,null,null,null,null,null,null,50,"33=",58,null,50,"64=",116]
[null,null,null,null,null,null,null,null,null,null,null,null,51,"33=",39,null,51,"64=",77]
[null,null,null,null,null,null,null,null,null,null,null,null,52,"17=",26,null,52,"33=",52]
[null,null,null,null,null,null,null,null,null,null,null,null,53,"17=",23,null,53,"33=",45]
[null,null,null,null,null,null,null,null,null,null,null,null,54,"33=",42,null,54,"64=",84]
[null,null,null,null,null,null,null,null,null,null,null,null,55,"33=",55,null,55,"64=",109]
[null,null,null,null,null,null,null,null,null,null,null,null,56,"9=",10,null,56,"17=",20]
[null,null,null,null,null,null,null,null,null,null,null,null,57,"9=",15,null,57,"17=",29]
[null,null,null,null,null,null,null,null,null,null,null,null,58,"33=",50,null,58,"64=",100]
[null,null,null,null,null,null,null,null,null,null,null,null,59,"33=",47,null,59,"64=",93]
[null,null,null,null,null,null,null,null,null,null,null,null,60,"17=",18,null,60,"33=",36]
[null,null,null,null,null,null,null,null,null,null,null,null,61,"17=",31,null,61,"33=",61]
[null,null,null,null,null,null,null,null,null,null,null,null,62,"33=",34,null,62,"64=",68]
[null,null,null,null,null,null,null,null,null,null,null,null,63,"33=",63,null,63,"64=",125]
[null,null,null,null,null,null,null,null,null,null,null,null,64,2,2,null,64,"3=",4]
[null,null,null,null,null,null,null,null,null,null,null,null,null,null,null,null,65,"3=",3]
[null,null,null,null,null,null,null,null,null,null,null,null,null,null,null,null,{"$f":"Q67+1","v":66},"64=",126]
[null,null,null,null,null,null,null,null,null,null,null,null,null,null,null,null,{"$f":"Q68+1","v":67},"64=",67]
[null,null,null,null,null,null,null,null,null,null,null,null,null,null,null,null,68,"33=",62]
[null,null,null,null,null,null,null,null,null,null,null,null,null,null,null,null,69,"33=",35]
[null,null,null,null,null,null,null,null,null,null,null,null,null,null,null,null,70,"64=",94]
[null,null,null,null,null,null,null,null,null,null,null,null,null,null,null,null,71,"64=",99]
[null,null,null,null,null,null,null,null,null,null,null,null,null,null,null,null,72,"17=",30]
[null,null,null,null,null,null,null,null,null,null,null,null,null,null,null,null,73,"17=",19]
[null,null,null,null,null,null,null,null,null,null,null,null,null,null,null,null,74,"64=",110]
[null,null,null,null,null,null,null,null,null,null,null,null,null,null,null,null,75,"64=",83]
[null,null,null,null,null,null,null,null,null,null,null,null,null,null,null,null,76,"33=",46]
[null,null,null,null,null,null,null,null,null,null,null,null,null,null,null,null,77,"33=",51]
[null,null,null,null,null,null,null,null,null,null,null,null,null,null,null,null,78,"64=",78]
[null,null,null,null,null,null,null,null,null,null,null,null,null,null,null,null,79,"64=",115]
[null,null,null,null,null,null,null,null,null,null,null,null,null,null,null,null,80,"9=",14]
[null,null,null,null,null,null,null,null,null,null,null,null,null,null,null,null,81,"9=",11]
[null,null,null,null,null,null,null,null,null,null,null,null,null,null,null,null,82,"64=",118]
[null,null,null,null,null,null,null,null,null,null,null,null,null,null,null,null,83,"64=",75]
[null,null,null,null,null,null,null,null,null,null,null,null,null,null,null,null,84,"33=",54]
[null,null,null,null,null,null,null,null,null,null,null,null,null,null,null,null,85,"33=",43]
[null,null,null,null,null,null,null,null,null,null,null,null,null,null,null,null,86,"64=",86]
[null,null,null,null,null,null,null,null,null,null,null,null,null,null,null,null,87,"64=",107]
[null,null,null,null,null,null,null,null,null,null,null,null,null,null,null,null,88,"17=",22]
[null,null,null,null,null,null,null,null,null,null,null,null,null,null,null,null,89,"17=",27]
[null,null,null,null,null,null,null,null,null,null,null,null,null,null,null,null,90,"64=",102]
[null,null,null,null,null,null,null,null,null,null,null,null,null,null,null,null,91,"64=",91]
[null,null,null,null,null,null,null,null,null,null,null,null,null,null,null,null,92,"33=",38]
[null,null,null,null,null,null,null,null,null,null,null,null,null,null,null,null,93,"33=",59]
[null,null,null,null,null,null,null,null,null,null,null,null,null,null,null,null,94,"64=",70]
[null,null,null,null,null,null,null,null,null,null,null,null,null,null,null,null,95,"64=",123]
[null,null,null,null,null,null,null,null,null,null,null,null,null,null,null,null,96,"5=",6]
[null,null,null,null,null,null,null,null,null,null,null,null,null,null,null,null,97,"5=",7]
[null,null,null,null,null,null,null,null,null,null,null,null,null,null,null,null,98,"64=",122]
[null,null,null,null,null,null,null,null,null,null,null,null,null,null,null,null,99,"64=",71]
[null,null,null,null,null,null,null,null,null,null,null,null,null,null,null,null,100,"33=",58]
[null,null,null,null,null,null,null,null,null,null,null,null,null,null,null,null,101,"33=",39]
[null,null,null,null,null,null,null,null,null,null,null,null,null,null,null,null,102,"64=",90]
[null,null,null,null,null,null,null,null,null,null,null,null,null,null,null,null,103,"64=",103]
[null,null,null,null,null,null,null,null,null,null,null,null,null,null,null,null,104,"17=",26]
[null,null,null,null,null,null,null,null,null,null,null,null,null,null,null,null,105,"17=",23]
[null,null,null,null,null,null,null,null,null,null,null,null,null,null,null,null,106,"64=",106]
[null,null,null,null,null,null,null,null,null,null,null,null,null,null,null,null,107,"64=",87]
[null,null,null,null,null,null,null,null,null,null,null,null,null,null,null,null,108,"33=",42]
[null,null,null,null,null,null,null,null,null,null,null,null,null,null,null,null,109,"33=",55]
[null,null,null,null,null,null,null,null,null,null,null,null,null,null,null,null,110,"64=",74]
[null,null,null,null,null,null,null,null,null,null,null,null,null,null,null,null,111,"64=",119]
[null,null,null,null,null,null,null,null,null,null,null,null,null,null,null,null,112,"9=",10]
[null,null,null,null,null,null,null,null,null,null,null,null,null,null,null,null,113,"9=",15]
[null,null,null,null,null,null,null,null,null,null,null,null,null,null,null,null,114,"64=",114]
[null,null,null,null,null,null,null,null,null,null,null,null,null,null,null,null,115,"64=",79]
[null,null,null,null,null,null,null,null,null,null,null,null,null,null,null,null,116,"33=",50]
[null,null,null,null,null,null,null,null,null,null,null,null,null,null,null,null,117,"33=",47]
[null,null,null,null,null,null,null,null,null,null,null,null,null,null,null,null,118,"64=",82]
[null,null,null,null,null,null,null,null,null,null,null,null,null,null,null,null,119,"64=",111]
[null,null,null,null,null,null,null,null,null,null,null,null,null,null,null,null,120,"17=",18]
[null,null,null,null,null,null,null,null,null,null,null,null,null,null,null,null,121,"17=",31]
[null,null,null,null,null,null,null,null,null,null,null,null,null,null,null,null,122,"64=",98]
[null,null,null,null,null,null,null,null,null,null,null,null,null,null,null,null,123,"64=",95]
[null,null,null,null,null,null,null,null,null,null,null,null,null,null,null,null,124,"33=",64]
[null,null,null,null,null,null,null,null,null,null,null,null,null,null,null,null,125,"33=",33]
[null,null,null,null,null,null,null,null,null,null,null,null,null,null,null,null,126,"64=",66]
[null,null,null,null,null,null,null,null,null,null,null,null,null,null,null,null,127,"64=",127]
[null,null,null,null,null,null,null,null,null,null,null,null,null,null,null,null,128,2,2]

{"sheet":"TS-200","index":3,"n_rows":906,"n_cols":12,"rows_kept":906,"cut":false,"hidden":true,"merged":[[7,0,7,11]]}
["EPREUVE",null,"Critérium Fédéral"]
["LIEU",null,"Pont à Mousson"]
["Date",null,"15 au 17 mars 2019"]
["TABLEAU",null," "]
["JUGE ARBITRE",null,"Nico ANGENON"]
["CONTROLEUR RAQUETTE",null," "]
[]
["LISTE DES JOUEURS"]
[]
["Dossard","Licence","Nom prénom","Points","Clt","Date naissance","Catégorie","Sexe","N° Club","Club","Ligue","Comité"]
[1,null,null,null,null,null,null,null,null,null,{"$f":"IF($I11=\"\",\"\",\"L\"&LEFT($I11,2))","v":""},{"$f":"IF($I11=\"\",\"\",\"D\"&RIGHT(LEFT($I11,4),2))","v":""}]
[2,null,null,null,null,null,null,null,null,null,"",""]
[3,null,null,null,null,null,null,null,null,null,"",""]
[4,null,null,null,null,null,null,null,null,null,"",""]
[5,null,null,null,null,null,null,null,null,null,"",""]
[6,null,null,null,null,null,null,null,null,null,"",""]
[7,null,null,null,null,null,null,null,null,null,"",""]
[8,null,null,null,null,null,null,null,null,null,"",""]
[9,null,null,null,null,null,null,null,null,null,"",""]
[10,null,null,null,null,null,null,null,null,null,"",""]
[11,null,null,null,null,null,null,null,null,null,"",""]
[12,null,null,null,null,null,null,null,null,null,"",""]
[13,null,null,null,null,null,null,null,null,null,"",""]
[14,null,null,null,null,null,null,null,null,null,"",""]
[15,null,null,null,null,null,null,null,null,null,"",""]
[16,null,null,null,null,null,null,null,null,null,"",""]
[21,null,null,null,null,null,null,null,null,null,"",""]
[22,null,null,null,null,null,null,null,null,null,"",""]
[23,null,null,null,null,null,null,null,null,null,"",""]
[24,null,null,null,null,null,null,null,null,null,"",""]
[25,null,null,null,null,null,null,null,null,null,"",""]
[26,null,null,null,null,null,null,null,null,null,"",""]
[27,null,null,null,null,null,null,null,null,null,"",""]
[28,null,null,null,null,null,null,null,null,null,"",""]
[29,null,null,null,null,null,null,null,null,null,"",""]
[30,null,null,null,null,null,null,null,null,null,"",""]
[31,null,null,null,null,null,null,null,null,null,"",""]
[32,null,null,null,null,null,null,null,null,null,"",""]
[33,null,null,null,null,null,null,null,null,null,"",""]
[34,null,null,null,null,null,null,null,null,null,"",""]
[35,null,null,null,null,null,null,null,null,null,"",""]
[41,null,null,null,null,null,null,null,null,null,"",""]
[42,null,null,null,null,null,null,null,null,null,"",""]
[43,null,null,null,null,null,null,null,null,null,"",""]
[44,null,null,null,null,null,null,null,null,null,"",""]
[45,null,null,null,null,null,null,null,null,null,"",""]
[46,null,null,null,null,null,null,null,null,null,"",""]
[47,null,null,null,null,null,null,null,null,null,"",""]
[48,null,null,null,null,null,null,null,null,null,"",""]
[49,null,null,null,null,null,null,null,null,null,"",""]
[50,null,null,null,null,null,null,null,null,null,"",""]
[51,null,null,null,null,null,null,null,null,null,"",""]
[52,null,null,null,null,null,null,null,null,null,"",""]
[53,null,null,null,null,null,null,null,null,null,"",""]
[54,null,null,null,null,null,null,null,null,null,"",""]
[55,null,null,null,null,null,null,null,null,null,"",""]
[56,null,null,null,null,null,null,null,null,null,"",""]
[61,null,null,null,null,null,null,null,null,null,"",""]
[62,null,null,null,null,null,null,null,null,null,"",""]
[63,null,null,null,null,null,null,null,null,null,"",""]
[64,null,null,null,null,null,null,null,null,null,"",""]
[65,null,null,null,null,null,null,null,null,null,"",""]
[66,null,null,null,null,null,null,null,null,null,"",""]
[67,null,null,null,null,null,null,null,null,null,"",""]
[68,null,null,null,null,null,null,null,null,null,"",""]
[69,null,null,null,null,null,null,null,null,null,"",""]
[70,null,null,null,null,null,null,null,null,null,"",""]
[71,null,null,null,null,null,null,null,null,null,"",""]
[72,null,null,null,null,null,null,null,null,null,"",""]
[73,null,null,null,null,null,null,null,null,null,{"$f":"IF($I70=\"\",\"\",\"L\"&LEFT($I70,2))","v":""},{"$f":"IF($I70=\"\",\"\",\"D\"&RIGHT(LEFT($I70,4),2))","v":""}]
[74,null,null,null,null,null,null,null,null,null,"",""]
[75,null,null,null,null,null,null,null,null,null,"",""]
[76,null,null,null,null,null,null,null,null,null,"",""]
[81,null,null,null,null,null,null,null,null,null,"",""]
[82,null,null,null,null,null,null,null,null,null,"",""]
[83,null,null,null,null,null,null,null,null,null,"",""]
[84,null,null,null,null,null,null,null,null,null,"",""]
[85,null,null,null,null,null,null,null,null,null,"",""]
[86,null,null,null,null,null,null,null,null,null,"",""]
[87,null,null,null,null,null,null,null,null,null,"",""]
[88,null,null,null,null,null,null,null,null,null,"",""]
[89,null,null,null,null,null,null,null,null,null,"",""]
[90,null,null,null,null,null,null,null,null,null,"",""]
[91,null,null,null,null,null,null,null,null,null,"",""]
[92,null,null,null,null,null,null,null,null,null,"",""]
[93,null,null,null,null,null,null,null,null,null,"",""]
[94,null,null,null,null,null,null,null,null,null,"",""]
[95,null,null,null,null,null,null,null,null,null,"",""]
[96,null,null,null,null,null,null,null,null,null,"",""]
[97,null,null,null,null,null,null,null,null,null,"",""]
[98,null,null,null,null,null,null,null,null,null,"",""]
[99,null,null,null,null,null,null,null,null,null,"",""]
[100,null,null,null,null,null,null,null,null,null,"",""]
[101,null,null,null,null,null,null,null,null,null,"",""]
[102,null,null,null,null,null,null,null,null,null,"",""]
[103,null,null,null,null,null,null,null,null,null,"",""]
[104,null,null,null,null,null,null,null,null,null,"",""]
[105,null,null,null,null,null,null,null,null,null,"",""]
[106,null,null,null,null,null,null,null,null,null,"",""]
[107,null,null,null,null,null,null,null,null,null,"",""]
[108,null,null,null,null,null,null,null,null,null,"",""]
[109,null,null,null,null,null,null,null,null,null,"",""]
[110,null,null,null,null,null,null,null,null,null,"",""]
[111,null,null,null,null,null,null,null,null,null,"",""]
[112,null,null,null,null,null,null,null,null,null,"",""]
[113,null,null,null,null,null,null,null,null,null,"",""]
[114,null,null,null,null,null,null,null,null,null,"",""]
[115,null,null,null,null,null,null,null,null,null,"",""]
[116,null,null,null,null,null,null,null,null,null,"",""]
[117,null,null,null,null,null,null,null,null,null,"",""]
[118,null,null,null,null,null,null,null,null,null,"",""]
[119,null,null,null,null,null,null,null,null,null,"",""]
[120,null,null,null,null,null,null,null,null,null,"",""]
[121,null,null,null,null,null,null,null,null,null,"",""]
[122,null,null,null,null,null,null,null,null,null,"",""]
[123,null,null,null,null,null,null,null,null,null,"",""]
[124,null,null,null,null,null,null,null,null,null,"",""]
[125,null,null,null,null,null,null,null,null,null,"",""]
[126,null,null,null,null,null,null,null,null,null,"",""]
[127,null,null,null,null,null,null,null,null,null,"",""]
[128,null,null,null,null,null,null,null,null,null,"",""]
[129,null,null,null,null,null,null,null,null,null,"",""]
[130,null,null,null,null,null,null,null,null,null,"",""]
[131,null,null,null,null,null,null,null,null,null,"",""]
[132,null,null,null,null,null,null,null,null,null,"",""]
[133,null,null,null,null,null,null,null,null,null,"",""]
[134,null,null,null,null,null,null,null,null,null,"",""]
[135,null,null,null,null,null,null,null,null,null,"",""]
[136,null,null,null,null,null,null,null,null,null,"",""]
[137,null,null,null,null,null,null,null,null,null,"",""]
[138,null,null,null,null,null,null,null,null,null,"",""]
[139,null,null,null,null,null,null,null,null,null,"",""]
[140,null,null,null,null,null,null,null,null,null,"",""]
[141,null,null,null,null,null,null,null,null,null,{"$f":"IF($I134=\"\",\"\",\"L\"&LEFT($I134,2))","v":""},{"$f":"IF($I134=\"\",\"\",\"D\"&RIGHT(LEFT($I134,4),2))","v":""}]
[142,null,null,null,null,null,null,null,null,null,"",""]
[143,null,null,null,null,null,null,null,null,null,"",""]
[144,null,null,null,null,null,null,null,null,null,"",""]
[145,null,null,null,null,null,null,null,null,null,"",""]
[146,null,null,null,null,null,null,null,null,null,"",""]
[147,null,null,null,null,null,null,null,null,null,"",""]
[148,null,null,null,null,null,null,null,null,null,"",""]
[149,null,null,null,null,null,null,null,null,null,"",""]
[150,null,null,null,null,null,null,null,null,null,"",""]
[151,null,null,null,null,null,null,null,null,null,"",""]
[152,null,null,null,null,null,null,null,null,null,"",""]
[153,null,null,null,null,null,null,null,null,null,"",""]
[154,null,null,null,null,null,null,null,null,null,"",""]
[155,null,null,null,null,null,null,null,null,null,"",""]
[156,null,null,null,null,null,null,null,null,null,"",""]
[157,null,null,null,null,null,null,null,null,null,"",""]
[158,null,null,null,null,null,null,null,null,null,"",""]
[159,null,null,null,null,null,null,null,null,null,"",""]
[160,null,null,null,null,null,null,null,null,null,"",""]
[161,null,null,null,null,null,null,null,null,null,"",""]
[162,null,null,null,null,null,null,null,null,null,"",""]
[163,null,null,null,null,null,null,null,null,null,"",""]
[164,null,null,null,null,null,null,null,null,null,"",""]
[165,null,null,null,null,null,null,null,null,null,"",""]
[166,null,null,null,null,null,null,null,null,null,"",""]
[167,null,null,null,null,null,null,null,null,null,"",""]
[168,null,null,null,null,null,null,null,null,null,"",""]
[169,null,null,null,null,null,null,null,null,null,"",""]
[170,null,null,null,null,null,null,null,null,null,"",""]
[171,null,null,null,null,null,null,null,null,null,"",""]
[172,null,null,null,null,null,null,null,null,null,"",""]
[173,null,null,null,null,null,null,null,null,null,"",""]
[174,null,null,null,null,null,null,null,null,null,"",""]
[175,null,null,null,null,null,null,null,null,null,"",""]
[176,null,null,null,null,null,null,null,null,null,"",""]
[177,null,null,null,null,null,null,null,null,null,"",""]
[178,null,null,null,null,null,null,null,null,null,"",""]
[179,null,null,null,null,null,null,null,null,null,"",""]
[180,null,null,null,null,null,null,null,null,null,"",""]
[181,null,null,null,null,null,null,null,null,null,"",""]
[182,null,null,null,null,null,null,null,null,null,"",""]
[183,null,null,null,null,null,null,null,null,null,"",""]
[184,null,null,null,null,null,null,null,null,null,"",""]
[185,null,null,null,null,null,null,null,null,null,"",""]
[186,null,null,null,null,null,null,null,null,null,"",""]
[187,null,null,null,null,null,null,null,null,null,"",""]
[188,null,null,null,null,null,null,null,null,null,"",""]
[189,null,null,null,null,null,null,null,null,null,"",""]
[190,null,null,null,null,null,null,null,null,null,"",""]
[191,null,null,null,null,null,null,null,null,null,"",""]
[192,null,null,null,null,null,null,null,null,null,"",""]
[193,null,null,null,null,null,null,null,null,null,"",""]
[194,null,null,null,null,null,null,null,null,null,"",""]
[195,null,null,null,null,null,null,null,null,null,"",""]
[196,null,null,null,null,null,null,null,null,null,"",""]
[197,null,null,null,null,null,null,null,null,null,"",""]
[198,null,null,null,null,null,null,null,null,null,"",""]
[199,null,null,null,null,null,null,null,null,null,"",""]
[200,null,null,null,null,null,null,null,null,null,"",""]
[201,null,null,null,null,null,null,null,null,null,"",""]
[202,null,null,null,null,null,null,null,null,null,"",""]
[203,null,null,null,null,null,null,null,null,null,"",""]
[204,null,null,null,null,null,null,null,null,null,"",""]
[205,null,null,null,null,null,null,null,null,null,{"$f":"IF($I198=\"\",\"\",\"L\"&LEFT($I198,2))","v":""},{"$f":"IF($I198=\"\",\"\",\"D\"&RIGHT(LEFT($I198,4),2))","v":""}]
[206,null,null,null,null,null,null,null,null,null,"",""]
[207,null,null,null,null,null,null,null,null,null,"",""]
[208,null,null,null,null,null,null,null,null,null,"",""]
[209,null,null,null,null,null,null,null,null,null,"",""]
[210,null,null,null,null,null,null,null,null,null,"",""]
[211,null,null,null,null,null,null,null,null,null,"",""]
[212,null,null,null,null,null,null,null,null,null,"",""]
[213,null,null,null,null,null,null,null,null,null,"",""]
[214,null,null,null,null,null,null,null,null,null,"",""]
[215,null,null,null,null,null,null,null,null,null,"",""]
[216,null,null,null,null,null,null,null,null,null,"",""]
[217,null,null,null,null,null,null,null,null,null,"",""]
[218,null,null,null,null,null,null,null,null,null,"",""]
[219,null,null,null,null,null,null,null,null,null,"",""]
[220,null,null,null,null,null,null,null,null,null,"",""]
[221,null,null,null,null,null,null,null,null,null,"",""]
[222,null,null,null,null,null,null,null,null,null,"",""]
[223,null,null,null,null,null,null,null,null,null,"",""]
[224,null,null,null,null,null,null,null,null,null,"",""]
[225,null,null,null,null,null,null,null,null,null,"",""]
[226,null,null,null,null,null,null,null,null,null,"",""]
[227,null,null,null,null,null,null,null,null,null,"",""]
[228,null,null,null,null,null,null,null,null,null,"",""]
[229,null,null,null,null,null,null,null,null,null,"",""]
[230,null,null,null,null,null,null,null,null,null,"",""]
[231,null,null,null,null,null,null,null,null,null,"",""]
[232,null,null,null,null,null,null,null,null,null,"",""]
[233,null,null,null,null,null,null,null,null,null,"",""]
[234,null,null,null,null,null,null,null,null,null,"",""]
[235,null,null,null,null,null,null,null,null,null,"",""]
[236,null,null,null,null,null,null,null,null,null,"",""]
[237,null,null,null,null,null,null,null,null,null,"",""]
[238,null,null,null,null,null,null,null,null,null,"",""]
[239,null,null,null,null,null,null,null,null,null,"",""]
[240,null,null,null,null,null,null,null,null,null,"",""]
[241,null,null,null,null,null,null,null,null,null,"",""]
[242,null,null,null,null,null,null,null,null,null,"",""]
[243,null,null,null,null,null,null,null,null,null,"",""]
[244,null,null,null,null,null,null,null,null,null,"",""]
[245,null,null,null,null,null,null,null,null,null,"",""]
[null,null,null,null,null,null,null,null,null,null,"",""]
[null,null,null,null,null,null,null,null,null,null,"",""]
[null,null,null,null,null,null,null,null,null,null,"",""]
[null,null,null,null,null,null,null,null,null,null,"",""]
[null,null,null,null,null,null,null,null,null,null,"",""]
[null,null,null,null,null,null,null,null,null,null,"",""]
[null,null,null,null,null,null,null,null,null,null,"",""]
[null,null,null,null,null,null,null,null,null,null,"",""]
[null,null,null,null,null,null,null,null,null,null,"",""]
[null,null,null,null,null,null,null,null,null,null,"",""]
[null,null,null,null,null,null,null,null,null,null,"",""]
[null,null,null,null,null,null,null,null,null,null,"",""]
[null,null,null,null,null,null,null,null,null,null,"",""]
[null,null,null,null,null,null,null,null,null,null,"",""]
[null,null,null,null,null," "," ",null,null,null,"",""]
[null,null,null,null,null," "," ",null,null,null,"",""]
[null,null,null,null,null," "," ",null,null,null,"",""]
[null,null,null,null,null," "," ",null,null,null,"",""]
[null,null,null,null,null," "," ",null,null,null,"",""]
[null,null,null,null,null," "," ",null,null,null,"",""]
[null,null,null,null,null," "," ",null,null,null,"",""]
[null,null,null,null,null," "," ",null,null,null,"",""]
[null,null,null,null,null," "," ",null,null,null,"",""]
[null,null,null,null,null," "," ",null,null,null,{"$f":"IF($I262=\"\",\"\",\"L\"&LEFT($I262,2))","v":""},{"$f":"IF($I262=\"\",\"\",\"D\"&RIGHT(LEFT($I262,4),2))","v":""}]
[null,null,null,null,null," "," ",null,null,null,"",""]
[null,null,null,null,null," "," ",null,null,null,"",""]
[null,null,null,null,null," "," ",null,null,null,"",""]
[null,null,null,null,null," "," ",null,null,null,"",""]
[null,null,null,null,null," "," ",null,null,null,"",""]
[null,null,null,null,null," "," ",null,null,null,"",""]
[null,null,null,null,null," "," ",null,null,null,"",""]
[null,null,null,null,null," "," ",null,null,null,"",""]
[null,null,null,null,null," "," ",null,null,null,"",""]
[null,null,null,null,null," "," ",null,null,null,"",""]
[null,null,null,null,null," "," ",null,null,null,"",""]
[null,null,null,null,null," "," ",null,null,null,"",""]
[null,null,null,null,null," "," ",null,null,null,"",""]
[null,null,null,null,null," "," ",null,null,null,"",""]
[null,null,null,null,null," "," ",null,null,null,"",""]
[null,null,null,null,null," "," ",null,null,null,"",""]
[null,null,null,null,null," "," ",null,null,null,"",""]
[null,null,null,null,null," "," ",null,null,null,"",""]
[null,null,null,null,null," "," ",null,null,null,"",""]
[null,null,null,null,null," "," ",null,null,null,"",""]
[null,null,null,null,null," "," ",null,null,null,"",""]
[null,null,null,null,null," "," ",null,null,null,"",""]
[null,null,null,null,null," "," ",null,null,null,"",""]
[null,null,null,null,null," "," ",null,null,null,"",""]
[null,null,null,null,null," "," ",null,null,null,"",""]
[null,null,null,null,null," "," ",null,null,null,"",""]
[null,null,null,null,null," "," ",null,null,null,"",""]
[null,null,null,null,null," "," ",null,null,null,"",""]
[null,null,null,null,null," "," ",null,null,null,"",""]
[null,null,null,null,null," "," ",null,null,null,"",""]
[null,null,null,null,null," "," ",null,null,null,"",""]
[null,null,null,null,null," "," ",null,null,null,"",""]
[null,null,null,null,null," "," ",null,null,null,"",""]
[null,null,null,null,null," "," ",null,null,null,"",""]
[null,null,null,null,null," "," ",null,null,null,"",""]
[null,null,null,null,null," "," ",null,null,null,"",""]
[null,null,null,null,null," "," ",null,null,null,"",""]
[null,null,null,null,null," "," ",null,null,null,"",""]
[null,null,null,null,null," "," ",null,null,null,"",""]
[null,null,null,null,null," "," ",null,null,null,"",""]
[null,null,null,null,null," "," ",null,null,null,"",""]
[null,null,null,null,null," "," ",null,null,null,"",""]
[null,null,null,null,null," "," ",null,null,null,"",""]
[null,null,null,null,null," "," ",null,null,null,"",""]
[null,null,null,null,null," "," ",null,null,null,"",""]
[null,null,null,null,null," "," ",null,null,null,"",""]
[null,null,null,null,null," "," ",null,null,null,"",""]
[null,null,null,null,null," "," ",null,null,null,"",""]
[null,null,null,null,null," "," ",null,null,null,"",""]
[null,null,null,null,null," "," ",null,null,null,"",""]
[null,null,null,null,null," "," ",null,null,null,"",""]
[null,null,null,null,null," "," ",null,null,null,"",""]
[null,null,null,null,null," "," ",null,null,null,"",""]
[null,null,null,null,null," "," ",null,null,null,"",""]
[null,null,null,null,null," "," ",null,null,null,"",""]
[null,null,null,null,null," "," ",null,null,null,"",""]
[null,null,null,null,null," "," ",null,null,null,"",""]
[null,null,null,null,null," "," ",null,null,null,"",""]
[null,null,null,null,null," "," ",null,null,null,"",""]
[null,null,null,null,null," "," ",null,null,null,"",""]
[null,null,null,null,null," "," ",null,null,null,"",""]
[null,null,null,null,null," "," ",null,null,null,"",""]
[null,null,null,null,null," "," ",null,null,null,"",""]
[null,null,null,null,null," "," ",null,null,null,{"$f":"IF($I326=\"\",\"\",\"L\"&LEFT($I326,2))","v":""},{"$f":"IF($I326=\"\",\"\",\"D\"&RIGHT(LEFT($I326,4),2))","v":""}]
[null,null,null,null,null," "," ",null,null,null,"",""]
[null,null,null,null,null," "," ",null,null,null,"",""]
[null,null,null,null,null," "," ",null,null,null,"",""]
[null,null,null,null,null," "," ",null,null,null,"",""]
[null,null,null,null,null," "," ",null,null,null,"",""]
[null,null,null,null,null," "," ",null,null,null,"",""]
[null,null,null,null,null," "," ",null,null,null,"",""]
[null,null,null,null,null," "," ",null,null,null,"",""]
[null,null,null,null,null," "," ",null,null,null,"",""]
[null,null,null,null,null," "," ",null,null,null,"",""]
[null,null,null,null,null," "," ",null,null,null,"",""]
[null,null,null,null,null," "," ",null,null,null,"",""]
[null,null,null,null,null," "," ",null,null,null,"",""]
[null,null,null,null,null," "," ",null,null,null,"",""]
[null,null,null,null,null," "," ",null,null,null,"",""]
[null,null,null,null,null," "," ",null,null,null,"",""]
[null,null,null,null,null," "," ",null,null,null,"",""]
[null,null,null,null,null," "," ",null,null,null,"",""]
[null,null,null,null,null," "," ",null,null,null,"",""]
[null,null,null,null,null," "," ",null,null,null,"",""]
[null,null,null,null,null," "," ",null,null,null,"",""]
[null,null,null,null,null," "," ",null,null,null,"",""]
[null,null,null,null,null," "," ",null,null,null,"",""]
[null,null,null,null,null," "," ",null,null,null,"",""]
[null,null,null,null,null," "," ",null,null,null,"",""]
[null,null,null,null,null," "," ",null,null,null,"",""]
[null,null,null,null,null," "," ",null,null,null,"",""]
[null,null,null,null,null," "," ",null,null,null,"",""]
[null,null,null,null,null," "," ",null,null,null,"",""]
[null,null,null,null,null," "," ",null,null,null,"",""]
[null,null,null,null,null," "," ",null,null,null,"",""]
[null,null,null,null,null," "," ",null,null,null,"",""]
[null,null,null,null,null," "," ",null,null,null,"",""]
[null,null,null,null,null," "," ",null,null,null,"",""]
[null,null,null,null,null," "," ",null,null,null,"",""]
[null,null,null,null,null," "," ",null,null,null,"",""]
[null,null,null,null,null," "," ",null,null,null,"",""]
[null,null,null,null,null," "," ",null,null,null,"",""]
[null,null,null,null,null," "," ",null,null,null,"",""]
[null,null,null,null,null," "," ",null,null,null,"",""]
[null,null,null,null,null," "," ",null,null,null,"",""]
[null,null,null,null,null," "," ",null,null,null,"",""]
[null,null,null,null,null," "," ",null,null,null,"",""]
[null,null,null,null,null," "," ",null,null,null,"",""]
[null,null,null,null,null," "," ",null,null,null,"",""]
[null,null,null,null,null," "," ",null,null,null,"",""]
[null,null,null,null,null," "," ",null,null,null,"",""]
[null,null,null,null,null," "," ",null,null,null,"",""]
[null,null,null,null,null," "," ",null,null,null,"",""]
[null,null,null,null,null," "," ",null,null,null,"",""]
[null,null,null,null,null," "," ",null,null,null,"",""]
[null,null,null,null,null," "," ",null,null,null,"",""]
[null,null,null,null,null," "," ",null,null,null,"",""]
[null,null,null,null,null," "," ",null,null,null,"",""]
[null,null,null,null,null," "," ",null,null,null,"",""]
[null,null,null,null,null," "," ",null,null,null,"",""]
[null,null,null,null,null," "," ",null,null,null,"",""]
[null,null,null,null,null," "," ",null,null,null,"",""]
[null,null,null,null,null," "," ",null,null,null,"",""]
[null,null,null,null,null," "," ",null,null,null,"",""]
[null,null,null,null,null," "," ",null,null,null,"",""]
[null,null,null,null,null," "," ",null,null,null,"",""]
[null,null,null,null,null," "," ",null,null,null,"",""]
[null,null,null,null,null," "," ",null,null,null,{"$f":"IF($I390=\"\",\"\",\"L\"&LEFT($I390,2))","v":""},{"$f":"IF($I390=\"\",\"\",\"D\"&RIGHT(LEFT($I390,4),2))","v":""}]
[null,null,null,null,null," "," ",null,null,null,"",""]
[null,null,null,null,null," "," ",null,null,null,"",""]
[null,null,null,null,null," "," ",null,null,null,"",""]
[null,null,null,null,null," "," ",null,null,null,"",""]
[null,null,null,null,null," "," ",null,null,null,"",""]
[null,null,null,null,null," "," ",null,null,null,"",""]
[null,null,null,null,null," "," ",null,null,null,"",""]
[null,null,null,null,null," "," ",null,null,null,"",""]
[null,null,null,null,null," "," ",null,null,null,"",""]
[null,null,null,null,null," "," ",null,null,null,"",""]
[null,null,null,null,null," "," ",null,null,null,"",""]
[null,null,null,null,null," "," ",null,null,null,"",""]
[null,null,null,null,null," "," ",null,null,null,"",""]
[null,null,null,null,null," "," ",null,null,null,"",""]
[null,null,null,null,null," "," ",null,null,null,"",""]
[null,null,null,null,null," "," ",null,null,null,"",""]
[null,null,null,null,null," "," ",null,null,null,"",""]
[null,null,null,null,null," "," ",null,null,null,"",""]
[null,null,null,null,null," "," ",null,null,null,"",""]
[null,null,null,null,null," "," ",null,null,null,"",""]
[null,null,null,null,null," "," ",null,null,null,"",""]
[null,null,null,null,null," "," ",null,null,null,"",""]
[null,null,null,null,null," "," ",null,null,null,"",""]
[null,null,null,null,null," "," ",null,null,null,"",""]
[null,null,null,null,null," "," ",null,null,null,"",""]
[null,null,null,null,null," "," ",null,null,null,"",""]
[null,null,null,null,null," "," ",null,null,null,"",""]
[null,null,null,null,null," "," ",null,null,null,"",""]
[null,null,null,null,null," "," ",null,null,null,"",""]
[null,null,null,null,null," "," ",null,null,null,"",""]
[null,null,null,null,null," "," ",null,null,null,"",""]
[null,null,null,null,null," "," ",null,null,null,"",""]
[null,null,null,null,null," "," ",null,null,null,"",""]
[null,null,null,null,null," "," ",null,null,null,"",""]
[null,null,null,null,null," "," ",null,null,null,"",""]
[null,null,null,null,null," "," ",null,null,null,"",""]
[null,null,null,null,null," "," ",null,null,null,"",""]
[null,null,null,null,null," "," ",null,null,null,"",""]
[null,null,null,null,null," "," ",null,null,null,"",""]
[null,null,null,null,null," "," ",null,null,null,"",""]
[null,null,null,null,null," "," ",null,null,null,"",""]
[null,null,null,null,null," "," ",null,null,null,"",""]
[null,null,null,null,null," "," ",null,null,null,"",""]
[null,null,null,null,null," "," ",null,null,null,"",""]
[null,null,null,null,null," "," ",null,null,null,"",""]
[null,null,null,null,null," "," ",null,null,null,"",""]
[null,null,null,null,null," "," ",null,null,null,"",""]
[null,null,null,null,null," "," ",null,null,null,"",""]
[null,null,null,null,null," "," ",null,null,null,"",""]
[null,null,null,null,null," "," ",null,null,null,"",""]
[null,null,null,null,null," "," ",null,null,null,"",""]
[null,null,null,null,null," "," ",null,null,null,"",""]
[null,null,null,null,null," "," ",null,null,null,"",""]
[null,null,null,null,null," "," ",null,null,null,"",""]
[null,null,null,null,null," "," ",null,null,null,"",""]
[null,null,null,null,null," "," ",null,null,null,"",""]
[null,null,null,null,null," "," ",null,null,null,"",""]
[null,null,null,null,null," "," ",null,null,null,"",""]
[null,null,null,null,null," "," ",null,null,null,"",""]
[null,null,null,null,null," "," ",null,null,null,"",""]
[null,null,null,null,null," "," ",null,null,null,"",""]
[null,null,null,null,null," "," ",null,null,null,"",""]
[null,null,null,null,null," "," ",null,null,null,"",""]
[null,null,null,null,null," "," ",null,null,null,{"$f":"IF($I454=\"\",\"\",\"L\"&LEFT($I454,2))","v":""},{"$f":"IF($I454=\"\",\"\",\"D\"&RIGHT(LEFT($I454,4),2))","v":""}]
[null,null,null,null,null," "," ",null,null,null,"",""]
[null,null,null,null,null," "," ",null,null,null,"",""]
[null,null,null,null,null," "," ",null,null,null,"",""]
[null,null,null,null,null," "," ",null,null,null,"",""]
[null,null,null,null,null," "," ",null,null,null,"",""]
[null,null,null,null,null," "," ",null,null,null,"",""]
[null,null,null,null,null," "," ",null,null,null,"",""]
[null,null,null,null,null," "," ",null,null,null,"",""]
[null,null,null,null,null," "," ",null,null,null,"",""]
[null,null,null,null,null," "," ",null,null,null,"",""]
[null,null,null,null,null," "," ",null,null,null,"",""]
[null,null,null,null,null," "," ",null,null,null,"",""]
[null,null,null,null,null," "," ",null,null,null,"",""]
[null,null,null,null,null," "," ",null,null,null,"",""]
[null,null,null,null,null," "," ",null,null,null,"",""]
[null,null,null,null,null," "," ",null,null,null,"",""]
[null,null,null,null,null," "," ",null,null,null,"",""]
[null,null,null,null,null," "," ",null,null,null,"",""]
[null,null,null,null,null," "," ",null,null,null,"",""]
[null,null,null,null,null," "," ",null,null,null,"",""]
[null,null,null,null,null," "," ",null,null,null,"",""]
[null,null,null,null,null," "," ",null,null,null,"",""]
[null,null,null,null,null," "," ",null,null,null,"",""]
[null,null,null,null,null," "," ",null,null,null,"",""]
[null,null,null,null,null," "," ",null,null,null,"",""]
[null,null,null,null,null," "," ",null,null,null,"",""]
[null,null,null,null,null," "," ",null,null,null,"",""]
[null,null,null,null,null," "," ",null,null,null,"",""]
[null,null,null,null,null," "," ",null,null,null,"",""]
[null,null,null,null,null," "," ",null,null,null,"",""]
[null,null,null,null,null," "," ",null,null,null,"",""]
[null,null,null,null,null," "," ",null,null,null,"",""]
[null,null,null,null,null," "," ",null,null,null,"",""]
[null,null,null,null,null," "," ",null,null,null,"",""]
[null,null,null,null,null," "," ",null,null,null,"",""]
[null,null,null,null,null," "," ",null,null,null,"",""]
[null,null,null,null,null," "," ",null,null,null,"",""]
[null,null,null,null,null," "," ",null,null,null,"",""]
[null,null,null,null,null," "," ",null,null,null,"",""]
[null,null,null,null,null," "," ",null,null,null,"",""]
[null,null,null,null,null," "," ",null,null,null,"",""]
[null,null,null,null,null," "," ",null,null,null,"",""]
[null,null,null,null,null," "," ",null,null,null,"",""]
[null,null,null,null,null," "," ",null,null,null,"",""]
[null,null,null,null,null," "," ",null,null,null,"",""]
[null,null,null,null,null," "," ",null,null,null,"",""]
[null,null,null,null,null," "," ",null,null,null,"",""]
[null,null,null,null,null," "," ",null,null,null,"",""]
[null,null,null,null,null," "," ",null,null,null,"",""]
[null,null,null,null,null," "," ",null,null,null,"",""]
[null,null,null,null,null," "," ",null,null,null,"",""]
[null,null,null,null,null," "," ",null,null,null,"",""]
[null,null,null,null,null," "," ",null,null,null,"",""]
[null,null,null,null,null," "," ",null,null,null,"",""]
[null,null,null,null,null," "," ",null,null,null,"",""]
[null,null,null,null,null," "," ",null,null,null,"",""]
[null,null,null,null,null," "," ",null,null,null,"",""]
[null,null,null,null,null," "," ",null,null,null,"",""]
[null,null,null,null,null," "," ",null,null,null,"",""]
[null,null,null,null,null," "," ",null,null,null,"",""]
[null,null,null,null,null," "," ",null,null,null,"",""]
[null,null,null,null,null," "," ",null,null,null,"",""]
[null,null,null,null,null," "," ",null,null,null,"",""]
[null,null,null,null,null," "," ",null,null,null,{"$f":"IF($I518=\"\",\"\",\"L\"&LEFT($I518,2))","v":""},{"$f":"IF($I518=\"\",\"\",\"D\"&RIGHT(LEFT($I518,4),2))","v":""}]
[null,null,null,null,null," "," ",null,null,null,"",""]
[null,null,null,null,null," "," ",null,null,null,"",""]
[null,null,null,null,null," "," ",null,null,null,"",""]
[null,null,null,null,null," "," ",null,null,null,"",""]
[null,null,null,null,null," "," ",null,null,null,"",""]
[null,null,null,null,null," "," ",null,null,null,"",""]
[null,null,null,null,null," "," ",null,null,null,"",""]
[null,null,null,null,null," "," ",null,null,null,"",""]
[null,null,null,null,null," "," ",null,null,null,"",""]
[null,null,null,null,null," "," ",null,null,null,"",""]
[null,null,null,null,null," "," ",null,null,null,"",""]
[null,null,null,null,null," "," ",null,null,null,"",""]
[null,null,null,null,null," "," ",null,null,null,"",""]
[null,null,null,null,null," "," ",null,null,null,"",""]
[null,null,null,null,null," "," ",null,null,null,"",""]
[null,null,null,null,null," "," ",null,null,null,"",""]
[null,null,null,null,null," "," ",null,null,null,"",""]
[null,null,null,null,null," "," ",null,null,null,"",""]
[null,null,null,null,null," "," ",null,null,null,"",""]
[null,null,null,null,null," "," ",null,null,null,"",""]
[null,null,null,null,null," "," ",null,null,null,"",""]
[null,null,null,null,null," "," ",null,null,null,"",""]
[null,null,null,null,null," "," ",null,null,null,"",""]
[null,null,null,null,null," "," ",null,null,null,"",""]
[null,null,null,null,null," "," ",null,null,null,"",""]
[null,null,null,null,null," "," ",null,null,null,"",""]
[null,null,null,null,null," "," ",null,null,null,"",""]
[null,null,null,null,null," "," ",null,null,null,"",""]
[null,null,null,null,null," "," ",null,null,null,"",""]
[null,null,null,null,null," "," ",null,null,null,"",""]
[null,null,null,null,null," "," ",null,null,null,"",""]
[null,null,null,null,null," "," ",null,null,null,"",""]
[null,null,null,null,null," "," ",null,null,null,"",""]
[null,null,null,null,null," "," ",null,null,null,"",""]
[null,null,null,null,null," "," ",null,null,null,"",""]
[null,null,null,null,null," "," ",null,null,null,"",""]
[null,null,null,null,null," "," ",null,null,null,"",""]
[null,null,null,null,null," "," ",null,null,null,"",""]
[null,null,null,null,null," "," ",null,null,null,"",""]
[null,null,null,null,null," "," ",null,null,null,"",""]
[null,null,null,null,null," "," ",null,null,null,"",""]
[null,null,null,null,null," "," ",null,null,null,"",""]
[null,null,null,null,null," "," ",null,null,null,"",""]
[null,null,null,null,null," "," ",null,null,null,"",""]
[null,null,null,null,null," "," ",null,null,null,"",""]
[null,null,null,null,null," "," ",null,null,null,"",""]
[null,null,null,null,null," "," ",null,null,null,"",""]
[null,null,null,null,null," "," ",null,null,null,"",""]
[null,null,null,null,null," "," ",null,null,null,"",""]
[null,null,null,null,null," "," ",null,null,null,"",""]
[null,null,null,null,null," "," ",null,null,null,"",""]
[null,null,null,null,null," "," ",null,null,null,"",""]
[null,null,null,null,null," "," ",null,null,null,"",""]
[null,null,null,null,null," "," ",null,null,null,"",""]
[null,null,null,null,null," "," ",null,null,null,"",""]
[null,null,null,null,null," "," ",null,null,null,"",""]
[null,null,null,null,null," "," ",null,null,null,"",""]
[null,null,null,null,null," "," ",null,null,null,"",""]
[null,null,null,null,null," "," ",null,null,null,"",""]
[null,null,null,null,null," "," ",null,null,null,"",""]
[null,null,null,null,null," "," ",null,null,null,"",""]
[null,null,null,null,null," "," ",null,null,null,"",""]
[null,null,null,null,null," "," ",null,null,null,"",""]
[null,null,null,null,null," "," ",null,null,null,{"$f":"IF($I582=\"\",\"\",\"L\"&LEFT($I582,2))","v":""},{"$f":"IF($I582=\"\",\"\",\"D\"&RIGHT(LEFT($I582,4),2))","v":""}]
[null,null,null,null,null," "," ",null,null,null,"",""]
[null,null,null,null,null," "," ",null,null,null,"",""]
[null,null,null,null,null," "," ",null,null,null,"",""]
[null,null,null,null,null," "," ",null,null,null,"",""]
[null,null,null,null,null," "," ",null,null,null,"",""]
[null,null,null,null,null," "," ",null,null,null,"",""]
[null,null,null,null,null," "," ",null,null,null,"",""]
[null,null,null,null,null," "," ",null,null,null,"",""]
[null,null,null,null,null," "," ",null,null,null,"",""]
[null,null,null,null,null," "," ",null,null,null,"",""]
[null,null,null,null,null," "," ",null,null,null,"",""]
[null,null,null,null,null," "," ",null,null,null,"",""]
[null,null,null,null,null," "," ",null,null,null,"",""]
[null,null,null,null,null," "," ",null,null,null,"",""]
[null,null,null,null,null," "," ",null,null,null,"",""]
[null,null,null,null,null," "," ",null,null,null,"",""]
[null,null,null,null,null," "," ",null,null,null,"",""]
[null,null,null,null,null," "," ",null,null,null,"",""]
[null,null,null,null,null," "," ",null,null,null,"",""]
[null,null,null,null,null," "," ",null,null,null,"",""]
[null,null,null,null,null," "," ",null,null,null,"",""]
[null,null,null,null,null," "," ",null,null,null,"",""]
[null,null,null,null,null," "," ",null,null,null,"",""]
[null,null,null,null,null," "," ",null,null,null,"",""]
[null,null,null,null,null," "," ",null,null,null,"",""]
[null,null,null,null,null," "," ",null,null,null,"",""]
[null,null,null,null,null," "," ",null,null,null,"",""]
[null,null,null,null,null," "," ",null,null,null,"",""]
[null,null,null,null,null," "," ",null,null,null,"",""]
[null,null,null,null,null," "," ",null,null,null,"",""]
[null,null,null,null,null," "," ",null,null,null,"",""]
[null,null,null,null,null," "," ",null,null,null,"",""]
[null,null,null,null,null," "," ",null,null,null,"",""]
[null,null,null,null,null," "," ",null,null,null,"",""]
[null,null,null,null,null," "," ",null,null,null,"",""]
[null,null,null,null,null," "," ",null,null,null,"",""]
[null,null,null,null,null," "," ",null,null,null,"",""]
[null,null,null,null,null," "," ",null,null,null,"",""]
[null,null,null,null,null," "," ",null,null,null,"",""]
[null,null,null,null,null," "," ",null,null,null,"",""]
[null,null,null,null,null," "," ",null,null,null,"",""]
[null,null,null,null,null," "," ",null,null,null,"",""]
[null,null,null,null,null," "," ",null,null,null,"",""]
[null,null,null,null,null," "," ",null,null,null,"",""]
[null,null,null,null,null," "," ",null,null,null,"",""]
[null,null,null,null,null," "," ",null,null,null,"",""]
[null,null,null,null,null," "," ",null,null,null,"",""]
[null,null,null,null,null," "," ",null,null,null,"",""]
[null,null,null,null,null," "," ",null,null,null,"",""]
[null,null,null,null,null," "," ",null,null,null,"",""]
[null,null,null,null,null," "," ",null,null,null,"",""]
[null,null,null,null,null," "," ",null,null,null,"",""]
[null,null,null,null,null," "," ",null,null,null,"",""]
[null,null,null,null,null," "," ",null,null,null,"",""]
[null,null,null,null,null," "," ",null,null,null,"",""]
[null,null,null,null,null," "," ",null,null,null,"",""]
[null,null,null,null,null," "," ",null,null,null,"",""]
[null,null,null,null,null," "," ",null,null,null,"",""]
[null,null,null,null,null," "," ",null,null,null,"",""]
[null,null,null,null,null," "," ",null,null,null,"",""]
[null,null,null,null,null," "," ",null,null,null,"",""]
[null,null,null,null,null," "," ",null,null,null,"",""]
[null,null,null,null,null," "," ",null,null,null,"",""]
[null,null,null,null,null," "," ",null,null,null,{"$f":"IF($I646=\"\",\"\",\"L\"&LEFT($I646,2))","v":""},{"$f":"IF($I646=\"\",\"\",\"D\"&RIGHT(LEFT($I646,4),2))","v":""}]
[null,null,null,null,null," "," ",null,null,null,"",""]
[null,null,null,null,null," "," ",null,null,null,"",""]
[null,null,null,null,null," "," ",null,null,null,"",""]
[null,null,null,null,null," "," ",null,null,null,"",""]
[null,null,null,null,null," "," ",null,null,null,"",""]
[null,null,null,null,null," "," ",null,null,null,"",""]
[null,null,null,null,null," "," ",null,null,null,"",""]
[null,null,null,null,null," "," ",null,null,null,"",""]
[null,null,null,null,null," "," ",null,null,null,"",""]
[null,null,null,null,null," "," ",null,null,null,"",""]
[null,null,null,null,null," "," ",null,null,null,"",""]
[null,null,null,null,null," "," ",null,null,null,"",""]
[null,null,null,null,null," "," ",null,null,null,"",""]
[null,null,null,null,null," "," ",null,null,null,"",""]
[null,null,null,null,null," "," ",null,null,null,"",""]
[null,null,null,null,null," "," ",null,null,null,"",""]
[null,null,null,null,null," "," ",null,null,null,"",""]
[null,null,null,null,null," "," ",null,null,null,"",""]
[null,null,null,null,null," "," ",null,null,null,"",""]
[null,null,null,null,null," "," ",null,null,null,"",""]
[null,null,null,null,null," "," ",null,null,null,"",""]
[null,null,null,null,null," "," ",null,null,null,"",""]
[null,null,null,null,null," "," ",null,null,null,"",""]
[null,null,null,null,null," "," ",null,null,null,"",""]
[null,null,null,null,null," "," ",null,null,null,"",""]
[null,null,null,null,null," "," ",null,null,null,"",""]
[null,null,null,null,null," "," ",null,null,null,"",""]
[null,null,null,null,null," "," ",null,null,null,"",""]
[null,null,null,null,null," "," ",null,null,null,"",""]
[null,null,null,null,null," "," ",null,null,null,"",""]
[null,null,null,null,null," "," ",null,null,null,"",""]
[null,null,null,null,null," "," ",null,null,null,"",""]
[null,null,null,null,null," "," ",null,null,null,"",""]
[null,null,null,null,null," "," ",null,null,null,"",""]
[null,null,null,null,null," "," ",null,null,null,"",""]
[null,null,null,null,null," "," ",null,null,null,"",""]
[null,null,null,null,null," "," ",null,null,null,"",""]
[null,null,null,null,null," "," ",null,null,null,"",""]
[null,null,null,null,null," "," ",null,null,null,"",""]
[null,null,null,null,null," "," ",null,null,null,"",""]
[null,null,null,null,null," "," ",null,null,null,"",""]
[null,null,null,null,null," "," ",null,null,null,"",""]
[null,null,null,null,null," "," ",null,null,null,"",""]
[null,null,null,null,null," "," ",null,null,null,"",""]
[null,null,null,null,null," "," ",null,null,null,"",""]
[null,null,null,null,null," "," ",null,null,null,"",""]
[null,null,null,null,null," "," ",null,null,null,"",""]
[null,null,null,null,null," "," ",null,null,null,"",""]
[null,null,null,null,null," "," ",null,null,null,"",""]
[null,null,null,null,null," "," ",null,null,null,"",""]
[null,null,null,null,null," "," ",null,null,null,"",""]
[null,null,null,null,null," "," ",null,null,null,"",""]
[null,null,null,null,null," "," ",null,null,null,"",""]
[null,null,null,null,null," "," ",null,null,null,"",""]
[null,null,null,null,null," "," ",null,null,null,"",""]
[null,null,null,null,null," "," ",null,null,null,"",""]
[null,null,null,null,null," "," ",null,null,null,"",""]
[null,null,null,null,null," "," ",null,null,null,"",""]
[null,null,null,null,null," "," ",null,null,null,"",""]
[null,null,null,null,null," "," ",null,null,null,"",""]
[null,null,null,null,null," "," ",null,null,null,"",""]
[null,null,null,null,null," "," ",null,null,null,"",""]
[null,null,null,null,null," "," ",null,null,null,"",""]
[null,null,null,null,null," "," ",null,null,null,{"$f":"IF($I710=\"\",\"\",\"L\"&LEFT($I710,2))","v":""},{"$f":"IF($I710=\"\",\"\",\"D\"&RIGHT(LEFT($I710,4),2))","v":""}]
[null,null,null,null,null," "," ",null,null,null,"",""]
[null,null,null,null,null," "," ",null,null,null,"",""]
[null,null,null,null,null," "," ",null,null,null,"",""]
[null,null,null,null,null," "," ",null,null,null,"",""]
[null,null,null,null,null," "," ",null,null,null,"",""]
[null,null,null,null,null," "," ",null,null,null,"",""]
[null,null,null,null,null," "," ",null,null,null,"",""]
[null,null,null,null,null," "," ",null,null,null,"",""]
[null,null,null,null,null," "," ",null,null,null,"",""]
[null,null,null,null,null," "," ",null,null,null,"",""]
[null,null,null,null,null," "," ",null,null,null,"",""]
[null,null,null,null,null," "," ",null,null,null,"",""]
[null,null,null,null,null," "," ",null,null,null,"",""]
[null,null,null,null,null," "," ",null,null,null,"",""]
[null,null,null,null,null," "," ",null,null,null,"",""]
[null,null,null,null,null," "," ",null,null,null,"",""]
[null,null,null,null,null," "," ",null,null,null,"",""]
[null,null,null,null,null," "," ",null,null,null,"",""]
[null,null,null,null,null," "," ",null,null,null,"",""]
[null,null,null,null,null," "," ",null,null,null,"",""]
[null,null,null,null,null," "," ",null,null,null,"",""]
[null,null,null,null,null," "," ",null,null,null,"",""]
[null,null,null,null,null," "," ",null,null,null,"",""]
[null,null,null,null,null," "," ",null,null,null,"",""]
[null,null,null,null,null," "," ",null,null,null,"",""]
[null,null,null,null,null," "," ",null,null,null,"",""]
[null,null,null,null,null," "," ",null,null,null,"",""]
[null,null,null,null,null," "," ",null,null,null,"",""]
[null,null,null,null,null," "," ",null,null,null,"",""]
[null,null,null,null,null," "," ",null,null,null,"",""]
[null,null,null,null,null," "," ",null,null,null,"",""]
[null,null,null,null,null," "," ",null,null,null,"",""]
[null,null,null,null,null," "," ",null,null,null,"",""]
[null,null,null,null,null," "," ",null,null,null,"",""]
[null,null,null,null,null," "," ",null,null,null,"",""]
[null,null,null,null,null," "," ",null,null,null,"",""]
[null,null,null,null,null," "," ",null,null,null,"",""]
[null,null,null,null,null," "," ",null,null,null,"",""]
[null,null,null,null,null," "," ",null,null,null,"",""]
[null,null,null,null,null," "," ",null,null,null,"",""]
[null,null,null,null,null," "," ",null,null,null,"",""]
[null,null,null,null,null," "," ",null,null,null,"",""]
[null,null,null,null,null," "," ",null,null,null,"",""]
[null,null,null,null,null," "," ",null,null,null,"",""]
[null,null,null,null,null," "," ",null,null,null,"",""]
[null,null,null,null,null," "," ",null,null,null,"",""]
[null,null,null,null,null," "," ",null,null,null,"",""]
[null,null,null,null,null," "," ",null,null,null,"",""]
[null,null,null,null,null," "," ",null,null,null,"",""]
[null,null,null,null,null," "," ",null,null,null,"",""]
[null,null,null,null,null," "," ",null,null,null,"",""]
[null,null,null,null,null," "," ",null,null,null,"",""]
[null,null,null,null,null," "," ",null,null,null,"",""]
[null,null,null,null,null," "," ",null,null,null,"",""]
[null,null,null,null,null," "," ",null,null,null,"",""]
[null,null,null,null,null," "," ",null,null,null,"",""]
[null,null,null,null,null," "," ",null,null,null,"",""]
[null,null,null,null,null," "," ",null,null,null,"",""]
[null,null,null,null,null," "," ",null,null,null,"",""]
[null,null,null,null,null," "," ",null,null,null,"",""]
[null,null,null,null,null," "," ",null,null,null,"",""]
[null,null,null,null,null," "," ",null,null,null,"",""]
[null,null,null,null,null," "," ",null,null,null,"",""]
[null,null,null,null,null," "," ",null,null,null,{"$f":"IF($I774=\"\",\"\",\"L\"&LEFT($I774,2))","v":""},{"$f":"IF($I774=\"\",\"\",\"D\"&RIGHT(LEFT($I774,4),2))","v":""}]
[null,null,null,null,null," "," ",null,null,null,"",""]
[null,null,null,null,null," "," ",null,null,null,"",""]
[null,null,null,null,null," "," ",null,null,null,"",""]
[null,null,null,null,null," "," ",null,null,null,"",""]
[null,null,null,null,null," "," ",null,null,null,"",""]
[null,null,null,null,null," "," ",null,null,null,"",""]
[null,null,null,null,null," "," ",null,null,null,"",""]
[null,null,null,null,null," "," ",null,null,null,"",""]
[null,null,null,null,null," "," ",null,null,null,"",""]
[null,null,null,null,null," "," ",null,null,null,"",""]
[null,null,null,null,null," "," ",null,null,null,"",""]
[null,null,null,null,null," "," ",null,null,null,"",""]
[null,null,null,null,null," "," ",null,null,null,"",""]
[null,null,null,null,null," "," ",null,null,null,"",""]
[null,null,null,null,null," "," ",null,null,null,"",""]
[null,null,null,null,null," "," ",null,null,null,"",""]
[null,null,null,null,null," "," ",null,null,null,"",""]
[null,null,null,null,null," "," ",null,null,null,"",""]
[null,null,null,null,null," "," ",null,null,null,"",""]
[null,null,null,null,null," "," ",null,null,null,"",""]
[null,null,null,null,null," "," ",null,null,null,"",""]
[null,null,null,null,null," "," ",null,null,null,"",""]
[null,null,null,null,null," "," ",null,null,null,"",""]
[null,null,null,null,null," "," ",null,null,null,"",""]
[null,null,null,null,null," "," ",null,null,null,"",""]
[null,null,null,null,null," "," ",null,null,null,"",""]
[null,null,null,null,null," "," ",null,null,null,"",""]
[null,null,null,null,null," "," ",null,null,null,"",""]
[null,null,null,null,null," "," ",null,null,null,"",""]
[null,null,null,null,null," "," ",null,null,null,"",""]
[null,null,null,null,null," "," ",null,null,null,"",""]
[null,null,null,null,null," "," ",null,null,null,"",""]
[null,null,null,null,null," "," ",null,null,null,"",""]
[null,null,null,null,null," "," ",null,null,null,"",""]
[null,null,null,null,null," "," ",null,null,null,"",""]
[null,null,null,null,null," "," ",null,null,null,"",""]
[null,null,null,null,null," "," ",null,null,null,"",""]
[null,null,null,null,null," "," ",null,null,null,"",""]
[null,null,null,null,null," "," ",null,null,null,"",""]
[null,null,null,null,null," "," ",null,null,null,"",""]
[null,null,null,null,null," "," ",null,null,null,"",""]
[null,null,null,null,null," "," ",null,null,null,"",""]
[null,null,null,null,null," "," ",null,null,null,"",""]
[null,null,null,null,null," "," ",null,null,null,"",""]
[null,null,null,null,null," "," ",null,null,null,"",""]
[null,null,null,null,null," "," ",null,null,null,"",""]
[null,null,null,null,null," "," ",null,null,null,"",""]
[null,null,null,null,null," "," ",null,null,null,"",""]
[null,null,null,null,null," "," ",null,null,null,"",""]
[null,null,null,null,null," "," ",null,null,null,"",""]
[null,null,null,null,null," "," ",null,null,null,"",""]
[null,null,null,null,null," "," ",null,null,null,"",""]
[null,null,null,null,null," "," ",null,null,null,"",""]
[null,null,null,null,null," "," ",null,null,null,"",""]
[null,null,null,null,null," "," ",null,null,null,"",""]
[null,null,null,null,null," "," ",null,null,null,"",""]
[null,null,null,null,null," "," ",null,null,null,"",""]
[null,null,null,null,null," "," ",null,null,null,"",""]
[null,null,null,null,null," "," ",null,null,null,"",""]
[null,null,null,null,null," "," ",null,null,null,"",""]
[null,null,null,null,null," "," ",null,null,null,"",""]
[null,null,null,null,null," "," ",null,null,null,"",""]
[null,null,null,null,null," "," ",null,null,null,"",""]
[null,null,null,null,null," "," ",null,null,null,{"$f":"IF($I838=\"\",\"\",\"L\"&LEFT($I838,2))","v":""},{"$f":"IF($I838=\"\",\"\",\"D\"&RIGHT(LEFT($I838,4),2))","v":""}]
[null,null,null,null,null," "," ",null,null,null,"",""]
[null,null,null,null,null," "," ",null,null,null,"",""]
[null,null,null,null,null," "," ",null,null,null,"",""]
[null,null,null,null,null," "," ",null,null,null,"",""]
[null,null,null,null,null," "," ",null,null,null,"",""]
[null,null,null,null,null," "," ",null,null,null,"",""]
[null,null,null,null,null," "," ",null,null,null,"",""]
[null,null,null,null,null," "," ",null,null,null,"",""]
[null,null,null,null,null," "," ",null,null,null,"",""]
[null,null,null,null,null," "," ",null,null,null,"",""]
[null,null,null,null,null," "," ",null,null,null,"",""]
[null,null,null,null,null," "," ",null,null,null,"",""]
[null,null,null,null,null," "," ",null,null,null,"",""]
[null,null,null,null,null," "," ",null,null,null,"",""]
[null,null,null,null,null," "," ",null,null,null,"",""]
[null,null,null,null,null," "," ",null,null,null,"",""]
[null,null,null,null,null," "," ",null,null,null,"",""]
[null,null,null,null,null," "," ",null,null,null,"",""]
[null,null,null,null,null," "," ",null,null,null,"",""]
[null,null,null,null,null," "," ",null,null,null,"",""]
[null,null,null,null,null," "," ",null,null,null,"",""]
[null,null,null,null,null," "," ",null,null,null,"",""]
[null,null,null,null,null," "," ",null,null,null,"",""]
[null,null,null,null,null," "," ",null,null,null,"",""]
[null,null,null,null,null," "," ",null,null,null,"",""]
[null,null,null,null,null," "," ",null,null,null,"",""]
[null,null,null,null,null," "," ",null,null,null,"",""]
[null,null,null,null,null," "," ",null,null,null,"",""]
[null,null,null,null,null," "," ",null,null,null,"",""]
[null,null,null,null,null," "," ",null,null,null,"",""]
[null,null,null,null,null," "," ",null,null,null,"",""]
[null,null,null,null,null," "," ",null,null,null,"",""]
[null,null,null,null,null," "," ",null,null,null,"",""]
[null,null,null,null,null," "," ",null,null,null,"",""]
[null,null,null,null,null," "," ",null,null,null,"",""]
[null,null,null,null,null," "," ",null,null,null,"",""]
[null,null,null,null,null," "," ",null,null,null,"",""]
[null,null,null,null,null," "," ",null,null,null,"",""]
[null,null,null,null,null," "," ",null,null,null,"",""]
[null,null,null,null,null," "," ",null,null,null,"",""]
[null,null,null,null,null," "," ",null,null,null,"",""]
[null,null,null,null,null," "," ",null,null,null,"",""]
[null,null,null,null,null," "," ",null,null,null,"",""]
[null,null,null,null,null," "," ",null,null,null,"",""]
[null,null,null,null,null," "," ",null,null,null,"",""]
[null,null,null,null,null," "," ",null,null,null,"",""]
[null,null,null,null,null," "," ",null,null,null,"",""]
[null,null,null,null,null," "," ",null,null,null,"",""]
[null,null,null,null,null," "," ",null,null,null,"",""]
[null,null,null,null,null," "," ",null,null,null,"",""]
[null,null,null,null,null," "," ",null,null,null,"",""]
[null,null,null,null,null," "," ",null,null,null,"",""]
[null,null,null,null,null," "," ",null,null,null,"",""]
[null,null,null,null,null," "," ",null,null,null,"",""]
[null,null,null,null,null," "," ",null,null,null,"",""]
[null,null,null,null,null," "," ",null,null,null,"",""]
[null,null,null,null,null," "," ",null,null,null,"",""]
[null,null,null,null,null," "," ",null,null,null,"",""]
[null,null,null,null,null," "," ",null,null,null,"",""]
[null,null,null,null,null," "," ",null,null,null,"",""]
[null,null,null,null,null," "," ",null,null,null,"",""]
[null,null,null,null,null," "," ",null,null,null,"",""]
[null,null,null,null,null," "," ",null,null,null,"",""]
[null,null,null,null,null," "," ",null,null,null,{"$f":"IF($I902=\"\",\"\",\"L\"&LEFT($I902,2))","v":""},{"$f":"IF($I902=\"\",\"\",\"D\"&RIGHT(LEFT($I902,4),2))","v":""}]
[null,null,null,null,null," "," ",null,null,null,{"$f":"IF($I903=\"\",\"\",\"L\"&LEFT($I903,2))","v":""},{"$f":"IF($I903=\"\",\"\",\"D\"&RIGHT(LEFT($I903,4),2))","v":""}]
[null,null,null,null,null," "," ",null,null,null,{"$f":"IF($I904=\"\",\"\",\"L\"&LEFT($I904,2))","v":""},{"$f":"IF($I904=\"\",\"\",\"D\"&RIGHT(LEFT($I904,4),2))","v":""}]
[null,null,null,null,null," "," ",null,null,null,{"$f":"IF($I905=\"\",\"\",\"L\"&LEFT($I905,2))","v":""},{"$f":"IF($I905=\"\",\"\",\"D\"&RIGHT(LEFT($I905,4),2))","v":""}]
[901,null,"Exempt",null,null," "," ",null,null," ",{"$f":"IF($I906=\"\",\"\",\"L\"&LEFT($I906,2))","v":""},{"$f":"IF($I906=\"\",\"\",\"D\"&RIGHT(LEFT($I906,4),2))","v":""}]

{"sheet":"TS-201b","index":4,"n_rows":301,"n_cols":20,"rows_kept":301,"cut":false,"hidden":true,"merged":[[4,2,4,12],[4,14,8,15],[6,2,6,12],[8,9,8,11]]}
[null,null,{"$f":"\"Epreuve  : \"&'TS-200'!$C$1","v":"Epreuve  : Critérium Fédéral"},null,null,null,null,null,null,null,null,null,{"$f":"\"Lieu : \"&'TS-200'!$C$2","v":"Lieu : Pont à Mousson"}]
[null,null,{"$f":"\"Tableau : \"&'TS-200'!$C$4","v":"Tableau :  "},null,null,null,null,null,null,null,null,null,{"$f":"\"Date : \"&'TS-200'!$C$3","v":"Date : 15 au 17 mars 2019"},null,null,null,null,null,"1_4"]
[null,null,null,null,null,null,null,null,null,null,null,null,null,null,null,null,null,null,"5_8"]
[null,null,null,null,null,null,null,null,null,null,null,null,null,null,null,null,null,null,"9_12"]
[null,null,"PREPARATION TIRAGE AU SORT PAR BLOC POUR LA MISE EN POULE",null,null,null,null,null,null,null,null,null,null,null,"Répartition des joueuses par Club, Comité ou Ligue",null,null,null,"13_16"]
[]
[null,null,"LISTE DES JOUEURS PAR ORDRE DE VALEUR"]
[]
[null,null,null,null,null,null,null,null,null,"Critère d'appartenance pour la mise en poule",null,null,"Club"]
[null,null,null,null,null,null,null,null,null,null,null,"Club"]
[null,null,null,null,null,null,null,null,null,null,null,"Comité"]
[null,null,null,null,null,null,null,null,null,null,null,"Ligue"]
[null,null,null,null,null,3,4,5,6,{"$f":"IF(M9=\"Club\",10,IF(M9=\"Ligue\",11,IF(M9=\"Comité\",12,9)))","v":10}]
[]
["Poule","Rang","N°",null,"Dossard","Nom prénom","Points","Clt","Date naissance","Club, Comité ou Ligue","Rang","Bloc","Numérotation par Club, Comité ou Ligue\npar bloc",null,"NB Club, Comité ou Ligue","Bloc"]
[null,{"$f":"IF(ISERROR(VALUE(A16&LEFT(K16,1))),\"\",VALUE(A16&LEFT(K16,1)))","v":1},1,null,27,{"$f":"IF($E16=\"\",\"\",VLOOKUP($E16,Liste_J,F$13,FALSE))","v":0},{"$f":"IF($E16=\"\",0,IF(VLOOKUP($E16,Liste_J,G$13,FALSE)=\"\",0,VLOOKUP($E16,Liste_J,G$13,FALSE)))","v":0},0,{"$f":"IF($E16=\"\",\"\",VLOOKUP($E16,Liste_J,I$13,FALSE))","v":"00:00:00"},0,1,"1_4",null,null,"Club, Comité ou Ligue","1_4","5_8","9_12","13_16","Total général"]
[null,{"$f":"IF(ISERROR(VALUE(A17&LEFT(K17,1))),\"\",VALUE(A17&LEFT(K17,1)))","v":1},2,null,28,{"$f":"IF($E17=\"\",\"\",VLOOKUP($E17,Liste_J,F$13,FALSE))","v":0},0,0,"00:00:00",0,1,"1_4",null,null,"CHESNAY 78 AS",1,null,2,null,3]
[null,1,3,null,29,0,0,0,"00:00:00",0,1,"1_4",null,null,"CESSON OC",1,null,null,2,3]
[null,1,4,null,30,0,0,0,"00:00:00",0,1,"1_4",null,null,"Niort T.T.",null,1,1,1,3]
[null,1,5,null,31,0,0,0,"00:00:00",0,1,"5_8",null,null,"LA GARDE TT",1,null,1,null,2]
[null,1,6,null,32,0,0,0,"00:00:00",0,1,"5_8",null,null,"CLAMART CSM",1,null,null,1,2]
[null,1,7,null,33,0,0,0,"00:00:00",0,1,"5_8",null,null,"BETHUNE-B ASTT",null,null,1,1,2]
[null,1,8,null,34,0,0,0,"00:00:00",0,1,"5_8",null,null,"BOULOGNE BILLAN",1,1,null,null,2]
[null,1,9,null,35,0,0,0,"00:00:00",0,1,"9_12",null,null,"4S TOURS T.T.",1,null,1,null,2]
[null,1,10,null,36,{"$error":"#N/A"},{"$error":"#N/A"},{"$error":"#N/A"},{"$error":"#N/A"},{"$error":"#N/A"},1,"9_12",null,null,"ES VILLIERS",null,1,null,1,2]
[null,1,11,null,37,{"$error":"#N/A"},{"$error":"#N/A"},{"$error":"#N/A"},{"$error":"#N/A"},{"$error":"#N/A"},1,"9_12",null,null,"ANG VAILLANTE",null,null,1,1,2]
[null,1,12,null,38,{"$error":"#N/A"},{"$error":"#N/A"},{"$error":"#N/A"},{"$error":"#N/A"},{"$error":"#N/A"},1,"9_12",null,null,"PROVILLE ASL",null,null,2,null,2]
[null,1,13,null,39,{"$error":"#N/A"},{"$error":"#N/A"},{"$error":"#N/A"},{"$error":"#N/A"},{"$error":"#N/A"},1,"13_16",null,null,"ROMAGNE (LA)",null,2,null,null,2]
[null,1,14,null,40,{"$error":"#N/A"},{"$error":"#N/A"},{"$error":"#N/A"},{"$error":"#N/A"},{"$error":"#N/A"},1,"13_16",null,null,"METZ TT",1,null,null,null,1]
[null,1,15,null,41,0,0,0,"00:00:00",0,1,"13_16",null,null,"PONTOISE-CERGY",null,null,1,null,1]
[null,1,16,null,42,0,0,0,"00:00:00",0,1,"13_16",null,null,"BEAUFOU",null,1,null,null,1]
[null,2,17,null,43,0,0,0,"00:00:00",0,2,"13_16",null,null,"TTTMG",null,null,null,1,1]
[null,2,18,null,44,0,0,0,"00:00:00",0,2,"13_16",null,null,"ALFORT JSA",1,null,null,null,1]
[null,2,19,null,45,0,0,0,"00:00:00",0,2,"13_16",null,null,"Esp. REUILLY",null,null,null,1,1]
[null,2,20,null,46,0,0,0,"00:00:00",0,2,"13_16",null,null,"COURNON CL",null,1,null,null,1]
[null,2,21,null,48,0,{"$f":"IF($E36=\"\",0,IF(VLOOKUP($E36,Liste_J,G$13,FALSE)=\"\",0,VLOOKUP($E36,Liste_J,G$13,FALSE)))","v":0},0,{"$f":"IF($E36=\"\",\"\",VLOOKUP($E36,Liste_J,I$13,FALSE))","v":"00:00:00"},0,2,"9_12","CHE 2",null,"THORIGNE TT",null,null,null,1,1]
[null,2,22,null,49,0,0,0,"00:00:00",0,2,"9_12",null,null,"ST PAIR BRICQUE",null,null,1,null,1]
[null,2,23,null,50,0,0,0,"00:00:00",0,2,"9_12",null,null,"REIMS OLYMPIQUE",null,1,null,null,1]
[null,2,24,null,51,0,0,0,"00:00:00",0,2,"9_12","PRO 2",null,"JEUMONT PPC",null,null,null,1,1]
[null,2,25,null,53,0,0,0,"00:00:00",0,2,"5_8",null,null,"CHARLEVILLE MEZ",1,null,null,null,1]
[null,2,26,null,54,0,0,0,"00:00:00",0,2,"5_8",null,null,"TT VINCENNOIS",null,null,null,1,1]
[null,2,27,null,55,0,0,0,"00:00:00",0,2,"5_8",null,null,"CHATILLON TTMC",null,null,1,null,1]
[null,2,28,null,56,0,0,0,"00:00:00",0,2,"5_8",null,null,"ELANCOURT CTT",null,1,null,null,1]
[null,2,29,null,57,{"$error":"#N/A"},{"$error":"#N/A"},{"$error":"#N/A"},{"$error":"#N/A"},{"$error":"#N/A"},2,"1_4",null,null,"CP QUEVILLAIS",null,1,null,null,1]
[null,2,30,null,58,{"$error":"#N/A"},{"$error":"#N/A"},{"$error":"#N/A"},{"$error":"#N/A"},{"$error":"#N/A"},2,"1_4",null,null,"CAEN TTC",null,1,null,null,1]
[null,2,31,null,59,{"$error":"#N/A"},{"$error":"#N/A"},{"$error":"#N/A"},{"$error":"#N/A"},{"$error":"#N/A"},2,"1_4",null,null,"ERMONT-PLESSIS",null,1,null,null,1]
[null,2,32,null,60,{"$error":"#N/A"},{"$error":"#N/A"},{"$error":"#N/A"},{"$error":"#N/A"},{"$error":"#N/A"},2,"1_4",null,null,"AL PLOEMEUR",null,null,1,null,1]
[null,3,33,null,61,0,0,0,"00:00:00",0,3,"1_4",null,null,"ENT ST PIERRE",null,null,null,1,1]
[null,3,34,null,62,0,0,0,"00:00:00",0,3,"1_4",null,null,"BRUILLE CTT",null,null,1,null,1]
[null,3,35,null,63,0,0,0,"00:00:00",0,3,"1_4",null,null,"WATTIGNIES PPC",null,null,1,null,1]
[null,3,36,null,64,0,0,0,"00:00:00",0,3,"1_4",null,null,"SPO ROUEN",null,null,null,1,1]
[null,3,37,null,66,0,0,0,"00:00:00",0,3,"5_8",null,null,"MONTPELLIER TT",null,1,null,null,1]
[null,3,38,null,67,0,0,0,"00:00:00",0,3,"5_8",null,null,"MALAKOFF USM",null,null,null,1,1]
[null,3,39,null,68,0,0,0,"00:00:00",0,3,"5_8",null,null,"ARGENTAN BAYARD",1,null,null,null,1]
[null,3,40,null,69,0,0,0,"00:00:00",0,3,"5_8",null,null,"BOURGOIN JALLIE",null,null,null,1,1]
[null,3,41,null,70,0,{"$f":"IF($E56=\"\",0,IF(VLOOKUP($E56,Liste_J,G$13,FALSE)=\"\",0,VLOOKUP($E56,Liste_J,G$13,FALSE)))","v":0},0,{"$f":"IF($E56=\"\",\"\",VLOOKUP($E56,Liste_J,I$13,FALSE))","v":"00:00:00"},0,3,"9_12",null,null,"SAINT MAUR VGA",1,null,null,null,1]
[null,3,42,null,71,0,0,0,"00:00:00",0,3,"9_12",null,null,"MULHOUSE TT",1,null,null,null,1]
[null,3,43,null,72,0,0,0,"00:00:00",0,3,"9_12",null,null,"SAINT CHAMOND",null,null,1,null,1]
[null,3,44,null,73,0,0,0,"00:00:00",0,3,"9_12",null,null,"ST LAUREN/BLANG",null,1,null,null,1]
[null,3,45,null,74,0,0,0,"00:00:00",0,3,"13_16",null,null,"STE MARIE AUX C",null,1,null,null,1]
[null,3,46,null,75,0,0,0,"00:00:00",0,3,"13_16",null,null,"IGNY",null,1,null,null,1]
[null,3,47,null,76,0,0,0,"00:00:00",0,3,"13_16",null,null,"NORD ALSACE TT",1,null,null,null,1]
[null,3,48,null,77,{"$error":"#N/A"},{"$error":"#N/A"},{"$error":"#N/A"},{"$error":"#N/A"},{"$error":"#N/A"},3,"13_16","CES 2",null,"PANA LOISIRS",1,null,null,null,1]
[null,4,49,null,78,{"$error":"#N/A"},{"$error":"#N/A"},{"$error":"#N/A"},{"$error":"#N/A"},{"$error":"#N/A"},4,"13_16",null,null,"ROCHE LEZ BEAUP",1,null,null,null,1]
[null,4,50,null,79,{"$error":"#N/A"},{"$error":"#N/A"},{"$error":"#N/A"},{"$error":"#N/A"},{"$error":"#N/A"},4,"13_16",null,null,"O.ANTIBES JLP",1,null,null,null,1]
[null,4,51,null,80,{"$error":"#N/A"},{"$error":"#N/A"},{"$error":"#N/A"},{"$error":"#N/A"},{"$error":"#N/A"},4,"13_16",null,null,"Total général",16,16,16,16,64]
[null,4,52,null,81,0,0,0,"00:00:00",0,4,"13_16"]
[null,4,53,null,82,0,0,0,"00:00:00",0,4,"9_12"]
[null,4,54,null,83,0,0,0,"00:00:00",0,4,"9_12"]
[null,4,55,null,84,0,0,0,"00:00:00",0,4,"9_12"]
[null,4,56,null,85,0,0,0,"00:00:00",0,4,"9_12"]
[null,4,57,null,86,0,0,0,"00:00:00",0,4,"5_8"]
[null,4,58,null,88,0,0,0,"00:00:00",0,4,"5_8"]
[null,4,59,null,91,0,0,0,"00:00:00",0,4,"5_8"]
[null,4,60,null,92,0,0,0,"00:00:00",0,4,"5_8"]
[null,4,61,null,93,0,{"$f":"IF($E76=\"\",0,IF(VLOOKUP($E76,Liste_J,G$13,FALSE)=\"\",0,VLOOKUP($E76,Liste_J,G$13,FALSE)))","v":0},0,{"$f":"IF($E76=\"\",\"\",VLOOKUP($E76,Liste_J,I$13,FALSE))","v":"00:00:00"},0,4,"1_4"]
[null,4,62,null,94,0,0,0,"00:00:00",0,4,"1_4"]
[null,4,63,null,96,0,0,0,"00:00:00",0,4,"1_4"]
[null,4,64,null,100,0,0,0,"00:00:00",0,4,"1_4"]
[null,"",65,null,null,{"$f":"IF($E80=\"\",\"\",VLOOKUP($E80,Liste_J,F$13,FALSE))","v":""},0,0,"",""]
[null,{"$f":"IF(ISERROR(VALUE(A81&LEFT(K81,1))),\"\",VALUE(A81&LEFT(K81,1)))","v":""},66,null,null,"",0,0,"",""]
[null,"",67,null,null,"",0,0,"",""]
[null,"",68,null,null,"",0,0,"",""]
[null,"",69,null,null,"",0,0,"",""]
[null,"",70,null,null,"",0,0,"",""]
[null,"",71,null,null,"",0,0,"",""]
[null,"",72,null,null,"",0,0,"",""]
[null,"",73,null,null,"",0,0,"",""]
[null,"",74,null,null,"",0,0,"",""]
[null,"",75,null,null,"",0,0,"",""]
[null,"",76,null,null,"",0,0,"",""]
[null,"",77,null,null,"",0,0,"",""]
[null,"",78,null,null,"",0,0,"",""]
[null,"",79,null,null,"",0,0,"",""]
[null,"",80,null,null,"",0,0,"",""]
[null,"",81,null,null,"",{"$f":"IF($E96=\"\",0,IF(VLOOKUP($E96,Liste_J,G$13,FALSE)=\"\",0,VLOOKUP($E96,Liste_J,G$13,FALSE)))","v":0},0,{"$f":"IF($E96=\"\",\"\",VLOOKUP($E96,Liste_J,I$13,FALSE))","v":""},""]
[null,"",82,null,null,"",0,0,"",""]
[null,"",83,null,null,"",0,0,"",""]
[null,"",84,null,null,"",0,0,"",""]
[null,"",85,null,null,"",0,0,"",""]
[null,"",86,null,null,"",0,0,"",""]
[null,"",87,null,null,"",0,0,"",""]
[null,"",88,null,null,"",0,0,"",""]
[null,"",89,null,null,"",0,0,"",""]
[null,"",90,null,null,"",0,0,"",""]
[null,"",91,null,null,"",0,0,"",""]
[null,"",92,null,null,"",0,0,"",""]
[null,"",93,null,null,"",0,0,"",""]
[null,"",94,null,null,"",0,0,"",""]
[null,"",95,null,null,"",0,0,"",""]
[null,"",96,null,null,"",0,0,"",""]
[null,"",97,null,null,"",0,0,"",""]
[null,"",98,null,null,"",0,0,"",""]
[null,"",99,null,null,"",0,0,"",""]
[null,"",100,null,null,"",0,0,"",""]
[null,"",101,null,null,"",{"$f":"IF($E116=\"\",0,IF(VLOOKUP($E116,Liste_J,G$13,FALSE)=\"\",0,VLOOKUP($E116,Liste_J,G$13,FALSE)))","v":0},0,{"$f":"IF($E116=\"\",\"\",VLOOKUP($E116,Liste_J,I$13,FALSE))","v":""},""]
[null,"",102,null,null,"",0,0,"",""]
[null,"",103,null,null,"",0,0,"",""]
[null,"",104,null,null,"",0,0,"",""]
[null,"",105,null,null,"",0,0,"",""]
[null,"",106,null,null,"",0,0,"",""]
[null,"",107,null,null,"",0,0,"",""]
[null,"",108,null,null,"",0,0,"",""]
[null,"",109,null,null,"",0,0,"",""]
[null,"",110,null,null,"",0,0,"",""]
[null,"",111,null,null,"",0,0,"",""]
[null,"",112,null,null,"",0,0,"",""]
[null,"",113,null,null,"",0,0,"",""]
[null,"",114,null,null,"",0,0,"",""]
[null,"",115,null,null,"",0,0,"",""]
[null,"",116,null,null,"",0,0,"",""]
[null,"",117,null,null,"",0,0,"",""]
[null,"",118,null,null,"",0,0,"",""]
[null,"",119,null,null,"",0,0,"",""]
[null,"",120,null,null,"",0,0,"",""]
[null,"",121,null,null,"",{"$f":"IF($E136=\"\",0,IF(VLOOKUP($E136,Liste_J,G$13,FALSE)=\"\",0,VLOOKUP($E136,Liste_J,G$13,FALSE)))","v":0},0,{"$f":"IF($E136=\"\",\"\",VLOOKUP($E136,Liste_J,I$13,FALSE))","v":""},""]
[null,"",122,null,null,"",0,0,"",""]
[null,"",123,null,null,"",0,0,"",""]
[null,"",124,null,null,"",0,0,"",""]
[null,"",125,null,null,"",0,0,"",""]
[null,"",126,null,null,"",0,0,"",""]
[null,"",127,null,null,"",0,0,"",""]
[null,"",128,null,null,"",0,0,"",""]
[]
[null,null,{"$f":"'TS-201c'!B7","v":"Dossard"},null,{"$f":"'TS-201c'!G7","v":"Dossard"},{"$f":"'TS-201c'!L7","v":"Dossard"},{"$f":"'TS-201c'!Q7","v":"Dossard"}]
[null,null,{"$f":"'TS-201c'!B8","v":0},null,{"$f":"'TS-201c'!G8","v":0},{"$f":"'TS-201c'!L8","v":0},{"$f":"'TS-201c'!Q8","v":0}]
[null,null,{"$f":"'TS-201c'!B9","v":""},null,{"$f":"'TS-201c'!G9","v":""},{"$f":"'TS-201c'!L9","v":""},{"$f":"'TS-201c'!Q9","v":""}]
[null,null,{"$f":"'TS-201c'!B10","v":0},null,{"$f":"'TS-201c'!G10","v":0},{"$f":"'TS-201c'!L10","v":0},{"$f":"'TS-201c'!Q10","v":0}]
[null,null,{"$f":"'TS-201c'!B11","v":""},null,{"$f":"'TS-201c'!G11","v":""},{"$f":"'TS-201c'!L11","v":""},{"$f":"'TS-201c'!Q11","v":""}]
[null,null,{"$f":"'TS-201c'!B12","v":0},null,{"$f":"'TS-201c'!G12","v":0},{"$f":"'TS-201c'!L12","v":0},{"$f":"'TS-201c'!Q12","v":0}]
[null,null,{"$f":"'TS-201c'!B13","v":""},null,{"$f":"'TS-201c'!G13","v":""},{"$f":"'TS-201c'!L13","v":""},{"$f":"'TS-201c'!Q13","v":""}]
[null,null,{"$f":"'TS-201c'!B14","v":0},null,{"$f":"'TS-201c'!G14","v":0},{"$f":"'TS-201c'!L14","v":0},{"$f":"'TS-201c'!Q14","v":0}]
[null,null,{"$f":"'TS-201c'!B15","v":""},null,{"$f":"'TS-201c'!G15","v":""},{"$f":"'TS-201c'!L15","v":""},{"$f":"'TS-201c'!Q15","v":""}]
[null,null,{"$f":"'TS-201c'!B16","v":0},null,{"$f":"'TS-201c'!G16","v":0},{"$f":"'TS-201c'!L16","v":0},{"$f":"'TS-201c'!Q16","v":0}]
[null,null,{"$f":"'TS-201c'!B17","v":""},null,{"$f":"'TS-201c'!G17","v":""},{"$f":"'TS-201c'!L17","v":""},{"$f":"'TS-201c'!Q17","v":""}]
[null,null,{"$f":"'TS-201c'!B18","v":0},null,{"$f":"'TS-201c'!G18","v":0},{"$f":"'TS-201c'!L18","v":0},{"$f":"'TS-201c'!Q18","v":0}]
[null,null,{"$f":"'TS-201c'!B19","v":""},null,{"$f":"'TS-201c'!G19","v":""},{"$f":"'TS-201c'!L19","v":""},{"$f":"'TS-201c'!Q19","v":""}]
[null,null,{"$f":"'TS-201c'!B20","v":0},null,{"$f":"'TS-201c'!G20","v":0},{"$f":"'TS-201c'!L20","v":0},{"$f":"'TS-201c'!Q20","v":0}]
[null,null,{"$f":"'TS-201c'!B21","v":0},null,{"$f":"'TS-201c'!G21","v":0},{"$f":"'TS-201c'!L21","v":0},{"$f":"'TS-201c'!Q21","v":0}]
[null,null,{"$f":"'TS-201c'!B22","v":0},null,{"$f":"'TS-201c'!G22","v":0},{"$f":"'TS-201c'!L22","v":0},{"$f":"'TS-201c'!Q22","v":0}]
[null,null,{"$f":"'TS-201c'!B23","v":"Dossard"},null,{"$f":"'TS-201c'!G23","v":"Dossard"},{"$f":"'TS-201c'!L23","v":"Dossard"},{"$f":"'TS-201c'!Q23","v":"Dossard"}]
[null,null,{"$f":"'TS-201c'!B24","v":0},null,{"$f":"'TS-201c'!G24","v":0},{"$f":"'TS-201c'!L24","v":0},{"$f":"'TS-201c'!Q24","v":0}]
[null,null,{"$f":"'TS-201c'!B25","v":""},null,{"$f":"'TS-201c'!G25","v":""},{"$f":"'TS-201c'!L25","v":""},{"$f":"'TS-201c'!Q25","v":""}]
[null,null,{"$f":"'TS-201c'!B26","v":0},null,{"$f":"'TS-201c'!G26","v":0},{"$f":"'TS-201c'!L26","v":0},{"$f":"'TS-201c'!Q26","v":0}]
[null,null,{"$f":"'TS-201c'!B27","v":""},null,{"$f":"'TS-201c'!G27","v":""},{"$f":"'TS-201c'!L27","v":""},{"$f":"'TS-201c'!Q27","v":""}]
[null,null,{"$f":"'TS-201c'!B28","v":0},null,{"$f":"'TS-201c'!G28","v":0},{"$f":"'TS-201c'!L28","v":0},{"$f":"'TS-201c'!Q28","v":0}]
[null,null,{"$f":"'TS-201c'!B29","v":""},null,{"$f":"'TS-201c'!G29","v":""},{"$f":"'TS-201c'!L29","v":""},{"$f":"'TS-201c'!Q29","v":""}]
[null,null,{"$f":"'TS-201c'!B30","v":0},null,{"$f":"'TS-201c'!G30","v":0},{"$f":"'TS-201c'!L30","v":0},{"$f":"'TS-201c'!Q30","v":0}]
[null,null,{"$f":"'TS-201c'!B31","v":""},null,{"$f":"'TS-201c'!G31","v":""},{"$f":"'TS-201c'!L31","v":""},{"$f":"'TS-201c'!Q31","v":""}]
[null,null,{"$f":"'TS-201c'!B32","v":0},null,{"$f":"'TS-201c'!G32","v":0},{"$f":"'TS-201c'!L32","v":0},{"$f":"'TS-201c'!Q32","v":0}]
[null,null,{"$f":"'TS-201c'!B33","v":""},null,{"$f":"'TS-201c'!G33","v":""},{"$f":"'TS-201c'!L33","v":""},{"$f":"'TS-201c'!Q33","v":""}]
[null,null,{"$f":"'TS-201c'!B34","v":0},null,{"$f":"'TS-201c'!G34","v":0},{"$f":"'TS-201c'!L34","v":0},{"$f":"'TS-201c'!Q34","v":0}]
[null,null,{"$f":"'TS-201c'!B35","v":""},null,{"$f":"'TS-201c'!G35","v":""},{"$f":"'TS-201c'!L35","v":""},{"$f":"'TS-201c'!Q35","v":""}]
[null,null,{"$f":"'TS-201c'!B36","v":0},null,{"$f":"'TS-201c'!G36","v":0},{"$f":"'TS-201c'!L36","v":0},{"$f":"'TS-201c'!Q36","v":0}]
[null,null,{"$f":"'TS-201c'!B37","v":0},null,{"$f":"'TS-201c'!G37","v":0},{"$f":"'TS-201c'!L37","v":0},{"$f":"'TS-201c'!Q37","v":0}]
[null,null,{"$f":"'TS-201c'!B38","v":0},null,{"$f":"'TS-201c'!G38","v":0},{"$f":"'TS-201c'!L38","v":0},{"$f":"'TS-201c'!Q38","v":0}]
[null,null,{"$f":"'TS-201c'!B39","v":"Dossard"},null,{"$f":"'TS-201c'!G39","v":"Dossard"},{"$f":"'TS-201c'!L39","v":"Dossard"},{"$f":"'TS-201c'!Q39","v":"Dossard"}]
[null,null,{"$f":"'TS-201c'!B40","v":0},null,{"$f":"'TS-201c'!G40","v":0},{"$f":"'TS-201c'!L40","v":0},{"$f":"'TS-201c'!Q40","v":0}]
[null,null,{"$f":"'TS-201c'!B41","v":""},null,{"$f":"'TS-201c'!G41","v":""},{"$f":"'TS-201c'!L41","v":""},{"$f":"'TS-201c'!Q41","v":""}]
[null,null,{"$f":"'TS-201c'!B42","v":0},null,{"$f":"'TS-201c'!G42","v":0},{"$f":"'TS-201c'!L42","v":0},{"$f":"'TS-201c'!Q42","v":0}]
[null,null,{"$f":"'TS-201c'!B43","v":""},null,{"$f":"'TS-201c'!G43","v":""},{"$f":"'TS-201c'!L43","v":""},{"$f":"'TS-201c'!Q43","v":""}]
[null,null,{"$f":"'TS-201c'!B44","v":0},null,{"$f":"'TS-201c'!G44","v":0},{"$f":"'TS-201c'!L44","v":0},{"$f":"'TS-201c'!Q44","v":0}]
[null,null,{"$f":"'TS-201c'!B45","v":""},null,{"$f":"'TS-201c'!G45","v":""},{"$f":"'TS-201c'!L45","v":""},{"$f":"'TS-201c'!Q45","v":""}]
[null,null,{"$f":"'TS-201c'!B46","v":0},null,{"$f":"'TS-201c'!G46","v":0},{"$f":"'TS-201c'!L46","v":0},{"$f":"'TS-201c'!Q46","v":0}]
[null,null,{"$f":"'TS-201c'!B47","v":""},null,{"$f":"'TS-201c'!G47","v":""},{"$f":"'TS-201c'!L47","v":""},{"$f":"'TS-201c'!Q47","v":""}]
[null,null,{"$f":"'TS-201c'!B48","v":0},null,{"$f":"'TS-201c'!G48","v":0},{"$f":"'TS-201c'!L48","v":0},{"$f":"'TS-201c'!Q48","v":0}]
[null,null,{"$f":"'TS-201c'!B49","v":""},null,{"$f":"'TS-201c'!G49","v":""},{"$f":"'TS-201c'!L49","v":""},{"$f":"'TS-201c'!Q49","v":""}]
[null,null,{"$f":"'TS-201c'!B50","v":0},null,{"$f":"'TS-201c'!G50","v":0},{"$f":"'TS-201c'!L50","v":0},{"$f":"'TS-201c'!Q50","v":0}]
[null,null,{"$f":"'TS-201c'!B51","v":""},null,{"$f":"'TS-201c'!G51","v":""},{"$f":"'TS-201c'!L51","v":""},{"$f":"'TS-201c'!Q51","v":""}]
[null,null,{"$f":"'TS-201c'!B52","v":0},null,{"$f":"'TS-201c'!G52","v":0},{"$f":"'TS-201c'!L52","v":0},{"$f":"'TS-201c'!Q52","v":0}]
[null,null,{"$f":"'TS-201c'!B53","v":0},null,{"$f":"'TS-201c'!G53","v":0},{"$f":"'TS-201c'!L53","v":0},{"$f":"'TS-201c'!Q53","v":0}]
[null,null,{"$f":"'TS-201c'!B54","v":0},null,{"$f":"'TS-201c'!G54","v":0},{"$f":"'TS-201c'!L54","v":0},{"$f":"'TS-201c'!Q54","v":0}]
[null,null,{"$f":"'TS-201c'!B55","v":"Dossard"},null,{"$f":"'TS-201c'!G55","v":"Dossard"},{"$f":"'TS-201c'!L55","v":"Dossard"},{"$f":"'TS-201c'!Q55","v":"Dossard"}]
[null,null,{"$f":"'TS-201c'!B56","v":0},null,{"$f":"'TS-201c'!G56","v":0},{"$f":"'TS-201c'!L56","v":0},{"$f":"'TS-201c'!Q56","v":0}]
[null,null,{"$f":"'TS-201c'!B57","v":""},null,{"$f":"'TS-201c'!G57","v":""},{"$f":"'TS-201c'!L57","v":""},{"$f":"'TS-201c'!Q57","v":""}]
[null,null,{"$f":"'TS-201c'!B58","v":0},null,{"$f":"'TS-201c'!G58","v":0},{"$f":"'TS-201c'!L58","v":0},{"$f":"'TS-201c'!Q58","v":0}]
[null,null,{"$f":"'TS-201c'!B59","v":""},null,{"$f":"'TS-201c'!G59","v":""},{"$f":"'TS-201c'!L59","v":""},{"$f":"'TS-201c'!Q59","v":""}]
[null,null,{"$f":"'TS-201c'!B60","v":0},null,{"$f":"'TS-201c'!G60","v":0},{"$f":"'TS-201c'!L60","v":0},{"$f":"'TS-201c'!Q60","v":0}]
[null,null,{"$f":"'TS-201c'!B61","v":""},null,{"$f":"'TS-201c'!G61","v":""},{"$f":"'TS-201c'!L61","v":""},{"$f":"'TS-201c'!Q61","v":""}]
[null,null,{"$f":"'TS-201c'!B62","v":0},null,{"$f":"'TS-201c'!G62","v":0},{"$f":"'TS-201c'!L62","v":0},{"$f":"'TS-201c'!Q62","v":0}]
[null,null,{"$f":"'TS-201c'!B63","v":""},null,{"$f":"'TS-201c'!G63","v":""},{"$f":"'TS-201c'!L63","v":""},{"$f":"'TS-201c'!Q63","v":""}]
[null,null,{"$f":"'TS-201c'!B64","v":0},null,{"$f":"'TS-201c'!G64","v":0},{"$f":"'TS-201c'!L64","v":0},{"$f":"'TS-201c'!Q64","v":0}]
[null,null,{"$f":"'TS-201c'!B65","v":""},null,{"$f":"'TS-201c'!G65","v":""},{"$f":"'TS-201c'!L65","v":""},{"$f":"'TS-201c'!Q65","v":""}]
[null,null,{"$f":"'TS-201c'!B66","v":0},null,{"$f":"'TS-201c'!G66","v":0},{"$f":"'TS-201c'!L66","v":0},{"$f":"'TS-201c'!Q66","v":0}]
[null,null,{"$f":"'TS-201c'!B67","v":""},null,{"$f":"'TS-201c'!G67","v":""},{"$f":"'TS-201c'!L67","v":""},{"$f":"'TS-201c'!Q67","v":""}]
[null,null,{"$f":"'TS-201c'!B68","v":0},null,{"$f":"'TS-201c'!G68","v":0},{"$f":"'TS-201c'!L68","v":0},{"$f":"'TS-201c'!Q68","v":0}]
[null,null,{"$f":"'TS-201c'!B69","v":0},null,{"$f":"'TS-201c'!G69","v":0},{"$f":"'TS-201c'!L69","v":0},{"$f":"'TS-201c'!Q69","v":0}]
[null,null,{"$f":"'TS-201c'!B70","v":0},null,{"$f":"'TS-201c'!G70","v":0},{"$f":"'TS-201c'!L70","v":0},{"$f":"'TS-201c'!Q70","v":0}]
[null,null,{"$f":"'TS-201c'!B71","v":"Dossard"},null,{"$f":"'TS-201c'!G71","v":"Dossard"},{"$f":"'TS-201c'!L71","v":"Dossard"},{"$f":"'TS-201c'!Q71","v":"Dossard"}]
[null,null,{"$f":"'TS-201c'!B72","v":0},null,{"$f":"'TS-201c'!G72","v":0},{"$f":"'TS-201c'!L72","v":0},{"$f":"'TS-201c'!Q72","v":0}]
[null,null,{"$f":"'TS-201c'!B73","v":""},null,{"$f":"'TS-201c'!G73","v":""},{"$f":"'TS-201c'!L73","v":""},{"$f":"'TS-201c'!Q73","v":""}]
[null,null,{"$f":"'TS-201c'!B74","v":0},null,{"$f":"'TS-201c'!G74","v":0},{"$f":"'TS-201c'!L74","v":0},{"$f":"'TS-201c'!Q74","v":0}]
[null,null,{"$f":"'TS-201c'!B75","v":""},null,{"$f":"'TS-201c'!G75","v":""},{"$f":"'TS-201c'!L75","v":""},{"$f":"'TS-201c'!Q75","v":""}]
[null,null,{"$f":"'TS-201c'!B76","v":0},null,{"$f":"'TS-201c'!G76","v":0},{"$f":"'TS-201c'!L76","v":0},{"$f":"'TS-201c'!Q76","v":0}]
[null,null,{"$f":"'TS-201c'!B77","v":""},null,{"$f":"'TS-201c'!G77","v":""},{"$f":"'TS-201c'!L77","v":""},{"$f":"'TS-201c'!Q77","v":""}]
[null,null,{"$f":"'TS-201c'!B78","v":0},null,{"$f":"'TS-201c'!G78","v":0},{"$f":"'TS-201c'!L78","v":0},{"$f":"'TS-201c'!Q78","v":0}]
[null,null,{"$f":"'TS-201c'!B79","v":""},null,{"$f":"'TS-201c'!G79","v":""},{"$f":"'TS-201c'!L79","v":""},{"$f":"'TS-201c'!Q79","v":""}]
[null,null,{"$f":"'TS-201c'!B80","v":0},null,{"$f":"'TS-201c'!G80","v":0},{"$f":"'TS-201c'!L80","v":0},{"$f":"'TS-201c'!Q80","v":0}]
[null,null,{"$f":"'TS-201c'!B81","v":""},null,{"$f":"'TS-201c'!G81","v":""},{"$f":"'TS-201c'!L81","v":""},{"$f":"'TS-201c'!Q81","v":""}]
[null,null,{"$f":"'TS-201c'!B82","v":0},null,{"$f":"'TS-201c'!G82","v":0},{"$f":"'TS-201c'!L82","v":0},{"$f":"'TS-201c'!Q82","v":0}]
[null,null,{"$f":"'TS-201c'!B83","v":""},null,{"$f":"'TS-201c'!G83","v":""},{"$f":"'TS-201c'!L83","v":""},{"$f":"'TS-201c'!Q83","v":""}]
[null,null,{"$f":"'TS-201c'!B84","v":0},null,{"$f":"'TS-201c'!G84","v":0},{"$f":"'TS-201c'!L84","v":0},{"$f":"'TS-201c'!Q84","v":0}]
[null,null,{"$f":"'TS-201c'!B85","v":0},null,{"$f":"'TS-201c'!G85","v":0},{"$f":"'TS-201c'!L85","v":0},{"$f":"'TS-201c'!Q85","v":0}]
[null,null,{"$f":"'TS-201c'!B86","v":0},null,{"$f":"'TS-201c'!G86","v":0},{"$f":"'TS-201c'!L86","v":0},{"$f":"'TS-201c'!Q86","v":0}]
[null,null,{"$f":"'TS-201c'!B87","v":"Dossard"},null,{"$f":"'TS-201c'!G87","v":"Dossard"},{"$f":"'TS-201c'!L87","v":"Dossard"},{"$f":"'TS-201c'!Q87","v":"Dossard"}]
[null,null,{"$f":"'TS-201c'!B88","v":0},null,{"$f":"'TS-201c'!G88","v":0},{"$f":"'TS-201c'!L88","v":0},{"$f":"'TS-201c'!Q88","v":0}]
[null,null,{"$f":"'TS-201c'!B89","v":""},null,{"$f":"'TS-201c'!G89","v":""},{"$f":"'TS-201c'!L89","v":""},{"$f":"'TS-201c'!Q89","v":""}]
[null,null,{"$f":"'TS-201c'!B90","v":0},null,{"$f":"'TS-201c'!G90","v":0},{"$f":"'TS-201c'!L90","v":0},{"$f":"'TS-201c'!Q90","v":0}]
[null,null,{"$f":"'TS-201c'!B91","v":""},null,{"$f":"'TS-201c'!G91","v":""},{"$f":"'TS-201c'!L91","v":""},{"$f":"'TS-201c'!Q91","v":""}]
[null,null,{"$f":"'TS-201c'!B92","v":0},null,{"$f":"'TS-201c'!G92","v":0},{"$f":"'TS-201c'!L92","v":0},{"$f":"'TS-201c'!Q92","v":0}]
[null,null,{"$f":"'TS-201c'!B93","v":""},null,{"$f":"'TS-201c'!G93","v":""},{"$f":"'TS-201c'!L93","v":""},{"$f":"'TS-201c'!Q93","v":""}]
[null,null,{"$f":"'TS-201c'!B94","v":0},null,{"$f":"'TS-201c'!G94","v":0},{"$f":"'TS-201c'!L94","v":0},{"$f":"'TS-201c'!Q94","v":0}]
[null,null,{"$f":"'TS-201c'!B95","v":""},null,{"$f":"'TS-201c'!G95","v":""},{"$f":"'TS-201c'!L95","v":""},{"$f":"'TS-201c'!Q95","v":""}]
[null,null,{"$f":"'TS-201c'!B96","v":0},null,{"$f":"'TS-201c'!G96","v":0},{"$f":"'TS-201c'!L96","v":0},{"$f":"'TS-201c'!Q96","v":0}]
[null,null,{"$f":"'TS-201c'!B97","v":""},null,{"$f":"'TS-201c'!G97","v":""},{"$f":"'TS-201c'!L97","v":""},{"$f":"'TS-201c'!Q97","v":""}]
[null,null,{"$f":"'TS-201c'!B98","v":0},null,{"$f":"'TS-201c'!G98","v":0},{"$f":"'TS-201c'!L98","v":0},{"$f":"'TS-201c'!Q98","v":0}]
[null,null,{"$f":"'TS-201c'!B99","v":""},null,{"$f":"'TS-201c'!G99","v":""},{"$f":"'TS-201c'!L99","v":""},{"$f":"'TS-201c'!Q99","v":""}]
[null,null,{"$f":"'TS-201c'!B100","v":0},null,{"$f":"'TS-201c'!G100","v":0},{"$f":"'TS-201c'!L100","v":0},{"$f":"'TS-201c'!Q100","v":0}]
[null,null,{"$f":"'TS-201c'!B101","v":0},null,{"$f":"'TS-201c'!G101","v":0},{"$f":"'TS-201c'!L101","v":0},{"$f":"'TS-201c'!Q101","v":0}]
[null,null,{"$f":"'TS-201c'!B102","v":0},null,{"$f":"'TS-201c'!G102","v":0},{"$f":"'TS-201c'!L102","v":0},{"$f":"'TS-201c'!Q102","v":0}]
[null,null,{"$f":"'TS-201c'!B103","v":"Dossard"},null,{"$f":"'TS-201c'!G103","v":"Dossard"},{"$f":"'TS-201c'!L103","v":"Dossard"},{"$f":"'TS-201c'!Q103","v":"Dossard"}]
[null,null,{"$f":"'TS-201c'!B104","v":0},null,{"$f":"'TS-201c'!G104","v":0},{"$f":"'TS-201c'!L104","v":0},{"$f":"'TS-201c'!Q104","v":0}]
[null,null,{"$f":"'TS-201c'!B105","v":""},null,{"$f":"'TS-201c'!G105","v":""},{"$f":"'TS-201c'!L105","v":""},{"$f":"'TS-201c'!Q105","v":""}]
[null,null,{"$f":"'TS-201c'!B106","v":0},null,{"$f":"'TS-201c'!G106","v":0},{"$f":"'TS-201c'!L106","v":0},{"$f":"'TS-201c'!Q106","v":0}]
[null,null,{"$f":"'TS-201c'!B107","v":""},null,{"$f":"'TS-201c'!G107","v":""},{"$f":"'TS-201c'!L107","v":""},{"$f":"'TS-201c'!Q107","v":""}]
[null,null,{"$f":"'TS-201c'!B108","v":0},null,{"$f":"'TS-201c'!G108","v":0},{"$f":"'TS-201c'!L108","v":0},{"$f":"'TS-201c'!Q108","v":0}]
[null,null,{"$f":"'TS-201c'!B109","v":""},null,{"$f":"'TS-201c'!G109","v":""},{"$f":"'TS-201c'!L109","v":""},{"$f":"'TS-201c'!Q109","v":""}]
[null,null,{"$f":"'TS-201c'!B110","v":0},null,{"$f":"'TS-201c'!G110","v":0},{"$f":"'TS-201c'!L110","v":0},{"$f":"'TS-201c'!Q110","v":0}]
[null,null,{"$f":"'TS-201c'!B111","v":""},null,{"$f":"'TS-201c'!G111","v":""},{"$f":"'TS-201c'!L111","v":""},{"$f":"'TS-201c'!Q111","v":""}]
[null,null,{"$f":"'TS-201c'!B112","v":0},null,{"$f":"'TS-201c'!G112","v":0},{"$f":"'TS-201c'!L112","v":0},{"$f":"'TS-201c'!Q112","v":0}]
[null,null,{"$f":"'TS-201c'!B113","v":""},null,{"$f":"'TS-201c'!G113","v":""},{"$f":"'TS-201c'!L113","v":""},{"$f":"'TS-201c'!Q113","v":""}]
[null,null,{"$f":"'TS-201c'!B114","v":0},null,{"$f":"'TS-201c'!G114","v":0},{"$f":"'TS-201c'!L114","v":0},{"$f":"'TS-201c'!Q114","v":0}]
[null,null,{"$f":"'TS-201c'!B115","v":""},null,{"$f":"'TS-201c'!G115","v":""},{"$f":"'TS-201c'!L115","v":""},{"$f":"'TS-201c'!Q115","v":""}]
[null,null,{"$f":"'TS-201c'!B116","v":0},null,{"$f":"'TS-201c'!G116","v":0},{"$f":"'TS-201c'!L116","v":0},{"$f":"'TS-201c'!Q116","v":0}]
[null,null,{"$f":"'TS-201c'!B117","v":0},null,{"$f":"'TS-201c'!G117","v":0},{"$f":"'TS-201c'!L117","v":0},{"$f":"'TS-201c'!Q117","v":0}]
[null,null,{"$f":"'TS-201c'!B118","v":0},null,{"$f":"'TS-201c'!G118","v":0},{"$f":"'TS-201c'!L118","v":0},{"$f":"'TS-201c'!Q118","v":0}]
[null,null,{"$f":"'TS-201c'!B119","v":"Dossard"},null,{"$f":"'TS-201c'!G119","v":"Dossard"},{"$f":"'TS-201c'!L119","v":"Dossard"},{"$f":"'TS-201c'!Q119","v":"Dossard"}]
[null,null,{"$f":"'TS-201c'!B120","v":0},null,{"$f":"'TS-201c'!G120","v":0},{"$f":"'TS-201c'!L120","v":0},{"$f":"'TS-201c'!Q120","v":0}]
[null,null,{"$f":"'TS-201c'!B121","v":""},null,{"$f":"'TS-201c'!G121","v":""},{"$f":"'TS-201c'!L121","v":""},{"$f":"'TS-201c'!Q121","v":""}]
[null,null,{"$f":"'TS-201c'!B122","v":0},null,{"$f":"'TS-201c'!G122","v":0},{"$f":"'TS-201c'!L122","v":0},{"$f":"'TS-201c'!Q122","v":0}]
[null,null,{"$f":"'TS-201c'!B123","v":""},null,{"$f":"'TS-201c'!G123","v":""},{"$f":"'TS-201c'!L123","v":""},{"$f":"'TS-201c'!Q123","v":""}]
[null,null,{"$f":"'TS-201c'!B124","v":0},null,{"$f":"'TS-201c'!G124","v":0},{"$f":"'TS-201c'!L124","v":0},{"$f":"'TS-201c'!Q124","v":0}]
[null,null,{"$f":"'TS-201c'!B125","v":""},null,{"$f":"'TS-201c'!G125","v":""},{"$f":"'TS-201c'!L125","v":""},{"$f":"'TS-201c'!Q125","v":""}]
[null,null,{"$f":"'TS-201c'!B126","v":0},null,{"$f":"'TS-201c'!G126","v":0},{"$f":"'TS-201c'!L126","v":0},{"$f":"'TS-201c'!Q126","v":0}]
[null,null,{"$f":"'TS-201c'!B127","v":""},null,{"$f":"'TS-201c'!G127","v":""},{"$f":"'TS-201c'!L127","v":""},{"$f":"'TS-201c'!Q127","v":""}]
[null,null,{"$f":"'TS-201c'!B128","v":0},null,{"$f":"'TS-201c'!G128","v":0},{"$f":"'TS-201c'!L128","v":0},{"$f":"'TS-201c'!Q128","v":0}]
[null,null,{"$f":"'TS-201c'!B129","v":""},null,{"$f":"'TS-201c'!G129","v":""},{"$f":"'TS-201c'!L129","v":""},{"$f":"'TS-201c'!Q129","v":""}]
[null,null,{"$f":"'TS-201c'!B130","v":0},null,{"$f":"'TS-201c'!G130","v":0},{"$f":"'TS-201c'!L130","v":0},{"$f":"'TS-201c'!Q130","v":0}]
[null,null,{"$f":"'TS-201c'!B131","v":""},null,{"$f":"'TS-201c'!G131","v":""},{"$f":"'TS-201c'!L131","v":""},{"$f":"'TS-201c'!Q131","v":""}]
[null,null,{"$f":"'TS-201c'!B132","v":0},null,{"$f":"'TS-201c'!G132","v":0},{"$f":"'TS-201c'!L132","v":0},{"$f":"'TS-201c'!Q132","v":0}]
[null,null,{"$f":"'TS-201c'!B133","v":0},null,{"$f":"'TS-201c'!G133","v":0},{"$f":"'TS-201c'!L133","v":0},{"$f":"'TS-201c'!Q133","v":0}]
[null,null,{"$f":"'TS-201c'!B134","v":0},null,{"$f":"'TS-201c'!G134","v":0},{"$f":"'TS-201c'!L134","v":0},{"$f":"'TS-201c'!Q134","v":0}]
[null,null,{"$f":"'TS-201c'!B135","v":0},null,{"$f":"'TS-201c'!G135","v":0},{"$f":"'TS-201c'!L135","v":0},{"$f":"'TS-201c'!Q135","v":0}]
[null,null,{"$f":"'TS-201c'!B136","v":0},null,{"$f":"'TS-201c'!G136","v":0},{"$f":"'TS-201c'!L136","v":0},{"$f":"'TS-201c'!Q136","v":0}]
[null,null,{"$f":"'TS-201c'!B137","v":0},null,{"$f":"'TS-201c'!G137","v":0},{"$f":"'TS-201c'!L137","v":0},{"$f":"'TS-201c'!Q137","v":0}]
[null,null,{"$f":"'TS-201c'!B138","v":0},null,{"$f":"'TS-201c'!G138","v":0},{"$f":"'TS-201c'!L138","v":0},{"$f":"'TS-201c'!Q138","v":0}]
[null,null,{"$f":"'TS-201c'!B139","v":0},null,{"$f":"'TS-201c'!G139","v":0},{"$f":"'TS-201c'!L139","v":0},{"$f":"'TS-201c'!Q139","v":0}]
[null,null,{"$f":"'TS-201c'!B140","v":0},null,{"$f":"'TS-201c'!G140","v":0},{"$f":"'TS-201c'!L140","v":0},{"$f":"'TS-201c'!Q140","v":0}]
[null,null,{"$f":"'TS-201c'!B141","v":0},null,{"$f":"'TS-201c'!G141","v":0},{"$f":"'TS-201c'!L141","v":0},{"$f":"'TS-201c'!Q141","v":0}]
[null,null,{"$f":"'TS-201c'!B142","v":0},null,{"$f":"'TS-201c'!G142","v":0},{"$f":"'TS-201c'!L142","v":0},{"$f":"'TS-201c'!Q142","v":0}]
[null,null,{"$f":"'TS-201c'!B143","v":0},null,{"$f":"'TS-201c'!G143","v":0},{"$f":"'TS-201c'!L143","v":0},{"$f":"'TS-201c'!Q143","v":0}]
[null,null,{"$f":"'TS-201c'!B144","v":0},null,{"$f":"'TS-201c'!G144","v":0},{"$f":"'TS-201c'!L144","v":0},{"$f":"'TS-201c'!Q144","v":0}]
[null,null,{"$f":"'TS-201c'!B145","v":0},null,{"$f":"'TS-201c'!G145","v":0},{"$f":"'TS-201c'!L145","v":0},{"$f":"'TS-201c'!Q145","v":0}]
[null,null,{"$f":"'TS-201c'!B146","v":0},null,{"$f":"'TS-201c'!G146","v":0},{"$f":"'TS-201c'!L146","v":0},{"$f":"'TS-201c'!Q146","v":0}]
[null,null,{"$f":"'TS-201c'!B147","v":0},null,{"$f":"'TS-201c'!G147","v":0},{"$f":"'TS-201c'!L147","v":0},{"$f":"'TS-201c'!Q147","v":0}]
[null,null,{"$f":"'TS-201c'!B148","v":0},null,{"$f":"'TS-201c'!G148","v":0},{"$f":"'TS-201c'!L148","v":0},{"$f":"'TS-201c'!Q148","v":0}]
[null,null,{"$f":"'TS-201c'!B149","v":0},null,{"$f":"'TS-201c'!G149","v":0},{"$f":"'TS-201c'!L149","v":0},{"$f":"'TS-201c'!Q149","v":0}]
[null,null,{"$f":"'TS-201c'!B150","v":0},null,{"$f":"'TS-201c'!G150","v":0},{"$f":"'TS-201c'!L150","v":0},{"$f":"'TS-201c'!Q150","v":0}]
[null,null,{"$f":"'TS-201c'!B151","v":0},null,{"$f":"'TS-201c'!G151","v":0},{"$f":"'TS-201c'!L151","v":0},{"$f":"'TS-201c'!Q151","v":0}]
[null,null,{"$f":"'TS-201c'!B152","v":0},null,{"$f":"'TS-201c'!G152","v":0},{"$f":"'TS-201c'!L152","v":0},{"$f":"'TS-201c'!Q152","v":0}]
[null,null,{"$f":"'TS-201c'!B153","v":0},null,{"$f":"'TS-201c'!G153","v":0},{"$f":"'TS-201c'!L153","v":0},{"$f":"'TS-201c'!Q153","v":0}]
[null,null,{"$f":"'TS-201c'!B154","v":0},null,{"$f":"'TS-201c'!G154","v":0},{"$f":"'TS-201c'!L154","v":0},{"$f":"'TS-201c'!Q154","v":0}]
[null,null,{"$f":"'TS-201c'!B155","v":0},null,{"$f":"'TS-201c'!G155","v":0},{"$f":"'TS-201c'!L155","v":0},{"$f":"'TS-201c'!Q155","v":0}]
[null,null,{"$f":"'TS-201c'!B156","v":0},null,{"$f":"'TS-201c'!G156","v":0},{"$f":"'TS-201c'!L156","v":0},{"$f":"'TS-201c'!Q156","v":0}]
[null,null,{"$f":"'TS-201c'!B157","v":0},null,{"$f":"'TS-201c'!G157","v":0},{"$f":"'TS-201c'!L157","v":0},{"$f":"'TS-201c'!Q157","v":0}]
[null,null,{"$f":"'TS-201c'!B158","v":0},null,{"$f":"'TS-201c'!G158","v":0},{"$f":"'TS-201c'!L158","v":0},{"$f":"'TS-201c'!Q158","v":0}]
[null,null,{"$f":"'TS-201c'!B159","v":0},null,{"$f":"'TS-201c'!G159","v":0},{"$f":"'TS-201c'!L159","v":0},{"$f":"'TS-201c'!Q159","v":0}]
[null,null,{"$f":"'TS-201c'!B160","v":0},null,{"$f":"'TS-201c'!G160","v":0},{"$f":"'TS-201c'!L160","v":0},{"$f":"'TS-201c'!Q160","v":0}]
[null,null,{"$f":"'TS-201c'!B161","v":0},null,{"$f":"'TS-201c'!G161","v":0},{"$f":"'TS-201c'!L161","v":0},{"$f":"'TS-201c'!Q161","v":0}]
[null,null,{"$f":"'TS-201c'!B162","v":0},null,{"$f":"'TS-201c'!G162","v":0},{"$f":"'TS-201c'!L162","v":0},{"$f":"'TS-201c'!Q162","v":0}]
[null,null,{"$f":"'TS-201c'!B163","v":0},null,{"$f":"'TS-201c'!G163","v":0},{"$f":"'TS-201c'!L163","v":0},{"$f":"'TS-201c'!Q163","v":0}]

{"sheet":"TS-201c","index":5,"n_rows":132,"n_cols":26,"rows_kept":132,"cut":false,"hidden":true,"merged":[[8,2,8,3],[10,5,11,5],[10,1,11,1],[10,2,10,3],[10,0,11,0],[8,1,9,1],[8,0,9,0],[8,6,9,6],[8,7,8,8],[8,5,9,5],[10,7,10,8],[10,6,11,6],[14,2,14,3],[21,10,21,13],[12,1,13,1],[12,0,13,0],[26,6,27,6],[26,7,26,8],[26,10,27,10],[26,12,26,13],[16,12,16,13],[16,0,17,0],[16,1,17,1],[16,2,16,3],[16,5,17,5],[12,6,13,6],[14,7,14,8],[16,6,17,6],[16,7,16,8],[22,11,23,11],[24,12,24,13],[26,0,27,0],[26,1,27,1],[24,0,25,0],[18,0,19,0],[18,1,19,1],[30,0,31,0],[12,11,13,11],[14,11,15,11],[16,10,17,10],[16,11,17,11],[12,10,13,10],[18,2,18,3],[24,2,24,3],[22,7,22,8],[22,6,23,6],[21,0,21,3],[21,5,21,8],[22,5,23,5],[18,5,19,5],[14,5,15,5],[12,2,12,3],[28,1,29,1],[22,0,23,0],[22,1,23,1],[24,1,25,1],[14,10,15,10],[14,0,15,0],[14,1,15,1],[26,5,27,5],[6,12,6,13],[10,12,10,13],[12,12,12,13],[22,12,22,13],[24,7,24,8],[22,10,23,10],[18,11,19,11],[18,6,19,6],[18,7,18,8],[18,12,18,13],[6,6,7,6],[24,6,25,6],[24,11,25,11],[18,10,19,10],[14,12,14,13],[8,10,9,10],[8,12,8,13],[10,11,11,11],[8,11,9,11],[10,10,11,10],[24,10,25,10],[22,2,22,3],[24,5,25,5],[12,7,12,8],[12,5,13,5],[14,6,15,6],[2,0,2,18],[6,15,7,15],[6,16,7,16],[6,10,7,10],[6,11,7,11],[5,0,5,3],[5,15,5,18],[5,10,5,13],[6,17,6,18],[6,0,7,0],[6,2,6,3],[3,16,3,17],[6,5,7,5],[5,5,5,8],[6,7,6,8],[6,1,7,1],[14,17,14,18],[12,17,12,18],[10,17,10,18],[56,5,57,5],[56,6,57,6],[46,6,47,6],[50,16,51,16],[48,16,49,16],[50,11,51,11],[50,10,51,10],[54,5,55,5],[53,10,53,13],[54,10,55,10],[46,7,46,8],[54,6,55,6],[46,10,47,10],[54,7,54,8],[54,15,55,15],[46,12,46,13],[46,15,47,15],[56,16,57,16],[50,5,51,5],[56,7,56,8],[56,10,57,10],[46,17,46,18],[28,11,29,11],[48,17,48,18],[44,17,44,18],[44,5,45,5],[30,15,31,15],[46,16,47,16],[54,12,54,13],[53,15,53,18],[54,17,54,18],[42,15,43,15],[42,17,42,18],[30,17,30,18],[40,17,40,18],[38,17,38,18],[32,17,32,18],[34,17,34,18],[40,15,41,15],[40,12,40,13],[38,16,39,16],[40,16,41,16],[38,11,39,11],[40,11,41,11],[44,12,44,13],[56,17,56,18],[56,11,57,11],[56,15,57,15],[56,12,56,13],[50,7,50,8],[48,7,48,8],[48,6,49,6],[44,16,45,16],[34,11,35,11],[42,16,43,16],[38,15,39,15],[44,15,45,15],[37,15,37,18],[42,11,43,11],[44,7,44,8],[44,10,45,10],[44,6,45,6],[40,10,41,10],[38,10,39,10],[50,17,50,18],[48,15,49,15],[50,12,50,13],[50,15,51,15],[54,16,55,16],[58,10,59,10],[62,17,62,18],[62,16,63,16],[60,17,60,18],[58,17,58,18],[60,16,61,16],[60,7,60,8],[62,11,63,11],[62,12,62,13],[62,10,63,10],[62,15,63,15],[60,11,61,11],[60,15,61,15],[58,15,59,15],[60,12,60,13],[58,16,59,16],[58,12,58,13],[58,11,59,11],[60,10,61,10],[22,17,22,18],[14,15,15,15],[21,15,21,18],[22,15,23,15],[16,17,16,18],[18,17,18,18],[16,16,17,16],[18,16,19,16],[22,16,23,16],[16,15,17,15],[18,15,19,15],[8,17,8,18],[10,16,11,16],[12,15,13,15],[8,15,9,15],[54,2,54,3],[53,0,53,3],[28,0,29,0],[38,0,39,0],[38,1,39,1],[30,2,30,3],[30,1,31,1],[38,2,38,3],[44,0,45,0],[42,2,42,3],[44,1,45,1],[44,2,44,3],[42,0,43,0],[48,0,49,0],[50,0,51,0],[50,1,51,1],[50,2,50,3],[26,17,26,18],[26,15,27,15],[14,16,15,16],[46,1,47,1],[54,0,55,0],[32,0,33,0],[32,1,33,1],[54,1,55,1],[46,0,47,0],[12,16,13,16],[10,15,11,15],[8,16,9,16],[24,15,25,15],[50,6,51,6],[54,11,55,11],[46,11,47,11],[48,10,49,10],[48,12,48,13],[48,11,49,11],[53,5,53,8],[38,6,39,6],[42,12,42,13],[38,12,38,13],[42,6,43,6],[44,11,45,11],[42,7,42,8],[40,7,40,8],[64,0,65,0],[46,5,47,5],[70,0,71,0],[60,5,61,5],[48,2,48,3],[48,5,49,5],[58,0,59,0],[56,1,57,1],[56,2,56,3],[58,1,59,1],[62,0,63,0],[62,1,63,1],[62,2,62,3],[56,0,57,0],[58,2,58,3],[60,2,60,3],[60,0,61,0],[60,1,61,1],[58,5,59,5],[62,5,63,5],[64,1,65,1],[64,2,64,3],[48,1,49,1],[46,2,46,3],[24,17,24,18],[28,12,28,13],[28,10,29,10],[30,16,31,16],[28,15,29,15],[34,16,35,16],[37,10,37,13],[28,17,28,18],[32,10,33,10],[32,11,33,11],[28,16,29,16],[34,15,35,15],[24,16,25,16],[26,16,27,16],[34,12,34,13],[26,11,27,11],[30,11,31,11],[30,10,31,10],[30,12,30,13],[74,0,75,0],[72,7,72,8],[70,11,71,11],[72,11,73,11],[70,16,71,16],[72,16,73,16],[72,12,72,13],[70,15,71,15],[70,7,70,8],[62,6,63,6],[62,7,62,8],[58,6,59,6],[58,7,58,8],[69,10,69,13],[69,15,69,18],[70,2,70,3],[69,0,69,3],[69,5,69,8],[70,5,71,5],[60,6,61,6],[64,6,65,6],[64,17,64,18],[66,0,67,0],[66,1,67,1],[66,2,66,3],[66,5,67,5],[66,6,67,6],[66,7,66,8],[66,10,67,10],[66,17,66,18],[64,7,64,8],[66,11,67,11],[66,12,66,13],[74,17,74,18],[70,12,70,13],[72,0,73,0],[72,1,73,1],[72,2,72,3],[70,1,71,1],[72,10,73,10],[70,10,71,10],[72,6,73,6],[72,5,73,5],[70,6,71,6],[74,1,75,1],[74,5,75,5],[74,6,75,6],[74,7,74,8],[74,2,74,3],[72,15,73,15],[74,12,74,13],[74,10,75,10],[74,11,75,11],[74,16,75,16],[74,15,75,15],[72,17,72,18],[70,17,70,18],[86,17,86,18],[78,12,78,13],[78,15,79,15],[78,16,79,16],[78,17,78,18],[86,15,87,15],[85,15,85,18],[86,16,87,16],[82,16,83,16],[82,17,82,18],[82,15,83,15],[85,10,85,13],[86,11,87,11],[76,17,76,18],[76,12,76,13],[80,17,80,18],[80,15,81,15],[76,6,77,6],[76,7,76,8],[80,16,81,16],[80,7,80,8],[80,10,81,10],[80,11,81,11],[80,12,80,13],[76,16,77,16],[76,15,77,15],[76,10,77,10],[78,6,79,6],[80,6,81,6],[78,7,78,8],[78,10,79,10],[76,11,77,11],[88,0,89,0],[88,1,89,1],[88,2,88,3],[88,5,89,5],[82,0,83,0],[82,1,83,1],[82,2,82,3],[82,5,83,5],[76,0,77,0],[76,1,77,1],[76,2,76,3],[85,5,85,8],[86,0,87,0],[86,1,87,1],[80,0,81,0],[80,1,81,1],[80,2,80,3],[80,5,81,5],[78,0,79,0],[78,1,79,1],[78,2,78,3],[86,2,86,3],[86,5,87,5],[76,5,77,5],[86,6,87,6],[86,10,87,10],[86,7,86,8],[85,0,85,3],[78,5,79,5],[82,6,83,6],[82,7,82,8],[86,12,86,13],[82,10,83,10],[82,11,83,11],[82,12,82,13],[78,11,79,11],[90,17,90,18],[90,12,90,13],[90,16,91,16],[88,17,88,18],[88,12,88,13],[88,15,89,15],[94,10,95,10],[94,7,94,8],[94,11,95,11],[88,16,89,16],[88,7,88,8],[88,10,89,10],[88,11,89,11],[90,15,91,15],[92,0,93,0],[92,1,93,1],[92,2,92,3],[92,5,93,5],[94,1,95,1],[94,2,94,3],[92,6,93,6],[92,17,92,18],[92,12,92,13],[94,17,94,18],[92,16,93,16],[92,15,93,15],[92,7,92,8],[92,10,93,10],[92,11,93,11],[94,15,95,15],[94,16,95,16],[98,0,99,0],[98,1,99,1],[98,2,98,3],[98,5,99,5],[98,6,99,6],[104,7,104,8],[94,0,95,0],[94,6,95,6],[94,5,95,5],[90,6,91,6],[104,5,105,5],[102,11,103,11],[101,10,101,13],[102,10,103,10],[102,7,102,8],[102,12,102,13],[104,1,105,1],[104,2,104,3],[96,6,97,6],[90,10,91,10],[90,7,90,8],[90,11,91,11],[96,10,97,10],[98,7,98,8],[98,10,99,10],[98,11,99,11],[98,12,98,13],[94,12,94,13],[88,6,89,6],[101,0,101,3],[101,15,101,18],[102,16,103,16],[102,17,102,18],[102,1,103,1],[102,0,103,0],[102,5,103,5],[102,15,103,15],[102,2,102,3],[102,6,103,6],[101,5,101,8],[96,16,97,16],[96,17,96,18],[98,16,99,16],[98,17,98,18],[96,0,97,0],[96,1,97,1],[96,2,96,3],[96,5,97,5],[90,0,91,0],[90,1,91,1],[90,2,90,3],[90,5,91,5],[106,17,106,18],[106,6,107,6],[106,12,106,13],[106,10,107,10],[106,11,107,11],[106,7,106,8],[104,11,105,11],[104,6,105,6],[104,10,105,10],[104,17,104,18],[104,12,104,13],[104,15,105,15],[104,16,105,16],[110,17,110,18],[118,12,118,13],[118,15,119,15],[108,2,108,3],[108,5,109,5],[118,2,118,3],[118,5,119,5],[118,6,119,6],[118,17,118,18],[117,15,117,18],[118,11,119,11],[118,16,119,16],[112,17,112,18],[114,5,115,5],[114,17,114,18],[112,5,113,5],[117,10,117,13],[118,10,119,10],[108,11,109,11],[112,15,113,15],[108,16,109,16],[108,17,108,18],[108,12,108,13],[108,15,109,15],[120,1,121,1],[114,16,115,16],[120,16,121,16],[118,0,119,0],[110,11,111,11],[120,0,121,0],[108,10,109,10],[110,0,111,0],[110,1,111,1],[110,2,110,3],[110,5,111,5],[108,6,109,6],[110,6,111,6],[110,7,110,8],[110,10,111,10],[118,1,119,1],[118,7,118,8],[117,0,117,3],[108,0,109,0],[108,1,109,1],[110,12,110,13],[110,15,111,15],[110,16,111,16],[120,6,121,6],[120,10,121,10],[112,6,113,6],[112,7,112,8],[112,10,113,10],[112,16,113,16],[114,6,115,6],[114,7,114,8],[114,10,115,10],[120,2,120,3],[120,5,121,5],[114,11,115,11],[114,12,114,13],[114,15,115,15],[120,7,120,8],[120,11,121,11],[26,2,26,3],[124,0,125,0],[124,1,125,1],[122,0,123,0],[122,1,123,1],[122,2,122,3],[122,5,123,5],[117,5,117,8],[114,0,115,0],[114,1,115,1],[114,2,114,3],[108,7,108,8],[104,0,105,0],[34,2,34,3],[34,5,35,5],[32,7,32,8],[28,5,29,5],[32,5,33,5],[32,6,33,6],[122,7,122,8],[122,6,123,6],[30,5,31,5],[30,7,30,8],[28,7,28,8],[30,6,31,6],[28,6,29,6],[28,2,28,3],[32,12,32,13],[32,15,33,15],[32,16,33,16],[32,2,32,3],[34,6,35,6],[34,7,34,8],[34,10,35,10],[42,1,43,1],[37,5,37,8],[40,6,41,6],[40,5,41,5],[38,7,38,8],[42,10,43,10],[34,1,35,1],[40,2,40,3],[37,0,37,3],[40,0,41,0],[34,0,35,0],[40,1,41,1],[42,5,43,5],[38,5,39,5],[66,15,67,15],[64,12,64,13],[64,10,65,10],[64,5,65,5],[64,15,65,15],[64,16,65,16],[64,11,65,11],[66,16,67,16],[112,0,113,0],[112,1,113,1],[112,2,112,3],[112,11,113,11],[112,12,112,13],[106,0,107,0],[106,1,107,1],[106,2,106,3],[106,5,107,5],[106,15,107,15],[106,16,107,16],[96,15,97,15],[98,15,99,15],[96,11,97,11],[96,12,96,13],[96,7,96,8],[122,10,123,10],[122,11,123,11],[126,6,127,6],[126,7,126,8],[124,10,125,10],[124,11,125,11],[124,6,125,6],[124,7,124,8],[126,0,127,0],[126,1,127,1],[126,2,126,3],[126,5,127,5],[124,2,124,3],[124,5,125,5],[126,10,127,10],[126,11,127,11],[130,17,130,18],[128,17,128,18],[128,16,129,16],[124,12,124,13],[122,12,122,13],[120,17,120,18],[120,12,120,13],[120,15,121,15],[122,16,123,16],[122,17,122,18],[124,16,125,16],[124,17,124,18],[130,16,131,16],[128,15,129,15],[130,15,131,15],[126,16,127,16],[126,17,126,18],[126,15,127,15],[124,15,125,15],[122,15,123,15],[126,12,126,13],[130,6,131,6],[130,7,130,8],[130,10,131,10],[130,11,131,11],[128,7,128,8],[130,12,130,13],[128,11,129,11],[128,12,128,13],[130,0,131,0],[130,1,131,1],[130,2,130,3],[130,5,131,5],[128,0,129,0],[128,1,129,1],[128,2,128,3],[128,5,129,5],[128,6,129,6],[128,10,129,10]]}
[{"$f":"\"Epreuve  : \"&'TS-200'!$C$1","v":"Epreuve  : Critérium Fédéral"},null,null,null,null,null,null,null,null,null,null,null,null,null,null,null,null,null,{"$f":"\"Lieu : \"&'TS-200'!$C$2","v":"Lieu : Pont à Mousson"}]
[{"$f":"\"Tableau : \"&'TS-200'!$C$4","v":"Tableau :  "},null,null,null,null,null,null,null,null,null,null,null,null,null,null,null,null,null,{"$f":"\"Date : \"&'TS-200'!$C$3","v":"Date : 15 au 17 mars 2019"}]
["TIRAGE AU SORT MISE EN POULES"]
[null,null,null,null,null,null,null,null,null,null,null,null,null,null,null,null,"Club, Comité ou Ligue (tiré au sort)",null,"Club, Comité ou Ligue"]
[]
["Poule 1",null,null,null,null,"Poule 2",null,null,null,null,"Poule 3",null,null,null,null,"Poule 4"]
["Rang","Dossard","NOM    Prénom",null,null,"Rang","Dossard","NOM    Prénom",null,null,"Rang","Dossard","NOM    Prénom",null,null,"Rang","Dossard","NOM    Prénom",null,null,"NB Club, Comité ou Ligue","Bloc"]
[null,null,"CLUB, LIGUE ou COMITE","Pts - Clt",null,null,null,"CLUB, LIGUE ou COMITE","Pts - Clt",null,null,null,"CLUB, LIGUE ou COMITE","Pts - Clt",null,null,null,"CLUB, LIGUE ou COMITE","Pts - Clt",null,"Club, Comité ou Ligue","1_4","5_8","9_12","13_16","Total général"]
["1er",{"$f":"IF(ISERROR(VLOOKUP(VALUE(RIGHT(A6,LEN(A6)-SEARCH(\" \",A6,1))&LEFT(A9,1)),'TS-201b'!$B$15:$E$144,4,FALSE)),\"\",VLOOKUP(VALUE(RIGHT(A6,LEN(A6)-SEARCH(\" \",A6,1))&LEFT(A9,1)),'TS-201b'!$B$15:$E$144,4,FALSE))","v":""},{"$f":"IF(B9=\"\",\"\",VLOOKUP(B9,Liste_B,2,FALSE))","v":""},null,null,"1er",{"$f":"IF(ISERROR(VLOOKUP(VALUE(RIGHT(F6,LEN(F6)-SEARCH(\" \",F6,1))&LEFT(F9,1)),'TS-201b'!$B$15:$E$144,4,FALSE)),\"\",VLOOKUP(VALUE(RIGHT(F6,LEN(F6)-SEARCH(\" \",F6,1))&LEFT(F9,1)),'TS-201b'!$B$15:$E$144,4,FALSE))","v":""},{"$f":"IF(G9=\"\",\"\",VLOOKUP(G9,Liste_B,2,FALSE))","v":""},null,null,"1er",{"$f":"IF(ISERROR(VLOOKUP(VALUE(RIGHT(K6,LEN(K6)-SEARCH(\" \",K6,1))&LEFT(K9,1)),'TS-201b'!$B$15:$E$144,4,FALSE)),\"\",VLOOKUP(VALUE(RIGHT(K6,LEN(K6)-SEARCH(\" \",K6,1))&LEFT(K9,1)),'TS-201b'!$B$15:$E$144,4,FALSE))","v":""},{"$f":"IF(L9=\"\",\"\",VLOOKUP(L9,Liste_B,2,FALSE))","v":""},null,null,"1er",{"$f":"IF(ISERROR(VLOOKUP(VALUE(RIGHT(P6,LEN(P6)-SEARCH(\" \",P6,1))&LEFT(P9,1)),'TS-201b'!$B$15:$E$144,4,FALSE)),\"\",VLOOKUP(VALUE(RIGHT(P6,LEN(P6)-SEARCH(\" \",P6,1))&LEFT(P9,1)),'TS-201b'!$B$15:$E$144,4,FALSE))","v":""},{"$f":"IF(Q9=\"\",\"\",VLOOKUP(Q9,Liste_B,2,FALSE))","v":""},null,null,"4S TOURS T.T.",1,null,1,null,2]
[null,null,{"$f":"IF(B9=\"\",\"\",VLOOKUP(B9,Liste_B,6,FALSE))","v":""},{"$f":"IF(B9=\"\",\"\",VLOOKUP(B9,Liste_B,3,FALSE)&\" pts - \"&VLOOKUP(B9,Liste_B,4,FALSE))","v":""},null,null,null,{"$f":"IF(G9=\"\",\"\",VLOOKUP(G9,Liste_B,6,FALSE))","v":""},{"$f":"IF(G9=\"\",\"\",VLOOKUP(G9,Liste_B,3,FALSE)&\" pts - \"&VLOOKUP(G9,Liste_B,4,FALSE))","v":""},null,null,null,{"$f":"IF(L9=\"\",\"\",VLOOKUP(L9,Liste_B,6,FALSE))","v":""},{"$f":"IF(L9=\"\",\"\",VLOOKUP(L9,Liste_B,3,FALSE)&\" pts - \"&VLOOKUP(L9,Liste_B,4,FALSE))","v":""},null,null,null,{"$f":"IF(Q9=\"\",\"\",VLOOKUP(Q9,Liste_B,6,FALSE))","v":""},{"$f":"IF(Q9=\"\",\"\",VLOOKUP(Q9,Liste_B,3,FALSE)&\" pts - \"&VLOOKUP(Q9,Liste_B,4,FALSE))","v":""},null,"AL PLOEMEUR",null,null,1,null,1]
["2ème",{"$f":"IF(ISERROR(VLOOKUP(VALUE(RIGHT(A6,LEN(A6)-SEARCH(\" \",A6,1))&LEFT(A11,1)),'TS-201b'!$B$15:$E$144,4,FALSE)),\"\",VLOOKUP(VALUE(RIGHT(A6,LEN(A6)-SEARCH(\" \",A6,1))&LEFT(A11,1)),'TS-201b'!$B$15:$E$144,4,FALSE))","v":""},{"$f":"IF(B11=\"\",\"\",VLOOKUP(B11,Liste_B,2,FALSE))","v":""},null,null,"2ème",{"$f":"IF(ISERROR(VLOOKUP(VALUE(RIGHT(F6,LEN(F6)-SEARCH(\" \",F6,1))&LEFT(F11,1)),'TS-201b'!$B$15:$E$144,4,FALSE)),\"\",VLOOKUP(VALUE(RIGHT(F6,LEN(F6)-SEARCH(\" \",F6,1))&LEFT(F11,1)),'TS-201b'!$B$15:$E$144,4,FALSE))","v":""},{"$f":"IF(G11=\"\",\"\",VLOOKUP(G11,Liste_B,2,FALSE))","v":""},null,null,"2ème",{"$f":"IF(ISERROR(VLOOKUP(VALUE(RIGHT(K6,LEN(K6)-SEARCH(\" \",K6,1))&LEFT(K11,1)),'TS-201b'!$B$15:$E$144,4,FALSE)),\"\",VLOOKUP(VALUE(RIGHT(K6,LEN(K6)-SEARCH(\" \",K6,1))&LEFT(K11,1)),'TS-201b'!$B$15:$E$144,4,FALSE))","v":""},{"$f":"IF(L11=\"\",\"\",VLOOKUP(L11,Liste_B,2,FALSE))","v":""},null,null,"2ème",{"$f":"IF(ISERROR(VLOOKUP(VALUE(RIGHT(P6,LEN(P6)-SEARCH(\" \",P6,1))&LEFT(P11,1)),'TS-201b'!$B$15:$E$144,4,FALSE)),\"\",VLOOKUP(VALUE(RIGHT(P6,LEN(P6)-SEARCH(\" \",P6,1))&LEFT(P11,1)),'TS-201b'!$B$15:$E$144,4,FALSE))","v":""},{"$f":"IF(Q11=\"\",\"\",VLOOKUP(Q11,Liste_B,2,FALSE))","v":""},null,null,"ALFORT JSA",1,null,null,null,1]
[null,null,{"$f":"IF(B11=\"\",\"\",VLOOKUP(B11,Liste_B,6,FALSE))","v":""},{"$f":"IF(B11=\"\",\"\",VLOOKUP(B11,Liste_B,3,FALSE)&\" pts - \"&VLOOKUP(B11,Liste_B,4,FALSE))","v":""},null,null,null,{"$f":"IF(G11=\"\",\"\",VLOOKUP(G11,Liste_B,6,FALSE))","v":""},{"$f":"IF(G11=\"\",\"\",VLOOKUP(G11,Liste_B,3,FALSE)&\" pts - \"&VLOOKUP(G11,Liste_B,4,FALSE))","v":""},null,null,null,{"$f":"IF(L11=\"\",\"\",VLOOKUP(L11,Liste_B,6,FALSE))","v":""},{"$f":"IF(L11=\"\",\"\",VLOOKUP(L11,Liste_B,3,FALSE)&\" pts - \"&VLOOKUP(L11,Liste_B,4,FALSE))","v":""},null,null,null,{"$f":"IF(Q11=\"\",\"\",VLOOKUP(Q11,Liste_B,6,FALSE))","v":""},{"$f":"IF(Q11=\"\",\"\",VLOOKUP(Q11,Liste_B,3,FALSE)&\" pts - \"&VLOOKUP(Q11,Liste_B,4,FALSE))","v":""},null,"ANG VAILLANTE",null,null,1,1,2]
["3ème",{"$f":"IF(ISERROR(VLOOKUP(VALUE(RIGHT(A6,LEN(A6)-SEARCH(\" \",A6,1))&LEFT(A13,1)),'TS-201b'!$B$15:$E$144,4,FALSE)),\"\",VLOOKUP(VALUE(RIGHT(A6,LEN(A6)-SEARCH(\" \",A6,1))&LEFT(A13,1)),'TS-201b'!$B$15:$E$144,4,FALSE))","v":""},{"$f":"IF(B13=\"\",\"\",VLOOKUP(B13,Liste_B,2,FALSE))","v":""},null,null,"3ème",{"$f":"IF(ISERROR(VLOOKUP(VALUE(RIGHT(F6,LEN(F6)-SEARCH(\" \",F6,1))&LEFT(F13,1)),'TS-201b'!$B$15:$E$144,4,FALSE)),\"\",VLOOKUP(VALUE(RIGHT(F6,LEN(F6)-SEARCH(\" \",F6,1))&LEFT(F13,1)),'TS-201b'!$B$15:$E$144,4,FALSE))","v":""},{"$f":"IF(G13=\"\",\"\",VLOOKUP(G13,Liste_B,2,FALSE))","v":""},null,null,"3ème",{"$f":"IF(ISERROR(VLOOKUP(VALUE(RIGHT(K6,LEN(K6)-SEARCH(\" \",K6,1))&LEFT(K13,1)),'TS-201b'!$B$15:$E$144,4,FALSE)),\"\",VLOOKUP(VALUE(RIGHT(K6,LEN(K6)-SEARCH(\" \",K6,1))&LEFT(K13,1)),'TS-201b'!$B$15:$E$144,4,FALSE))","v":""},{"$f":"IF(L13=\"\",\"\",VLOOKUP(L13,Liste_B,2,FALSE))","v":""},null,null,"3ème",{"$f":"IF(ISERROR(VLOOKUP(VALUE(RIGHT(P6,LEN(P6)-SEARCH(\" \",P6,1))&LEFT(P13,1)),'TS-201b'!$B$15:$E$144,4,FALSE)),\"\",VLOOKUP(VALUE(RIGHT(P6,LEN(P6)-SEARCH(\" \",P6,1))&LEFT(P13,1)),'TS-201b'!$B$15:$E$144,4,FALSE))","v":""},{"$f":"IF(Q13=\"\",\"\",VLOOKUP(Q13,Liste_B,2,FALSE))","v":""},null,null,"ARGENTAN BAYARD",1,null,null,null,1]
[null,null,{"$f":"IF(B13=\"\",\"\",VLOOKUP(B13,Liste_B,6,FALSE))","v":""},{"$f":"IF(B13=\"\",\"\",VLOOKUP(B13,Liste_B,3,FALSE)&\" pts - \"&VLOOKUP(B13,Liste_B,4,FALSE))","v":""},null,null,null,{"$f":"IF(G13=\"\",\"\",VLOOKUP(G13,Liste_B,6,FALSE))","v":""},{"$f":"IF(G13=\"\",\"\",VLOOKUP(G13,Liste_B,3,FALSE)&\" pts - \"&VLOOKUP(G13,Liste_B,4,FALSE))","v":""},null,null,null,{"$f":"IF(L13=\"\",\"\",VLOOKUP(L13,Liste_B,6,FALSE))","v":""},{"$f":"IF(L13=\"\",\"\",VLOOKUP(L13,Liste_B,3,FALSE)&\" pts - \"&VLOOKUP(L13,Liste_B,4,FALSE))","v":""},null,null,null,{"$f":"IF(Q13=\"\",\"\",VLOOKUP(Q13,Liste_B,6,FALSE))","v":""},{"$f":"IF(Q13=\"\",\"\",VLOOKUP(Q13,Liste_B,3,FALSE)&\" pts - \"&VLOOKUP(Q13,Liste_B,4,FALSE))","v":""},null,"BEAUFOU",null,1,null,null,1]
["4ème",{"$f":"IF(ISERROR(VLOOKUP(VALUE(RIGHT(A6,LEN(A6)-SEARCH(\" \",A6,1))&LEFT(A15,1)),'TS-201b'!$B$15:$E$144,4,FALSE)),\"\",VLOOKUP(VALUE(RIGHT(A6,LEN(A6)-SEARCH(\" \",A6,1))&LEFT(A15,1)),'TS-201b'!$B$15:$E$144,4,FALSE))","v":""},{"$f":"IF(B15=\"\",\"\",VLOOKUP(B15,Liste_B,2,FALSE))","v":""},null,null,"4ème",{"$f":"IF(ISERROR(VLOOKUP(VALUE(RIGHT(F6,LEN(F6)-SEARCH(\" \",F6,1))&LEFT(F15,1)),'TS-201b'!$B$15:$E$144,4,FALSE)),\"\",VLOOKUP(VALUE(RIGHT(F6,LEN(F6)-SEARCH(\" \",F6,1))&LEFT(F15,1)),'TS-201b'!$B$15:$E$144,4,FALSE))","v":""},{"$f":"IF(G15=\"\",\"\",VLOOKUP(G15,Liste_B,2,FALSE))","v":""},null,null,"4ème",{"$f":"IF(ISERROR(VLOOKUP(VALUE(RIGHT(K6,LEN(K6)-SEARCH(\" \",K6,1))&LEFT(K15,1)),'TS-201b'!$B$15:$E$144,4,FALSE)),\"\",VLOOKUP(VALUE(RIGHT(K6,LEN(K6)-SEARCH(\" \",K6,1))&LEFT(K15,1)),'TS-201b'!$B$15:$E$144,4,FALSE))","v":""},{"$f":"IF(L15=\"\",\"\",VLOOKUP(L15,Liste_B,2,FALSE))","v":""},null,null,"4ème",{"$f":"IF(ISERROR(VLOOKUP(VALUE(RIGHT(P6,LEN(P6)-SEARCH(\" \",P6,1))&LEFT(P15,1)),'TS-201b'!$B$15:$E$144,4,FALSE)),\"\",VLOOKUP(VALUE(RIGHT(P6,LEN(P6)-SEARCH(\" \",P6,1))&LEFT(P15,1)),'TS-201b'!$B$15:$E$144,4,FALSE))","v":""},{"$f":"IF(Q15=\"\",\"\",VLOOKUP(Q15,Liste_B,2,FALSE))","v":""},null,null,"BETHUNE-B ASTT",null,null,1,1,2]
[null,null,{"$f":"IF(B15=\"\",\"\",VLOOKUP(B15,Liste_B,6,FALSE))","v":""},{"$f":"IF(B15=\"\",\"\",VLOOKUP(B15,Liste_B,3,FALSE)&\" pts - \"&VLOOKUP(B15,Liste_B,4,FALSE))","v":""},null,null,null,{"$f":"IF(G15=\"\",\"\",VLOOKUP(G15,Liste_B,6,FALSE))","v":""},{"$f":"IF(G15=\"\",\"\",VLOOKUP(G15,Liste_B,3,FALSE)&\" pts - \"&VLOOKUP(G15,Liste_B,4,FALSE))","v":""},null,null,null,{"$f":"IF(L15=\"\",\"\",VLOOKUP(L15,Liste_B,6,FALSE))","v":""},{"$f":"IF(L15=\"\",\"\",VLOOKUP(L15,Liste_B,3,FALSE)&\" pts - \"&VLOOKUP(L15,Liste_B,4,FALSE))","v":""},null,null,null,{"$f":"IF(Q15=\"\",\"\",VLOOKUP(Q15,Liste_B,6,FALSE))","v":""},{"$f":"IF(Q15=\"\",\"\",VLOOKUP(Q15,Liste_B,3,FALSE)&\" pts - \"&VLOOKUP(Q15,Liste_B,4,FALSE))","v":""},null,"BOULOGNE BILLAN",1,1,null,null,2]
["5ème",{"$f":"IF(ISERROR(VLOOKUP(VALUE(RIGHT(A6,LEN(A6)-SEARCH(\" \",A6,1))&LEFT(A17,1)),'TS-201b'!$B$15:$E$144,4,FALSE)),\"\",VLOOKUP(VALUE(RIGHT(A6,LEN(A6)-SEARCH(\" \",A6,1))&LEFT(A17,1)),'TS-201b'!$B$15:$E$144,4,FALSE))","v":""},{"$f":"IF(B17=\"\",\"\",VLOOKUP(B17,Liste_B,2,FALSE))","v":""},null,null,"5ème",{"$f":"IF(ISERROR(VLOOKUP(VALUE(RIGHT(F6,LEN(F6)-SEARCH(\" \",F6,1))&LEFT(F17,1)),'TS-201b'!$B$15:$E$144,4,FALSE)),\"\",VLOOKUP(VALUE(RIGHT(F6,LEN(F6)-SEARCH(\" \",F6,1))&LEFT(F17,1)),'TS-201b'!$B$15:$E$144,4,FALSE))","v":""},{"$f":"IF(G17=\"\",\"\",VLOOKUP(G17,Liste_B,2,FALSE))","v":""},null,null,"5ème",{"$f":"IF(ISERROR(VLOOKUP(VALUE(RIGHT(K6,LEN(K6)-SEARCH(\" \",K6,1))&LEFT(K17,1)),'TS-201b'!$B$15:$E$144,4,FALSE)),\"\",VLOOKUP(VALUE(RIGHT(K6,LEN(K6)-SEARCH(\" \",K6,1))&LEFT(K17,1)),'TS-201b'!$B$15:$E$144,4,FALSE))","v":""},{"$f":"IF(L17=\"\",\"\",VLOOKUP(L17,Liste_B,2,FALSE))","v":""},null,null,"5ème",{"$f":"IF(ISERROR(VLOOKUP(VALUE(RIGHT(P6,LEN(P6)-SEARCH(\" \",P6,1))&LEFT(P17,1)),'TS-201b'!$B$15:$E$144,4,FALSE)),\"\",VLOOKUP(VALUE(RIGHT(P6,LEN(P6)-SEARCH(\" \",P6,1))&LEFT(P17,1)),'TS-201b'!$B$15:$E$144,4,FALSE))","v":""},{"$f":"IF(Q17=\"\",\"\",VLOOKUP(Q17,Liste_B,2,FALSE))","v":""},null,null,"BOURGOIN JALLIE",null,null,null,1,1]
[null,null,{"$f":"IF(B17=\"\",\"\",VLOOKUP(B17,Liste_B,6,FALSE))","v":""},{"$f":"IF(B17=\"\",\"\",VLOOKUP(B17,Liste_B,3,FALSE)&\" pts - \"&VLOOKUP(B17,Liste_B,4,FALSE))","v":""},null,null,null,{"$f":"IF(G17=\"\",\"\",VLOOKUP(G17,Liste_B,6,FALSE))","v":""},{"$f":"IF(G17=\"\",\"\",VLOOKUP(G17,Liste_B,3,FALSE)&\" pts - \"&VLOOKUP(G17,Liste_B,4,FALSE))","v":""},null,null,null,{"$f":"IF(L17=\"\",\"\",VLOOKUP(L17,Liste_B,6,FALSE))","v":""},{"$f":"IF(L17=\"\",\"\",VLOOKUP(L17,Liste_B,3,FALSE)&\" pts - \"&VLOOKUP(L17,Liste_B,4,FALSE))","v":""},null,null,null,{"$f":"IF(Q17=\"\",\"\",VLOOKUP(Q17,Liste_B,6,FALSE))","v":""},{"$f":"IF(Q17=\"\",\"\",VLOOKUP(Q17,Liste_B,3,FALSE)&\" pts - \"&VLOOKUP(Q17,Liste_B,4,FALSE))","v":""},null,"BRUILLE CTT",null,null,1,null,1]
["6ème",{"$f":"IF(ISERROR(VLOOKUP(VALUE(RIGHT(A6,LEN(A6)-SEARCH(\" \",A6,1))&LEFT(A19,1)),'TS-201b'!$B$15:$E$144,4,FALSE)),\"\",VLOOKUP(VALUE(RIGHT(A6,LEN(A6)-SEARCH(\" \",A6,1))&LEFT(A19,1)),'TS-201b'!$B$15:$E$144,4,FALSE))","v":""},{"$f":"IF(B19=\"\",\"\",VLOOKUP(B19,Liste_B,2,FALSE))","v":""},null,null,"6ème",{"$f":"IF(ISERROR(VLOOKUP(VALUE(RIGHT(F6,LEN(F6)-SEARCH(\" \",F6,1))&LEFT(F19,1)),'TS-201b'!$B$15:$E$144,4,FALSE)),\"\",VLOOKUP(VALUE(RIGHT(F6,LEN(F6)-SEARCH(\" \",F6,1))&LEFT(F19,1)),'TS-201b'!$B$15:$E$144,4,FALSE))","v":""},{"$f":"IF(G19=\"\",\"\",VLOOKUP(G19,Liste_B,2,FALSE))","v":""},null,null,"6ème",{"$f":"IF(ISERROR(VLOOKUP(VALUE(RIGHT(K6,LEN(K6)-SEARCH(\" \",K6,1))&LEFT(K19,1)),'TS-201b'!$B$15:$E$144,4,FALSE)),\"\",VLOOKUP(VALUE(RIGHT(K6,LEN(K6)-SEARCH(\" \",K6,1))&LEFT(K19,1)),'TS-201b'!$B$15:$E$144,4,FALSE))","v":""},{"$f":"IF(L19=\"\",\"\",VLOOKUP(L19,Liste_B,2,FALSE))","v":""},null,null,"6ème",{"$f":"IF(ISERROR(VLOOKUP(VALUE(RIGHT(P6,LEN(P6)-SEARCH(\" \",P6,1))&LEFT(P19,1)),'TS-201b'!$B$15:$E$144,4,FALSE)),\"\",VLOOKUP(VALUE(RIGHT(P6,LEN(P6)-SEARCH(\" \",P6,1))&LEFT(P19,1)),'TS-201b'!$B$15:$E$144,4,FALSE))","v":""},{"$f":"IF(Q19=\"\",\"\",VLOOKUP(Q19,Liste_B,2,FALSE))","v":""},null,null,"CAEN TTC",null,1,null,null,1]
[null,null,{"$f":"IF(B19=\"\",\"\",VLOOKUP(B19,Liste_B,6,FALSE))","v":""},{"$f":"IF(B19=\"\",\"\",VLOOKUP(B19,Liste_B,3,FALSE)&\" pts - \"&VLOOKUP(B19,Liste_B,4,FALSE))","v":""},null,null,null,{"$f":"IF(G19=\"\",\"\",VLOOKUP(G19,Liste_B,6,FALSE))","v":""},{"$f":"IF(G19=\"\",\"\",VLOOKUP(G19,Liste_B,3,FALSE)&\" pts - \"&VLOOKUP(G19,Liste_B,4,FALSE))","v":""},null,null,null,{"$f":"IF(L19=\"\",\"\",VLOOKUP(L19,Liste_B,6,FALSE))","v":""},{"$f":"IF(L19=\"\",\"\",VLOOKUP(L19,Liste_B,3,FALSE)&\" pts - \"&VLOOKUP(L19,Liste_B,4,FALSE))","v":""},null,null,null,{"$f":"IF(Q19=\"\",\"\",VLOOKUP(Q19,Liste_B,6,FALSE))","v":""},{"$f":"IF(Q19=\"\",\"\",VLOOKUP(Q19,Liste_B,3,FALSE)&\" pts - \"&VLOOKUP(Q19,Liste_B,4,FALSE))","v":""},null,"CESSON OC",1,null,null,2,3]
[null,null,null,null,null,null,null,null,null,null,null,null,null,null,null,null,null,null,null,null,"CHARLEVILLE MEZ",1,null,null,null,1]
["Poule 5",null,null,null,null,"Poule 6",null,null,null,null,"Poule 7",null,null,null,null,"Poule 8",null,null,null,null,"CHATILLON TTMC",null,null,1,null,1]
["Rang","Dossard","NOM    Prénom",null,null,"Rang","Dossard","NOM    Prénom",null,null,"Rang","Dossard","NOM    Prénom",null,null,"Rang","Dossard","NOM    Prénom",null,null,"CHESNAY 78 AS",1,null,2,null,3]
[null,null,"CLUB, LIGUE ou COMITE","Pts - Clt",null,null,null,"CLUB, LIGUE ou COMITE","Pts - Clt",null,null,null,"CLUB, LIGUE ou COMITE","Pts - Clt",null,null,null,"CLUB, LIGUE ou COMITE","Pts - Clt",null,"CLAMART CSM",1,null,null,1,2]
["1er",{"$f":"IF(ISERROR(VLOOKUP(VALUE(RIGHT(A22,LEN(A22)-SEARCH(\" \",A22,1))&LEFT(A25,1)),'TS-201b'!$B$15:$E$144,4,FALSE)),\"\",VLOOKUP(VALUE(RIGHT(A22,LEN(A22)-SEARCH(\" \",A22,1))&LEFT(A25,1)),'TS-201b'!$B$15:$E$144,4,FALSE))","v":""},{"$f":"IF(B25=\"\",\"\",VLOOKUP(B25,Liste_B,2,FALSE))","v":""},null,null,"1er",{"$f":"IF(ISERROR(VLOOKUP(VALUE(RIGHT(F22,LEN(F22)-SEARCH(\" \",F22,1))&LEFT(F25,1)),'TS-201b'!$B$15:$E$144,4,FALSE)),\"\",VLOOKUP(VALUE(RIGHT(F22,LEN(F22)-SEARCH(\" \",F22,1))&LEFT(F25,1)),'TS-201b'!$B$15:$E$144,4,FALSE))","v":""},{"$f":"IF(G25=\"\",\"\",VLOOKUP(G25,Liste_B,2,FALSE))","v":""},null,null,"1er",{"$f":"IF(ISERROR(VLOOKUP(VALUE(RIGHT(K22,LEN(K22)-SEARCH(\" \",K22,1))&LEFT(K25,1)),'TS-201b'!$B$15:$E$144,4,FALSE)),\"\",VLOOKUP(VALUE(RIGHT(K22,LEN(K22)-SEARCH(\" \",K22,1))&LEFT(K25,1)),'TS-201b'!$B$15:$E$144,4,FALSE))","v":""},{"$f":"IF(L25=\"\",\"\",VLOOKUP(L25,Liste_B,2,FALSE))","v":""},null,null,"1er",{"$f":"IF(ISERROR(VLOOKUP(VALUE(RIGHT(P22,LEN(P22)-SEARCH(\" \",P22,1))&LEFT(P25,1)),'TS-201b'!$B$15:$E$144,4,FALSE)),\"\",VLOOKUP(VALUE(RIGHT(P22,LEN(P22)-SEARCH(\" \",P22,1))&LEFT(P25,1)),'TS-201b'!$B$15:$E$144,4,FALSE))","v":""},{"$f":"IF(Q25=\"\",\"\",VLOOKUP(Q25,Liste_B,2,FALSE))","v":""},null,null,"COURNON CL",null,1,null,null,1]
[null,null,{"$f":"IF(B25=\"\",\"\",VLOOKUP(B25,Liste_B,6,FALSE))","v":""},{"$f":"IF(B25=\"\",\"\",VLOOKUP(B25,Liste_B,3,FALSE)&\" pts - \"&VLOOKUP(B25,Liste_B,4,FALSE))","v":""},null,null,null,{"$f":"IF(G25=\"\",\"\",VLOOKUP(G25,Liste_B,6,FALSE))","v":""},{"$f":"IF(G25=\"\",\"\",VLOOKUP(G25,Liste_B,3,FALSE)&\" pts - \"&VLOOKUP(G25,Liste_B,4,FALSE))","v":""},null,null,null,{"$f":"IF(L25=\"\",\"\",VLOOKUP(L25,Liste_B,6,FALSE))","v":""},{"$f":"IF(L25=\"\",\"\",VLOOKUP(L25,Liste_B,3,FALSE)&\" pts - \"&VLOOKUP(L25,Liste_B,4,FALSE))","v":""},null,null,null,{"$f":"IF(Q25=\"\",\"\",VLOOKUP(Q25,Liste_B,6,FALSE))","v":""},{"$f":"IF(Q25=\"\",\"\",VLOOKUP(Q25,Liste_B,3,FALSE)&\" pts - \"&VLOOKUP(Q25,Liste_B,4,FALSE))","v":""},null,"CP QUEVILLAIS",null,1,null,null,1]
["2ème",{"$f":"IF(ISERROR(VLOOKUP(VALUE(RIGHT(A22,LEN(A22)-SEARCH(\" \",A22,1))&LEFT(A27,1)),'TS-201b'!$B$15:$E$144,4,FALSE)),\"\",VLOOKUP(VALUE(RIGHT(A22,LEN(A22)-SEARCH(\" \",A22,1))&LEFT(A27,1)),'TS-201b'!$B$15:$E$144,4,FALSE))","v":""},{"$f":"IF(B27=\"\",\"\",VLOOKUP(B27,Liste_B,2,FALSE))","v":""},null,null,"2ème",{"$f":"IF(ISERROR(VLOOKUP(VALUE(RIGHT(F22,LEN(F22)-SEARCH(\" \",F22,1))&LEFT(F27,1)),'TS-201b'!$B$15:$E$144,4,FALSE)),\"\",VLOOKUP(VALUE(RIGHT(F22,LEN(F22)-SEARCH(\" \",F22,1))&LEFT(F27,1)),'TS-201b'!$B$15:$E$144,4,FALSE))","v":""},{"$f":"IF(G27=\"\",\"\",VLOOKUP(G27,Liste_B,2,FALSE))","v":""},null,null,"2ème",{"$f":"IF(ISERROR(VLOOKUP(VALUE(RIGHT(K22,LEN(K22)-SEARCH(\" \",K22,1))&LEFT(K27,1)),'TS-201b'!$B$15:$E$144,4,FALSE)),\"\",VLOOKUP(VALUE(RIGHT(K22,LEN(K22)-SEARCH(\" \",K22,1))&LEFT(K27,1)),'TS-201b'!$B$15:$E$144,4,FALSE))","v":""},{"$f":"IF(L27=\"\",\"\",VLOOKUP(L27,Liste_B,2,FALSE))","v":""},null,null,"2ème",{"$f":"IF(ISERROR(VLOOKUP(VALUE(RIGHT(P22,LEN(P22)-SEARCH(\" \",P22,1))&LEFT(P27,1)),'TS-201b'!$B$15:$E$144,4,FALSE)),\"\",VLOOKUP(VALUE(RIGHT(P22,LEN(P22)-SEARCH(\" \",P22,1))&LEFT(P27,1)),'TS-201b'!$B$15:$E$144,4,FALSE))","v":""},{"$f":"IF(Q27=\"\",\"\",VLOOKUP(Q27,Liste_B,2,FALSE))","v":""},null,null,"ELANCOURT CTT",null,1,null,null,1]
[null,null,{"$f":"IF(B27=\"\",\"\",VLOOKUP(B27,Liste_B,6,FALSE))","v":""},{"$f":"IF(B27=\"\",\"\",VLOOKUP(B27,Liste_B,3,FALSE)&\" pts - \"&VLOOKUP(B27,Liste_B,4,FALSE))","v":""},null,null,null,{"$f":"IF(G27=\"\",\"\",VLOOKUP(G27,Liste_B,6,FALSE))","v":""},{"$f":"IF(G27=\"\",\"\",VLOOKUP(G27,Liste_B,3,FALSE)&\" pts - \"&VLOOKUP(G27,Liste_B,4,FALSE))","v":""},null,null,null,{"$f":"IF(L27=\"\",\"\",VLOOKUP(L27,Liste_B,6,FALSE))","v":""},{"$f":"IF(L27=\"\",\"\",VLOOKUP(L27,Liste_B,3,FALSE)&\" pts - \"&VLOOKUP(L27,Liste_B,4,FALSE))","v":""},null,null,null,{"$f":"IF(Q27=\"\",\"\",VLOOKUP(Q27,Liste_B,6,FALSE))","v":""},{"$f":"IF(Q27=\"\",\"\",VLOOKUP(Q27,Liste_B,3,FALSE)&\" pts - \"&VLOOKUP(Q27,Liste_B,4,FALSE))","v":""},null,"ENT ST PIERRE",null,null,null,1,1]
["3ème",{"$f":"IF(ISERROR(VLOOKUP(VALUE(RIGHT(A22,LEN(A22)-SEARCH(\" \",A22,1))&LEFT(A29,1)),'TS-201b'!$B$15:$E$144,4,FALSE)),\"\",VLOOKUP(VALUE(RIGHT(A22,LEN(A22)-SEARCH(\" \",A22,1))&LEFT(A29,1)),'TS-201b'!$B$15:$E$144,4,FALSE))","v":""},{"$f":"IF(B29=\"\",\"\",VLOOKUP(B29,Liste_B,2,FALSE))","v":""},null,null,"3ème",{"$f":"IF(ISERROR(VLOOKUP(VALUE(RIGHT(F22,LEN(F22)-SEARCH(\" \",F22,1))&LEFT(F29,1)),'TS-201b'!$B$15:$E$144,4,FALSE)),\"\",VLOOKUP(VALUE(RIGHT(F22,LEN(F22)-SEARCH(\" \",F22,1))&LEFT(F29,1)),'TS-201b'!$B$15:$E$144,4,FALSE))","v":""},{"$f":"IF(G29=\"\",\"\",VLOOKUP(G29,Liste_B,2,FALSE))","v":""},null,null,"3ème",{"$f":"IF(ISERROR(VLOOKUP(VALUE(RIGHT(K22,LEN(K22)-SEARCH(\" \",K22,1))&LEFT(K29,1)),'TS-201b'!$B$15:$E$144,4,FALSE)),\"\",VLOOKUP(VALUE(RIGHT(K22,LEN(K22)-SEARCH(\" \",K22,1))&LEFT(K29,1)),'TS-201b'!$B$15:$E$144,4,FALSE))","v":""},{"$f":"IF(L29=\"\",\"\",VLOOKUP(L29,Liste_B,2,FALSE))","v":""},null,null,"3ème",{"$f":"IF(ISERROR(VLOOKUP(VALUE(RIGHT(P22,LEN(P22)-SEARCH(\" \",P22,1))&LEFT(P29,1)),'TS-201b'!$B$15:$E$144,4,FALSE)),\"\",VLOOKUP(VALUE(RIGHT(P22,LEN(P22)-SEARCH(\" \",P22,1))&LEFT(P29,1)),'TS-201b'!$B$15:$E$144,4,FALSE))","v":""},{"$f":"IF(Q29=\"\",\"\",VLOOKUP(Q29,Liste_B,2,FALSE))","v":""},null,null,"ERMONT-PLESSIS",null,1,null,null,1]
[null,null,{"$f":"IF(B29=\"\",\"\",VLOOKUP(B29,Liste_B,6,FALSE))","v":""},{"$f":"IF(B29=\"\",\"\",VLOOKUP(B29,Liste_B,3,FALSE)&\" pts - \"&VLOOKUP(B29,Liste_B,4,FALSE))","v":""},null,null,null,{"$f":"IF(G29=\"\",\"\",VLOOKUP(G29,Liste_B,6,FALSE))","v":""},{"$f":"IF(G29=\"\",\"\",VLOOKUP(G29,Liste_B,3,FALSE)&\" pts - \"&VLOOKUP(G29,Liste_B,4,FALSE))","v":""},null,null,null,{"$f":"IF(L29=\"\",\"\",VLOOKUP(L29,Liste_B,6,FALSE))","v":""},{"$f":"IF(L29=\"\",\"\",VLOOKUP(L29,Liste_B,3,FALSE)&\" pts - \"&VLOOKUP(L29,Liste_B,4,FALSE))","v":""},null,null,null,{"$f":"IF(Q29=\"\",\"\",VLOOKUP(Q29,Liste_B,6,FALSE))","v":""},{"$f":"IF(Q29=\"\",\"\",VLOOKUP(Q29,Liste_B,3,FALSE)&\" pts - \"&VLOOKUP(Q29,Liste_B,4,FALSE))","v":""},null,"ES VILLIERS",null,1,null,1,2]
["4ème",{"$f":"IF(ISERROR(VLOOKUP(VALUE(RIGHT(A22,LEN(A22)-SEARCH(\" \",A22,1))&LEFT(A31,1)),'TS-201b'!$B$15:$E$144,4,FALSE)),\"\",VLOOKUP(VALUE(RIGHT(A22,LEN(A22)-SEARCH(\" \",A22,1))&LEFT(A31,1)),'TS-201b'!$B$15:$E$144,4,FALSE))","v":""},{"$f":"IF(B31=\"\",\"\",VLOOKUP(B31,Liste_B,2,FALSE))","v":""},null,null,"4ème",{"$f":"IF(ISERROR(VLOOKUP(VALUE(RIGHT(F22,LEN(F22)-SEARCH(\" \",F22,1))&LEFT(F31,1)),'TS-201b'!$B$15:$E$144,4,FALSE)),\"\",VLOOKUP(VALUE(RIGHT(F22,LEN(F22)-SEARCH(\" \",F22,1))&LEFT(F31,1)),'TS-201b'!$B$15:$E$144,4,FALSE))","v":""},{"$f":"IF(G31=\"\",\"\",VLOOKUP(G31,Liste_B,2,FALSE))","v":""},null,null,"4ème",{"$f":"IF(ISERROR(VLOOKUP(VALUE(RIGHT(K22,LEN(K22)-SEARCH(\" \",K22,1))&LEFT(K31,1)),'TS-201b'!$B$15:$E$144,4,FALSE)),\"\",VLOOKUP(VALUE(RIGHT(K22,LEN(K22)-SEARCH(\" \",K22,1))&LEFT(K31,1)),'TS-201b'!$B$15:$E$144,4,FALSE))","v":""},{"$f":"IF(L31=\"\",\"\",VLOOKUP(L31,Liste_B,2,FALSE))","v":""},null,null,"4ème",{"$f":"IF(ISERROR(VLOOKUP(VALUE(RIGHT(P22,LEN(P22)-SEARCH(\" \",P22,1))&LEFT(P31,1)),'TS-201b'!$B$15:$E$144,4,FALSE)),\"\",VLOOKUP(VALUE(RIGHT(P22,LEN(P22)-SEARCH(\" \",P22,1))&LEFT(P31,1)),'TS-201b'!$B$15:$E$144,4,FALSE))","v":""},{"$f":"IF(Q31=\"\",\"\",VLOOKUP(Q31,Liste_B,2,FALSE))","v":""},null,null,"Esp. REUILLY",null,null,null,1,1]
[null,null,{"$f":"IF(B31=\"\",\"\",VLOOKUP(B31,Liste_B,6,FALSE))","v":""},{"$f":"IF(B31=\"\",\"\",VLOOKUP(B31,Liste_B,3,FALSE)&\" pts - \"&VLOOKUP(B31,Liste_B,4,FALSE))","v":""},null,null,null,{"$f":"IF(G31=\"\",\"\",VLOOKUP(G31,Liste_B,6,FALSE))","v":""},{"$f":"IF(G31=\"\",\"\",VLOOKUP(G31,Liste_B,3,FALSE)&\" pts - \"&VLOOKUP(G31,Liste_B,4,FALSE))","v":""},null,null,null,{"$f":"IF(L31=\"\",\"\",VLOOKUP(L31,Liste_B,6,FALSE))","v":""},{"$f":"IF(L31=\"\",\"\",VLOOKUP(L31,Liste_B,3,FALSE)&\" pts - \"&VLOOKUP(L31,Liste_B,4,FALSE))","v":""},null,null,null,{"$f":"IF(Q31=\"\",\"\",VLOOKUP(Q31,Liste_B,6,FALSE))","v":""},{"$f":"IF(Q31=\"\",\"\",VLOOKUP(Q31,Liste_B,3,FALSE)&\" pts - \"&VLOOKUP(Q31,Liste_B,4,FALSE))","v":""},null,"IGNY",null,1,null,null,1]
["5ème",{"$f":"IF(ISERROR(VLOOKUP(VALUE(RIGHT(A22,LEN(A22)-SEARCH(\" \",A22,1))&LEFT(A33,1)),'TS-201b'!$B$15:$E$144,4,FALSE)),\"\",VLOOKUP(VALUE(RIGHT(A22,LEN(A22)-SEARCH(\" \",A22,1))&LEFT(A33,1)),'TS-201b'!$B$15:$E$144,4,FALSE))","v":""},{"$f":"IF(B33=\"\",\"\",VLOOKUP(B33,Liste_B,2,FALSE))","v":""},null,null,"5ème",{"$f":"IF(ISERROR(VLOOKUP(VALUE(RIGHT(F22,LEN(F22)-SEARCH(\" \",F22,1))&LEFT(F33,1)),'TS-201b'!$B$15:$E$144,4,FALSE)),\"\",VLOOKUP(VALUE(RIGHT(F22,LEN(F22)-SEARCH(\" \",F22,1))&LEFT(F33,1)),'TS-201b'!$B$15:$E$144,4,FALSE))","v":""},{"$f":"IF(G33=\"\",\"\",VLOOKUP(G33,Liste_B,2,FALSE))","v":""},null,null,"5ème",{"$f":"IF(ISERROR(VLOOKUP(VALUE(RIGHT(K22,LEN(K22)-SEARCH(\" \",K22,1))&LEFT(K33,1)),'TS-201b'!$B$15:$E$144,4,FALSE)),\"\",VLOOKUP(VALUE(RIGHT(K22,LEN(K22)-SEARCH(\" \",K22,1))&LEFT(K33,1)),'TS-201b'!$B$15:$E$144,4,FALSE))","v":""},{"$f":"IF(L33=\"\",\"\",VLOOKUP(L33,Liste_B,2,FALSE))","v":""},null,null,"5ème",{"$f":"IF(ISERROR(VLOOKUP(VALUE(RIGHT(P22,LEN(P22)-SEARCH(\" \",P22,1))&LEFT(P33,1)),'TS-201b'!$B$15:$E$144,4,FALSE)),\"\",VLOOKUP(VALUE(RIGHT(P22,LEN(P22)-SEARCH(\" \",P22,1))&LEFT(P33,1)),'TS-201b'!$B$15:$E$144,4,FALSE))","v":""},{"$f":"IF(Q33=\"\",\"\",VLOOKUP(Q33,Liste_B,2,FALSE))","v":""},null,null,"JEUMONT PPC",null,null,null,1,1]
[null,null,{"$f":"IF(B33=\"\",\"\",VLOOKUP(B33,Liste_B,6,FALSE))","v":""},{"$f":"IF(B33=\"\",\"\",VLOOKUP(B33,Liste_B,3,FALSE)&\" pts - \"&VLOOKUP(B33,Liste_B,4,FALSE))","v":""},null,null,null,{"$f":"IF(G33=\"\",\"\",VLOOKUP(G33,Liste_B,6,FALSE))","v":""},{"$f":"IF(G33=\"\",\"\",VLOOKUP(G33,Liste_B,3,FALSE)&\" pts - \"&VLOOKUP(G33,Liste_B,4,FALSE))","v":""},null,null,null,{"$f":"IF(L33=\"\",\"\",VLOOKUP(L33,Liste_B,6,FALSE))","v":""},{"$f":"IF(L33=\"\",\"\",VLOOKUP(L33,Liste_B,3,FALSE)&\" pts - \"&VLOOKUP(L33,Liste_B,4,FALSE))","v":""},null,null,null,{"$f":"IF(Q33=\"\",\"\",VLOOKUP(Q33,Liste_B,6,FALSE))","v":""},{"$f":"IF(Q33=\"\",\"\",VLOOKUP(Q33,Liste_B,3,FALSE)&\" pts - \"&VLOOKUP(Q33,Liste_B,4,FALSE))","v":""},null,"LA GARDE TT",1,null,1,null,2]
["6ème",{"$f":"IF(ISERROR(VLOOKUP(VALUE(RIGHT(A22,LEN(A22)-SEARCH(\" \",A22,1))&LEFT(A35,1)),'TS-201b'!$B$15:$E$144,4,FALSE)),\"\",VLOOKUP(VALUE(RIGHT(A22,LEN(A22)-SEARCH(\" \",A22,1))&LEFT(A35,1)),'TS-201b'!$B$15:$E$144,4,FALSE))","v":""},{"$f":"IF(B35=\"\",\"\",VLOOKUP(B35,Liste_B,2,FALSE))","v":""},null,null,"6ème",{"$f":"IF(ISERROR(VLOOKUP(VALUE(RIGHT(F22,LEN(F22)-SEARCH(\" \",F22,1))&LEFT(F35,1)),'TS-201b'!$B$15:$E$144,4,FALSE)),\"\",VLOOKUP(VALUE(RIGHT(F22,LEN(F22)-SEARCH(\" \",F22,1))&LEFT(F35,1)),'TS-201b'!$B$15:$E$144,4,FALSE))","v":""},{"$f":"IF(G35=\"\",\"\",VLOOKUP(G35,Liste_B,2,FALSE))","v":""},null,null,"6ème",{"$f":"IF(ISERROR(VLOOKUP(VALUE(RIGHT(K22,LEN(K22)-SEARCH(\" \",K22,1))&LEFT(K35,1)),'TS-201b'!$B$15:$E$144,4,FALSE)),\"\",VLOOKUP(VALUE(RIGHT(K22,LEN(K22)-SEARCH(\" \",K22,1))&LEFT(K35,1)),'TS-201b'!$B$15:$E$144,4,FALSE))","v":""},{"$f":"IF(L35=\"\",\"\",VLOOKUP(L35,Liste_B,2,FALSE))","v":""},null,null,"6ème",{"$f":"IF(ISERROR(VLOOKUP(VALUE(RIGHT(P22,LEN(P22)-SEARCH(\" \",P22,1))&LEFT(P35,1)),'TS-201b'!$B$15:$E$144,4,FALSE)),\"\",VLOOKUP(VALUE(RIGHT(P22,LEN(P22)-SEARCH(\" \",P22,1))&LEFT(P35,1)),'TS-201b'!$B$15:$E$144,4,FALSE))","v":""},{"$f":"IF(Q35=\"\",\"\",VLOOKUP(Q35,Liste_B,2,FALSE))","v":""},null,null,"MALAKOFF USM",null,null,null,1,1]
[null,null,{"$f":"IF(B35=\"\",\"\",VLOOKUP(B35,Liste_B,6,FALSE))","v":""},{"$f":"IF(B35=\"\",\"\",VLOOKUP(B35,Liste_B,3,FALSE)&\" pts - \"&VLOOKUP(B35,Liste_B,4,FALSE))","v":""},null,null,null,{"$f":"IF(G35=\"\",\"\",VLOOKUP(G35,Liste_B,6,FALSE))","v":""},{"$f":"IF(G35=\"\",\"\",VLOOKUP(G35,Liste_B,3,FALSE)&\" pts - \"&VLOOKUP(G35,Liste_B,4,FALSE))","v":""},null,null,null,{"$f":"IF(L35=\"\",\"\",VLOOKUP(L35,Liste_B,6,FALSE))","v":""},{"$f":"IF(L35=\"\",\"\",VLOOKUP(L35,Liste_B,3,FALSE)&\" pts - \"&VLOOKUP(L35,Liste_B,4,FALSE))","v":""},null,null,null,{"$f":"IF(Q35=\"\",\"\",VLOOKUP(Q35,Liste_B,6,FALSE))","v":""},{"$f":"IF(Q35=\"\",\"\",VLOOKUP(Q35,Liste_B,3,FALSE)&\" pts - \"&VLOOKUP(Q35,Liste_B,4,FALSE))","v":""},null,"METZ TT",1,null,null,null,1]
[null,null,null,null,null,null,null,null,null,null,null,null,null,null,null,null,null,null,null,null,"MONTPELLIER TT",null,1,null,null,1]
["Poule 9",null,null,null,null,"Poule 10",null,null,null,null,"Poule 11",null,null,null,null,"Poule 12",null,null,null,null,"MULHOUSE TT",1,null,null,null,1]
["Rang","Dossard","NOM    Prénom",null,null,"Rang","Dossard","NOM    Prénom",null,null,"Rang","Dossard","NOM    Prénom",null,null,"Rang","Dossard","NOM    Prénom",null,null,"Niort T.T.",null,1,1,1,3]
[null,null,"CLUB, LIGUE ou COMITE","Pts - Clt",null,null,null,"CLUB, LIGUE ou COMITE","Pts - Clt",null,null,null,"CLUB, LIGUE ou COMITE","Pts - Clt",null,null,null,"CLUB, LIGUE ou COMITE","Pts - Clt",null,"NORD ALSACE TT",1,null,null,null,1]
["1er",{"$f":"IF(ISERROR(VLOOKUP(VALUE(RIGHT(A38,LEN(A38)-SEARCH(\" \",A38,1))&LEFT(A41,1)),'TS-201b'!$B$15:$E$144,4,FALSE)),\"\",VLOOKUP(VALUE(RIGHT(A38,LEN(A38)-SEARCH(\" \",A38,1))&LEFT(A41,1)),'TS-201b'!$B$15:$E$144,4,FALSE))","v":""},{"$f":"IF(B41=\"\",\"\",VLOOKUP(B41,Liste_B,2,FALSE))","v":""},null,null,"1er",{"$f":"IF(ISERROR(VLOOKUP(VALUE(RIGHT(F38,LEN(F38)-SEARCH(\" \",F38,1))&LEFT(F41,1)),'TS-201b'!$B$15:$E$144,4,FALSE)),\"\",VLOOKUP(VALUE(RIGHT(F38,LEN(F38)-SEARCH(\" \",F38,1))&LEFT(F41,1)),'TS-201b'!$B$15:$E$144,4,FALSE))","v":""},{"$f":"IF(G41=\"\",\"\",VLOOKUP(G41,Liste_B,2,FALSE))","v":""},null,null,"1er",{"$f":"IF(ISERROR(VLOOKUP(VALUE(RIGHT(K38,LEN(K38)-SEARCH(\" \",K38,1))&LEFT(K41,1)),'TS-201b'!$B$15:$E$144,4,FALSE)),\"\",VLOOKUP(VALUE(RIGHT(K38,LEN(K38)-SEARCH(\" \",K38,1))&LEFT(K41,1)),'TS-201b'!$B$15:$E$144,4,FALSE))","v":""},{"$f":"IF(L41=\"\",\"\",VLOOKUP(L41,Liste_B,2,FALSE))","v":""},null,null,"1er",{"$f":"IF(ISERROR(VLOOKUP(VALUE(RIGHT(P38,LEN(P38)-SEARCH(\" \",P38,1))&LEFT(P41,1)),'TS-201b'!$B$15:$E$144,4,FALSE)),\"\",VLOOKUP(VALUE(RIGHT(P38,LEN(P38)-SEARCH(\" \",P38,1))&LEFT(P41,1)),'TS-201b'!$B$15:$E$144,4,FALSE))","v":""},{"$f":"IF(Q41=\"\",\"\",VLOOKUP(Q41,Liste_B,2,FALSE))","v":""},null,null,"O.ANTIBES JLP",1,null,null,null,1]
[null,null,{"$f":"IF(B41=\"\",\"\",VLOOKUP(B41,Liste_B,6,FALSE))","v":""},{"$f":"IF(B41=\"\",\"\",VLOOKUP(B41,Liste_B,3,FALSE)&\" pts - \"&VLOOKUP(B41,Liste_B,4,FALSE))","v":""},null,null,null,{"$f":"IF(G41=\"\",\"\",VLOOKUP(G41,Liste_B,6,FALSE))","v":""},{"$f":"IF(G41=\"\",\"\",VLOOKUP(G41,Liste_B,3,FALSE)&\" pts - \"&VLOOKUP(G41,Liste_B,4,FALSE))","v":""},null,null,null,{"$f":"IF(L41=\"\",\"\",VLOOKUP(L41,Liste_B,6,FALSE))","v":""},{"$f":"IF(L41=\"\",\"\",VLOOKUP(L41,Liste_B,3,FALSE)&\" pts - \"&VLOOKUP(L41,Liste_B,4,FALSE))","v":""},null,null,null,{"$f":"IF(Q41=\"\",\"\",VLOOKUP(Q41,Liste_B,6,FALSE))","v":""},{"$f":"IF(Q41=\"\",\"\",VLOOKUP(Q41,Liste_B,3,FALSE)&\" pts - \"&VLOOKUP(Q41,Liste_B,4,FALSE))","v":""},null,"PANA LOISIRS",1,null,null,null,1]
["2ème",{"$f":"IF(ISERROR(VLOOKUP(VALUE(RIGHT(A38,LEN(A38)-SEARCH(\" \",A38,1))&LEFT(A43,1)),'TS-201b'!$B$15:$E$144,4,FALSE)),\"\",VLOOKUP(VALUE(RIGHT(A38,LEN(A38)-SEARCH(\" \",A38,1))&LEFT(A43,1)),'TS-201b'!$B$15:$E$144,4,FALSE))","v":""},{"$f":"IF(B43=\"\",\"\",VLOOKUP(B43,Liste_B,2,FALSE))","v":""},null,null,"2ème",{"$f":"IF(ISERROR(VLOOKUP(VALUE(RIGHT(F38,LEN(F38)-SEARCH(\" \",F38,1))&LEFT(F43,1)),'TS-201b'!$B$15:$E$144,4,FALSE)),\"\",VLOOKUP(VALUE(RIGHT(F38,LEN(F38)-SEARCH(\" \",F38,1))&LEFT(F43,1)),'TS-201b'!$B$15:$E$144,4,FALSE))","v":""},{"$f":"IF(G43=\"\",\"\",VLOOKUP(G43,Liste_B,2,FALSE))","v":""},null,null,"2ème",{"$f":"IF(ISERROR(VLOOKUP(VALUE(RIGHT(K38,LEN(K38)-SEARCH(\" \",K38,1))&LEFT(K43,1)),'TS-201b'!$B$15:$E$144,4,FALSE)),\"\",VLOOKUP(VALUE(RIGHT(K38,LEN(K38)-SEARCH(\" \",K38,1))&LEFT(K43,1)),'TS-201b'!$B$15:$E$144,4,FALSE))","v":""},{"$f":"IF(L43=\"\",\"\",VLOOKUP(L43,Liste_B,2,FALSE))","v":""},null,null,"2ème",{"$f":"IF(ISERROR(VLOOKUP(VALUE(RIGHT(P38,LEN(P38)-SEARCH(\" \",P38,1))&LEFT(P43,1)),'TS-201b'!$B$15:$E$144,4,FALSE)),\"\",VLOOKUP(VALUE(RIGHT(P38,LEN(P38)-SEARCH(\" \",P38,1))&LEFT(P43,1)),'TS-201b'!$B$15:$E$144,4,FALSE))","v":""},{"$f":"IF(Q43=\"\",\"\",VLOOKUP(Q43,Liste_B,2,FALSE))","v":""},null,null,"PONTOISE-CERGY",null,null,1,null,1]
[null,null,{"$f":"IF(B43=\"\",\"\",VLOOKUP(B43,Liste_B,6,FALSE))","v":""},{"$f":"IF(B43=\"\",\"\",VLOOKUP(B43,Liste_B,3,FALSE)&\" pts - \"&VLOOKUP(B43,Liste_B,4,FALSE))","v":""},null,null,null,{"$f":"IF(G43=\"\",\"\",VLOOKUP(G43,Liste_B,6,FALSE))","v":""},{"$f":"IF(G43=\"\",\"\",VLOOKUP(G43,Liste_B,3,FALSE)&\" pts - \"&VLOOKUP(G43,Liste_B,4,FALSE))","v":""},null,null,null,{"$f":"IF(L43=\"\",\"\",VLOOKUP(L43,Liste_B,6,FALSE))","v":""},{"$f":"IF(L43=\"\",\"\",VLOOKUP(L43,Liste_B,3,FALSE)&\" pts - \"&VLOOKUP(L43,Liste_B,4,FALSE))","v":""},null,null,null,{"$f":"IF(Q43=\"\",\"\",VLOOKUP(Q43,Liste_B,6,FALSE))","v":""},{"$f":"IF(Q43=\"\",\"\",VLOOKUP(Q43,Liste_B,3,FALSE)&\" pts - \"&VLOOKUP(Q43,Liste_B,4,FALSE))","v":""},null,"PROVILLE ASL",null,null,2,null,2]
["3ème",{"$f":"IF(ISERROR(VLOOKUP(VALUE(RIGHT(A38,LEN(A38)-SEARCH(\" \",A38,1))&LEFT(A45,1)),'TS-201b'!$B$15:$E$144,4,FALSE)),\"\",VLOOKUP(VALUE(RIGHT(A38,LEN(A38)-SEARCH(\" \",A38,1))&LEFT(A45,1)),'TS-201b'!$B$15:$E$144,4,FALSE))","v":""},{"$f":"IF(B45=\"\",\"\",VLOOKUP(B45,Liste_B,2,FALSE))","v":""},null,null,"3ème",{"$f":"IF(ISERROR(VLOOKUP(VALUE(RIGHT(F38,LEN(F38)-SEARCH(\" \",F38,1))&LEFT(F45,1)),'TS-201b'!$B$15:$E$144,4,FALSE)),\"\",VLOOKUP(VALUE(RIGHT(F38,LEN(F38)-SEARCH(\" \",F38,1))&LEFT(F45,1)),'TS-201b'!$B$15:$E$144,4,FALSE))","v":""},{"$f":"IF(G45=\"\",\"\",VLOOKUP(G45,Liste_B,2,FALSE))","v":""},null,null,"3ème",{"$f":"IF(ISERROR(VLOOKUP(VALUE(RIGHT(K38,LEN(K38)-SEARCH(\" \",K38,1))&LEFT(K45,1)),'TS-201b'!$B$15:$E$144,4,FALSE)),\"\",VLOOKUP(VALUE(RIGHT(K38,LEN(K38)-SEARCH(\" \",K38,1))&LEFT(K45,1)),'TS-201b'!$B$15:$E$144,4,FALSE))","v":""},{"$f":"IF(L45=\"\",\"\",VLOOKUP(L45,Liste_B,2,FALSE))","v":""},null,null,"3ème",{"$f":"IF(ISERROR(VLOOKUP(VALUE(RIGHT(P38,LEN(P38)-SEARCH(\" \",P38,1))&LEFT(P45,1)),'TS-201b'!$B$15:$E$144,4,FALSE)),\"\",VLOOKUP(VALUE(RIGHT(P38,LEN(P38)-SEARCH(\" \",P38,1))&LEFT(P45,1)),'TS-201b'!$B$15:$E$144,4,FALSE))","v":""},{"$f":"IF(Q45=\"\",\"\",VLOOKUP(Q45,Liste_B,2,FALSE))","v":""},null,null,"REIMS OLYMPIQUE",null,1,null,null,1]
[null,null,{"$f":"IF(B45=\"\",\"\",VLOOKUP(B45,Liste_B,6,FALSE))","v":""},{"$f":"IF(B45=\"\",\"\",VLOOKUP(B45,Liste_B,3,FALSE)&\" pts - \"&VLOOKUP(B45,Liste_B,4,FALSE))","v":""},null,null,null,{"$f":"IF(G45=\"\",\"\",VLOOKUP(G45,Liste_B,6,FALSE))","v":""},{"$f":"IF(G45=\"\",\"\",VLOOKUP(G45,Liste_B,3,FALSE)&\" pts - \"&VLOOKUP(G45,Liste_B,4,FALSE))","v":""},null,null,null,{"$f":"IF(L45=\"\",\"\",VLOOKUP(L45,Liste_B,6,FALSE))","v":""},{"$f":"IF(L45=\"\",\"\",VLOOKUP(L45,Liste_B,3,FALSE)&\" pts - \"&VLOOKUP(L45,Liste_B,4,FALSE))","v":""},null,null,null,{"$f":"IF(Q45=\"\",\"\",VLOOKUP(Q45,Liste_B,6,FALSE))","v":""},{"$f":"IF(Q45=\"\",\"\",VLOOKUP(Q45,Liste_B,3,FALSE)&\" pts - \"&VLOOKUP(Q45,Liste_B,4,FALSE))","v":""},null,"ROCHE LEZ BEAUP",1,null,null,null,1]
["4ème",{"$f":"IF(ISERROR(VLOOKUP(VALUE(RIGHT(A38,LEN(A38)-SEARCH(\" \",A38,1))&LEFT(A47,1)),'TS-201b'!$B$15:$E$144,4,FALSE)),\"\",VLOOKUP(VALUE(RIGHT(A38,LEN(A38)-SEARCH(\" \",A38,1))&LEFT(A47,1)),'TS-201b'!$B$15:$E$144,4,FALSE))","v":""},{"$f":"IF(B47=\"\",\"\",VLOOKUP(B47,Liste_B,2,FALSE))","v":""},null,null,"4ème",{"$f":"IF(ISERROR(VLOOKUP(VALUE(RIGHT(F38,LEN(F38)-SEARCH(\" \",F38,1))&LEFT(F47,1)),'TS-201b'!$B$15:$E$144,4,FALSE)),\"\",VLOOKUP(VALUE(RIGHT(F38,LEN(F38)-SEARCH(\" \",F38,1))&LEFT(F47,1)),'TS-201b'!$B$15:$E$144,4,FALSE))","v":""},{"$f":"IF(G47=\"\",\"\",VLOOKUP(G47,Liste_B,2,FALSE))","v":""},null,null,"4ème",{"$f":"IF(ISERROR(VLOOKUP(VALUE(RIGHT(K38,LEN(K38)-SEARCH(\" \",K38,1))&LEFT(K47,1)),'TS-201b'!$B$15:$E$144,4,FALSE)),\"\",VLOOKUP(VALUE(RIGHT(K38,LEN(K38)-SEARCH(\" \",K38,1))&LEFT(K47,1)),'TS-201b'!$B$15:$E$144,4,FALSE))","v":""},{"$f":"IF(L47=\"\",\"\",VLOOKUP(L47,Liste_B,2,FALSE))","v":""},null,null,"4ème",{"$f":"IF(ISERROR(VLOOKUP(VALUE(RIGHT(P38,LEN(P38)-SEARCH(\" \",P38,1))&LEFT(P47,1)),'TS-201b'!$B$15:$E$144,4,FALSE)),\"\",VLOOKUP(VALUE(RIGHT(P38,LEN(P38)-SEARCH(\" \",P38,1))&LEFT(P47,1)),'TS-201b'!$B$15:$E$144,4,FALSE))","v":""},{"$f":"IF(Q47=\"\",\"\",VLOOKUP(Q47,Liste_B,2,FALSE))","v":""},null,null,"ROMAGNE (LA)",null,2,null,null,2]
[null,null,{"$f":"IF(B47=\"\",\"\",VLOOKUP(B47,Liste_B,6,FALSE))","v":""},{"$f":"IF(B47=\"\",\"\",VLOOKUP(B47,Liste_B,3,FALSE)&\" pts - \"&VLOOKUP(B47,Liste_B,4,FALSE))","v":""},null,null,null,{"$f":"IF(G47=\"\",\"\",VLOOKUP(G47,Liste_B,6,FALSE))","v":""},{"$f":"IF(G47=\"\",\"\",VLOOKUP(G47,Liste_B,3,FALSE)&\" pts - \"&VLOOKUP(G47,Liste_B,4,FALSE))","v":""},null,null,null,{"$f":"IF(L47=\"\",\"\",VLOOKUP(L47,Liste_B,6,FALSE))","v":""},{"$f":"IF(L47=\"\",\"\",VLOOKUP(L47,Liste_B,3,FALSE)&\" pts - \"&VLOOKUP(L47,Liste_B,4,FALSE))","v":""},null,null,null,{"$f":"IF(Q47=\"\",\"\",VLOOKUP(Q47,Liste_B,6,FALSE))","v":""},{"$f":"IF(Q47=\"\",\"\",VLOOKUP(Q47,Liste_B,3,FALSE)&\" pts - \"&VLOOKUP(Q47,Liste_B,4,FALSE))","v":""},null,"SAINT CHAMOND",null,null,1,null,1]
["5ème",{"$f":"IF(ISERROR(VLOOKUP(VALUE(RIGHT(A38,LEN(A38)-SEARCH(\" \",A38,1))&LEFT(A49,1)),'TS-201b'!$B$15:$E$144,4,FALSE)),\"\",VLOOKUP(VALUE(RIGHT(A38,LEN(A38)-SEARCH(\" \",A38,1))&LEFT(A49,1)),'TS-201b'!$B$15:$E$144,4,FALSE))","v":""},{"$f":"IF(B49=\"\",\"\",VLOOKUP(B49,Liste_B,2,FALSE))","v":""},null,null,"5ème",{"$f":"IF(ISERROR(VLOOKUP(VALUE(RIGHT(F38,LEN(F38)-SEARCH(\" \",F38,1))&LEFT(F49,1)),'TS-201b'!$B$15:$E$144,4,FALSE)),\"\",VLOOKUP(VALUE(RIGHT(F38,LEN(F38)-SEARCH(\" \",F38,1))&LEFT(F49,1)),'TS-201b'!$B$15:$E$144,4,FALSE))","v":""},{"$f":"IF(G49=\"\",\"\",VLOOKUP(G49,Liste_B,2,FALSE))","v":""},null,null,"5ème",{"$f":"IF(ISERROR(VLOOKUP(VALUE(RIGHT(K38,LEN(K38)-SEARCH(\" \",K38,1))&LEFT(K49,1)),'TS-201b'!$B$15:$E$144,4,FALSE)),\"\",VLOOKUP(VALUE(RIGHT(K38,LEN(K38)-SEARCH(\" \",K38,1))&LEFT(K49,1)),'TS-201b'!$B$15:$E$144,4,FALSE))","v":""},{"$f":"IF(L49=\"\",\"\",VLOOKUP(L49,Liste_B,2,FALSE))","v":""},null,null,"5ème",{"$f":"IF(ISERROR(VLOOKUP(VALUE(RIGHT(P38,LEN(P38)-SEARCH(\" \",P38,1))&LEFT(P49,1)),'TS-201b'!$B$15:$E$144,4,FALSE)),\"\",VLOOKUP(VALUE(RIGHT(P38,LEN(P38)-SEARCH(\" \",P38,1))&LEFT(P49,1)),'TS-201b'!$B$15:$E$144,4,FALSE))","v":""},{"$f":"IF(Q49=\"\",\"\",VLOOKUP(Q49,Liste_B,2,FALSE))","v":""},null,null,"SAINT MAUR VGA",1,null,null,null,1]
[null,null,{"$f":"IF(B49=\"\",\"\",VLOOKUP(B49,Liste_B,6,FALSE))","v":""},{"$f":"IF(B49=\"\",\"\",VLOOKUP(B49,Liste_B,3,FALSE)&\" pts - \"&VLOOKUP(B49,Liste_B,4,FALSE))","v":""},null,null,null,{"$f":"IF(G49=\"\",\"\",VLOOKUP(G49,Liste_B,6,FALSE))","v":""},{"$f":"IF(G49=\"\",\"\",VLOOKUP(G49,Liste_B,3,FALSE)&\" pts - \"&VLOOKUP(G49,Liste_B,4,FALSE))","v":""},null,null,null,{"$f":"IF(L49=\"\",\"\",VLOOKUP(L49,Liste_B,6,FALSE))","v":""},{"$f":"IF(L49=\"\",\"\",VLOOKUP(L49,Liste_B,3,FALSE)&\" pts - \"&VLOOKUP(L49,Liste_B,4,FALSE))","v":""},null,null,null,{"$f":"IF(Q49=\"\",\"\",VLOOKUP(Q49,Liste_B,6,FALSE))","v":""},{"$f":"IF(Q49=\"\",\"\",VLOOKUP(Q49,Liste_B,3,FALSE)&\" pts - \"&VLOOKUP(Q49,Liste_B,4,FALSE))","v":""},null,"SPO ROUEN",null,null,null,1,1]
["6ème",{"$f":"IF(ISERROR(VLOOKUP(VALUE(RIGHT(A38,LEN(A38)-SEARCH(\" \",A38,1))&LEFT(A51,1)),'TS-201b'!$B$15:$E$144,4,FALSE)),\"\",VLOOKUP(VALUE(RIGHT(A38,LEN(A38)-SEARCH(\" \",A38,1))&LEFT(A51,1)),'TS-201b'!$B$15:$E$144,4,FALSE))","v":""},{"$f":"IF(B51=\"\",\"\",VLOOKUP(B51,Liste_B,2,FALSE))","v":""},null,null,"6ème",{"$f":"IF(ISERROR(VLOOKUP(VALUE(RIGHT(F38,LEN(F38)-SEARCH(\" \",F38,1))&LEFT(F51,1)),'TS-201b'!$B$15:$E$144,4,FALSE)),\"\",VLOOKUP(VALUE(RIGHT(F38,LEN(F38)-SEARCH(\" \",F38,1))&LEFT(F51,1)),'TS-201b'!$B$15:$E$144,4,FALSE))","v":""},{"$f":"IF(G51=\"\",\"\",VLOOKUP(G51,Liste_B,2,FALSE))","v":""},null,null,"6ème",{"$f":"IF(ISERROR(VLOOKUP(VALUE(RIGHT(K38,LEN(K38)-SEARCH(\" \",K38,1))&LEFT(K51,1)),'TS-201b'!$B$15:$E$144,4,FALSE)),\"\",VLOOKUP(VALUE(RIGHT(K38,LEN(K38)-SEARCH(\" \",K38,1))&LEFT(K51,1)),'TS-201b'!$B$15:$E$144,4,FALSE))","v":""},{"$f":"IF(L51=\"\",\"\",VLOOKUP(L51,Liste_B,2,FALSE))","v":""},null,null,"6ème",{"$f":"IF(ISERROR(VLOOKUP(VALUE(RIGHT(P38,LEN(P38)-SEARCH(\" \",P38,1))&LEFT(P51,1)),'TS-201b'!$B$15:$E$144,4,FALSE)),\"\",VLOOKUP(VALUE(RIGHT(P38,LEN(P38)-SEARCH(\" \",P38,1))&LEFT(P51,1)),'TS-201b'!$B$15:$E$144,4,FALSE))","v":""},{"$f":"IF(Q51=\"\",\"\",VLOOKUP(Q51,Liste_B,2,FALSE))","v":""},null,null,"ST LAUREN/BLANG",null,1,null,null,1]
[null,null,{"$f":"IF(B51=\"\",\"\",VLOOKUP(B51,Liste_B,6,FALSE))","v":""},{"$f":"IF(B51=\"\",\"\",VLOOKUP(B51,Liste_B,3,FALSE)&\" pts - \"&VLOOKUP(B51,Liste_B,4,FALSE))","v":""},null,null,null,{"$f":"IF(G51=\"\",\"\",VLOOKUP(G51,Liste_B,6,FALSE))","v":""},{"$f":"IF(G51=\"\",\"\",VLOOKUP(G51,Liste_B,3,FALSE)&\" pts - \"&VLOOKUP(G51,Liste_B,4,FALSE))","v":""},null,null,null,{"$f":"IF(L51=\"\",\"\",VLOOKUP(L51,Liste_B,6,FALSE))","v":""},{"$f":"IF(L51=\"\",\"\",VLOOKUP(L51,Liste_B,3,FALSE)&\" pts - \"&VLOOKUP(L51,Liste_B,4,FALSE))","v":""},null,null,null,{"$f":"IF(Q51=\"\",\"\",VLOOKUP(Q51,Liste_B,6,FALSE))","v":""},{"$f":"IF(Q51=\"\",\"\",VLOOKUP(Q51,Liste_B,3,FALSE)&\" pts - \"&VLOOKUP(Q51,Liste_B,4,FALSE))","v":""},null,"ST PAIR BRICQUE",null,null,1,null,1]
[null,null,null,null,null,null,null,null,null,null,null,null,null,null,null,null,null,null,null,null,"STE MARIE AUX C",null,1,null,null,1]
["Poule 13",null,null,null,null,"Poule 14",null,null,null,null,"Poule 15",null,null,null,null,"Poule 16",null,null,null,null,"THORIGNE TT",null,null,null,1,1]
["Rang","Dossard","NOM    Prénom",null,null,"Rang","Dossard","NOM    Prénom",null,null,"Rang","Dossard","NOM    Prénom",null,null,"Rang","Dossard","NOM    Prénom",null,null,"TT VINCENNOIS",null,null,null,1,1]
[null,null,"CLUB, LIGUE ou COMITE","Pts - Clt",null,null,null,"CLUB, LIGUE ou COMITE","Pts - Clt",null,null,null,"CLUB, LIGUE ou COMITE","Pts - Clt",null,null,null,"CLUB, LIGUE ou COMITE","Pts - Clt",null,"TTTMG",null,null,null,1,1]
["1er",{"$f":"IF(ISERROR(VLOOKUP(VALUE(RIGHT(A54,LEN(A54)-SEARCH(\" \",A54,1))&LEFT(A57,1)),'TS-201b'!$B$15:$E$144,4,FALSE)),\"\",VLOOKUP(VALUE(RIGHT(A54,LEN(A54)-SEARCH(\" \",A54,1))&LEFT(A57,1)),'TS-201b'!$B$15:$E$144,4,FALSE))","v":""},{"$f":"IF(B57=\"\",\"\",VLOOKUP(B57,Liste_B,2,FALSE))","v":""},null,null,"1er",{"$f":"IF(ISERROR(VLOOKUP(VALUE(RIGHT(F54,LEN(F54)-SEARCH(\" \",F54,1))&LEFT(F57,1)),'TS-201b'!$B$15:$E$144,4,FALSE)),\"\",VLOOKUP(VALUE(RIGHT(F54,LEN(F54)-SEARCH(\" \",F54,1))&LEFT(F57,1)),'TS-201b'!$B$15:$E$144,4,FALSE))","v":""},{"$f":"IF(G57=\"\",\"\",VLOOKUP(G57,Liste_B,2,FALSE))","v":""},null,null,"1er",{"$f":"IF(ISERROR(VLOOKUP(VALUE(RIGHT(K54,LEN(K54)-SEARCH(\" \",K54,1))&LEFT(K57,1)),'TS-201b'!$B$15:$E$144,4,FALSE)),\"\",VLOOKUP(VALUE(RIGHT(K54,LEN(K54)-SEARCH(\" \",K54,1))&LEFT(K57,1)),'TS-201b'!$B$15:$E$144,4,FALSE))","v":""},{"$f":"IF(L57=\"\",\"\",VLOOKUP(L57,Liste_B,2,FALSE))","v":""},null,null,"1er",{"$f":"IF(ISERROR(VLOOKUP(VALUE(RIGHT(P54,LEN(P54)-SEARCH(\" \",P54,1))&LEFT(P57,1)),'TS-201b'!$B$15:$E$144,4,FALSE)),\"\",VLOOKUP(VALUE(RIGHT(P54,LEN(P54)-SEARCH(\" \",P54,1))&LEFT(P57,1)),'TS-201b'!$B$15:$E$144,4,FALSE))","v":""},{"$f":"IF(Q57=\"\",\"\",VLOOKUP(Q57,Liste_B,2,FALSE))","v":""},null,null,"WATTIGNIES PPC",null,null,1,null,1]
[null,null,{"$f":"IF(B57=\"\",\"\",VLOOKUP(B57,Liste_B,6,FALSE))","v":""},{"$f":"IF(B57=\"\",\"\",VLOOKUP(B57,Liste_B,3,FALSE)&\" pts - \"&VLOOKUP(B57,Liste_B,4,FALSE))","v":""},null,null,null,{"$f":"IF(G57=\"\",\"\",VLOOKUP(G57,Liste_B,6,FALSE))","v":""},{"$f":"IF(G57=\"\",\"\",VLOOKUP(G57,Liste_B,3,FALSE)&\" pts - \"&VLOOKUP(G57,Liste_B,4,FALSE))","v":""},null,null,null,{"$f":"IF(L57=\"\",\"\",VLOOKUP(L57,Liste_B,6,FALSE))","v":""},{"$f":"IF(L57=\"\",\"\",VLOOKUP(L57,Liste_B,3,FALSE)&\" pts - \"&VLOOKUP(L57,Liste_B,4,FALSE))","v":""},null,null,null,{"$f":"IF(Q57=\"\",\"\",VLOOKUP(Q57,Liste_B,6,FALSE))","v":""},{"$f":"IF(Q57=\"\",\"\",VLOOKUP(Q57,Liste_B,3,FALSE)&\" pts - \"&VLOOKUP(Q57,Liste_B,4,FALSE))","v":""},null,"Total général",16,16,16,16,64]
["2ème",{"$f":"IF(ISERROR(VLOOKUP(VALUE(RIGHT(A54,LEN(A54)-SEARCH(\" \",A54,1))&LEFT(A59,1)),'TS-201b'!$B$15:$E$144,4,FALSE)),\"\",VLOOKUP(VALUE(RIGHT(A54,LEN(A54)-SEARCH(\" \",A54,1))&LEFT(A59,1)),'TS-201b'!$B$15:$E$144,4,FALSE))","v":""},{"$f":"IF(B59=\"\",\"\",VLOOKUP(B59,Liste_B,2,FALSE))","v":""},null,null,"2ème",{"$f":"IF(ISERROR(VLOOKUP(VALUE(RIGHT(F54,LEN(F54)-SEARCH(\" \",F54,1))&LEFT(F59,1)),'TS-201b'!$B$15:$E$144,4,FALSE)),\"\",VLOOKUP(VALUE(RIGHT(F54,LEN(F54)-SEARCH(\" \",F54,1))&LEFT(F59,1)),'TS-201b'!$B$15:$E$144,4,FALSE))","v":""},{"$f":"IF(G59=\"\",\"\",VLOOKUP(G59,Liste_B,2,FALSE))","v":""},null,null,"2ème",{"$f":"IF(ISERROR(VLOOKUP(VALUE(RIGHT(K54,LEN(K54)-SEARCH(\" \",K54,1))&LEFT(K59,1)),'TS-201b'!$B$15:$E$144,4,FALSE)),\"\",VLOOKUP(VALUE(RIGHT(K54,LEN(K54)-SEARCH(\" \",K54,1))&LEFT(K59,1)),'TS-201b'!$B$15:$E$144,4,FALSE))","v":""},{"$f":"IF(L59=\"\",\"\",VLOOKUP(L59,Liste_B,2,FALSE))","v":""},null,null,"2ème",{"$f":"IF(ISERROR(VLOOKUP(VALUE(RIGHT(P54,LEN(P54)-SEARCH(\" \",P54,1))&LEFT(P59,1)),'TS-201b'!$B$15:$E$144,4,FALSE)),\"\",VLOOKUP(VALUE(RIGHT(P54,LEN(P54)-SEARCH(\" \",P54,1))&LEFT(P59,1)),'TS-201b'!$B$15:$E$144,4,FALSE))","v":""},{"$f":"IF(Q59=\"\",\"\",VLOOKUP(Q59,Liste_B,2,FALSE))","v":""}]
[null,null,{"$f":"IF(B59=\"\",\"\",VLOOKUP(B59,Liste_B,6,FALSE))","v":""},{"$f":"IF(B59=\"\",\"\",VLOOKUP(B59,Liste_B,3,FALSE)&\" pts - \"&VLOOKUP(B59,Liste_B,4,FALSE))","v":""},null,null,null,{"$f":"IF(G59=\"\",\"\",VLOOKUP(G59,Liste_B,6,FALSE))","v":""},{"$f":"IF(G59=\"\",\"\",VLOOKUP(G59,Liste_B,3,FALSE)&\" pts - \"&VLOOKUP(G59,Liste_B,4,FALSE))","v":""},null,null,null,{"$f":"IF(L59=\"\",\"\",VLOOKUP(L59,Liste_B,6,FALSE))","v":""},{"$f":"IF(L59=\"\",\"\",VLOOKUP(L59,Liste_B,3,FALSE)&\" pts - \"&VLOOKUP(L59,Liste_B,4,FALSE))","v":""},null,null,null,{"$f":"IF(Q59=\"\",\"\",VLOOKUP(Q59,Liste_B,6,FALSE))","v":""},{"$f":"IF(Q59=\"\",\"\",VLOOKUP(Q59,Liste_B,3,FALSE)&\" pts - \"&VLOOKUP(Q59,Liste_B,4,FALSE))","v":""}]
["3ème",{"$f":"IF(ISERROR(VLOOKUP(VALUE(RIGHT(A54,LEN(A54)-SEARCH(\" \",A54,1))&LEFT(A61,1)),'TS-201b'!$B$15:$E$144,4,FALSE)),\"\",VLOOKUP(VALUE(RIGHT(A54,LEN(A54)-SEARCH(\" \",A54,1))&LEFT(A61,1)),'TS-201b'!$B$15:$E$144,4,FALSE))","v":""},{"$f":"IF(B61=\"\",\"\",VLOOKUP(B61,Liste_B,2,FALSE))","v":""},null,null,"3ème",{"$f":"IF(ISERROR(VLOOKUP(VALUE(RIGHT(F54,LEN(F54)-SEARCH(\" \",F54,1))&LEFT(F61,1)),'TS-201b'!$B$15:$E$144,4,FALSE)),\"\",VLOOKUP(VALUE(RIGHT(F54,LEN(F54)-SEARCH(\" \",F54,1))&LEFT(F61,1)),'TS-201b'!$B$15:$E$144,4,FALSE))","v":""},{"$f":"IF(G61=\"\",\"\",VLOOKUP(G61,Liste_B,2,FALSE))","v":""},null,null,"3ème",{"$f":"IF(ISERROR(VLOOKUP(VALUE(RIGHT(K54,LEN(K54)-SEARCH(\" \",K54,1))&LEFT(K61,1)),'TS-201b'!$B$15:$E$144,4,FALSE)),\"\",VLOOKUP(VALUE(RIGHT(K54,LEN(K54)-SEARCH(\" \",K54,1))&LEFT(K61,1)),'TS-201b'!$B$15:$E$144,4,FALSE))","v":""},{"$f":"IF(L61=\"\",\"\",VLOOKUP(L61,Liste_B,2,FALSE))","v":""},null,null,"3ème",{"$f":"IF(ISERROR(VLOOKUP(VALUE(RIGHT(P54,LEN(P54)-SEARCH(\" \",P54,1))&LEFT(P61,1)),'TS-201b'!$B$15:$E$144,4,FALSE)),\"\",VLOOKUP(VALUE(RIGHT(P54,LEN(P54)-SEARCH(\" \",P54,1))&LEFT(P61,1)),'TS-201b'!$B$15:$E$144,4,FALSE))","v":""},{"$f":"IF(Q61=\"\",\"\",VLOOKUP(Q61,Liste_B,2,FALSE))","v":""}]
[null,null,{"$f":"IF(B61=\"\",\"\",VLOOKUP(B61,Liste_B,6,FALSE))","v":""},{"$f":"IF(B61=\"\",\"\",VLOOKUP(B61,Liste_B,3,FALSE)&\" pts - \"&VLOOKUP(B61,Liste_B,4,FALSE))","v":""},null,null,null,{"$f":"IF(G61=\"\",\"\",VLOOKUP(G61,Liste_B,6,FALSE))","v":""},{"$f":"IF(G61=\"\",\"\",VLOOKUP(G61,Liste_B,3,FALSE)&\" pts - \"&VLOOKUP(G61,Liste_B,4,FALSE))","v":""},null,null,null,{"$f":"IF(L61=\"\",\"\",VLOOKUP(L61,Liste_B,6,FALSE))","v":""},{"$f":"IF(L61=\"\",\"\",VLOOKUP(L61,Liste_B,3,FALSE)&\" pts - \"&VLOOKUP(L61,Liste_B,4,FALSE))","v":""},null,null,null,{"$f":"IF(Q61=\"\",\"\",VLOOKUP(Q61,Liste_B,6,FALSE))","v":""},{"$f":"IF(Q61=\"\",\"\",VLOOKUP(Q61,Liste_B,3,FALSE)&\" pts - \"&VLOOKUP(Q61,Liste_B,4,FALSE))","v":""}]
["4ème",{"$f":"IF(ISERROR(VLOOKUP(VALUE(RIGHT(A54,LEN(A54)-SEARCH(\" \",A54,1))&LEFT(A63,1)),'TS-201b'!$B$15:$E$144,4,FALSE)),\"\",VLOOKUP(VALUE(RIGHT(A54,LEN(A54)-SEARCH(\" \",A54,1))&LEFT(A63,1)),'TS-201b'!$B$15:$E$144,4,FALSE))","v":""},{"$f":"IF(B63=\"\",\"\",VLOOKUP(B63,Liste_B,2,FALSE))","v":""},null,null,"4ème",{"$f":"IF(ISERROR(VLOOKUP(VALUE(RIGHT(F54,LEN(F54)-SEARCH(\" \",F54,1))&LEFT(F63,1)),'TS-201b'!$B$15:$E$144,4,FALSE)),\"\",VLOOKUP(VALUE(RIGHT(F54,LEN(F54)-SEARCH(\" \",F54,1))&LEFT(F63,1)),'TS-201b'!$B$15:$E$144,4,FALSE))","v":""},{"$f":"IF(G63=\"\",\"\",VLOOKUP(G63,Liste_B,2,FALSE))","v":""},null,null,"4ème",{"$f":"IF(ISERROR(VLOOKUP(VALUE(RIGHT(K54,LEN(K54)-SEARCH(\" \",K54,1))&LEFT(K63,1)),'TS-201b'!$B$15:$E$144,4,FALSE)),\"\",VLOOKUP(VALUE(RIGHT(K54,LEN(K54)-SEARCH(\" \",K54,1))&LEFT(K63,1)),'TS-201b'!$B$15:$E$144,4,FALSE))","v":""},{"$f":"IF(L63=\"\",\"\",VLOOKUP(L63,Liste_B,2,FALSE))","v":""},null,null,"4ème",{"$f":"IF(ISERROR(VLOOKUP(VALUE(RIGHT(P54,LEN(P54)-SEARCH(\" \",P54,1))&LEFT(P63,1)),'TS-201b'!$B$15:$E$144,4,FALSE)),\"\",VLOOKUP(VALUE(RIGHT(P54,LEN(P54)-SEARCH(\" \",P54,1))&LEFT(P63,1)),'TS-201b'!$B$15:$E$144,4,FALSE))","v":""},{"$f":"IF(Q63=\"\",\"\",VLOOKUP(Q63,Liste_B,2,FALSE))","v":""}]
[null,null,{"$f":"IF(B63=\"\",\"\",VLOOKUP(B63,Liste_B,6,FALSE))","v":""},{"$f":"IF(B63=\"\",\"\",VLOOKUP(B63,Liste_B,3,FALSE)&\" pts - \"&VLOOKUP(B63,Liste_B,4,FALSE))","v":""},null,null,null,{"$f":"IF(G63=\"\",\"\",VLOOKUP(G63,Liste_B,6,FALSE))","v":""},{"$f":"IF(G63=\"\",\"\",VLOOKUP(G63,Liste_B,3,FALSE)&\" pts - \"&VLOOKUP(G63,Liste_B,4,FALSE))","v":""},null,null,null,{"$f":"IF(L63=\"\",\"\",VLOOKUP(L63,Liste_B,6,FALSE))","v":""},{"$f":"IF(L63=\"\",\"\",VLOOKUP(L63,Liste_B,3,FALSE)&\" pts - \"&VLOOKUP(L63,Liste_B,4,FALSE))","v":""},null,null,null,{"$f":"IF(Q63=\"\",\"\",VLOOKUP(Q63,Liste_B,6,FALSE))","v":""},{"$f":"IF(Q63=\"\",\"\",VLOOKUP(Q63,Liste_B,3,FALSE)&\" pts - \"&VLOOKUP(Q63,Liste_B,4,FALSE))","v":""}]
["5ème",{"$f":"IF(ISERROR(VLOOKUP(VALUE(RIGHT(A54,LEN(A54)-SEARCH(\" \",A54,1))&LEFT(A65,1)),'TS-201b'!$B$15:$E$144,4,FALSE)),\"\",VLOOKUP(VALUE(RIGHT(A54,LEN(A54)-SEARCH(\" \",A54,1))&LEFT(A65,1)),'TS-201b'!$B$15:$E$144,4,FALSE))","v":""},{"$f":"IF(B65=\"\",\"\",VLOOKUP(B65,Liste_B,2,FALSE))","v":""},null,null,"5ème",{"$f":"IF(ISERROR(VLOOKUP(VALUE(RIGHT(F54,LEN(F54)-SEARCH(\" \",F54,1))&LEFT(F65,1)),'TS-201b'!$B$15:$E$144,4,FALSE)),\"\",VLOOKUP(VALUE(RIGHT(F54,LEN(F54)-SEARCH(\" \",F54,1))&LEFT(F65,1)),'TS-201b'!$B$15:$E$144,4,FALSE))","v":""},{"$f":"IF(G65=\"\",\"\",VLOOKUP(G65,Liste_B,2,FALSE))","v":""},null,null,"5ème",{"$f":"IF(ISERROR(VLOOKUP(VALUE(RIGHT(K54,LEN(K54)-SEARCH(\" \",K54,1))&LEFT(K65,1)),'TS-201b'!$B$15:$E$144,4,FALSE)),\"\",VLOOKUP(VALUE(RIGHT(K54,LEN(K54)-SEARCH(\" \",K54,1))&LEFT(K65,1)),'TS-201b'!$B$15:$E$144,4,FALSE))","v":""},{"$f":"IF(L65=\"\",\"\",VLOOKUP(L65,Liste_B,2,FALSE))","v":""},null,null,"5ème",{"$f":"IF(ISERROR(VLOOKUP(VALUE(RIGHT(P54,LEN(P54)-SEARCH(\" \",P54,1))&LEFT(P65,1)),'TS-201b'!$B$15:$E$144,4,FALSE)),\"\",VLOOKUP(VALUE(RIGHT(P54,LEN(P54)-SEARCH(\" \",P54,1))&LEFT(P65,1)),'TS-201b'!$B$15:$E$144,4,FALSE))","v":""},{"$f":"IF(Q65=\"\",\"\",VLOOKUP(Q65,Liste_B,2,FALSE))","v":""}]
[null,null,{"$f":"IF(B65=\"\",\"\",VLOOKUP(B65,Liste_B,6,FALSE))","v":""},{"$f":"IF(B65=\"\",\"\",VLOOKUP(B65,Liste_B,3,FALSE)&\" pts - \"&VLOOKUP(B65,Liste_B,4,FALSE))","v":""},null,null,null,{"$f":"IF(G65=\"\",\"\",VLOOKUP(G65,Liste_B,6,FALSE))","v":""},{"$f":"IF(G65=\"\",\"\",VLOOKUP(G65,Liste_B,3,FALSE)&\" pts - \"&VLOOKUP(G65,Liste_B,4,FALSE))","v":""},null,null,null,{"$f":"IF(L65=\"\",\"\",VLOOKUP(L65,Liste_B,6,FALSE))","v":""},{"$f":"IF(L65=\"\",\"\",VLOOKUP(L65,Liste_B,3,FALSE)&\" pts - \"&VLOOKUP(L65,Liste_B,4,FALSE))","v":""},null,null,null,{"$f":"IF(Q65=\"\",\"\",VLOOKUP(Q65,Liste_B,6,FALSE))","v":""},{"$f":"IF(Q65=\"\",\"\",VLOOKUP(Q65,Liste_B,3,FALSE)&\" pts - \"&VLOOKUP(Q65,Liste_B,4,FALSE))","v":""}]
["6ème",{"$f":"IF(ISERROR(VLOOKUP(VALUE(RIGHT(A54,LEN(A54)-SEARCH(\" \",A54,1))&LEFT(A67,1)),'TS-201b'!$B$15:$E$144,4,FALSE)),\"\",VLOOKUP(VALUE(RIGHT(A54,LEN(A54)-SEARCH(\" \",A54,1))&LEFT(A67,1)),'TS-201b'!$B$15:$E$144,4,FALSE))","v":""},{"$f":"IF(B67=\"\",\"\",VLOOKUP(B67,Liste_B,2,FALSE))","v":""},null,null,"6ème",{"$f":"IF(ISERROR(VLOOKUP(VALUE(RIGHT(F54,LEN(F54)-SEARCH(\" \",F54,1))&LEFT(F67,1)),'TS-201b'!$B$15:$E$144,4,FALSE)),\"\",VLOOKUP(VALUE(RIGHT(F54,LEN(F54)-SEARCH(\" \",F54,1))&LEFT(F67,1)),'TS-201b'!$B$15:$E$144,4,FALSE))","v":""},{"$f":"IF(G67=\"\",\"\",VLOOKUP(G67,Liste_B,2,FALSE))","v":""},null,null,"6ème",{"$f":"IF(ISERROR(VLOOKUP(VALUE(RIGHT(K54,LEN(K54)-SEARCH(\" \",K54,1))&LEFT(K67,1)),'TS-201b'!$B$15:$E$144,4,FALSE)),\"\",VLOOKUP(VALUE(RIGHT(K54,LEN(K54)-SEARCH(\" \",K54,1))&LEFT(K67,1)),'TS-201b'!$B$15:$E$144,4,FALSE))","v":""},{"$f":"IF(L67=\"\",\"\",VLOOKUP(L67,Liste_B,2,FALSE))","v":""},null,null,"6ème",{"$f":"IF(ISERROR(VLOOKUP(VALUE(RIGHT(P54,LEN(P54)-SEARCH(\" \",P54,1))&LEFT(P67,1)),'TS-201b'!$B$15:$E$144,4,FALSE)),\"\",VLOOKUP(VALUE(RIGHT(P54,LEN(P54)-SEARCH(\" \",P54,1))&LEFT(P67,1)),'TS-201b'!$B$15:$E$144,4,FALSE))","v":""},{"$f":"IF(Q67=\"\",\"\",VLOOKUP(Q67,Liste_B,2,FALSE))","v":""}]
[null,null,{"$f":"IF(B67=\"\",\"\",VLOOKUP(B67,Liste_B,6,FALSE))","v":""},{"$f":"IF(B67=\"\",\"\",VLOOKUP(B67,Liste_B,3,FALSE)&\" pts - \"&VLOOKUP(B67,Liste_B,4,FALSE))","v":""},null,null,null,{"$f":"IF(G67=\"\",\"\",VLOOKUP(G67,Liste_B,6,FALSE))","v":""},{"$f":"IF(G67=\"\",\"\",VLOOKUP(G67,Liste_B,3,FALSE)&\" pts - \"&VLOOKUP(G67,Liste_B,4,FALSE))","v":""},null,null,null,{"$f":"IF(L67=\"\",\"\",VLOOKUP(L67,Liste_B,6,FALSE))","v":""},{"$f":"IF(L67=\"\",\"\",VLOOKUP(L67,Liste_B,3,FALSE)&\" pts - \"&VLOOKUP(L67,Liste_B,4,FALSE))","v":""},null,null,null,{"$f":"IF(Q67=\"\",\"\",VLOOKUP(Q67,Liste_B,6,FALSE))","v":""},{"$f":"IF(Q67=\"\",\"\",VLOOKUP(Q67,Liste_B,3,FALSE)&\" pts - \"&VLOOKUP(Q67,Liste_B,4,FALSE))","v":""}]
[]
["Poule 17",null,null,null,null,"Poule 18",null,null,null,null,"Poule 19",null,null,null,null,"Poule 20"]
["Rang","Dossard","NOM    Prénom",null,null,"Rang","Dossard","NOM    Prénom",null,null,"Rang","Dossard","NOM    Prénom",null,null,"Rang","Dossard","NOM    Prénom"]
[null,null,"CLUB, LIGUE ou COMITE","Pts - Clt",null,null,null,"CLUB, LIGUE ou COMITE","Pts - Clt",null,null,null,"CLUB, LIGUE ou COMITE","Pts - Clt",null,null,null,"CLUB, LIGUE ou COMITE","Pts - Clt"]
["1er",{"$f":"IF(ISERROR(VLOOKUP(VALUE(RIGHT(A70,LEN(A70)-SEARCH(\" \",A70,1))&LEFT(A73,1)),'TS-201b'!$B$15:$E$144,4,FALSE)),\"\",VLOOKUP(VALUE(RIGHT(A70,LEN(A70)-SEARCH(\" \",A70,1))&LEFT(A73,1)),'TS-201b'!$B$15:$E$144,4,FALSE))","v":""},{"$f":"IF(B73=\"\",\"\",VLOOKUP(B73,Liste_B,2,FALSE))","v":""},null,null,"1er",{"$f":"IF(ISERROR(VLOOKUP(VALUE(RIGHT(F70,LEN(F70)-SEARCH(\" \",F70,1))&LEFT(F73,1)),'TS-201b'!$B$15:$E$144,4,FALSE)),\"\",VLOOKUP(VALUE(RIGHT(F70,LEN(F70)-SEARCH(\" \",F70,1))&LEFT(F73,1)),'TS-201b'!$B$15:$E$144,4,FALSE))","v":""},{"$f":"IF(G73=\"\",\"\",VLOOKUP(G73,Liste_B,2,FALSE))","v":""},null,null,"1er",{"$f":"IF(ISERROR(VLOOKUP(VALUE(RIGHT(K70,LEN(K70)-SEARCH(\" \",K70,1))&LEFT(K73,1)),'TS-201b'!$B$15:$E$144,4,FALSE)),\"\",VLOOKUP(VALUE(RIGHT(K70,LEN(K70)-SEARCH(\" \",K70,1))&LEFT(K73,1)),'TS-201b'!$B$15:$E$144,4,FALSE))","v":""},{"$f":"IF(L73=\"\",\"\",VLOOKUP(L73,Liste_B,2,FALSE))","v":""},null,null,"1er",{"$f":"IF(ISERROR(VLOOKUP(VALUE(RIGHT(P70,LEN(P70)-SEARCH(\" \",P70,1))&LEFT(P73,1)),'TS-201b'!$B$15:$E$144,4,FALSE)),\"\",VLOOKUP(VALUE(RIGHT(P70,LEN(P70)-SEARCH(\" \",P70,1))&LEFT(P73,1)),'TS-201b'!$B$15:$E$144,4,FALSE))","v":""},{"$f":"IF(Q73=\"\",\"\",VLOOKUP(Q73,Liste_B,2,FALSE))","v":""}]
[null,null,{"$f":"IF(B73=\"\",\"\",VLOOKUP(B73,Liste_B,6,FALSE))","v":""},{"$f":"IF(B73=\"\",\"\",VLOOKUP(B73,Liste_B,3,FALSE)&\" pts - \"&VLOOKUP(B73,Liste_B,4,FALSE))","v":""},null,null,null,{"$f":"IF(G73=\"\",\"\",VLOOKUP(G73,Liste_B,6,FALSE))","v":""},{"$f":"IF(G73=\"\",\"\",VLOOKUP(G73,Liste_B,3,FALSE)&\" pts - \"&VLOOKUP(G73,Liste_B,4,FALSE))","v":""},null,null,null,{"$f":"IF(L73=\"\",\"\",VLOOKUP(L73,Liste_B,6,FALSE))","v":""},{"$f":"IF(L73=\"\",\"\",VLOOKUP(L73,Liste_B,3,FALSE)&\" pts - \"&VLOOKUP(L73,Liste_B,4,FALSE))","v":""},null,null,null,{"$f":"IF(Q73=\"\",\"\",VLOOKUP(Q73,Liste_B,6,FALSE))","v":""},{"$f":"IF(Q73=\"\",\"\",VLOOKUP(Q73,Liste_B,3,FALSE)&\" pts - \"&VLOOKUP(Q73,Liste_B,4,FALSE))","v":""}]
["2ème",{"$f":"IF(ISERROR(VLOOKUP(VALUE(RIGHT(A70,LEN(A70)-SEARCH(\" \",A70,1))&LEFT(A75,1)),'TS-201b'!$B$15:$E$144,4,FALSE)),\"\",VLOOKUP(VALUE(RIGHT(A70,LEN(A70)-SEARCH(\" \",A70,1))&LEFT(A75,1)),'TS-201b'!$B$15:$E$144,4,FALSE))","v":""},{"$f":"IF(B75=\"\",\"\",VLOOKUP(B75,Liste_B,2,FALSE))","v":""},null,null,"2ème",{"$f":"IF(ISERROR(VLOOKUP(VALUE(RIGHT(F70,LEN(F70)-SEARCH(\" \",F70,1))&LEFT(F75,1)),'TS-201b'!$B$15:$E$144,4,FALSE)),\"\",VLOOKUP(VALUE(RIGHT(F70,LEN(F70)-SEARCH(\" \",F70,1))&LEFT(F75,1)),'TS-201b'!$B$15:$E$144,4,FALSE))","v":""},{"$f":"IF(G75=\"\",\"\",VLOOKUP(G75,Liste_B,2,FALSE))","v":""},null,null,"2ème",{"$f":"IF(ISERROR(VLOOKUP(VALUE(RIGHT(K70,LEN(K70)-SEARCH(\" \",K70,1))&LEFT(K75,1)),'TS-201b'!$B$15:$E$144,4,FALSE)),\"\",VLOOKUP(VALUE(RIGHT(K70,LEN(K70)-SEARCH(\" \",K70,1))&LEFT(K75,1)),'TS-201b'!$B$15:$E$144,4,FALSE))","v":""},{"$f":"IF(L75=\"\",\"\",VLOOKUP(L75,Liste_B,2,FALSE))","v":""},null,null,"2ème",{"$f":"IF(ISERROR(VLOOKUP(VALUE(RIGHT(P70,LEN(P70)-SEARCH(\" \",P70,1))&LEFT(P75,1)),'TS-201b'!$B$15:$E$144,4,FALSE)),\"\",VLOOKUP(VALUE(RIGHT(P70,LEN(P70)-SEARCH(\" \",P70,1))&LEFT(P75,1)),'TS-201b'!$B$15:$E$144,4,FALSE))","v":""},{"$f":"IF(Q75=\"\",\"\",VLOOKUP(Q75,Liste_B,2,FALSE))","v":""}]
[null,null,{"$f":"IF(B75=\"\",\"\",VLOOKUP(B75,Liste_B,6,FALSE))","v":""},{"$f":"IF(B75=\"\",\"\",VLOOKUP(B75,Liste_B,3,FALSE)&\" pts - \"&VLOOKUP(B75,Liste_B,4,FALSE))","v":""},null,null,null,{"$f":"IF(G75=\"\",\"\",VLOOKUP(G75,Liste_B,6,FALSE))","v":""},{"$f":"IF(G75=\"\",\"\",VLOOKUP(G75,Liste_B,3,FALSE)&\" pts - \"&VLOOKUP(G75,Liste_B,4,FALSE))","v":""},null,null,null,{"$f":"IF(L75=\"\",\"\",VLOOKUP(L75,Liste_B,6,FALSE))","v":""},{"$f":"IF(L75=\"\",\"\",VLOOKUP(L75,Liste_B,3,FALSE)&\" pts - \"&VLOOKUP(L75,Liste_B,4,FALSE))","v":""},null,null,null,{"$f":"IF(Q75=\"\",\"\",VLOOKUP(Q75,Liste_B,6,FALSE))","v":""},{"$f":"IF(Q75=\"\",\"\",VLOOKUP(Q75,Liste_B,3,FALSE)&\" pts - \"&VLOOKUP(Q75,Liste_B,4,FALSE))","v":""}]
["3ème",{"$f":"IF(ISERROR(VLOOKUP(VALUE(RIGHT(A70,LEN(A70)-SEARCH(\" \",A70,1))&LEFT(A77,1)),'TS-201b'!$B$15:$E$144,4,FALSE)),\"\",VLOOKUP(VALUE(RIGHT(A70,LEN(A70)-SEARCH(\" \",A70,1))&LEFT(A77,1)),'TS-201b'!$B$15:$E$144,4,FALSE))","v":""},{"$f":"IF(B77=\"\",\"\",VLOOKUP(B77,Liste_B,2,FALSE))","v":""},null,null,"3ème",{"$f":"IF(ISERROR(VLOOKUP(VALUE(RIGHT(F70,LEN(F70)-SEARCH(\" \",F70,1))&LEFT(F77,1)),'TS-201b'!$B$15:$E$144,4,FALSE)),\"\",VLOOKUP(VALUE(RIGHT(F70,LEN(F70)-SEARCH(\" \",F70,1))&LEFT(F77,1)),'TS-201b'!$B$15:$E$144,4,FALSE))","v":""},{"$f":"IF(G77=\"\",\"\",VLOOKUP(G77,Liste_B,2,FALSE))","v":""},null,null,"3ème",{"$f":"IF(ISERROR(VLOOKUP(VALUE(RIGHT(K70,LEN(K70)-SEARCH(\" \",K70,1))&LEFT(K77,1)),'TS-201b'!$B$15:$E$144,4,FALSE)),\"\",VLOOKUP(VALUE(RIGHT(K70,LEN(K70)-SEARCH(\" \",K70,1))&LEFT(K77,1)),'TS-201b'!$B$15:$E$144,4,FALSE))","v":""},{"$f":"IF(L77=\"\",\"\",VLOOKUP(L77,Liste_B,2,FALSE))","v":""},null,null,"3ème",{"$f":"IF(ISERROR(VLOOKUP(VALUE(RIGHT(P70,LEN(P70)-SEARCH(\" \",P70,1))&LEFT(P77,1)),'TS-201b'!$B$15:$E$144,4,FALSE)),\"\",VLOOKUP(VALUE(RIGHT(P70,LEN(P70)-SEARCH(\" \",P70,1))&LEFT(P77,1)),'TS-201b'!$B$15:$E$144,4,FALSE))","v":""},{"$f":"IF(Q77=\"\",\"\",VLOOKUP(Q77,Liste_B,2,FALSE))","v":""}]
[null,null,{"$f":"IF(B77=\"\",\"\",VLOOKUP(B77,Liste_B,6,FALSE))","v":""},{"$f":"IF(B77=\"\",\"\",VLOOKUP(B77,Liste_B,3,FALSE)&\" pts - \"&VLOOKUP(B77,Liste_B,4,FALSE))","v":""},null,null,null,{"$f":"IF(G77=\"\",\"\",VLOOKUP(G77,Liste_B,6,FALSE))","v":""},{"$f":"IF(G77=\"\",\"\",VLOOKUP(G77,Liste_B,3,FALSE)&\" pts - \"&VLOOKUP(G77,Liste_B,4,FALSE))","v":""},null,null,null,{"$f":"IF(L77=\"\",\"\",VLOOKUP(L77,Liste_B,6,FALSE))","v":""},{"$f":"IF(L77=\"\",\"\",VLOOKUP(L77,Liste_B,3,FALSE)&\" pts - \"&VLOOKUP(L77,Liste_B,4,FALSE))","v":""},null,null,null,{"$f":"IF(Q77=\"\",\"\",VLOOKUP(Q77,Liste_B,6,FALSE))","v":""},{"$f":"IF(Q77=\"\",\"\",VLOOKUP(Q77,Liste_B,3,FALSE)&\" pts - \"&VLOOKUP(Q77,Liste_B,4,FALSE))","v":""}]
["4ème",{"$f":"IF(ISERROR(VLOOKUP(VALUE(RIGHT(A70,LEN(A70)-SEARCH(\" \",A70,1))&LEFT(A79,1)),'TS-201b'!$B$15:$E$144,4,FALSE)),\"\",VLOOKUP(VALUE(RIGHT(A70,LEN(A70)-SEARCH(\" \",A70,1))&LEFT(A79,1)),'TS-201b'!$B$15:$E$144,4,FALSE))","v":""},{"$f":"IF(B79=\"\",\"\",VLOOKUP(B79,Liste_B,2,FALSE))","v":""},null,null,"4ème",{"$f":"IF(ISERROR(VLOOKUP(VALUE(RIGHT(F70,LEN(F70)-SEARCH(\" \",F70,1))&LEFT(F79,1)),'TS-201b'!$B$15:$E$144,4,FALSE)),\"\",VLOOKUP(VALUE(RIGHT(F70,LEN(F70)-SEARCH(\" \",F70,1))&LEFT(F79,1)),'TS-201b'!$B$15:$E$144,4,FALSE))","v":""},{"$f":"IF(G79=\"\",\"\",VLOOKUP(G79,Liste_B,2,FALSE))","v":""},null,null,"4ème",{"$f":"IF(ISERROR(VLOOKUP(VALUE(RIGHT(K70,LEN(K70)-SEARCH(\" \",K70,1))&LEFT(K79,1)),'TS-201b'!$B$15:$E$144,4,FALSE)),\"\",VLOOKUP(VALUE(RIGHT(K70,LEN(K70)-SEARCH(\" \",K70,1))&LEFT(K79,1)),'TS-201b'!$B$15:$E$144,4,FALSE))","v":""},{"$f":"IF(L79=\"\",\"\",VLOOKUP(L79,Liste_B,2,FALSE))","v":""},null,null,"4ème",{"$f":"IF(ISERROR(VLOOKUP(VALUE(RIGHT(P70,LEN(P70)-SEARCH(\" \",P70,1))&LEFT(P79,1)),'TS-201b'!$B$15:$E$144,4,FALSE)),\"\",VLOOKUP(VALUE(RIGHT(P70,LEN(P70)-SEARCH(\" \",P70,1))&LEFT(P79,1)),'TS-201b'!$B$15:$E$144,4,FALSE))","v":""},{"$f":"IF(Q79=\"\",\"\",VLOOKUP(Q79,Liste_B,2,FALSE))","v":""}]
[null,null,{"$f":"IF(B79=\"\",\"\",VLOOKUP(B79,Liste_B,6,FALSE))","v":""},{"$f":"IF(B79=\"\",\"\",VLOOKUP(B79,Liste_B,3,FALSE)&\" pts - \"&VLOOKUP(B79,Liste_B,4,FALSE))","v":""},null,null,null,{"$f":"IF(G79=\"\",\"\",VLOOKUP(G79,Liste_B,6,FALSE))","v":""},{"$f":"IF(G79=\"\",\"\",VLOOKUP(G79,Liste_B,3,FALSE)&\" pts - \"&VLOOKUP(G79,Liste_B,4,FALSE))","v":""},null,null,null,{"$f":"IF(L79=\"\",\"\",VLOOKUP(L79,Liste_B,6,FALSE))","v":""},{"$f":"IF(L79=\"\",\"\",VLOOKUP(L79,Liste_B,3,FALSE)&\" pts - \"&VLOOKUP(L79,Liste_B,4,FALSE))","v":""},null,null,null,{"$f":"IF(Q79=\"\",\"\",VLOOKUP(Q79,Liste_B,6,FALSE))","v":""},{"$f":"IF(Q79=\"\",\"\",VLOOKUP(Q79,Liste_B,3,FALSE)&\" pts - \"&VLOOKUP(Q79,Liste_B,4,FALSE))","v":""}]
["5ème",{"$f":"IF(ISERROR(VLOOKUP(VALUE(RIGHT(A70,LEN(A70)-SEARCH(\" \",A70,1))&LEFT(A81,1)),'TS-201b'!$B$15:$E$144,4,FALSE)),\"\",VLOOKUP(VALUE(RIGHT(A70,LEN(A70)-SEARCH(\" \",A70,1))&LEFT(A81,1)),'TS-201b'!$B$15:$E$144,4,FALSE))","v":""},{"$f":"IF(B81=\"\",\"\",VLOOKUP(B81,Liste_B,2,FALSE))","v":""},null,null,"5ème",{"$f":"IF(ISERROR(VLOOKUP(VALUE(RIGHT(F70,LEN(F70)-SEARCH(\" \",F70,1))&LEFT(F81,1)),'TS-201b'!$B$15:$E$144,4,FALSE)),\"\",VLOOKUP(VALUE(RIGHT(F70,LEN(F70)-SEARCH(\" \",F70,1))&LEFT(F81,1)),'TS-201b'!$B$15:$E$144,4,FALSE))","v":""},{"$f":"IF(G81=\"\",\"\",VLOOKUP(G81,Liste_B,2,FALSE))","v":""},null,null,"5ème",{"$f":"IF(ISERROR(VLOOKUP(VALUE(RIGHT(K70,LEN(K70)-SEARCH(\" \",K70,1))&LEFT(K81,1)),'TS-201b'!$B$15:$E$144,4,FALSE)),\"\",VLOOKUP(VALUE(RIGHT(K70,LEN(K70)-SEARCH(\" \",K70,1))&LEFT(K81,1)),'TS-201b'!$B$15:$E$144,4,FALSE))","v":""},{"$f":"IF(L81=\"\",\"\",VLOOKUP(L81,Liste_B,2,FALSE))","v":""},null,null,"5ème",{"$f":"IF(ISERROR(VLOOKUP(VALUE(RIGHT(P70,LEN(P70)-SEARCH(\" \",P70,1))&LEFT(P81,1)),'TS-201b'!$B$15:$E$144,4,FALSE)),\"\",VLOOKUP(VALUE(RIGHT(P70,LEN(P70)-SEARCH(\" \",P70,1))&LEFT(P81,1)),'TS-201b'!$B$15:$E$144,4,FALSE))","v":""},{"$f":"IF(Q81=\"\",\"\",VLOOKUP(Q81,Liste_B,2,FALSE))","v":""}]
[null,null,{"$f":"IF(B81=\"\",\"\",VLOOKUP(B81,Liste_B,6,FALSE))","v":""},{"$f":"IF(B81=\"\",\"\",VLOOKUP(B81,Liste_B,3,FALSE)&\" pts - \"&VLOOKUP(B81,Liste_B,4,FALSE))","v":""},null,null,null,{"$f":"IF(G81=\"\",\"\",VLOOKUP(G81,Liste_B,6,FALSE))","v":""},{"$f":"IF(G81=\"\",\"\",VLOOKUP(G81,Liste_B,3,FALSE)&\" pts - \"&VLOOKUP(G81,Liste_B,4,FALSE))","v":""},null,null,null,{"$f":"IF(L81=\"\",\"\",VLOOKUP(L81,Liste_B,6,FALSE))","v":""},{"$f":"IF(L81=\"\",\"\",VLOOKUP(L81,Liste_B,3,FALSE)&\" pts - \"&VLOOKUP(L81,Liste_B,4,FALSE))","v":""},null,null,null,{"$f":"IF(Q81=\"\",\"\",VLOOKUP(Q81,Liste_B,6,FALSE))","v":""},{"$f":"IF(Q81=\"\",\"\",VLOOKUP(Q81,Liste_B,3,FALSE)&\" pts - \"&VLOOKUP(Q81,Liste_B,4,FALSE))","v":""}]
["6ème",{"$f":"IF(ISERROR(VLOOKUP(VALUE(RIGHT(A70,LEN(A70)-SEARCH(\" \",A70,1))&LEFT(A83,1)),'TS-201b'!$B$15:$E$144,4,FALSE)),\"\",VLOOKUP(VALUE(RIGHT(A70,LEN(A70)-SEARCH(\" \",A70,1))&LEFT(A83,1)),'TS-201b'!$B$15:$E$144,4,FALSE))","v":""},{"$f":"IF(B83=\"\",\"\",VLOOKUP(B83,Liste_B,2,FALSE))","v":""},null,null,"6ème",{"$f":"IF(ISERROR(VLOOKUP(VALUE(RIGHT(F70,LEN(F70)-SEARCH(\" \",F70,1))&LEFT(F83,1)),'TS-201b'!$B$15:$E$144,4,FALSE)),\"\",VLOOKUP(VALUE(RIGHT(F70,LEN(F70)-SEARCH(\" \",F70,1))&LEFT(F83,1)),'TS-201b'!$B$15:$E$144,4,FALSE))","v":""},{"$f":"IF(G83=\"\",\"\",VLOOKUP(G83,Liste_B,2,FALSE))","v":""},null,null,"6ème",{"$f":"IF(ISERROR(VLOOKUP(VALUE(RIGHT(K70,LEN(K70)-SEARCH(\" \",K70,1))&LEFT(K83,1)),'TS-201b'!$B$15:$E$144,4,FALSE)),\"\",VLOOKUP(VALUE(RIGHT(K70,LEN(K70)-SEARCH(\" \",K70,1))&LEFT(K83,1)),'TS-201b'!$B$15:$E$144,4,FALSE))","v":""},{"$f":"IF(L83=\"\",\"\",VLOOKUP(L83,Liste_B,2,FALSE))","v":""},null,null,"6ème",{"$f":"IF(ISERROR(VLOOKUP(VALUE(RIGHT(P70,LEN(P70)-SEARCH(\" \",P70,1))&LEFT(P83,1)),'TS-201b'!$B$15:$E$144,4,FALSE)),\"\",VLOOKUP(VALUE(RIGHT(P70,LEN(P70)-SEARCH(\" \",P70,1))&LEFT(P83,1)),'TS-201b'!$B$15:$E$144,4,FALSE))","v":""},{"$f":"IF(Q83=\"\",\"\",VLOOKUP(Q83,Liste_B,2,FALSE))","v":""}]
[null,null,{"$f":"IF(B83=\"\",\"\",VLOOKUP(B83,Liste_B,6,FALSE))","v":""},{"$f":"IF(B83=\"\",\"\",VLOOKUP(B83,Liste_B,3,FALSE)&\" pts - \"&VLOOKUP(B83,Liste_B,4,FALSE))","v":""},null,null,null,{"$f":"IF(G83=\"\",\"\",VLOOKUP(G83,Liste_B,6,FALSE))","v":""},{"$f":"IF(G83=\"\",\"\",VLOOKUP(G83,Liste_B,3,FALSE)&\" pts - \"&VLOOKUP(G83,Liste_B,4,FALSE))","v":""},null,null,null,{"$f":"IF(L83=\"\",\"\",VLOOKUP(L83,Liste_B,6,FALSE))","v":""},{"$f":"IF(L83=\"\",\"\",VLOOKUP(L83,Liste_B,3,FALSE)&\" pts - \"&VLOOKUP(L83,Liste_B,4,FALSE))","v":""},null,null,null,{"$f":"IF(Q83=\"\",\"\",VLOOKUP(Q83,Liste_B,6,FALSE))","v":""},{"$f":"IF(Q83=\"\",\"\",VLOOKUP(Q83,Liste_B,3,FALSE)&\" pts - \"&VLOOKUP(Q83,Liste_B,4,FALSE))","v":""}]
[]
["Poule 21",null,null,null,null,"Poule 22",null,null,null,null,"Poule 23",null,null,null,null,"Poule 24"]
["Rang","Dossard","NOM    Prénom",null,null,"Rang","Dossard","NOM    Prénom",null,null,"Rang","Dossard","NOM    Prénom",null,null,"Rang","Dossard","NOM    Prénom"]
[null,null,"CLUB, LIGUE ou COMITE","Pts - Clt",null,null,null,"CLUB, LIGUE ou COMITE","Pts - Clt",null,null,null,"CLUB, LIGUE ou COMITE","Pts - Clt",null,null,null,"CLUB, LIGUE ou COMITE","Pts - Clt"]
["1er",{"$f":"IF(ISERROR(VLOOKUP(VALUE(RIGHT(A86,LEN(A86)-SEARCH(\" \",A86,1))&LEFT(A89,1)),'TS-201b'!$B$15:$E$144,4,FALSE)),\"\",VLOOKUP(VALUE(RIGHT(A86,LEN(A86)-SEARCH(\" \",A86,1))&LEFT(A89,1)),'TS-201b'!$B$15:$E$144,4,FALSE))","v":""},{"$f":"IF(B89=\"\",\"\",VLOOKUP(B89,Liste_B,2,FALSE))","v":""},null,null,"1er",{"$f":"IF(ISERROR(VLOOKUP(VALUE(RIGHT(F86,LEN(F86)-SEARCH(\" \",F86,1))&LEFT(F89,1)),'TS-201b'!$B$15:$E$144,4,FALSE)),\"\",VLOOKUP(VALUE(RIGHT(F86,LEN(F86)-SEARCH(\" \",F86,1))&LEFT(F89,1)),'TS-201b'!$B$15:$E$144,4,FALSE))","v":""},{"$f":"IF(G89=\"\",\"\",VLOOKUP(G89,Liste_B,2,FALSE))","v":""},null,null,"1er",{"$f":"IF(ISERROR(VLOOKUP(VALUE(RIGHT(K86,LEN(K86)-SEARCH(\" \",K86,1))&LEFT(K89,1)),'TS-201b'!$B$15:$E$144,4,FALSE)),\"\",VLOOKUP(VALUE(RIGHT(K86,LEN(K86)-SEARCH(\" \",K86,1))&LEFT(K89,1)),'TS-201b'!$B$15:$E$144,4,FALSE))","v":""},{"$f":"IF(L89=\"\",\"\",VLOOKUP(L89,Liste_B,2,FALSE))","v":""},null,null,"1er",{"$f":"IF(ISERROR(VLOOKUP(VALUE(RIGHT(P86,LEN(P86)-SEARCH(\" \",P86,1))&LEFT(P89,1)),'TS-201b'!$B$15:$E$144,4,FALSE)),\"\",VLOOKUP(VALUE(RIGHT(P86,LEN(P86)-SEARCH(\" \",P86,1))&LEFT(P89,1)),'TS-201b'!$B$15:$E$144,4,FALSE))","v":""},{"$f":"IF(Q89=\"\",\"\",VLOOKUP(Q89,Liste_B,2,FALSE))","v":""}]
[null,null,{"$f":"IF(B89=\"\",\"\",VLOOKUP(B89,Liste_B,6,FALSE))","v":""},{"$f":"IF(B89=\"\",\"\",VLOOKUP(B89,Liste_B,3,FALSE)&\" pts - \"&VLOOKUP(B89,Liste_B,4,FALSE))","v":""},null,null,null,{"$f":"IF(G89=\"\",\"\",VLOOKUP(G89,Liste_B,6,FALSE))","v":""},{"$f":"IF(G89=\"\",\"\",VLOOKUP(G89,Liste_B,3,FALSE)&\" pts - \"&VLOOKUP(G89,Liste_B,4,FALSE))","v":""},null,null,null,{"$f":"IF(L89=\"\",\"\",VLOOKUP(L89,Liste_B,6,FALSE))","v":""},{"$f":"IF(L89=\"\",\"\",VLOOKUP(L89,Liste_B,3,FALSE)&\" pts - \"&VLOOKUP(L89,Liste_B,4,FALSE))","v":""},null,null,null,{"$f":"IF(Q89=\"\",\"\",VLOOKUP(Q89,Liste_B,6,FALSE))","v":""},{"$f":"IF(Q89=\"\",\"\",VLOOKUP(Q89,Liste_B,3,FALSE)&\" pts - \"&VLOOKUP(Q89,Liste_B,4,FALSE))","v":""}]
["2ème",{"$f":"IF(ISERROR(VLOOKUP(VALUE(RIGHT(A86,LEN(A86)-SEARCH(\" \",A86,1))&LEFT(A91,1)),'TS-201b'!$B$15:$E$144,4,FALSE)),\"\",VLOOKUP(VALUE(RIGHT(A86,LEN(A86)-SEARCH(\" \",A86,1))&LEFT(A91,1)),'TS-201b'!$B$15:$E$144,4,FALSE))","v":""},{"$f":"IF(B91=\"\",\"\",VLOOKUP(B91,Liste_B,2,FALSE))","v":""},null,null,"2ème",{"$f":"IF(ISERROR(VLOOKUP(VALUE(RIGHT(F86,LEN(F86)-SEARCH(\" \",F86,1))&LEFT(F91,1)),'TS-201b'!$B$15:$E$144,4,FALSE)),\"\",VLOOKUP(VALUE(RIGHT(F86,LEN(F86)-SEARCH(\" \",F86,1))&LEFT(F91,1)),'TS-201b'!$B$15:$E$144,4,FALSE))","v":""},{"$f":"IF(G91=\"\",\"\",VLOOKUP(G91,Liste_B,2,FALSE))","v":""},null,null,"2ème",{"$f":"IF(ISERROR(VLOOKUP(VALUE(RIGHT(K86,LEN(K86)-SEARCH(\" \",K86,1))&LEFT(K91,1)),'TS-201b'!$B$15:$E$144,4,FALSE)),\"\",VLOOKUP(VALUE(RIGHT(K86,LEN(K86)-SEARCH(\" \",K86,1))&LEFT(K91,1)),'TS-201b'!$B$15:$E$144,4,FALSE))","v":""},{"$f":"IF(L91=\"\",\"\",VLOOKUP(L91,Liste_B,2,FALSE))","v":""},null,null,"2ème",{"$f":"IF(ISERROR(VLOOKUP(VALUE(RIGHT(P86,LEN(P86)-SEARCH(\" \",P86,1))&LEFT(P91,1)),'TS-201b'!$B$15:$E$144,4,FALSE)),\"\",VLOOKUP(VALUE(RIGHT(P86,LEN(P86)-SEARCH(\" \",P86,1))&LEFT(P91,1)),'TS-201b'!$B$15:$E$144,4,FALSE))","v":""},{"$f":"IF(Q91=\"\",\"\",VLOOKUP(Q91,Liste_B,2,FALSE))","v":""}]
[null,null,{"$f":"IF(B91=\"\",\"\",VLOOKUP(B91,Liste_B,6,FALSE))","v":""},{"$f":"IF(B91=\"\",\"\",VLOOKUP(B91,Liste_B,3,FALSE)&\" pts - \"&VLOOKUP(B91,Liste_B,4,FALSE))","v":""},null,null,null,{"$f":"IF(G91=\"\",\"\",VLOOKUP(G91,Liste_B,6,FALSE))","v":""},{"$f":"IF(G91=\"\",\"\",VLOOKUP(G91,Liste_B,3,FALSE)&\" pts - \"&VLOOKUP(G91,Liste_B,4,FALSE))","v":""},null,null,null,{"$f":"IF(L91=\"\",\"\",VLOOKUP(L91,Liste_B,6,FALSE))","v":""},{"$f":"IF(L91=\"\",\"\",VLOOKUP(L91,Liste_B,3,FALSE)&\" pts - \"&VLOOKUP(L91,Liste_B,4,FALSE))","v":""},null,null,null,{"$f":"IF(Q91=\"\",\"\",VLOOKUP(Q91,Liste_B,6,FALSE))","v":""},{"$f":"IF(Q91=\"\",\"\",VLOOKUP(Q91,Liste_B,3,FALSE)&\" pts - \"&VLOOKUP(Q91,Liste_B,4,FALSE))","v":""}]
["3ème",{"$f":"IF(ISERROR(VLOOKUP(VALUE(RIGHT(A86,LEN(A86)-SEARCH(\" \",A86,1))&LEFT(A93,1)),'TS-201b'!$B$15:$E$144,4,FALSE)),\"\",VLOOKUP(VALUE(RIGHT(A86,LEN(A86)-SEARCH(\" \",A86,1))&LEFT(A93,1)),'TS-201b'!$B$15:$E$144,4,FALSE))","v":""},{"$f":"IF(B93=\"\",\"\",VLOOKUP(B93,Liste_B,2,FALSE))","v":""},null,null,"3ème",{"$f":"IF(ISERROR(VLOOKUP(VALUE(RIGHT(F86,LEN(F86)-SEARCH(\" \",F86,1))&LEFT(F93,1)),'TS-201b'!$B$15:$E$144,4,FALSE)),\"\",VLOOKUP(VALUE(RIGHT(F86,LEN(F86)-SEARCH(\" \",F86,1))&LEFT(F93,1)),'TS-201b'!$B$15:$E$144,4,FALSE))","v":""},{"$f":"IF(G93=\"\",\"\",VLOOKUP(G93,Liste_B,2,FALSE))","v":""},null,null,"3ème",{"$f":"IF(ISERROR(VLOOKUP(VALUE(RIGHT(K86,LEN(K86)-SEARCH(\" \",K86,1))&LEFT(K93,1)),'TS-201b'!$B$15:$E$144,4,FALSE)),\"\",VLOOKUP(VALUE(RIGHT(K86,LEN(K86)-SEARCH(\" \",K86,1))&LEFT(K93,1)),'TS-201b'!$B$15:$E$144,4,FALSE))","v":""},{"$f":"IF(L93=\"\",\"\",VLOOKUP(L93,Liste_B,2,FALSE))","v":""},null,null,"3ème",{"$f":"IF(ISERROR(VLOOKUP(VALUE(RIGHT(P86,LEN(P86)-SEARCH(\" \",P86,1))&LEFT(P93,1)),'TS-201b'!$B$15:$E$144,4,FALSE)),\"\",VLOOKUP(VALUE(RIGHT(P86,LEN(P86)-SEARCH(\" \",P86,1))&LEFT(P93,1)),'TS-201b'!$B$15:$E$144,4,FALSE))","v":""},{"$f":"IF(Q93=\"\",\"\",VLOOKUP(Q93,Liste_B,2,FALSE))","v":""}]
[null,null,{"$f":"IF(B93=\"\",\"\",VLOOKUP(B93,Liste_B,6,FALSE))","v":""},{"$f":"IF(B93=\"\",\"\",VLOOKUP(B93,Liste_B,3,FALSE)&\" pts - \"&VLOOKUP(B93,Liste_B,4,FALSE))","v":""},null,null,null,{"$f":"IF(G93=\"\",\"\",VLOOKUP(G93,Liste_B,6,FALSE))","v":""},{"$f":"IF(G93=\"\",\"\",VLOOKUP(G93,Liste_B,3,FALSE)&\" pts - \"&VLOOKUP(G93,Liste_B,4,FALSE))","v":""},null,null,null,{"$f":"IF(L93=\"\",\"\",VLOOKUP(L93,Liste_B,6,FALSE))","v":""},{"$f":"IF(L93=\"\",\"\",VLOOKUP(L93,Liste_B,3,FALSE)&\" pts - \"&VLOOKUP(L93,Liste_B,4,FALSE))","v":""},null,null,null,{"$f":"IF(Q93=\"\",\"\",VLOOKUP(Q93,Liste_B,6,FALSE))","v":""},{"$f":"IF(Q93=\"\",\"\",VLOOKUP(Q93,Liste_B,3,FALSE)&\" pts - \"&VLOOKUP(Q93,Liste_B,4,FALSE))","v":""}]
["4ème",{"$f":"IF(ISERROR(VLOOKUP(VALUE(RIGHT(A86,LEN(A86)-SEARCH(\" \",A86,1))&LEFT(A95,1)),'TS-201b'!$B$15:$E$144,4,FALSE)),\"\",VLOOKUP(VALUE(RIGHT(A86,LEN(A86)-SEARCH(\" \",A86,1))&LEFT(A95,1)),'TS-201b'!$B$15:$E$144,4,FALSE))","v":""},{"$f":"IF(B95=\"\",\"\",VLOOKUP(B95,Liste_B,2,FALSE))","v":""},null,null,"4ème",{"$f":"IF(ISERROR(VLOOKUP(VALUE(RIGHT(F86,LEN(F86)-SEARCH(\" \",F86,1))&LEFT(F95,1)),'TS-201b'!$B$15:$E$144,4,FALSE)),\"\",VLOOKUP(VALUE(RIGHT(F86,LEN(F86)-SEARCH(\" \",F86,1))&LEFT(F95,1)),'TS-201b'!$B$15:$E$144,4,FALSE))","v":""},{"$f":"IF(G95=\"\",\"\",VLOOKUP(G95,Liste_B,2,FALSE))","v":""},null,null,"4ème",{"$f":"IF(ISERROR(VLOOKUP(VALUE(RIGHT(K86,LEN(K86)-SEARCH(\" \",K86,1))&LEFT(K95,1)),'TS-201b'!$B$15:$E$144,4,FALSE)),\"\",VLOOKUP(VALUE(RIGHT(K86,LEN(K86)-SEARCH(\" \",K86,1))&LEFT(K95,1)),'TS-201b'!$B$15:$E$144,4,FALSE))","v":""},{"$f":"IF(L95=\"\",\"\",VLOOKUP(L95,Liste_B,2,FALSE))","v":""},null,null,"4ème",{"$f":"IF(ISERROR(VLOOKUP(VALUE(RIGHT(P86,LEN(P86)-SEARCH(\" \",P86,1))&LEFT(P95,1)),'TS-201b'!$B$15:$E$144,4,FALSE)),\"\",VLOOKUP(VALUE(RIGHT(P86,LEN(P86)-SEARCH(\" \",P86,1))&LEFT(P95,1)),'TS-201b'!$B$15:$E$144,4,FALSE))","v":""},{"$f":"IF(Q95=\"\",\"\",VLOOKUP(Q95,Liste_B,2,FALSE))","v":""}]
[null,null,{"$f":"IF(B95=\"\",\"\",VLOOKUP(B95,Liste_B,6,FALSE))","v":""},{"$f":"IF(B95=\"\",\"\",VLOOKUP(B95,Liste_B,3,FALSE)&\" pts - \"&VLOOKUP(B95,Liste_B,4,FALSE))","v":""},null,null,null,{"$f":"IF(G95=\"\",\"\",VLOOKUP(G95,Liste_B,6,FALSE))","v":""},{"$f":"IF(G95=\"\",\"\",VLOOKUP(G95,Liste_B,3,FALSE)&\" pts - \"&VLOOKUP(G95,Liste_B,4,FALSE))","v":""},null,null,null,{"$f":"IF(L95=\"\",\"\",VLOOKUP(L95,Liste_B,6,FALSE))","v":""},{"$f":"IF(L95=\"\",\"\",VLOOKUP(L95,Liste_B,3,FALSE)&\" pts - \"&VLOOKUP(L95,Liste_B,4,FALSE))","v":""},null,null,null,{"$f":"IF(Q95=\"\",\"\",VLOOKUP(Q95,Liste_B,6,FALSE))","v":""},{"$f":"IF(Q95=\"\",\"\",VLOOKUP(Q95,Liste_B,3,FALSE)&\" pts - \"&VLOOKUP(Q95,Liste_B,4,FALSE))","v":""}]
["5ème",{"$f":"IF(ISERROR(VLOOKUP(VALUE(RIGHT(A86,LEN(A86)-SEARCH(\" \",A86,1))&LEFT(A97,1)),'TS-201b'!$B$15:$E$144,4,FALSE)),\"\",VLOOKUP(VALUE(RIGHT(A86,LEN(A86)-SEARCH(\" \",A86,1))&LEFT(A97,1)),'TS-201b'!$B$15:$E$144,4,FALSE))","v":""},{"$f":"IF(B97=\"\",\"\",VLOOKUP(B97,Liste_B,2,FALSE))","v":""},null,null,"5ème",{"$f":"IF(ISERROR(VLOOKUP(VALUE(RIGHT(F86,LEN(F86)-SEARCH(\" \",F86,1))&LEFT(F97,1)),'TS-201b'!$B$15:$E$144,4,FALSE)),\"\",VLOOKUP(VALUE(RIGHT(F86,LEN(F86)-SEARCH(\" \",F86,1))&LEFT(F97,1)),'TS-201b'!$B$15:$E$144,4,FALSE))","v":""},{"$f":"IF(G97=\"\",\"\",VLOOKUP(G97,Liste_B,2,FALSE))","v":""},null,null,"5ème",{"$f":"IF(ISERROR(VLOOKUP(VALUE(RIGHT(K86,LEN(K86)-SEARCH(\" \",K86,1))&LEFT(K97,1)),'TS-201b'!$B$15:$E$144,4,FALSE)),\"\",VLOOKUP(VALUE(RIGHT(K86,LEN(K86)-SEARCH(\" \",K86,1))&LEFT(K97,1)),'TS-201b'!$B$15:$E$144,4,FALSE))","v":""},{"$f":"IF(L97=\"\",\"\",VLOOKUP(L97,Liste_B,2,FALSE))","v":""},null,null,"5ème",{"$f":"IF(ISERROR(VLOOKUP(VALUE(RIGHT(P86,LEN(P86)-SEARCH(\" \",P86,1))&LEFT(P97,1)),'TS-201b'!$B$15:$E$144,4,FALSE)),\"\",VLOOKUP(VALUE(RIGHT(P86,LEN(P86)-SEARCH(\" \",P86,1))&LEFT(P97,1)),'TS-201b'!$B$15:$E$144,4,FALSE))","v":""},{"$f":"IF(Q97=\"\",\"\",VLOOKUP(Q97,Liste_B,2,FALSE))","v":""}]
[null,null,{"$f":"IF(B97=\"\",\"\",VLOOKUP(B97,Liste_B,6,FALSE))","v":""},{"$f":"IF(B97=\"\",\"\",VLOOKUP(B97,Liste_B,3,FALSE)&\" pts - \"&VLOOKUP(B97,Liste_B,4,FALSE))","v":""},null,null,null,{"$f":"IF(G97=\"\",\"\",VLOOKUP(G97,Liste_B,6,FALSE))","v":""},{"$f":"IF(G97=\"\",\"\",VLOOKUP(G97,Liste_B,3,FALSE)&\" pts - \"&VLOOKUP(G97,Liste_B,4,FALSE))","v":""},null,null,null,{"$f":"IF(L97=\"\",\"\",VLOOKUP(L97,Liste_B,6,FALSE))","v":""},{"$f":"IF(L97=\"\",\"\",VLOOKUP(L97,Liste_B,3,FALSE)&\" pts - \"&VLOOKUP(L97,Liste_B,4,FALSE))","v":""},null,null,null,{"$f":"IF(Q97=\"\",\"\",VLOOKUP(Q97,Liste_B,6,FALSE))","v":""},{"$f":"IF(Q97=\"\",\"\",VLOOKUP(Q97,Liste_B,3,FALSE)&\" pts - \"&VLOOKUP(Q97,Liste_B,4,FALSE))","v":""}]
["6ème",{"$f":"IF(ISERROR(VLOOKUP(VALUE(RIGHT(A86,LEN(A86)-SEARCH(\" \",A86,1))&LEFT(A99,1)),'TS-201b'!$B$15:$E$144,4,FALSE)),\"\",VLOOKUP(VALUE(RIGHT(A86,LEN(A86)-SEARCH(\" \",A86,1))&LEFT(A99,1)),'TS-201b'!$B$15:$E$144,4,FALSE))","v":""},{"$f":"IF(B99=\"\",\"\",VLOOKUP(B99,Liste_B,2,FALSE))","v":""},null,null,"6ème",{"$f":"IF(ISERROR(VLOOKUP(VALUE(RIGHT(F86,LEN(F86)-SEARCH(\" \",F86,1))&LEFT(F99,1)),'TS-201b'!$B$15:$E$144,4,FALSE)),\"\",VLOOKUP(VALUE(RIGHT(F86,LEN(F86)-SEARCH(\" \",F86,1))&LEFT(F99,1)),'TS-201b'!$B$15:$E$144,4,FALSE))","v":""},{"$f":"IF(G99=\"\",\"\",VLOOKUP(G99,Liste_B,2,FALSE))","v":""},null,null,"6ème",{"$f":"IF(ISERROR(VLOOKUP(VALUE(RIGHT(K86,LEN(K86)-SEARCH(\" \",K86,1))&LEFT(K99,1)),'TS-201b'!$B$15:$E$144,4,FALSE)),\"\",VLOOKUP(VALUE(RIGHT(K86,LEN(K86)-SEARCH(\" \",K86,1))&LEFT(K99,1)),'TS-201b'!$B$15:$E$144,4,FALSE))","v":""},{"$f":"IF(L99=\"\",\"\",VLOOKUP(L99,Liste_B,2,FALSE))","v":""},null,null,"6ème",{"$f":"IF(ISERROR(VLOOKUP(VALUE(RIGHT(P86,LEN(P86)-SEARCH(\" \",P86,1))&LEFT(P99,1)),'TS-201b'!$B$15:$E$144,4,FALSE)),\"\",VLOOKUP(VALUE(RIGHT(P86,LEN(P86)-SEARCH(\" \",P86,1))&LEFT(P99,1)),'TS-201b'!$B$15:$E$144,4,FALSE))","v":""},{"$f":"IF(Q99=\"\",\"\",VLOOKUP(Q99,Liste_B,2,FALSE))","v":""}]
[null,null,{"$f":"IF(B99=\"\",\"\",VLOOKUP(B99,Liste_B,6,FALSE))","v":""},{"$f":"IF(B99=\"\",\"\",VLOOKUP(B99,Liste_B,3,FALSE)&\" pts - \"&VLOOKUP(B99,Liste_B,4,FALSE))","v":""},null,null,null,{"$f":"IF(G99=\"\",\"\",VLOOKUP(G99,Liste_B,6,FALSE))","v":""},{"$f":"IF(G99=\"\",\"\",VLOOKUP(G99,Liste_B,3,FALSE)&\" pts - \"&VLOOKUP(G99,Liste_B,4,FALSE))","v":""},null,null,null,{"$f":"IF(L99=\"\",\"\",VLOOKUP(L99,Liste_B,6,FALSE))","v":""},{"$f":"IF(L99=\"\",\"\",VLOOKUP(L99,Liste_B,3,FALSE)&\" pts - \"&VLOOKUP(L99,Liste_B,4,FALSE))","v":""},null,null,null,{"$f":"IF(Q99=\"\",\"\",VLOOKUP(Q99,Liste_B,6,FALSE))","v":""},{"$f":"IF(Q99=\"\",\"\",VLOOKUP(Q99,Liste_B,3,FALSE)&\" pts - \"&VLOOKUP(Q99,Liste_B,4,FALSE))","v":""}]
[]
["Poule 25",null,null,null,null,"Poule 26",null,null,null,null,"Poule 27",null,null,null,null,"Poule 28"]
["Rang","Dossard","NOM    Prénom",null,null,"Rang","Dossard","NOM    Prénom",null,null,"Rang","Dossard","NOM    Prénom",null,null,"Rang","Dossard","NOM    Prénom"]
[null,null,"CLUB, LIGUE ou COMITE","Pts - Clt",null,null,null,"CLUB, LIGUE ou COMITE","Pts - Clt",null,null,null,"CLUB, LIGUE ou COMITE","Pts - Clt",null,null,null,"CLUB, LIGUE ou COMITE","Pts - Clt"]
["1er",{"$f":"IF(ISERROR(VLOOKUP(VALUE(RIGHT(A102,LEN(A102)-SEARCH(\" \",A102,1))&LEFT(A105,1)),'TS-201b'!$B$15:$E$144,4,FALSE)),\"\",VLOOKUP(VALUE(RIGHT(A102,LEN(A102)-SEARCH(\" \",A102,1))&LEFT(A105,1)),'TS-201b'!$B$15:$E$144,4,FALSE))","v":""},{"$f":"IF(B105=\"\",\"\",VLOOKUP(B105,Liste_B,2,FALSE))","v":""},null,null,"1er",{"$f":"IF(ISERROR(VLOOKUP(VALUE(RIGHT(F102,LEN(F102)-SEARCH(\" \",F102,1))&LEFT(F105,1)),'TS-201b'!$B$15:$E$144,4,FALSE)),\"\",VLOOKUP(VALUE(RIGHT(F102,LEN(F102)-SEARCH(\" \",F102,1))&LEFT(F105,1)),'TS-201b'!$B$15:$E$144,4,FALSE))","v":""},{"$f":"IF(G105=\"\",\"\",VLOOKUP(G105,Liste_B,2,FALSE))","v":""},null,null,"1er",{"$f":"IF(ISERROR(VLOOKUP(VALUE(RIGHT(K102,LEN(K102)-SEARCH(\" \",K102,1))&LEFT(K105,1)),'TS-201b'!$B$15:$E$144,4,FALSE)),\"\",VLOOKUP(VALUE(RIGHT(K102,LEN(K102)-SEARCH(\" \",K102,1))&LEFT(K105,1)),'TS-201b'!$B$15:$E$144,4,FALSE))","v":""},{"$f":"IF(L105=\"\",\"\",VLOOKUP(L105,Liste_B,2,FALSE))","v":""},null,null,"1er",{"$f":"IF(ISERROR(VLOOKUP(VALUE(RIGHT(P102,LEN(P102)-SEARCH(\" \",P102,1))&LEFT(P105,1)),'TS-201b'!$B$15:$E$144,4,FALSE)),\"\",VLOOKUP(VALUE(RIGHT(P102,LEN(P102)-SEARCH(\" \",P102,1))&LEFT(P105,1)),'TS-201b'!$B$15:$E$144,4,FALSE))","v":""},{"$f":"IF(Q105=\"\",\"\",VLOOKUP(Q105,Liste_B,2,FALSE))","v":""}]
[null,null,{"$f":"IF(B105=\"\",\"\",VLOOKUP(B105,Liste_B,6,FALSE))","v":""},{"$f":"IF(B105=\"\",\"\",VLOOKUP(B105,Liste_B,3,FALSE)&\" pts - \"&VLOOKUP(B105,Liste_B,4,FALSE))","v":""},null,null,null,{"$f":"IF(G105=\"\",\"\",VLOOKUP(G105,Liste_B,6,FALSE))","v":""},{"$f":"IF(G105=\"\",\"\",VLOOKUP(G105,Liste_B,3,FALSE)&\" pts - \"&VLOOKUP(G105,Liste_B,4,FALSE))","v":""},null,null,null,{"$f":"IF(L105=\"\",\"\",VLOOKUP(L105,Liste_B,6,FALSE))","v":""},{"$f":"IF(L105=\"\",\"\",VLOOKUP(L105,Liste_B,3,FALSE)&\" pts - \"&VLOOKUP(L105,Liste_B,4,FALSE))","v":""},null,null,null,{"$f":"IF(Q105=\"\",\"\",VLOOKUP(Q105,Liste_B,6,FALSE))","v":""},{"$f":"IF(Q105=\"\",\"\",VLOOKUP(Q105,Liste_B,3,FALSE)&\" pts - \"&VLOOKUP(Q105,Liste_B,4,FALSE))","v":""}]
["2ème",{"$f":"IF(ISERROR(VLOOKUP(VALUE(RIGHT(A102,LEN(A102)-SEARCH(\" \",A102,1))&LEFT(A107,1)),'TS-201b'!$B$15:$E$144,4,FALSE)),\"\",VLOOKUP(VALUE(RIGHT(A102,LEN(A102)-SEARCH(\" \",A102,1))&LEFT(A107,1)),'TS-201b'!$B$15:$E$144,4,FALSE))","v":""},{"$f":"IF(B107=\"\",\"\",VLOOKUP(B107,Liste_B,2,FALSE))","v":""},null,null,"2ème",{"$f":"IF(ISERROR(VLOOKUP(VALUE(RIGHT(F102,LEN(F102)-SEARCH(\" \",F102,1))&LEFT(F107,1)),'TS-201b'!$B$15:$E$144,4,FALSE)),\"\",VLOOKUP(VALUE(RIGHT(F102,LEN(F102)-SEARCH(\" \",F102,1))&LEFT(F107,1)),'TS-201b'!$B$15:$E$144,4,FALSE))","v":""},{"$f":"IF(G107=\"\",\"\",VLOOKUP(G107,Liste_B,2,FALSE))","v":""},null,null,"2ème",{"$f":"IF(ISERROR(VLOOKUP(VALUE(RIGHT(K102,LEN(K102)-SEARCH(\" \",K102,1))&LEFT(K107,1)),'TS-201b'!$B$15:$E$144,4,FALSE)),\"\",VLOOKUP(VALUE(RIGHT(K102,LEN(K102)-SEARCH(\" \",K102,1))&LEFT(K107,1)),'TS-201b'!$B$15:$E$144,4,FALSE))","v":""},{"$f":"IF(L107=\"\",\"\",VLOOKUP(L107,Liste_B,2,FALSE))","v":""},null,null,"2ème",{"$f":"IF(ISERROR(VLOOKUP(VALUE(RIGHT(P102,LEN(P102)-SEARCH(\" \",P102,1))&LEFT(P107,1)),'TS-201b'!$B$15:$E$144,4,FALSE)),\"\",VLOOKUP(VALUE(RIGHT(P102,LEN(P102)-SEARCH(\" \",P102,1))&LEFT(P107,1)),'TS-201b'!$B$15:$E$144,4,FALSE))","v":""},{"$f":"IF(Q107=\"\",\"\",VLOOKUP(Q107,Liste_B,2,FALSE))","v":""}]
[null,null,{"$f":"IF(B107=\"\",\"\",VLOOKUP(B107,Liste_B,6,FALSE))","v":""},{"$f":"IF(B107=\"\",\"\",VLOOKUP(B107,Liste_B,3,FALSE)&\" pts - \"&VLOOKUP(B107,Liste_B,4,FALSE))","v":""},null,null,null,{"$f":"IF(G107=\"\",\"\",VLOOKUP(G107,Liste_B,6,FALSE))","v":""},{"$f":"IF(G107=\"\",\"\",VLOOKUP(G107,Liste_B,3,FALSE)&\" pts - \"&VLOOKUP(G107,Liste_B,4,FALSE))","v":""},null,null,null,{"$f":"IF(L107=\"\",\"\",VLOOKUP(L107,Liste_B,6,FALSE))","v":""},{"$f":"IF(L107=\"\",\"\",VLOOKUP(L107,Liste_B,3,FALSE)&\" pts - \"&VLOOKUP(L107,Liste_B,4,FALSE))","v":""},null,null,null,{"$f":"IF(Q107=\"\",\"\",VLOOKUP(Q107,Liste_B,6,FALSE))","v":""},{"$f":"IF(Q107=\"\",\"\",VLOOKUP(Q107,Liste_B,3,FALSE)&\" pts - \"&VLOOKUP(Q107,Liste_B,4,FALSE))","v":""}]
["3ème",{"$f":"IF(ISERROR(VLOOKUP(VALUE(RIGHT(A102,LEN(A102)-SEARCH(\" \",A102,1))&LEFT(A109,1)),'TS-201b'!$B$15:$E$144,4,FALSE)),\"\",VLOOKUP(VALUE(RIGHT(A102,LEN(A102)-SEARCH(\" \",A102,1))&LEFT(A109,1)),'TS-201b'!$B$15:$E$144,4,FALSE))","v":""},{"$f":"IF(B109=\"\",\"\",VLOOKUP(B109,Liste_B,2,FALSE))","v":""},null,null,"3ème",{"$f":"IF(ISERROR(VLOOKUP(VALUE(RIGHT(F102,LEN(F102)-SEARCH(\" \",F102,1))&LEFT(F109,1)),'TS-201b'!$B$15:$E$144,4,FALSE)),\"\",VLOOKUP(VALUE(RIGHT(F102,LEN(F102)-SEARCH(\" \",F102,1))&LEFT(F109,1)),'TS-201b'!$B$15:$E$144,4,FALSE))","v":""},{"$f":"IF(G109=\"\",\"\",VLOOKUP(G109,Liste_B,2,FALSE))","v":""},null,null,"3ème",{"$f":"IF(ISERROR(VLOOKUP(VALUE(RIGHT(K102,LEN(K102)-SEARCH(\" \",K102,1))&LEFT(K109,1)),'TS-201b'!$B$15:$E$144,4,FALSE)),\"\",VLOOKUP(VALUE(RIGHT(K102,LEN(K102)-SEARCH(\" \",K102,1))&LEFT(K109,1)),'TS-201b'!$B$15:$E$144,4,FALSE))","v":""},{"$f":"IF(L109=\"\",\"\",VLOOKUP(L109,Liste_B,2,FALSE))","v":""},null,null,"3ème",{"$f":"IF(ISERROR(VLOOKUP(VALUE(RIGHT(P102,LEN(P102)-SEARCH(\" \",P102,1))&LEFT(P109,1)),'TS-201b'!$B$15:$E$144,4,FALSE)),\"\",VLOOKUP(VALUE(RIGHT(P102,LEN(P102)-SEARCH(\" \",P102,1))&LEFT(P109,1)),'TS-201b'!$B$15:$E$144,4,FALSE))","v":""},{"$f":"IF(Q109=\"\",\"\",VLOOKUP(Q109,Liste_B,2,FALSE))","v":""}]
[null,null,{"$f":"IF(B109=\"\",\"\",VLOOKUP(B109,Liste_B,6,FALSE))","v":""},{"$f":"IF(B109=\"\",\"\",VLOOKUP(B109,Liste_B,3,FALSE)&\" pts - \"&VLOOKUP(B109,Liste_B,4,FALSE))","v":""},null,null,null,{"$f":"IF(G109=\"\",\"\",VLOOKUP(G109,Liste_B,6,FALSE))","v":""},{"$f":"IF(G109=\"\",\"\",VLOOKUP(G109,Liste_B,3,FALSE)&\" pts - \"&VLOOKUP(G109,Liste_B,4,FALSE))","v":""},null,null,null,{"$f":"IF(L109=\"\",\"\",VLOOKUP(L109,Liste_B,6,FALSE))","v":""},{"$f":"IF(L109=\"\",\"\",VLOOKUP(L109,Liste_B,3,FALSE)&\" pts - \"&VLOOKUP(L109,Liste_B,4,FALSE))","v":""},null,null,null,{"$f":"IF(Q109=\"\",\"\",VLOOKUP(Q109,Liste_B,6,FALSE))","v":""},{"$f":"IF(Q109=\"\",\"\",VLOOKUP(Q109,Liste_B,3,FALSE)&\" pts - \"&VLOOKUP(Q109,Liste_B,4,FALSE))","v":""}]
["4ème",{"$f":"IF(ISERROR(VLOOKUP(VALUE(RIGHT(A102,LEN(A102)-SEARCH(\" \",A102,1))&LEFT(A111,1)),'TS-201b'!$B$15:$E$144,4,FALSE)),\"\",VLOOKUP(VALUE(RIGHT(A102,LEN(A102)-SEARCH(\" \",A102,1))&LEFT(A111,1)),'TS-201b'!$B$15:$E$144,4,FALSE))","v":""},{"$f":"IF(B111=\"\",\"\",VLOOKUP(B111,Liste_B,2,FALSE))","v":""},null,null,"4ème",{"$f":"IF(ISERROR(VLOOKUP(VALUE(RIGHT(F102,LEN(F102)-SEARCH(\" \",F102,1))&LEFT(F111,1)),'TS-201b'!$B$15:$E$144,4,FALSE)),\"\",VLOOKUP(VALUE(RIGHT(F102,LEN(F102)-SEARCH(\" \",F102,1))&LEFT(F111,1)),'TS-201b'!$B$15:$E$144,4,FALSE))","v":""},{"$f":"IF(G111=\"\",\"\",VLOOKUP(G111,Liste_B,2,FALSE))","v":""},null,null,"4ème",{"$f":"IF(ISERROR(VLOOKUP(VALUE(RIGHT(K102,LEN(K102)-SEARCH(\" \",K102,1))&LEFT(K111,1)),'TS-201b'!$B$15:$E$144,4,FALSE)),\"\",VLOOKUP(VALUE(RIGHT(K102,LEN(K102)-SEARCH(\" \",K102,1))&LEFT(K111,1)),'TS-201b'!$B$15:$E$144,4,FALSE))","v":""},{"$f":"IF(L111=\"\",\"\",VLOOKUP(L111,Liste_B,2,FALSE))","v":""},null,null,"4ème",{"$f":"IF(ISERROR(VLOOKUP(VALUE(RIGHT(P102,LEN(P102)-SEARCH(\" \",P102,1))&LEFT(P111,1)),'TS-201b'!$B$15:$E$144,4,FALSE)),\"\",VLOOKUP(VALUE(RIGHT(P102,LEN(P102)-SEARCH(\" \",P102,1))&LEFT(P111,1)),'TS-201b'!$B$15:$E$144,4,FALSE))","v":""},{"$f":"IF(Q111=\"\",\"\",VLOOKUP(Q111,Liste_B,2,FALSE))","v":""}]
[null,null,{"$f":"IF(B111=\"\",\"\",VLOOKUP(B111,Liste_B,6,FALSE))","v":""},{"$f":"IF(B111=\"\",\"\",VLOOKUP(B111,Liste_B,3,FALSE)&\" pts - \"&VLOOKUP(B111,Liste_B,4,FALSE))","v":""},null,null,null,{"$f":"IF(G111=\"\",\"\",VLOOKUP(G111,Liste_B,6,FALSE))","v":""},{"$f":"IF(G111=\"\",\"\",VLOOKUP(G111,Liste_B,3,FALSE)&\" pts - \"&VLOOKUP(G111,Liste_B,4,FALSE))","v":""},null,null,null,{"$f":"IF(L111=\"\",\"\",VLOOKUP(L111,Liste_B,6,FALSE))","v":""},{"$f":"IF(L111=\"\",\"\",VLOOKUP(L111,Liste_B,3,FALSE)&\" pts - \"&VLOOKUP(L111,Liste_B,4,FALSE))","v":""},null,null,null,{"$f":"IF(Q111=\"\",\"\",VLOOKUP(Q111,Liste_B,6,FALSE))","v":""},{"$f":"IF(Q111=\"\",\"\",VLOOKUP(Q111,Liste_B,3,FALSE)&\" pts - \"&VLOOKUP(Q111,Liste_B,4,FALSE))","v":""}]
["5ème",{"$f":"IF(ISERROR(VLOOKUP(VALUE(RIGHT(A102,LEN(A102)-SEARCH(\" \",A102,1))&LEFT(A113,1)),'TS-201b'!$B$15:$E$144,4,FALSE)),\"\",VLOOKUP(VALUE(RIGHT(A102,LEN(A102)-SEARCH(\" \",A102,1))&LEFT(A113,1)),'TS-201b'!$B$15:$E$144,4,FALSE))","v":""},{"$f":"IF(B113=\"\",\"\",VLOOKUP(B113,Liste_B,2,FALSE))","v":""},null,null,"5ème",{"$f":"IF(ISERROR(VLOOKUP(VALUE(RIGHT(F102,LEN(F102)-SEARCH(\" \",F102,1))&LEFT(F113,1)),'TS-201b'!$B$15:$E$144,4,FALSE)),\"\",VLOOKUP(VALUE(RIGHT(F102,LEN(F102)-SEARCH(\" \",F102,1))&LEFT(F113,1)),'TS-201b'!$B$15:$E$144,4,FALSE))","v":""},{"$f":"IF(G113=\"\",\"\",VLOOKUP(G113,Liste_B,2,FALSE))","v":""},null,null,"5ème",{"$f":"IF(ISERROR(VLOOKUP(VALUE(RIGHT(K102,LEN(K102)-SEARCH(\" \",K102,1))&LEFT(K113,1)),'TS-201b'!$B$15:$E$144,4,FALSE)),\"\",VLOOKUP(VALUE(RIGHT(K102,LEN(K102)-SEARCH(\" \",K102,1))&LEFT(K113,1)),'TS-201b'!$B$15:$E$144,4,FALSE))","v":""},{"$f":"IF(L113=\"\",\"\",VLOOKUP(L113,Liste_B,2,FALSE))","v":""},null,null,"5ème",{"$f":"IF(ISERROR(VLOOKUP(VALUE(RIGHT(P102,LEN(P102)-SEARCH(\" \",P102,1))&LEFT(P113,1)),'TS-201b'!$B$15:$E$144,4,FALSE)),\"\",VLOOKUP(VALUE(RIGHT(P102,LEN(P102)-SEARCH(\" \",P102,1))&LEFT(P113,1)),'TS-201b'!$B$15:$E$144,4,FALSE))","v":""},{"$f":"IF(Q113=\"\",\"\",VLOOKUP(Q113,Liste_B,2,FALSE))","v":""}]
[null,null,{"$f":"IF(B113=\"\",\"\",VLOOKUP(B113,Liste_B,6,FALSE))","v":""},{"$f":"IF(B113=\"\",\"\",VLOOKUP(B113,Liste_B,3,FALSE)&\" pts - \"&VLOOKUP(B113,Liste_B,4,FALSE))","v":""},null,null,null,{"$f":"IF(G113=\"\",\"\",VLOOKUP(G113,Liste_B,6,FALSE))","v":""},{"$f":"IF(G113=\"\",\"\",VLOOKUP(G113,Liste_B,3,FALSE)&\" pts - \"&VLOOKUP(G113,Liste_B,4,FALSE))","v":""},null,null,null,{"$f":"IF(L113=\"\",\"\",VLOOKUP(L113,Liste_B,6,FALSE))","v":""},{"$f":"IF(L113=\"\",\"\",VLOOKUP(L113,Liste_B,3,FALSE)&\" pts - \"&VLOOKUP(L113,Liste_B,4,FALSE))","v":""},null,null,null,{"$f":"IF(Q113=\"\",\"\",VLOOKUP(Q113,Liste_B,6,FALSE))","v":""},{"$f":"IF(Q113=\"\",\"\",VLOOKUP(Q113,Liste_B,3,FALSE)&\" pts - \"&VLOOKUP(Q113,Liste_B,4,FALSE))","v":""}]
["6ème",{"$f":"IF(ISERROR(VLOOKUP(VALUE(RIGHT(A102,LEN(A102)-SEARCH(\" \",A102,1))&LEFT(A115,1)),'TS-201b'!$B$15:$E$144,4,FALSE)),\"\",VLOOKUP(VALUE(RIGHT(A102,LEN(A102)-SEARCH(\" \",A102,1))&LEFT(A115,1)),'TS-201b'!$B$15:$E$144,4,FALSE))","v":""},{"$f":"IF(B115=\"\",\"\",VLOOKUP(B115,Liste_B,2,FALSE))","v":""},null,null,"6ème",{"$f":"IF(ISERROR(VLOOKUP(VALUE(RIGHT(F102,LEN(F102)-SEARCH(\" \",F102,1))&LEFT(F115,1)),'TS-201b'!$B$15:$E$144,4,FALSE)),\"\",VLOOKUP(VALUE(RIGHT(F102,LEN(F102)-SEARCH(\" \",F102,1))&LEFT(F115,1)),'TS-201b'!$B$15:$E$144,4,FALSE))","v":""},{"$f":"IF(G115=\"\",\"\",VLOOKUP(G115,Liste_B,2,FALSE))","v":""},null,null,"6ème",{"$f":"IF(ISERROR(VLOOKUP(VALUE(RIGHT(K102,LEN(K102)-SEARCH(\" \",K102,1))&LEFT(K115,1)),'TS-201b'!$B$15:$E$144,4,FALSE)),\"\",VLOOKUP(VALUE(RIGHT(K102,LEN(K102)-SEARCH(\" \",K102,1))&LEFT(K115,1)),'TS-201b'!$B$15:$E$144,4,FALSE))","v":""},{"$f":"IF(L115=\"\",\"\",VLOOKUP(L115,Liste_B,2,FALSE))","v":""},null,null,"6ème",{"$f":"IF(ISERROR(VLOOKUP(VALUE(RIGHT(P102,LEN(P102)-SEARCH(\" \",P102,1))&LEFT(P115,1)),'TS-201b'!$B$15:$E$144,4,FALSE)),\"\",VLOOKUP(VALUE(RIGHT(P102,LEN(P102)-SEARCH(\" \",P102,1))&LEFT(P115,1)),'TS-201b'!$B$15:$E$144,4,FALSE))","v":""},{"$f":"IF(Q115=\"\",\"\",VLOOKUP(Q115,Liste_B,2,FALSE))","v":""}]
[null,null,{"$f":"IF(B115=\"\",\"\",VLOOKUP(B115,Liste_B,6,FALSE))","v":""},{"$f":"IF(B115=\"\",\"\",VLOOKUP(B115,Liste_B,3,FALSE)&\" pts - \"&VLOOKUP(B115,Liste_B,4,FALSE))","v":""},null,null,null,{"$f":"IF(G115=\"\",\"\",VLOOKUP(G115,Liste_B,6,FALSE))","v":""},{"$f":"IF(G115=\"\",\"\",VLOOKUP(G115,Liste_B,3,FALSE)&\" pts - \"&VLOOKUP(G115,Liste_B,4,FALSE))","v":""},null,null,null,{"$f":"IF(L115=\"\",\"\",VLOOKUP(L115,Liste_B,6,FALSE))","v":""},{"$f":"IF(L115=\"\",\"\",VLOOKUP(L115,Liste_B,3,FALSE)&\" pts - \"&VLOOKUP(L115,Liste_B,4,FALSE))","v":""},null,null,null,{"$f":"IF(Q115=\"\",\"\",VLOOKUP(Q115,Liste_B,6,FALSE))","v":""},{"$f":"IF(Q115=\"\",\"\",VLOOKUP(Q115,Liste_B,3,FALSE)&\" pts - \"&VLOOKUP(Q115,Liste_B,4,FALSE))","v":""}]
[]
["Poule 29",null,null,null,null,"Poule 30",null,null,null,null,"Poule 31",null,null,null,null,"Poule 32"]
["Rang","Dossard","NOM    Prénom",null,null,"Rang","Dossard","NOM    Prénom",null,null,"Rang","Dossard","NOM    Prénom",null,null,"Rang","Dossard","NOM    Prénom"]
[null,null,"CLUB, LIGUE ou COMITE","Pts - Clt",null,null,null,"CLUB, LIGUE ou COMITE","Pts - Clt",null,null,null,"CLUB, LIGUE ou COMITE","Pts - Clt",null,null,null,"CLUB, LIGUE ou COMITE","Pts - Clt"]
["1er",{"$f":"IF(ISERROR(VLOOKUP(VALUE(RIGHT(A118,LEN(A118)-SEARCH(\" \",A118,1))&LEFT(A121,1)),'TS-201b'!$B$15:$E$144,4,FALSE)),\"\",VLOOKUP(VALUE(RIGHT(A118,LEN(A118)-SEARCH(\" \",A118,1))&LEFT(A121,1)),'TS-201b'!$B$15:$E$144,4,FALSE))","v":""},{"$f":"IF(B121=\"\",\"\",VLOOKUP(B121,Liste_B,2,FALSE))","v":""},null,null,"1er",{"$f":"IF(ISERROR(VLOOKUP(VALUE(RIGHT(F118,LEN(F118)-SEARCH(\" \",F118,1))&LEFT(F121,1)),'TS-201b'!$B$15:$E$144,4,FALSE)),\"\",VLOOKUP(VALUE(RIGHT(F118,LEN(F118)-SEARCH(\" \",F118,1))&LEFT(F121,1)),'TS-201b'!$B$15:$E$144,4,FALSE))","v":""},{"$f":"IF(G121=\"\",\"\",VLOOKUP(G121,Liste_B,2,FALSE))","v":""},null,null,"1er",{"$f":"IF(ISERROR(VLOOKUP(VALUE(RIGHT(K118,LEN(K118)-SEARCH(\" \",K118,1))&LEFT(K121,1)),'TS-201b'!$B$15:$E$144,4,FALSE)),\"\",VLOOKUP(VALUE(RIGHT(K118,LEN(K118)-SEARCH(\" \",K118,1))&LEFT(K121,1)),'TS-201b'!$B$15:$E$144,4,FALSE))","v":""},{"$f":"IF(L121=\"\",\"\",VLOOKUP(L121,Liste_B,2,FALSE))","v":""},null,null,"1er",{"$f":"IF(ISERROR(VLOOKUP(VALUE(RIGHT(P118,LEN(P118)-SEARCH(\" \",P118,1))&LEFT(P121,1)),'TS-201b'!$B$15:$E$144,4,FALSE)),\"\",VLOOKUP(VALUE(RIGHT(P118,LEN(P118)-SEARCH(\" \",P118,1))&LEFT(P121,1)),'TS-201b'!$B$15:$E$144,4,FALSE))","v":""},{"$f":"IF(Q121=\"\",\"\",VLOOKUP(Q121,Liste_B,2,FALSE))","v":""}]
[null,null,{"$f":"IF(B121=\"\",\"\",VLOOKUP(B121,Liste_B,6,FALSE))","v":""},{"$f":"IF(B121=\"\",\"\",VLOOKUP(B121,Liste_B,3,FALSE)&\" pts - \"&VLOOKUP(B121,Liste_B,4,FALSE))","v":""},null,null,null,{"$f":"IF(G121=\"\",\"\",VLOOKUP(G121,Liste_B,6,FALSE))","v":""},{"$f":"IF(G121=\"\",\"\",VLOOKUP(G121,Liste_B,3,FALSE)&\" pts - \"&VLOOKUP(G121,Liste_B,4,FALSE))","v":""},null,null,null,{"$f":"IF(L121=\"\",\"\",VLOOKUP(L121,Liste_B,6,FALSE))","v":""},{"$f":"IF(L121=\"\",\"\",VLOOKUP(L121,Liste_B,3,FALSE)&\" pts - \"&VLOOKUP(L121,Liste_B,4,FALSE))","v":""},null,null,null,{"$f":"IF(Q121=\"\",\"\",VLOOKUP(Q121,Liste_B,6,FALSE))","v":""},{"$f":"IF(Q121=\"\",\"\",VLOOKUP(Q121,Liste_B,3,FALSE)&\" pts - \"&VLOOKUP(Q121,Liste_B,4,FALSE))","v":""}]
["2ème",{"$f":"IF(ISERROR(VLOOKUP(VALUE(RIGHT(A118,LEN(A118)-SEARCH(\" \",A118,1))&LEFT(A123,1)),'TS-201b'!$B$15:$E$144,4,FALSE)),\"\",VLOOKUP(VALUE(RIGHT(A118,LEN(A118)-SEARCH(\" \",A118,1))&LEFT(A123,1)),'TS-201b'!$B$15:$E$144,4,FALSE))","v":""},{"$f":"IF(B123=\"\",\"\",VLOOKUP(B123,Liste_B,2,FALSE))","v":""},null,null,"2ème",{"$f":"IF(ISERROR(VLOOKUP(VALUE(RIGHT(F118,LEN(F118)-SEARCH(\" \",F118,1))&LEFT(F123,1)),'TS-201b'!$B$15:$E$144,4,FALSE)),\"\",VLOOKUP(VALUE(RIGHT(F118,LEN(F118)-SEARCH(\" \",F118,1))&LEFT(F123,1)),'TS-201b'!$B$15:$E$144,4,FALSE))","v":""},{"$f":"IF(G123=\"\",\"\",VLOOKUP(G123,Liste_B,2,FALSE))","v":""},null,null,"2ème",{"$f":"IF(ISERROR(VLOOKUP(VALUE(RIGHT(K118,LEN(K118)-SEARCH(\" \",K118,1))&LEFT(K123,1)),'TS-201b'!$B$15:$E$144,4,FALSE)),\"\",VLOOKUP(VALUE(RIGHT(K118,LEN(K118)-SEARCH(\" \",K118,1))&LEFT(K123,1)),'TS-201b'!$B$15:$E$144,4,FALSE))","v":""},{"$f":"IF(L123=\"\",\"\",VLOOKUP(L123,Liste_B,2,FALSE))","v":""},null,null,"2ème",{"$f":"IF(ISERROR(VLOOKUP(VALUE(RIGHT(P118,LEN(P118)-SEARCH(\" \",P118,1))&LEFT(P123,1)),'TS-201b'!$B$15:$E$144,4,FALSE)),\"\",VLOOKUP(VALUE(RIGHT(P118,LEN(P118)-SEARCH(\" \",P118,1))&LEFT(P123,1)),'TS-201b'!$B$15:$E$144,4,FALSE))","v":""},{"$f":"IF(Q123=\"\",\"\",VLOOKUP(Q123,Liste_B,2,FALSE))","v":""}]
[null,null,{"$f":"IF(B123=\"\",\"\",VLOOKUP(B123,Liste_B,6,FALSE))","v":""},{"$f":"IF(B123=\"\",\"\",VLOOKUP(B123,Liste_B,3,FALSE)&\" pts - \"&VLOOKUP(B123,Liste_B,4,FALSE))","v":""},null,null,null,{"$f":"IF(G123=\"\",\"\",VLOOKUP(G123,Liste_B,6,FALSE))","v":""},{"$f":"IF(G123=\"\",\"\",VLOOKUP(G123,Liste_B,3,FALSE)&\" pts - \"&VLOOKUP(G123,Liste_B,4,FALSE))","v":""},null,null,null,{"$f":"IF(L123=\"\",\"\",VLOOKUP(L123,Liste_B,6,FALSE))","v":""},{"$f":"IF(L123=\"\",\"\",VLOOKUP(L123,Liste_B,3,FALSE)&\" pts - \"&VLOOKUP(L123,Liste_B,4,FALSE))","v":""},null,null,null,{"$f":"IF(Q123=\"\",\"\",VLOOKUP(Q123,Liste_B,6,FALSE))","v":""},{"$f":"IF(Q123=\"\",\"\",VLOOKUP(Q123,Liste_B,3,FALSE)&\" pts - \"&VLOOKUP(Q123,Liste_B,4,FALSE))","v":""}]
["3ème",{"$f":"IF(ISERROR(VLOOKUP(VALUE(RIGHT(A118,LEN(A118)-SEARCH(\" \",A118,1))&LEFT(A125,1)),'TS-201b'!$B$15:$E$144,4,FALSE)),\"\",VLOOKUP(VALUE(RIGHT(A118,LEN(A118)-SEARCH(\" \",A118,1))&LEFT(A125,1)),'TS-201b'!$B$15:$E$144,4,FALSE))","v":""},{"$f":"IF(B125=\"\",\"\",VLOOKUP(B125,Liste_B,2,FALSE))","v":""},null,null,"3ème",{"$f":"IF(ISERROR(VLOOKUP(VALUE(RIGHT(F118,LEN(F118)-SEARCH(\" \",F118,1))&LEFT(F125,1)),'TS-201b'!$B$15:$E$144,4,FALSE)),\"\",VLOOKUP(VALUE(RIGHT(F118,LEN(F118)-SEARCH(\" \",F118,1))&LEFT(F125,1)),'TS-201b'!$B$15:$E$144,4,FALSE))","v":""},{"$f":"IF(G125=\"\",\"\",VLOOKUP(G125,Liste_B,2,FALSE))","v":""},null,null,"3ème",{"$f":"IF(ISERROR(VLOOKUP(VALUE(RIGHT(K118,LEN(K118)-SEARCH(\" \",K118,1))&LEFT(K125,1)),'TS-201b'!$B$15:$E$144,4,FALSE)),\"\",VLOOKUP(VALUE(RIGHT(K118,LEN(K118)-SEARCH(\" \",K118,1))&LEFT(K125,1)),'TS-201b'!$B$15:$E$144,4,FALSE))","v":""},{"$f":"IF(L125=\"\",\"\",VLOOKUP(L125,Liste_B,2,FALSE))","v":""},null,null,"3ème",{"$f":"IF(ISERROR(VLOOKUP(VALUE(RIGHT(P118,LEN(P118)-SEARCH(\" \",P118,1))&LEFT(P125,1)),'TS-201b'!$B$15:$E$144,4,FALSE)),\"\",VLOOKUP(VALUE(RIGHT(P118,LEN(P118)-SEARCH(\" \",P118,1))&LEFT(P125,1)),'TS-201b'!$B$15:$E$144,4,FALSE))","v":""},{"$f":"IF(Q125=\"\",\"\",VLOOKUP(Q125,Liste_B,2,FALSE))","v":""}]
[null,null,{"$f":"IF(B125=\"\",\"\",VLOOKUP(B125,Liste_B,6,FALSE))","v":""},{"$f":"IF(B125=\"\",\"\",VLOOKUP(B125,Liste_B,3,FALSE)&\" pts - \"&VLOOKUP(B125,Liste_B,4,FALSE))","v":""},null,null,null,{"$f":"IF(G125=\"\",\"\",VLOOKUP(G125,Liste_B,6,FALSE))","v":""},{"$f":"IF(G125=\"\",\"\",VLOOKUP(G125,Liste_B,3,FALSE)&\" pts - \"&VLOOKUP(G125,Liste_B,4,FALSE))","v":""},null,null,null,{"$f":"IF(L125=\"\",\"\",VLOOKUP(L125,Liste_B,6,FALSE))","v":""},{"$f":"IF(L125=\"\",\"\",VLOOKUP(L125,Liste_B,3,FALSE)&\" pts - \"&VLOOKUP(L125,Liste_B,4,FALSE))","v":""},null,null,null,{"$f":"IF(Q125=\"\",\"\",VLOOKUP(Q125,Liste_B,6,FALSE))","v":""},{"$f":"IF(Q125=\"\",\"\",VLOOKUP(Q125,Liste_B,3,FALSE)&\" pts - \"&VLOOKUP(Q125,Liste_B,4,FALSE))","v":""}]
["4ème",{"$f":"IF(ISERROR(VLOOKUP(VALUE(RIGHT(A118,LEN(A118)-SEARCH(\" \",A118,1))&LEFT(A127,1)),'TS-201b'!$B$15:$E$144,4,FALSE)),\"\",VLOOKUP(VALUE(RIGHT(A118,LEN(A118)-SEARCH(\" \",A118,1))&LEFT(A127,1)),'TS-201b'!$B$15:$E$144,4,FALSE))","v":""},{"$f":"IF(B127=\"\",\"\",VLOOKUP(B127,Liste_B,2,FALSE))","v":""},null,null,"4ème",{"$f":"IF(ISERROR(VLOOKUP(VALUE(RIGHT(F118,LEN(F118)-SEARCH(\" \",F118,1))&LEFT(F127,1)),'TS-201b'!$B$15:$E$144,4,FALSE)),\"\",VLOOKUP(VALUE(RIGHT(F118,LEN(F118)-SEARCH(\" \",F118,1))&LEFT(F127,1)),'TS-201b'!$B$15:$E$144,4,FALSE))","v":""},{"$f":"IF(G127=\"\",\"\",VLOOKUP(G127,Liste_B,2,FALSE))","v":""},null,null,"4ème",{"$f":"IF(ISERROR(VLOOKUP(VALUE(RIGHT(K118,LEN(K118)-SEARCH(\" \",K118,1))&LEFT(K127,1)),'TS-201b'!$B$15:$E$144,4,FALSE)),\"\",VLOOKUP(VALUE(RIGHT(K118,LEN(K118)-SEARCH(\" \",K118,1))&LEFT(K127,1)),'TS-201b'!$B$15:$E$144,4,FALSE))","v":""},{"$f":"IF(L127=\"\",\"\",VLOOKUP(L127,Liste_B,2,FALSE))","v":""},null,null,"4ème",{"$f":"IF(ISERROR(VLOOKUP(VALUE(RIGHT(P118,LEN(P118)-SEARCH(\" \",P118,1))&LEFT(P127,1)),'TS-201b'!$B$15:$E$144,4,FALSE)),\"\",VLOOKUP(VALUE(RIGHT(P118,LEN(P118)-SEARCH(\" \",P118,1))&LEFT(P127,1)),'TS-201b'!$B$15:$E$144,4,FALSE))","v":""},{"$f":"IF(Q127=\"\",\"\",VLOOKUP(Q127,Liste_B,2,FALSE))","v":""}]
[null,null,{"$f":"IF(B127=\"\",\"\",VLOOKUP(B127,Liste_B,6,FALSE))","v":""},{"$f":"IF(B127=\"\",\"\",VLOOKUP(B127,Liste_B,3,FALSE)&\" pts - \"&VLOOKUP(B127,Liste_B,4,FALSE))","v":""},null,null,null,{"$f":"IF(G127=\"\",\"\",VLOOKUP(G127,Liste_B,6,FALSE))","v":""},{"$f":"IF(G127=\"\",\"\",VLOOKUP(G127,Liste_B,3,FALSE)&\" pts - \"&VLOOKUP(G127,Liste_B,4,FALSE))","v":""},null,null,null,{"$f":"IF(L127=\"\",\"\",VLOOKUP(L127,Liste_B,6,FALSE))","v":""},{"$f":"IF(L127=\"\",\"\",VLOOKUP(L127,Liste_B,3,FALSE)&\" pts - \"&VLOOKUP(L127,Liste_B,4,FALSE))","v":""},null,null,null,{"$f":"IF(Q127=\"\",\"\",VLOOKUP(Q127,Liste_B,6,FALSE))","v":""},{"$f":"IF(Q127=\"\",\"\",VLOOKUP(Q127,Liste_B,3,FALSE)&\" pts - \"&VLOOKUP(Q127,Liste_B,4,FALSE))","v":""}]
["5ème",{"$f":"IF(ISERROR(VLOOKUP(VALUE(RIGHT(A118,LEN(A118)-SEARCH(\" \",A118,1))&LEFT(A129,1)),'TS-201b'!$B$15:$E$144,4,FALSE)),\"\",VLOOKUP(VALUE(RIGHT(A118,LEN(A118)-SEARCH(\" \",A118,1))&LEFT(A129,1)),'TS-201b'!$B$15:$E$144,4,FALSE))","v":""},{"$f":"IF(B129=\"\",\"\",VLOOKUP(B129,Liste_B,2,FALSE))","v":""},null,null,"5ème",{"$f":"IF(ISERROR(VLOOKUP(VALUE(RIGHT(F118,LEN(F118)-SEARCH(\" \",F118,1))&LEFT(F129,1)),'TS-201b'!$B$15:$E$144,4,FALSE)),\"\",VLOOKUP(VALUE(RIGHT(F118,LEN(F118)-SEARCH(\" \",F118,1))&LEFT(F129,1)),'TS-201b'!$B$15:$E$144,4,FALSE))","v":""},{"$f":"IF(G129=\"\",\"\",VLOOKUP(G129,Liste_B,2,FALSE))","v":""},null,null,"5ème",{"$f":"IF(ISERROR(VLOOKUP(VALUE(RIGHT(K118,LEN(K118)-SEARCH(\" \",K118,1))&LEFT(K129,1)),'TS-201b'!$B$15:$E$144,4,FALSE)),\"\",VLOOKUP(VALUE(RIGHT(K118,LEN(K118)-SEARCH(\" \",K118,1))&LEFT(K129,1)),'TS-201b'!$B$15:$E$144,4,FALSE))","v":""},{"$f":"IF(L129=\"\",\"\",VLOOKUP(L129,Liste_B,2,FALSE))","v":""},null,null,"5ème",{"$f":"IF(ISERROR(VLOOKUP(VALUE(RIGHT(P118,LEN(P118)-SEARCH(\" \",P118,1))&LEFT(P129,1)),'TS-201b'!$B$15:$E$144,4,FALSE)),\"\",VLOOKUP(VALUE(RIGHT(P118,LEN(P118)-SEARCH(\" \",P118,1))&LEFT(P129,1)),'TS-201b'!$B$15:$E$144,4,FALSE))","v":""},{"$f":"IF(Q129=\"\",\"\",VLOOKUP(Q129,Liste_B,2,FALSE))","v":""}]
[null,null,{"$f":"IF(B129=\"\",\"\",VLOOKUP(B129,Liste_B,6,FALSE))","v":""},{"$f":"IF(B129=\"\",\"\",VLOOKUP(B129,Liste_B,3,FALSE)&\" pts - \"&VLOOKUP(B129,Liste_B,4,FALSE))","v":""},null,null,null,{"$f":"IF(G129=\"\",\"\",VLOOKUP(G129,Liste_B,6,FALSE))","v":""},{"$f":"IF(G129=\"\",\"\",VLOOKUP(G129,Liste_B,3,FALSE)&\" pts - \"&VLOOKUP(G129,Liste_B,4,FALSE))","v":""},null,null,null,{"$f":"IF(L129=\"\",\"\",VLOOKUP(L129,Liste_B,6,FALSE))","v":""},{"$f":"IF(L129=\"\",\"\",VLOOKUP(L129,Liste_B,3,FALSE)&\" pts - \"&VLOOKUP(L129,Liste_B,4,FALSE))","v":""},null,null,null,{"$f":"IF(Q129=\"\",\"\",VLOOKUP(Q129,Liste_B,6,FALSE))","v":""},{"$f":"IF(Q129=\"\",\"\",VLOOKUP(Q129,Liste_B,3,FALSE)&\" pts - \"&VLOOKUP(Q129,Liste_B,4,FALSE))","v":""}]
["6ème",{"$f":"IF(ISERROR(VLOOKUP(VALUE(RIGHT(A118,LEN(A118)-SEARCH(\" \",A118,1))&LEFT(A131,1)),'TS-201b'!$B$15:$E$144,4,FALSE)),\"\",VLOOKUP(VALUE(RIGHT(A118,LEN(A118)-SEARCH(\" \",A118,1))&LEFT(A131,1)),'TS-201b'!$B$15:$E$144,4,FALSE))","v":""},{"$f":"IF(B131=\"\",\"\",VLOOKUP(B131,Liste_B,2,FALSE))","v":""},null,null,"6ème",{"$f":"IF(ISERROR(VLOOKUP(VALUE(RIGHT(F118,LEN(F118)-SEARCH(\" \",F118,1))&LEFT(F131,1)),'TS-201b'!$B$15:$E$144,4,FALSE)),\"\",VLOOKUP(VALUE(RIGHT(F118,LEN(F118)-SEARCH(\" \",F118,1))&LEFT(F131,1)),'TS-201b'!$B$15:$E$144,4,FALSE))","v":""},{"$f":"IF(G131=\"\",\"\",VLOOKUP(G131,Liste_B,2,FALSE))","v":""},null,null,"6ème",{"$f":"IF(ISERROR(VLOOKUP(VALUE(RIGHT(K118,LEN(K118)-SEARCH(\" \",K118,1))&LEFT(K131,1)),'TS-201b'!$B$15:$E$144,4,FALSE)),\"\",VLOOKUP(VALUE(RIGHT(K118,LEN(K118)-SEARCH(\" \",K118,1))&LEFT(K131,1)),'TS-201b'!$B$15:$E$144,4,FALSE))","v":""},{"$f":"IF(L131=\"\",\"\",VLOOKUP(L131,Liste_B,2,FALSE))","v":""},null,null,"6ème",{"$f":"IF(ISERROR(VLOOKUP(VALUE(RIGHT(P118,LEN(P118)-SEARCH(\" \",P118,1))&LEFT(P131,1)),'TS-201b'!$B$15:$E$144,4,FALSE)),\"\",VLOOKUP(VALUE(RIGHT(P118,LEN(P118)-SEARCH(\" \",P118,1))&LEFT(P131,1)),'TS-201b'!$B$15:$E$144,4,FALSE))","v":""},{"$f":"IF(Q131=\"\",\"\",VLOOKUP(Q131,Liste_B,2,FALSE))","v":""}]
[null,null,{"$f":"IF(B131=\"\",\"\",VLOOKUP(B131,Liste_B,6,FALSE))","v":""},{"$f":"IF(B131=\"\",\"\",VLOOKUP(B131,Liste_B,3,FALSE)&\" pts - \"&VLOOKUP(B131,Liste_B,4,FALSE))","v":""},null,null,null,{"$f":"IF(G131=\"\",\"\",VLOOKUP(G131,Liste_B,6,FALSE))","v":""},{"$f":"IF(G131=\"\",\"\",VLOOKUP(G131,Liste_B,3,FALSE)&\" pts - \"&VLOOKUP(G131,Liste_B,4,FALSE))","v":""},null,null,null,{"$f":"IF(L131=\"\",\"\",VLOOKUP(L131,Liste_B,6,FALSE))","v":""},{"$f":"IF(L131=\"\",\"\",VLOOKUP(L131,Liste_B,3,FALSE)&\" pts - \"&VLOOKUP(L131,Liste_B,4,FALSE))","v":""},null,null,null,{"$f":"IF(Q131=\"\",\"\",VLOOKUP(Q131,Liste_B,6,FALSE))","v":""},{"$f":"IF(Q131=\"\",\"\",VLOOKUP(Q131,Liste_B,3,FALSE)&\" pts - \"&VLOOKUP(Q131,Liste_B,4,FALSE))","v":""}]

{"sheet":"TS-208a","index":6,"n_rows":135,"n_cols":68,"rows_kept":135,"cut":false,"hidden":false,"merged":[[29,3,30,3],[29,0,30,0],[14,4,15,4],[16,4,17,4],[18,4,19,4],[20,4,21,4],[23,4,24,4],[25,4,26,4],[27,4,28,4],[29,4,30,4],[14,0,15,0],[18,3,19,3],[20,3,21,3],[23,3,24,3],[25,3,26,3],[27,3,28,3],[7,5,7,9],[18,0,19,0],[23,0,24,0],[27,0,28,0],[16,0,17,0],[20,0,21,0],[25,0,26,0],[14,1,15,1],[14,3,15,3],[16,3,17,3],[25,1,26,1],[12,12,13,12],[0,63,67,63],[0,68,67,68],[12,32,12,50],[13,48,13,50],[14,48,15,48],[14,49,14,50],[3,0,5,29],[7,16,7,27],[8,16,8,27],[29,1,30,1],[23,1,24,1],[20,1,21,1],[18,1,19,1],[27,1,28,1],[16,1,17,1]]}
[{"$f":"\"Epreuve  : \"&'TS-200'!$C$1","v":"Epreuve  : Critérium Fédéral"},null,null,null,null,null,null,null,null,null,null,null,null,null,null,null,null,null,null,null,null,null,null,null,null,null,null,null,null,{"$f":"\"Lieu : \"&'TS-200'!$C$2","v":"Lieu : Pont à Mousson"}]
[{"$f":"\"Tableau : \"&'TS-200'!$C$4","v":"Tableau :  "},null,null,null,null,null,null,null,null,null,null,null,null,null,null,null,null,null,null,null,null,null,null,null,null,null,null,null,null,{"$f":"\"Date : \"&'TS-200'!$C$3","v":"Date : 15 au 17 mars 2019"}]
[]
["TABLEAU DE TIRAGE AU SORT\n8 JOUEURS\n4 poules - 2 qualifiés",null,null,null,null,null,null,null,null,null,null,null,null,null,null,null,null,null,null,null,null,null,null,null,null,null,null,null,null,null,null,null,null,null,null,null,null,null,null,null,null,null,null,null,null,null,null,null,null,null,null,null,null,null,null,null,null,null,null,null,null,null,null,null,1,"H","H","B"]
[null,null,null,null,null,null,null,null,null,null,null,null,null,null,null,null,null,null,null,null,null,null,null,null,null,null,null,null,null,null,null,null,null,null,null,null,null,null,null,null,null,null,null,null,null,null,null,null,null,null,null,null,null,null,null,null,null,null,null,null,null,null,null,null,2,"H","H","B"]
[null,null,null,null,null,null,null,null,null,null,null,null,null,null,null,null,null,null,null,null,null,null,null,null,null,null,null,null,null,null,null,null,null,null,null,null,null,null,null,null,null,null,null,null,null,null,null,null,null,null,null,null,null,null,null,null,null,null,null,null,null,null,null,null,3,"H","B","B"]
[null,null,null,null,null,null,null,null,null,null,null,null,null,null,null,null,null,null,null,null,null,null,null,null,null,null,null,null,null,null,null,null,null,null,null,null,null,null,null,null,null,null,null,null,null,null,null,null,null,null,null,null,null,null,null,null,null,null,null,null,null,null,null,null,4,"H","B","B"]
["Critère d'appartenance pour la mise en tableau",null,null,null,null,"Club",null,null,null,null,null,null,null,null,null,null,"Club, Comité ou Ligue (tiré au sort)",null,null,null,null,null,null,null,null,null,null,null,"ST PAIR BRICQUE",null,null,null,null,null,null,null,null,null,null,null,null,null,null,null,null,null,null,null,null,null,null,null,null,null,null,null,null,null,null,null,null,null,null,null,5,"B","H","H"]
[null,null,null,null,"Club",null,null,null,null,null,null,null,null,null,null,null,"Partie du tableau tirée au sort (H=Haut, B=Bas)",null,null,null,null,null,null,null,null,null,null,null,"B","H ou B",null,null,null,null,null,null,null,null,null,null,null,null,null,null,null,null,null,null,null,null,null,null,null,null,null,null,null,null,null,null,null,null,null,null,6,"B","H","H"]
[{"$f":"IF(F8=\"Club\",10,IF(F8=\"Ligue\",11,IF(F8=\"Comité\",12,10)))","v":10},null,null,null,"Ligue",null,null,null,null,null,null,null,null,null,null,null,null,null,null,null,null,null,null,null,null,null,null,null,null,"H",null,null,"Position"," ",null,null,null,null,null,null,null,null,null,null,null,null,null,null,0,"H","B"]
[null,null,null,null,"Comité",null,null,null,null,null,null,null,null,null,null,null,null,null,null,null,null,null,null,null,null,null,null,null,null,"B",null,null,"N° colonne TCD","H",null,null,null,null,null,null,null,null,null,null,null,null,null,null,{"$f":"MATCH(AW10,$AG$15:$AV$15,0)","v":{"$error":"#N/A"}},{"$f":"MATCH(AX10,$AG$15:$AV$15,0)","v":2},{"$f":"MATCH(AY10,$AG$15:$AV$15,0)","v":5},null,null,null,null,null,null,null,null,null,null,null,null,null,49,"H","H","B"]
[null,null,null,null,null,null,null,null,null,null,null,null,null,null,null,null,null,null,null,null,null,null,null,null,null,null,null,null,null,null,null,null,null,"B",null,null,null,null,null,null,null,null,null,null,null,null,null,null,null,null,null,null,null,null,null,null,null,null,null,null,null,null,null,null,7,"B","B","H"]
[null,null,null,null,null,null,null,null,null,null,null,null,"N° Dis.",null,null,"1er de poule",null,null,null,null,null,null,null,null,null,null,null,null,null,null,null,null,"NB JOUEUR / CLUB",null,null,null,null,null,null,null,null,null,null,null,null,null,null,null,null,null,null,null,null,null,null,null,null,null,null,null,null,null,null,null,8,"B","B","H"]
[null,null,null,null,null,null,null,null,null,null,null,null,null,null,null,"Pl","x","TAS","N°","Dos","NOM Prénom","Rang","SPIDD","a","1/2 T","b","c","d","Club, Comité ou Ligue","N° Club",null,null,"NB Club, Comité ou Ligue","1/2 T","N°",null,null,null,null,null,null,null,null,null,null,null,null,null,"TAS >1"]
[1,1,1,1,{"$f":"IF(ISNA(VLOOKUP(C15,$R$15:$AC$31,4,FALSE)),\"\",VLOOKUP(C15,$R$15:$AC$31,4,FALSE)&\" - \"&VLOOKUP(C15,$R$15:$AC$31,12,FALSE))","v":""},{"$f":"IF(ISNA(VLOOKUP(C15,$R$15:$AC$31,12,FALSE)),\"\",VLOOKUP(C15,$R$15:$AC$31,12,FALSE))","v":""}," ",null,null,null,null,null,1,16,null,"P",1,null,1,{"$f":"IF(ISNA(VLOOKUP(W15,Liste_SPIDD,2,FALSE)),901,VLOOKUP(W15,Liste_SPIDD,2,FALSE))","v":44},{"$f":"IF(T15=\"\",\"\",IF(ISNA(VLOOKUP($T15,Liste_Dos_SPIDD,2,FALSE)),VLOOKUP($T15,Liste_J,3,FALSE),VLOOKUP($T15,Liste_Dos_SPIDD,2,FALSE)))","v":"LUCAS Ifig"},1,{"$f":"Q15&S15","v":"11"},null,{"$f":"IF($R15=0,0,VLOOKUP($R15,$BM$4:$BP$68,2,FALSE))","v":0},null,null,null,{"$f":"IF(T15=\"\",\"\",IF(ISNA(VLOOKUP(T15,Liste_Dos_SPIDD,3,FALSE)),VLOOKUP(T15,Liste_J,$A$10,FALSE),VLOOKUP(T15,Liste_Dos_SPIDD,3,FALSE)))","v":"EQUEURDREVILLE"},{"$f":"IF(ISERROR(VLOOKUP(T15,$T$131:$AD$139,1,FALSE)),\"\",IF(VLOOKUP(T15,$T$131:$AD$139,11,FALSE)=\"1/1\",\"\",VLOOKUP(T15,$T$131:$AD$139,11,FALSE)))","v":""},{"$f":"+R15","v":0},{"$f":"COUNTIF(AE:AE,R15)","v":17},null,"H",null,"Total H","B",null,"Total B","Total général",null,null,null,null,null,null,null,null,"1er","2ème de poule"]
[null,null,{"$f":"A16","v":0},null,null,""," ",null,null,null,null,null,8,15,null,"P",2,null,1,{"$f":"IF(ISNA(VLOOKUP(W16,Liste_SPIDD,2,FALSE)),901,VLOOKUP(W16,Liste_SPIDD,2,FALSE))","v":50},{"$f":"IF(T16=\"\",\"\",IF(ISNA(VLOOKUP($T16,Liste_Dos_SPIDD,2,FALSE)),VLOOKUP($T16,Liste_J,3,FALSE),VLOOKUP($T16,Liste_Dos_SPIDD,2,FALSE)))","v":"VIDAL Charles"},2,{"$f":"Q16&S16","v":"21"},null,0,null,null,null,{"$f":"IF(T16=\"\",\"\",IF(ISNA(VLOOKUP(T16,Liste_Dos_SPIDD,3,FALSE)),VLOOKUP(T16,Liste_J,$A$10,FALSE),VLOOKUP(T16,Liste_Dos_SPIDD,3,FALSE)))","v":"ASSUN TT"},"",0,17,"Club, Comité ou Ligue",1,2,null,1,2,null,null,null,null,null,null,null,null,null,null,null,"H","B"]
[2,"5=",2,8,"",""," ",null,null,null,null,null,5,14,null,"P",3,null,1,{"$f":"IF(ISNA(VLOOKUP(W17,Liste_SPIDD,2,FALSE)),901,VLOOKUP(W17,Liste_SPIDD,2,FALSE))","v":49},{"$f":"IF(T17=\"\",\"\",IF(ISNA(VLOOKUP($T17,Liste_Dos_SPIDD,2,FALSE)),VLOOKUP($T17,Liste_J,3,FALSE),VLOOKUP($T17,Liste_Dos_SPIDD,2,FALSE)))","v":"ROBION Paul"},3,{"$f":"Q17&S17","v":"31"},null,0,null,null,null,{"$f":"IF(T17=\"\",\"\",IF(ISNA(VLOOKUP(T17,Liste_Dos_SPIDD,3,FALSE)),VLOOKUP(T17,Liste_J,$A$10,FALSE),VLOOKUP(T17,Liste_Dos_SPIDD,3,FALSE)))","v":"SIOUVILLE ATTLC"},"",0,17,"ASSUN TT",null,null,null,1,null,1,1,null,null,null,null,null,null,null,null,{"$f":"IF(VLOOKUP($AG17,$AG$14:$AU$31,AW$11,FALSE)>1,VLOOKUP($AG17,$AG$14:$AU$31,AW$11,FALSE),\"\")","v":{"$error":"#REF!"}},{"$f":"IF(OR(VLOOKUP($AG17,$AG$14:$AU$31,AX$11+1,FALSE)>1,AND(VLOOKUP($AG17,$AG$14:$AU$31,AX$11+1,FALSE)=1,VLOOKUP($AG17,$AG$14:$AU$31,AX$11+2,FALSE)>1)),VLOOKUP($AG17,$AG$14:$AU$31,AX$11+2,FALSE),\"\")","v":""},""]
[null,null,0,null,null,""," ",null,null,null,null,null,4,13,null,"P",4,null,1,{"$f":"IF(ISNA(VLOOKUP(W18,Liste_SPIDD,2,FALSE)),901,VLOOKUP(W18,Liste_SPIDD,2,FALSE))","v":47},{"$f":"IF(T18=\"\",\"\",IF(ISNA(VLOOKUP($T18,Liste_Dos_SPIDD,2,FALSE)),VLOOKUP($T18,Liste_J,3,FALSE),VLOOKUP($T18,Liste_Dos_SPIDD,2,FALSE)))","v":"LEVILLAIN Camille"},4,{"$f":"Q18&S18","v":"41"},null,0,null,null,null,{"$f":"IF(T18=\"\",\"\",IF(ISNA(VLOOKUP(T18,Liste_Dos_SPIDD,3,FALSE)),VLOOKUP(T18,Liste_J,$A$10,FALSE),VLOOKUP(T18,Liste_Dos_SPIDD,3,FALSE)))","v":"ST PAIR BRICQUE"},"",0,17,"ATTDUCEYAVRANCH",null,1,1,null,1,1,2,null,null,null,null,null,null,null,null,{"$error":"#REF!"},"",""]
[3,"5=",3,5,"",""," ",null,null,null,null,null,3,12,null,"P",5,null,1,null,{"$f":"IF(T19=\"\",\"\",VLOOKUP($T19,Liste_J,3,FALSE))","v":""},5,null,null,0,null,null,null,{"$f":"IF(T19=\"\",\"\",VLOOKUP(T19,Liste_J,$A$10,FALSE))","v":""},"",0,17,"CARANTILLAISE",null,1,1,null,null,null,1,null,null,null,null,null,null,null,null,{"$error":"#REF!"},"",""]
[null,null,0,null,null,""," ",null,null,null,null,null,6,11,null,"P",6,null,1,null,{"$f":"IF(T20=\"\",\"\",VLOOKUP($T20,Liste_J,3,FALSE))","v":""},6,null,null,0,null,null,null,{"$f":"IF(T20=\"\",\"\",VLOOKUP(T20,Liste_J,$A$10,FALSE))","v":""},"",0,17,"EQUEURDREVILLE",1,null,1,null,null,null,1,null,null,null,null,null,null,null,null,{"$error":"#REF!"},"",""]
[4,"3=",4,4,"",""," ",null,null,null,null,null,7,10,null,"P",7,null,1,null,{"$f":"IF(T21=\"\",\"\",VLOOKUP($T21,Liste_J,3,FALSE))","v":""},7,null,null,0,null,null,null,{"$f":"IF(T21=\"\",\"\",VLOOKUP(T21,Liste_J,$A$10,FALSE))","v":""},"",0,17,"SIOUVILLE ATTLC",null,null,null,1,null,1,1,null,null,null,null,null,null,null,null,{"$error":"#REF!"},"",""]
[null,null,0,null,null,""," ",null,null,null,null,null,2,9,null,"P",8,null,1,null,{"$f":"IF(T22=\"\",\"\",VLOOKUP($T22,Liste_J,3,FALSE))","v":""},8,null,null,0,null,null,null,{"$f":"IF(T22=\"\",\"\",VLOOKUP(T22,Liste_J,$A$10,FALSE))","v":""},"",0,17,"ST PAIR BRICQUE",1,null,1,null,null,null,1,null,null,null,null,null,null,null,null,{"$error":"#REF!"},"",""]
[null,null,null,null,"","",null,null,null,null,null,null,null,null,null,"2ème de poule",null,null,null,null,null,null,null,null,null,null,null,null,null,null,{"$f":"+V23","v":0},{"$f":"COUNTIF(AE:AE,V23)","v":17},"TORIGNAISE ESTT",null,null,null,null,1,1,1,null,null,null,null,null,null,null,null,{"$error":"#REF!"},"",""]
[5,"3=",{"$f":"A24","v":5},3,"",""," ",null,null,null,null,null,null,null,null,"P",1,null,2,{"$f":"IF(ISNA(VLOOKUP(W24,Liste_SPIDD,2,FALSE)),901,VLOOKUP(W24,Liste_SPIDD,2,FALSE))","v":201},{"$f":"IF(T24=\"\",\"\",IF(ISNA(VLOOKUP($T24,Liste_Dos_SPIDD,2,FALSE)),VLOOKUP($T24,Liste_J,3,FALSE),VLOOKUP($T24,Liste_Dos_SPIDD,2,FALSE)))","v":"LUCAS Ifig"},5,{"$f":"Q24&S24","v":"12"},{"$f":"IF($R24=0,0,VLOOKUP($R24,$BM$4:$BP$68,2,FALSE))","v":0},{"$f":"IF(Y15=\"H\",\"B\",IF(Y15=\"B\",\"H\",\"\"))","v":""},null,null,null,{"$f":"IF(T24=\"\",\"\",IF(ISNA(VLOOKUP(T24,Liste_Dos_SPIDD,3,FALSE)),VLOOKUP(T24,Liste_J,$A$10,FALSE),VLOOKUP(T24,Liste_Dos_SPIDD,3,FALSE)))","v":"EQUEURDREVILLE"},{"$f":"IF(ISERROR(VLOOKUP(AC24,$AG$12:$AY$46,18,FALSE)),\"\",IF($AC$9=\"H\",VLOOKUP(AC24,$AG$12:$AY$46,18,FALSE),IF($AC$9=\"B\",VLOOKUP(AC24,$AG$12:$AY$46,19,FALSE),\"\")))","v":""},{"$f":"+R24","v":0},{"$f":"COUNTIF(AE:AE,R24)","v":17},"Total général",2,2,4,2,2,4,8,null,null,null,null,null,null,null,null,{"$error":"#REF!"},4,4]
[null,null,0,null,null,""," ",null,null,null,null,null,null,null,null,"P",2,null,2,{"$f":"IF(ISNA(VLOOKUP(W25,Liste_SPIDD,2,FALSE)),901,VLOOKUP(W25,Liste_SPIDD,2,FALSE))","v":202},{"$f":"IF(T25=\"\",\"\",IF(ISNA(VLOOKUP($T25,Liste_Dos_SPIDD,2,FALSE)),VLOOKUP($T25,Liste_J,3,FALSE),VLOOKUP($T25,Liste_Dos_SPIDD,2,FALSE)))","v":"VIDAL Charles"},6,{"$f":"Q25&S25","v":"22"},0,"",null,null,null,{"$f":"IF(T25=\"\",\"\",IF(ISNA(VLOOKUP(T25,Liste_Dos_SPIDD,3,FALSE)),VLOOKUP(T25,Liste_J,$A$10,FALSE),VLOOKUP(T25,Liste_Dos_SPIDD,3,FALSE)))","v":"ASSUN TT"},"",0,17,null,null,null,null,null,null,null,null,null,null,null,null,null,null,null,null,{"$error":"#N/A"},{"$error":"#N/A"},{"$error":"#N/A"}]
[6,"5=",6,6,"",""," ",null,null,null,null,null,null,null,null,"P",3,null,2,{"$f":"IF(ISNA(VLOOKUP(W26,Liste_SPIDD,2,FALSE)),901,VLOOKUP(W26,Liste_SPIDD,2,FALSE))","v":203},{"$f":"IF(T26=\"\",\"\",IF(ISNA(VLOOKUP($T26,Liste_Dos_SPIDD,2,FALSE)),VLOOKUP($T26,Liste_J,3,FALSE),VLOOKUP($T26,Liste_Dos_SPIDD,2,FALSE)))","v":"ROBION Paul"},7,{"$f":"Q26&S26","v":"32"},0,"",null,null,null,{"$f":"IF(T26=\"\",\"\",IF(ISNA(VLOOKUP(T26,Liste_Dos_SPIDD,3,FALSE)),VLOOKUP(T26,Liste_J,$A$10,FALSE),VLOOKUP(T26,Liste_Dos_SPIDD,3,FALSE)))","v":"SIOUVILLE ATTLC"},"",0,17,null,null,null,null,null,null,null,null,null,null,null,null,null,null,null,null,{"$error":"#N/A"},{"$error":"#N/A"},{"$error":"#N/A"}]
[null,null,0,null,null,""," ",null,null,null,null,null,null,null,null,"P",4,null,2,{"$f":"IF(ISNA(VLOOKUP(W27,Liste_SPIDD,2,FALSE)),901,VLOOKUP(W27,Liste_SPIDD,2,FALSE))","v":204},{"$f":"IF(T27=\"\",\"\",IF(ISNA(VLOOKUP($T27,Liste_Dos_SPIDD,2,FALSE)),VLOOKUP($T27,Liste_J,3,FALSE),VLOOKUP($T27,Liste_Dos_SPIDD,2,FALSE)))","v":"LEVILLAIN Camille"},8,{"$f":"Q27&S27","v":"42"},0,"",null,null,null,{"$f":"IF(T27=\"\",\"\",IF(ISNA(VLOOKUP(T27,Liste_Dos_SPIDD,3,FALSE)),VLOOKUP(T27,Liste_J,$A$10,FALSE),VLOOKUP(T27,Liste_Dos_SPIDD,3,FALSE)))","v":"ST PAIR BRICQUE"},"",0,17,null,null,null,null,null,null,null,null,null,null,null,null,null,null,null,null,{"$error":"#N/A"},{"$error":"#N/A"},{"$error":"#N/A"}]
[7,"5=",7,7,"",""," ",null,null,null,null,null,null,null,null,"P",5,null,2,null,{"$f":"IF(T28=\"\",\"\",VLOOKUP($T28,Liste_J,3,FALSE))","v":""},13,null,0,"",null,null,null,{"$f":"IF(T28=\"\",\"\",VLOOKUP(T28,Liste_J,$A$10,FALSE))","v":""},"",0,17,null,null,null,null,null,null,null,null,null,null,null,null,null,null,null,null,{"$error":"#N/A"},{"$error":"#N/A"},{"$error":"#N/A"}]
[null,null,0,null,null,""," ",null,null,null,null,null,null,null,null,"P",6,null,2,null,{"$f":"IF(T29=\"\",\"\",VLOOKUP($T29,Liste_J,3,FALSE))","v":""},14,null,0,"",null,null,null,{"$f":"IF(T29=\"\",\"\",VLOOKUP(T29,Liste_J,$A$10,FALSE))","v":""},"",0,17,null,null,null,null,null,null,null,null,null,null,null,null,null,null,null,null,{"$error":"#N/A"},{"$error":"#N/A"},{"$error":"#N/A"}]
[8,2,8,2,"",""," ",null,null,null,null,null,null,null,null,"P",7,null,2,null,{"$f":"IF(T30=\"\",\"\",VLOOKUP($T30,Liste_J,3,FALSE))","v":""},15,null,0,"",null,null,null,{"$f":"IF(T30=\"\",\"\",VLOOKUP(T30,Liste_J,$A$10,FALSE))","v":""},"",0,17,null,null,null,null,null,null,null,null,null,null,null,null,null,null,null,null,{"$error":"#N/A"},{"$error":"#N/A"},{"$error":"#N/A"}]
[null,null,0,null,null,""," ",null,null,null,null,null,null,null,null,"P",8,null,2,null,{"$f":"IF(T31=\"\",\"\",VLOOKUP($T31,Liste_J,3,FALSE))","v":""},16,null,0,"",null,null,null,{"$f":"IF(T31=\"\",\"\",VLOOKUP(T31,Liste_J,$A$10,FALSE))","v":""},"",0,17,null,null,null,null,null,null,null,null,null,null,null,null,null,null,null,null,{"$error":"#N/A"},{"$error":"#N/A"},{"$error":"#N/A"}]
[null,null,null,null,null,null,null,null,null,null,null,null,null,null,null,null,null,null,null,null,null,null,null,null,null,null,null,null,null,null,null,null,null,null,null,null,null,null,null,null,null,null,null,null,null,null,null,null,{"$error":"#N/A"},{"$error":"#N/A"},{"$error":"#N/A"}]
[null,null,null,null,null,null,null,null,null,null,null,null,null,null,null,null,null,null,null,null,null,null,null,null,null,null,null,null,null,null,null,null,null,null,null,null,null,null,null,null,null,null,null,null,null,null,null,null,{"$error":"#N/A"},{"$error":"#N/A"},{"$error":"#N/A"}]
[null,null,null,null,null,null,null,null,null,null,null,null,null,null,null,null,null,null,null,null,null,null,null,null,null,null,null,null,null,null,null,null,null,null,null,null,null,null,null,null,null,null,null,null,null,null,null,null,{"$error":"#N/A"},{"$error":"#N/A"},{"$error":"#N/A"}]
[null,null,null,null,null,null,null,null,null,null,null,null,null,null,null,null,null,null,null,null,null,null,null,null,null,null,null,null,null,null,null,null,null,null,null,null,null,null,null,null,null,null,null,null,null,null,null,null,{"$error":"#N/A"},{"$error":"#N/A"},{"$error":"#N/A"}]
[null,null,null,null,null,null,null,null,null,null,null,null,null,null,null,null,null,null,null,null,null,null,null,null,null,null,null,null,null,null,null,null,null,null,null,null,null,null,null,null,null,null,null,null,null,null,null,null,{"$error":"#N/A"},{"$error":"#N/A"},{"$error":"#N/A"}]
[null,null,null,null,null,null,null,null,null,null,null,null,null,null,null,null,null,null,null,null,null,null,null,null,null,null,null,null,null,null,null,null,null,null,null,null,null,null,null,null,null,null,null,null,null,null,null,null,{"$error":"#N/A"},{"$error":"#N/A"},{"$error":"#N/A"}]
[null,null,null,null,null,null,null,null,null,null,null,null,null,null,null,null,null,null,null,null,null,null,null,null,null,null,null,null,null,null,null,null,null,null,null,null,null,null,null,null,null,null,null,null,null,null,null,null,{"$error":"#N/A"},{"$error":"#N/A"},{"$error":"#N/A"}]
[null,null,null,null,null,null,null,null,null,null,null,null,null,null,null,null,null,null,null,null,null,null,null,null,null,null,null,null,null,null,null,null,null,null,null,null,null,null,null,null,null,null,null,null,null,null,null,null,{"$error":"#N/A"},{"$error":"#N/A"},{"$error":"#N/A"}]
[]
[]
[]
[]
[]
[]
[]
[]
[]
[]
[]
[]
[]
[]
[]
[]
[]
[]
[]
[]
[]
[]
[]
[]
[]
[]
[]
[]
[]
[]
[]
[]
[]
[]
[]
[]
[]
[]
[]
[]
[]
[]
[]
[]
[]
[]
[]
[]
[]
[]
[]
[]
[]
[]
[]
[]
[]
[]
[]
[]
[]
[]
[]
[]
[]
[]
[]
[]
[]
[]
[]
[]
[]
[]
[]
[]
[]
[]
[]
[]
[]
[]
[]
[]
[]
[]
[]
[]
[null,null,null,null,null,null,null,null,null,null,null,null,null,null,null,null,null,null,null,null,null,null,{"$f":"IF(AC128=AC127,W127+1,1)","v":1},{"$f":"COUNTIF($AC$132:$AC$200,AC128)","v":0},null,null,null,null,null,{"$f":"W128&\"/\"&X128","v":"1/0"}]
[]
[]
[null,null,null,null,null,null,null,null,null,null,null,null,null,null,null,null,null,null,null,"Dos","NOM Prénom","Rang","RC","NC","1/2 T","b","c","d","Club","N° Club"]
[null,null,null,null,null,null,null,null,null,null,null,null,null,null,null,null,null,null,null,187,"D'ARJUZON Gaspard",2,{"$f":"IF(AC132=AC131,W131+1,1)","v":1},{"$f":"COUNTIF($AC$132:$AC$200,AC132)","v":1},0,null,null,null,"avranches","1/1"]
[null,null,null,null,null,null,null,null,null,null,null,null,null,null,null,null,null,null,null,186,"SMEIR Jean",1,{"$f":"IF(AC133=AC132,W132+1,1)","v":1},{"$f":"COUNTIF($AC$132:$AC$200,AC133)","v":1},0,null,null,null,"BEAUVAIS TT","1/1"]
[null,null,null,null,null,null,null,null,null,null,null,null,null,null,null,null,null,null,null,188,"CUNY Baptiste",3,{"$f":"IF(AC134=AC133,W133+1,1)","v":1},{"$f":"COUNTIF($AC$132:$AC$200,AC134)","v":1},0,null,null,null,"CS ANDELYS","1/1"]
[null,null,null,null,null,null,null,null,null,null,null,null,null,null,null,null,null,null,null,189,"CASTILLA Jean-vincent",4,{"$f":"IF(AC135=AC134,W134+1,1)","v":1},{"$f":"COUNTIF($AC$132:$AC$200,AC135)","v":1},0,null,null,null,"SPO ROUEN","1/1"]

{"sheet":"G-208a","index":7,"n_rows":3,"n_cols":5,"rows_kept":3,"cut":false,"hidden":false,"merged":[]}
["Clt",1,2,3,4]
["1er",{"$f":"'TS-208a'!R15","v":0},{"$f":"'TS-208a'!R16","v":0},{"$f":"'TS-208a'!R17","v":0},{"$f":"'TS-208a'!R18","v":0}]
["2ème",{"$f":"'TS-208a'!R24","v":0},{"$f":"'TS-208a'!R25","v":0},{"$f":"'TS-208a'!R26","v":0},{"$f":"'TS-208a'!R27","v":0}]

{"sheet":"TS-216a","index":8,"n_rows":139,"n_cols":68,"rows_kept":139,"cut":false,"hidden":false,"merged":[[13,12,13,13],[3,0,5,29],[7,16,7,27],[8,16,8,27],[7,5,7,9],[0,68,67,68],[12,32,12,50],[13,48,13,50],[14,48,15,48],[14,49,14,50],[0,63,67,63]]}
[{"$f":"\"Epreuve  : \"&'TS-200'!$C$1","v":"Epreuve  : Critérium Fédéral"},null,null,null,null,null,null,null,null,null,null,null,null,null,null,null,null,null,null,null,null,null,null,null,null,null,null,null,null,{"$f":"\"Lieu : \"&'TS-200'!$C$2","v":"Lieu : Pont à Mousson"}]
[{"$f":"\"Tableau : \"&'TS-200'!$C$4","v":"Tableau :  "},null,null,null,null,null,null,null,null,null,null,null,null,null,null,null,null,null,null,null,null,null,null,null,null,null,null,null,null,{"$f":"\"Date : \"&'TS-200'!$C$3","v":"Date : 15 au 17 mars 2019"}]
[]
["TABLEAU DE TIRAGE AU SORT\n16 JOUEURS\n8 poules - 2 qualifiés",null,null,null,null,null,null,null,null,null,null,null,null,null,null,null,null,null,null,null,null,null,null,null,null,null,null,null,null,null,null,null,null,null,null,null,null,null,null,null,null,null,null,null,null,null,null,null,null,null,null,null,null,null,null,null,null,null,null,null,null,null,null,null,1,"H","H","B"]
[null,null,null,null,null,null,null,null,null,null,null,null,null,null,null,null,null,null,null,null,null,null,null,null,null,null,null,null,null,null,null,null,null,null,null,null,null,null,null,null,null,null,null,null,null,null,null,null,null,null,null,null,null,null,null,null,null,null,null,null,null,null,null,null,2,"H","H","B"]
[null,null,null,null,null,null,null,null,null,null,null,null,null,null,null,null,null,null,null,null,null,null,null,null,null,null,null,null,null,null,null,null,null,null,null,null,null,null,null,null,null,null,null,null,null,null,null,null,null,null,null,null,null,null,null,null,null,null,null,null,null,null,null,null,3,"H","H","B"]
[null,null,null,null,null,null,null,null,null,null,null,null,null,null,null,null,null,null,null,null,null,null,null,null,null,null,null,null,null,null,null,null,null,null,null,null,null,null,null,null,null,null,null,null,null,null,null,null,null,null,null,null,null,null,null,null,null,null,null,null,null,null,null,null,4,"H","H","B"]
["Critère d'appartenance pour la mise en tableau",null,null,null,null,"Club",null,null,null,null,null,null,null,null,null,null,"Club, Comité ou Ligue (tiré au sort)",null,null,null,null,null,null,null,null,null,null,null,"COUTANCES JA",null,null,null,null,null,null,null,null,null,null,null,null,null,null,null,null,null,null,null,null,null,null,null,null,null,null,null,null,null,null,null,null,null,null,null,5,"H","B","B"]
[null,null,null,null,"Club",null,null,null,null,null,null,null,null,null,null,null,"Partie du tableau tirée au sort (H=Haut, B=Bas)",null,null,null,null,null,null,null,null,null,null,null,"B","H ou B",null,null,null,null,null,null,null,null,null,null,null,null,null,null,null,null,null,null,null,null,null,null,null,null,null,null,null,null,null,null,null,null,null,null,6,"H","B","B"]
[{"$f":"IF(F8=\"Club\",10,IF(F8=\"Ligue\",11,IF(F8=\"Comité\",12,10)))","v":10},null,null,null,"Ligue",null,null,null,null,null,null,null,null,null,null,null,null,null,null,null,null,null,null,null,null,null,null,null,null,"H",null,null,"Position"," ",null,null,null,null,null,null,null,null,null,null,null,null,null,null,0,"H","B",null,null,null,null,null,null,null,null,null,null,null,null,null,null,"B","H","H"]
[null,null,null,null,"Comité",null,null,null,null,null,null,null,null,null,null,null,null,null,null,null,null,null,null,null,null,null,null,null,null,"B",null,null,"N° colonne TCD","H",null,null,null,null,null,null,null,null,null,null,null,null,null,null,{"$f":"MATCH(AW10,$AG$15:$AV$15,0)","v":{"$error":"#N/A"}},{"$f":"MATCH(AX10,$AG$15:$AV$15,0)","v":2},{"$f":"MATCH(AY10,$AG$15:$AV$15,0)","v":5},null,null,null,null,null,null,null,null,null,null,null,null,null,49,"B","H","H"]
[null,null,null,null,null,null,null,null,null,null,null,null,null,null,null,null,null,null,null,null,null,null,null,null,null,null,null,null,null,null,null,null,null,"B",null,null,null,null,null,null,null,null,null,null,null,null,null,null,null,null,null,null,null,null,null,null,null,null,null,null,null,null,null,null,7,"H","B","B"]
[null,null,null,null,null,null,null,null,null,null,null,null,null,null,null,"1er de poule",null,null,null,null,null,null,null,null,null,null,null,null,null,null,null,null,"NB JOUEUR / CLUB",null,null,null,null,null,null,null,null,null,null,null,null,null,null,null,null,null,null,null,null,null,null,null,null,null,null,null,null,null,null,null,8,"H","B","B"]
[null,null,null,null,null,null,null,null,null,null,null,null,"N° Dispo",null,null,"Pl","x","TAS","N°","Dos","NOM Prénom","Rang","SPIDD","a","1/2 T","b","c","d","Club, Comité ou Ligue","N° Club",null,null,"NB Club, Comité ou Ligue","1/2 T","N°",null,null,null,null,null,null,null,null,null,null,null,null,null,"TAS >1",null,null,null,null,null,null,null,null,null,null,null,null,null,null,null,9,"B","H","H"]
[1,1,1,1,{"$f":"IF(ISNA(VLOOKUP(C15,$R$15:$AC$31,4,FALSE)),\"\",VLOOKUP(C15,$R$15:$AC$31,4,FALSE)&\" - \"&VLOOKUP(C15,$R$15:$AC$31,12,FALSE))","v":""},{"$f":"IF(ISNA(VLOOKUP(C15,$R$15:$AC$31,12,FALSE)),\"\",VLOOKUP(C15,$R$15:$AC$31,12,FALSE))","v":""}," ",null,null,null,null,null,1,2,null,"P",1,null,1,{"$f":"IF(ISNA(VLOOKUP(W15,Liste_SPIDD,2,FALSE)),901,VLOOKUP(W15,Liste_SPIDD,2,FALSE))","v":44},{"$f":"IF(T15=\"\",\"\",IF(ISNA(VLOOKUP($T15,Liste_Dos_SPIDD,2,FALSE)),VLOOKUP($T15,Liste_J,3,FALSE),VLOOKUP($T15,Liste_Dos_SPIDD,2,FALSE)))","v":"LUCAS Ifig"},1,{"$f":"Q15&S15","v":"11"},null,{"$f":"IF($R15=0,0,VLOOKUP($R15,$BM$4:$BP$68,2,FALSE))","v":0},null,null,null,{"$f":"IF(T15=\"\",\"\",IF(ISNA(VLOOKUP(T15,Liste_Dos_SPIDD,3,FALSE)),VLOOKUP(T15,Liste_J,$A$10,FALSE),VLOOKUP(T15,Liste_Dos_SPIDD,3,FALSE)))","v":"EQUEURDREVILLE"},{"$f":"IF(ISERROR(VLOOKUP(T15,$T$131:$AD$139,1,FALSE)),\"\",IF(VLOOKUP(T15,$T$131:$AD$139,11,FALSE)=\"1/1\",\"\",VLOOKUP(T15,$T$131:$AD$139,11,FALSE)))","v":""},{"$f":"+R15","v":0},{"$f":"COUNTIF(AE:AE,R15)","v":17},null,"H",null,"Total H","B",null,"Total B","Total général",null,null,null,null,null,null,null,null,"1er","2ème de poule",null,null,null,null,null,null,null,null,null,null,null,null,null,null,10,"B","H","H"]
[2,"9=",{"$f":"A16","v":2},16,"",""," ",null,null,null,null,null,16,15,null,"P",2,null,1,50,"VIDAL Charles",2,{"$f":"Q16&S16","v":"21"},null,0,null,null,null,"ASSUN TT",{"$f":"IF(ISERROR(VLOOKUP(T16,$T$131:$AD$139,1,FALSE)),\"\",IF(VLOOKUP(T16,$T$131:$AD$139,11,FALSE)=\"1/1\",\"\",VLOOKUP(T16,$T$131:$AD$139,11,FALSE)))","v":""},0,17,"Club, Comité ou Ligue",1,2,null,1,2,null,null,null,null,null,null,null,null,null,null,null,"H","B",null,null,null,null,null,null,null,null,null,null,null,null,null,11,"B","H","H"]
[3,"9=",3,9,"",""," ",null,null,null,null,null,9,10,null,"P",3,null,1,49,"ROBION Paul",3,"31",null,0,null,null,null,"SIOUVILLE ATTLC","",0,17,"ASSUN TT",null,null,null,1,null,1,1,null,null,null,null,null,null,null,null,{"$f":"IF(VLOOKUP($AG17,$AG$14:$AU$31,AW$11,FALSE)>1,VLOOKUP($AG17,$AG$14:$AU$31,AW$11,FALSE),\"\")","v":{"$error":"#REF!"}},{"$f":"IF(OR(VLOOKUP($AG17,$AG$14:$AU$31,AX$11+1,FALSE)>1,AND(VLOOKUP($AG17,$AG$14:$AU$31,AX$11+1,FALSE)=1,VLOOKUP($AG17,$AG$14:$AU$31,AX$11+2,FALSE)>1)),VLOOKUP($AG17,$AG$14:$AU$31,AX$11+2,FALSE),\"\")","v":""},{"$f":"IF(OR(VLOOKUP($AG17,$AG$14:$AU$31,AY$11+1,FALSE)>1,AND(VLOOKUP($AG17,$AG$14:$AU$31,AY$11+1,FALSE)=1,VLOOKUP($AG17,$AG$14:$AU$31,AY$11+2,FALSE)>1)),VLOOKUP($AG17,$AG$14:$AU$31,AY$11+2,FALSE),\"\")","v":""},null,null,null,null,null,null,null,null,null,null,null,null,null,12,"B","H","H"]
[4,"5=",4,8,"",""," ",null,null,null,null,null,8,7,null,"P",4,null,1,47,"LEVILLAIN Camille",4,"41",null,0,null,null,null,"ST PAIR BRICQUE","",0,17,"ATTDUCEYAVRANCH",null,1,1,null,1,1,2,null,null,null,null,null,null,null,null,{"$f":"IF(VLOOKUP($AG18,$AG$14:$AU$31,AW$11,FALSE)>1,VLOOKUP($AG18,$AG$14:$AU$31,AW$11,FALSE),\"\")","v":{"$error":"#REF!"}},{"$f":"IF(OR(VLOOKUP($AG18,$AG$14:$AU$31,AX$11+1,FALSE)>1,AND(VLOOKUP($AG18,$AG$14:$AU$31,AX$11+1,FALSE)=1,VLOOKUP($AG18,$AG$14:$AU$31,AX$11+2,FALSE)>1)),VLOOKUP($AG18,$AG$14:$AU$31,AX$11+2,FALSE),\"\")","v":""},"",null,null,null,null,null,null,null,null,null,null,null,null,null,13,"B","B","H"]
[5,"5=",5,5,"",""," ",null,null,null,null,null,5,6,null,"P",5,null,1,52,"COUEDEL-COULON Eloan",5,"51",null,0,null,null,null,"TT SAINT JAMES","",0,17,"CARANTILLAISE",null,null,null,null,1,1,1,null,null,null,null,null,null,null,null,{"$error":"#REF!"},"","",null,null,null,null,null,null,null,null,null,null,null,null,null,14,"B","B","H"]
[6,"9=",6,12,"",""," ",null,null,null,null,null,12,11,null,"P",6,null,1,45,"LECLERC Alexandre-Bao",6,"61",null,0,null,null,null,"OC AGNEAUX","",0,17,"COUTANCES JA",1,null,1,1,null,1,2,null,null,null,null,null,null,null,null,{"$error":"#REF!"},"","",null,null,null,null,null,null,null,null,null,null,null,null,null,15,"B","B","H"]
[7,"9=",7,13,"",""," ",null,null,null,null,null,13,14,null,"P",7,null,1,46,"NICOLLE Augustin",7,"71",null,0,null,null,null,"COUTANCES JA","1/2",0,17,"EQUEURDREVILLE",1,null,1,null,null,null,1,null,null,null,null,null,null,null,null,{"$error":"#REF!"},"","",null,null,null,null,null,null,null,null,null,null,null,null,null,16,"B","B","H"]
[8,"3=",8,4,"",""," ",null,null,null,null,null,4,3,null,"P",8,null,1,48,"NICOLLE Emile",8,"81",null,0,null,null,null,"COUTANCES JA","2/2",0,17,"OC AGNEAUX",null,null,null,1,null,1,1,null,null,null,null,null,null,null,null,{"$error":"#REF!"},"",""]
[null,null,null,null,"","",null,null,null,null,null,null,null,null,null,"2ème de poule",null,null,null,null,null,null,null,null,null,null,null,null,null,null,{"$f":"+V23","v":0},{"$f":"COUNTIF(AE:AE,V23)","v":17},"SIOUVILLE ATTLC",null,null,null,1,null,1,1,null,null,null,null,null,null,null,null,{"$error":"#REF!"},"",""]
[9,"3=",{"$f":"A24","v":9},3,"",""," ",null,null,null,null,null,null,null,null,"P",1,null,2,{"$f":"IF(ISNA(VLOOKUP(W24,Liste_SPIDD,2,FALSE)),901,VLOOKUP(W24,Liste_SPIDD,2,FALSE))","v":201},{"$f":"IF(T24=\"\",\"\",IF(ISNA(VLOOKUP($T24,Liste_Dos_SPIDD,2,FALSE)),VLOOKUP($T24,Liste_J,3,FALSE),VLOOKUP($T24,Liste_Dos_SPIDD,2,FALSE)))","v":"LUCAS Ifig"},9,{"$f":"Q24&S24","v":"12"},{"$f":"IF($R24=0,0,VLOOKUP($R24,$BM$4:$BP$68,2,FALSE))","v":0},{"$f":"IF(Y15=\"H\",\"B\",IF(Y15=\"B\",\"H\",\"\"))","v":""},null,null,null,{"$f":"IF(T24=\"\",\"\",IF(ISNA(VLOOKUP(T24,Liste_Dos_SPIDD,3,FALSE)),VLOOKUP(T24,Liste_J,$A$10,FALSE),VLOOKUP(T24,Liste_Dos_SPIDD,3,FALSE)))","v":"EQUEURDREVILLE"},{"$f":"IF(ISERROR(VLOOKUP(AC24,$AG$12:$AY$46,18,FALSE)),\"\",IF($AC$9=\"H\",VLOOKUP(AC24,$AG$12:$AY$46,18,FALSE),IF($AC$9=\"B\",VLOOKUP(AC24,$AG$12:$AY$46,19,FALSE),\"\")))","v":""},{"$f":"+R24","v":0},{"$f":"COUNTIF(AE:AE,R24)","v":17},"ST PAIR BRICQUE",1,1,2,null,1,1,3,null,null,null,null,null,null,null,null,{"$error":"#REF!"},2,""]
[10,"9=",10,14,"",""," ",null,null,null,null,null,null,null,null,"P",2,null,2,202,"VIDAL Charles",10,{"$f":"Q25&S25","v":"22"},0,"",null,null,null,"ASSUN TT",{"$f":"IF(ISERROR(VLOOKUP(AC25,$AG$12:$AY$46,18,FALSE)),\"\",IF($AC$9=\"H\",VLOOKUP(AC25,$AG$12:$AY$46,18,FALSE),IF($AC$9=\"B\",VLOOKUP(AC25,$AG$12:$AY$46,19,FALSE),\"\")))","v":""},0,17,"TORIGNAISE ESTT",null,1,1,null,1,1,2,null,null,null,null,null,null,null,null,{"$error":"#REF!"},"",""]
[11,"9=",11,11,"",""," ",null,null,null,null,null,null,null,null,"P",3,null,2,203,"ROBION Paul",11,"32",0,"",null,null,null,"SIOUVILLE ATTLC","",0,17,"TT SAINT JAMES",1,1,2,null,null,null,2,null,null,null,null,null,null,null,null,{"$error":"#REF!"},2,""]
[12,"5=",12,6,"",""," ",null,null,null,null,null,null,null,null,"P",4,null,2,204,"LEVILLAIN Camille",12,"42",0,"",null,null,null,"ST PAIR BRICQUE","",0,17,"Total général",4,4,8,4,4,8,16,null,null,null,null,null,null,null,null,{"$error":"#REF!"},8,8]
[13,"5=",13,7,"",""," ",null,null,null,null,null,null,null,null,"P",5,null,2,205,"COUEDEL-COULON Eloan",13,"52",0,"",null,null,null,"TT SAINT JAMES","",0,17,null,null,null,null,null,null,null,null,null,null,null,null,null,null,null,null,{"$error":"#N/A"},{"$error":"#N/A"},{"$error":"#N/A"}]
[14,"9=",14,10,"",""," ",null,null,null,null,null,null,null,null,"P",6,null,2,206,"LECLERC Alexandre-Bao",14,"62",0,"",null,null,null,"OC AGNEAUX","",0,17,null,null,null,null,null,null,null,null,null,null,null,null,null,null,null,null,{"$error":"#N/A"},{"$error":"#N/A"},{"$error":"#N/A"}]
[15,"9=",15,15,"",""," ",null,null,null,null,null,null,null,null,"P",7,null,2,207,"NICOLLE Augustin",15,"72",0,"",null,null,null,"COUTANCES JA","",0,17,null,null,null,null,null,null,null,null,null,null,null,null,null,null,null,null,{"$error":"#N/A"},{"$error":"#N/A"},{"$error":"#N/A"}]
[16,2,16,2,"",""," ",null,null,null,null,null,null,null,null,"P",8,null,2,208,"NICOLLE Emile",16,"82",0,"",null,null,null,"COUTANCES JA","",0,17,null,null,null,null,null,null,null,null,null,null,null,null,null,null,null,null,{"$error":"#N/A"},{"$error":"#N/A"},{"$error":"#N/A"}]
[null,null,null,null,null,null,null,null,null,null,null,null,null,null,null,null,null,null,null,null,null,null,null,null,null,null,null,null,null,null,null,null,null,null,null,null,null,null,null,null,null,null,null,null,null,null,null,null,{"$error":"#N/A"},{"$error":"#N/A"},{"$error":"#N/A"}]
[null,null,null,null,null,null,null,null,null,null,null,null,null,null,null,null,null,null,null,null,null,null,null,null,null,null,null,null,null,null,null,null,null,null,null,null,null,null,null,null,null,null,null,null,null,null,null,null,{"$error":"#N/A"},{"$error":"#N/A"},{"$error":"#N/A"}]
[null,null,null,null,null,null,null,null,null,null,null,null,null,null,null,null,null,null,null,null,null,null,null,null,null,null,null,null,null,null,null,null,null,null,null,null,null,null,null,null,null,null,null,null,null,null,null,null,{"$error":"#N/A"},{"$f":"IF(OR(VLOOKUP($AG34,$AG$14:$AU$31,AX$11+1,FALSE)>1,AND(VLOOKUP($AG34,$AG$14:$AU$31,AX$11+1,FALSE)=1,VLOOKUP($AG34,$AG$14:$AU$31,AX$11+2,FALSE)>1)),VLOOKUP($AG34,$AG$14:$AU$31,AX$11+2,FALSE),\"\")","v":{"$error":"#N/A"}},{"$error":"#N/A"}]
[null,null,null,null,null,null,null,null,null,null,null,null,null,null,null,null,null,null,null,null,null,null,null,null,null,null,null,null,null,null,null,null,null,null,null,null,null,null,null,null,null,null,null,null,null,null,null,null,{"$error":"#N/A"},{"$error":"#N/A"},{"$error":"#N/A"}]
[null,null,null,null,null,null,null,null,null,null,null,null,null,null,null,null,null,null,null,null,null,null,null,null,null,null,null,null,null,null,null,null,null,null,null,null,null,null,null,null,null,null,null,null,null,null,null,null,{"$error":"#N/A"},{"$error":"#N/A"},{"$error":"#N/A"}]
[null,null,null,null,null,null,null,null,null,null,null,null,null,null,null,null,null,null,null,null,null,null,null,null,null,null,null,null,null,null,null,null,null,null,null,null,null,null,null,null,null,null,null,null,null,null,null,null,{"$error":"#N/A"},{"$error":"#N/A"},{"$error":"#N/A"}]
[null,null,null,null,null,null,null,null,null,null,null,null,null,null,null,null,null,null,null,null,null,null,null,null,null,null,null,null,null,null,null,null,null,null,null,null,null,null,null,null,null,null,null,null,null,null,null,null,{"$error":"#N/A"},{"$error":"#N/A"},{"$error":"#N/A"}]
[null,null,null,null,null,null,null,null,null,null,null,null,null,null,null,null,null,null,null,null,null,null,null,null,null,null,null,null,null,null,null,null,null,null,null,null,null,null,null,null,null,null,null,null,null,null,null,null,{"$error":"#N/A"},{"$error":"#N/A"},{"$error":"#N/A"}]
[]
[]
[]
[]
[]
[]
[]
[]
[]
[]
[]
[]
[]
[]
[]
[]
[]
[]
[]
[]
[]
[]
[]
[]
[]
[]
[]
[]
[]
[]
[]
[]
[]
[]
[]
[]
[]
[]
[]
[]
[]
[]
[]
[]
[]
[]
[]
[]
[]
[]
[]
[]
[]
[]
[]
[]
[]
[]
[]
[]
[]
[]
[]
[]
[]
[]
[]
[]
[]
[]
[]
[]
[]
[]
[]
[]
[]
[]
[]
[]
[]
[]
[]
[]
[]
[]
[]
[]
[null,null,null,null,null,null,null,null,null,null,null,null,null,null,null,null,null,null,null,null,null,null,null,null,null,null,null,null,null,{"$f":"W128&\"/\"&X128","v":"/"}]
[]
[]
[null,null,null,null,null,null,null,null,null,null,null,null,null,null,null,null,null,null,null,"Dos","NOM Prénom","Rang","RC","NC","1/2 T","b","c","d","Club","N° Club"]
[null,null,null,null,null,null,null,null,null,null,null,null,null,null,null,null,null,null,null,50,"VIDAL Charles",2,{"$f":"IF(AC132=AC131,W131+1,1)","v":1},{"$f":"COUNTIF($AC$132:$AC$200,AC132)","v":1},null,null,null,null,"ASSUN TT","1/1"]
[null,null,null,null,null,null,null,null,null,null,null,null,null,null,null,null,null,null,null,46,"NICOLLE Augustin",7,1,2,null,null,null,null,"COUTANCES JA","1/2"]
[null,null,null,null,null,null,null,null,null,null,null,null,null,null,null,null,null,null,null,48,"NICOLLE Emile",8,2,2,null,null,null,null,"COUTANCES JA","2/2"]
[null,null,null,null,null,null,null,null,null,null,null,null,null,null,null,null,null,null,null,44,"LUCAS Ifig",1,1,1,null,null,null,null,"EQUEURDREVILLE","1/1"]
[null,null,null,null,null,null,null,null,null,null,null,null,null,null,null,null,null,null,null,45,"LECLERC Alexandre-Bao",6,1,1,null,null,null,null,"OC AGNEAUX","1/1"]
[null,null,null,null,null,null,null,null,null,null,null,null,null,null,null,null,null,null,null,49,"ROBION Paul",3,1,1,null,null,null,null,"SIOUVILLE ATTLC","1/1"]
[null,null,null,null,null,null,null,null,null,null,null,null,null,null,null,null,null,null,null,47,"LEVILLAIN Camille",4,1,1,null,null,null,null,"ST PAIR BRICQUE","1/1"]
[null,null,null,null,null,null,null,null,null,null,null,null,null,null,null,null,null,null,null,52,"COUEDEL-COULON Eloan",5,1,1,null,null,null,null,"TT SAINT JAMES","1/1"]

{"sheet":"G-216a","index":9,"n_rows":3,"n_cols":9,"rows_kept":3,"cut":false,"hidden":false,"merged":[]}
["Clt",1,2,3,4,5,6,7,8]
["1er",{"$f":"'TS-216a'!R15","v":0},{"$f":"'TS-216a'!R16","v":0},{"$f":"'TS-216a'!R17","v":0},{"$f":"'TS-216a'!R18","v":0},{"$f":"'TS-216a'!R19","v":0},{"$f":"'TS-216a'!R20","v":0},{"$f":"'TS-216a'!R21","v":0},{"$f":"'TS-216a'!R22","v":0}]
["2ème",{"$f":"'TS-216a'!R24","v":0},{"$f":"'TS-216a'!R25","v":0},{"$f":"'TS-216a'!R26","v":0},{"$f":"'TS-216a'!R27","v":0},{"$f":"'TS-216a'!R28","v":0},{"$f":"'TS-216a'!R29","v":0},{"$f":"'TS-216a'!R30","v":0},{"$f":"'TS-216a'!R31","v":0}]

{"sheet":"TS-216c","index":10,"n_rows":141,"n_cols":83,"rows_kept":141,"cut":false,"hidden":false,"merged":[[31,3,32,3],[33,3,34,3],[35,3,36,3],[45,0,46,0],[39,4,40,4],[41,4,42,4],[43,4,44,4],[45,4,46,4],[31,4,32,4],[33,4,34,4],[41,0,42,0],[41,1,42,1],[43,1,44,1],[41,3,42,3],[43,3,44,3],[45,3,46,3],[37,1,38,1],[39,1,40,1],[35,1,36,1],[20,0,21,0],[37,4,38,4],[33,0,34,0],[35,0,36,0],[35,4,36,4],[24,1,25,1],[26,1,27,1],[33,1,34,1],[20,3,21,3],[22,3,23,3],[24,3,25,3],[26,3,27,3],[28,3,29,3],[16,3,17,3],[18,3,19,3],[18,0,19,0],[39,8,46,9],[22,0,23,0],[24,0,25,0],[26,0,27,0],[28,0,29,0],[31,0,32,0],[37,0,38,0],[39,0,40,0],[22,4,23,4],[43,0,44,0],[31,8,38,9],[45,1,46,1],[31,1,32,1],[28,1,29,1],[20,1,21,1],[22,1,23,1],[18,1,19,1],[16,1,17,1],[13,67,13,69],[14,8,21,9],[22,8,29,9],[14,4,15,4],[16,4,17,4],[18,4,19,4],[20,4,21,4],[24,4,25,4],[26,4,27,4],[28,4,29,4],[37,3,38,3],[39,3,40,3],[14,70,14,73],[3,0,5,31],[7,5,7,9],[7,18,7,29],[8,18,8,29],[12,17,12,31],[12,34,12,69],[13,12,13,15],[14,67,15,67],[14,68,14,69],[14,1,15,1],[14,3,15,3],[14,0,15,0],[16,0,17,0]]}
[{"$f":"\"Epreuve  : \"&'TS-200'!$C$1","v":"Epreuve  : Critérium Fédéral"},null,null,null,null,null,null,null,null,null,null,null,null,null,null,null,null,null,null,null,null,null,null,null,null,null,null,null,null,null,null,{"$f":"\"Lieu : \"&'TS-200'!$C$2","v":"Lieu : Pont à Mousson"}]
[{"$f":"\"Tableau : \"&'TS-200'!$C$4","v":"Tableau :  "},null,null,null,null,null,null,null,null,null,null,null,null,null,null,null,null,null,null,null,null,null,null,null,null,null,null,null,null,null,null,{"$f":"\"Date : \"&'TS-200'!$C$3","v":"Date : 15 au 17 mars 2019"}]
[]
["TABLEAU DE TIRAGE AU SORT\n16 JOUEURS\n4 poules - 3 qualifiés",null,null,null,null,null,null,null,null,null,null,null,null,null,null,null,null,null,null,null,null,null,null,null,null,null,null,null,null,null,null,null,null,null,null,null,null,null,null,null,null,null,null,null,null,null,null,null,null,null,null,null,null,null,null,null,null,null,null,null,null,null,null,null,null,null,null,null,null,null,null,null,null,null,null,null,null,null,1,"H","HH","B","HB"]
[null,null,null,null,null,null,null,null,null,null,null,null,null,null,null,null,null,null,null,null,null,null,null,null,null,null,null,null,null,null,null,null,null,null,null,null,null,null,null,null,null,null,null,null,null,null,null,null,null,null,null,null,null,null,null,null,null,null,null,null,null,null,null,null,null,null,null,null,null,null,null,null,null,null,null,null,null,null,2,"H","HH","B","HB"]
[null,null,null,null,null,null,null,null,null,null,null,null,null,null,null,null,null,null,null,null,null,null,null,null,null,null,null,null,null,null,null,null,null,null,null,null,null,null,null,null,null,null,null,null,null,null,null,null,null,null,null,null,null,null,null,null,null,null,null,null,null,null,null,null,null,null,null,null,null,null,null,null,null,null,null,null,null,null,3,"H","HH","B","HB"]
[null,null,null,null,null,null,null,null,null,null,null,null,null,null,null,null,null,null,null,null,null,null,null,null,null,null,null,null,null,null,null,null,null,null,null,null,null,null,null,null,null,null,null,null,null,null,null,null,null,null,null,null,null,null,null,null,null,null,null,null,null,null,null,null,null,null,null,null,null,null,null,null,null,null,null,null,null,null,4,"H","HH","B","HB"]
["Critère d'appartenance pour la mise en tableau",null,null,null,null,"Club",null,null,null,null,null,null,null,null,null,null,null,null,"Club, Comité ou Ligue (tiré au sort)",null,null,null,null,null,null,null,null,null,null,null," ",null,null,null,null,null,null,null,null,null,null,null,null,null,null,null,null,null,null,null,null,null,null,null,null,null,null,null,null,null,null,null,null,null,null,null,null,null,null,null,null,null,null,null,null,null,null,null,5,"H","HB","B","HH"]
[null,null,null,null,"Club",null,null,null,null,null,null,null,null,null,null,null,null,null,"Partie du tableau tirée au sort (H=Haut, B=Bas)",null,null,null,null,null,null,null,null,null,null,null,"H ou B",null,"H ou B",null,null,null,null,null,null,null,null,null,null,null,null,null,null,null,null,null,null,null,null,null,null,null,null,null,null,null,null,null,null,null,null,null,null,null,null,null,null,null,null,null,null,null,null,null,6,"H","HB","B","HH"]
[{"$f":"IF(F8=\"Club\",10,IF(F8=\"Ligue\",11,IF(F8=\"Comité\",12,10)))","v":10},null,null,null,"Ligue",null,null,null,null,null,null,null,null,null,null,null,null,null,null,null,null,null,null,null,null,null,null,null,null,null,null,null,"H",null,"Position"," ",null,null,null,null,null,null,null,null,null,null,null,null,null,null,null,null,null,null,null,null,null,null,null,null,null,null,null,null,null,null,null,0,"H","B","HH","HB","BH","BB",null,null,null,null,null,"B","HB","H","HB"]
[null,null,null,null,"Comité",null,null,null,null,null,null,null,null,null,null,null,null,null,null,null,null,null,null,null,null,null,null,null,null,null,null,null,"B",null,"N° colonne TCD","H",null,null,null,null,null,null,null,null,null,null,null,null,null,null,null,null,null,null,null,null,null,null,null,null,null,null,null,null,null,null,null,{"$f":"MATCH(BP10,$AI$16:$BO$16,0)","v":2},{"$f":"MATCH(BQ10,$AI$15:$BO$15,0)","v":2},{"$f":"MATCH(BR10,$AI$15:$BO$15,0)","v":10},{"$f":"MATCH(BS10,$AI$16:$BO$16,0)","v":5},{"$f":"MATCH(BT10,$AI$16:$BO$16,0)","v":7},{"$f":"MATCH(BU10,$AI$16:$BO$16,0)","v":15},{"$f":"MATCH(BV10,$AI$16:$BO$16,0)","v":13},null,null,null,null,49,"B","HB","H","HB"]
[null,null,null,null,null,null,null,null,null,null,null,null,null,null,null,null,null,null,null,null,null,null,null,null,null,null,null,null,null,null,null,null,"HH",null,null,2,3,4,5,6,7,8,9,10,11,12,13,14,15,16,17,18,19,20,21,22,23,24,25,26,27,28,29,30,31,32,33,34,35,36,37,38,39,40,null,null,null,null,7,"H","HB","B","HH"]
[null,null,null,null,null,null,null,null,null,null,null,null,null,null,null,null,null,"1er de poule",null,null,null,null,null,null,null,null,null,null,null,null,null,null,"HB",null,"NB JOUEUR / CLUB",null,null,null,null,null,null,null,null,null,null,null,null,null,null,null,null,null,null,null,null,null,null,null,null,null,null,null,null,null,null,null,null,null,null,null,null,null,null,null,null,null,null,null,8,"H","HB","B","HH"]
[null,null,null,null,null,null,null,null,null,null,null,null,"N° Dispo",null,null,null,null,"Pl","x","TAS","N°","Dos","NOM Prénom","Rang","SPIDD","a","1/2 T","1/4 T","c","d","Club, Comité ou Ligue","N° Club","BH",null,"NB Club, Comité ou Ligue","1/2 T","1/4 T","N°",null,null,null,null,null,null,null,null,null,null,null,null,null,null,null,null,null,null,null,null,null,null,null,null,null,null,null,null,null,"TAS >1",null,null,null,null,null,null,null,null,null,null,9,"B","BH","H","BB"]
[1,1,{"$f":"A15","v":1},1,{"$f":"IF(ISNA(VLOOKUP(C15,$T$15:$AE$50,4,FALSE)),\"\",VLOOKUP(C15,$T$15:$AE$50,4,FALSE)&\" - \"&VLOOKUP(C15,$T$15:$AE$50,12,FALSE))","v":""},{"$f":"IF(ISNA(VLOOKUP(C15,$T$15:$AE$50,12,FALSE)),\"\",VLOOKUP(C15,$T$15:$AE$50,12,FALSE))","v":""}," ",null,"HH",null,null,null,1,null,32,null,null,"P",1,null,1,{"$f":"IF(ISNA(VLOOKUP(Y15,Liste_SPIDD,2,FALSE)),901,VLOOKUP(Y15,Liste_SPIDD,2,FALSE))","v":44},{"$f":"IF(V15=\"\",\"\",IF(ISNA(VLOOKUP($V15,Liste_Dos_SPIDD,2,FALSE)),VLOOKUP($V15,Liste_J,3,FALSE),VLOOKUP($V15,Liste_Dos_SPIDD,2,FALSE)))","v":"LUCAS Ifig"},1,{"$f":"S15&U15","v":"11"},{"$f":"IF($T15=0,0,VLOOKUP($T15,$CA$4:$CD$68,2,FALSE))","v":0},0,{"$f":"IF($T15=0,0,VLOOKUP($T15,$CA$4:$CD$68,3,FALSE))","v":0},null,null,{"$f":"IF(V15=\"\",\"\",IF(ISNA(VLOOKUP(V15,Liste_Dos_SPIDD,3,FALSE)),VLOOKUP(V15,Liste_J,$A$10,FALSE),VLOOKUP(V15,Liste_Dos_SPIDD,3,FALSE)))","v":"EQUEURDREVILLE"},{"$f":"IF(ISERROR(VLOOKUP(V15,$V$131:$AF$147,1,FALSE)),\"\",IF(VLOOKUP(V15,$V$131:$AF$147,11,FALSE)=\"1/1\",\"\",VLOOKUP(V15,$V$131:$AF$147,11,FALSE)))","v":""},"BB",null,null,"H",null,null,null,null,null,null,"Total H","B",null,null,null,null,null,null,"Total B","Total général",null,null,null,null,null,null,null,null,null,null,null,null,null,null,null,"1er","2ème",null,"3ème",null,null,null,null,null,null,null,10,"B","BH","H","BB"]
[null,null,0,null,null,""," ",null,null,null,null,null,16,null,31,null,null,"P",2,null,1,{"$f":"IF(ISNA(VLOOKUP(Y16,Liste_SPIDD,2,FALSE)),901,VLOOKUP(Y16,Liste_SPIDD,2,FALSE))","v":50},{"$f":"IF(V16=\"\",\"\",IF(ISNA(VLOOKUP($V16,Liste_Dos_SPIDD,2,FALSE)),VLOOKUP($V16,Liste_J,3,FALSE),VLOOKUP($V16,Liste_Dos_SPIDD,2,FALSE)))","v":"VIDAL Charles"},2,{"$f":"S16&U16","v":"21"},0,0,0,null,null,{"$f":"IF(V16=\"\",\"\",IF(ISNA(VLOOKUP(V16,Liste_Dos_SPIDD,3,FALSE)),VLOOKUP(V16,Liste_J,$A$10,FALSE),VLOOKUP(V16,Liste_Dos_SPIDD,3,FALSE)))","v":"ASSUN TT"},"",null,null,null,0,null,"Total 0","HH","Total HH","HB","Total HB",null,0,null,"Total 0","BB","Total BB","BH","Total BH",null,null,null,null,null,null,null,null,null,null,null,null,null,null,null,null,null,null,"H","B","HH","HB","BH","BB",null,null,null,null,11,"B","BH","H","BB"]
[2,"9=",2,16,"Exempt -  "," "," ",null,null,null,null,null,9,null,30,null,null,"P",3,null,1,{"$f":"IF(ISNA(VLOOKUP(Y17,Liste_SPIDD,2,FALSE)),901,VLOOKUP(Y17,Liste_SPIDD,2,FALSE))","v":49},{"$f":"IF(V17=\"\",\"\",IF(ISNA(VLOOKUP($V17,Liste_Dos_SPIDD,2,FALSE)),VLOOKUP($V17,Liste_J,3,FALSE),VLOOKUP($V17,Liste_Dos_SPIDD,2,FALSE)))","v":"ROBION Paul"},3,{"$f":"S17&U17","v":"31"},0,0,0,null,null,{"$f":"IF(V17=\"\",\"\",IF(ISNA(VLOOKUP(V17,Liste_Dos_SPIDD,3,FALSE)),VLOOKUP(V17,Liste_J,$A$10,FALSE),VLOOKUP(V17,Liste_Dos_SPIDD,3,FALSE)))","v":"SIOUVILLE ATTLC"},"",null,null,"Club, Comité ou Ligue",2,3,null,1,null,1,null,null,2,3,null,1,null,1,null,null,null,null,null,null,null,null,null,null,null,null,null,null,null,null,null,null,{"$f":"IF(VLOOKUP($AI17,$AI$14:$BJ$47,BP$11,FALSE)>1,VLOOKUP($AI17,$AI$14:$BJ$47,BP$11,FALSE),\"\")","v":2},{"$f":"IF(OR(VLOOKUP($AI17,$AI$14:$BJ$47,BQ$11,FALSE)>1,AND(VLOOKUP($AI17,$AI$14:$BJ$47,BQ$11,FALSE)=1,(VLOOKUP($AI17,$AI$14:$BJ$47,BQ$11+4,FALSE)+VLOOKUP($AI17,$AI$14:$BJ$47,BQ$11+6,FALSE))>0)),(VLOOKUP($AI17,$AI$14:$BJ$47,BQ$11,FALSE)+VLOOKUP($AI17,$AI$14:$BJ$47,BQ$11+4,FALSE)+VLOOKUP($AI17,$AI$14:$BJ$47,BQ$11+6,FALSE)),\"\")","v":2},{"$f":"IF(OR(VLOOKUP($AI17,$AI$14:$BJ$47,BR$11,FALSE)>1,AND(VLOOKUP($AI17,$AI$14:$BJ$47,BR$11,FALSE)=1,(VLOOKUP($AI17,$AI$14:$BJ$47,BR$11+4,FALSE)+VLOOKUP($AI17,$AI$14:$BJ$47,BR$11+6,FALSE))>0)),(VLOOKUP($AI17,$AI$14:$BJ$47,BR$11,FALSE)+VLOOKUP($AI17,$AI$14:$BJ$47,BR$11+4,FALSE)+VLOOKUP($AI17,$AI$14:$BJ$47,BR$11+6,FALSE)),\"\")","v":2},{"$f":"IF(OR(VLOOKUP($AI17,$AI$14:$BJ$47,BS$11+2,FALSE)>1,AND(VLOOKUP($AI17,$AI$14:$BJ$47,BS$11+2,FALSE)=1,VLOOKUP($AI17,$AI$14:$BJ$47,BS$11+3,FALSE)>1)),VLOOKUP($AI17,$AI$14:$BJ$47,BS$11+3,FALSE),\"\")","v":""},"","","",null,null,null,null,12,"B","BH","H","BB"]
[null,null,0,null,null,""," ",null,null,null,null,null,8,null,29,null,null,"P",4,null,1,{"$f":"IF(ISNA(VLOOKUP(Y18,Liste_SPIDD,2,FALSE)),901,VLOOKUP(Y18,Liste_SPIDD,2,FALSE))","v":47},{"$f":"IF(V18=\"\",\"\",IF(ISNA(VLOOKUP($V18,Liste_Dos_SPIDD,2,FALSE)),VLOOKUP($V18,Liste_J,3,FALSE),VLOOKUP($V18,Liste_Dos_SPIDD,2,FALSE)))","v":"LEVILLAIN Camille"},4,{"$f":"S18&U18","v":"41"},0,0,0,null,null,{"$f":"IF(V18=\"\",\"\",IF(ISNA(VLOOKUP(V18,Liste_Dos_SPIDD,3,FALSE)),VLOOKUP(V18,Liste_J,$A$10,FALSE),VLOOKUP(V18,Liste_Dos_SPIDD,3,FALSE)))","v":"ST PAIR BRICQUE"},"",null,null,"ASSUN TT",null,null,null,null,null,null,null,null,null,null,null,1,1,null,null,1,1,null,null,null,null,null,null,null,null,null,null,null,null,null,null,null,"","","","","","","",null,null,null,null,13,"B","BB","H","BH"]
[3,"9=",3,9,"",""," ",null,null,null,null,null,5,null,28,null,null,null,null,2,1,{"$f":"IF(ISNA(VLOOKUP(Y19,Liste_SPIDD,2,FALSE)),901,VLOOKUP(Y19,Liste_SPIDD,2,FALSE))","v":901},{"$f":"IF(V19=\"\",\"\",IF(ISNA(VLOOKUP($V19,Liste_Dos_SPIDD,2,FALSE)),VLOOKUP($V19,Liste_J,3,FALSE),VLOOKUP($V19,Liste_Dos_SPIDD,2,FALSE)))","v":"Exempt"},5,null,"H","H","HH",null,null,{"$f":"IF(V19=\"\",\"\",IF(ISNA(VLOOKUP(V19,Liste_Dos_SPIDD,3,FALSE)),VLOOKUP(V19,Liste_J,$A$10,FALSE),VLOOKUP(V19,Liste_Dos_SPIDD,3,FALSE)))","v":" "},"",null,null,"ATTDUCEYAVRANCH",null,1,1,null,null,null,null,1,null,1,1,null,null,null,null,1,2,null,null,null,null,null,null,null,null,null,null,null,null,null,null,null,"","","","","",2,"",null,null,null,null,14,"B","BB","H","BH"]
[null,null,0,null,null,""," ",null,null,null,null,null,12,null,27,null,null,"P",6,null,1,null,{"$f":"IF(V20=\"\",\"\",VLOOKUP(V20,Liste_J,3,FALSE))","v":""},6,null,0,0,0,null,null,{"$f":"IF(V20=\"\",\"\",VLOOKUP(V20,Liste_J,$A$10,FALSE))","v":""},"",null,null,"COUTANCES JA",1,null,1,null,null,null,null,1,1,null,1,null,null,null,null,1,2,null,null,null,null,null,null,null,null,null,null,null,null,null,null,null,"","","","","",2,"",null,null,null,null,15,"B","BB","H","BH"]
[4,"5=",4,8,"",""," ",null,null,null,null,null,13,null,26,null,null,"P",7,null,1,null,{"$f":"IF(V21=\"\",\"\",VLOOKUP(V21,Liste_J,3,FALSE))","v":""},7,null,0,0,0,null,null,{"$f":"IF(V21=\"\",\"\",VLOOKUP(V21,Liste_J,$A$10,FALSE))","v":""},"",null,null,"EQUEURDREVILLE",null,null,null,1,1,null,null,1,null,null,null,null,null,null,null,null,1,null,null,null,null,null,null,null,null,null,null,null,null,null,null,null,"","","","","","","",null,null,null,null,16,"B","BB","H","BH"]
[null,null,0,null,null,""," ",null,null,null,null,null,4,null,25,null,null,"P",8,null,1,null,{"$f":"IF(V22=\"\",\"\",VLOOKUP(V22,Liste_J,3,FALSE))","v":""},8,null,0,0,0,null,null,{"$f":"IF(V22=\"\",\"\",VLOOKUP(V22,Liste_J,$A$10,FALSE))","v":""},"",null,null,"OC AGNEAUX",1,null,1,null,null,null,null,1,null,null,null,null,null,null,null,null,1,null,null,null,null,null,null,null,null,null,null,null,null,null,null,null,"","","","","","",""]
[5,"5=",5,5,"",""," ",null,"HB",null,null,null,3,null,24,null,null,"P",9,null,1,null,{"$f":"IF(V23=\"\",\"\",VLOOKUP(V23,Liste_J,3,FALSE))","v":""},9,null,0,0,0,null,null,{"$f":"IF(V23=\"\",\"\",VLOOKUP(V23,Liste_J,$A$10,FALSE))","v":""},"",null,null,"SIOUVILLE ATTLC",null,null,null,null,null,null,null,null,null,null,null,null,null,1,1,1,1,null,null,null,null,null,null,null,null,null,null,null,null,null,null,null,"","","","","","",""]
[null,null,0,null,null,""," ",null,null,null,null,null,14,null,23,null,null,"P",10,null,1,null,{"$f":"IF(V24=\"\",\"\",VLOOKUP(V24,Liste_J,3,FALSE))","v":""},10,null,0,0,0,null,null,{"$f":"IF(V24=\"\",\"\",VLOOKUP(V24,Liste_J,$A$10,FALSE))","v":""},"",null,null,"ST PAIR BRICQUE",null,1,1,null,null,1,1,2,null,1,1,null,null,null,null,1,3,null,null,null,null,null,null,null,null,null,null,null,null,null,null,null,"","","","",0,3,""]
[6,"9=",6,12,"",""," ",null,null,null,null,null,11,null,22,null,null,"2ème de poule",null,null,null,null,null,null,null,null,null,null,null,null,null,null,null,null,"TT SAINT JAMES",null,null,null,null,null,null,null,null,1,null,1,null,null,null,null,1,1,null,null,null,null,null,null,null,null,null,null,null,null,null,null,null,"","","","","","",""]
[null,null,0,null,null,""," ",null,null,null,null,null,6,null,21,null,null,"P",1,null,2,{"$f":"IF(ISNA(VLOOKUP(Y26,Liste_SPIDD,2,FALSE)),901,VLOOKUP(Y26,Liste_SPIDD,2,FALSE))","v":201},{"$f":"IF(V26=\"\",\"\",IF(ISNA(VLOOKUP($V26,Liste_Dos_SPIDD,2,FALSE)),VLOOKUP($V26,Liste_J,3,FALSE),VLOOKUP($V26,Liste_Dos_SPIDD,2,FALSE)))","v":"LUCAS Ifig"},11,{"$f":"S26&U26","v":"12"},{"$f":"IF($T26=0,0,VLOOKUP($T26,$CA$4:$CD$68,2,FALSE))","v":0},{"$f":"IF(AA15=\"H\",\"B\",IF(AA15=\"B\",\"H\",\"\"))","v":""},{"$f":"IF($T26=0,0,VLOOKUP($T26,$CA$4:$CD$68,3,FALSE))","v":0},null,null,{"$f":"IF(V26=\"\",\"\",IF(ISNA(VLOOKUP(V26,Liste_Dos_SPIDD,3,FALSE)),VLOOKUP(V26,Liste_J,$A$10,FALSE),VLOOKUP(V26,Liste_Dos_SPIDD,3,FALSE)))","v":"EQUEURDREVILLE"},{"$f":"IF(ISERROR(VLOOKUP(AE26,$AI$12:$BV$54,18,FALSE)),\"\",IF($AE$9=\"H\",VLOOKUP(AE26,$AI$12:$BV$54,35,FALSE),IF($AE$9=\"B\",VLOOKUP(AE26,$AI$12:$BV$54,36,FALSE),\"\")))","v":""},null,null,"Total général",2,2,4,1,1,1,1,6,2,2,4,1,1,1,1,6,12,null,null,null,null,null,null,null,null,null,null,null,null,null,null,null,2,4,4,"",2,12,""]
[7,"9=",7,13,"Exempt -  "," "," ",null,null,null,null,null,7,null,20,null,null,"P",2,null,2,{"$f":"IF(ISNA(VLOOKUP(Y27,Liste_SPIDD,2,FALSE)),901,VLOOKUP(Y27,Liste_SPIDD,2,FALSE))","v":202},{"$f":"IF(V27=\"\",\"\",IF(ISNA(VLOOKUP($V27,Liste_Dos_SPIDD,2,FALSE)),VLOOKUP($V27,Liste_J,3,FALSE),VLOOKUP($V27,Liste_Dos_SPIDD,2,FALSE)))","v":"VIDAL Charles"},12,{"$f":"S27&U27","v":"22"},0,{"$f":"IF(AA16=\"H\",\"B\",IF(AA16=\"B\",\"H\",\"\"))","v":""},0,null,null,{"$f":"IF(V27=\"\",\"\",IF(ISNA(VLOOKUP(V27,Liste_Dos_SPIDD,3,FALSE)),VLOOKUP(V27,Liste_J,$A$10,FALSE),VLOOKUP(V27,Liste_Dos_SPIDD,3,FALSE)))","v":"ASSUN TT"},{"$f":"IF(ISERROR(VLOOKUP(AE27,$AI$12:$BV$54,18,FALSE)),\"\",IF($AE$9=\"H\",VLOOKUP(AE27,$AI$12:$BV$54,35,FALSE),IF($AE$9=\"B\",VLOOKUP(AE27,$AI$12:$BV$54,36,FALSE),\"\")))","v":""},null,null,null,null,null,null,null,null,null,null,null,null,null,null,null,null,null,null,null,null,null,null,null,null,null,null,null,null,null,null,null,null,null,null,null,{"$error":"#N/A"},{"$error":"#N/A"},{"$error":"#N/A"},{"$error":"#N/A"},{"$error":"#N/A"},{"$error":"#N/A"},{"$error":"#N/A"}]
[null,null,0,null,null,""," ",null,null,null,null,null,10,null,19,null,null,"P",3,null,2,{"$f":"IF(ISNA(VLOOKUP(Y28,Liste_SPIDD,2,FALSE)),901,VLOOKUP(Y28,Liste_SPIDD,2,FALSE))","v":203},{"$f":"IF(V28=\"\",\"\",IF(ISNA(VLOOKUP($V28,Liste_Dos_SPIDD,2,FALSE)),VLOOKUP($V28,Liste_J,3,FALSE),VLOOKUP($V28,Liste_Dos_SPIDD,2,FALSE)))","v":"ROBION Paul"},13,{"$f":"S28&U28","v":"32"},0,"",0,null,null,{"$f":"IF(V28=\"\",\"\",IF(ISNA(VLOOKUP(V28,Liste_Dos_SPIDD,3,FALSE)),VLOOKUP(V28,Liste_J,$A$10,FALSE),VLOOKUP(V28,Liste_Dos_SPIDD,3,FALSE)))","v":"SIOUVILLE ATTLC"},"",null,null,null,null,null,null,null,null,null,null,null,null,null,null,null,null,null,null,null,null,null,null,null,null,null,null,null,null,null,null,null,null,null,null,null,{"$error":"#N/A"},{"$error":"#N/A"},{"$error":"#N/A"},{"$error":"#N/A"},{"$error":"#N/A"},{"$error":"#N/A"},{"$error":"#N/A"}]
[8,"3=",8,4,"",""," ",null,null,null,null,null,15,null,18,null,null,"P",4,null,2,{"$f":"IF(ISNA(VLOOKUP(Y29,Liste_SPIDD,2,FALSE)),901,VLOOKUP(Y29,Liste_SPIDD,2,FALSE))","v":204},{"$f":"IF(V29=\"\",\"\",IF(ISNA(VLOOKUP($V29,Liste_Dos_SPIDD,2,FALSE)),VLOOKUP($V29,Liste_J,3,FALSE),VLOOKUP($V29,Liste_Dos_SPIDD,2,FALSE)))","v":"LEVILLAIN Camille"},14,{"$f":"S29&U29","v":"42"},0,"",0,null,null,{"$f":"IF(V29=\"\",\"\",IF(ISNA(VLOOKUP(V29,Liste_Dos_SPIDD,3,FALSE)),VLOOKUP(V29,Liste_J,$A$10,FALSE),VLOOKUP(V29,Liste_Dos_SPIDD,3,FALSE)))","v":"ST PAIR BRICQUE"},"",null,null,null,null,null,null,null,null,null,null,null,null,null,null,null,null,null,null,null,null,null,null,null,null,null,null,null,null,null,null,null,null,null,null,null,{"$error":"#N/A"},{"$error":"#N/A"},{"$error":"#N/A"},{"$error":"#N/A"},{"$error":"#N/A"},{"$error":"#N/A"},{"$error":"#N/A"}]
[null,null,0,null,null,""," ",null,null,null,null,null,2,null,17,null,null,null,null,15,2,{"$f":"IF(ISNA(VLOOKUP(Y30,Liste_SPIDD,2,FALSE)),901,VLOOKUP(Y30,Liste_SPIDD,2,FALSE))","v":901},{"$f":"IF(V30=\"\",\"\",IF(ISNA(VLOOKUP($V30,Liste_Dos_SPIDD,2,FALSE)),VLOOKUP($V30,Liste_J,3,FALSE),VLOOKUP($V30,Liste_Dos_SPIDD,2,FALSE)))","v":"Exempt"},15,null,"B","B","BB",null,null,{"$f":"IF(V30=\"\",\"\",IF(ISNA(VLOOKUP(V30,Liste_Dos_SPIDD,3,FALSE)),VLOOKUP(V30,Liste_J,$A$10,FALSE),VLOOKUP(V30,Liste_Dos_SPIDD,3,FALSE)))","v":" "},"",null,null,null,null,null,null,null,null,null,null,null,null,null,null,null,null,null,null,null,null,null,null,null,null,null,null,null,null,null,null,null,null,null,null,null,{"$error":"#N/A"},{"$error":"#N/A"},{"$error":"#N/A"},{"$error":"#N/A"},{"$error":"#N/A"},{"$error":"#N/A"},{"$error":"#N/A"}]
[null,null,null,null,null,null,null,null,null,null,null,null,null,null,null,null,null,"P",6,null,2,null,{"$f":"IF(V31=\"\",\"\",VLOOKUP(V31,Liste_J,3,FALSE))","v":""},16,null,0,"",0,null,null,{"$f":"IF(V31=\"\",\"\",VLOOKUP(V31,Liste_J,$A$10,FALSE))","v":""},"",null,null,null,null,null,null,null,null,null,null,null,null,null,null,null,null,null,null,null,null,null,null,null,null,null,null,null,null,null,null,null,null,null,null,null,{"$error":"#N/A"},{"$error":"#N/A"},{"$error":"#N/A"},{"$error":"#N/A"},{"$error":"#N/A"},{"$error":"#N/A"},{"$error":"#N/A"}]
[9,"3=",{"$f":"A32","v":9},3,{"$f":"IF(ISNA(VLOOKUP(C32,$T$15:$AE$50,4,FALSE)),\"\",VLOOKUP(C32,$T$15:$AE$50,4,FALSE)&\" - \"&VLOOKUP(C32,$T$15:$AE$50,12,FALSE))","v":""},{"$f":"IF(ISNA(VLOOKUP(C32,$T$15:$AE$50,12,FALSE)),\"\",VLOOKUP(C32,$T$15:$AE$50,12,FALSE))","v":""}," ",null,"BH",null,null,null,null,null,null,null,null,"P",7,null,2,null,{"$f":"IF(V32=\"\",\"\",VLOOKUP(V32,Liste_J,3,FALSE))","v":""},17,null,0,"",0,null,null,{"$f":"IF(V32=\"\",\"\",VLOOKUP(V32,Liste_J,$A$10,FALSE))","v":""},"",null,null,null,null,null,null,null,null,null,null,null,null,null,null,null,null,null,null,null,null,null,null,null,null,null,null,null,null,null,null,null,null,null,null,null,{"$error":"#N/A"},{"$error":"#N/A"},{"$error":"#N/A"},{"$error":"#N/A"},{"$error":"#N/A"},{"$error":"#N/A"},{"$error":"#N/A"}]
[null,null,0,null,null,""," ",null,null,null,null,null,null,null,null,null,null,"P",8,null,2,null,{"$f":"IF(V33=\"\",\"\",VLOOKUP(V33,Liste_J,3,FALSE))","v":""},18,null,0,"",0,null,null,{"$f":"IF(V33=\"\",\"\",VLOOKUP(V33,Liste_J,$A$10,FALSE))","v":""},"",null,null,null,null,null,null,null,null,null,null,null,null,null,null,null,null,null,null,null,null,null,null,null,null,null,null,null,null,null,null,null,null,null,null,null,{"$error":"#N/A"},{"$error":"#N/A"},{"$error":"#N/A"},{"$f":"IF(OR(VLOOKUP($AI33,$AI$14:$BJ$47,BS$11+2,FALSE)>1,AND(VLOOKUP($AI33,$AI$14:$BJ$47,BS$11+2,FALSE)=1,VLOOKUP($AI33,$AI$14:$BJ$47,BS$11+3,FALSE)>1)),VLOOKUP($AI33,$AI$14:$BJ$47,BS$11+3,FALSE),\"\")","v":{"$error":"#N/A"}},{"$error":"#N/A"},{"$error":"#N/A"},{"$error":"#N/A"}]
[10,"9=",10,14,"Exempt -  "," "," ",null,null,null,null,null,null,null,null,null,null,"P",9,null,2,null,{"$f":"IF(V34=\"\",\"\",VLOOKUP(V34,Liste_J,3,FALSE))","v":""},19,null,0,"",0,null,null,{"$f":"IF(V34=\"\",\"\",VLOOKUP(V34,Liste_J,$A$10,FALSE))","v":""},"",null,null,null,null,null,null,null,null,null,null,null,null,null,null,null,null,null,null,null,null,null,null,null,null,null,null,null,null,null,null,null,null,null,null,null,{"$error":"#N/A"},{"$error":"#N/A"},{"$error":"#N/A"},{"$error":"#N/A"},{"$error":"#N/A"},{"$error":"#N/A"},{"$error":"#N/A"}]
[null,null,0,null,null,""," ",null,null,null,null,null,null,null,null,null,null,"P",10,null,2,null,{"$f":"IF(V35=\"\",\"\",VLOOKUP(V35,Liste_J,3,FALSE))","v":""},20,null,0,"",0,null,null,{"$f":"IF(V35=\"\",\"\",VLOOKUP(V35,Liste_J,$A$10,FALSE))","v":""},"",null,null,null,null,null,null,null,null,null,null,null,null,null,null,null,null,null,null,null,null,null,null,null,null,null,null,null,null,null,null,null,null,null,null,null,{"$error":"#N/A"},{"$error":"#N/A"},{"$error":"#N/A"},{"$error":"#N/A"},{"$error":"#N/A"},{"$error":"#N/A"},{"$error":"#N/A"}]
[11,"9=",11,11,"",""," ",null,null,null,null,null,null,null,null,null,null,"3ème de poule",null,null,null,null,null,null,null,null,null,null,null,null,null,null,null,null,null,null,null,null,null,null,null,null,null,null,null,null,null,null,null,null,null,null,null,null,null,null,null,null,null,null,null,null,null,null,null,null,null,{"$error":"#N/A"},{"$error":"#N/A"},{"$error":"#N/A"},{"$error":"#N/A"},{"$error":"#N/A"},{"$error":"#N/A"},{"$error":"#N/A"}]
[null,null,0,null,null,""," ",null,null,null,null,null,null,null,null,null,null,"P",1,null,3,{"$f":"IF(ISNA(VLOOKUP(Y37,Liste_SPIDD,2,FALSE)),901,VLOOKUP(Y37,Liste_SPIDD,2,FALSE))","v":301},{"$f":"IF(V37=\"\",\"\",IF(ISNA(VLOOKUP($V37,Liste_Dos_SPIDD,2,FALSE)),VLOOKUP($V37,Liste_J,3,FALSE),VLOOKUP($V37,Liste_Dos_SPIDD,2,FALSE)))","v":"LUCAS Ifig"},21,{"$f":"S37&U37","v":"13"},{"$f":"IF($T37=0,0,VLOOKUP($T37,$CA$4:$CD$68,2,FALSE))","v":0},{"$f":"AA26","v":""},{"$f":"IF($AB26=0,0,IF(AB26=\"HH\",\"HB\",IF(AB26=\"HB\",\"HH\",IF(AB26=\"BH\",\"BB\",IF(AB26=\"BB\",\"BH\")))))","v":0},null,null,{"$f":"IF(V37=\"\",\"\",IF(ISNA(VLOOKUP(V37,Liste_Dos_SPIDD,3,FALSE)),VLOOKUP(V37,Liste_J,$A$10,FALSE),VLOOKUP(V37,Liste_Dos_SPIDD,3,FALSE)))","v":"EQUEURDREVILLE"},{"$f":"IF(ISERROR(VLOOKUP(AE37,$AI$12:$BV$54,18,FALSE)),\"\",IF($AE$9=\"HH\",VLOOKUP(AE37,$AI$12:$BV$54,37,FALSE),IF($AE$9=\"HB\",VLOOKUP(AE37,$AI$12:$BV$54,38,FALSE),IF($AE$9=\"BH\",VLOOKUP(AE37,$AI$12:$BV$54,39,FALSE),IF($AE$9=\"BB\",VLOOKUP(AE37,$AI$12:$BV$54,40,FALSE),\"\")))))","v":""},null,null,null,null,null,null,null,null,null,null,null,null,null,null,null,null,null,null,null,null,null,null,null,null,null,null,null,null,null,null,null,null,null,null,null,{"$error":"#N/A"},{"$error":"#N/A"},{"$error":"#N/A"},{"$error":"#N/A"},{"$error":"#N/A"},{"$error":"#N/A"},{"$error":"#N/A"}]
[12,"5=",12,6,"",""," ",null,null,null,null,null,null,null,null,null,null,"P",2,null,3,{"$f":"IF(ISNA(VLOOKUP(Y38,Liste_SPIDD,2,FALSE)),901,VLOOKUP(Y38,Liste_SPIDD,2,FALSE))","v":302},{"$f":"IF(V38=\"\",\"\",IF(ISNA(VLOOKUP($V38,Liste_Dos_SPIDD,2,FALSE)),VLOOKUP($V38,Liste_J,3,FALSE),VLOOKUP($V38,Liste_Dos_SPIDD,2,FALSE)))","v":"VIDAL Charles"},22,{"$f":"S38&U38","v":"23"},0,{"$f":"AA27","v":""},{"$f":"IF($AB27=0,0,IF(AB27=\"HH\",\"HB\",IF(AB27=\"HB\",\"HH\",IF(AB27=\"BH\",\"BB\",IF(AB27=\"BB\",\"BH\")))))","v":0},null,null,{"$f":"IF(V38=\"\",\"\",IF(ISNA(VLOOKUP(V38,Liste_Dos_SPIDD,3,FALSE)),VLOOKUP(V38,Liste_J,$A$10,FALSE),VLOOKUP(V38,Liste_Dos_SPIDD,3,FALSE)))","v":"ASSUN TT"},"",null,null,null,null,null,null,null,null,null,null,null,null,null,null,null,null,null,null,null,null,null,null,null,null,null,null,null,null,null,null,null,null,null,null,null,{"$error":"#N/A"},{"$error":"#N/A"},{"$error":"#N/A"},{"$error":"#N/A"},{"$error":"#N/A"},{"$error":"#N/A"},{"$error":"#N/A"}]
[null,null,0,null,null,""," ",null,null,null,null,null,null,null,null,null,null,"P",3,null,3,{"$f":"IF(ISNA(VLOOKUP(Y39,Liste_SPIDD,2,FALSE)),901,VLOOKUP(Y39,Liste_SPIDD,2,FALSE))","v":303},{"$f":"IF(V39=\"\",\"\",IF(ISNA(VLOOKUP($V39,Liste_Dos_SPIDD,2,FALSE)),VLOOKUP($V39,Liste_J,3,FALSE),VLOOKUP($V39,Liste_Dos_SPIDD,2,FALSE)))","v":"ROBION Paul"},23,{"$f":"S39&U39","v":"33"},0,"",0,null,null,{"$f":"IF(V39=\"\",\"\",IF(ISNA(VLOOKUP(V39,Liste_Dos_SPIDD,3,FALSE)),VLOOKUP(V39,Liste_J,$A$10,FALSE),VLOOKUP(V39,Liste_Dos_SPIDD,3,FALSE)))","v":"SIOUVILLE ATTLC"},"",null,null,null,null,null,null,null,null,null,null,null,null,null,null,null,null,null,null,null,null,null,null,null,null,null,null,null,null,null,null,null,null,null,null,null,{"$error":"#N/A"},{"$error":"#N/A"},{"$error":"#N/A"},{"$error":"#N/A"},{"$error":"#N/A"},{"$error":"#N/A"},{"$error":"#N/A"}]
[13,"5=",13,7,"",""," ",null,"BB",null,null,null,null,null,null,null,null,"P",4,null,3,{"$f":"IF(ISNA(VLOOKUP(Y40,Liste_SPIDD,2,FALSE)),901,VLOOKUP(Y40,Liste_SPIDD,2,FALSE))","v":304},{"$f":"IF(V40=\"\",\"\",IF(ISNA(VLOOKUP($V40,Liste_Dos_SPIDD,2,FALSE)),VLOOKUP($V40,Liste_J,3,FALSE),VLOOKUP($V40,Liste_Dos_SPIDD,2,FALSE)))","v":"LEVILLAIN Camille"},24,{"$f":"S40&U40","v":"43"},0,"",0,null,null,{"$f":"IF(V40=\"\",\"\",IF(ISNA(VLOOKUP(V40,Liste_Dos_SPIDD,3,FALSE)),VLOOKUP(V40,Liste_J,$A$10,FALSE),VLOOKUP(V40,Liste_Dos_SPIDD,3,FALSE)))","v":"ST PAIR BRICQUE"},"",null,null,null,null,null,null,null,null,null,null,null,null,null,null,null,null,null,null,null,null,null,null,null,null,null,null,null,null,null,null,null,null,null,null,null,{"$error":"#N/A"},{"$error":"#N/A"},{"$error":"#N/A"},{"$error":"#N/A"},{"$error":"#N/A"},{"$error":"#N/A"},{"$error":"#N/A"}]
[null,null,0,null,null,""," ",null,null,null,null,null,null,null,null,null,null,null,null,10,3,{"$f":"IF(ISNA(VLOOKUP(Y41,Liste_SPIDD,2,FALSE)),901,VLOOKUP(Y41,Liste_SPIDD,2,FALSE))","v":901},{"$f":"IF(V41=\"\",\"\",IF(ISNA(VLOOKUP($V41,Liste_Dos_SPIDD,2,FALSE)),VLOOKUP($V41,Liste_J,3,FALSE),VLOOKUP($V41,Liste_Dos_SPIDD,2,FALSE)))","v":"Exempt"},25,null,"B","B","BH",null,null,{"$f":"IF(V41=\"\",\"\",IF(ISNA(VLOOKUP(V41,Liste_Dos_SPIDD,3,FALSE)),VLOOKUP(V41,Liste_J,$A$10,FALSE),VLOOKUP(V41,Liste_Dos_SPIDD,3,FALSE)))","v":" "},"",null,null,null,null,null,null,null,null,null,null,null,null,null,null,null,null,null,null,null,null,null,null,null,null,null,null,null,null,null,null,null,null,null,null,null,{"$error":"#N/A"},{"$error":"#N/A"},{"$error":"#N/A"},{"$error":"#N/A"},{"$error":"#N/A"},{"$error":"#N/A"},{"$error":"#N/A"}]
[14,"9=",14,10,"",""," ",null,null,null,null,null,null,null,null,null,null,"P",8,null,3,null,{"$f":"IF(V42=\"\",\"\",VLOOKUP(V42,Liste_J,3,FALSE))","v":""},28,null,0,"",0,null,null,{"$f":"IF(V42=\"\",\"\",VLOOKUP(V42,Liste_J,$A$10,FALSE))","v":""},"",null,null,null,null,null,null,null,null,null,null,null,null,null,null,null,null,null,null,null,null,null,null,null,null,null,null,null,null,null,null,null,null,null,null,null,{"$error":"#N/A"},{"$error":"#N/A"},{"$error":"#N/A"},{"$error":"#N/A"},{"$error":"#N/A"},{"$error":"#N/A"},{"$error":"#N/A"}]
[null,null,0,null,null,""," ",null,null,null,null,null,null,null,null,null,null,"P",8,null,3,null,{"$f":"IF(V43=\"\",\"\",VLOOKUP(V43,Liste_J,3,FALSE))","v":""},28,null,0,"",0,null,null,{"$f":"IF(V43=\"\",\"\",VLOOKUP(V43,Liste_J,$A$10,FALSE))","v":""},"",null,null,null,null,null,null,null,null,null,null,null,null,null,null,null,null,null,null,null,null,null,null,null,null,null,null,null,null,null,null,null,null,null,null,null,{"$error":"#N/A"},{"$error":"#N/A"},{"$error":"#N/A"}]
[15,"9=",15,15,"Exempt -  "," "," ",null,null,null,null,null,null,null,null,null,null,null,null,null,null,null,null,null,null,null,null,null,null,null,null,"",null,null,null,null,null,null,null,null,null,null,null,null,null,null,null,null,null,null,null,null,null,null,null,null,null,null,null,null,null,null,null,null,null,null,null,{"$error":"#N/A"},{"$error":"#N/A"},{"$error":"#N/A"}]
[null,null,0,null,null,""," ",null,null,null,null,null,null,null,null,null,null,null,null,7,null,901,{"$f":"IF(V45=\"\",\"\",IF(ISNA(VLOOKUP($V45,Liste_Dos_SPIDD,2,FALSE)),VLOOKUP($V45,Liste_J,3,FALSE),VLOOKUP($V45,Liste_Dos_SPIDD,2,FALSE)))","v":"Exempt"},null,null,null,null,null,null,null,{"$f":"IF(V45=\"\",\"\",IF(ISNA(VLOOKUP(V45,Liste_Dos_SPIDD,3,FALSE)),VLOOKUP(V45,Liste_J,$A$10,FALSE),VLOOKUP(V45,Liste_Dos_SPIDD,3,FALSE)))","v":" "},"",null,null,null,null,null,null,null,null,null,null,null,null,null,null,null,null,null,null,null,null,null,null,null,null,null,null,null,null,null,null,null,null,null,null,null,{"$error":"#N/A"},{"$error":"#N/A"},{"$error":"#N/A"}]
[16,2,16,2,"",""," ",null,null,null,null,null,null,null,null,null,null,null,null,null,null,null,{"$f":"IF(V46=\"\",\"\",VLOOKUP(V46,Liste_J,3,FALSE))","v":""},null,null,null,null,null,null,null,null,null,null,null,null,null,null,null,null,null,null,null,null,null,null,null,null,null,null,null,null,null,null,null,null,null,null,null,null,null,null,null,null,null,null,null,null,{"$error":"#N/A"},{"$error":"#N/A"},{"$error":"#N/A"}]
[null,null,0,null,null,""," ",null,null,null,null,null,null,null,null,null,null,null,null,null,null,999,{"$f":"IF(V47=\"\",\"\",VLOOKUP(V47,Liste_J,3,FALSE))","v":{"$error":"#N/A"}},null,null,null,null,null,null,null,null,null,{"$f":"+T47","v":0},{"$f":"COUNTIF(AG:AG,T47)","v":1},null,null,null,null,null,null,null,null,null,null,null,null,null,null,null,null,null,null,null,null,null,null,null,null,null,null,null,null,null,null,null,null,null,{"$error":"#N/A"},{"$error":"#N/A"},{"$error":"#N/A"}]
[null,null,null,null,null,null,null,null,null,null,null,null,null,null,null,null,null,null,null,null,null,null,null,null,null,null,null,null,null,null,null,null,null,null,null,null,null,null,null,null,null,null,null,null,null,null,null,null,null,null,null,null,null,null,null,null,null,null,null,null,null,null,null,null,null,null,null,null,{"$error":"#N/A"},{"$error":"#N/A"}]
[null,null,null,null,null,null,null,null,null,null,null,null,null,null,null,null,null,null,null,null,null,999,{"$f":"IF(V49=\"\",\"\",VLOOKUP(V49,Liste_J,3,FALSE))","v":{"$error":"#N/A"}},null,null,null,null,null,null,null,null,null,null,null,null,null,null,null,null,null,null,null,null,null,null,null,null,null,null,null,null,null,null,null,null,null,null,null,null,null,null,null,null,null,null,null,null,{"$error":"#N/A"},{"$error":"#N/A"},{"$error":"#N/A"}]
[null,null,null,null,null,null,null,null,null,null,null,null,null,null,null,null,null,null,null,null,null,null,null,null,null,null,null,null,null,null,null,null,null,null,null,null,null,null,null,null,null,null,null,null,null,null,null,null,null,null,null,null,null,null,null,null,null,null,null,null,null,null,null,null,null,null,null,{"$error":"#N/A"},{"$error":"#N/A"},{"$error":"#N/A"}]
[null,null,null,null,null,null,null,null,null,null,null,null,null,null,null,null,null,null,null,null,null,null,null,null,null,null,null,null,null,null,null,null,null,null,null,null,null,null,null,null,null,null,null,null,null,null,null,null,null,null,null,null,null,null,null,null,null,null,null,null,null,null,null,null,null,null,null,{"$error":"#N/A"},{"$error":"#N/A"},{"$error":"#N/A"}]
[null,null,null,null,null,null,null,null,null,null,null,null,null,null,null,null,null,null,null,null,null,null,null,null,null,null,null,null,null,null,null,null,null,null,null,null,null,null,null,null,null,null,null,null,null,null,null,null,null,null,null,null,null,null,null,null,null,null,null,null,null,null,null,null,null,null,null,{"$error":"#N/A"},{"$error":"#N/A"},{"$error":"#N/A"}]
[null,null,null,null,null,null,null,null,null,null,null,null,null,null,null,null,null,null,null,null,null,null,null,null,null,null,null,null,null,null,null,null,null,null,null,null,null,null,null,null,null,null,null,null,null,null,null,null,null,null,null,null,null,null,null,null,null,null,null,null,null,null,null,null,null,null,null,{"$error":"#N/A"},{"$error":"#N/A"},{"$error":"#N/A"}]
[null,null,null,null,null,null,null,null,null,null,null,null,null,null,null,null,null,null,null,null,null,null,null,null,null,null,null,null,null,null,null,null,null,null,null,null,null,null,null,null,null,null,null,null,null,null,null,null,null,null,null,null,null,null,null,null,null,null,null,null,null,null,null,null,null,null,null,{"$error":"#N/A"},{"$error":"#N/A"},{"$error":"#N/A"}]
[]
[]
[]
[]
[]
[]
[]
[]
[]
[]
[]
[]
[]
[]
[]
[]
[]
[]
[]
[]
[]
[]
[]
[]
[]
[]
[]
[]
[]
[]
[]
[]
[]
[]
[]
[]
[]
[]
[]
[]
[]
[]
[]
[]
[]
[]
[]
[]
[]
[]
[]
[]
[]
[]
[]
[]
[]
[]
[]
[]
[]
[]
[]
[]
[]
[]
[]
[]
[]
[]
[]
[]
[]
[null,null,null,null,null,null,null,null,null,null,null,null,null,null,null,null,null,null,null,null,null,null,null,null,{"$f":"IF(AE128=AE127,Y127+1,1)","v":1},{"$f":"COUNTIF($AE$132:$AE$200,AE128)","v":0},null,null,null,null,null,{"$f":"Y128&\"/\"&Z128","v":"1/0"}]
[]
[]
[null,null,null,null,null,null,null,null,null,null,null,null,null,null,null,null,null,null,null,null,null,"Dos","NOM Prénom","Rang","RC","NC","1/2 T","b","c","d","Club","N° Club"]
[null,null,null,null,null,null,null,null,null,null,null,null,null,null,null,null,null,null,null,null,null,901,"Exempt",5,{"$f":"IF(AE132=AE131,Y131+1,1)","v":1},{"$f":"COUNTIF($AE$132:$AE$200,AE132)","v":1},null,null,null,null," ",{"$f":"Y132&\"/\"&Z132","v":"1/1"}]
[null,null,null,null,null,null,null,null,null,null,null,null,null,null,null,null,null,null,null,null,null,50,"VIDAL Charles",2,1,1,null,null,null,null,"ASSUN TT","1/1"]
[null,null,null,null,null,null,null,null,null,null,null,null,null,null,null,null,null,null,null,null,null,44,"LUCAS Ifig",1,1,1,null,null,null,null,"EQUEURDREVILLE","1/1"]
[null,null,null,null,null,null,null,null,null,null,null,null,null,null,null,null,null,null,null,null,null,49,"ROBION Paul",3,1,1,null,null,null,null,"SIOUVILLE ATTLC","1/1"]
[null,null,null,null,null,null,null,null,null,null,null,null,null,null,null,null,null,null,null,null,null,47,"LEVILLAIN Camille",4,1,1,null,null,null,null,"ST PAIR BRICQUE","1/1"]
[null,null,null,null,null,null,null,null,null,null,null,null,null,null,null,null,null,null,null,null,null,null,null,null,1,0,null,null,null,null,null,"1/0"]
[null,null,null,null,null,null,null,null,null,null,null,null,null,null,null,null,null,null,null,null,null,null,null,null,2,0,null,null,null,null,null,"2/0"]
[null,null,null,null,null,null,null,null,null,null,null,null,null,null,null,null,null,null,null,null,null,null,null,null,3,0,null,null,null,null,null,"3/0"]
[null,null,null,null,null,null,null,null,null,null,null,null,null,null,null,null,null,null,null,null,null,null,null,null,4,0,null,null,null,null,null,"4/0"]
[null,null,null,null,null,null,null,null,null,null,null,null,null,null,null,null,null,null,null,null,null,null,null,null,5,0,null,null,null,null,null,"5/0"]

{"sheet":"G-216c","index":11,"n_rows":4,"n_cols":5,"rows_kept":4,"cut":false,"hidden":false,"merged":[]}
["Clt",1,2,3,4]
["1er",{"$f":"'TS-216c'!T15","v":0},{"$f":"'TS-216c'!T16","v":0},{"$f":"'TS-216c'!T17","v":0},{"$f":"'TS-216c'!T18","v":0}]
["2ème",{"$f":"'TS-216c'!T26","v":0},{"$f":"'TS-216c'!T27","v":0},{"$f":"'TS-216c'!T28","v":0},{"$f":"'TS-216c'!T29","v":0}]
["3ème",{"$f":"'TS-216c'!T37","v":0},{"$f":"'TS-216c'!T38","v":0},{"$f":"'TS-216c'!T39","v":0},{"$f":"'TS-216c'!T40","v":0}]

{"sheet":"TS-216d","index":12,"n_rows":141,"n_cols":83,"rows_kept":141,"cut":false,"hidden":false,"merged":[[14,74,14,77],[3,0,5,31],[7,5,7,9],[7,18,7,29],[8,18,8,29],[12,17,12,31],[12,34,12,69],[13,12,13,15],[13,67,13,69],[14,0,15,0],[14,1,15,1],[14,3,15,3],[14,4,15,4],[14,8,21,9],[14,67,15,67],[14,68,14,69],[20,1,21,1],[20,3,21,3],[20,4,21,4],[20,0,21,0],[14,70,14,73],[16,0,17,0],[16,1,17,1],[16,3,17,3],[16,4,17,4],[18,0,19,0],[18,1,19,1],[18,3,19,3],[18,4,19,4],[22,0,23,0],[22,1,23,1],[22,3,23,3],[22,4,23,4],[22,8,29,9],[24,0,25,0],[24,1,25,1],[24,3,25,3],[24,4,25,4],[26,0,27,0],[26,1,27,1],[26,3,27,3],[26,4,27,4],[28,0,29,0],[28,1,29,1],[28,3,29,3],[31,8,38,9],[33,0,34,0],[33,1,34,1],[33,3,34,3],[33,4,34,4],[35,0,36,0],[37,4,38,4],[35,1,36,1],[35,3,36,3],[31,0,32,0],[31,4,32,4],[35,4,36,4],[31,1,32,1],[31,3,32,3],[37,0,38,0],[37,1,38,1],[37,3,38,3],[39,1,40,1],[39,4,40,4],[28,4,29,4],[45,4,46,4],[43,0,44,0],[43,1,44,1],[39,8,46,9],[41,0,42,0],[41,1,42,1],[41,3,42,3],[41,4,42,4],[45,3,46,3],[45,0,46,0],[45,1,46,1],[39,3,40,3],[39,0,40,0],[43,3,44,3],[43,4,44,4]]}
[{"$f":"\"Epreuve  : \"&'TS-200'!$C$1","v":"Epreuve  : Critérium Fédéral"},null,null,null,null,null,null,null,null,null,null,null,null,null,null,null,null,null,null,null,null,null,null,null,null,null,null,null,null,null,null,{"$f":"\"Lieu : \"&'TS-200'!$C$2","v":"Lieu : Pont à Mousson"}]
[{"$f":"\"Tableau : \"&'TS-200'!$C$4","v":"Tableau :  "},null,null,null,null,null,null,null,null,null,null,null,null,null,null,null,null,null,null,null,null,null,null,null,null,null,null,null,null,null,null,{"$f":"\"Date : \"&'TS-200'!$C$3","v":"Date : 15 au 17 mars 2019"}]
[]
["TABLEAU DE TIRAGE AU SORT\n16 JOUEURS\n4 poules - 4 qualifiés",null,null,null,null,null,null,null,null,null,null,null,null,null,null,null,null,null,null,null,null,null,null,null,null,null,null,null,null,null,null,null,null,null,null,null,null,null,null,null,null,null,null,null,null,null,null,null,null,null,null,null,null,null,null,null,null,null,null,null,null,null,null,null,null,null,null,null,null,null,null,null,null,null,null,null,null,null,1,"H","HH","B","HB"]
[null,null,null,null,null,null,null,null,null,null,null,null,null,null,null,null,null,null,null,null,null,null,null,null,null,null,null,null,null,null,null,null,null,null,null,null,null,null,null,null,null,null,null,null,null,null,null,null,null,null,null,null,null,null,null,null,null,null,null,null,null,null,null,null,null,null,null,null,null,null,null,null,null,null,null,null,null,null,2,"H","HH","B","HB"]
[null,null,null,null,null,null,null,null,null,null,null,null,null,null,null,null,null,null,null,null,null,null,null,null,null,null,null,null,null,null,null,null,null,null,null,null,null,null,null,null,null,null,null,null,null,null,null,null,null,null,null,null,null,null,null,null,null,null,null,null,null,null,null,null,null,null,null,null,null,null,null,null,null,null,null,null,null,null,3,"H","HH","B","HB"]
[null,null,null,null,null,null,null,null,null,null,null,null,null,null,null,null,null,null,null,null,null,null,null,null,null,null,null,null,null,null,null,null,null,null,null,null,null,null,null,null,null,null,null,null,null,null,null,null,null,null,null,null,null,null,null,null,null,null,null,null,null,null,null,null,null,null,null,null,null,null,null,null,null,null,null,null,null,null,4,"H","HH","B","HB"]
["Critère d'appartenance pour la mise en tableau",null,null,null,null,"Club",null,null,null,null,null,null,null,null,null,null,null,null,"Club, Comité ou Ligue (tiré au sort)",null,null,null,null,null,null,null,null,null,null,null," ",null,null,null,null,null,null,null,null,null,null,null,null,null,null,null,null,null,null,null,null,null,null,null,null,null,null,null,null,null,null,null,null,null,null,null,null,null,null,null,null,null,null,null,null,null,null,null,5,"H","HB","B","HH"]
[null,null,null,null,"Club",null,null,null,null,null,null,null,null,null,null,null,null,null,"Partie du tableau tirée au sort (H=Haut, B=Bas)",null,null,null,null,null,null,null,null,null,null,null,"B",null,"H ou B",null,null,null,null,null,null,null,null,null,null,null,null,null,null,null,null,null,null,null,null,null,null,null,null,null,null,null,null,null,null,null,null,null,null,null,null,null,null,null,null,null,null,null,null,null,6,"H","HB","B","HH"]
[{"$f":"IF(F8=\"Club\",10,IF(F8=\"Ligue\",11,IF(F8=\"Comité\",12,10)))","v":10},null,null,null,"Ligue",null,null,null,null,null,null,null,null,null,null,null,null,null,null,null,null,null,null,null,null,null,null,null,null,null,null,null,"H",null,"Position"," ",null,null,null,null,null,null,null,null,null,null,null,null,null,null,null,null,null,null,null,null,null,null,null,null,null,null,null,null,null,null,null,0,"H","B","HH","HB","BH","BB","HH","HB","BH","BB",null,"B","HB","H","HB"]
[null,null,null,null,"Comité",null,null,null,null,null,null,null,null,null,null,null,null,null,null,null,null,null,null,null,null,null,null,null,null,null,null,null,"B",null,"N° colonne TCD","H",null,null,null,null,null,null,null,null,null,null,null,null,null,null,null,null,null,null,null,null,null,null,null,null,null,null,null,null,null,null,null,{"$f":"MATCH(BP10,$AI$16:$BO$16,0)","v":{"$error":"#N/A"}},{"$f":"MATCH(BQ10,$AI$15:$BO$15,0)","v":2},{"$f":"MATCH(BR10,$AI$15:$BO$15,0)","v":13},{"$f":"MATCH(BS10,$AI$16:$BO$16,0)","v":2},7,18,13,2,7,18,13,49,"B","HB","H","HB"]
[null,null,null,null,null,null,null,null,null,null,null,null,null,null,null,null,null,null,null,null,null,null,null,null,null,null,null,null,null,null,null,null,"HH",null,null,2,3,4,5,6,7,8,9,10,11,12,13,14,15,16,17,18,19,20,21,22,23,24,25,26,27,28,29,30,31,32,33,34,35,36,37,38,39,40,41,42,43,44,7,"H","HB","B","HH"]
[null,null,null,null,null,null,null,null,null,null,null,null,null,null,null,null,null,"1er de poule",null,null,null,null,null,null,null,null,null,null,null,null,null,null,"HB",null,"NB JOUEUR / CLUB",null,null,null,null,null,null,null,null,null,null,null,null,null,null,null,null,null,null,null,null,null,null,null,null,null,null,null,null,null,null,null,null,null,null,null,null,null,null,null,null,null,null,null,8,"H","HB","B","HH"]
[null,null,null,null,null,null,null,null,null,null,null,null,"N° Dispo",null,null,null,null,"Pl","x","TAS","N°","Dos","NOM Prénom","Rang","SPIDD","a","1/2 T","1/4 T","c","d","Club, Comité ou Ligue","N° Club","BH",null,"NB Club, Comité ou Ligue","1/2 T","1/4 T","N°",null,null,null,null,null,null,null,null,null,null,null,null,null,null,null,null,null,null,null,null,null,null,null,null,null,null,null,null,null,"TAS >1",null,null,null,null,null,null,null,null,null,null,9,"B","BH","H","BB"]
[1,1,{"$f":"A15","v":1},1,{"$f":"IF(ISNA(VLOOKUP(C15,$T$15:$AE$50,4,FALSE)),\"\",VLOOKUP(C15,$T$15:$AE$50,4,FALSE)&\" - \"&VLOOKUP(C15,$T$15:$AE$50,12,FALSE))","v":""},{"$f":"IF(ISNA(VLOOKUP(C15,$T$15:$AE$50,12,FALSE)),\"\",VLOOKUP(C15,$T$15:$AE$50,12,FALSE))","v":""}," ",null,"HH",null,null,null,1,null,32,null,null,"P",1,null,1,{"$f":"IF(ISNA(VLOOKUP(Y15,Liste_SPIDD,2,FALSE)),901,VLOOKUP(Y15,Liste_SPIDD,2,FALSE))","v":44},{"$f":"IF(V15=\"\",\"\",IF(ISNA(VLOOKUP($V15,Liste_Dos_SPIDD,2,FALSE)),VLOOKUP($V15,Liste_J,3,FALSE),VLOOKUP($V15,Liste_Dos_SPIDD,2,FALSE)))","v":"LUCAS Ifig"},1,{"$f":"S15&U15","v":"11"},{"$f":"IF($T15=0,0,VLOOKUP($T15,$CA$4:$CD$68,2,FALSE))","v":0},0,{"$f":"IF($T15=0,0,VLOOKUP($T15,$CA$4:$CD$68,3,FALSE))","v":0},null,null,{"$f":"IF(V15=\"\",\"\",IF(ISNA(VLOOKUP(V15,Liste_Dos_SPIDD,3,FALSE)),VLOOKUP(V15,Liste_J,$A$10,FALSE),VLOOKUP(V15,Liste_Dos_SPIDD,3,FALSE)))","v":"EQUEURDREVILLE"},{"$f":"IF(ISERROR(VLOOKUP(V15,$V$131:$AF$147,1,FALSE)),\"\",IF(VLOOKUP(V15,$V$131:$AF$147,11,FALSE)=\"1/1\",\"\",VLOOKUP(V15,$V$131:$AF$147,11,FALSE)))","v":""},"BB",null,null,"H",null,null,null,null,null,null,null,null,null,"Total H","B",null,null,null,null,null,null,null,null,null,"Total B","Total général",null,null,null,null,null,null,null,null,null,"1er","2ème",null,"3ème",null,null,null,"4ème",null,null,null,10,"B","BH","H","BB"]
[null,null,0,null,null,""," ",null,null,null,null,null,16,null,31,null,null,"P",2,null,1,{"$f":"IF(ISNA(VLOOKUP(Y16,Liste_SPIDD,2,FALSE)),901,VLOOKUP(Y16,Liste_SPIDD,2,FALSE))","v":50},{"$f":"IF(V16=\"\",\"\",IF(ISNA(VLOOKUP($V16,Liste_Dos_SPIDD,2,FALSE)),VLOOKUP($V16,Liste_J,3,FALSE),VLOOKUP($V16,Liste_Dos_SPIDD,2,FALSE)))","v":"VIDAL Charles"},2,{"$f":"S16&U16","v":"21"},0,0,{"$f":"IF($T16=0,0,VLOOKUP($T16,$CA$4:$CD$68,3,FALSE))","v":0},null,null,{"$f":"IF(V16=\"\",\"\",IF(ISNA(VLOOKUP(V16,Liste_Dos_SPIDD,3,FALSE)),VLOOKUP(V16,Liste_J,$A$10,FALSE),VLOOKUP(V16,Liste_Dos_SPIDD,3,FALSE)))","v":"ASSUN TT"},{"$f":"IF(ISERROR(VLOOKUP(V16,$V$131:$AF$147,1,FALSE)),\"\",IF(VLOOKUP(V16,$V$131:$AF$147,11,FALSE)=\"1/1\",\"\",VLOOKUP(V16,$V$131:$AF$147,11,FALSE)))","v":""},null,null,null,"HH",null,null,null,"Total HH","HB",null,null,null,"Total HB",null,"BB",null,null,null,"Total BB","BH",null,null,null,"Total BH",null,null,null,null,null,null,null,null,null,null,null,null,{"$f":"+BQ10","v":"H"},"B","HH","HB","BH","BB","HH","HB","BH","BB",11,"B","BH","H","BB"]
[2,"13=",2,16,"",""," ",null,null,null,null,null,9,null,30,null,null,"P",3,null,1,{"$f":"IF(ISNA(VLOOKUP(Y17,Liste_SPIDD,2,FALSE)),901,VLOOKUP(Y17,Liste_SPIDD,2,FALSE))","v":49},{"$f":"IF(V17=\"\",\"\",IF(ISNA(VLOOKUP($V17,Liste_Dos_SPIDD,2,FALSE)),VLOOKUP($V17,Liste_J,3,FALSE),VLOOKUP($V17,Liste_Dos_SPIDD,2,FALSE)))","v":"ROBION Paul"},3,{"$f":"S17&U17","v":"31"},0,0,{"$f":"IF($T17=0,0,VLOOKUP($T17,$CA$4:$CD$68,3,FALSE))","v":0},null,null,{"$f":"IF(V17=\"\",\"\",IF(ISNA(VLOOKUP(V17,Liste_Dos_SPIDD,3,FALSE)),VLOOKUP(V17,Liste_J,$A$10,FALSE),VLOOKUP(V17,Liste_Dos_SPIDD,3,FALSE)))","v":"SIOUVILLE ATTLC"},{"$f":"IF(ISERROR(VLOOKUP(V17,$V$131:$AF$147,1,FALSE)),\"\",IF(VLOOKUP(V17,$V$131:$AF$147,11,FALSE)=\"1/1\",\"\",VLOOKUP(V17,$V$131:$AF$147,11,FALSE)))","v":""},null,null,"Club, Comité ou Ligue",1,2,3,4,null,1,2,3,4,null,null,1,2,3,4,null,1,2,3,4,null,null,null,null,null,null,null,null,null,null,null,null,{"$f":"IF(VLOOKUP($AI17,$AI$14:$BJ$47,BP$11,FALSE)>1,VLOOKUP($AI17,$AI$14:$BJ$47,BP$11,FALSE),\"\")","v":{"$error":"#REF!"}},{"$f":"IF(OR(VLOOKUP($AI17,$AI$14:$BJ$47,BQ$11,FALSE)>1,AND(VLOOKUP($AI17,$AI$14:$BJ$47,BQ$11,FALSE)=1,(VLOOKUP($AI17,$AI$14:$BJ$47,BQ$11+3,FALSE)+VLOOKUP($AI17,$AI$14:$BJ$47,BQ$11+6,FALSE))>0)),(VLOOKUP($AI17,$AI$14:$BJ$47,BQ$11,FALSE)+VLOOKUP($AI17,$AI$14:$BJ$47,BQ$11+3,FALSE)+VLOOKUP($AI17,$AI$14:$BJ$47,BQ$11+6,FALSE)),\"\")","v":7},7,{"$f":"IF(OR(VLOOKUP($AI17,$AI$14:$BJ$47,BS$11+2,FALSE)>1,AND(VLOOKUP($AI17,$AI$14:$BJ$47,BS$11+2,FALSE)=1,(VLOOKUP($AI17,$AI$14:$BJ$47,BS$11,FALSE)+VLOOKUP($AI17,$AI$14:$BJ$47,BS$11+1,FALSE)+VLOOKUP($AI17,$AI$14:$BJ$47,BS$11+2,FALSE))>1)),VLOOKUP($AI17,$AI$14:$BJ$47,BS$11+4,FALSE)-VLOOKUP($AI17,$AI$14:$BJ$47,BS$11+3,FALSE),\"\")","v":-4},{"$f":"IF(OR(VLOOKUP($AI17,$AI$14:$BJ$47,BT$11+2,FALSE)>1,AND(VLOOKUP($AI17,$AI$14:$BJ$47,BT$11+2,FALSE)=1,VLOOKUP($AI17,$AI$14:$BJ$47,BT$11,FALSE)+VLOOKUP($AI17,$AI$14:$BJ$47,BT$11+1,FALSE)+VLOOKUP($AI17,$AI$14:$BJ$47,BT$11+2,FALSE)>1)),VLOOKUP($AI17,$AI$14:$BJ$47,BT$11+4,FALSE)-VLOOKUP($AI17,$AI$14:$BJ$47,BT$11+3,FALSE),\"\")","v":-4},-4,-4,{"$f":"IF(OR(VLOOKUP($AI17,$AI$14:$BJ$47,BW$11+3,FALSE)>1,AND(VLOOKUP($AI17,$AI$14:$BJ$47,BW$11+3,FALSE)=1,VLOOKUP($AI17,$AI$14:$BJ$47,BW$11+4,FALSE)>1)),VLOOKUP($AI17,$AI$14:$BJ$47,BW$11+4,FALSE),\"\")","v":0},0,0,0,12,"B","BH","H","BB"]
[null,null,0,null,null,""," ",null,null,null,null,null,8,null,29,null,null,"P",4,null,1,{"$f":"IF(ISNA(VLOOKUP(Y18,Liste_SPIDD,2,FALSE)),901,VLOOKUP(Y18,Liste_SPIDD,2,FALSE))","v":47},{"$f":"IF(V18=\"\",\"\",IF(ISNA(VLOOKUP($V18,Liste_Dos_SPIDD,2,FALSE)),VLOOKUP($V18,Liste_J,3,FALSE),VLOOKUP($V18,Liste_Dos_SPIDD,2,FALSE)))","v":"LEVILLAIN Camille"},4,{"$f":"S18&U18","v":"41"},0,0,{"$f":"IF($T18=0,0,VLOOKUP($T18,$CA$4:$CD$68,3,FALSE))","v":0},null,null,{"$f":"IF(V18=\"\",\"\",IF(ISNA(VLOOKUP(V18,Liste_Dos_SPIDD,3,FALSE)),VLOOKUP(V18,Liste_J,$A$10,FALSE),VLOOKUP(V18,Liste_Dos_SPIDD,3,FALSE)))","v":"ST PAIR BRICQUE"},{"$f":"IF(ISERROR(VLOOKUP(V18,$V$131:$AF$147,1,FALSE)),\"\",IF(VLOOKUP(V18,$V$131:$AF$147,11,FALSE)=\"1/1\",\"\",VLOOKUP(V18,$V$131:$AF$147,11,FALSE)))","v":""},null,null,"ASSUN TT",null,null,null,null,null,null,null,null,null,null,null,1,null,null,null,1,null,null,null,null,null,1,1,null,null,null,null,null,null,null,null,null,{"$error":"#REF!"},"","","","","","","","","","",13,"B","BB","H","BH"]
[3,"9=",3,9,"",""," ",null,null,null,null,null,5,null,28,null,null,null,null,null,null,null,null,null,null,null,null,null,null,null,null,null,null,null,"ATTDUCEYAVRANCH",null,null,null,null,null,null,null,1,null,1,1,null,null,null,null,null,null,null,1,null,1,1,2,null,null,null,null,null,null,null,null,null,{"$error":"#REF!"},"","","","","","","","","","",14,"B","BB","H","BH"]
[null,null,0,null,null,""," ",null,null,null,null,null,12,null,27,null,null,null,null,null,null,null,null,null,null,null,null,null,null,null,null,null,null,null,"CARANTILLAISE",null,null,null,null,null,null,null,null,1,1,1,null,null,null,null,null,null,null,null,null,null,null,1,null,null,null,null,null,null,null,null,null,{"$error":"#REF!"},"","","","","","","","","","",15,"B","BB","H","BH"]
[4,"5=",4,8,"",""," ",null,null,null,null,null,13,null,26,null,null,null,null,null,null,null,null,null,null,null,null,null,null,null,null,null,null,null,"COUTANCES JA",null,1,null,null,1,null,null,null,null,null,1,null,1,null,null,1,null,null,null,null,null,1,2,null,null,null,null,null,null,null,null,null,{"$error":"#REF!"},"","","","","","","","","","",16,"B","BB","H","BH"]
[null,null,0,null,null,""," ",null,null,null,null,null,4,null,25,null,null,null,null,null,null,null,null,null,null,null,null,null,null,null,null,null,null,null,"EQUEURDREVILLE",1,null,null,null,1,null,null,null,null,null,1,null,null,null,null,null,null,null,null,null,null,null,1,null,null,null,null,null,null,null,null,null,{"$error":"#REF!"},"","","","","","","","","",""]
[5,"5=",5,5,"",""," ",null,"HB",null,null,null,3,null,24,null,null,"2ème de poule",null,null,null,null,null,null,null,null,null,null,null,null,null,null,null,null,"OC AGNEAUX",null,null,null,null,null,null,1,null,null,1,1,null,null,null,null,null,null,null,null,null,null,null,1,null,null,null,null,null,null,null,null,null,{"$error":"#REF!"},"","","","","","","","","",""]
[null,null,0,null,null,""," ",null,null,null,null,null,14,null,23,null,null,"P",1,null,2,{"$f":"IF(ISNA(VLOOKUP(Y24,Liste_SPIDD,2,FALSE)),901,VLOOKUP(Y24,Liste_SPIDD,2,FALSE))","v":201},{"$f":"IF(V24=\"\",\"\",IF(ISNA(VLOOKUP($V24,Liste_Dos_SPIDD,2,FALSE)),VLOOKUP($V24,Liste_J,3,FALSE),VLOOKUP($V24,Liste_Dos_SPIDD,2,FALSE)))","v":"LUCAS Ifig"},11,{"$f":"S24&U24","v":"12"},{"$f":"IF($T24=0,0,VLOOKUP($T24,$CA$4:$CD$68,2,FALSE))","v":0},{"$f":"IF(AA15=\"H\",\"B\",IF(AA15=\"B\",\"H\",\"\"))","v":""},{"$f":"IF($T24=0,0,VLOOKUP($T24,$CA$4:$CD$68,3,FALSE))","v":0},null,null,{"$f":"IF(V24=\"\",\"\",IF(ISNA(VLOOKUP(V24,Liste_Dos_SPIDD,3,FALSE)),VLOOKUP(V24,Liste_J,$A$10,FALSE),VLOOKUP(V24,Liste_Dos_SPIDD,3,FALSE)))","v":"EQUEURDREVILLE"},{"$f":"IF(ISERROR(VLOOKUP(AE24,$AI$12:$BV$54,18,FALSE)),\"\",IF($AE$9=\"H\",VLOOKUP(AE24,$AI$12:$BV$54,35,FALSE),IF($AE$9=\"B\",VLOOKUP(AE24,$AI$12:$BV$54,36,FALSE),\"\")))","v":""},null,null,"SIOUVILLE ATTLC",null,null,null,null,null,null,null,null,null,null,null,null,null,null,null,null,1,null,null,null,1,1,1,null,null,null,null,null,null,null,null,null,{"$error":"#REF!"},"","","","","","","","","",""]
[6,"9=",6,12,"",""," ",null,null,null,null,null,11,null,22,null,null,"P",2,null,2,{"$f":"IF(ISNA(VLOOKUP(Y25,Liste_SPIDD,2,FALSE)),901,VLOOKUP(Y25,Liste_SPIDD,2,FALSE))","v":202},{"$f":"IF(V25=\"\",\"\",IF(ISNA(VLOOKUP($V25,Liste_Dos_SPIDD,2,FALSE)),VLOOKUP($V25,Liste_J,3,FALSE),VLOOKUP($V25,Liste_Dos_SPIDD,2,FALSE)))","v":"VIDAL Charles"},12,{"$f":"S25&U25","v":"22"},{"$f":"IF($T25=0,0,VLOOKUP($T25,$CA$4:$CD$68,2,FALSE))","v":0},{"$f":"IF(AA16=\"H\",\"B\",IF(AA16=\"B\",\"H\",\"\"))","v":""},{"$f":"IF($T25=0,0,VLOOKUP($T25,$CA$4:$CD$68,3,FALSE))","v":0},null,null,{"$f":"IF(V25=\"\",\"\",IF(ISNA(VLOOKUP(V25,Liste_Dos_SPIDD,3,FALSE)),VLOOKUP(V25,Liste_J,$A$10,FALSE),VLOOKUP(V25,Liste_Dos_SPIDD,3,FALSE)))","v":"ASSUN TT"},{"$f":"IF(ISERROR(VLOOKUP(AE25,$AI$12:$BV$54,18,FALSE)),\"\",IF($AE$9=\"H\",VLOOKUP(AE25,$AI$12:$BV$54,35,FALSE),IF($AE$9=\"B\",VLOOKUP(AE25,$AI$12:$BV$54,36,FALSE),\"\")))","v":""},null,null,"ST PAIR BRICQUE",null,null,1,null,1,1,null,null,null,1,2,null,null,1,null,1,null,null,null,null,null,1,3,null,null,null,null,null,null,null,null,null,{"$error":"#REF!"},"","","","","","","","","",""]
[null,null,0,null,null,""," ",null,null,null,null,null,6,null,21,null,null,"P",3,null,2,{"$f":"IF(ISNA(VLOOKUP(Y26,Liste_SPIDD,2,FALSE)),901,VLOOKUP(Y26,Liste_SPIDD,2,FALSE))","v":203},{"$f":"IF(V26=\"\",\"\",IF(ISNA(VLOOKUP($V26,Liste_Dos_SPIDD,2,FALSE)),VLOOKUP($V26,Liste_J,3,FALSE),VLOOKUP($V26,Liste_Dos_SPIDD,2,FALSE)))","v":"ROBION Paul"},13,{"$f":"S26&U26","v":"32"},{"$f":"IF($T26=0,0,VLOOKUP($T26,$CA$4:$CD$68,2,FALSE))","v":0},{"$f":"IF(AA17=\"H\",\"B\",IF(AA17=\"B\",\"H\",\"\"))","v":""},{"$f":"IF($T26=0,0,VLOOKUP($T26,$CA$4:$CD$68,3,FALSE))","v":0},null,null,{"$f":"IF(V26=\"\",\"\",IF(ISNA(VLOOKUP(V26,Liste_Dos_SPIDD,3,FALSE)),VLOOKUP(V26,Liste_J,$A$10,FALSE),VLOOKUP(V26,Liste_Dos_SPIDD,3,FALSE)))","v":"SIOUVILLE ATTLC"},{"$f":"IF(ISERROR(VLOOKUP(AE26,$AI$12:$BV$54,18,FALSE)),\"\",IF($AE$9=\"H\",VLOOKUP(AE26,$AI$12:$BV$54,35,FALSE),IF($AE$9=\"B\",VLOOKUP(AE26,$AI$12:$BV$54,36,FALSE),\"\")))","v":""},null,null,"TORIGNAISE ESTT",null,null,null,1,1,null,null,null,null,null,1,null,null,null,null,null,null,null,null,1,1,1,2,null,null,null,null,null,null,null,null,null,{"$error":"#REF!"},"","","","","","","","","",""]
[7,"13=",7,13,"",""," ",null,null,null,null,null,7,null,20,null,null,"P",4,null,2,{"$f":"IF(ISNA(VLOOKUP(Y27,Liste_SPIDD,2,FALSE)),901,VLOOKUP(Y27,Liste_SPIDD,2,FALSE))","v":204},{"$f":"IF(V27=\"\",\"\",IF(ISNA(VLOOKUP($V27,Liste_Dos_SPIDD,2,FALSE)),VLOOKUP($V27,Liste_J,3,FALSE),VLOOKUP($V27,Liste_Dos_SPIDD,2,FALSE)))","v":"LEVILLAIN Camille"},14,{"$f":"S27&U27","v":"42"},{"$f":"IF($T27=0,0,VLOOKUP($T27,$CA$4:$CD$68,2,FALSE))","v":0},{"$f":"IF(AA18=\"H\",\"B\",IF(AA18=\"B\",\"H\",\"\"))","v":""},{"$f":"IF($T27=0,0,VLOOKUP($T27,$CA$4:$CD$68,3,FALSE))","v":0},null,null,{"$f":"IF(V27=\"\",\"\",IF(ISNA(VLOOKUP(V27,Liste_Dos_SPIDD,3,FALSE)),VLOOKUP(V27,Liste_J,$A$10,FALSE),VLOOKUP(V27,Liste_Dos_SPIDD,3,FALSE)))","v":"ST PAIR BRICQUE"},{"$f":"IF(ISERROR(VLOOKUP(AE27,$AI$12:$BV$54,18,FALSE)),\"\",IF($AE$9=\"H\",VLOOKUP(AE27,$AI$12:$BV$54,35,FALSE),IF($AE$9=\"B\",VLOOKUP(AE27,$AI$12:$BV$54,36,FALSE),\"\")))","v":""},null,null,"TT SAINT JAMES",null,null,null,null,null,null,null,null,null,null,null,null,null,null,1,1,null,1,null,null,1,2,2,null,null,null,null,null,null,null,null,null,{"$error":"#REF!"},"","","","","","","","","",""]
[null,null,0,null,null,""," ",null,null,null,null,null,10,null,19,null,null,null,null,null,null,null,null,null,null,null,null,null,null,null,null,null,null,null,"Total général",1,1,1,1,4,1,1,1,1,4,8,1,1,1,1,4,1,1,1,1,4,8,16,null,null,null,null,null,null,null,null,null,{"$error":"#REF!"},3,3,3,3,3,3,4,4,4,4]
[8,"3=",8,4,"",""," ",null,null,null,null,null,15,null,18,null,null,null,null,null,null,null,null,null,null,null,null,null,null,null,null,null,null,null,null,null,null,null,null,null,null,null,null,null,null,null,null,null,null,null,null,null,null,null,null,null,null,null,null,null,null,null,null,null,null,null,null,{"$error":"#N/A"},{"$error":"#N/A"},{"$error":"#N/A"},{"$error":"#N/A"},{"$error":"#N/A"},{"$error":"#N/A"},{"$error":"#N/A"},{"$error":"#N/A"},{"$error":"#N/A"},{"$error":"#N/A"},{"$error":"#N/A"}]
[null,null,0,null,null,""," ",null,null,null,null,null,2,null,17,null,null,null,null,null,null,null,null,null,null,null,null,null,null,null,null,null,null,null,null,null,null,null,null,null,null,null,null,null,null,null,null,null,null,null,null,null,null,null,null,null,null,null,null,null,null,null,null,null,null,null,null,{"$error":"#N/A"},{"$error":"#N/A"},{"$error":"#N/A"},{"$error":"#N/A"},{"$error":"#N/A"},{"$error":"#N/A"},{"$error":"#N/A"},{"$error":"#N/A"},{"$error":"#N/A"},{"$error":"#N/A"},{"$error":"#N/A"}]
[null,null,null,null,null,null,null,null,null,null,null,null,null,null,null,null,null,null,null,null,null,null,null,null,null,null,null,null,null,null,null,null,null,null,null,null,null,null,null,null,null,null,null,null,null,null,null,null,null,null,null,null,null,null,null,null,null,null,null,null,null,null,null,null,null,null,null,{"$error":"#N/A"},{"$error":"#N/A"},{"$error":"#N/A"},{"$error":"#N/A"},{"$error":"#N/A"},{"$error":"#N/A"},{"$error":"#N/A"},{"$error":"#N/A"},{"$error":"#N/A"},{"$error":"#N/A"},{"$error":"#N/A"}]
[9,"3=",{"$f":"A32","v":9},3,{"$f":"IF(ISNA(VLOOKUP(C32,$T$15:$AE$50,4,FALSE)),\"\",VLOOKUP(C32,$T$15:$AE$50,4,FALSE)&\" - \"&VLOOKUP(C32,$T$15:$AE$50,12,FALSE))","v":""},{"$f":"IF(ISNA(VLOOKUP(C32,$T$15:$AE$50,12,FALSE)),\"\",VLOOKUP(C32,$T$15:$AE$50,12,FALSE))","v":""}," ",null,"BH",null,null,null,null,null,null,null,null,"3ème de poule",null,null,null,null,null,null,null,null,null,null,null,null,null,null,null,null,null,null,null,null,null,null,null,null,null,null,null,null,null,null,null,null,null,null,null,null,null,null,null,null,null,null,null,null,null,null,null,null,null,{"$error":"#N/A"},{"$error":"#N/A"},{"$error":"#N/A"},{"$error":"#N/A"},{"$error":"#N/A"},{"$error":"#N/A"},{"$error":"#N/A"},{"$error":"#N/A"},{"$error":"#N/A"},{"$error":"#N/A"},{"$error":"#N/A"}]
[null,null,0,null,null,""," ",null,null,null,null,null,null,null,null,null,null,"P",1,null,3,{"$f":"IF(ISNA(VLOOKUP(Y33,Liste_SPIDD,2,FALSE)),901,VLOOKUP(Y33,Liste_SPIDD,2,FALSE))","v":301},{"$f":"IF(V33=\"\",\"\",IF(ISNA(VLOOKUP($V33,Liste_Dos_SPIDD,2,FALSE)),VLOOKUP($V33,Liste_J,3,FALSE),VLOOKUP($V33,Liste_Dos_SPIDD,2,FALSE)))","v":"LUCAS Ifig"},21,{"$f":"S33&U33","v":"13"},{"$f":"IF($T33=0,0,VLOOKUP($T33,$CA$4:$CD$68,2,FALSE))","v":0},{"$f":"AA24","v":""},{"$f":"IF($AB24=0,0,IF(AB24=\"HH\",\"HB\",IF(AB24=\"HB\",\"HH\",IF(AB24=\"BH\",\"BB\",IF(AB24=\"BB\",\"BH\")))))","v":0},null,null,{"$f":"IF(V33=\"\",\"\",IF(ISNA(VLOOKUP(V33,Liste_Dos_SPIDD,3,FALSE)),VLOOKUP(V33,Liste_J,$A$10,FALSE),VLOOKUP(V33,Liste_Dos_SPIDD,3,FALSE)))","v":"EQUEURDREVILLE"},{"$f":"IF(ISERROR(VLOOKUP(AE33,$AI$12:$BV$54,18,FALSE)),\"\",IF($AE$9=\"HH\",VLOOKUP(AE33,$AI$12:$BV$54,37,FALSE),IF($AE$9=\"HB\",VLOOKUP(AE33,$AI$12:$BV$54,38,FALSE),IF($AE$9=\"BH\",VLOOKUP(AE33,$AI$12:$BV$54,39,FALSE),IF($AE$9=\"BB\",VLOOKUP(AE33,$AI$12:$BV$54,40,FALSE),\"\")))))","v":""},null,null,null,null,null,null,null,null,null,null,null,null,null,null,null,null,null,null,null,null,null,null,null,null,null,null,null,null,null,null,null,null,null,null,null,{"$error":"#N/A"},{"$f":"IF(OR(VLOOKUP($AI33,$AI$14:$BJ$47,BQ$11,FALSE)>1,AND(VLOOKUP($AI33,$AI$14:$BJ$47,BQ$11,FALSE)=1,(VLOOKUP($AI33,$AI$14:$BJ$47,BQ$11+3,FALSE)+VLOOKUP($AI33,$AI$14:$BJ$47,BQ$11+6,FALSE))>0)),(VLOOKUP($AI33,$AI$14:$BJ$47,BQ$11,FALSE)+VLOOKUP($AI33,$AI$14:$BJ$47,BQ$11+3,FALSE)+VLOOKUP($AI33,$AI$14:$BJ$47,BQ$11+6,FALSE)),\"\")","v":{"$error":"#N/A"}},{"$error":"#N/A"},{"$error":"#N/A"},{"$error":"#N/A"},{"$error":"#N/A"},{"$error":"#N/A"},{"$f":"IF(OR(VLOOKUP($AI33,$AI$14:$BJ$47,BW$11+3,FALSE)>1,AND(VLOOKUP($AI33,$AI$14:$BJ$47,BW$11+3,FALSE)=1,VLOOKUP($AI33,$AI$14:$BJ$47,BW$11+4,FALSE)>1)),VLOOKUP($AI33,$AI$14:$BJ$47,BW$11+4,FALSE),\"\")","v":{"$error":"#N/A"}},{"$error":"#N/A"},{"$error":"#N/A"},{"$error":"#N/A"}]
[10,"13=",10,14,"",""," ",null,null,null,null,null,null,null,null,null,null,"P",2,null,3,{"$f":"IF(ISNA(VLOOKUP(Y34,Liste_SPIDD,2,FALSE)),901,VLOOKUP(Y34,Liste_SPIDD,2,FALSE))","v":302},{"$f":"IF(V34=\"\",\"\",IF(ISNA(VLOOKUP($V34,Liste_Dos_SPIDD,2,FALSE)),VLOOKUP($V34,Liste_J,3,FALSE),VLOOKUP($V34,Liste_Dos_SPIDD,2,FALSE)))","v":"VIDAL Charles"},22,{"$f":"S34&U34","v":"23"},{"$f":"IF($T34=0,0,VLOOKUP($T34,$CA$4:$CD$68,2,FALSE))","v":0},{"$f":"AA25","v":""},{"$f":"IF($AB25=0,0,IF(AB25=\"HH\",\"HB\",IF(AB25=\"HB\",\"HH\",IF(AB25=\"BH\",\"BB\",IF(AB25=\"BB\",\"BH\")))))","v":0},null,null,{"$f":"IF(V34=\"\",\"\",IF(ISNA(VLOOKUP(V34,Liste_Dos_SPIDD,3,FALSE)),VLOOKUP(V34,Liste_J,$A$10,FALSE),VLOOKUP(V34,Liste_Dos_SPIDD,3,FALSE)))","v":"ASSUN TT"},{"$f":"IF(ISERROR(VLOOKUP(AE34,$AI$12:$BV$54,18,FALSE)),\"\",IF($AE$9=\"HH\",VLOOKUP(AE34,$AI$12:$BV$54,37,FALSE),IF($AE$9=\"HB\",VLOOKUP(AE34,$AI$12:$BV$54,38,FALSE),IF($AE$9=\"BH\",VLOOKUP(AE34,$AI$12:$BV$54,39,FALSE),IF($AE$9=\"BB\",VLOOKUP(AE34,$AI$12:$BV$54,40,FALSE),\"\")))))","v":""},null,null,null,null,null,null,null,null,null,null,null,null,null,null,null,null,null,null,null,null,null,null,null,null,null,null,null,null,null,null,null,null,null,null,null,{"$error":"#N/A"},{"$error":"#N/A"},{"$error":"#N/A"},{"$error":"#N/A"},{"$f":"IF(OR(VLOOKUP($AI34,$AI$14:$BJ$47,BT$11+2,FALSE)>1,AND(VLOOKUP($AI34,$AI$14:$BJ$47,BT$11+2,FALSE)=1,VLOOKUP($AI34,$AI$14:$BJ$47,BT$11,FALSE)+VLOOKUP($AI34,$AI$14:$BJ$47,BT$11+1,FALSE)+VLOOKUP($AI34,$AI$14:$BJ$47,BT$11+2,FALSE)>1)),VLOOKUP($AI34,$AI$14:$BJ$47,BT$11+4,FALSE)-VLOOKUP($AI34,$AI$14:$BJ$47,BT$11+3,FALSE),\"\")","v":{"$error":"#N/A"}},{"$error":"#N/A"},{"$error":"#N/A"},{"$error":"#N/A"},{"$error":"#N/A"},{"$error":"#N/A"},{"$error":"#N/A"}]
[null,null,0,null,null,""," ",null,null,null,null,null,null,null,null,null,null,"P",3,null,3,{"$f":"IF(ISNA(VLOOKUP(Y35,Liste_SPIDD,2,FALSE)),901,VLOOKUP(Y35,Liste_SPIDD,2,FALSE))","v":303},{"$f":"IF(V35=\"\",\"\",IF(ISNA(VLOOKUP($V35,Liste_Dos_SPIDD,2,FALSE)),VLOOKUP($V35,Liste_J,3,FALSE),VLOOKUP($V35,Liste_Dos_SPIDD,2,FALSE)))","v":"ROBION Paul"},23,{"$f":"S35&U35","v":"33"},{"$f":"IF($T35=0,0,VLOOKUP($T35,$CA$4:$CD$68,2,FALSE))","v":0},{"$f":"AA26","v":""},{"$f":"IF($AB26=0,0,IF(AB26=\"HH\",\"HB\",IF(AB26=\"HB\",\"HH\",IF(AB26=\"BH\",\"BB\",IF(AB26=\"BB\",\"BH\")))))","v":0},null,null,{"$f":"IF(V35=\"\",\"\",IF(ISNA(VLOOKUP(V35,Liste_Dos_SPIDD,3,FALSE)),VLOOKUP(V35,Liste_J,$A$10,FALSE),VLOOKUP(V35,Liste_Dos_SPIDD,3,FALSE)))","v":"SIOUVILLE ATTLC"},{"$f":"IF(ISERROR(VLOOKUP(AE35,$AI$12:$BV$54,18,FALSE)),\"\",IF($AE$9=\"HH\",VLOOKUP(AE35,$AI$12:$BV$54,37,FALSE),IF($AE$9=\"HB\",VLOOKUP(AE35,$AI$12:$BV$54,38,FALSE),IF($AE$9=\"BH\",VLOOKUP(AE35,$AI$12:$BV$54,39,FALSE),IF($AE$9=\"BB\",VLOOKUP(AE35,$AI$12:$BV$54,40,FALSE),\"\")))))","v":""},null,null,null,null,null,null,null,null,null,null,null,null,null,null,null,null,null,null,null,null,null,null,null,null,null,null,null,null,null,null,null,null,null,null,null,{"$error":"#N/A"},{"$error":"#N/A"},{"$error":"#N/A"},{"$error":"#N/A"},{"$error":"#N/A"},{"$error":"#N/A"},{"$error":"#N/A"},{"$error":"#N/A"},{"$error":"#N/A"},{"$error":"#N/A"},{"$error":"#N/A"}]
[11,"9=",11,11,"",""," ",null,null,null,null,null,null,null,null,null,null,"P",4,null,3,{"$f":"IF(ISNA(VLOOKUP(Y36,Liste_SPIDD,2,FALSE)),901,VLOOKUP(Y36,Liste_SPIDD,2,FALSE))","v":304},{"$f":"IF(V36=\"\",\"\",IF(ISNA(VLOOKUP($V36,Liste_Dos_SPIDD,2,FALSE)),VLOOKUP($V36,Liste_J,3,FALSE),VLOOKUP($V36,Liste_Dos_SPIDD,2,FALSE)))","v":"LEVILLAIN Camille"},24,{"$f":"S36&U36","v":"43"},{"$f":"IF($T36=0,0,VLOOKUP($T36,$CA$4:$CD$68,2,FALSE))","v":0},{"$f":"AA27","v":""},{"$f":"IF($AB27=0,0,IF(AB27=\"HH\",\"HB\",IF(AB27=\"HB\",\"HH\",IF(AB27=\"BH\",\"BB\",IF(AB27=\"BB\",\"BH\")))))","v":0},null,null,{"$f":"IF(V36=\"\",\"\",IF(ISNA(VLOOKUP(V36,Liste_Dos_SPIDD,3,FALSE)),VLOOKUP(V36,Liste_J,$A$10,FALSE),VLOOKUP(V36,Liste_Dos_SPIDD,3,FALSE)))","v":"ST PAIR BRICQUE"},{"$f":"IF(ISERROR(VLOOKUP(AE36,$AI$12:$BV$54,18,FALSE)),\"\",IF($AE$9=\"HH\",VLOOKUP(AE36,$AI$12:$BV$54,37,FALSE),IF($AE$9=\"HB\",VLOOKUP(AE36,$AI$12:$BV$54,38,FALSE),IF($AE$9=\"BH\",VLOOKUP(AE36,$AI$12:$BV$54,39,FALSE),IF($AE$9=\"BB\",VLOOKUP(AE36,$AI$12:$BV$54,40,FALSE),\"\")))))","v":""},null,null,null,null,null,null,null,null,null,null,null,null,null,null,null,null,null,null,null,null,null,null,null,null,null,null,null,null,null,null,null,null,null,null,null,{"$error":"#N/A"},{"$error":"#N/A"},{"$error":"#N/A"},{"$error":"#N/A"},{"$error":"#N/A"},{"$error":"#N/A"},{"$error":"#N/A"},{"$error":"#N/A"},{"$error":"#N/A"},{"$error":"#N/A"},{"$error":"#N/A"}]
[null,null,0,null,null,""," ",null,null,null,null,null,null,null,null,null,null,null,null,null,null,null,null,null,null,null,null,null,null,null,null,null,null,null,null,null,null,null,null,null,null,null,null,null,null,null,null,null,null,null,null,null,null,null,null,null,null,null,null,null,null,null,null,null,null,null,null,{"$error":"#N/A"},{"$error":"#N/A"},{"$error":"#N/A"},{"$error":"#N/A"},{"$error":"#N/A"},{"$error":"#N/A"},{"$error":"#N/A"},{"$error":"#N/A"},{"$error":"#N/A"},{"$error":"#N/A"},{"$error":"#N/A"}]
[12,"5=",12,6,"",""," ",null,null,null,null,null,null,null,null,null,null,null,null,null,null,null,null,null,null,null,null,null,null,null,null,null,null,null,null,null,null,null,null,null,null,null,null,null,null,null,null,null,null,null,null,null,null,null,null,null,null,null,null,null,null,null,null,null,null,null,null,{"$error":"#N/A"},{"$error":"#N/A"},{"$error":"#N/A"},{"$error":"#N/A"},{"$error":"#N/A"},{"$error":"#N/A"},{"$error":"#N/A"},{"$error":"#N/A"},{"$error":"#N/A"},{"$error":"#N/A"},{"$error":"#N/A"}]
[null,null,0,null,null,""," ",null,null,null,null,null,null,null,null,null,null,null,null,null,null,null,null,null,null,null,null,null,null,null,null,null,null,null,null,null,null,null,null,null,null,null,null,null,null,null,null,null,null,null,null,null,null,null,null,null,null,null,null,null,null,null,null,null,null,null,null,{"$error":"#N/A"},{"$error":"#N/A"},{"$error":"#N/A"},{"$error":"#N/A"},{"$error":"#N/A"},{"$error":"#N/A"},{"$error":"#N/A"},{"$error":"#N/A"},{"$error":"#N/A"},{"$error":"#N/A"},{"$error":"#N/A"}]
[13,"5=",13,7,"",""," ",null,"BB",null,null,null,null,null,null,null,null,null,null,null,null,null,null,null,null,null,null,null,null,null,null,null,null,null,null,null,null,null,null,null,null,null,null,null,null,null,null,null,null,null,null,null,null,null,null,null,null,null,null,null,null,null,null,null,null,null,null,{"$error":"#N/A"},{"$error":"#N/A"},{"$error":"#N/A"},{"$error":"#N/A"},{"$error":"#N/A"},{"$error":"#N/A"},{"$error":"#N/A"},{"$error":"#N/A"},{"$error":"#N/A"},{"$error":"#N/A"},{"$error":"#N/A"}]
[null,null,0,null,null,""," ",null,null,null,null,null,null,null,null,null,null,null,null,null,null,null,null,null,null,null,null,null,null,null,null,null,null,null,null,null,null,null,null,null,null,null,null,null,null,null,null,null,null,null,null,null,null,null,null,null,null,null,null,null,null,null,null,null,null,null,null,{"$error":"#N/A"},{"$error":"#N/A"},{"$error":"#N/A"},{"$error":"#N/A"},{"$error":"#N/A"},{"$error":"#N/A"},{"$error":"#N/A"},{"$error":"#N/A"},{"$error":"#N/A"},{"$error":"#N/A"},{"$error":"#N/A"}]
[14,"9=",14,10,"",""," ",null,null,null,null,null,null,null,null,null,null,"4ème de poule",null,null,null,null,null,null,null,null,null,null,null,null,null,null,null,null,null,null,null,null,null,null,null,null,null,null,null,null,null,null,null,null,null,null,null,null,null,null,null,null,null,null,null,null,null,null,null,null,null,{"$error":"#N/A"},{"$error":"#N/A"},{"$error":"#N/A"},{"$error":"#N/A"},{"$error":"#N/A"},{"$error":"#N/A"},{"$error":"#N/A"},{"$error":"#N/A"},{"$error":"#N/A"},{"$error":"#N/A"},{"$error":"#N/A"}]
[null,null,0,null,null,""," ",null,null,null,null,null,null,null,null,null,null,"P",1,null,4,{"$f":"IF(ISNA(VLOOKUP(Y43,Liste_SPIDD,2,FALSE)),901,VLOOKUP(Y43,Liste_SPIDD,2,FALSE))","v":901},{"$f":"IF(V43=\"\",\"\",IF(ISNA(VLOOKUP($V43,Liste_Dos_SPIDD,2,FALSE)),VLOOKUP($V43,Liste_J,3,FALSE),VLOOKUP($V43,Liste_Dos_SPIDD,2,FALSE)))","v":"Exempt"},31,{"$f":"S43&U43","v":"14"},{"$f":"IF($T43=0,0,VLOOKUP($T43,$CA$4:$CD$68,2,FALSE))","v":0},{"$f":"AA15","v":0},{"$f":"IF($AB15=0,0,IF(AB15=\"HH\",\"HB\",IF(AB15=\"HB\",\"HH\",IF(AB15=\"BH\",\"BB\",IF(AB15=\"BB\",\"BH\")))))","v":0},null,null,{"$f":"IF(V43=\"\",\"\",IF(ISNA(VLOOKUP(V43,Liste_Dos_SPIDD,3,FALSE)),VLOOKUP(V43,Liste_J,$A$10,FALSE),VLOOKUP(V43,Liste_Dos_SPIDD,3,FALSE)))","v":" "},{"$f":"IF(ISERROR(VLOOKUP(AE43,$AI$12:$BZ$54,18,FALSE)),\"\",IF($AE$9=\"HH\",VLOOKUP(AE43,$AI$12:$BZ$54,41,FALSE),IF($AE$9=\"HB\",VLOOKUP(AE43,$AI$12:$BZ$54,42,FALSE),IF($AE$9=\"BH\",VLOOKUP(AE43,$AI$12:$BZ$54,43,FALSE),IF($AE$9=\"BB\",VLOOKUP(AE43,$AI$12:$BZ$54,44,FALSE),\"\")))))","v":""},null,null,null,null,null,null,null,null,null,null,null,null,null,null,null,null,null,null,null,null,null,null,null,null,null,null,null,null,null,null,null,null,null,null,null,{"$error":"#N/A"},{"$f":"IF(OR(VLOOKUP($AI43,$AI$14:$BJ$47,BQ$11,FALSE)>1,AND(VLOOKUP($AI43,$AI$14:$BJ$47,BQ$11,FALSE)=1,(VLOOKUP($AI43,$AI$14:$BJ$47,BQ$11+4,FALSE)+VLOOKUP($AI43,$AI$14:$BJ$47,BQ$11+6,FALSE))>0)),(VLOOKUP($AI43,$AI$14:$BJ$47,BQ$11,FALSE)+VLOOKUP($AI43,$AI$14:$BJ$47,BQ$11+4,FALSE)+VLOOKUP($AI43,$AI$14:$BJ$47,BQ$11+6,FALSE)),\"\")","v":{"$error":"#N/A"}},{"$error":"#N/A"}]
[15,"13=",15,15,"",""," ",null,null,null,null,null,null,null,null,null,null,"P",2,null,4,{"$f":"IF(ISNA(VLOOKUP(Y44,Liste_SPIDD,2,FALSE)),901,VLOOKUP(Y44,Liste_SPIDD,2,FALSE))","v":901},{"$f":"IF(V44=\"\",\"\",IF(ISNA(VLOOKUP($V44,Liste_Dos_SPIDD,2,FALSE)),VLOOKUP($V44,Liste_J,3,FALSE),VLOOKUP($V44,Liste_Dos_SPIDD,2,FALSE)))","v":"Exempt"},32,{"$f":"S44&U44","v":"24"},{"$f":"IF($T44=0,0,VLOOKUP($T44,$CA$4:$CD$68,2,FALSE))","v":0},{"$f":"AA16","v":0},{"$f":"IF($AB16=0,0,IF(AB16=\"HH\",\"HB\",IF(AB16=\"HB\",\"HH\",IF(AB16=\"BH\",\"BB\",IF(AB16=\"BB\",\"BH\")))))","v":0},null,null,{"$f":"IF(V44=\"\",\"\",IF(ISNA(VLOOKUP(V44,Liste_Dos_SPIDD,3,FALSE)),VLOOKUP(V44,Liste_J,$A$10,FALSE),VLOOKUP(V44,Liste_Dos_SPIDD,3,FALSE)))","v":" "},{"$f":"IF(ISERROR(VLOOKUP(AE44,$AI$12:$BZ$54,18,FALSE)),\"\",IF($AE$9=\"HH\",VLOOKUP(AE44,$AI$12:$BZ$54,41,FALSE),IF($AE$9=\"HB\",VLOOKUP(AE44,$AI$12:$BZ$54,42,FALSE),IF($AE$9=\"BH\",VLOOKUP(AE44,$AI$12:$BZ$54,43,FALSE),IF($AE$9=\"BB\",VLOOKUP(AE44,$AI$12:$BZ$54,44,FALSE),\"\")))))","v":""},null,null,null,null,null,null,null,null,null,null,null,null,null,null,null,null,null,null,null,null,null,null,null,null,null,null,null,null,null,null,null,null,null,null,null,{"$error":"#N/A"},{"$error":"#N/A"},{"$error":"#N/A"}]
[null,null,0,null,null,""," ",null,null,null,null,null,null,null,null,null,null,"P",3,null,4,{"$f":"IF(ISNA(VLOOKUP(Y45,Liste_SPIDD,2,FALSE)),901,VLOOKUP(Y45,Liste_SPIDD,2,FALSE))","v":901},{"$f":"IF(V45=\"\",\"\",IF(ISNA(VLOOKUP($V45,Liste_Dos_SPIDD,2,FALSE)),VLOOKUP($V45,Liste_J,3,FALSE),VLOOKUP($V45,Liste_Dos_SPIDD,2,FALSE)))","v":"Exempt"},33,{"$f":"S45&U45","v":"34"},{"$f":"IF($T45=0,0,VLOOKUP($T45,$CA$4:$CD$68,2,FALSE))","v":0},{"$f":"AA17","v":0},{"$f":"IF($AB17=0,0,IF(AB17=\"HH\",\"HB\",IF(AB17=\"HB\",\"HH\",IF(AB17=\"BH\",\"BB\",IF(AB17=\"BB\",\"BH\")))))","v":0},null,null,{"$f":"IF(V45=\"\",\"\",IF(ISNA(VLOOKUP(V45,Liste_Dos_SPIDD,3,FALSE)),VLOOKUP(V45,Liste_J,$A$10,FALSE),VLOOKUP(V45,Liste_Dos_SPIDD,3,FALSE)))","v":" "},{"$f":"IF(ISERROR(VLOOKUP(AE45,$AI$12:$BZ$54,18,FALSE)),\"\",IF($AE$9=\"HH\",VLOOKUP(AE45,$AI$12:$BZ$54,41,FALSE),IF($AE$9=\"HB\",VLOOKUP(AE45,$AI$12:$BZ$54,42,FALSE),IF($AE$9=\"BH\",VLOOKUP(AE45,$AI$12:$BZ$54,43,FALSE),IF($AE$9=\"BB\",VLOOKUP(AE45,$AI$12:$BZ$54,44,FALSE),\"\")))))","v":""},null,null,null,null,null,null,null,null,null,null,null,null,null,null,null,null,null,null,null,null,null,null,null,null,null,null,null,null,null,null,null,null,null,null,null,{"$error":"#N/A"},{"$error":"#N/A"},{"$error":"#N/A"}]
[16,2,16,2,"",""," ",null,null,null,null,null,null,null,null,null,null,"P",4,null,4,{"$f":"IF(ISNA(VLOOKUP(Y46,Liste_SPIDD,2,FALSE)),901,VLOOKUP(Y46,Liste_SPIDD,2,FALSE))","v":901},{"$f":"IF(V46=\"\",\"\",IF(ISNA(VLOOKUP($V46,Liste_Dos_SPIDD,2,FALSE)),VLOOKUP($V46,Liste_J,3,FALSE),VLOOKUP($V46,Liste_Dos_SPIDD,2,FALSE)))","v":"Exempt"},34,{"$f":"S46&U46","v":"44"},{"$f":"IF($T46=0,0,VLOOKUP($T46,$CA$4:$CD$68,2,FALSE))","v":0},{"$f":"AA18","v":0},{"$f":"IF($AB18=0,0,IF(AB18=\"HH\",\"HB\",IF(AB18=\"HB\",\"HH\",IF(AB18=\"BH\",\"BB\",IF(AB18=\"BB\",\"BH\")))))","v":0},null,null,{"$f":"IF(V46=\"\",\"\",IF(ISNA(VLOOKUP(V46,Liste_Dos_SPIDD,3,FALSE)),VLOOKUP(V46,Liste_J,$A$10,FALSE),VLOOKUP(V46,Liste_Dos_SPIDD,3,FALSE)))","v":" "},{"$f":"IF(ISERROR(VLOOKUP(AE46,$AI$12:$BZ$54,18,FALSE)),\"\",IF($AE$9=\"HH\",VLOOKUP(AE46,$AI$12:$BZ$54,41,FALSE),IF($AE$9=\"HB\",VLOOKUP(AE46,$AI$12:$BZ$54,42,FALSE),IF($AE$9=\"BH\",VLOOKUP(AE46,$AI$12:$BZ$54,43,FALSE),IF($AE$9=\"BB\",VLOOKUP(AE46,$AI$12:$BZ$54,44,FALSE),\"\")))))","v":""},null,null,null,null,null,null,null,null,null,null,null,null,null,null,null,null,null,null,null,null,null,null,null,null,null,null,null,null,null,null,null,null,null,null,null,{"$error":"#N/A"},{"$error":"#N/A"},{"$error":"#N/A"}]
[null,null,0,null,null,""," ",null,null,null,null,null,null,null,null,null,null,null,null,null,null,null,null,null,null,null,null,null,null,null,null,null,{"$f":"+T43","v":0},{"$f":"COUNTIF(AG:AG,T43)","v":1},null,null,null,null,null,null,null,null,null,null,null,null,null,null,null,null,null,null,null,null,null,null,null,null,null,null,null,null,null,null,null,null,null,{"$error":"#N/A"},{"$error":"#N/A"},{"$error":"#N/A"}]
[null,null,null,null,null,null,null,null,null,null,null,null,null,null,null,null,null,null,null,null,null,null,null,null,null,null,null,null,null,null,null,null,null,null,null,null,null,null,null,null,null,null,null,null,null,null,null,null,null,null,null,null,null,null,null,null,null,null,null,null,null,null,null,null,null,null,null,null,{"$error":"#N/A"},{"$error":"#N/A"}]
[null,null,null,null,null,null,null,null,null,null,null,null,null,null,null,null,null,null,null,null,null,null,null,null,null,null,null,null,null,null,null,null,null,null,null,null,null,null,null,null,null,null,null,null,null,null,null,null,null,null,null,null,null,null,null,null,null,null,null,null,null,null,null,null,null,null,null,{"$error":"#N/A"},{"$error":"#N/A"},{"$error":"#N/A"}]
[null,null,null,null,null,null,null,null,null,null,null,null,null,null,null,null,null,null,null,null,null,null,null,null,null,null,null,null,null,null,null,null,null,null,null,null,null,null,null,null,null,null,null,null,null,null,null,null,null,null,null,null,null,null,null,null,null,null,null,null,null,null,null,null,null,null,null,{"$error":"#N/A"},{"$error":"#N/A"},{"$error":"#N/A"}]
[null,null,null,null,null,null,null,null,null,null,null,null,null,null,null,null,null,null,null,null,null,null,null,null,null,null,null,null,null,null,null,null,null,null,null,null,null,null,null,null,null,null,null,null,null,null,null,null,null,null,null,null,null,null,null,null,null,null,null,null,null,null,null,null,null,null,null,{"$error":"#N/A"},{"$error":"#N/A"},{"$error":"#N/A"}]
[null,null,null,null,null,null,null,null,null,null,null,null,null,null,null,null,null,null,null,null,null,null,null,null,null,null,null,null,null,null,null,null,null,null,null,null,null,null,null,null,null,null,null,null,null,null,null,null,null,null,null,null,null,null,null,null,null,null,null,null,null,null,null,null,null,null,null,{"$error":"#N/A"},{"$error":"#N/A"},{"$error":"#N/A"}]
[null,null,null,null,null,null,null,null,null,null,null,null,null,null,null,null,null,null,null,null,null,null,null,null,null,null,null,null,null,null,null,null,null,null,null,null,null,null,null,null,null,null,null,null,null,null,null,null,null,null,null,null,null,null,null,null,null,null,null,null,null,null,null,null,null,null,null,{"$error":"#N/A"},{"$error":"#N/A"},{"$error":"#N/A"}]
[null,null,null,null,null,null,null,null,null,null,null,null,null,null,null,null,null,null,null,null,null,null,null,null,null,null,null,null,null,null,null,null,null,null,null,null,null,null,null,null,null,null,null,null,null,null,null,null,null,null,null,null,null,null,null,null,null,null,null,null,null,null,null,null,null,null,null,{"$error":"#N/A"},{"$error":"#N/A"},{"$error":"#N/A"}]
[]
[]
[]
[]
[]
[]
[]
[]
[]
[]
[]
[]
[]
[]
[]
[]
[]
[]
[]
[]
[]
[]
[]
[]
[]
[]
[]
[]
[]
[]
[]
[]
[]
[]
[]
[]
[]
[]
[]
[]
[]
[]
[]
[]
[]
[]
[]
[]
[]
[]
[]
[]
[]
[]
[]
[]
[]
[]
[]
[]
[]
[]
[]
[]
[]
[]
[]
[]
[]
[]
[]
[]
[]
[null,null,null,null,null,null,null,null,null,null,null,null,null,null,null,null,null,null,null,null,null,null,null,null,{"$f":"IF(AE128=AE127,Y127+1,1)","v":1},{"$f":"COUNTIF($AE$132:$AE$200,AE128)","v":0},null,null,null,null,null,{"$f":"Y128&\"/\"&Z128","v":"1/0"}]
[]
[]
[null,null,null,null,null,null,null,null,null,null,null,null,null,null,null,null,null,null,null,null,null,"Dos","NOM Prénom","Rang","RC","NC","1/2 T","b","c","d","Club","N° Club"]
[null,null,null,null,null,null,null,null,null,null,null,null,null,null,null,null,null,null,null,null,null,50,"VIDAL Charles",2,1,1,null,null,null,null,"ASSUN TT","1/1"]
[null,null,null,null,null,null,null,null,null,null,null,null,null,null,null,null,null,null,null,null,null,44,"LUCAS Ifig",1,1,1,null,null,null,null,"EQUEURDREVILLE","1/1"]
[null,null,null,null,null,null,null,null,null,null,null,null,null,null,null,null,null,null,null,null,null,49,"ROBION Paul",3,1,1,null,null,null,null,"SIOUVILLE ATTLC","1/1"]
[null,null,null,null,null,null,null,null,null,null,null,null,null,null,null,null,null,null,null,null,null,47,"LEVILLAIN Camille",4,1,1,null,null,null,null,"ST PAIR BRICQUE","1/1"]
[null,null,null,null,null,null,null,null,null,null,null,null,null,null,null,null,null,null,null,null,null,null,null,null,1,0,null,null,null,null,null,"1/0"]
[null,null,null,null,null,null,null,null,null,null,null,null,null,null,null,null,null,null,null,null,null,null,null,null,2,0,null,null,null,null,null,"2/0"]
[null,null,null,null,null,null,null,null,null,null,null,null,null,null,null,null,null,null,null,null,null,null,null,null,3,0,null,null,null,null,null,"3/0"]
[null,null,null,null,null,null,null,null,null,null,null,null,null,null,null,null,null,null,null,null,null,null,null,null,4,0,null,null,null,null,null,"4/0"]
[null,null,null,null,null,null,null,null,null,null,null,null,null,null,null,null,null,null,null,null,null,null,null,null,5,0,null,null,null,null,null,"5/0"]
[null,null,null,null,null,null,null,null,null,null,null,null,null,null,null,null,null,null,null,null,null,null,null,null,6,0,null,null,null,null,null,"6/0"]

{"sheet":"G-216d","index":13,"n_rows":5,"n_cols":5,"rows_kept":5,"cut":false,"hidden":false,"merged":[]}
["Clt",1,2,3,4]
["1er",{"$f":"'TS-216d'!T15","v":0},{"$f":"'TS-216d'!T16","v":0},{"$f":"'TS-216d'!T17","v":0},{"$f":"'TS-216d'!T18","v":0}]
["2ème",{"$f":"'TS-216d'!T24","v":0},{"$f":"'TS-216d'!T25","v":0},{"$f":"'TS-216d'!T26","v":0},{"$f":"'TS-216d'!T27","v":0}]
["3ème",{"$f":"'TS-216d'!T33","v":0},{"$f":"'TS-216d'!T34","v":0},{"$f":"'TS-216d'!T35","v":0},{"$f":"'TS-216d'!T36","v":0}]
["4ème",{"$f":"'TS-216d'!T43","v":0},{"$f":"'TS-216d'!T44","v":0},{"$f":"'TS-216d'!T45","v":0},{"$f":"'TS-216d'!T46","v":0}]

{"sheet":"TS-216e","index":14,"n_rows":141,"n_cols":95,"rows_kept":141,"cut":false,"hidden":false,"merged":[[43,1,44,1],[43,0,44,0],[43,12,44,12],[43,13,44,13],[36,7,37,7],[36,9,37,9],[36,10,37,10],[39,8,40,8],[43,14,44,14],[39,11,40,11],[41,11,42,11],[43,11,44,11],[36,5,37,5],[43,15,44,15],[43,4,44,4],[43,2,44,2],[39,20,46,21],[41,6,42,6],[41,7,42,7],[41,9,42,9],[41,10,42,10],[43,3,44,3],[41,5,42,5],[43,16,44,16],[39,6,40,6],[39,7,40,7],[39,9,40,9],[39,10,40,10],[41,8,42,8],[34,8,35,8],[36,8,37,8],[34,7,35,7],[34,9,35,9],[34,10,35,10],[36,6,37,6],[34,11,35,11],[36,11,37,11],[32,14,33,14],[32,11,33,11],[32,12,33,12],[32,13,33,13],[32,0,33,0],[34,6,35,6],[26,3,27,3],[26,1,27,1],[26,0,27,0],[32,5,33,5],[26,2,27,2],[32,2,33,2],[26,4,27,4],[26,5,27,5],[32,4,33,4],[34,5,35,5],[32,3,33,3],[32,1,33,1],[22,20,29,21],[24,6,25,6],[24,7,25,7],[24,9,25,9],[24,10,25,10],[22,8,23,8],[24,8,25,8],[26,12,27,12],[26,13,27,13],[26,15,27,15],[26,16,27,16],[22,6,23,6],[22,7,23,7],[22,9,23,9],[22,10,23,10],[26,11,27,11],[32,15,33,15],[32,16,33,16],[31,20,38,21],[15,14,16,14],[14,80,14,81],[15,4,16,4],[15,3,16,3],[17,11,18,11],[17,8,18,8],[22,11,23,11],[24,11,25,11],[26,14,27,14],[17,5,18,5],[19,5,20,5],[22,5,23,5],[24,5,25,5],[19,6,20,6],[19,7,20,7],[19,9,20,9],[19,10,20,10],[17,6,18,6],[17,7,18,7],[17,9,18,9],[19,11,20,11],[19,8,20,8],[14,86,14,87],[14,82,14,85],[17,10,18,10],[15,1,16,1],[15,0,16,0],[3,0,5,43],[12,46,12,81],[13,24,13,27],[13,79,13,81],[15,12,16,12],[15,13,16,13],[15,15,16,15],[15,16,16,16],[14,20,21,21],[14,79,15,79],[7,17,7,21],[7,30,7,41],[8,30,8,41],[12,29,12,43],[15,5,16,5],[15,2,16,2],[15,11,16,11]]}
[{"$f":"\"Epreuve  : \"&'TS-200'!$C$1","v":"Epreuve  : Critérium Fédéral"},null,null,null,null,null,null,null,null,null,null,null,null,null,null,null,null,null,null,null,null,null,null,null,null,null,null,null,null,null,null,null,null,null,null,null,null,null,null,null,null,null,null,{"$f":"\"Lieu : \"&'TS-200'!$C$2","v":"Lieu : Pont à Mousson"}]
[{"$f":"\"Tableau : \"&'TS-200'!$C$4","v":"Tableau :  "},null,null,null,null,null,null,null,null,null,null,null,null,null,null,null,null,null,null,null,null,null,null,null,null,null,null,null,null,null,null,null,null,null,null,null,null,null,null,null,null,null,null,{"$f":"\"Date : \"&'TS-200'!$C$3","v":"Date : 15 au 17 mars 2019"}]
[]
["TABLEAU DE TIRAGE AU SORT\n16 JOUEURS KO\n4 poules - 4 qualifiés",null,null,null,null,null,null,null,null,null,null,null,null,null,null,null,null,null,null,null,null,null,null,null,null,null,null,null,null,null,null,null,null,null,null,null,null,null,null,null,null,null,null,null,null,null,null,null,null,null,null,null,null,null,null,null,null,null,null,null,null,null,null,null,null,null,null,null,null,null,null,null,null,null,null,null,null,null,null,null,null,null,null,null,null,null,null,null,null,null,1,"H","HH","B","HB"]
[null,null,null,null,null,null,null,null,null,null,null,null,null,null,null,null,null,null,null,null,null,null,null,null,null,null,null,null,null,null,null,null,null,null,null,null,null,null,null,null,null,null,null,null,null,null,null,null,null,null,null,null,null,null,null,null,null,null,null,null,null,null,null,null,null,null,null,null,null,null,null,null,null,null,null,null,null,null,null,null,null,null,null,null,null,null,null,null,null,null,2,"H","HH","B","HB"]
[null,null,null,null,null,null,null,null,null,null,null,null,null,null,null,null,null,null,null,null,null,null,null,null,null,null,null,null,null,null,null,null,null,null,null,null,null,null,null,null,null,null,null,null,null,null,null,null,null,null,null,null,null,null,null,null,null,null,null,null,null,null,null,null,null,null,null,null,null,null,null,null,null,null,null,null,null,null,null,null,null,null,null,null,null,null,null,null,null,null,3,"H","HH","B","HB"]
[null,null,null,null,null,null,null,null,null,null,null,null,null,null,null,null,null,null,null,null,null,null,null,null,null,null,null,null,null,null,null,null,null,null,null,null,null,null,null,null,null,null,null,null,null,null,null,null,null,null,null,null,null,null,null,null,null,null,null,null,null,null,null,null,null,null,null,null,null,null,null,null,null,null,null,null,null,null,null,null,null,null,null,null,null,null,null,null,null,null,4,"H","HH","B","HB"]
[null,null,null,null,null,null,"Critère d'appartenance pour la mise en tableau",null,null,null,null,null,null,null,null,null,null,"Club",null,null,null,null,null,null,null,null,null,null,null,null,"Club, Comité ou Ligue (tiré au sort)",null,null,null,null,null,null,null,null,null,null,null," ",null,null,null,null,null,null,null,null,null,null,null,null,null,null,null,null,null,null,null,null,null,null,null,null,null,null,null,null,null,null,null,null,null,null,null,null,null,null,null,null,null,null,null,null,null,null,null,5,"H","HB","B","HH"]
[null,null,null,null,null,null,null,null,null,null,"Club",null,null,null,null,null,null,null,null,null,null,null,null,null,null,null,null,null,null,null,"Partie du tableau tirée au sort (H=Haut, B=Bas)",null,null,null,null,null,null,null,null,null,null,null,"B",null,"H ou B",null,null,null,null,null,null,null,null,null,null,null,null,null,null,null,null,null,null,null,null,null,null,null,null,null,null,null,null,null,null,null,null,null,null,null,null,null,null,null,null,null,null,null,null,null,6,"H","HB","B","HH"]
[{"$f":"IF(R8=\"Club\",10,IF(R8=\"Ligue\",11,IF(R8=\"Comité\",12,10)))","v":10},null,null,null,null,null,{"$f":"IF(R8=\"Club\",10,IF(R8=\"Ligue\",11,IF(R8=\"Comité\",12,10)))","v":10},null,null,null,"Ligue",null,null,null,null,null,null,null,null,null,null,null,null,null,null,null,null,null,null,null,null,null,null,null,null,null,null,null,null,null,null,null,null,null,"H",null,"Position"," ",null,null,null,null,null,null,null,null,null,null,null,null,null,null,null,null,null,null,null,null,null,null,null,null,null,null,null,null,null,null,null,0,"H","B","HH","HB","BH","BB","H","B",null,null,null,"B","HB","H","HB"]
[null,null,null,null,null,null,null,null,null,null,"Comité",null,null,null,null,null,null,null,null,null,null,null,null,null,null,null,null,null,null,null,null,null,null,null,null,null,null,null,null,null,null,null,null,null,"B",null,"N° colonne TCD","H",null,null,null,null,null,null,null,null,null,null,null,null,null,null,null,null,null,null,null,null,null,null,null,null,null,null,null,null,null,null,null,{"$f":"MATCH(CB10,$AU$16:$CA$16,0)","v":{"$error":"#N/A"}},{"$f":"MATCH(CC10,$AU$15:$CA$15,0)","v":2},{"$f":"MATCH(CD10,$AU$15:$CA$15,0)","v":13},{"$f":"MATCH(CE10,$AU$16:$CA$16,0)","v":2},{"$f":"MATCH(CF10,$AU$16:$CA$16,0)","v":7},{"$f":"MATCH(CG10,$AU$16:$CA$16,0)","v":18},{"$f":"MATCH(CH10,$AU$16:$CA$16,0)","v":13},{"$f":"MATCH(CI10,$AU$15:$CA$15,0)","v":2},{"$f":"MATCH(CJ10,$AU$15:$CA$15,0)","v":13},null,null,49,"B","HB","H","HB"]
[null,null,null,null,null,null,null,null,null,null,null,null,null,null,null,null,null,null,null,null,null,null,null,null,null,null,null,null,null,null,null,null,null,null,null,null,null,null,null,null,null,null,null,null,"HH",null,null,2,3,4,5,6,7,8,9,10,11,12,13,14,15,16,17,18,19,20,21,22,23,24,25,26,27,28,29,30,31,32,33,34,35,36,37,38,39,40,41,42,null,null,7,"H","HB","B","HH"]
[null,null,null,null,null,null,null,null,null,null,null,null,null,null,null,null,null,null,null,null,null,null,null,null,null,null,null,null,null,"1er de poule",null,null,null,null,null,null,null,null,null,null,null,null,null,null,"HB",null,"NB JOUEUR / CLUB",null,null,null,null,null,null,null,null,null,null,null,null,null,null,null,null,null,null,null,null,null,null,null,null,null,null,null,null,null,null,null,null,null,null,null,null,null,null,null,null,null,null,null,8,"H","HB","B","HH"]
[null,null,null,null,null,null,null,null,null,null,null,null,null,null,null,null,null,null,null,null,null,null,null,null,"N° Dispo",null,null,null,"SPIDD","Pl","x","TAS","N°","Dos","NOM Prénom","Rang","SPIDD","a","1/2 T","1/4 T","c","d","Club, Comité ou Ligue","N° Club","BH",null,"NB Club, Comité ou Ligue","1/2 T","1/4 T","N°",null,null,null,null,null,null,null,null,null,null,null,null,null,null,null,null,null,null,null,null,null,null,null,null,null,null,null,null,null,"TAS >1",null,null,null,null,null,null,null,null,null,null,9,"B","BH","H","BB"]
[null,null,null,null,null,null,null,null,null,null,null,null,null,null,null,null,null,{"$f":"IF(ISNA(VLOOKUP(O16,$AF$15:$AQ$50,12,FALSE)),\"\",VLOOKUP(O16,$AF$15:$AQ$50,12,FALSE))","v":""}," ",null,"HH",null,null,null,1,null,32,null,{"$f":"IF(AF15=\"\",\"\",VLOOKUP(AF15,_TAS16,3,FALSE))","v":""},"P",1,null,1,{"$f":"IF(ISNA(VLOOKUP(AK15,Liste_SPIDD,2,FALSE)),901,VLOOKUP(AK15,Liste_SPIDD,2,FALSE))","v":44},{"$f":"IF(AH15=\"\",\"\",IF(ISNA(VLOOKUP($AH15,Liste_Dos_SPIDD,2,FALSE)),VLOOKUP($AH15,Liste_J,3,FALSE),VLOOKUP($AH15,Liste_Dos_SPIDD,2,FALSE)))","v":"LUCAS Ifig"},1,{"$f":"AE15&AG15","v":"11"},{"$f":"IF($AF15=0,0,VLOOKUP($AF15,$CM$4:$CP$68,2,FALSE))","v":0},0,{"$f":"IF($AF15=0,0,VLOOKUP($AF15,$CM$4:$CP$68,3,FALSE))","v":0},null,null,{"$f":"IF(AH15=\"\",\"\",IF(ISNA(VLOOKUP(AH15,Liste_Dos_SPIDD,3,FALSE)),VLOOKUP(AH15,Liste_J,$A$10,FALSE),VLOOKUP(AH15,Liste_Dos_SPIDD,3,FALSE)))","v":"EQUEURDREVILLE"},{"$f":"IF(ISERROR(VLOOKUP(AH15,$AH$131:$AR$147,1,FALSE)),\"\",IF(VLOOKUP(AH15,$AH$131:$AR$147,11,FALSE)=\"1/1\",\"\",VLOOKUP(AH15,$AH$131:$AR$147,11,FALSE)))","v":""},"BB",null,null,"H",null,null,null,null,null,null,null,null,null,"Total H","B",null,null,null,null,null,null,null,null,null,"Total B","Total général",null,null,null,null,null,null,null,null,null,"1er","2ème",null,"3ème",null,null,null,"4ème",null,null,null,10,"B","BH","H","BB"]
[{"$f":"IF(ISNA(VLOOKUP(C16,$AF$15:$AQ$50,4,FALSE)),\"\",VLOOKUP(C16,$AF$15:$AQ$50,4,FALSE)&\" - \"&VLOOKUP(C16,$AF$15:$AQ$50,12,FALSE))","v":""},16,{"$f":"E16","v":2},"13=",2,{"$f":"IF(ISNA(VLOOKUP(C16,$AF$15:$AQ$46,12,FALSE)),\"\",VLOOKUP(C16,$AF$15:$AQ$46,12,FALSE))","v":""},null,null,null,null,null,{"$f":"IF(ISNA(VLOOKUP(O16,$AF$15:$AQ$46,12,FALSE)),\"\",VLOOKUP(O16,$AF$15:$AQ$46,12,FALSE))","v":""},1,1,{"$f":"M16","v":1},1,{"$f":"IF(ISNA(VLOOKUP(O16,$AF$15:$AQ$50,4,FALSE)),\"\",VLOOKUP(O16,$AF$15:$AQ$50,4,FALSE)&\" - \"&VLOOKUP(O16,$AF$15:$AQ$50,12,FALSE))","v":""},null," ",null,null,null,null,null,16,null,31,null,{"$f":"IF(AF16=\"\",\"\",VLOOKUP(AF16,_TAS16,3,FALSE))","v":""},"P",2,null,1,{"$f":"IF(ISNA(VLOOKUP(AK16,Liste_SPIDD,2,FALSE)),901,VLOOKUP(AK16,Liste_SPIDD,2,FALSE))","v":50},{"$f":"IF(AH16=\"\",\"\",IF(ISNA(VLOOKUP($AH16,Liste_Dos_SPIDD,2,FALSE)),VLOOKUP($AH16,Liste_J,3,FALSE),VLOOKUP($AH16,Liste_Dos_SPIDD,2,FALSE)))","v":"VIDAL Charles"},2,{"$f":"AE16&AG16","v":"21"},0,0,{"$f":"IF($AF16=0,0,VLOOKUP($AF16,$CM$4:$CP$68,3,FALSE))","v":0},null,null,{"$f":"IF(AH16=\"\",\"\",IF(ISNA(VLOOKUP(AH16,Liste_Dos_SPIDD,3,FALSE)),VLOOKUP(AH16,Liste_J,$A$10,FALSE),VLOOKUP(AH16,Liste_Dos_SPIDD,3,FALSE)))","v":"ASSUN TT"},{"$f":"IF(ISERROR(VLOOKUP(AH16,$AH$131:$AR$147,1,FALSE)),\"\",IF(VLOOKUP(AH16,$AH$131:$AR$147,11,FALSE)=\"1/1\",\"\",VLOOKUP(AH16,$AH$131:$AR$147,11,FALSE)))","v":""},null,null,null,"HH",null,null,null,"Total HH","HB",null,null,null,"Total HB",null,"BB",null,null,null,"Total BB","BH",null,null,null,"Total BH",null,null,null,null,null,null,null,null,null,null,null,null,{"$f":"+CC10","v":"H"},"B","HH","HB","BH","BB","H","B",null,null,11,"B","BH","H","BB"]
[null,null,null,null,null,null,null,null,null,null,null,null,null,null,null,null,null,null," ",null,null,null,null,null,9,null,30,null,{"$f":"IF(AF17=\"\",\"\",VLOOKUP(AF17,_TAS16,3,FALSE))","v":""},"P",3,null,1,{"$f":"IF(ISNA(VLOOKUP(AK17,Liste_SPIDD,2,FALSE)),901,VLOOKUP(AK17,Liste_SPIDD,2,FALSE))","v":49},{"$f":"IF(AH17=\"\",\"\",IF(ISNA(VLOOKUP($AH17,Liste_Dos_SPIDD,2,FALSE)),VLOOKUP($AH17,Liste_J,3,FALSE),VLOOKUP($AH17,Liste_Dos_SPIDD,2,FALSE)))","v":"ROBION Paul"},3,{"$f":"AE17&AG17","v":"31"},0,0,{"$f":"IF($AF17=0,0,VLOOKUP($AF17,$CM$4:$CP$68,3,FALSE))","v":0},null,null,{"$f":"IF(AH17=\"\",\"\",IF(ISNA(VLOOKUP(AH17,Liste_Dos_SPIDD,3,FALSE)),VLOOKUP(AH17,Liste_J,$A$10,FALSE),VLOOKUP(AH17,Liste_Dos_SPIDD,3,FALSE)))","v":"SIOUVILLE ATTLC"},{"$f":"IF(ISERROR(VLOOKUP(AH17,$AH$131:$AR$147,1,FALSE)),\"\",IF(VLOOKUP(AH17,$AH$131:$AR$147,11,FALSE)=\"1/1\",\"\",VLOOKUP(AH17,$AH$131:$AR$147,11,FALSE)))","v":""},null,null,"Club, Comité ou Ligue",1,2,3,4,null,1,2,3,4,null,null,1,2,3,4,null,1,2,3,4,null,null,null,null,null,null,null,null,null,null,null,null,{"$f":"IF(VLOOKUP($AU17,$AU$14:$BV$47,CB$11,FALSE)>1,VLOOKUP($AU17,$AU$14:$BV$47,CB$11,FALSE),\"\")","v":{"$error":"#REF!"}},{"$f":"IF(OR(VLOOKUP($AU17,$AU$14:$BV$47,CC$11,FALSE)>1,AND(VLOOKUP($AU17,$AU$14:$BV$47,CC$11,FALSE)=1,(VLOOKUP($AU17,$AU$14:$BV$47,CC$11+3,FALSE)+VLOOKUP($AU17,$AU$14:$BV$47,CC$11+6,FALSE))>0)),(VLOOKUP($AU17,$AU$14:$BV$47,CC$11,FALSE)+VLOOKUP($AU17,$AU$14:$BV$47,CC$11+3,FALSE)+VLOOKUP($AU17,$AU$14:$BV$47,CC$11+6,FALSE)),\"\")","v":7},7,{"$f":"IF(OR(VLOOKUP($AU17,$AU$14:$BV$47,CE$11+2,FALSE)>1,AND(VLOOKUP($AU17,$AU$14:$BV$47,CE$11+2,FALSE)=1,(VLOOKUP($AU17,$AU$14:$BV$47,CE$11,FALSE)+VLOOKUP($AU17,$AU$14:$BV$47,CE$11+1,FALSE)+VLOOKUP($AU17,$AU$14:$BV$47,CE$11+2,FALSE))>1)),VLOOKUP($AU17,$AU$14:$BV$47,CE$11+4,FALSE)-VLOOKUP($AU17,$AU$14:$BV$47,CE$11+3,FALSE),\"\")","v":-4},{"$f":"IF(OR(VLOOKUP($AU17,$AU$14:$BV$47,CF$11+2,FALSE)>1,AND(VLOOKUP($AU17,$AU$14:$BV$47,CF$11+2,FALSE)=1,VLOOKUP($AU17,$AU$14:$BV$47,CF$11,FALSE)+VLOOKUP($AU17,$AU$14:$BV$47,CF$11+1,FALSE)+VLOOKUP($AU17,$AU$14:$BV$47,CF$11+2,FALSE)>1)),VLOOKUP($AU17,$AU$14:$BV$47,CF$11+4,FALSE)-VLOOKUP($AU17,$AU$14:$BV$47,CF$11+3,FALSE),\"\")","v":-4},-4,-4,{"$f":"IF(OR(VLOOKUP($AU17,$AU$14:$BV$47,CI$11+10,FALSE)-VLOOKUP($AU17,$AU$14:$BV$47,CI$11+4,FALSE)-VLOOKUP($AU17,$AU$14:$BV$47,CI$11+9,FALSE)>0.5,AND(OR(VLOOKUP($AU17,$AU$14:$BV$47,CI$11+4,FALSE)>0.5,VLOOKUP($AU17,$AU$14:$BV$47,CI$11+9,FALSE)>0.5))),VLOOKUP($AU17,$AU$14:$BV$47,CI$11+10,FALSE)-VLOOKUP($AU17,$AU$14:$BV$47,CI$11,FALSE)-VLOOKUP($AU17,$AU$14:$BV$47,CI$11+5,FALSE),\"\")","v":""},{"$f":"IF(OR(VLOOKUP($AU17,$AU$14:$BV$47,CJ$11+10,FALSE)-VLOOKUP($AU17,$AU$14:$BV$47,CJ$11+4,FALSE)-VLOOKUP($AU17,$AU$14:$BV$47,CJ$11+9,FALSE)>0.5,AND(OR(VLOOKUP($AU17,$AU$14:$BV$47,CJ$11+4,FALSE)>0.5,VLOOKUP($AU17,$AU$14:$BV$47,CJ$11+9,FALSE)>0.5))),VLOOKUP($AU17,$AU$14:$BV$47,CJ$11+10,FALSE)-VLOOKUP($AU17,$AU$14:$BV$47,CJ$11,FALSE)-VLOOKUP($AU17,$AU$14:$BV$47,CJ$11+5,FALSE),\"\")","v":""},null,null,12,"B","BH","H","BB"]
[null,null,null,null,null,{"$f":"IF(ISNA(VLOOKUP(I18,$AF$15:$AQ$46,12,FALSE)),\"\",VLOOKUP(I18,$AF$15:$AQ$46,12,FALSE))","v":""},3,"9=",{"$f":"G18","v":3},9,{"$f":"IF(ISNA(VLOOKUP(I18,$AF$15:$AQ$50,4,FALSE)),\"\",VLOOKUP(I18,$AF$15:$AQ$50,4,FALSE)&\" - \"&VLOOKUP(I18,$AF$15:$AQ$50,12,FALSE))","v":""},{"$f":"IF(ISNA(VLOOKUP(I18,$AF$15:$AQ$46,12,FALSE)),\"\",VLOOKUP(I18,$AF$15:$AQ$46,12,FALSE))","v":""}," ",null,null,null,null,{"$f":"IF(ISNA(VLOOKUP(C17,$AF$15:$AQ$50,12,FALSE)),\"\",VLOOKUP(C17,$AF$15:$AQ$50,12,FALSE))","v":""}," ",null,null,null,null,null,8,null,29,null,{"$f":"IF(AF18=\"\",\"\",VLOOKUP(AF18,_TAS16,3,FALSE))","v":""},"P",4,null,1,{"$f":"IF(ISNA(VLOOKUP(AK18,Liste_SPIDD,2,FALSE)),901,VLOOKUP(AK18,Liste_SPIDD,2,FALSE))","v":47},{"$f":"IF(AH18=\"\",\"\",IF(ISNA(VLOOKUP($AH18,Liste_Dos_SPIDD,2,FALSE)),VLOOKUP($AH18,Liste_J,3,FALSE),VLOOKUP($AH18,Liste_Dos_SPIDD,2,FALSE)))","v":"LEVILLAIN Camille"},4,{"$f":"AE18&AG18","v":"41"},0,0,{"$f":"IF($AF18=0,0,VLOOKUP($AF18,$CM$4:$CP$68,3,FALSE))","v":0},null,null,{"$f":"IF(AH18=\"\",\"\",IF(ISNA(VLOOKUP(AH18,Liste_Dos_SPIDD,3,FALSE)),VLOOKUP(AH18,Liste_J,$A$10,FALSE),VLOOKUP(AH18,Liste_Dos_SPIDD,3,FALSE)))","v":"ST PAIR BRICQUE"},{"$f":"IF(ISERROR(VLOOKUP(AH18,$AH$131:$AR$147,1,FALSE)),\"\",IF(VLOOKUP(AH18,$AH$131:$AR$147,11,FALSE)=\"1/1\",\"\",VLOOKUP(AH18,$AH$131:$AR$147,11,FALSE)))","v":""},null,null,"ASSUN TT",null,null,null,null,null,null,null,null,null,null,null,1,null,null,null,1,null,null,null,null,null,1,1,null,null,null,null,null,null,null,null,null,{"$error":"#REF!"},"","","","","","",{"$f":"IF(OR(VLOOKUP($AU18,$AU$14:$BV$47,CI$11+10,FALSE)-VLOOKUP($AU18,$AU$14:$BV$47,CI$11+4,FALSE)-VLOOKUP($AU18,$AU$14:$BV$47,CI$11+9,FALSE)>0.5,AND(OR(VLOOKUP($AU18,$AU$14:$BV$47,CI$11+4,FALSE)>0.5,VLOOKUP($AU18,$AU$14:$BV$47,CI$11+9,FALSE)>0.5))),VLOOKUP($AU18,$AU$14:$BV$47,CI$11+10,FALSE)-VLOOKUP($AU18,$AU$14:$BV$47,CI$11,FALSE)-VLOOKUP($AU18,$AU$14:$BV$47,CI$11+5,FALSE),\"\")","v":""},0,null,null,13,"B","BB","H","BH"]
[null,null,null,null,null,null,null,null,null,null,null,null," ",null,null,null,null,{"$f":"IF(ISNA(VLOOKUP(I18,$AF$15:$AQ$50,12,FALSE)),\"\",VLOOKUP(I18,$AF$15:$AQ$50,12,FALSE))","v":""}," ",null,null,null,null,null,5,null,28,null,null,null,null,null,null,null,null,null,null,null,null,null,null,null,null,null,null,null,"ATTDUCEYAVRANCH",null,null,null,null,null,null,null,1,null,1,1,null,null,null,null,null,null,null,1,null,1,1,2,null,null,null,null,null,null,null,null,null,{"$error":"#REF!"},"","","","","","",1,1,null,null,14,"B","BB","H","BH"]
[null,null,null,null,null,{"$f":"IF(ISNA(VLOOKUP(I20,$AF$15:$AQ$46,12,FALSE)),\"\",VLOOKUP(I20,$AF$15:$AQ$46,12,FALSE))","v":""},4,"5=",{"$f":"G20","v":4},8,{"$f":"IF(ISNA(VLOOKUP(I20,$AF$15:$AQ$50,4,FALSE)),\"\",VLOOKUP(I20,$AF$15:$AQ$50,4,FALSE)&\" - \"&VLOOKUP(I20,$AF$15:$AQ$50,12,FALSE))","v":""},{"$f":"IF(ISNA(VLOOKUP(I20,$AF$15:$AQ$46,12,FALSE)),\"\",VLOOKUP(I20,$AF$15:$AQ$46,12,FALSE))","v":""},null,null,null,null,null,{"$f":"IF(ISNA(VLOOKUP(I19,$AF$15:$AQ$50,12,FALSE)),\"\",VLOOKUP(I19,$AF$15:$AQ$50,12,FALSE))","v":""}," ",null,null,null,null,null,12,null,27,null,null,null,null,null,null,null,null,null,null,null,null,null,null,null,null,null,null,null,"CARANTILLAISE",null,null,null,null,null,null,null,null,1,1,1,null,null,null,null,null,null,null,null,null,null,null,1,null,null,null,null,null,null,null,null,null,{"$error":"#REF!"},"","","","","","",1,"",null,null,15,"B","BB","H","BH"]
[null,null,null,null,null,null,null,null,null,null,null,null,null,null,null,null,null,{"$f":"IF(ISNA(VLOOKUP(I20,$AF$15:$AQ$50,12,FALSE)),\"\",VLOOKUP(I20,$AF$15:$AQ$50,12,FALSE))","v":""}," ",null,null,null,null,null,13,null,26,null,null,null,null,null,null,null,null,null,null,null,null,null,null,null,null,null,null,null,"COUTANCES JA",null,1,null,null,1,null,null,null,null,null,1,null,1,null,null,1,null,null,null,null,null,1,2,null,null,null,null,null,null,null,null,null,{"$error":"#REF!"},"","","","","","",1,1,null,null,16,"B","BB","H","BH"]
["--------------------------------------------------------------------------------------------------------------------------------------------------------------------------------------------------------------------",null,null,null,null,null,null,null,null,null,null,null,null,null,null,null,null,{"$f":"IF(ISNA(VLOOKUP(I21,$AF$15:$AQ$50,12,FALSE)),\"\",VLOOKUP(I21,$AF$15:$AQ$50,12,FALSE))","v":""}," ",null,null,null,null,null,4,null,25,null,null,null,null,null,null,null,null,null,null,null,null,null,null,null,null,null,null,null,"EQUEURDREVILLE",1,null,null,null,1,null,null,null,null,null,1,null,null,null,null,null,null,null,null,null,null,null,1,null,null,null,null,null,null,null,null,null,{"$error":"#REF!"},"","","","","","",0,""]
[null,null,null,null,null,{"$f":"IF(ISNA(VLOOKUP(I23,$AF$15:$AQ$46,12,FALSE)),\"\",VLOOKUP(I23,$AF$15:$AQ$46,12,FALSE))","v":""},5,"5=",{"$f":"G23","v":5},5,{"$f":"IF(ISNA(VLOOKUP(I23,$AF$15:$AQ$50,4,FALSE)),\"\",VLOOKUP(I23,$AF$15:$AQ$50,4,FALSE)&\" - \"&VLOOKUP(I23,$AF$15:$AQ$50,12,FALSE))","v":""},{"$f":"IF(ISNA(VLOOKUP(I23,$AF$15:$AQ$46,12,FALSE)),\"\",VLOOKUP(I23,$AF$15:$AQ$46,12,FALSE))","v":""},null,null,null,null,null,{"$f":"IF(ISNA(VLOOKUP(I23,$AF$15:$AQ$50,12,FALSE)),\"\",VLOOKUP(I23,$AF$15:$AQ$50,12,FALSE))","v":""}," ",null,"HB",null,null,null,3,null,24,null,"SPIDD","2ème de poule",null,null,null,null,null,null,null,null,null,null,null,null,null,null,null,null,"OC AGNEAUX",null,null,null,null,null,null,1,null,null,1,1,null,null,null,null,null,null,null,null,null,null,null,1,null,null,null,null,null,null,null,null,null,{"$error":"#REF!"},"","","","","","",1,""]
[null,null,null,null,null,null,null,null,null,null,null,null,null,null,null,null,null,{"$f":"IF(ISNA(VLOOKUP(I24,$AF$15:$AQ$50,12,FALSE)),\"\",VLOOKUP(I24,$AF$15:$AQ$50,12,FALSE))","v":""}," ",null,null,null,null,null,14,null,23,null,{"$f":"IF(AF24=\"\",\"\",VLOOKUP(AF24,_TAS16,3,FALSE))","v":""},"P",1,null,2,{"$f":"IF(ISNA(VLOOKUP(AK24,Liste_SPIDD,2,FALSE)),901,VLOOKUP(AK24,Liste_SPIDD,2,FALSE))","v":201},{"$f":"IF(AH24=\"\",\"\",IF(ISNA(VLOOKUP($AH24,Liste_Dos_SPIDD,2,FALSE)),VLOOKUP($AH24,Liste_J,3,FALSE),VLOOKUP($AH24,Liste_Dos_SPIDD,2,FALSE)))","v":"LUCAS Ifig"},11,{"$f":"AE24&AG24","v":"12"},{"$f":"IF($AF24=0,0,VLOOKUP($AF24,$CM$4:$CP$68,2,FALSE))","v":0},{"$f":"IF(AM15=\"H\",\"B\",IF(AM15=\"B\",\"H\",\"\"))","v":""},{"$f":"IF($AF24=0,0,VLOOKUP($AF24,$CM$4:$CP$68,3,FALSE))","v":0},null,null,{"$f":"IF(AH24=\"\",\"\",IF(ISNA(VLOOKUP(AH24,Liste_Dos_SPIDD,3,FALSE)),VLOOKUP(AH24,Liste_J,$A$10,FALSE),VLOOKUP(AH24,Liste_Dos_SPIDD,3,FALSE)))","v":"EQUEURDREVILLE"},{"$f":"IF(ISERROR(VLOOKUP(AQ24,$AU$12:$CH$54,18,FALSE)),\"\",IF($AQ$9=\"H\",VLOOKUP(AQ24,$AU$12:$CH$54,35,FALSE),IF($AQ$9=\"B\",VLOOKUP(AQ24,$AU$12:$CH$54,36,FALSE),\"\")))","v":""},null,null,"SIOUVILLE ATTLC",null,null,null,null,null,null,null,null,null,null,null,null,null,null,null,null,1,null,null,null,1,1,1,null,null,null,null,null,null,null,null,null,{"$error":"#REF!"},"","","","","","","",0]
[null,null,null,null,null,{"$f":"IF(ISNA(VLOOKUP(I25,$AF$15:$AQ$46,12,FALSE)),\"\",VLOOKUP(I25,$AF$15:$AQ$46,12,FALSE))","v":""},6,"9=",{"$f":"G25","v":6},12,{"$f":"IF(ISNA(VLOOKUP(I25,$AF$15:$AQ$50,4,FALSE)),\"\",VLOOKUP(I25,$AF$15:$AQ$50,4,FALSE)&\" - \"&VLOOKUP(I25,$AF$15:$AQ$50,12,FALSE))","v":""},{"$f":"IF(ISNA(VLOOKUP(I25,$AF$15:$AQ$46,12,FALSE)),\"\",VLOOKUP(I25,$AF$15:$AQ$46,12,FALSE))","v":""},null,null,null,null,null,{"$f":"IF(ISNA(VLOOKUP(I25,$AF$15:$AQ$50,12,FALSE)),\"\",VLOOKUP(I25,$AF$15:$AQ$50,12,FALSE))","v":""}," ",null,null,null,null,null,11,null,22,null,{"$f":"IF(AF25=\"\",\"\",VLOOKUP(AF25,_TAS16,3,FALSE))","v":""},"P",2,null,2,{"$f":"IF(ISNA(VLOOKUP(AK25,Liste_SPIDD,2,FALSE)),901,VLOOKUP(AK25,Liste_SPIDD,2,FALSE))","v":202},{"$f":"IF(AH25=\"\",\"\",IF(ISNA(VLOOKUP($AH25,Liste_Dos_SPIDD,2,FALSE)),VLOOKUP($AH25,Liste_J,3,FALSE),VLOOKUP($AH25,Liste_Dos_SPIDD,2,FALSE)))","v":"VIDAL Charles"},12,{"$f":"AE25&AG25","v":"22"},{"$f":"IF($AF25=0,0,VLOOKUP($AF25,$CM$4:$CP$68,2,FALSE))","v":0},{"$f":"IF(AM16=\"H\",\"B\",IF(AM16=\"B\",\"H\",\"\"))","v":""},{"$f":"IF($AF25=0,0,VLOOKUP($AF25,$CM$4:$CP$68,3,FALSE))","v":0},null,null,{"$f":"IF(AH25=\"\",\"\",IF(ISNA(VLOOKUP(AH25,Liste_Dos_SPIDD,3,FALSE)),VLOOKUP(AH25,Liste_J,$A$10,FALSE),VLOOKUP(AH25,Liste_Dos_SPIDD,3,FALSE)))","v":"ASSUN TT"},{"$f":"IF(ISERROR(VLOOKUP(AQ25,$AU$12:$CH$54,18,FALSE)),\"\",IF($AQ$9=\"H\",VLOOKUP(AQ25,$AU$12:$CH$54,35,FALSE),IF($AQ$9=\"B\",VLOOKUP(AQ25,$AU$12:$CH$54,36,FALSE),\"\")))","v":""},null,null,"ST PAIR BRICQUE",null,null,1,null,1,1,null,null,null,1,2,null,null,1,null,1,null,null,null,null,null,1,3,null,null,null,null,null,null,null,null,null,{"$error":"#REF!"},"","","","","","",1,1]
[null,null,null,null,null,null,null,null,null,null,null,null,null,null,null,null,null,{"$f":"IF(ISNA(VLOOKUP(I26,$AF$15:$AQ$50,12,FALSE)),\"\",VLOOKUP(I26,$AF$15:$AQ$50,12,FALSE))","v":""}," ",null,null,null,null,null,6,null,21,null,{"$f":"IF(AF26=\"\",\"\",VLOOKUP(AF26,_TAS16,3,FALSE))","v":""},"P",3,null,2,{"$f":"IF(ISNA(VLOOKUP(AK26,Liste_SPIDD,2,FALSE)),901,VLOOKUP(AK26,Liste_SPIDD,2,FALSE))","v":203},{"$f":"IF(AH26=\"\",\"\",IF(ISNA(VLOOKUP($AH26,Liste_Dos_SPIDD,2,FALSE)),VLOOKUP($AH26,Liste_J,3,FALSE),VLOOKUP($AH26,Liste_Dos_SPIDD,2,FALSE)))","v":"ROBION Paul"},13,{"$f":"AE26&AG26","v":"32"},{"$f":"IF($AF26=0,0,VLOOKUP($AF26,$CM$4:$CP$68,2,FALSE))","v":0},{"$f":"IF(AM17=\"H\",\"B\",IF(AM17=\"B\",\"H\",\"\"))","v":""},{"$f":"IF($AF26=0,0,VLOOKUP($AF26,$CM$4:$CP$68,3,FALSE))","v":0},null,null,{"$f":"IF(AH26=\"\",\"\",IF(ISNA(VLOOKUP(AH26,Liste_Dos_SPIDD,3,FALSE)),VLOOKUP(AH26,Liste_J,$A$10,FALSE),VLOOKUP(AH26,Liste_Dos_SPIDD,3,FALSE)))","v":"SIOUVILLE ATTLC"},{"$f":"IF(ISERROR(VLOOKUP(AQ26,$AU$12:$CH$54,18,FALSE)),\"\",IF($AQ$9=\"H\",VLOOKUP(AQ26,$AU$12:$CH$54,35,FALSE),IF($AQ$9=\"B\",VLOOKUP(AQ26,$AU$12:$CH$54,36,FALSE),\"\")))","v":""},null,null,"TORIGNAISE ESTT",null,null,null,1,1,null,null,null,null,null,1,null,null,null,null,null,null,null,null,1,1,1,2,null,null,null,null,null,null,null,null,null,{"$error":"#REF!"},"","","","","","",1,1]
[{"$f":"IF(ISNA(VLOOKUP(C27,$AF$15:$AQ$50,4,FALSE)),\"\",VLOOKUP(C27,$AF$15:$AQ$50,4,FALSE)&\" - \"&VLOOKUP(C27,$AF$15:$AQ$50,12,FALSE))","v":""},13,{"$f":"E27","v":7},"13=",7,{"$f":"IF(ISNA(VLOOKUP(C27,$AF$15:$AQ$46,12,FALSE)),\"\",VLOOKUP(C27,$AF$15:$AQ$46,12,FALSE))","v":""},null,null,null,null,null,{"$f":"IF(ISNA(VLOOKUP(O27,$AF$15:$AQ$46,12,FALSE)),\"\",VLOOKUP(O27,$AF$15:$AQ$46,12,FALSE))","v":""},8,"3=",{"$f":"M27","v":8},4,{"$f":"IF(ISNA(VLOOKUP(O27,$AF$15:$AQ$50,4,FALSE)),\"\",VLOOKUP(O27,$AF$15:$AQ$50,4,FALSE)&\" - \"&VLOOKUP(O27,$AF$15:$AQ$50,12,FALSE))","v":""},{"$f":"IF(ISNA(VLOOKUP(I27,$AF$15:$AQ$50,12,FALSE)),\"\",VLOOKUP(I27,$AF$15:$AQ$50,12,FALSE))","v":""}," ",null,null,null,null,null,7,null,20,null,{"$f":"IF(AF27=\"\",\"\",VLOOKUP(AF27,_TAS16,3,FALSE))","v":""},"P",4,null,2,{"$f":"IF(ISNA(VLOOKUP(AK27,Liste_SPIDD,2,FALSE)),901,VLOOKUP(AK27,Liste_SPIDD,2,FALSE))","v":204},{"$f":"IF(AH27=\"\",\"\",IF(ISNA(VLOOKUP($AH27,Liste_Dos_SPIDD,2,FALSE)),VLOOKUP($AH27,Liste_J,3,FALSE),VLOOKUP($AH27,Liste_Dos_SPIDD,2,FALSE)))","v":"LEVILLAIN Camille"},14,{"$f":"AE27&AG27","v":"42"},{"$f":"IF($AF27=0,0,VLOOKUP($AF27,$CM$4:$CP$68,2,FALSE))","v":0},{"$f":"IF(AM18=\"H\",\"B\",IF(AM18=\"B\",\"H\",\"\"))","v":""},{"$f":"IF($AF27=0,0,VLOOKUP($AF27,$CM$4:$CP$68,3,FALSE))","v":0},null,null,{"$f":"IF(AH27=\"\",\"\",IF(ISNA(VLOOKUP(AH27,Liste_Dos_SPIDD,3,FALSE)),VLOOKUP(AH27,Liste_J,$A$10,FALSE),VLOOKUP(AH27,Liste_Dos_SPIDD,3,FALSE)))","v":"ST PAIR BRICQUE"},{"$f":"IF(ISERROR(VLOOKUP(AQ27,$AU$12:$CH$54,18,FALSE)),\"\",IF($AQ$9=\"H\",VLOOKUP(AQ27,$AU$12:$CH$54,35,FALSE),IF($AQ$9=\"B\",VLOOKUP(AQ27,$AU$12:$CH$54,36,FALSE),\"\")))","v":""},null,null,"TT SAINT JAMES",null,null,null,null,null,null,null,null,null,null,null,null,null,null,1,1,null,1,null,null,1,2,2,null,null,null,null,null,null,null,null,null,{"$error":"#REF!"},"","","","","","","",2]
[null,null,null,null,null,null,null,null,null,null,null,null,null,null,null,null,null,null," ",null,null,null,null,null,10,null,19,null,null,null,null,null,null,null,null,null,null,null,null,null,null,null,null,null,null,null,"Total général",1,1,1,1,4,1,1,1,1,4,8,1,1,1,1,4,1,1,1,1,4,8,16,null,null,null,null,null,null,null,null,null,{"$error":"#REF!"},3,3,3,3,3,3,6,6]
[null,null,null,null,null,null,null,null,null,null,null,null,null,null,null,null,null,{"$f":"IF(ISNA(VLOOKUP(O27,$AF$15:$AQ$50,12,FALSE)),\"\",VLOOKUP(O27,$AF$15:$AQ$50,12,FALSE))","v":""}," ",null,null,null,null,null,15,null,18,null,null,null,null,null,null,null,null,null,null,null,null,null,null,null,null,null,null,null,null,null,null,null,null,null,null,null,null,null,null,null,null,null,null,null,null,null,null,null,null,null,null,null,null,null,null,null,null,null,null,null,null,{"$error":"#N/A"},{"$error":"#N/A"},{"$error":"#N/A"},{"$error":"#N/A"},{"$error":"#N/A"},{"$error":"#N/A"},{"$error":"#N/A"},{"$error":"#N/A"},{"$error":"#N/A"}]
[null,null,null,null,null,null,null,null,null,null,null,null,null,null,null,null,null,{"$f":"IF(ISNA(VLOOKUP(O28,$AF$15:$AQ$50,12,FALSE)),\"\",VLOOKUP(O28,$AF$15:$AQ$50,12,FALSE))","v":""}," ",null,null,null,null,null,2,null,17,null,null,null,null,null,null,null,null,null,null,null,null,null,null,null,null,null,null,null,null,null,null,null,null,null,null,null,null,null,null,null,null,null,null,null,null,null,null,null,null,null,null,null,null,null,null,null,null,null,null,null,null,{"$error":"#N/A"},{"$error":"#N/A"},{"$error":"#N/A"},{"$error":"#N/A"},{"$error":"#N/A"},{"$error":"#N/A"},{"$error":"#N/A"},{"$error":"#N/A"},{"$error":"#N/A"}]
[null,null,null,null,null,null,null,null,null,null,null,null,null,null,null,null,null,null,null,null,null,null,null,null,null,null,null,null,null,null,null,null,null,null,null,null,null,null,null,null,null,null,null,null,null,null,null,null,null,null,null,null,null,null,null,null,null,null,null,null,null,null,null,null,null,null,null,null,null,null,null,null,null,null,null,null,null,null,null,{"$error":"#N/A"},{"$error":"#N/A"},{"$error":"#N/A"},{"$error":"#N/A"},{"$error":"#N/A"},{"$error":"#N/A"},{"$error":"#N/A"},{"$error":"#N/A"},{"$error":"#N/A"}]
[null,null,null,null,null,null,null,null,null,null,null,null,null,null,null,null,null,{"$f":"IF(ISNA(VLOOKUP(O33,$AF$15:$AQ$50,12,FALSE)),\"\",VLOOKUP(O33,$AF$15:$AQ$50,12,FALSE))","v":""}," ",null,"BH",null,null,null,null,null,null,null,"SPIDD","3ème de poule",null,null,null,null,null,null,null,null,null,null,null,null,null,null,null,null,null,null,null,null,null,null,null,null,null,null,null,null,null,null,null,null,null,null,null,null,null,null,null,null,null,null,null,null,null,null,null,null,null,{"$error":"#N/A"},{"$error":"#N/A"},{"$error":"#N/A"},{"$error":"#N/A"},{"$error":"#N/A"},{"$error":"#N/A"},{"$error":"#N/A"},{"$error":"#N/A"},{"$error":"#N/A"}]
[{"$f":"IF(ISNA(VLOOKUP(C33,$AF$15:$AQ$50,4,FALSE)),\"\",VLOOKUP(C33,$AF$15:$AQ$50,4,FALSE)&\" - \"&VLOOKUP(C33,$AF$15:$AQ$50,12,FALSE))","v":""},14,{"$f":"E33","v":10},"13=",10,{"$f":"IF(ISNA(VLOOKUP(C33,$AF$15:$AQ$46,12,FALSE)),\"\",VLOOKUP(C33,$AF$15:$AQ$46,12,FALSE))","v":""},null,null,null,null,null,{"$f":"IF(ISNA(VLOOKUP(O33,$AF$15:$AQ$46,12,FALSE)),\"\",VLOOKUP(O33,$AF$15:$AQ$46,12,FALSE))","v":""},9,"3=",{"$f":"M33","v":9},3,{"$f":"IF(ISNA(VLOOKUP(O33,$AF$15:$AQ$50,4,FALSE)),\"\",VLOOKUP(O33,$AF$15:$AQ$50,4,FALSE)&\" - \"&VLOOKUP(O33,$AF$15:$AQ$50,12,FALSE))","v":""},null," ",null,null,null,null,null,null,null,null,null,{"$f":"IF(AF33=\"\",\"\",VLOOKUP(AF33,_TAS16,3,FALSE))","v":""},"P",1,null,3,{"$f":"IF(ISNA(VLOOKUP(AK33,Liste_SPIDD,2,FALSE)),901,VLOOKUP(AK33,Liste_SPIDD,2,FALSE))","v":301},{"$f":"IF(AH33=\"\",\"\",IF(ISNA(VLOOKUP($AH33,Liste_Dos_SPIDD,2,FALSE)),VLOOKUP($AH33,Liste_J,3,FALSE),VLOOKUP($AH33,Liste_Dos_SPIDD,2,FALSE)))","v":"LUCAS Ifig"},21,{"$f":"AE33&AG33","v":"13"},{"$f":"IF($AF33=0,0,VLOOKUP($AF33,$CM$4:$CP$68,2,FALSE))","v":0},{"$f":"AM24","v":""},{"$f":"IF($AN24=0,0,IF(AN24=\"HH\",\"HB\",IF(AN24=\"HB\",\"HH\",IF(AN24=\"BH\",\"BB\",IF(AN24=\"BB\",\"BH\")))))","v":0},null,null,{"$f":"IF(AH33=\"\",\"\",IF(ISNA(VLOOKUP(AH33,Liste_Dos_SPIDD,3,FALSE)),VLOOKUP(AH33,Liste_J,$A$10,FALSE),VLOOKUP(AH33,Liste_Dos_SPIDD,3,FALSE)))","v":"EQUEURDREVILLE"},{"$f":"IF(ISERROR(VLOOKUP(AQ33,$AU$12:$CH$54,18,FALSE)),\"\",IF($AQ$9=\"HH\",VLOOKUP(AQ33,$AU$12:$CH$54,37,FALSE),IF($AQ$9=\"HB\",VLOOKUP(AQ33,$AU$12:$CH$54,38,FALSE),IF($AQ$9=\"BH\",VLOOKUP(AQ33,$AU$12:$CH$54,39,FALSE),IF($AQ$9=\"BB\",VLOOKUP(AQ33,$AU$12:$CH$54,40,FALSE),\"\")))))","v":""},null,null,null,null,null,null,null,null,null,null,null,null,null,null,null,null,null,null,null,null,null,null,null,null,null,null,null,null,null,null,null,null,null,null,null,{"$error":"#N/A"},{"$f":"IF(OR(VLOOKUP($AU33,$AU$14:$BV$47,CC$11,FALSE)>1,AND(VLOOKUP($AU33,$AU$14:$BV$47,CC$11,FALSE)=1,(VLOOKUP($AU33,$AU$14:$BV$47,CC$11+3,FALSE)+VLOOKUP($AU33,$AU$14:$BV$47,CC$11+6,FALSE))>0)),(VLOOKUP($AU33,$AU$14:$BV$47,CC$11,FALSE)+VLOOKUP($AU33,$AU$14:$BV$47,CC$11+3,FALSE)+VLOOKUP($AU33,$AU$14:$BV$47,CC$11+6,FALSE)),\"\")","v":{"$error":"#N/A"}},{"$error":"#N/A"},{"$error":"#N/A"},{"$error":"#N/A"},{"$error":"#N/A"},{"$error":"#N/A"},{"$error":"#N/A"},{"$error":"#N/A"}]
[null,null,null,null,null,null,null,null,null,null,null,null,null,null,null,null,null,null," ",null,null,null,null,null,null,null,null,null,{"$f":"IF(AF34=\"\",\"\",VLOOKUP(AF34,_TAS16,3,FALSE))","v":""},"P",2,null,3,{"$f":"IF(ISNA(VLOOKUP(AK34,Liste_SPIDD,2,FALSE)),901,VLOOKUP(AK34,Liste_SPIDD,2,FALSE))","v":302},{"$f":"IF(AH34=\"\",\"\",IF(ISNA(VLOOKUP($AH34,Liste_Dos_SPIDD,2,FALSE)),VLOOKUP($AH34,Liste_J,3,FALSE),VLOOKUP($AH34,Liste_Dos_SPIDD,2,FALSE)))","v":"VIDAL Charles"},22,{"$f":"AE34&AG34","v":"23"},{"$f":"IF($AF34=0,0,VLOOKUP($AF34,$CM$4:$CP$68,2,FALSE))","v":0},{"$f":"AM25","v":""},{"$f":"IF($AN25=0,0,IF(AN25=\"HH\",\"HB\",IF(AN25=\"HB\",\"HH\",IF(AN25=\"BH\",\"BB\",IF(AN25=\"BB\",\"BH\")))))","v":0},null,null,{"$f":"IF(AH34=\"\",\"\",IF(ISNA(VLOOKUP(AH34,Liste_Dos_SPIDD,3,FALSE)),VLOOKUP(AH34,Liste_J,$A$10,FALSE),VLOOKUP(AH34,Liste_Dos_SPIDD,3,FALSE)))","v":"ASSUN TT"},{"$f":"IF(ISERROR(VLOOKUP(AQ34,$AU$12:$CH$54,18,FALSE)),\"\",IF($AQ$9=\"HH\",VLOOKUP(AQ34,$AU$12:$CH$54,37,FALSE),IF($AQ$9=\"HB\",VLOOKUP(AQ34,$AU$12:$CH$54,38,FALSE),IF($AQ$9=\"BH\",VLOOKUP(AQ34,$AU$12:$CH$54,39,FALSE),IF($AQ$9=\"BB\",VLOOKUP(AQ34,$AU$12:$CH$54,40,FALSE),\"\")))))","v":""},null,null,null,null,null,null,null,null,null,null,null,null,null,null,null,null,null,null,null,null,null,null,null,null,null,null,null,null,null,null,null,null,null,null,null,{"$error":"#N/A"},{"$error":"#N/A"},{"$error":"#N/A"},{"$error":"#N/A"},{"$f":"IF(OR(VLOOKUP($AU34,$AU$14:$BV$47,CF$11+2,FALSE)>1,AND(VLOOKUP($AU34,$AU$14:$BV$47,CF$11+2,FALSE)=1,VLOOKUP($AU34,$AU$14:$BV$47,CF$11,FALSE)+VLOOKUP($AU34,$AU$14:$BV$47,CF$11+1,FALSE)+VLOOKUP($AU34,$AU$14:$BV$47,CF$11+2,FALSE)>1)),VLOOKUP($AU34,$AU$14:$BV$47,CF$11+4,FALSE)-VLOOKUP($AU34,$AU$14:$BV$47,CF$11+3,FALSE),\"\")","v":{"$error":"#N/A"}},{"$error":"#N/A"},{"$error":"#N/A"},{"$error":"#N/A"},{"$error":"#N/A"}]
[null,null,null,null,null,{"$f":"IF(ISNA(VLOOKUP(I35,$AF$15:$AQ$46,12,FALSE)),\"\",VLOOKUP(I35,$AF$15:$AQ$46,12,FALSE))","v":""},11,"9=",{"$f":"G35","v":11},11,{"$f":"IF(ISNA(VLOOKUP(I35,$AF$15:$AQ$50,4,FALSE)),\"\",VLOOKUP(I35,$AF$15:$AQ$50,4,FALSE)&\" - \"&VLOOKUP(I35,$AF$15:$AQ$50,12,FALSE))","v":""},{"$f":"IF(ISNA(VLOOKUP(I35,$AF$15:$AQ$46,12,FALSE)),\"\",VLOOKUP(I35,$AF$15:$AQ$46,12,FALSE))","v":""},null,null,null,null,null,{"$f":"IF(ISNA(VLOOKUP(C34,$AF$15:$AQ$50,12,FALSE)),\"\",VLOOKUP(C34,$AF$15:$AQ$50,12,FALSE))","v":""}," ",null,null,null,null,null,null,null,null,null,{"$f":"IF(AF35=\"\",\"\",VLOOKUP(AF35,_TAS16,3,FALSE))","v":""},"P",3,null,3,{"$f":"IF(ISNA(VLOOKUP(AK35,Liste_SPIDD,2,FALSE)),901,VLOOKUP(AK35,Liste_SPIDD,2,FALSE))","v":303},{"$f":"IF(AH35=\"\",\"\",IF(ISNA(VLOOKUP($AH35,Liste_Dos_SPIDD,2,FALSE)),VLOOKUP($AH35,Liste_J,3,FALSE),VLOOKUP($AH35,Liste_Dos_SPIDD,2,FALSE)))","v":"ROBION Paul"},23,{"$f":"AE35&AG35","v":"33"},{"$f":"IF($AF35=0,0,VLOOKUP($AF35,$CM$4:$CP$68,2,FALSE))","v":0},{"$f":"AM26","v":""},{"$f":"IF($AN26=0,0,IF(AN26=\"HH\",\"HB\",IF(AN26=\"HB\",\"HH\",IF(AN26=\"BH\",\"BB\",IF(AN26=\"BB\",\"BH\")))))","v":0},null,null,{"$f":"IF(AH35=\"\",\"\",IF(ISNA(VLOOKUP(AH35,Liste_Dos_SPIDD,3,FALSE)),VLOOKUP(AH35,Liste_J,$A$10,FALSE),VLOOKUP(AH35,Liste_Dos_SPIDD,3,FALSE)))","v":"SIOUVILLE ATTLC"},{"$f":"IF(ISERROR(VLOOKUP(AQ35,$AU$12:$CH$54,18,FALSE)),\"\",IF($AQ$9=\"HH\",VLOOKUP(AQ35,$AU$12:$CH$54,37,FALSE),IF($AQ$9=\"HB\",VLOOKUP(AQ35,$AU$12:$CH$54,38,FALSE),IF($AQ$9=\"BH\",VLOOKUP(AQ35,$AU$12:$CH$54,39,FALSE),IF($AQ$9=\"BB\",VLOOKUP(AQ35,$AU$12:$CH$54,40,FALSE),\"\")))))","v":""},null,null,null,null,null,null,null,null,null,null,null,null,null,null,null,null,null,null,null,null,null,null,null,null,null,null,null,null,null,null,null,null,null,null,null,{"$error":"#N/A"},{"$error":"#N/A"},{"$error":"#N/A"},{"$error":"#N/A"},{"$error":"#N/A"},{"$error":"#N/A"},{"$error":"#N/A"},{"$error":"#N/A"},{"$error":"#N/A"}]
[null,null,null,null,null,null,null,null,null,null,null,null,null,null,null,null,null,{"$f":"IF(ISNA(VLOOKUP(I35,$AF$15:$AQ$50,12,FALSE)),\"\",VLOOKUP(I35,$AF$15:$AQ$50,12,FALSE))","v":""}," ",null,null,null,null,null,null,null,null,null,{"$f":"IF(AF36=\"\",\"\",VLOOKUP(AF36,_TAS16,3,FALSE))","v":""},"P",4,null,3,{"$f":"IF(ISNA(VLOOKUP(AK36,Liste_SPIDD,2,FALSE)),901,VLOOKUP(AK36,Liste_SPIDD,2,FALSE))","v":304},{"$f":"IF(AH36=\"\",\"\",IF(ISNA(VLOOKUP($AH36,Liste_Dos_SPIDD,2,FALSE)),VLOOKUP($AH36,Liste_J,3,FALSE),VLOOKUP($AH36,Liste_Dos_SPIDD,2,FALSE)))","v":"LEVILLAIN Camille"},24,{"$f":"AE36&AG36","v":"43"},{"$f":"IF($AF36=0,0,VLOOKUP($AF36,$CM$4:$CP$68,2,FALSE))","v":0},{"$f":"AM27","v":""},{"$f":"IF($AN27=0,0,IF(AN27=\"HH\",\"HB\",IF(AN27=\"HB\",\"HH\",IF(AN27=\"BH\",\"BB\",IF(AN27=\"BB\",\"BH\")))))","v":0},null,null,{"$f":"IF(AH36=\"\",\"\",IF(ISNA(VLOOKUP(AH36,Liste_Dos_SPIDD,3,FALSE)),VLOOKUP(AH36,Liste_J,$A$10,FALSE),VLOOKUP(AH36,Liste_Dos_SPIDD,3,FALSE)))","v":"ST PAIR BRICQUE"},{"$f":"IF(ISERROR(VLOOKUP(AQ36,$AU$12:$CH$54,18,FALSE)),\"\",IF($AQ$9=\"HH\",VLOOKUP(AQ36,$AU$12:$CH$54,37,FALSE),IF($AQ$9=\"HB\",VLOOKUP(AQ36,$AU$12:$CH$54,38,FALSE),IF($AQ$9=\"BH\",VLOOKUP(AQ36,$AU$12:$CH$54,39,FALSE),IF($AQ$9=\"BB\",VLOOKUP(AQ36,$AU$12:$CH$54,40,FALSE),\"\")))))","v":""},null,null,null,null,null,null,null,null,null,null,null,null,null,null,null,null,null,null,null,null,null,null,null,null,null,null,null,null,null,null,null,null,null,null,null,{"$error":"#N/A"},{"$error":"#N/A"},{"$error":"#N/A"},{"$error":"#N/A"},{"$error":"#N/A"},{"$error":"#N/A"},{"$error":"#N/A"},{"$error":"#N/A"},{"$error":"#N/A"}]
[null,null,null,null,null,{"$f":"IF(ISNA(VLOOKUP(I37,$AF$15:$AQ$46,12,FALSE)),\"\",VLOOKUP(I37,$AF$15:$AQ$46,12,FALSE))","v":""},12,"5=",{"$f":"G37","v":12},6,{"$f":"IF(ISNA(VLOOKUP(I37,$AF$15:$AQ$50,4,FALSE)),\"\",VLOOKUP(I37,$AF$15:$AQ$50,4,FALSE)&\" - \"&VLOOKUP(I37,$AF$15:$AQ$50,12,FALSE))","v":""},{"$f":"IF(ISNA(VLOOKUP(I37,$AF$15:$AQ$46,12,FALSE)),\"\",VLOOKUP(I37,$AF$15:$AQ$46,12,FALSE))","v":""},null,null,null,null,null,{"$f":"IF(ISNA(VLOOKUP(I36,$AF$15:$AQ$50,12,FALSE)),\"\",VLOOKUP(I36,$AF$15:$AQ$50,12,FALSE))","v":""}," ",null,null,null,null,null,null,null,null,null,null,null,null,null,null,null,null,null,null,null,null,null,null,null,null,null,null,null,null,null,null,null,null,null,null,null,null,null,null,null,null,null,null,null,null,null,null,null,null,null,null,null,null,null,null,null,null,null,null,null,null,{"$error":"#N/A"},{"$error":"#N/A"},{"$error":"#N/A"},{"$error":"#N/A"},{"$error":"#N/A"},{"$error":"#N/A"},{"$error":"#N/A"},{"$error":"#N/A"},{"$error":"#N/A"}]
[null,null,null,null,null,null,null,null,null,null,null,null,null,null,null,null,null,{"$f":"IF(ISNA(VLOOKUP(I37,$AF$15:$AQ$50,12,FALSE)),\"\",VLOOKUP(I37,$AF$15:$AQ$50,12,FALSE))","v":""}," ",null,null,null,null,null,null,null,null,null,null,null,null,null,null,null,null,null,null,null,null,null,null,null,null,null,null,null,null,null,null,null,null,null,null,null,null,null,null,null,null,null,null,null,null,null,null,null,null,null,null,null,null,null,null,null,null,null,null,null,null,{"$error":"#N/A"},{"$error":"#N/A"},{"$error":"#N/A"},{"$error":"#N/A"},{"$error":"#N/A"},{"$error":"#N/A"},{"$error":"#N/A"},{"$error":"#N/A"},{"$error":"#N/A"}]
["--------------------------------------------------------------------------------------------------------------------------------------------------------------------------------------------------------------------",null,null,null,null,null,null,null,null,null,null,null,null,null,null,null,null,{"$f":"IF(ISNA(VLOOKUP(I38,$AF$15:$AQ$50,12,FALSE)),\"\",VLOOKUP(I38,$AF$15:$AQ$50,12,FALSE))","v":""}," ",null,null,null,null,null,null,null,null,null,null,null,null,null,null,null,null,null,null,null,null,null,null,null,null,null,null,null,null,null,null,null,null,null,null,null,null,null,null,null,null,null,null,null,null,null,null,null,null,null,null,null,null,null,null,null,null,null,null,null,null,{"$error":"#N/A"},{"$error":"#N/A"},{"$error":"#N/A"},{"$error":"#N/A"},{"$error":"#N/A"},{"$error":"#N/A"},{"$error":"#N/A"},{"$error":"#N/A"},{"$error":"#N/A"}]
[null,null,null,null,null,{"$f":"IF(ISNA(VLOOKUP(I40,$AF$15:$AQ$46,12,FALSE)),\"\",VLOOKUP(I40,$AF$15:$AQ$46,12,FALSE))","v":""},13,"5=",{"$f":"G40","v":13},7,{"$f":"IF(ISNA(VLOOKUP(I40,$AF$15:$AQ$50,4,FALSE)),\"\",VLOOKUP(I40,$AF$15:$AQ$50,4,FALSE)&\" - \"&VLOOKUP(I40,$AF$15:$AQ$50,12,FALSE))","v":""},{"$f":"IF(ISNA(VLOOKUP(I40,$AF$15:$AQ$46,12,FALSE)),\"\",VLOOKUP(I40,$AF$15:$AQ$46,12,FALSE))","v":""},null,null,null,null,null,{"$f":"IF(ISNA(VLOOKUP(I40,$AF$15:$AQ$50,12,FALSE)),\"\",VLOOKUP(I40,$AF$15:$AQ$50,12,FALSE))","v":""}," ",null,"BB",null,null,null,null,null,null,null,null,null,null,null,null,null,null,null,null,null,null,null,null,null,null,null,null,null,null,null,null,null,null,null,null,null,null,null,null,null,null,null,null,null,null,null,null,null,null,null,null,null,null,null,null,null,null,null,null,null,null,{"$error":"#N/A"},{"$error":"#N/A"},{"$error":"#N/A"},{"$error":"#N/A"},{"$error":"#N/A"},{"$error":"#N/A"},{"$error":"#N/A"},{"$error":"#N/A"},{"$error":"#N/A"}]
[null,null,null,null,null,null,null,null,null,null,null,null,null,null,null,null,null,{"$f":"IF(ISNA(VLOOKUP(I41,$AF$15:$AQ$50,12,FALSE)),\"\",VLOOKUP(I41,$AF$15:$AQ$50,12,FALSE))","v":""}," ",null,null,null,null,null,null,null,null,null,null,null,null,null,null,null,null,null,null,null,null,null,null,null,null,null,null,null,null,null,null,null,null,null,null,null,null,null,null,null,null,null,null,null,null,null,null,null,null,null,null,null,null,null,null,null,null,null,null,null,null,{"$error":"#N/A"},{"$error":"#N/A"},{"$error":"#N/A"},{"$error":"#N/A"},{"$error":"#N/A"},{"$error":"#N/A"},{"$error":"#N/A"},{"$error":"#N/A"},{"$error":"#N/A"}]
[null,null,null,null,null,{"$f":"IF(ISNA(VLOOKUP(I42,$AF$15:$AQ$46,12,FALSE)),\"\",VLOOKUP(I42,$AF$15:$AQ$46,12,FALSE))","v":""},14,"9=",{"$f":"G42","v":14},10,{"$f":"IF(ISNA(VLOOKUP(I42,$AF$15:$AQ$50,4,FALSE)),\"\",VLOOKUP(I42,$AF$15:$AQ$50,4,FALSE)&\" - \"&VLOOKUP(I42,$AF$15:$AQ$50,12,FALSE))","v":""},{"$f":"IF(ISNA(VLOOKUP(I42,$AF$15:$AQ$46,12,FALSE)),\"\",VLOOKUP(I42,$AF$15:$AQ$46,12,FALSE))","v":""},null,null,null,null,null,{"$f":"IF(ISNA(VLOOKUP(I42,$AF$15:$AQ$50,12,FALSE)),\"\",VLOOKUP(I42,$AF$15:$AQ$50,12,FALSE))","v":""}," ",null,null,null,null,null,null,null,null,null,"SPIDD","4ème de poule",null,null,null,null,null,null,null,null,null,null,null,null,null,null,null,null,null,null,null,null,null,null,null,null,null,null,null,null,null,null,null,null,null,null,null,null,null,null,null,null,null,null,null,null,null,null,null,null,null,{"$error":"#N/A"},{"$error":"#N/A"},{"$error":"#N/A"},{"$error":"#N/A"},{"$error":"#N/A"},{"$error":"#N/A"},{"$error":"#N/A"},{"$error":"#N/A"},{"$error":"#N/A"}]
[null,null,null,null,null,null,null,null,null,null,null,null,null,null,null,null,null,{"$f":"IF(ISNA(VLOOKUP(I43,$AF$15:$AQ$50,12,FALSE)),\"\",VLOOKUP(I43,$AF$15:$AQ$50,12,FALSE))","v":""}," ",null,null,null,null,null,null,null,null,null,{"$f":"IF(AF43=\"\",\"\",VLOOKUP(AF43,_TAS16,3,FALSE))","v":""},"P",1,null,4,{"$f":"IF(ISNA(VLOOKUP(AK43,Liste_SPIDD,2,FALSE)),901,VLOOKUP(AK43,Liste_SPIDD,2,FALSE))","v":901},{"$f":"IF(AH43=\"\",\"\",IF(ISNA(VLOOKUP($AH43,Liste_Dos_SPIDD,2,FALSE)),VLOOKUP($AH43,Liste_J,3,FALSE),VLOOKUP($AH43,Liste_Dos_SPIDD,2,FALSE)))","v":"Exempt"},31,{"$f":"AE43&AG43","v":"14"},{"$f":"IF($AF43=0,0,VLOOKUP($AF43,$CM$4:$CP$68,2,FALSE))","v":0},{"$f":"AM15","v":0},{"$f":"IF(AN15=0,0,IF(AN15=\"HH\",\"HB\",IF(AN15=\"HB\",\"HH\",IF(AN15=\"BH\",\"BB\",IF(AN15=\"BB\",\"BH\")))))","v":0},null,null,{"$f":"IF(AH43=\"\",\"\",IF(ISNA(VLOOKUP(AH43,Liste_Dos_SPIDD,3,FALSE)),VLOOKUP(AH43,Liste_J,$A$10,FALSE),VLOOKUP(AH43,Liste_Dos_SPIDD,3,FALSE)))","v":" "},{"$f":"IF(ISERROR(VLOOKUP(AQ43,$AU$12:$CJ$54,18,FALSE)),\"\",IF($AQ$9=\"H\",VLOOKUP(AQ43,$AU$12:$CJ$54,41,FALSE),IF($AQ$9=\"B\",VLOOKUP(AQ43,$AU$12:$CJ$54,42,FALSE),\"\")))","v":""},null,null,null,null,null,null,null,null,null,null,null,null,null,null,null,null,null,null,null,null,null,null,null,null,null,null,null,null,null,null,null,null,null,null,null,{"$error":"#N/A"},{"$f":"IF(OR(VLOOKUP($AU43,$AU$14:$BV$47,CC$11,FALSE)>1,AND(VLOOKUP($AU43,$AU$14:$BV$47,CC$11,FALSE)=1,(VLOOKUP($AU43,$AU$14:$BV$47,CC$11+4,FALSE)+VLOOKUP($AU43,$AU$14:$BV$47,CC$11+6,FALSE))>0)),(VLOOKUP($AU43,$AU$14:$BV$47,CC$11,FALSE)+VLOOKUP($AU43,$AU$14:$BV$47,CC$11+4,FALSE)+VLOOKUP($AU43,$AU$14:$BV$47,CC$11+6,FALSE)),\"\")","v":{"$error":"#N/A"}},{"$error":"#N/A"},{"$error":"#N/A"},{"$error":"#N/A"},{"$error":"#N/A"},{"$error":"#N/A"},{"$error":"#N/A"},{"$error":"#N/A"}]
[{"$f":"IF(ISNA(VLOOKUP(C44,$AF$15:$AQ$50,4,FALSE)),\"\",VLOOKUP(C44,$AF$15:$AQ$50,4,FALSE)&\" - \"&VLOOKUP(C44,$AF$15:$AQ$50,12,FALSE))","v":""},15,{"$f":"E44","v":15},"13=",15,{"$f":"IF(ISNA(VLOOKUP(C44,$AF$15:$AQ$46,12,FALSE)),\"\",VLOOKUP(C44,$AF$15:$AQ$46,12,FALSE))","v":""},null,null,null,null,null,{"$f":"IF(ISNA(VLOOKUP(O44,$AF$15:$AQ$46,12,FALSE)),\"\",VLOOKUP(O44,$AF$15:$AQ$46,12,FALSE))","v":""},16,2,{"$f":"M44","v":16},2,{"$f":"IF(ISNA(VLOOKUP(O44,$AF$15:$AQ$50,4,FALSE)),\"\",VLOOKUP(O44,$AF$15:$AQ$50,4,FALSE)&\" - \"&VLOOKUP(O44,$AF$15:$AQ$50,12,FALSE))","v":""},null," ",null,null,null,null,null,null,null,null,null,{"$f":"IF(AF44=\"\",\"\",VLOOKUP(AF44,_TAS16,3,FALSE))","v":""},"P",2,null,4,{"$f":"IF(ISNA(VLOOKUP(AK44,Liste_SPIDD,2,FALSE)),901,VLOOKUP(AK44,Liste_SPIDD,2,FALSE))","v":901},{"$f":"IF(AH44=\"\",\"\",IF(ISNA(VLOOKUP($AH44,Liste_Dos_SPIDD,2,FALSE)),VLOOKUP($AH44,Liste_J,3,FALSE),VLOOKUP($AH44,Liste_Dos_SPIDD,2,FALSE)))","v":"Exempt"},32,{"$f":"AE44&AG44","v":"24"},{"$f":"IF($AF44=0,0,VLOOKUP($AF44,$CM$4:$CP$68,2,FALSE))","v":0},{"$f":"AM16","v":0},{"$f":"IF(AN16=0,0,IF(AN16=\"HH\",\"HB\",IF(AN16=\"HB\",\"HH\",IF(AN16=\"BH\",\"BB\",IF(AN16=\"BB\",\"BH\")))))","v":0},null,null,{"$f":"IF(AH44=\"\",\"\",IF(ISNA(VLOOKUP(AH44,Liste_Dos_SPIDD,3,FALSE)),VLOOKUP(AH44,Liste_J,$A$10,FALSE),VLOOKUP(AH44,Liste_Dos_SPIDD,3,FALSE)))","v":" "},{"$f":"IF(ISERROR(VLOOKUP(AQ44,$AU$12:$CJ$54,18,FALSE)),\"\",IF($AQ$9=\"H\",VLOOKUP(AQ44,$AU$12:$CJ$54,41,FALSE),IF($AQ$9=\"B\",VLOOKUP(AQ44,$AU$12:$CJ$54,42,FALSE),\"\")))","v":""},null,null,null,null,null,null,null,null,null,null,null,null,null,null,null,null,null,null,null,null,null,null,null,null,null,null,null,null,null,null,null,null,null,null,null,{"$error":"#N/A"},{"$error":"#N/A"},{"$error":"#N/A"},{"$error":"#N/A"},{"$error":"#N/A"},{"$error":"#N/A"},{"$error":"#N/A"},{"$error":"#N/A"},{"$error":"#N/A"}]
[null,null,null,null,null,null,null,null,null,null,null,null,null,null,null,null,null,null," ",null,null,null,null,null,null,null,null,null,{"$f":"IF(AF45=\"\",\"\",VLOOKUP(AF45,_TAS16,3,FALSE))","v":""},"P",3,null,4,{"$f":"IF(ISNA(VLOOKUP(AK45,Liste_SPIDD,2,FALSE)),901,VLOOKUP(AK45,Liste_SPIDD,2,FALSE))","v":901},{"$f":"IF(AH45=\"\",\"\",IF(ISNA(VLOOKUP($AH45,Liste_Dos_SPIDD,2,FALSE)),VLOOKUP($AH45,Liste_J,3,FALSE),VLOOKUP($AH45,Liste_Dos_SPIDD,2,FALSE)))","v":"Exempt"},33,{"$f":"AE45&AG45","v":"34"},{"$f":"IF($AF45=0,0,VLOOKUP($AF45,$CM$4:$CP$68,2,FALSE))","v":0},{"$f":"AM17","v":0},{"$f":"IF(AN17=0,0,IF(AN17=\"HH\",\"HB\",IF(AN17=\"HB\",\"HH\",IF(AN17=\"BH\",\"BB\",IF(AN17=\"BB\",\"BH\")))))","v":0},null,null,{"$f":"IF(AH45=\"\",\"\",IF(ISNA(VLOOKUP(AH45,Liste_Dos_SPIDD,3,FALSE)),VLOOKUP(AH45,Liste_J,$A$10,FALSE),VLOOKUP(AH45,Liste_Dos_SPIDD,3,FALSE)))","v":" "},{"$f":"IF(ISERROR(VLOOKUP(AQ45,$AU$12:$CJ$54,18,FALSE)),\"\",IF($AQ$9=\"H\",VLOOKUP(AQ45,$AU$12:$CJ$54,41,FALSE),IF($AQ$9=\"B\",VLOOKUP(AQ45,$AU$12:$CJ$54,42,FALSE),\"\")))","v":""},null,null,null,null,null,null,null,null,null,null,null,null,null,null,null,null,null,null,null,null,null,null,null,null,null,null,null,null,null,null,null,null,null,null,null,{"$error":"#N/A"},{"$error":"#N/A"},{"$error":"#N/A"},{"$error":"#N/A"},{"$error":"#N/A"},{"$error":"#N/A"},{"$error":"#N/A"},{"$error":"#N/A"},{"$error":"#N/A"}]
[null,null,null,null,null,null,null,null,null,null,null,null,null,null,null,null,null,{"$f":"IF(ISNA(VLOOKUP(O44,$AF$15:$AQ$50,12,FALSE)),\"\",VLOOKUP(O44,$AF$15:$AQ$50,12,FALSE))","v":""}," ",null,null,null,null,null,null,null,null,null,{"$f":"IF(AF46=\"\",\"\",VLOOKUP(AF46,_TAS16,3,FALSE))","v":""},"P",4,null,4,{"$f":"IF(ISNA(VLOOKUP(AK46,Liste_SPIDD,2,FALSE)),901,VLOOKUP(AK46,Liste_SPIDD,2,FALSE))","v":901},{"$f":"IF(AH46=\"\",\"\",IF(ISNA(VLOOKUP($AH46,Liste_Dos_SPIDD,2,FALSE)),VLOOKUP($AH46,Liste_J,3,FALSE),VLOOKUP($AH46,Liste_Dos_SPIDD,2,FALSE)))","v":"Exempt"},34,{"$f":"AE46&AG46","v":"44"},{"$f":"IF($AF46=0,0,VLOOKUP($AF46,$CM$4:$CP$68,2,FALSE))","v":0},{"$f":"AM18","v":0},{"$f":"IF(AN18=0,0,IF(AN18=\"HH\",\"HB\",IF(AN18=\"HB\",\"HH\",IF(AN18=\"BH\",\"BB\",IF(AN18=\"BB\",\"BH\")))))","v":0},null,null,{"$f":"IF(AH46=\"\",\"\",IF(ISNA(VLOOKUP(AH46,Liste_Dos_SPIDD,3,FALSE)),VLOOKUP(AH46,Liste_J,$A$10,FALSE),VLOOKUP(AH46,Liste_Dos_SPIDD,3,FALSE)))","v":" "},{"$f":"IF(ISERROR(VLOOKUP(AQ46,$AU$12:$CJ$54,18,FALSE)),\"\",IF($AQ$9=\"H\",VLOOKUP(AQ46,$AU$12:$CJ$54,41,FALSE),IF($AQ$9=\"B\",VLOOKUP(AQ46,$AU$12:$CJ$54,42,FALSE),\"\")))","v":""},null,null,null,null,null,null,null,null,null,null,null,null,null,null,null,null,null,null,null,null,null,null,null,null,null,null,null,null,null,null,null,null,null,null,null,{"$error":"#N/A"},{"$error":"#N/A"},{"$error":"#N/A"},{"$error":"#N/A"},{"$error":"#N/A"},{"$error":"#N/A"},{"$error":"#N/A"},{"$error":"#N/A"},{"$error":"#N/A"}]
[null,null,null,null,null,null,null,null,null,null,null,null,null,null,null,null,null,{"$f":"IF(ISNA(VLOOKUP(O45,$AF$15:$AQ$50,12,FALSE)),\"\",VLOOKUP(O45,$AF$15:$AQ$50,12,FALSE))","v":""}," ",null,null,null,null,null,null,null,null,null,null,null,null,null,null,null,null,null,null,null,null,null,null,null,null,null,{"$f":"+AF43","v":0},{"$f":"COUNTIF(AS:AS,AF43)","v":1},null,null,null,null,null,null,null,null,null,null,null,null,null,null,null,null,null,null,null,null,null,null,null,null,null,null,null,null,null,null,null,null,null,{"$error":"#N/A"},{"$error":"#N/A"},{"$error":"#N/A"},{"$error":"#N/A"},{"$error":"#N/A"},{"$error":"#N/A"},{"$error":"#N/A"},{"$error":"#N/A"},{"$error":"#N/A"}]
[null,null,null,null,null,null,null,null,null,null,null,null,null,null,null,null,null,null,null,null,null,null,null,null,null,null,null,null,null,null,null,null,null,null,null,null,null,null,null,null,null,null,null,null,null,null,null,null,null,null,null,null,null,null,null,null,null,null,null,null,null,null,null,null,null,null,null,null,null,null,null,null,null,null,null,null,null,null,null,null,{"$error":"#N/A"},{"$error":"#N/A"},{"$error":"#N/A"},{"$error":"#N/A"},{"$error":"#N/A"},{"$error":"#N/A"},{"$error":"#N/A"},{"$error":"#N/A"}]
[null,null,null,null,null,null,null,null,null,null,null,null,null,null,null,null,null,null,null,null,null,null,null,null,null,null,null,null,null,null,null,null,null,null,null,null,null,null,null,null,null,null,null,null,null,null,null,null,null,null,null,null,null,null,null,null,null,null,null,null,null,null,null,null,null,null,null,null,null,null,null,null,null,null,null,null,null,null,null,{"$error":"#N/A"},{"$error":"#N/A"},{"$error":"#N/A"},{"$error":"#N/A"},{"$error":"#N/A"},{"$error":"#N/A"},{"$error":"#N/A"},{"$error":"#N/A"},{"$error":"#N/A"}]
[null,null,null,null,null,null,null,null,null,null,null,null,null,null,null,null,null,null,null,null,null,null,null,null,null,null,null,null,null,null,null,null,null,null,null,null,null,null,null,null,null,null,null,null,null,null,null,null,null,null,null,null,null,null,null,null,null,null,null,null,null,null,null,null,null,null,null,null,null,null,null,null,null,null,null,null,null,null,null,{"$error":"#N/A"},{"$error":"#N/A"},{"$error":"#N/A"},{"$error":"#N/A"},{"$f":"IF(OR(VLOOKUP($AU50,$AU$14:$BV$47,CF$11+2,FALSE)>1,AND(VLOOKUP($AU50,$AU$14:$BV$47,CF$11+2,FALSE)=1,VLOOKUP($AU50,$AU$14:$BV$47,CF$11,FALSE)+VLOOKUP($AU50,$AU$14:$BV$47,CF$11+1,FALSE)+VLOOKUP($AU50,$AU$14:$BV$47,CF$11+2,FALSE)>1)),VLOOKUP($AU50,$AU$14:$BV$47,CF$11+4,FALSE)-VLOOKUP($AU50,$AU$14:$BV$47,CF$11+3,FALSE),\"\")","v":{"$error":"#N/A"}},{"$error":"#N/A"},{"$error":"#N/A"},{"$error":"#N/A"},{"$error":"#N/A"}]
[null,null,null,null,null,null,null,null,null,null,null,null,null,null,null,null,null,null,null,null,null,null,null,null,null,null,null,null,null,null,null,null,null,null,null,null,null,null,null,null,null,null,null,null,null,null,null,null,null,null,null,null,null,null,null,null,null,null,null,null,null,null,null,null,null,null,null,null,null,null,null,null,null,null,null,null,null,null,null,{"$error":"#N/A"},{"$error":"#N/A"},{"$error":"#N/A"},{"$error":"#N/A"},{"$error":"#N/A"},{"$error":"#N/A"},{"$error":"#N/A"},{"$error":"#N/A"},{"$error":"#N/A"}]
[null,null,null,null,null,null,null,null,null,null,null,null,null,null,null,null,null,null,null,null,null,null,null,null,null,null,null,null,null,null,null,null,null,null,null,null,null,null,null,null,null,null,null,null,null,null,null,null,null,null,null,null,null,null,null,null,null,null,null,null,null,null,null,null,null,null,null,null,null,null,null,null,null,null,null,null,null,null,null,{"$error":"#N/A"},{"$error":"#N/A"},{"$error":"#N/A"},{"$error":"#N/A"},{"$error":"#N/A"},{"$error":"#N/A"},{"$error":"#N/A"},{"$error":"#N/A"},{"$error":"#N/A"}]
[null,null,null,null,null,null,null,null,null,null,null,null,null,null,null,null,null,null,null,null,null,null,null,null,null,null,null,null,null,null,null,null,null,null,null,null,null,null,null,null,null,null,null,null,null,null,null,null,null,null,null,null,null,null,null,null,null,null,null,null,null,null,null,null,null,null,null,null,null,null,null,null,null,null,null,null,null,null,null,{"$error":"#N/A"},{"$error":"#N/A"},{"$error":"#N/A"},{"$error":"#N/A"},{"$error":"#N/A"},{"$error":"#N/A"},{"$error":"#N/A"},{"$error":"#N/A"},{"$error":"#N/A"}]
[null,null,null,null,null,null,null,null,null,null,null,null,null,null,null,null,null,null,null,null,null,null,null,null,null,null,null,null,null,null,null,null,null,null,null,null,null,null,null,null,null,null,null,null,null,null,null,null,null,null,null,null,null,null,null,null,null,null,null,null,null,null,null,null,null,null,null,null,null,null,null,null,null,null,null,null,null,null,null,{"$error":"#N/A"},{"$error":"#N/A"},{"$error":"#N/A"},{"$error":"#N/A"},{"$error":"#N/A"},{"$error":"#N/A"},{"$error":"#N/A"},{"$error":"#N/A"},{"$error":"#N/A"}]
[]
[]
[]
[]
[]
[]
[]
[]
[]
[]
[]
[]
[]
[]
[]
[]
[]
[]
[]
[]
[]
[]
[]
[]
[]
[]
[]
[]
[]
[]
[]
[]
[]
[]
[]
[]
[]
[]
[]
[]
[]
[]
[]
[]
[]
[]
[]
[]
[]
[]
[]
[]
[]
[]
[]
[]
[]
[]
[]
[]
[]
[]
[]
[]
[]
[]
[]
[]
[]
[]
[]
[]
[]
[null,null,null,null,null,null,null,null,null,null,null,null,null,null,null,null,null,null,null,null,null,null,null,null,null,null,null,null,null,null,null,null,null,null,null,null,{"$f":"IF(AQ128=AQ127,AK127+1,1)","v":1},{"$f":"COUNTIF($AQ$132:$AQ$200,AQ128)","v":0},null,null,null,null,null,{"$f":"AK128&\"/\"&AL128","v":"1/0"}]
[]
[]
[null,null,null,null,null,null,null,null,null,null,null,null,null,null,null,null,null,null,null,null,null,null,null,null,null,null,null,null,null,null,null,null,null,"Dos","NOM Prénom","Rang","RC","NC","1/2 T","b","c","d","Club","N° Club"]
[null,null,null,null,null,null,null,null,null,null,null,null,null,null,null,null,null,null,null,null,null,null,null,null,1,null,null,null,null,null,null,null,1,50,"VIDAL Charles",2,1,1,null,null,null,null,"ASSUN TT","1/1"]
[null,null,null,null,null,null,null,null,null,null,null,null,null,null,null,null,null,null,null,null,null,null,null,null,16,null,null,null,null,null,null,null,1,44,"LUCAS Ifig",1,1,1,null,null,null,null,"EQUEURDREVILLE","1/1"]
[null,null,null,null,null,null,null,null,null,null,null,null,null,null,null,null,null,null,null,null,null,null,null,null,9,null,null,null,null,null,null,null,1,49,"ROBION Paul",3,1,1,null,null,null,null,"SIOUVILLE ATTLC","1/1"]
[null,null,null,null,null,null,null,null,null,null,null,null,null,null,null,null,null,null,null,null,null,null,null,null,8,null,null,null,null,null,null,null,1,47,"LEVILLAIN Camille",4,1,1,null,null,null,null,"ST PAIR BRICQUE","1/1"]
[null,null,null,null,null,null,null,null,null,null,null,null,null,null,null,null,null,null,null,null,null,null,null,null,null,null,null,null,null,null,null,null,null,null,null,null,1,0,null,null,null,null,null,"1/0"]
[null,null,null,null,null,null,null,null,null,null,null,null,null,null,null,null,null,null,null,null,null,null,null,null,null,null,null,null,null,null,null,null,null,null,null,null,2,0,null,null,null,null,null,"2/0"]
[null,null,null,null,null,null,null,null,null,null,null,null,null,null,null,null,null,null,null,null,null,null,null,null,null,null,null,null,null,null,null,null,null,null,null,null,3,0,null,null,null,null,null,"3/0"]
[null,null,null,null,null,null,null,null,null,null,null,null,null,null,null,null,null,null,null,null,null,null,null,null,null,null,null,null,null,null,null,null,null,null,null,null,4,0,null,null,null,null,null,"4/0"]
[null,null,null,null,null,null,null,null,null,null,null,null,null,null,null,null,null,null,null,null,null,null,null,null,null,null,null,null,null,null,null,null,null,null,null,null,5,0,null,null,null,null,null,"5/0"]
[null,null,null,null,null,null,null,null,null,null,null,null,null,null,null,null,null,null,null,null,null,null,null,null,null,null,null,null,null,null,null,null,null,null,null,null,6,0,null,null,null,null,null,"6/0"]

{"sheet":"G-216e","index":15,"n_rows":5,"n_cols":5,"rows_kept":5,"cut":false,"hidden":false,"merged":[]}
["Clt",1,2,3,4]
["1er",{"$f":"'TS-216e'!AF15","v":0},{"$f":"'TS-216e'!AF16","v":0},{"$f":"'TS-216e'!AF17","v":0},{"$f":"'TS-216e'!AF18","v":0}]
["2ème",{"$f":"'TS-216e'!AF24","v":0},{"$f":"'TS-216e'!AF25","v":0},{"$f":"'TS-216e'!AF26","v":0},{"$f":"'TS-216e'!AF27","v":0}]
["3ème",{"$f":"'TS-216e'!AF33","v":0},{"$f":"'TS-216e'!AF34","v":0},{"$f":"'TS-216e'!AF35","v":0},{"$f":"'TS-216e'!AF36","v":0}]
["4ème",{"$f":"'TS-216e'!AF43","v":0},{"$f":"'TS-216e'!AF44","v":0},{"$f":"'TS-216e'!AF45","v":0},{"$f":"'TS-216e'!AF46","v":0}]

{"sheet":"TS-232a","index":16,"n_rows":147,"n_cols":63,"rows_kept":147,"cut":false,"hidden":false,"merged":[[14,48,15,48],[14,49,14,50],[13,12,13,13],[13,48,13,50],[3,0,5,29],[12,15,12,29],[8,16,8,27],[12,32,12,50],[7,5,7,9],[7,16,7,27]]}
[{"$f":"\"Epreuve  : \"&'TS-200'!$C$1","v":"Epreuve  : Critérium Fédéral"},null,null,null,null,null,null,null,null,null,null,null,null,null,null,null,null,null,null,null,null,null,null,null,null,null,null,null,null,{"$f":"\"Lieu : \"&'TS-200'!$C$2","v":"Lieu : Pont à Mousson"}]
[{"$f":"\"Tableau : \"&'TS-200'!$C$4","v":"Tableau :  "},null,null,null,null,null,null,null,null,null,null,null,null,null,null,null,null,null,null,null,null,null,null,null,null,null,null,null,null,{"$f":"\"Date : \"&'TS-200'!$C$3","v":"Date : 15 au 17 mars 2019"}]
[]
["TABLEAU DE TIRAGE AU SORT\n32 JOUEURS\n16 poules - 2 qualifiés",null,null,null,null,null,null,null,null,null,null,null,null,null,null,null,null,null,null,null,null,null,null,null,null,null,null,null,null,null,null,null,null,null,null,null,null,null,null,null,null,null,null,null,null,null,null,null,null,null,null,null,null,null,null,null,null,null,null,1,"H","H","B"]
[null,null,null,null,null,null,null,null,null,null,null,null,null,null,null,null,null,null,null,null,null,null,null,null,null,null,null,null,null,null,null,null,null,null,null,null,null,null,null,null,null,null,null,null,null,null,null,null,null,null,null,null,null,null,null,null,null,null,null,2,"H","H","B"]
[null,null,null,null,null,null,null,null,null,null,null,null,null,null,null,null,null,null,null,null,null,null,null,null,null,null,null,null,null,null,null,null,null,null,null,null,null,null,null,null,null,null,null,null,null,null,null,null,null,null,null,null,null,null,null,null,null,null,null,3,"H","H","B"]
[null,null,null,null,null,null,null,null,null,null,null,null,null,null,null,null,null,null,null,null,null,null,null,null,null,null,null,null,null,null,null,null,null,null,null,null,null,null,null,null,null,null,null,null,null,null,null,null,null,null,null,null,null,null,null,null,null,null,null,4,"H","H","B"]
["Critère d'appartenance pour la mise en tableau",null,null,null,null,"Club",null,null,null,null,null,null,null,null,null,null,"Club, Comité ou Ligue (tiré au sort)",null,null,null,null,null,null,null,null,null,null,null,"Club, Comité ou Ligue",null,null,null,null,null,null,null,null,null,null,null,null,null,null,null,null,null,null,null,null,null,null,null,null,null,null,null,null,null,null,5,"H","H","B"]
[null,null,null,null,"Club",null,null,null,null,null,null,null,null,null,null,null,"Partie du tableau tirée au sort (H=Haut, B=Bas)",null,null,null,null,null,null,null,null,null,null,null,"H ou B","H ou B",null,null,null,null,null,null,null,null,null,null,null,null,null,null,null,null,null,null,null,null,null,null,null,null,null,null,null,null,null,6,"H","H","B"]
[{"$f":"IF(F8=\"Club\",10,IF(F8=\"Ligue\",11,IF(F8=\"Comité\",12,10)))","v":10},null,null,null,"Ligue",null,null,null,null,null,null,null,null,null,null,null,null,null,null,null,null,null,null,null,null,null,null,null,null,"H",null,null,"Position"," ",null,null,null,null,null,null,null,null,null,null,null,null,null,null,0,"H","B",null,null,null,null,null,null,null,null,7,"H","H"]
[null,null,null,null,"Comité",null,null,null,null,null,null,null,null,null,null,null,null,null,null,null,null,null,null,null,null,null,null,null,null,"B",null,null,"N° colonne TCD","H",null,null,null,null,null,null,null,null,null,null,null,null,null,null,{"$f":"MATCH(AW10,$AG$15:$AV$15,0)","v":{"$error":"#N/A"}},{"$f":"MATCH(AX10,$AG$15:$AV$15,0)","v":2},{"$f":"MATCH(AY10,$AG$15:$AV$15,0)","v":5},null,null,null,null,null,null,null,null,8,"H","H","B"]
[null,null,null,null,null,null,null,null,null,null,null,null,null,null,null,null,null,null,null,null,null,null,null,null,null,null,null,null,null,null,null,null,null,"B",null,null,null,null,null,null,null,null,null,null,null,null,null,null,null,null,null,null,null,null,null,null,null,null,null,9,"H","B","B"]
[null,null,null,null,null,null,null,null,null,null,null,null,null,null,null,"1er de poule",null,null,null,null,null,null,null,null,null,null,null,null,null,null,null,null,"NB JOUEUR / CLUB",null,null,null,null,null,null,null,null,null,null,null,null,null,null,null,null,null,null,null,null,null,null,null,null,null,null,10,"H","B","B"]
[null,null,null,null,null,null,null,null,null,null,null,null,"N° Dispo",null,null,"Pl","x","TAS","N°","Dos","NOM Prénom","Rang","SPIDD","a","1/2 T","b","c","d","Club, Comité ou Ligue","N° Club",null,null,"NB Club, Comité ou Ligue","1/2 T","N°",null,null,null,null,null,null,null,null,null,null,null,null,null,"TAS >1",null,null,null,null,null,null,null,null,null,null,11,"H","B","B"]
[1,1,{"$f":"A15","v":1},1,{"$f":"IF(ISNA(VLOOKUP(C15,$R$15:$AC$47,4,FALSE)),\"\",VLOOKUP(C15,$R$15:$AC$47,4,FALSE)&\" - \"&VLOOKUP(C15,$R$15:$AC$47,12,FALSE))","v":""},{"$f":"IF(ISNA(VLOOKUP(C15,$R$15:$AC$47,12,FALSE)),\"\",VLOOKUP(C15,$R$15:$AC$47,12,FALSE))","v":""}," ",null,null,null,null,null,1,2,null,"P",1,null,1,{"$f":"IF(ISNA(VLOOKUP(W15,Liste_SPIDD,2,FALSE)),901,VLOOKUP(W15,Liste_SPIDD,2,FALSE))","v":44},{"$f":"IF(T15=\"\",\"\",IF(ISNA(VLOOKUP($T15,Liste_Dos_SPIDD,2,FALSE)),VLOOKUP($T15,Liste_J,3,FALSE),VLOOKUP($T15,Liste_Dos_SPIDD,2,FALSE)))","v":"LUCAS Ifig"},1,{"$f":"Q15&S15","v":"11"},{"$f":"IF($R15=0,0,VLOOKUP($R15,$BH$4:$BK$68,2,FALSE))","v":0},0,null,null,null,{"$f":"IF(T15=\"\",\"\",IF(ISNA(VLOOKUP(T15,Liste_Dos_SPIDD,3,FALSE)),VLOOKUP(T15,Liste_J,$A$10,FALSE),VLOOKUP(T15,Liste_Dos_SPIDD,3,FALSE)))","v":"EQUEURDREVILLE"},{"$f":"IF(ISERROR(VLOOKUP(T15,$T$131:$AD$147,1,FALSE)),\"\",IF(VLOOKUP(T15,$T$131:$AD$147,11,FALSE)=\"1/1\",\"\",VLOOKUP(T15,$T$131:$AD$147,11,FALSE)))","v":""},{"$f":"+R15","v":0},{"$f":"COUNTIF(AE:AE,R15)","v":32},null,"H",null,"Total H","B",null,"Total B","Total général",null,null,null,null,null,null,null,null,"1er","2ème",null,null,null,null,null,null,null,null,null,12,"H","B","B"]
[2,"17=",2,32,"",""," ",null,null,null,null,null,32,31,null,"P",2,null,1,50,"VIDAL Charles",2,{"$f":"Q16&S16","v":"21"},0,0,null,null,null,"ASSUN TT",{"$f":"IF(ISERROR(VLOOKUP(T16,$T$131:$AD$147,1,FALSE)),\"\",IF(VLOOKUP(T16,$T$131:$AD$147,11,FALSE)=\"1/1\",\"\",VLOOKUP(T16,$T$131:$AD$147,11,FALSE)))","v":""},0,32,"Club, Comité ou Ligue",1,2,null,1,2,null,null,null,null,null,null,null,null,null,null,null,"H","B",null,null,null,null,null,null,null,null,13,"H","B","B"]
[3,"17=",3,17,"",""," ",null,null,null,null,null,17,18,null,"P",3,null,1,49,"ROBION Paul",3,"31",0,0,null,null,null,"SIOUVILLE ATTLC","",0,32,"ASSUN TT",null,1,1,1,null,1,2,null,null,null,null,null,null,null,null,{"$f":"IF(VLOOKUP($AG17,$AG$14:$AU$47,AW$11,FALSE)>1,VLOOKUP($AG17,$AG$14:$AU$47,AW$11,FALSE),\"\")","v":{"$error":"#REF!"}},{"$f":"IF(OR(VLOOKUP($AG17,$AG$14:$AU$47,AX$11+1,FALSE)>1,AND(VLOOKUP($AG17,$AG$14:$AU$47,AX$11+1,FALSE)=1,VLOOKUP($AG17,$AG$14:$AU$47,AX$11+2,FALSE)>1)),VLOOKUP($AG17,$AG$14:$AU$47,AX$11+2,FALSE),\"\")","v":""},"",null,null,null,null,null,null,null,null,14,"H","B","B"]
[4,"9=",4,16,"",""," ",null,null,null,null,null,16,15,null,"P",4,null,1,47,"LEVILLAIN Camille",4,"41",0,0,null,null,null,"ST PAIR BRICQUE","1/3",0,32,"ATTDUCEYAVRANCH",1,1,2,1,1,2,4,null,null,null,null,null,null,null,null,{"$error":"#REF!"},2,2,null,null,null,null,null,null,null,null,15,"H","B","B"]
[5,"9=",5,9,"",""," ",null,null,null,null,null,9,10,null,"P",5,null,1,52,"COUEDEL-COULON Eloan",5,"51",0,0,null,null,null,"TT SAINT JAMES","1/2",0,32,"CARANTILLAISE",null,1,1,1,null,1,2,null,null,null,null,null,null,null,null,{"$error":"#REF!"},"","",null,null,null,null,null,null,null,null,16,"H","B","B"]
[6,"17=",6,24,"",""," ",null,null,null,null,null,24,23,null,"P",6,null,1,45,"LECLERC Alexandre-Bao",6,"61",0,0,null,null,null,"OC AGNEAUX","",0,32,"COUTANCES JA",1,1,2,1,1,2,4,null,null,null,null,null,null,null,null,{"$error":"#REF!"},2,2,null,null,null,null,null,null,null,null,17,"B","H","H"]
[7,"17=",7,25,"",""," ",null,null,null,null,null,25,26,null,"P",7,null,1,46,"NICOLLE Augustin",7,"71",0,0,null,null,null,"COUTANCES JA","1/2",0,32,"EQUEURDREVILLE",1,null,1,null,1,1,2,null,null,null,null,null,null,null,null,{"$error":"#REF!"},"","",null,null,null,null,null,null,null,null,18,"B","H","H"]
[8,"5=",8,8,"",""," ",null,null,null,null,null,8,7,null,"P",8,null,1,48,"NICOLLE Emile",8,"81",0,0,null,null,null,"COUTANCES JA","2/2",0,32,"OC AGNEAUX",null,1,1,1,null,1,2,null,null,null,null,null,null,null,null,{"$error":"#REF!"},"","",null,null,null,null,null,null,null,null,19,"B","H","H"]
[9,"5=",9,5,"",""," ",null,null,null,null,null,5,6,null,"P",9,null,1,51,"RIPOCHE Nathan",9,"91",0,0,null,null,null,"ST PAIR BRICQUE","2/3",0,32,"SIOUVILLE ATTLC",null,1,1,1,null,1,2,null,null,null,null,null,null,null,null,{"$error":"#REF!"},"","",null,null,null,null,null,null,null,null,20,"B","H","H"]
[10,"17=",10,28,"",""," ",null,null,null,null,null,28,27,null,"P",10,null,1,58,"PEIN Edgar",10,"101",0,0,null,null,null,"ST PAIR BRICQUE","3/3",0,32,"ST PAIR BRICQUE",2,1,3,1,2,3,6,null,null,null,null,null,null,null,null,{"$error":"#REF!"},3,3,null,null,null,null,null,null,null,null,21,"B","H","H"]
[11,"17=",11,21,"",""," ",null,null,null,null,null,21,22,null,"P",11,null,1,54,"RICOUX Bastien",11,"111",0,0,null,null,null,"ATTDUCEYAVRANCH","1/2",0,32,"TORIGNAISE ESTT",1,1,2,1,1,2,4,null,null,null,null,null,null,null,null,{"$error":"#REF!"},2,2,null,null,null,null,null,null,null,null,22,"B","H","H"]
[12,"9=",12,12,"",""," ",null,null,null,null,null,12,11,null,"P",12,null,1,55,"ROC Ferdinand",12,"121",0,0,null,null,null,"ATTDUCEYAVRANCH","2/2",0,32,"TT SAINT JAMES",2,null,2,null,2,2,4,null,null,null,null,null,null,null,null,{"$error":"#REF!"},"",2,null,null,null,null,null,null,null,null,23,"B","H","H"]
[13,"9=",13,13,"",""," ",null,null,null,null,null,13,14,null,"P",13,null,1,57,"RIGOT Noe",13,"131",0,0,null,null,null,"CARANTILLAISE","",0,32,"Total général",8,8,16,8,8,16,32,null,null,null,null,null,null,null,null,{"$error":"#REF!"},16,16,null,null,null,null,null,null,null,null,24,"B","H","H"]
[14,"17=",14,20,"",""," ",null,null,null,null,null,20,19,null,"P",14,null,1,53,"MASSELINE Malo",14,"141",0,0,null,null,null,"TORIGNAISE ESTT","1/2",0,32,null,null,null,null,null,null,null,null,null,null,null,null,null,null,null,null,{"$error":"#N/A"},{"$error":"#N/A"},{"$error":"#N/A"},null,null,null,null,null,null,null,null,25,"B","B","H"]
[15,"17=",15,29,"",""," ",null,null,null,null,null,29,30,null,"P",15,null,1,59,"BRILLET Pacome",15,"151",0,0,null,null,null,"TT SAINT JAMES","2/2",0,32,null,null,null,null,null,null,null,null,null,null,null,null,null,null,null,null,{"$error":"#N/A"},{"$error":"#N/A"},{"$error":"#N/A"},null,null,null,null,null,null,null,null,26,"B","B","H"]
[16,"3=",16,4,"",""," ",null,null,null,null,null,4,3,null,"P",16,null,1,56,"VARIN Louis",16,"161",0,0,null,null,null,"TORIGNAISE ESTT","2/2",0,32,null,null,null,null,null,null,null,null,null,null,null,null,null,null,null,null,{"$error":"#N/A"},{"$error":"#N/A"},{"$error":"#N/A"},null,null,null,null,null,null,null,null,27,"B","B","H"]
[null,null,null,null,null,null,null,null,null,null,null,null,null,null,null,"2ème de poule",null,null,null,null,null,null,null,null,null,null,null,null,null,null,null,null,null,null,null,null,null,null,null,null,null,null,null,null,null,null,null,null,{"$error":"#N/A"},{"$error":"#N/A"},{"$error":"#N/A"},null,null,null,null,null,null,null,null,28,"B","B","H"]
[17,"3=",{"$f":"A32","v":17},3,{"$f":"IF(ISNA(VLOOKUP(C32,$R$15:$AC$47,4,FALSE)),\"\",VLOOKUP(C32,$R$15:$AC$47,4,FALSE)&\" - \"&VLOOKUP(C32,$R$15:$AC$47,12,FALSE))","v":""},{"$f":"IF(ISNA(VLOOKUP(C32,$R$15:$AC$47,12,FALSE)),\"\",VLOOKUP(C32,$R$15:$AC$47,12,FALSE))","v":""}," ",null,null,null,null,null,null,null,null,"P",1,null,2,{"$f":"IF(ISNA(VLOOKUP(W32,Liste_SPIDD,2,FALSE)),901,VLOOKUP(W32,Liste_SPIDD,2,FALSE))","v":201},{"$f":"IF(T32=\"\",\"\",IF(ISNA(VLOOKUP($T32,Liste_Dos_SPIDD,2,FALSE)),VLOOKUP($T32,Liste_J,3,FALSE),VLOOKUP($T32,Liste_Dos_SPIDD,2,FALSE)))","v":"LUCAS Ifig"},17,{"$f":"Q32&S32","v":"12"},{"$f":"IF($R32=0,0,VLOOKUP($R32,$BH$4:$BK$68,2,FALSE))","v":0},{"$f":"IF(Y15=\"H\",\"B\",IF(Y15=\"B\",\"H\",\"\"))","v":""},null,null,null,{"$f":"IF(T32=\"\",\"\",IF(ISNA(VLOOKUP(T32,Liste_Dos_SPIDD,3,FALSE)),VLOOKUP(T32,Liste_J,$A$10,FALSE),VLOOKUP(T32,Liste_Dos_SPIDD,3,FALSE)))","v":"EQUEURDREVILLE"},{"$f":"IF(ISERROR(VLOOKUP(AC32,$AG$12:$AY$54,18,FALSE)),\"\",IF($AC$9=\"H\",VLOOKUP(AC32,$AG$12:$AY$54,18,FALSE),IF($AC$9=\"B\",VLOOKUP(AC32,$AG$12:$AY$54,19,FALSE),\"\")))","v":""},{"$f":"+R32","v":0},{"$f":"COUNTIF(AE:AE,R32)","v":32},null,null,null,null,null,null,null,null,null,null,null,null,null,null,null,null,{"$error":"#N/A"},{"$error":"#N/A"},{"$error":"#N/A"},null,null,null,null,null,null,null,null,29,"B","B","H"]
[18,"17=",18,30,"",""," ",null,null,null,null,null,null,null,null,"P",2,null,2,202,"VIDAL Charles",18,{"$f":"Q33&S33","v":"22"},{"$f":"IF($R33=0,0,VLOOKUP($R33,$BH$4:$BK$68,2,FALSE))","v":0},"",null,null,null,"ASSUN TT",{"$f":"IF(ISERROR(VLOOKUP(AC33,$AG$12:$AY$54,18,FALSE)),\"\",IF($AC$9=\"H\",VLOOKUP(AC33,$AG$12:$AY$54,18,FALSE),IF($AC$9=\"B\",VLOOKUP(AC33,$AG$12:$AY$54,19,FALSE),\"\")))","v":""},0,32,null,null,null,null,null,null,null,null,null,null,null,null,null,null,null,null,{"$error":"#N/A"},{"$error":"#N/A"},{"$error":"#N/A"},null,null,null,null,null,null,null,null,30,"B","B","H"]
[19,"17=",19,19,"",""," ",null,null,null,null,null,null,null,null,"P",3,null,2,203,"ROBION Paul",19,"32",0,"",null,null,null,"SIOUVILLE ATTLC","",0,32,null,null,null,null,null,null,null,null,null,null,null,null,null,null,null,null,{"$error":"#N/A"},{"$error":"#N/A"},{"$error":"#N/A"},null,null,null,null,null,null,null,null,31,"B","B","H"]
[20,"9=",20,14,"",""," ",null,null,null,null,null,null,null,null,"P",4,null,2,204,"LEVILLAIN Camille",20,"42",0,"",null,null,null,"ST PAIR BRICQUE","",0,32,null,null,null,null,null,null,null,null,null,null,null,null,null,null,null,null,{"$error":"#N/A"},{"$error":"#N/A"},{"$error":"#N/A"},null,null,null,null,null,null,null,null,32,"B","B","H"]
[21,"9=",21,11,"",""," ",null,null,null,null,null,null,null,null,"P",5,null,2,205,"COUEDEL-COULON Eloan",21,"52",0,"",null,null,null,"TT SAINT JAMES","",0,32,null,null,null,null,null,null,null,null,null,null,null,null,null,null,null,null,{"$error":"#N/A"},{"$error":"#N/A"},{"$error":"#N/A"}]
[22,"17=",22,22,"",""," ",null,null,null,null,null,null,null,null,"P",6,null,2,206,"LECLERC Alexandre-Bao",22,"62",0,"",null,null,null,"OC AGNEAUX","",0,32,null,null,null,null,null,null,null,null,null,null,null,null,null,null,null,null,{"$error":"#N/A"},{"$error":"#N/A"},{"$error":"#N/A"}]
[23,"17=",23,27,"",""," ",null,null,null,null,null,null,null,null,"P",7,null,2,207,"NICOLLE Augustin",23,"72",0,"",null,null,null,"COUTANCES JA","",0,32,null,null,null,null,null,null,null,null,null,null,null,null,null,null,null,null,{"$error":"#N/A"},{"$error":"#N/A"},{"$error":"#N/A"}]
[24,"5=",24,6,"",""," ",null,null,null,null,null,null,null,null,"P",8,null,2,208,"NICOLLE Emile",24,"82",0,"",null,null,null,"COUTANCES JA","",0,32,null,null,null,null,null,null,null,null,null,null,null,null,null,null,null,null,{"$error":"#N/A"},{"$error":"#N/A"},{"$error":"#N/A"}]
[25,"5=",25,7,"",""," ",null,null,null,null,null,null,null,null,"P",9,null,2,209,"RIPOCHE Nathan",25,"92",0,"",null,null,null,"ST PAIR BRICQUE","",0,32,null,null,null,null,null,null,null,null,null,null,null,null,null,null,null,null,{"$error":"#N/A"},{"$error":"#N/A"},{"$error":"#N/A"}]
[26,"17=",26,26,"",""," ",null,null,null,null,null,null,null,null,"P",10,null,2,210,"PEIN Edgar",26,"102",0,"",null,null,null,"ST PAIR BRICQUE","",0,32,null,null,null,null,null,null,null,null,null,null,null,null,null,null,null,null,{"$error":"#N/A"},{"$error":"#N/A"},{"$error":"#N/A"}]
[27,"17=",27,23,"",""," ",null,null,null,null,null,null,null,null,"P",11,null,2,211,"RICOUX Bastien",27,"112",0,"",null,null,null,"ATTDUCEYAVRANCH","",0,32,null,null,null,null,null,null,null,null,null,null,null,null,null,null,null,null,{"$error":"#N/A"},{"$error":"#N/A"},{"$error":"#N/A"}]
[28,"9=",28,10,"",""," ",null,null,null,null,null,null,null,null,"P",12,null,2,212,"ROC Ferdinand",28,"122",0,"",null,null,null,"ATTDUCEYAVRANCH","",0,32,null,null,null,null,null,null,null,null,null,null,null,null,null,null,null,null,{"$error":"#N/A"},{"$error":"#N/A"},{"$error":"#N/A"}]
[29,"9=",29,15,"",""," ",null,null,null,null,null,null,null,null,"P",13,null,2,213,"RIGOT Noe",29,"132",0,"",null,null,null,"CARANTILLAISE","",0,32,null,null,null,null,null,null,null,null,null,null,null,null,null,null,null,null,{"$error":"#N/A"},{"$error":"#N/A"},{"$error":"#N/A"}]
[30,"17=",30,18,"",""," ",null,null,null,null,null,null,null,null,"P",14,null,2,214,"MASSELINE Malo",30,"142",0,"",null,null,null,"TORIGNAISE ESTT","",0,32,null,null,null,null,null,null,null,null,null,null,null,null,null,null,null,null,{"$error":"#N/A"},{"$error":"#N/A"},{"$error":"#N/A"}]
[31,"17=",31,31,"",""," ",null,null,null,null,null,null,null,null,"P",15,null,2,215,"BRILLET Pacome",31,"152",0,"",null,null,null,"TT SAINT JAMES","",0,32,null,null,null,null,null,null,null,null,null,null,null,null,null,null,null,null,{"$error":"#N/A"},{"$error":"#N/A"},{"$error":"#N/A"}]
[32,2,32,2,"",""," ",null,null,null,null,null,null,null,null,"P",16,null,2,216,"VARIN Louis",32,"162",0,"",null,null,null,"TORIGNAISE ESTT","",0,32,null,null,null,null,null,null,null,null,null,null,null,null,null,null,null,null,{"$error":"#N/A"},{"$error":"#N/A"},{"$error":"#N/A"}]
[null,null,null,null,null,null,null,null,null,null,null,null,null,null,null,null,null,null,null,null,null,null,null,null,null,null,null,null,null,null,null,null,null,null,null,null,null,null,null,null,null,null,null,null,null,null,null,null,{"$error":"#N/A"},{"$error":"#N/A"},{"$error":"#N/A"}]
[null,null,null,null,null,null,null,null,null,null,null,null,null,null,null,null,null,null,null,null,null,null,null,null,null,null,null,null,null,null,null,null,null,null,null,null,null,null,null,null,null,null,null,null,null,null,null,null,{"$error":"#N/A"},{"$f":"IF(OR(VLOOKUP($AG49,$AG$14:$AU$47,AX$11+1,FALSE)>1,AND(VLOOKUP($AG49,$AG$14:$AU$47,AX$11+1,FALSE)=1,VLOOKUP($AG49,$AG$14:$AU$47,AX$11+2,FALSE)>1)),VLOOKUP($AG49,$AG$14:$AU$47,AX$11+2,FALSE),\"\")","v":{"$error":"#N/A"}},{"$error":"#N/A"}]
[null,null,null,null,null,null,null,null,null,null,null,null,null,null,null,null,null,null,null,null,null,null,null,null,null,null,null,null,null,null,null,null,null,null,null,null,null,null,null,null,null,null,null,null,null,null,null,null,{"$error":"#N/A"},{"$error":"#N/A"},{"$error":"#N/A"}]
[null,null,null,null,null,null,null,null,null,null,null,null,null,null,null,null,null,null,null,null,null,null,null,null,null,null,null,null,null,null,null,null,null,null,null,null,null,null,null,null,null,null,null,null,null,null,null,null,{"$error":"#N/A"},{"$error":"#N/A"},{"$error":"#N/A"}]
[null,null,null,null,null,null,null,null,null,null,null,null,null,null,null,null,null,null,null,null,null,null,null,null,null,null,null,null,null,null,null,null,null,null,null,null,null,null,null,null,null,null,null,null,null,null,null,null,{"$error":"#N/A"},{"$error":"#N/A"},{"$error":"#N/A"}]
[null,null,null,null,null,null,null,null,null,null,null,null,null,null,null,null,null,null,null,null,null,null,null,null,null,null,null,null,null,null,null,null,null,null,null,null,null,null,null,null,null,null,null,null,null,null,null,null,{"$error":"#N/A"},{"$error":"#N/A"},{"$error":"#N/A"}]
[null,null,null,null,null,null,null,null,null,null,null,null,null,null,null,null,null,null,null,null,null,null,null,null,null,null,null,null,null,null,null,null,null,null,null,null,null,null,null,null,null,null,null,null,null,null,null,null,{"$error":"#N/A"},{"$error":"#N/A"},{"$error":"#N/A"}]
[]
[]
[]
[]
[]
[]
[]
[]
[]
[]
[]
[]
[]
[]
[]
[]
[]
[]
[]
[]
[]
[]
[]
[]
[]
[]
[]
[]
[]
[]
[]
[]
[]
[]
[]
[]
[]
[]
[]
[]
[]
[]
[]
[]
[]
[]
[]
[]
[]
[]
[]
[]
[]
[]
[]
[]
[]
[]
[]
[]
[]
[]
[]
[]
[]
[]
[]
[]
[]
[]
[]
[]
[]
[null,null,null,null,null,null,null,null,null,null,null,null,null,null,null,null,null,null,null,null,null,null,null,null,null,null,null,null,null,{"$f":"W128&\"/\"&X128","v":"/"}]
[]
[]
[null,null,null,null,null,null,null,null,null,null,null,null,null,null,null,null,null,null,null,"Dos","NOM Prénom","Rang","RC","NC","1/2 T","b","c","d","Club","N° Club"]
[null,null,null,null,null,null,null,null,null,null,null,null,null,null,null,null,null,null,null,50,"VIDAL Charles",2,{"$f":"IF(AC132=AC131,W131+1,1)","v":1},{"$f":"COUNTIF($AC$132:$AC$200,AC132)","v":1},null,null,null,null,"ASSUN TT","1/1"]
[null,null,null,null,null,null,null,null,null,null,null,null,null,null,null,null,null,null,null,54,"RICOUX Bastien",11,1,2,null,null,null,null,"ATTDUCEYAVRANCH","1/2"]
[null,null,null,null,null,null,null,null,null,null,null,null,null,null,null,null,null,null,null,55,"ROC Ferdinand",12,2,2,null,null,null,null,"ATTDUCEYAVRANCH","2/2"]
[null,null,null,null,null,null,null,null,null,null,null,null,null,null,null,null,null,null,null,57,"RIGOT Noe",13,1,1,null,null,null,null,"CARANTILLAISE","1/1"]
[null,null,null,null,null,null,null,null,null,null,null,null,null,null,null,null,null,null,null,46,"NICOLLE Augustin",7,1,2,null,null,null,null,"COUTANCES JA","1/2"]
[null,null,null,null,null,null,null,null,null,null,null,null,null,null,null,null,null,null,null,48,"NICOLLE Emile",8,2,2,null,null,null,null,"COUTANCES JA","2/2"]
[null,null,null,null,null,null,null,null,null,null,null,null,null,null,null,null,null,null,null,44,"LUCAS Ifig",1,1,1,null,null,null,null,"EQUEURDREVILLE","1/1"]
[null,null,null,null,null,null,null,null,null,null,null,null,null,null,null,null,null,null,null,45,"LECLERC Alexandre-Bao",6,1,1,null,null,null,null,"OC AGNEAUX","1/1"]
[null,null,null,null,null,null,null,null,null,null,null,null,null,null,null,null,null,null,null,49,"ROBION Paul",3,1,1,null,null,null,null,"SIOUVILLE ATTLC","1/1"]
[null,null,null,null,null,null,null,null,null,null,null,null,null,null,null,null,null,null,null,47,"LEVILLAIN Camille",4,1,3,null,null,null,null,"ST PAIR BRICQUE","1/3"]
[null,null,null,null,null,null,null,null,null,null,null,null,null,null,null,null,null,null,null,51,"RIPOCHE Nathan",9,2,3,null,null,null,null,"ST PAIR BRICQUE","2/3"]
[null,null,null,null,null,null,null,null,null,null,null,null,null,null,null,null,null,null,null,58,"PEIN Edgar",10,3,3,null,null,null,null,"ST PAIR BRICQUE","3/3"]
[null,null,null,null,null,null,null,null,null,null,null,null,null,null,null,null,null,null,null,53,"MASSELINE Malo",14,1,2,null,null,null,null,"TORIGNAISE ESTT","1/2"]
[null,null,null,null,null,null,null,null,null,null,null,null,null,null,null,null,null,null,null,56,"VARIN Louis",16,2,2,null,null,null,null,"TORIGNAISE ESTT","2/2"]
[null,null,null,null,null,null,null,null,null,null,null,null,null,null,null,null,null,null,null,52,"COUEDEL-COULON Eloan",5,1,2,null,null,null,null,"TT SAINT JAMES","1/2"]
[null,null,null,null,null,null,null,null,null,null,null,null,null,null,null,null,null,null,null,59,"BRILLET Pacome",15,2,2,null,null,null,null,"TT SAINT JAMES","2/2"]

{"sheet":"G-232a","index":17,"n_rows":3,"n_cols":17,"rows_kept":3,"cut":false,"hidden":false,"merged":[]}
["Clt",1,2,3,4,5,6,7,8,9,10,11,12,13,14,15,16]
["1er",{"$f":"'TS-232a'!R15","v":0},{"$f":"'TS-232a'!R16","v":0},{"$f":"'TS-232a'!R17","v":0},{"$f":"'TS-232a'!R18","v":0},{"$f":"'TS-232a'!R19","v":0},{"$f":"'TS-232a'!R20","v":0},{"$f":"'TS-232a'!R21","v":0},{"$f":"'TS-232a'!R22","v":0},{"$f":"'TS-232a'!R23","v":0},{"$f":"'TS-232a'!R24","v":0},{"$f":"'TS-232a'!R25","v":0},{"$f":"'TS-232a'!R26","v":0},{"$f":"'TS-232a'!R27","v":0},{"$f":"'TS-232a'!R28","v":0},{"$f":"'TS-232a'!R29","v":0},{"$f":"'TS-232a'!R30","v":0}]
["2ème",{"$f":"'TS-232a'!R32","v":0},{"$f":"'TS-232a'!R33","v":0},{"$f":"'TS-232a'!R34","v":0},{"$f":"'TS-232a'!R35","v":0},{"$f":"'TS-232a'!R36","v":0},{"$f":"'TS-232a'!R37","v":0},{"$f":"'TS-232a'!R38","v":0},{"$f":"'TS-232a'!R39","v":0},{"$f":"'TS-232a'!R40","v":0},{"$f":"'TS-232a'!R41","v":0},{"$f":"'TS-232a'!R42","v":0},{"$f":"'TS-232a'!R43","v":0},{"$f":"'TS-232a'!R44","v":0},{"$f":"'TS-232a'!R45","v":0},{"$f":"'TS-232a'!R46","v":0},{"$f":"'TS-232a'!R47","v":0}]

{"sheet":"TS-232c","index":18,"n_rows":141,"n_cols":83,"rows_kept":141,"cut":false,"hidden":false,"merged":[[14,70,14,73],[14,67,15,67],[12,34,12,69],[7,5,7,9],[7,18,7,29],[14,68,14,69],[13,12,13,15],[13,67,13,69],[14,8,21,9],[22,8,29,9],[31,8,38,9],[39,8,46,9],[3,0,5,31],[12,17,12,31],[8,18,8,29],[24,17,24,31]]}
[{"$f":"\"Epreuve  : \"&'TS-200'!$C$1","v":"Epreuve  : Critérium Fédéral"},null,null,null,null,null,null,null,null,null,null,null,null,null,null,null,null,null,null,null,null,null,null,null,null,null,null,null,null,null,null,{"$f":"\"Lieu : \"&'TS-200'!$C$2","v":"Lieu : Pont à Mousson"}]
[{"$f":"\"Tableau : \"&'TS-200'!$C$4","v":"Tableau :  "},null,null,null,null,null,null,null,null,null,null,null,null,null,null,null,null,null,null,null,null,null,null,null,null,null,null,null,null,null,null,{"$f":"\"Date : \"&'TS-200'!$C$3","v":"Date : 15 au 17 mars 2019"}]
[]
["TABLEAU DE TIRAGE AU SORT\n32 JOUEURS\n10 poules - 3 qualifiés",null,null,null,null,null,null,null,null,null,null,null,null,null,null,null,null,null,null,null,null,null,null,null,null,null,null,null,null,null,null,null,null,null,null,null,null,null,null,null,null,null,null,null,null,null,null,null,null,null,null,null,null,null,null,null,null,null,null,null,null,null,null,null,null,null,null,null,null,null,null,null,null,null,null,null,null,null,1,"H","HH","B","HB"]
[null,null,null,null,null,null,null,null,null,null,null,null,null,null,null,null,null,null,null,null,null,null,null,null,null,null,null,null,null,null,null,null,null,null,null,null,null,null,null,null,null,null,null,null,null,null,null,null,null,null,null,null,null,null,null,null,null,null,null,null,null,null,null,null,null,null,null,null,null,null,null,null,null,null,null,null,null,null,2,"H","HH","B","HB"]
[null,null,null,null,null,null,null,null,null,null,null,null,null,null,null,null,null,null,null,null,null,null,null,null,null,null,null,null,null,null,null,null,null,null,null,null,null,null,null,null,null,null,null,null,null,null,null,null,null,null,null,null,null,null,null,null,null,null,null,null,null,null,null,null,null,null,null,null,null,null,null,null,null,null,null,null,null,null,3,"H","HH","B","HB"]
[null,null,null,null,null,null,null,null,null,null,null,null,null,null,null,null,null,null,null,null,null,null,null,null,null,null,null,null,null,null,null,null,null,null,null,null,null,null,null,null,null,null,null,null,null,null,null,null,null,null,null,null,null,null,null,null,null,null,null,null,null,null,null,null,null,null,null,null,null,null,null,null,null,null,null,null,null,null,4,"H","HH","B","HB"]
["Critère d'appartenance pour la mise en tableau",null,null,null,null,"Club",null,null,null,null,null,null,null,null,null,null,null,null,"Club, Comité ou Ligue (tiré au sort)",null,null,null,null,null,null,null,null,null,null,null," ",null,null,null,null,null,null,null,null,null,null,null,null,null,null,null,null,null,null,null,null,null,null,null,null,null,null,null,null,null,null,null,null,null,null,null,null,null,null,null,null,null,null,null,null,null,null,null,5,"H","HH","B","HB"]
[null,null,null,null,"Club",null,null,null,null,null,null,null,null,null,null,null,null,null,"Partie du tableau tirée au sort (H=Haut, B=Bas)",null,null,null,null,null,null,null,null,null,null,null,"BB",null,"H ou B",null,null,null,null,null,null,null,null,null,null,null,null,null,null,null,null,null,null,null,null,null,null,null,null,null,null,null,null,null,null,null,null,null,null,null,null,null,null,null,null,null,null,null,null,null,6,"H","HH","B","HB"]
[{"$f":"IF(F8=\"Club\",10,IF(F8=\"Ligue\",11,IF(F8=\"Comité\",12,10)))","v":10},null,null,null,"Ligue",null,null,null,null,null,null,null,null,null,null,null,null,null,null,null,null,null,null,null,null,null,null,null,null,null,null,null,"H",null,"Position"," ",null,null,null,null,null,null,null,null,null,null,null,null,null,null,null,null,null,null,null,null,null,null,null,null,null,null,null,null,null,null,null,0,"H","B","HH","HB","BH","BB",null,null,null,null,7,"H","HH","B","HB"]
[null,null,null,null,"Comité",null,null,null,null,null,null,null,null,null,null,null,null,null,null,null,null,null,null,null,null,null,null,null,null,null,null,null,"B",null,"N° colonne TCD","H",null,null,null,null,null,null,null,null,null,null,null,null,null,null,null,null,null,null,null,null,null,null,null,null,null,null,null,null,null,null,null,{"$f":"MATCH(BP10,$AI$16:$BO$16,0)","v":{"$error":"#N/A"}},{"$f":"MATCH(BQ10,$AI$15:$BO$15,0)","v":2},{"$f":"MATCH(BR10,$AI$15:$BO$15,0)","v":11},{"$f":"MATCH(BS10,$AI$16:$BO$16,0)","v":2},{"$f":"MATCH(BT10,$AI$16:$BO$16,0)","v":6},{"$f":"MATCH(BU10,$AI$16:$BO$16,0)","v":15},{"$f":"MATCH(BV10,$AI$16:$BO$16,0)","v":11},null,null,null,null,8,"H","HH","B","HB"]
[null,null,null,null,null,null,null,null,null,null,null,null,null,null,null,null,null,null,null,null,null,null,null,null,null,null,null,null,null,null,null,null,"HH",null,null,2,3,4,5,6,7,8,9,10,11,12,13,14,15,16,17,18,19,20,21,22,23,24,25,26,27,28,29,30,31,32,33,34,35,36,37,38,39,40,null,null,null,null,9,"H","HB","B","HH"]
[null,null,null,null,null,null,null,null,null,null,null,null,null,null,null,null,null,"1er de poule",null,null,null,null,null,null,null,null,null,null,null,null,null,null,"HB",null,"NB JOUEUR / CLUB",null,null,null,null,null,null,null,null,null,null,null,null,null,null,null,null,null,null,null,null,null,null,null,null,null,null,null,null,null,null,null,null,null,null,null,null,null,null,null,null,null,null,null,10,"H","HB","B","HH"]
[null,null,null,null,null,null,null,null,null,null,null,null,"N° Dispo",null,null,null,null,"Pl","x","TAS","N°","Dos","NOM Prénom","Rang","SPIDD","a","1/2 T","1/4 T","c","d","Club, Comité ou Ligue","N° Club","BH",null,"NB Club, Comité ou Ligue","1/2 T","1/4 T","N°",null,null,null,null,null,null,null,null,null,null,null,null,null,null,null,null,null,null,null,null,null,null,null,null,null,null,null,null,null,"TAS >1",null,null,null,null,null,null,null,null,null,null,11,"H","HB","B","HH"]
[1,1,{"$f":"A15","v":1},1,{"$f":"IF(ISNA(VLOOKUP(C15,$T$15:$AE$50,4,FALSE)),\"\",VLOOKUP(C15,$T$15:$AE$50,4,FALSE)&\" - \"&VLOOKUP(C15,$T$15:$AE$50,12,FALSE))","v":""},{"$f":"IF(ISNA(VLOOKUP(C15,$T$15:$AE$50,12,FALSE)),\"\",VLOOKUP(C15,$T$15:$AE$50,12,FALSE))","v":""}," ",null,"HH",null,null,null,1,null,2,null,null,"P",1,null,1,{"$f":"IF(ISNA(VLOOKUP(Y15,Liste_SPIDD,2,FALSE)),901,VLOOKUP(Y15,Liste_SPIDD,2,FALSE))","v":44},{"$f":"IF(V15=\"\",\"\",IF(ISNA(VLOOKUP(V15,Liste_Dos_SPIDD,2,FALSE)),VLOOKUP(V15,Liste_J,3,FALSE),VLOOKUP(V15,Liste_Dos_SPIDD,2,FALSE)))","v":"LUCAS Ifig"},1,{"$f":"S15&U15","v":"11"},{"$f":"IF($T15=0,0,VLOOKUP($T15,$CA$4:$CD$68,2,FALSE))","v":0},0,{"$f":"IF($T15=0,0,VLOOKUP($T15,$CA$4:$CD$68,3,FALSE))","v":0},null,null,{"$f":"IF(V15=\"\",\"\",IF(ISNA(VLOOKUP(V15,Liste_Dos_SPIDD,3,FALSE)),VLOOKUP(V15,Liste_J,$A$10,FALSE),VLOOKUP(V15,Liste_Dos_SPIDD,3,FALSE)))","v":"EQUEURDREVILLE"},{"$f":"IF(ISERROR(VLOOKUP(V15,$V$131:$AF$147,1,FALSE)),\"\",IF(VLOOKUP(V15,$V$131:$AF$147,11,FALSE)=\"1/1\",\"\",VLOOKUP(V15,$V$131:$AF$147,11,FALSE)))","v":""},"BB",null,null,"H",null,null,null,null,null,null,null,"Total H","B",null,null,null,null,null,null,null,"Total B","Total général",null,null,null,null,null,null,null,null,null,null,null,null,null,"1er","2ème",null,"3ème",null,null,null,null,null,null,null,12,"H","HB","B","HH"]
[2,"17=",2,32,"Exempt -  "," "," ",null,null,null,null,null,32,null,31,null,null,"P",2,null,1,50,"VIDAL Charles",2,{"$f":"S16&U16","v":"21"},0,0,0,null,null,"ASSUN TT","",null,null,null,"HH",null,null,"Total HH","HB",null,null,"Total HB",null,"BB",null,null,"Total BB","BH",null,null,"Total BH",null,null,null,null,null,null,null,null,null,null,null,null,null,null,null,null,"H","B","HH","HB","BH","BB",null,null,null,null,13,"H","HB","B","HH"]
[3,"17=",3,17,"",""," ",null,null,null,null,null,17,null,18,null,null,"P",3,null,1,49,"ROBION Paul",3,"31",0,0,0,null,null,"SIOUVILLE ATTLC","",null,null,"Club, Comité ou Ligue",1,2,3,null,1,2,3,null,null,1,2,3,null,1,2,3,null,null,null,null,null,null,null,null,null,null,null,null,null,null,null,null,{"$f":"IF(VLOOKUP($AI17,$AI$14:$BJ$47,BP$11,FALSE)>1,VLOOKUP($AI17,$AI$14:$BJ$47,BP$11,FALSE),\"\")","v":{"$error":"#REF!"}},{"$f":"IF(OR(VLOOKUP($AI17,$AI$14:$BJ$47,BQ$11,FALSE)>1,AND(VLOOKUP($AI17,$AI$14:$BJ$47,BQ$11,FALSE)=1,(VLOOKUP($AI17,$AI$14:$BJ$47,BQ$11+4,FALSE)+VLOOKUP($AI17,$AI$14:$BJ$47,BQ$11+6,FALSE))>0)),(VLOOKUP($AI17,$AI$14:$BJ$47,BQ$11,FALSE)+VLOOKUP($AI17,$AI$14:$BJ$47,BQ$11+4,FALSE)+VLOOKUP($AI17,$AI$14:$BJ$47,BQ$11+6,FALSE)),\"\")","v":5},{"$f":"IF(OR(VLOOKUP($AI17,$AI$14:$BJ$47,BR$11,FALSE)>1,AND(VLOOKUP($AI17,$AI$14:$BJ$47,BR$11,FALSE)=1,(VLOOKUP($AI17,$AI$14:$BJ$47,BR$11+4,FALSE)+VLOOKUP($AI17,$AI$14:$BJ$47,BR$11+6,FALSE))>0)),(VLOOKUP($AI17,$AI$14:$BJ$47,BR$11,FALSE)+VLOOKUP($AI17,$AI$14:$BJ$47,BR$11+4,FALSE)+VLOOKUP($AI17,$AI$14:$BJ$47,BR$11+6,FALSE)),\"\")","v":5},{"$f":"IF(OR(VLOOKUP($AI17,$AI$14:$BJ$47,BS$11+2,FALSE)>1,AND(VLOOKUP($AI17,$AI$14:$BJ$47,BS$11+2,FALSE)=1,VLOOKUP($AI17,$AI$14:$BJ$47,BS$11+3,FALSE)>1)),VLOOKUP($AI17,$AI$14:$BJ$47,BS$11+3,FALSE),\"\")","v":0},0,0,0,null,null,null,null,14,"H","HB","B","HH"]
[4,"9=",4,16,"",""," ",null,null,null,null,null,16,null,15,null,null,"P",4,null,1,47,"LEVILLAIN Camille",4,"41",0,0,0,null,null,"ST PAIR BRICQUE","1/3",null,null,"ASSUN TT",null,null,null,null,null,null,null,null,null,1,null,null,1,null,1,null,1,2,2,null,null,null,null,null,null,null,null,null,null,null,null,null,{"$error":"#REF!"},"","","","","","",null,null,null,null,15,"H","HB","B","HH"]
[5,"9=",5,9,"",""," ",null,null,null,null,null,9,null,10,null,null,"P",5,null,1,52,"COUEDEL-COULON Eloan",5,"51",0,0,0,null,null,"TT SAINT JAMES","",null,null,"ATTDUCEYAVRANCH",null,1,1,2,null,null,null,null,2,null,null,1,1,null,1,null,1,2,4,null,null,null,null,null,null,null,null,null,null,null,null,null,{"$error":"#REF!"},"","",2,"","","",null,null,null,null,16,"H","HB","B","HH"]
[6,"17=",6,24,"",""," ",null,null,null,null,null,24,null,23,null,null,"P",6,null,1,45,"LECLERC Alexandre-Bao",6,"61",0,0,0,null,null,"OC AGNEAUX","",null,null,"CARANTILLAISE",null,null,null,null,null,1,null,1,1,null,null,null,null,null,null,1,1,1,2,null,null,null,null,null,null,null,null,null,null,null,null,null,{"$error":"#REF!"},"","","","","","",null,null,null,null,17,"B","BH","H","BB"]
[7,"17=",7,25,"",""," ",null,null,null,null,null,25,null,26,null,null,"P",7,null,1,46,"NICOLLE Augustin",7,"71",0,0,0,null,null,"COUTANCES JA","1/2",null,null,"COUTANCES JA",1,null,1,2,null,null,null,null,2,1,null,1,2,null,null,null,null,2,4,null,null,null,null,null,null,null,null,null,null,null,null,null,{"$error":"#REF!"},"","",2,"","",2,null,null,null,null,18,"B","BH","H","BB"]
[8,"5=",8,8,"",""," ",null,null,null,null,null,8,null,7,null,null,"P",8,null,1,48,"NICOLLE Emile",8,"81",0,0,0,null,null,"COUTANCES JA","2/2",null,null,"EQUEURDREVILLE",1,null,null,1,null,1,null,1,2,null,null,null,null,null,null,null,null,null,2,null,null,null,null,null,null,null,null,null,null,null,null,null,{"$error":"#REF!"},"","","","","","",null,null,null,null,19,"B","BH","H","BB"]
[9,"5=",9,5,"",""," ",null,"HB",null,null,null,5,null,6,null,null,"P",9,null,1,51,"RIPOCHE Nathan",9,"91",0,0,0,null,null,"ST PAIR BRICQUE","2/3",null,null,"OC AGNEAUX",null,null,null,null,null,null,1,1,1,null,null,null,null,1,null,null,1,1,2,null,null,null,null,null,null,null,null,null,null,null,null,null,{"$error":"#REF!"},"","","","","","",null,null,null,null,20,"B","BH","H","BB"]
[10,"17=",10,28,"",""," ",null,null,null,null,null,28,null,27,null,null,"P",10,null,1,58,"PEIN Edgar",10,"101",0,0,0,null,null,"ST PAIR BRICQUE","3/3",null,null,"SIOUVILLE ATTLC",null,null,null,null,null,null,null,null,null,null,1,null,1,1,null,null,1,2,2,null,null,null,null,null,null,null,null,null,null,null,null,null,{"$error":"#REF!"},"","","","","","",null,null,null,null,21,"B","BH","H","BB"]
[11,"17=",11,21,"",""," ",null,null,null,null,null,21,null,22,null,null,"2ème de poule",null,null,null,null,null,null,null,null,null,null,null,null,null,null,null,null,"ST PAIR BRICQUE",1,null,null,1,1,1,1,3,4,1,null,null,1,null,null,1,1,2,6,null,null,null,null,null,null,null,null,null,null,null,null,null,{"$error":"#REF!"},3,2,"",3,"","",null,null,null,null,22,"B","BH","H","BB"]
[12,"9=",12,12,"",""," ",null,null,null,null,null,12,null,11,null,null,"P",1,null,2,{"$f":"IF(ISNA(VLOOKUP(Y26,Liste_SPIDD,2,FALSE)),901,VLOOKUP(Y26,Liste_SPIDD,2,FALSE))","v":201},{"$f":"IF(V26=\"\",\"\",IF(ISNA(VLOOKUP(V26,Liste_Dos_SPIDD,2,FALSE)),VLOOKUP(V26,Liste_J,3,FALSE),VLOOKUP(V26,Liste_Dos_SPIDD,2,FALSE)))","v":"LUCAS Ifig"},11,{"$f":"S26&U26","v":"12"},{"$f":"IF($T26=0,0,VLOOKUP($T26,$CA$4:$CD$68,2,FALSE))","v":0},{"$f":"IF(AA15=\"H\",\"B\",IF(AA15=\"B\",\"H\",\"\"))","v":""},{"$f":"IF($T26=0,0,VLOOKUP($T26,$CA$4:$CD$68,3,FALSE))","v":0},null,null,{"$f":"IF(V26=\"\",\"\",IF(ISNA(VLOOKUP(V26,Liste_Dos_SPIDD,3,FALSE)),VLOOKUP(V26,Liste_J,$A$10,FALSE),VLOOKUP(V26,Liste_Dos_SPIDD,3,FALSE)))","v":"EQUEURDREVILLE"},{"$f":"IF(ISERROR(VLOOKUP(AE26,$AI$12:$BV$54,18,FALSE)),\"\",IF($AE$9=\"H\",VLOOKUP(AE26,$AI$12:$BV$54,35,FALSE),IF($AE$9=\"B\",VLOOKUP(AE26,$AI$12:$BV$54,36,FALSE),\"\")))","v":""},null,null,"TORIGNAISE ESTT",null,1,1,2,null,null,null,null,2,null,null,null,null,null,1,null,1,1,3,null,null,null,null,null,null,null,null,null,null,null,null,null,{"$error":"#REF!"},"","",2,"","","",null,null,null,null,23,"B","BH","H","BB"]
[13,"9=",13,13,"",""," ",null,null,null,null,null,13,null,14,null,null,"P",2,null,2,202,"VIDAL Charles",12,{"$f":"S27&U27","v":"22"},0,{"$f":"IF(AA16=\"H\",\"B\",IF(AA16=\"B\",\"H\",\"\"))","v":""},0,null,null,"ASSUN TT",{"$f":"IF(ISERROR(VLOOKUP(AE27,$AI$12:$BV$54,18,FALSE)),\"\",IF($AE$9=\"H\",VLOOKUP(AE27,$AI$12:$BV$54,35,FALSE),IF($AE$9=\"B\",VLOOKUP(AE27,$AI$12:$BV$54,36,FALSE),\"\")))","v":""},null,null,"TT SAINT JAMES",null,null,null,null,1,null,null,1,1,null,1,1,2,null,null,null,null,2,3,null,null,null,null,null,null,null,null,null,null,null,null,null,{"$error":"#REF!"},"","","","","",2,null,null,null,null,24,"B","BH","H","BB"]
[14,"17=",14,20,"",""," ",null,null,null,null,null,20,null,19,null,null,"P",3,null,2,203,"ROBION Paul",13,"32",0,"",0,null,null,"SIOUVILLE ATTLC","",null,null,"Total général",3,2,3,8,2,3,2,7,15,3,2,3,8,2,3,2,7,15,30,null,null,null,null,null,null,null,null,null,null,null,null,null,{"$error":"#REF!"},7,7,8,7,7,8,null,null,null,null,25,"B","BB","H","BH"]
[15,"17=",15,29,"",""," ",null,null,null,null,null,29,null,30,null,null,"P",4,null,2,204,"LEVILLAIN Camille",14,"42",0,"",0,null,null,"ST PAIR BRICQUE","",null,null,null,null,null,null,null,null,null,null,null,null,null,null,null,null,null,null,null,null,null,null,null,null,null,null,null,null,null,null,null,null,null,null,null,{"$error":"#N/A"},{"$error":"#N/A"},{"$error":"#N/A"},{"$error":"#N/A"},{"$error":"#N/A"},{"$error":"#N/A"},{"$error":"#N/A"},null,null,null,null,26,"B","BB","H","BH"]
[16,"3=",16,4,"",""," ",null,null,null,null,null,4,null,3,null,null,"P",5,null,2,205,"COUEDEL-COULON Eloan",15,"52",0,"",0,null,null,"TT SAINT JAMES","",null,null,null,null,null,null,null,null,null,null,null,null,null,null,null,null,null,null,null,null,null,null,null,null,null,null,null,null,null,null,null,null,null,null,null,{"$error":"#N/A"},{"$error":"#N/A"},{"$error":"#N/A"},{"$error":"#N/A"},{"$error":"#N/A"},{"$error":"#N/A"},{"$error":"#N/A"},null,null,null,null,27,"B","BB","H","BH"]
[null,null,null,null,null,null,null,null,null,null,null,null,null,null,null,null,null,"P",6,null,2,206,"LECLERC Alexandre-Bao",16,"62",0,"",0,null,null,"OC AGNEAUX","",null,null,null,null,null,null,null,null,null,null,null,null,null,null,null,null,null,null,null,null,null,null,null,null,null,null,null,null,null,null,null,null,null,null,null,{"$error":"#N/A"},{"$error":"#N/A"},{"$error":"#N/A"},{"$error":"#N/A"},{"$error":"#N/A"},{"$error":"#N/A"},{"$error":"#N/A"},null,null,null,null,28,"B","BB","H","BH"]
[17,"3=",{"$f":"A32","v":17},3,{"$f":"IF(ISNA(VLOOKUP(C32,$T$15:$AE$50,4,FALSE)),\"\",VLOOKUP(C32,$T$15:$AE$50,4,FALSE)&\" - \"&VLOOKUP(C32,$T$15:$AE$50,12,FALSE))","v":""},{"$f":"IF(ISNA(VLOOKUP(C32,$T$15:$AE$50,12,FALSE)),\"\",VLOOKUP(C32,$T$15:$AE$50,12,FALSE))","v":""}," ",null,"BH",null,null,null,null,null,null,null,null,"P",7,null,2,207,"NICOLLE Augustin",17,"72",0,"",0,null,null,"COUTANCES JA","",null,null,null,null,null,null,null,null,null,null,null,null,null,null,null,null,null,null,null,null,null,null,null,null,null,null,null,null,null,null,null,null,null,null,null,{"$error":"#N/A"},{"$error":"#N/A"},{"$error":"#N/A"},{"$error":"#N/A"},{"$error":"#N/A"},{"$error":"#N/A"},{"$error":"#N/A"},null,null,null,null,29,"B","BB","H","BH"]
[18,"17=",18,30,"",""," ",null,null,null,null,null,null,null,null,null,null,"P",8,null,2,208,"NICOLLE Emile",18,"82",0,"",0,null,null,"COUTANCES JA","",null,null,null,null,null,null,null,null,null,null,null,null,null,null,null,null,null,null,null,null,null,null,null,null,null,null,null,null,null,null,null,null,null,null,null,{"$error":"#N/A"},{"$error":"#N/A"},{"$error":"#N/A"},{"$f":"IF(OR(VLOOKUP($AI33,$AI$14:$BJ$47,BS$11+2,FALSE)>1,AND(VLOOKUP($AI33,$AI$14:$BJ$47,BS$11+2,FALSE)=1,VLOOKUP($AI33,$AI$14:$BJ$47,BS$11+3,FALSE)>1)),VLOOKUP($AI33,$AI$14:$BJ$47,BS$11+3,FALSE),\"\")","v":{"$error":"#N/A"}},{"$error":"#N/A"},{"$error":"#N/A"},{"$error":"#N/A"},null,null,null,null,30,"B","BB","H","BH"]
[19,"17=",19,19,"",""," ",null,null,null,null,null,null,null,null,null,null,"P",9,null,2,209,"RIPOCHE Nathan",19,"92",0,"",0,null,null,"ST PAIR BRICQUE","",null,null,null,null,null,null,null,null,null,null,null,null,null,null,null,null,null,null,null,null,null,null,null,null,null,null,null,null,null,null,null,null,null,null,null,{"$error":"#N/A"},{"$error":"#N/A"},{"$error":"#N/A"},{"$error":"#N/A"},{"$error":"#N/A"},{"$error":"#N/A"},{"$error":"#N/A"},null,null,null,null,31,"B","BB","H","BH"]
[20,"9=",20,14,"",""," ",null,null,null,null,null,null,null,null,null,null,"P",10,null,2,210,"PEIN Edgar",20,"102",0,"",0,null,null,"ST PAIR BRICQUE","",null,null,null,null,null,null,null,null,null,null,null,null,null,null,null,null,null,null,null,null,null,null,null,null,null,null,null,null,null,null,null,null,null,null,null,{"$error":"#N/A"},{"$error":"#N/A"},{"$error":"#N/A"},{"$error":"#N/A"},{"$error":"#N/A"},{"$error":"#N/A"},{"$error":"#N/A"},null,null,null,null,32,"B","BB","H","BH"]
[21,"9=",21,11,"",""," ",null,null,null,null,null,null,null,null,null,null,"3ème de poule",null,null,null,null,null,null,null,null,null,null,null,null,null,null,null,null,null,null,null,null,null,null,null,null,null,null,null,null,null,null,null,null,null,null,null,null,null,null,null,null,null,null,null,null,null,null,null,null,null,{"$error":"#N/A"},{"$error":"#N/A"},{"$error":"#N/A"},{"$error":"#N/A"},{"$error":"#N/A"},{"$error":"#N/A"},{"$error":"#N/A"}]
[22,"17=",22,22,"",""," ",null,null,null,null,null,null,null,null,null,null,"P",1,null,3,{"$f":"IF(ISNA(VLOOKUP(Y37,Liste_SPIDD,2,FALSE)),901,VLOOKUP(Y37,Liste_SPIDD,2,FALSE))","v":301},{"$f":"IF(V37=\"\",\"\",IF(ISNA(VLOOKUP(V37,Liste_Dos_SPIDD,2,FALSE)),VLOOKUP(V37,Liste_J,3,FALSE),VLOOKUP(V37,Liste_Dos_SPIDD,2,FALSE)))","v":"LUCAS Ifig"},21,{"$f":"S37&U37","v":"13"},{"$f":"IF($T37=0,0,VLOOKUP($T37,$CA$4:$CD$68,2,FALSE))","v":0},{"$f":"AA26","v":""},{"$f":"IF($AB26=0,0,IF(AB26=\"HH\",\"HB\",IF(AB26=\"HB\",\"HH\",IF(AB26=\"BH\",\"BB\",IF(AB26=\"BB\",\"BH\")))))","v":0},null,null,{"$f":"IF(V37=\"\",\"\",IF(ISNA(VLOOKUP(V37,Liste_Dos_SPIDD,3,FALSE)),VLOOKUP(V37,Liste_J,$A$10,FALSE),VLOOKUP(V37,Liste_Dos_SPIDD,3,FALSE)))","v":"EQUEURDREVILLE"},{"$f":"IF(ISERROR(VLOOKUP(AE37,$AI$12:$BV$54,18,FALSE)),\"\",IF($AE$9=\"HH\",VLOOKUP(AE37,$AI$12:$BV$54,37,FALSE),IF($AE$9=\"HB\",VLOOKUP(AE37,$AI$12:$BV$54,38,FALSE),IF($AE$9=\"BH\",VLOOKUP(AE37,$AI$12:$BV$54,39,FALSE),IF($AE$9=\"BB\",VLOOKUP(AE37,$AI$12:$BV$54,40,FALSE),\"\")))))","v":""},null,null,null,null,null,null,null,null,null,null,null,null,null,null,null,null,null,null,null,null,null,null,null,null,null,null,null,null,null,null,null,null,null,null,null,{"$error":"#N/A"},{"$error":"#N/A"},{"$error":"#N/A"},{"$error":"#N/A"},{"$error":"#N/A"},{"$error":"#N/A"},{"$error":"#N/A"}]
[23,"17=",23,27,"",""," ",null,null,null,null,null,null,null,null,null,null,"P",2,null,3,302,"VIDAL Charles",22,{"$f":"S38&U38","v":"23"},0,{"$f":"AA27","v":""},{"$f":"IF($AB27=0,0,IF(AB27=\"HH\",\"HB\",IF(AB27=\"HB\",\"HH\",IF(AB27=\"BH\",\"BB\",IF(AB27=\"BB\",\"BH\")))))","v":0},null,null,"ASSUN TT",{"$f":"IF(ISERROR(VLOOKUP(AE38,$AI$12:$BV$54,18,FALSE)),\"\",IF($AE$9=\"HH\",VLOOKUP(AE38,$AI$12:$BV$54,37,FALSE),IF($AE$9=\"HB\",VLOOKUP(AE38,$AI$12:$BV$54,38,FALSE),IF($AE$9=\"BH\",VLOOKUP(AE38,$AI$12:$BV$54,39,FALSE),IF($AE$9=\"BB\",VLOOKUP(AE38,$AI$12:$BV$54,40,FALSE),\"\")))))","v":""},null,null,null,null,null,null,null,null,null,null,null,null,null,null,null,null,null,null,null,null,null,null,null,null,null,null,null,null,null,null,null,null,null,null,null,{"$error":"#N/A"},{"$error":"#N/A"},{"$error":"#N/A"},{"$error":"#N/A"},{"$error":"#N/A"},{"$error":"#N/A"},{"$error":"#N/A"}]
[24,"5=",24,6,"",""," ",null,null,null,null,null,null,null,null,null,null,"P",3,null,3,303,"ROBION Paul",23,"33",0,"",0,null,null,"SIOUVILLE ATTLC","",null,null,null,null,null,null,null,null,null,null,null,null,null,null,null,null,null,null,null,null,null,null,null,null,null,null,null,null,null,null,null,null,null,null,null,{"$error":"#N/A"},{"$error":"#N/A"},{"$error":"#N/A"},{"$error":"#N/A"},{"$error":"#N/A"},{"$error":"#N/A"},{"$error":"#N/A"}]
[25,"5=",25,7,"",""," ",null,"BB",null,null,null,null,null,null,null,null,"P",4,null,3,304,"LEVILLAIN Camille",24,"43",0,"",0,null,null,"ST PAIR BRICQUE","",null,null,null,null,null,null,null,null,null,null,null,null,null,null,null,null,null,null,null,null,null,null,null,null,null,null,null,null,null,null,null,null,null,null,null,{"$error":"#N/A"},{"$error":"#N/A"},{"$error":"#N/A"},{"$error":"#N/A"},{"$error":"#N/A"},{"$error":"#N/A"},{"$error":"#N/A"}]
[26,"17=",26,26,"",""," ",null,null,null,null,null,null,null,null,null,null,"P",5,null,3,305,"COUEDEL-COULON Eloan",25,"53",0,"",0,null,null,"TT SAINT JAMES",2,null,null,null,null,null,null,null,null,null,null,null,null,null,null,null,null,null,null,null,null,null,null,null,null,null,null,null,null,null,null,null,null,null,null,null,{"$error":"#N/A"},{"$error":"#N/A"},{"$error":"#N/A"},{"$error":"#N/A"},{"$error":"#N/A"},{"$error":"#N/A"},{"$error":"#N/A"}]
[27,"17=",27,23,"",""," ",null,null,null,null,null,null,null,null,null,null,"P",6,null,3,306,"LECLERC Alexandre-Bao",26,"63",0,"",0,null,null,"OC AGNEAUX","",null,null,null,null,null,null,null,null,null,null,null,null,null,null,null,null,null,null,null,null,null,null,null,null,null,null,null,null,null,null,null,null,null,null,null,{"$error":"#N/A"},{"$error":"#N/A"},{"$error":"#N/A"},{"$error":"#N/A"},{"$error":"#N/A"},{"$error":"#N/A"},{"$error":"#N/A"}]
[28,"9=",28,10,"",""," ",null,null,null,null,null,null,null,null,null,null,"P",7,null,3,307,"NICOLLE Augustin",27,"73",0,"",0,null,null,"COUTANCES JA",2,null,null,null,null,null,null,null,null,null,null,null,null,null,null,null,null,null,null,null,null,null,null,null,null,null,null,null,null,null,null,null,null,null,null,null,{"$error":"#N/A"},{"$error":"#N/A"},{"$error":"#N/A"}]
[29,"9=",29,15,"",""," ",null,null,null,null,null,null,null,null,null,null,"P",8,null,3,308,"NICOLLE Emile",28,"83",0,"",0,null,null,"COUTANCES JA",2,null,null,null,null,null,null,null,null,null,null,null,null,null,null,null,null,null,null,null,null,null,null,null,null,null,null,null,null,null,null,null,null,null,null,null,{"$error":"#N/A"},{"$error":"#N/A"},{"$error":"#N/A"}]
[30,"17=",30,18,"",""," ",null,null,null,null,null,null,null,null,null,null,"P",9,null,3,309,"RIPOCHE Nathan",29,"93",0,"",0,null,null,"ST PAIR BRICQUE","",null,null,null,null,null,null,null,null,null,null,null,null,null,null,null,null,null,null,null,null,null,null,null,null,null,null,null,null,null,null,null,null,null,null,null,{"$error":"#N/A"},{"$error":"#N/A"},{"$error":"#N/A"}]
[31,"17=",31,31,"Exempt -  "," "," ",null,null,null,null,null,null,null,null,null,null,"P",10,null,3,310,"PEIN Edgar",30,"103",0,"",0,null,null,"ST PAIR BRICQUE","",null,null,null,null,null,null,null,null,null,null,null,null,null,null,null,null,null,null,null,null,null,null,null,null,null,null,null,null,null,null,null,null,null,null,null,{"$error":"#N/A"},{"$error":"#N/A"},{"$error":"#N/A"}]
[32,2,32,2,"",""," ",null,null,null,null,null,null,null,null,null,null,null,null,null,null,null,null,null,null,null,null,null,null,null,null,null,{"$f":"+T47","v":0},{"$f":"COUNTIF(AG:AG,T47)","v":1},null,null,null,null,null,null,null,null,null,null,null,null,null,null,null,null,null,null,null,null,null,null,null,null,null,null,null,null,null,null,null,null,null,{"$error":"#N/A"},{"$error":"#N/A"},{"$error":"#N/A"}]
[null,null,null,null,null,null,null,null,null,null,null,null,null,null,null,null,null,null,null,2,null,901,{"$f":"IF(V48=\"\",\"\",IF(ISNA(VLOOKUP(V48,Liste_Dos_SPIDD,2,FALSE)),VLOOKUP(V48,Liste_J,3,FALSE),VLOOKUP(V48,Liste_Dos_SPIDD,2,FALSE)))","v":"Exempt"},null,null,null,null,null,null,null,{"$f":"IF(V48=\"\",\"\",IF(ISNA(VLOOKUP(V48,Liste_Dos_SPIDD,3,FALSE)),VLOOKUP(V48,Liste_J,$A$10,FALSE),VLOOKUP(V48,Liste_Dos_SPIDD,3,FALSE)))","v":" "},null,null,null,null,null,null,null,null,null,null,null,null,null,null,null,null,null,null,null,null,null,null,null,null,null,null,null,null,null,null,null,null,null,null,null,null,null,{"$error":"#N/A"},{"$error":"#N/A"}]
[null,null,null,null,null,null,null,null,null,null,null,null,null,null,null,null,null,null,null,31,null,901,{"$f":"IF(V49=\"\",\"\",IF(ISNA(VLOOKUP(V49,Liste_Dos_SPIDD,2,FALSE)),VLOOKUP(V49,Liste_J,3,FALSE),VLOOKUP(V49,Liste_Dos_SPIDD,2,FALSE)))","v":"Exempt"},null,null,null,null,null,null,null,{"$f":"IF(V49=\"\",\"\",IF(ISNA(VLOOKUP(V49,Liste_Dos_SPIDD,3,FALSE)),VLOOKUP(V49,Liste_J,$A$10,FALSE),VLOOKUP(V49,Liste_Dos_SPIDD,3,FALSE)))","v":" "},null,null,null,null,null,null,null,null,null,null,null,null,null,null,null,null,null,null,null,null,null,null,null,null,null,null,null,null,null,null,null,null,null,null,null,null,{"$error":"#N/A"},{"$error":"#N/A"},{"$error":"#N/A"}]
[null,null,null,null,null,null,null,null,null,null,null,null,null,null,null,null,null,null,null,null,null,null,null,null,null,null,null,null,null,null,null,null,null,null,null,null,null,null,null,null,null,null,null,null,null,null,null,null,null,null,null,null,null,null,null,null,null,null,null,null,null,null,null,null,null,null,null,{"$error":"#N/A"},{"$error":"#N/A"},{"$error":"#N/A"}]
[null,null,null,null,null,null,null,null,null,null,null,null,null,null,null,null,null,null,null,null,null,null,null,null,null,null,null,null,null,null,null,null,null,null,null,null,null,null,null,null,null,null,null,null,null,null,null,null,null,null,null,null,null,null,null,null,null,null,null,null,null,null,null,null,null,null,null,{"$error":"#N/A"},{"$error":"#N/A"},{"$error":"#N/A"}]
[null,null,null,null,null,null,null,null,null,null,null,null,null,null,null,null,null,null,null,null,null,null,null,null,null,null,null,null,null,null,null,null,null,null,null,null,null,null,null,null,null,null,null,null,null,null,null,null,null,null,null,null,null,null,null,null,null,null,null,null,null,null,null,null,null,null,null,{"$error":"#N/A"},{"$error":"#N/A"},{"$error":"#N/A"}]
[null,null,null,null,null,null,null,null,null,null,null,null,null,null,null,null,null,null,null,null,null,null,null,null,null,null,null,null,null,null,null,null,null,null,null,null,null,null,null,null,null,null,null,null,null,null,null,null,null,null,null,null,null,null,null,null,null,null,null,null,null,null,null,null,null,null,null,{"$error":"#N/A"},{"$error":"#N/A"},{"$error":"#N/A"}]
[null,null,null,null,null,null,null,null,null,null,null,null,null,null,null,null,null,null,null,null,null,null,null,null,null,null,null,null,null,null,null,null,null,null,null,null,null,null,null,null,null,null,null,null,null,null,null,null,null,null,null,null,null,null,null,null,null,null,null,null,null,null,null,null,null,null,null,{"$error":"#N/A"},{"$error":"#N/A"},{"$error":"#N/A"}]
[]
[]
[]
[]
[]
[]
[]
[]
[]
[]
[]
[]
[]
[]
[]
[]
[]
[]
[]
[]
[]
[]
[]
[]
[]
[]
[]
[]
[]
[]
[]
[]
[]
[]
[]
[]
[]
[]
[]
[]
[]
[]
[]
[]
[]
[]
[]
[]
[]
[]
[]
[]
[]
[]
[]
[]
[]
[]
[]
[]
[]
[]
[]
[]
[]
[]
[]
[]
[]
[]
[]
[]
[]
[null,null,null,null,null,null,null,null,null,null,null,null,null,null,null,null,null,null,null,null,null,null,null,null,null,null,null,null,null,null,null,{"$f":"Y128&\"/\"&Z128","v":"/"}]
[]
[]
[null,null,null,null,null,null,null,null,null,null,null,null,null,null,null,null,null,null,null,null,null,"Dos","NOM Prénom","Rang","RC","NC","1/2 T","b","c","d","Club","N° Club"]
[null,null,null,null,null,null,null,null,null,null,null,null,null,null,null,null,null,null,null,null,null,50,"VIDAL Charles",2,{"$f":"IF(AE132=AE131,Y131+1,1)","v":1},{"$f":"COUNTIF($AE$132:$AE$200,AE132)","v":1},null,null,null,null,"ASSUN TT","1/1"]
[null,null,null,null,null,null,null,null,null,null,null,null,null,null,null,null,null,null,null,null,null,46,"NICOLLE Augustin",7,1,2,null,null,null,null,"COUTANCES JA","1/2"]
[null,null,null,null,null,null,null,null,null,null,null,null,null,null,null,null,null,null,null,null,null,48,"NICOLLE Emile",8,2,2,null,null,null,null,"COUTANCES JA","2/2"]
[null,null,null,null,null,null,null,null,null,null,null,null,null,null,null,null,null,null,null,null,null,44,"LUCAS Ifig",1,1,1,null,null,null,null,"EQUEURDREVILLE","1/1"]
[null,null,null,null,null,null,null,null,null,null,null,null,null,null,null,null,null,null,null,null,null,45,"LECLERC Alexandre-Bao",6,1,1,null,null,null,null,"OC AGNEAUX","1/1"]
[null,null,null,null,null,null,null,null,null,null,null,null,null,null,null,null,null,null,null,null,null,49,"ROBION Paul",3,1,1,null,null,null,null,"SIOUVILLE ATTLC","1/1"]
[null,null,null,null,null,null,null,null,null,null,null,null,null,null,null,null,null,null,null,null,null,47,"LEVILLAIN Camille",4,1,3,null,null,null,null,"ST PAIR BRICQUE","1/3"]
[null,null,null,null,null,null,null,null,null,null,null,null,null,null,null,null,null,null,null,null,null,51,"RIPOCHE Nathan",9,2,3,null,null,null,null,"ST PAIR BRICQUE","2/3"]
[null,null,null,null,null,null,null,null,null,null,null,null,null,null,null,null,null,null,null,null,null,58,"PEIN Edgar",10,3,3,null,null,null,null,"ST PAIR BRICQUE","3/3"]
[null,null,null,null,null,null,null,null,null,null,null,null,null,null,null,null,null,null,null,null,null,52,"COUEDEL-COULON Eloan",5,1,1,null,null,null,null,"TT SAINT JAMES","1/1"]

{"sheet":"G-232c","index":19,"n_rows":4,"n_cols":11,"rows_kept":4,"cut":false,"hidden":false,"merged":[]}
["Clt",1,2,3,4,5,6,7,8,9,10]
["1er",{"$f":"'TS-232c'!T15","v":0},{"$f":"'TS-232c'!T16","v":0},{"$f":"'TS-232c'!T17","v":0},{"$f":"'TS-232c'!T18","v":0},{"$f":"'TS-232c'!T19","v":0},{"$f":"'TS-232c'!T20","v":0},{"$f":"'TS-232c'!T21","v":0},{"$f":"'TS-232c'!T22","v":0},{"$f":"'TS-232c'!T23","v":0},{"$f":"'TS-232c'!T24","v":0}]
["2ème",{"$f":"'TS-232c'!T26","v":0},{"$f":"'TS-232c'!T27","v":0},{"$f":"'TS-232c'!T28","v":0},{"$f":"'TS-232c'!T29","v":0},{"$f":"'TS-232c'!T30","v":0},{"$f":"'TS-232c'!T31","v":0},{"$f":"'TS-232c'!T32","v":0},{"$f":"'TS-232c'!T33","v":0},{"$f":"'TS-232c'!T34","v":0},{"$f":"'TS-232c'!T35","v":0}]
["3ème",{"$f":"'TS-232c'!T37","v":0},{"$f":"'TS-232c'!T38","v":0},{"$f":"'TS-232c'!T39","v":0},{"$f":"'TS-232c'!T40","v":0},{"$f":"'TS-232c'!T41","v":0},{"$f":"'TS-232c'!T42","v":0},{"$f":"'TS-232c'!T43","v":0},{"$f":"'TS-232c'!T44","v":0},{"$f":"'TS-232c'!T45","v":0},{"$f":"'TS-232c'!T46","v":0}]

{"sheet":"TS-232e","index":20,"n_rows":141,"n_cols":86,"rows_kept":141,"cut":false,"hidden":false,"merged":[[14,74,14,77],[14,70,14,73],[3,0,5,31],[7,5,7,9],[7,18,7,29],[8,18,8,29],[12,17,12,31],[12,34,12,69],[22,8,29,9],[31,8,38,9],[39,8,46,9],[13,12,13,15],[13,67,13,69],[14,8,21,9],[14,67,15,67],[14,68,14,69]]}
[{"$f":"\"Epreuve  : \"&'TS-200'!$C$1","v":"Epreuve  : Critérium Fédéral"},null,null,null,null,null,null,null,null,null,null,null,null,null,null,null,null,null,null,null,null,null,null,null,null,null,null,null,null,null,null,{"$f":"\"Lieu : \"&'TS-200'!$C$2","v":"Lieu : Pont à Mousson"}]
[{"$f":"\"Tableau : \"&'TS-200'!$C$4","v":"Tableau :  "},null,null,null,null,null,null,null,null,null,null,null,null,null,null,null,null,null,null,null,null,null,null,null,null,null,null,null,null,null,null,{"$f":"\"Date : \"&'TS-200'!$C$3","v":"Date : 15 au 17 mars 2019"}]
[]
["TABLEAU DE TIRAGE AU SORT\n32 JOUEURS\n8 poules - 4 qualifiés",null,null,null,null,null,null,null,null,null,null,null,null,null,null,null,null,null,null,null,null,null,null,null,null,null,null,null,null,null,null,null,null,null,null,null,null,null,null,null,null,null,null,null,null,null,null,null,null,null,null,null,null,null,null,null,null,null,null,null,null,null,null,null,null,null,null,null,null,null,null,null,null,null,null,null,null,null,null,null,null,1,"H","HH","B","HB"]
[null,null,null,null,null,null,null,null,null,null,null,null,null,null,null,null,null,null,null,null,null,null,null,null,null,null,null,null,null,null,null,null,null,null,null,null,null,null,null,null,null,null,null,null,null,null,null,null,null,null,null,null,null,null,null,null,null,null,null,null,null,null,null,null,null,null,null,null,null,null,null,null,null,null,null,null,null,null,null,null,null,2,"H","HH","B","HB"]
[null,null,null,null,null,null,null,null,null,null,null,null,null,null,null,null,null,null,null,null,null,null,null,null,null,null,null,null,null,null,null,null,null,null,null,null,null,null,null,null,null,null,null,null,null,null,null,null,null,null,null,null,null,null,null,null,null,null,null,null,null,null,null,null,null,null,null,null,null,null,null,null,null,null,null,null,null,null,null,null,null,3,"H","HH","B","HB"]
[null,null,null,null,null,null,null,null,null,null,null,null,null,null,null,null,null,null,null,null,null,null,null,null,null,null,null,null,null,null,null,null,null,null,null,null,null,null,null,null,null,null,null,null,null,null,null,null,null,null,null,null,null,null,null,null,null,null,null,null,null,null,null,null,null,null,null,null,null,null,null,null,null,null,null,null,null,null,null,null,null,4,"H","HH","B","HB"]
["Critère d'appartenance pour la mise en tableau",null,null,null,null,"Club",null,null,null,null,null,null,null,null,null,null,null,null,"Club, Comité ou Ligue (tiré au sort)",null,null,null,null,null,null,null,null,null,null,null," ",null,null,null,null,null,null,null,null,null,null,null,null,null,null,null,null,null,null,null,null,null,null,null,null,null,null,null,null,null,null,null,null,null,null,null,null,null,null,null,null,null,null,null,null,null,null,null,null,null,null,5,"H","HH","B","HB"]
[null,null,null,null,"Club",null,null,null,null,null,null,null,null,null,null,null,null,null,"Partie du tableau tirée au sort (H=Haut, B=Bas)",null,null,null,null,null,null,null,null,null,null,null,"BB",null,"H ou B",null,null,null,null,null,null,null,null,null,null,null,null,null,null,null,null,null,null,null,null,null,null,null,null,null,null,null,null,null,null,null,null,null,null,null,null,null,null,null,null,null,null,null,null,null,null,null,null,6,"H","HH","B","HB"]
[{"$f":"IF(F8=\"Club\",10,IF(F8=\"Ligue\",11,IF(F8=\"Comité\",12,10)))","v":10},null,null,null,"Ligue",null,null,null,null,null,null,null,null,null,null,null,null,null,null,null,null,null,null,null,null,null,null,null,null,null,null,null,"H",null,"Position"," ",null,null,null,null,null,null,null,null,null,null,null,null,null,null,null,null,null,null,null,null,null,null,null,null,null,null,null,null,null,null,null,0,"H","B","HH","HB","BH","BB","HH","HB","BH","BB",null,null,null,7,"H","HH","B","HB"]
[null,null,null,null,"Comité",null,null,null,null,null,null,null,null,null,null,null,null,null,null,null,null,null,null,null,null,null,null,null,null,null,null,null,"B",null,"N° colonne TCD","H",null,null,null,null,null,null,null,null,null,null,null,null,null,null,null,null,null,null,null,null,null,null,null,null,null,null,null,null,null,null,null,{"$f":"MATCH(BP10,$AI$16:$BO$16,0)","v":{"$error":"#N/A"}},{"$f":"MATCH(BQ10,$AI$15:$BO$15,0)","v":2},{"$f":"MATCH(BR10,$AI$15:$BO$15,0)","v":13},{"$f":"MATCH(BS10,$AI$16:$BO$16,0)","v":2},7,18,13,2,7,18,13,null,null,null,8,"H","HH","B","HB"]
[null,null,null,null,null,null,null,null,null,null,null,null,null,null,null,null,null,null,null,null,null,null,null,null,null,null,null,null,null,null,null,null,"HH",null,null,2,3,4,5,6,7,8,9,10,11,12,13,14,15,16,17,18,19,20,21,22,23,24,25,26,27,28,29,30,31,32,33,34,35,36,37,38,39,40,41,42,43,44,null,null,null,9,"H","HB","B","HH"]
[null,null,null,null,null,null,null,null,null,null,null,null,null,null,null,null,null,"1er de poule",null,null,null,null,null,null,null,null,null,null,null,null,null,null,"HB",null,"NB JOUEUR / CLUB",null,null,null,null,null,null,null,null,null,null,null,null,null,null,null,null,null,null,null,null,null,null,null,null,null,null,null,null,null,null,null,null,null,null,null,null,null,null,null,null,null,null,null,null,null,null,10,"H","HB","B","HH"]
[null,null,null,null,null,null,null,null,null,null,null,null,"N° Dispo",null,null,null,null,"Pl","x","TAS","N°","Dos","NOM Prénom","Rang","SPIDD","a","1/2 T","1/4 T","c","d","Club, Comité ou Ligue","N° Club","BH",null,"NB Club, Comité ou Ligue","1/2 T","1/4 T","N°",null,null,null,null,null,null,null,null,null,null,null,null,null,null,null,null,null,null,null,null,null,null,null,null,null,null,null,null,null,"TAS >1",null,null,null,null,null,null,null,null,null,null,null,null,null,11,"H","HB","B","HH"]
[1,1,{"$f":"A15","v":1},1,{"$f":"IF(ISNA(VLOOKUP(C15,$T$15:$AE$50,4,FALSE)),\"\",VLOOKUP(C15,$T$15:$AE$50,4,FALSE)&\" - \"&VLOOKUP(C15,$T$15:$AE$50,12,FALSE))","v":""},{"$f":"IF(ISNA(VLOOKUP(C15,$T$15:$AE$50,12,FALSE)),\"\",VLOOKUP(C15,$T$15:$AE$50,12,FALSE))","v":""}," ",null,"HH",null,null,null,1,null,2,null,null,"P",1,null,1,{"$f":"IF(ISNA(VLOOKUP(Y15,Liste_SPIDD,2,FALSE)),901,VLOOKUP(Y15,Liste_SPIDD,2,FALSE))","v":44},{"$f":"IF(V15=\"\",\"\",IF(ISNA(VLOOKUP(V15,Liste_Dos_SPIDD,2,FALSE)),VLOOKUP(V15,Liste_J,3,FALSE),VLOOKUP(V15,Liste_Dos_SPIDD,2,FALSE)))","v":"LUCAS Ifig"},1,{"$f":"S15&U15","v":"11"},{"$f":"IF($T15=0,0,VLOOKUP($T15,$CD$4:$CG$68,2,FALSE))","v":0},0,{"$f":"IF($T15=0,0,VLOOKUP($T15,$CD$4:$CG$68,3,FALSE))","v":0},null,null,{"$f":"IF(V15=\"\",\"\",IF(ISNA(VLOOKUP(V15,Liste_Dos_SPIDD,3,FALSE)),VLOOKUP(V15,Liste_J,$A$10,FALSE),VLOOKUP(V15,Liste_Dos_SPIDD,3,FALSE)))","v":"EQUEURDREVILLE"},{"$f":"IF(ISERROR(VLOOKUP(V15,$V$131:$AF$147,1,FALSE)),\"\",IF(VLOOKUP(V15,$V$131:$AF$147,11,FALSE)=\"1/1\",\"\",VLOOKUP(V15,$V$131:$AF$147,11,FALSE)))","v":""},"BB",null,null,"H",null,null,null,null,null,null,null,null,null,"Total H","B",null,null,null,null,null,null,null,null,null,"Total B","Total général",null,null,null,null,null,null,null,null,null,"1er","2ème",null,"3ème",null,null,null,"4ème",null,null,null,null,null,null,12,"H","HB","B","HH"]
[2,"17=",2,32,"",""," ",null,null,null,null,null,32,null,31,null,null,"P",2,null,1,50,"VIDAL Charles",2,{"$f":"S16&U16","v":"21"},0,0,0,null,null,"ASSUN TT","",null,null,null,"HH",null,null,null,"Total HH","HB",null,null,null,"Total HB",null,"BB",null,null,null,"Total BB","BH",null,null,null,"Total BH",null,null,null,null,null,null,null,null,null,null,null,null,"H","B","HH","HB","BH","BB",{"$f":"+BW10","v":"HH"},{"$f":"+BX10","v":"HB"},{"$f":"+BY10","v":"BH"},{"$f":"+BZ10","v":"BB"},null,null,null,13,"H","HB","B","HH"]
[3,"17=",3,17,"",""," ",null,null,null,null,null,17,null,18,null,null,"P",3,null,1,49,"ROBION Paul",3,"31",0,0,0,null,null,"SIOUVILLE ATTLC","",null,null,"Club, Comité ou Ligue",1,2,3,4,null,1,2,3,4,null,null,1,2,3,4,null,1,2,3,4,null,null,null,null,null,null,null,null,null,null,null,null,{"$f":"IF(VLOOKUP($AI17,$AI$14:$BJ$47,BP$11,FALSE)>1,VLOOKUP($AI17,$AI$14:$BJ$47,BP$11,FALSE),\"\")","v":{"$error":"#REF!"}},{"$f":"IF(OR(VLOOKUP($AI17,$AI$14:$BJ$47,BQ$11,FALSE)>1,AND(VLOOKUP($AI17,$AI$14:$BJ$47,BQ$11,FALSE)=1,(VLOOKUP($AI17,$AI$14:$BJ$47,BQ$11+3,FALSE)+VLOOKUP($AI17,$AI$14:$BJ$47,BQ$11+6,FALSE))>0)),(VLOOKUP($AI17,$AI$14:$BJ$47,BQ$11,FALSE)+VLOOKUP($AI17,$AI$14:$BJ$47,BQ$11+3,FALSE)+VLOOKUP($AI17,$AI$14:$BJ$47,BQ$11+6,FALSE)),\"\")","v":7},7,{"$f":"IF(OR(VLOOKUP($AI17,$AI$14:$BJ$47,BS$11+2,FALSE)>1,AND(VLOOKUP($AI17,$AI$14:$BJ$47,BS$11+2,FALSE)=1,(VLOOKUP($AI17,$AI$14:$BJ$47,BS$11,FALSE)+VLOOKUP($AI17,$AI$14:$BJ$47,BS$11+1,FALSE)+VLOOKUP($AI17,$AI$14:$BJ$47,BS$11+2,FALSE))>1)),VLOOKUP($AI17,$AI$14:$BJ$47,BS$11+4,FALSE)-VLOOKUP($AI17,$AI$14:$BJ$47,BS$11+3,FALSE),\"\")","v":-4},{"$f":"IF(OR(VLOOKUP($AI17,$AI$14:$BJ$47,BT$11+2,FALSE)>1,AND(VLOOKUP($AI17,$AI$14:$BJ$47,BT$11+2,FALSE)=1,VLOOKUP($AI17,$AI$14:$BJ$47,BT$11,FALSE)+VLOOKUP($AI17,$AI$14:$BJ$47,BT$11+1,FALSE)+VLOOKUP($AI17,$AI$14:$BJ$47,BT$11+2,FALSE)>1)),VLOOKUP($AI17,$AI$14:$BJ$47,BT$11+4,FALSE)-VLOOKUP($AI17,$AI$14:$BJ$47,BT$11+3,FALSE),\"\")","v":-4},-4,-4,{"$f":"IF(OR(VLOOKUP($AI17,$AI$14:$BJ$47,BW$11+3,FALSE)>1,AND(VLOOKUP($AI17,$AI$14:$BJ$47,BW$11+3,FALSE)=1,VLOOKUP($AI17,$AI$14:$BJ$47,BW$11+4,FALSE)>1)),VLOOKUP($AI17,$AI$14:$BJ$47,BW$11+4,FALSE),\"\")","v":0},0,0,0,null,null,null,14,"H","HB","B","HH"]
[4,"9=",4,16,"",""," ",null,null,null,null,null,16,null,15,null,null,"P",4,null,1,47,"LEVILLAIN Camille",4,"41",0,0,0,null,null,"ST PAIR BRICQUE","",null,null,"ASSUN TT",null,null,null,null,null,null,null,1,null,1,1,1,null,null,null,1,null,null,null,null,null,1,2,null,null,null,null,null,null,null,null,null,{"$error":"#REF!"},"","","","","","","","","","",null,null,null,15,"H","HB","B","HH"]
[5,"9=",5,9,"",""," ",null,null,null,null,null,9,null,10,null,null,"P",5,null,1,52,"COUEDEL-COULON Eloan",5,"51",0,0,0,null,null,"TT SAINT JAMES","",null,null,"ATTDUCEYAVRANCH",null,null,null,1,1,null,1,null,null,1,2,null,null,null,1,1,null,1,null,null,1,2,4,null,null,null,null,null,null,null,null,null,{"$error":"#REF!"},"","","","","","","","","","",null,null,null,16,"H","HB","B","HH"]
[6,"17=",6,24,"",""," ",null,null,null,null,null,24,null,23,null,null,"P",6,null,1,45,"LECLERC Alexandre-Bao",6,"61",0,0,0,null,null,"OC AGNEAUX","",null,null,"CARANTILLAISE",null,null,null,1,1,null,null,null,null,null,1,null,null,null,null,null,null,1,null,null,1,1,2,null,null,null,null,null,null,null,null,null,{"$error":"#REF!"},"","","","","","","","","","",null,null,null,17,"B","BH","H","BB"]
[7,"17=",7,25,"",""," ",null,null,null,null,null,25,null,26,null,null,"P",7,null,1,46,"NICOLLE Augustin",7,"71",0,0,0,null,null,"COUTANCES JA","1/2",null,null,"COUTANCES JA",1,null,null,null,1,null,null,1,null,1,2,1,null,null,null,1,null,null,1,null,1,2,4,null,null,null,null,null,null,null,null,null,{"$error":"#REF!"},"","","","","","","","","","",null,null,null,18,"B","BH","H","BB"]
[8,"5=",8,8,"",""," ",null,null,null,null,null,8,null,7,null,null,"P",8,null,1,48,"NICOLLE Emile",8,"81",0,0,0,null,null,"COUTANCES JA","2/2",null,null,"EQUEURDREVILLE",1,null,null,null,1,null,null,null,null,null,1,null,null,null,null,null,null,null,1,null,1,1,2,null,null,null,null,null,null,null,null,null,{"$error":"#REF!"},"","","","","","","","","","",null,null,null,19,"B","BH","H","BB"]
[9,"5=",9,5,"",""," ",null,"HB",null,null,null,5,null,6,null,null,"2ème de poule",null,null,null,null,null,null,null,null,null,null,null,null,null,null,null,null,"OC AGNEAUX",null,null,1,null,1,null,null,null,null,null,1,null,null,null,null,null,1,null,null,null,1,1,2,null,null,null,null,null,null,null,null,null,{"$error":"#REF!"},"","","","","","","","","","",null,null,null,20,"B","BH","H","BB"]
[10,"17=",10,28,"",""," ",null,null,null,null,null,28,null,27,null,null,"P",1,null,2,{"$f":"IF(ISNA(VLOOKUP(Y24,Liste_SPIDD,2,FALSE)),901,VLOOKUP(Y24,Liste_SPIDD,2,FALSE))","v":201},{"$f":"IF(V24=\"\",\"\",IF(ISNA(VLOOKUP(V24,Liste_Dos_SPIDD,2,FALSE)),VLOOKUP(V24,Liste_J,3,FALSE),VLOOKUP(V24,Liste_Dos_SPIDD,2,FALSE)))","v":"LUCAS Ifig"},11,{"$f":"S24&U24","v":"12"},{"$f":"IF($T24=0,0,VLOOKUP($T24,$CD$4:$CG$68,2,FALSE))","v":0},{"$f":"IF(AA15=\"H\",\"B\",IF(AA15=\"B\",\"H\",\"\"))","v":""},{"$f":"IF($T24=0,0,VLOOKUP($T24,$CD$4:$CG$68,3,FALSE))","v":0},null,null,{"$f":"IF(V24=\"\",\"\",IF(ISNA(VLOOKUP(V24,Liste_Dos_SPIDD,3,FALSE)),VLOOKUP(V24,Liste_J,$A$10,FALSE),VLOOKUP(V24,Liste_Dos_SPIDD,3,FALSE)))","v":"EQUEURDREVILLE"},{"$f":"IF(ISERROR(VLOOKUP(AE24,$AI$12:$BV$54,18,FALSE)),\"\",IF($AE$9=\"H\",VLOOKUP(AE24,$AI$12:$BV$54,35,FALSE),IF($AE$9=\"B\",VLOOKUP(AE24,$AI$12:$BV$54,36,FALSE),\"\")))","v":""},null,null,"SIOUVILLE ATTLC",null,null,1,null,1,null,null,null,null,null,1,null,null,null,null,null,1,null,null,null,1,1,2,null,null,null,null,null,null,null,null,null,{"$error":"#REF!"},"","","","","","","","","","",null,null,null,21,"B","BH","H","BB"]
[11,"17=",11,21,"",""," ",null,null,null,null,null,21,null,22,null,null,"P",2,null,2,202,"VIDAL Charles",12,{"$f":"S25&U25","v":"22"},0,"",0,null,null,"ASSUN TT","",null,null,"ST PAIR BRICQUE",null,1,null,null,1,1,null,null,1,2,3,null,1,1,null,2,null,null,null,1,1,3,6,null,null,null,null,null,null,null,null,null,{"$error":"#REF!"},"","","","","",2,"",2,"","",null,null,null,22,"B","BH","H","BB"]
[12,"9=",12,12,"",""," ",null,null,null,null,null,12,null,11,null,null,"P",3,null,2,203,"ROBION Paul",13,"32",0,"",0,null,null,"SIOUVILLE ATTLC","",null,null,"TORIGNAISE ESTT",null,null,null,null,null,null,1,null,1,2,2,null,1,null,1,2,null,null,null,null,null,2,4,null,null,null,null,null,null,null,null,null,{"$error":"#REF!"},"","","","","","","",2,"",2,null,null,null,23,"B","BH","H","BB"]
[13,"9=",13,13,"",""," ",null,null,null,null,null,13,null,14,null,null,"P",4,null,2,204,"LEVILLAIN Camille",14,"42",0,"",0,null,null,"ST PAIR BRICQUE","",null,null,"TT SAINT JAMES",null,1,null,null,1,1,null,null,null,1,2,null,null,1,null,1,null,null,null,1,1,2,4,null,null,null,null,null,null,null,null,null,{"$error":"#REF!"},"","","","","","","","","","",null,null,null,24,"B","BH","H","BB"]
[14,"17=",14,20,"",""," ",null,null,null,null,null,20,null,19,null,null,"P",5,null,2,205,"COUEDEL-COULON Eloan",15,"52",0,"",0,null,null,"TT SAINT JAMES","",null,null,"Total général",2,2,2,2,8,2,2,2,2,8,16,2,2,2,2,8,2,2,2,2,8,16,32,null,null,null,null,null,null,null,null,null,{"$error":"#REF!"},6,6,6,6,6,6,8,8,8,8,null,null,null,25,"B","BB","H","BH"]
[15,"17=",15,29,"",""," ",null,null,null,null,null,29,null,30,null,null,"P",6,null,2,206,"LECLERC Alexandre-Bao",16,"62",0,"",0,null,null,"OC AGNEAUX","",null,null,null,null,null,null,null,null,null,null,null,null,null,null,null,null,null,null,null,null,null,null,null,null,null,null,null,null,null,null,null,null,null,null,null,{"$error":"#N/A"},{"$error":"#N/A"},{"$error":"#N/A"},{"$error":"#N/A"},{"$error":"#N/A"},{"$error":"#N/A"},{"$error":"#N/A"},{"$error":"#N/A"},{"$error":"#N/A"},{"$error":"#N/A"},{"$error":"#N/A"},null,null,null,26,"B","BB","H","BH"]
[16,"3=",16,4,"",""," ",null,null,null,null,null,4,null,3,null,null,"P",7,null,2,207,"NICOLLE Augustin",17,"72",0,"",0,null,null,"COUTANCES JA","",null,null,null,null,null,null,null,null,null,null,null,null,null,null,null,null,null,null,null,null,null,null,null,null,null,null,null,null,null,null,null,null,null,null,null,{"$error":"#N/A"},{"$error":"#N/A"},{"$error":"#N/A"},{"$error":"#N/A"},{"$error":"#N/A"},{"$error":"#N/A"},{"$error":"#N/A"},{"$error":"#N/A"},{"$error":"#N/A"},{"$error":"#N/A"},{"$error":"#N/A"},null,null,null,27,"B","BB","H","BH"]
[null,null,null,null,null,null,null,null,null,null,null,null,null,null,null,null,null,"P",8,null,2,208,"NICOLLE Emile",18,"82",0,"",0,null,null,"COUTANCES JA","",null,null,null,null,null,null,null,null,null,null,null,null,null,null,null,null,null,null,null,null,null,null,null,null,null,null,null,null,null,null,null,null,null,null,null,{"$error":"#N/A"},{"$error":"#N/A"},{"$error":"#N/A"},{"$error":"#N/A"},{"$error":"#N/A"},{"$error":"#N/A"},{"$error":"#N/A"},{"$error":"#N/A"},{"$error":"#N/A"},{"$error":"#N/A"},{"$error":"#N/A"},null,null,null,28,"B","BB","H","BH"]
[17,"3=",{"$f":"A32","v":17},3,{"$f":"IF(ISNA(VLOOKUP(C32,$T$15:$AE$50,4,FALSE)),\"\",VLOOKUP(C32,$T$15:$AE$50,4,FALSE)&\" - \"&VLOOKUP(C32,$T$15:$AE$50,12,FALSE))","v":""},{"$f":"IF(ISNA(VLOOKUP(C32,$T$15:$AE$50,12,FALSE)),\"\",VLOOKUP(C32,$T$15:$AE$50,12,FALSE))","v":""}," ",null,"BH",null,null,null,null,null,null,null,null,"3ème de poule",null,null,null,null,null,null,null,null,null,null,null,null,null,null,null,null,null,null,null,null,null,null,null,null,null,null,null,null,null,null,null,null,null,null,null,null,null,null,null,null,null,null,null,null,null,null,null,null,null,{"$error":"#N/A"},{"$error":"#N/A"},{"$error":"#N/A"},{"$error":"#N/A"},{"$error":"#N/A"},{"$error":"#N/A"},{"$error":"#N/A"},{"$error":"#N/A"},{"$error":"#N/A"},{"$error":"#N/A"},{"$error":"#N/A"},null,null,null,29,"B","BB","H","BH"]
[18,"17=",18,30,"",""," ",null,null,null,null,null,null,null,null,null,null,"P",1,null,3,{"$f":"IF(ISNA(VLOOKUP(Y33,Liste_SPIDD,2,FALSE)),901,VLOOKUP(Y33,Liste_SPIDD,2,FALSE))","v":301},{"$f":"IF(V33=\"\",\"\",IF(ISNA(VLOOKUP(V33,Liste_Dos_SPIDD,2,FALSE)),VLOOKUP(V33,Liste_J,3,FALSE),VLOOKUP(V33,Liste_Dos_SPIDD,2,FALSE)))","v":"LUCAS Ifig"},21,{"$f":"S33&U33","v":"13"},{"$f":"IF($T33=0,0,VLOOKUP($T33,$CD$4:$CG$68,2,FALSE))","v":0},{"$f":"AA24","v":""},{"$f":"IF($AB24=0,0,IF(AB24=\"HH\",\"HB\",IF(AB24=\"HB\",\"HH\",IF(AB24=\"BH\",\"BB\",IF(AB24=\"BB\",\"BH\")))))","v":0},null,null,{"$f":"IF(V33=\"\",\"\",IF(ISNA(VLOOKUP(V33,Liste_Dos_SPIDD,3,FALSE)),VLOOKUP(V33,Liste_J,$A$10,FALSE),VLOOKUP(V33,Liste_Dos_SPIDD,3,FALSE)))","v":"EQUEURDREVILLE"},{"$f":"IF(ISERROR(VLOOKUP(AE33,$AI$12:$BV$54,18,FALSE)),\"\",IF($AE$9=\"HH\",VLOOKUP(AE33,$AI$12:$BV$54,37,FALSE),IF($AE$9=\"HB\",VLOOKUP(AE33,$AI$12:$BV$54,38,FALSE),IF($AE$9=\"BH\",VLOOKUP(AE33,$AI$12:$BV$54,39,FALSE),IF($AE$9=\"BB\",VLOOKUP(AE33,$AI$12:$BV$54,40,FALSE),\"\")))))","v":""},null,null,null,null,null,null,null,null,null,null,null,null,null,null,null,null,null,null,null,null,null,null,null,null,null,null,null,null,null,null,null,null,null,null,null,{"$error":"#N/A"},{"$f":"IF(OR(VLOOKUP($AI33,$AI$14:$BJ$47,BQ$11,FALSE)>1,AND(VLOOKUP($AI33,$AI$14:$BJ$47,BQ$11,FALSE)=1,(VLOOKUP($AI33,$AI$14:$BJ$47,BQ$11+3,FALSE)+VLOOKUP($AI33,$AI$14:$BJ$47,BQ$11+6,FALSE))>0)),(VLOOKUP($AI33,$AI$14:$BJ$47,BQ$11,FALSE)+VLOOKUP($AI33,$AI$14:$BJ$47,BQ$11+3,FALSE)+VLOOKUP($AI33,$AI$14:$BJ$47,BQ$11+6,FALSE)),\"\")","v":{"$error":"#N/A"}},{"$error":"#N/A"},{"$error":"#N/A"},{"$f":"IF(OR(VLOOKUP($AI33,$AI$14:$BJ$47,BT$11+2,FALSE)>1,AND(VLOOKUP($AI33,$AI$14:$BJ$47,BT$11+2,FALSE)=1,VLOOKUP($AI33,$AI$14:$BJ$47,BT$11,FALSE)+VLOOKUP($AI33,$AI$14:$BJ$47,BT$11+1,FALSE)+VLOOKUP($AI33,$AI$14:$BJ$47,BT$11+2,FALSE)>1)),VLOOKUP($AI33,$AI$14:$BJ$47,BT$11+4,FALSE)-VLOOKUP($AI33,$AI$14:$BJ$47,BT$11+3,FALSE),\"\")","v":{"$error":"#N/A"}},{"$error":"#N/A"},{"$error":"#N/A"},{"$f":"IF(OR(VLOOKUP($AI33,$AI$14:$BJ$47,BW$11+3,FALSE)>1,AND(VLOOKUP($AI33,$AI$14:$BJ$47,BW$11+3,FALSE)=1,VLOOKUP($AI33,$AI$14:$BJ$47,BW$11+4,FALSE)>1)),VLOOKUP($AI33,$AI$14:$BJ$47,BW$11+4,FALSE),\"\")","v":{"$error":"#N/A"}},{"$error":"#N/A"},{"$error":"#N/A"},{"$error":"#N/A"},null,null,null,30,"B","BB","H","BH"]
[19,"17=",19,19,"",""," ",null,null,null,null,null,null,null,null,null,null,"P",2,null,3,302,"VIDAL Charles",22,{"$f":"S34&U34","v":"23"},0,"",0,null,null,"ASSUN TT","",null,null,null,null,null,null,null,null,null,null,null,null,null,null,null,null,null,null,null,null,null,null,null,null,null,null,null,null,null,null,null,null,null,null,null,{"$error":"#N/A"},{"$error":"#N/A"},{"$error":"#N/A"},{"$error":"#N/A"},{"$error":"#N/A"},{"$error":"#N/A"},{"$error":"#N/A"},{"$error":"#N/A"},{"$error":"#N/A"},{"$error":"#N/A"},{"$error":"#N/A"},null,null,null,31,"B","BB","H","BH"]
[20,"9=",20,14,"",""," ",null,null,null,null,null,null,null,null,null,null,"P",3,null,3,303,"ROBION Paul",23,"33",0,"",0,null,null,"SIOUVILLE ATTLC","",null,null,null,null,null,null,null,null,null,null,null,null,null,null,null,null,null,null,null,null,null,null,null,null,null,null,null,null,null,null,null,null,null,null,null,{"$error":"#N/A"},{"$error":"#N/A"},{"$error":"#N/A"},{"$error":"#N/A"},{"$error":"#N/A"},{"$error":"#N/A"},{"$error":"#N/A"},{"$error":"#N/A"},{"$error":"#N/A"},{"$error":"#N/A"},{"$error":"#N/A"},null,null,null,32,"B","BB","H","BH"]
[21,"9=",21,11,"",""," ",null,null,null,null,null,null,null,null,null,null,"P",4,null,3,304,"LEVILLAIN Camille",24,"43",0,"",0,null,null,"ST PAIR BRICQUE",2,null,null,null,null,null,null,null,null,null,null,null,null,null,null,null,null,null,null,null,null,null,null,null,null,null,null,null,null,null,null,null,null,null,null,null,{"$error":"#N/A"},{"$error":"#N/A"},{"$error":"#N/A"},{"$error":"#N/A"},{"$error":"#N/A"},{"$error":"#N/A"},{"$error":"#N/A"},{"$error":"#N/A"},{"$error":"#N/A"},{"$error":"#N/A"},{"$error":"#N/A"}]
[22,"17=",22,22,"",""," ",null,null,null,null,null,null,null,null,null,null,"P",5,null,3,305,"COUEDEL-COULON Eloan",25,"53",0,"",0,null,null,"TT SAINT JAMES","",null,null,null,null,null,null,null,null,null,null,null,null,null,null,null,null,null,null,null,null,null,null,null,null,null,null,null,null,null,null,null,null,null,null,null,{"$error":"#N/A"},{"$error":"#N/A"},{"$error":"#N/A"},{"$error":"#N/A"},{"$error":"#N/A"},{"$error":"#N/A"},{"$error":"#N/A"},{"$error":"#N/A"},{"$error":"#N/A"},{"$error":"#N/A"},{"$error":"#N/A"}]
[23,"17=",23,27,"",""," ",null,null,null,null,null,null,null,null,null,null,"P",6,null,3,306,"LECLERC Alexandre-Bao",26,"63",0,"",0,null,null,"OC AGNEAUX","",null,null,null,null,null,null,null,null,null,null,null,null,null,null,null,null,null,null,null,null,null,null,null,null,null,null,null,null,null,null,null,null,null,null,null,{"$error":"#N/A"},{"$error":"#N/A"},{"$error":"#N/A"},{"$error":"#N/A"},{"$error":"#N/A"},{"$error":"#N/A"},{"$error":"#N/A"},{"$error":"#N/A"},{"$error":"#N/A"},{"$error":"#N/A"},{"$error":"#N/A"}]
[24,"5=",24,6,"",""," ",null,null,null,null,null,null,null,null,null,null,"P",7,null,3,307,"NICOLLE Augustin",27,"73",0,"",0,null,null,"COUTANCES JA","",null,null,null,null,null,null,null,null,null,null,null,null,null,null,null,null,null,null,null,null,null,null,null,null,null,null,null,null,null,null,null,null,null,null,null,{"$error":"#N/A"},{"$error":"#N/A"},{"$error":"#N/A"},{"$error":"#N/A"},{"$error":"#N/A"},{"$error":"#N/A"},{"$error":"#N/A"},{"$error":"#N/A"},{"$error":"#N/A"},{"$error":"#N/A"},{"$error":"#N/A"}]
[25,"5=",25,7,"",""," ",null,"BB",null,null,null,null,null,null,null,null,"P",8,null,3,308,"NICOLLE Emile",28,"83",0,"",0,null,null,"COUTANCES JA","",null,null,null,null,null,null,null,null,null,null,null,null,null,null,null,null,null,null,null,null,null,null,null,null,null,null,null,null,null,null,null,null,null,null,null,{"$error":"#N/A"},{"$error":"#N/A"},{"$error":"#N/A"},{"$error":"#N/A"},{"$error":"#N/A"},{"$error":"#N/A"},{"$error":"#N/A"},{"$error":"#N/A"},{"$error":"#N/A"},{"$error":"#N/A"},{"$error":"#N/A"}]
[26,"17=",26,26,"",""," ",null,null,null,null,null,null,null,null,null,null,"4ème de poule",null,null,null,null,null,null,null,null,null,null,null,null,null,null,null,null,null,null,null,null,null,null,null,null,null,null,null,null,null,null,null,null,null,null,null,null,null,null,null,null,null,null,null,null,null,null,null,null,null,{"$error":"#N/A"},{"$error":"#N/A"},{"$error":"#N/A"},{"$error":"#N/A"},{"$error":"#N/A"},{"$error":"#N/A"},{"$error":"#N/A"},{"$error":"#N/A"},{"$error":"#N/A"},{"$error":"#N/A"},{"$error":"#N/A"}]
[27,"17=",27,23,"",""," ",null,null,null,null,null,null,null,null,null,null,"P",1,null,4,{"$f":"IF(ISNA(VLOOKUP(Y42,Liste_SPIDD,2,FALSE)),901,VLOOKUP(Y42,Liste_SPIDD,2,FALSE))","v":901},{"$f":"IF(V42=\"\",\"\",IF(ISNA(VLOOKUP(V42,Liste_Dos_SPIDD,2,FALSE)),VLOOKUP(V42,Liste_J,3,FALSE),VLOOKUP(V42,Liste_Dos_SPIDD,2,FALSE)))","v":"Exempt"},31,{"$f":"S42&U42","v":"14"},{"$f":"IF($T42=0,0,VLOOKUP($T42,$CD$4:$CG$68,2,FALSE))","v":0},{"$f":"AA15","v":0},{"$f":"IF($AB15=0,0,IF(AB15=\"HH\",\"HB\",IF(AB15=\"HB\",\"HH\",IF(AB15=\"BH\",\"BB\",IF(AB15=\"BB\",\"BH\")))))","v":0},null,null,{"$f":"IF(V42=\"\",\"\",IF(ISNA(VLOOKUP(V42,Liste_Dos_SPIDD,3,FALSE)),VLOOKUP(V42,Liste_J,$A$10,FALSE),VLOOKUP(V42,Liste_Dos_SPIDD,3,FALSE)))","v":" "},{"$f":"IF(ISERROR(VLOOKUP(AE42,$AI$12:$BZ$54,18,FALSE)),\"\",IF($AE$9=\"HH\",VLOOKUP(AE42,$AI$12:$BZ$54,41,FALSE),IF($AE$9=\"HB\",VLOOKUP(AE42,$AI$12:$BZ$54,42,FALSE),IF($AE$9=\"BH\",VLOOKUP(AE42,$AI$12:$BZ$54,43,FALSE),IF($AE$9=\"BB\",VLOOKUP(AE42,$AI$12:$BZ$54,44,FALSE),\"\")))))","v":""},null,null,null,null,null,null,null,null,null,null,null,null,null,null,null,null,null,null,null,null,null,null,null,null,null,null,null,null,null,null,null,null,null,null,null,{"$error":"#N/A"},{"$error":"#N/A"},{"$error":"#N/A"},{"$error":"#N/A"},{"$error":"#N/A"},{"$error":"#N/A"},{"$error":"#N/A"},{"$error":"#N/A"},{"$error":"#N/A"},{"$error":"#N/A"},{"$error":"#N/A"}]
[28,"9=",28,10,"",""," ",null,null,null,null,null,null,null,null,null,null,"P",2,null,4,901,"Exempt",32,{"$f":"S43&U43","v":"24"},0,{"$f":"AA16","v":0},{"$f":"IF($AB16=0,0,IF(AB16=\"HH\",\"HB\",IF(AB16=\"HB\",\"HH\",IF(AB16=\"BH\",\"BB\",IF(AB16=\"BB\",\"BH\")))))","v":0},null,null," ",{"$f":"IF(ISERROR(VLOOKUP(AE43,$AI$12:$BZ$54,18,FALSE)),\"\",IF($AE$9=\"HH\",VLOOKUP(AE43,$AI$12:$BZ$54,41,FALSE),IF($AE$9=\"HB\",VLOOKUP(AE43,$AI$12:$BZ$54,42,FALSE),IF($AE$9=\"BH\",VLOOKUP(AE43,$AI$12:$BZ$54,43,FALSE),IF($AE$9=\"BB\",VLOOKUP(AE43,$AI$12:$BZ$54,44,FALSE),\"\")))))","v":""},null,null,null,null,null,null,null,null,null,null,null,null,null,null,null,null,null,null,null,null,null,null,null,null,null,null,null,null,null,null,null,null,null,null,null,{"$error":"#N/A"},{"$error":"#N/A"},{"$error":"#N/A"},{"$error":"#N/A"},{"$error":"#N/A"},{"$error":"#N/A"},{"$error":"#N/A"},{"$error":"#N/A"},{"$error":"#N/A"},{"$error":"#N/A"},{"$error":"#N/A"}]
[29,"9=",29,15,"",""," ",null,null,null,null,null,null,null,null,null,null,"P",3,null,4,901,"Exempt",33,"34",0,0,0,null,null," ","",null,null,null,null,null,null,null,null,null,null,null,null,null,null,null,null,null,null,null,null,null,null,null,null,null,null,null,null,null,null,null,null,null,null,null,{"$error":"#N/A"},{"$error":"#N/A"},{"$error":"#N/A"},{"$error":"#N/A"},{"$error":"#N/A"},{"$error":"#N/A"},{"$error":"#N/A"},{"$error":"#N/A"},{"$error":"#N/A"},{"$error":"#N/A"},{"$error":"#N/A"}]
[30,"17=",30,18,"",""," ",null,null,null,null,null,null,null,null,null,null,"P",4,null,4,901,"Exempt",34,"44",0,0,0,null,null," ","",null,null,null,null,null,null,null,null,null,null,null,null,null,null,null,null,null,null,null,null,null,null,null,null,null,null,null,null,null,null,null,null,null,null,null,{"$error":"#N/A"},{"$error":"#N/A"},{"$error":"#N/A"},{"$error":"#N/A"},{"$error":"#N/A"},{"$error":"#N/A"},{"$error":"#N/A"},{"$error":"#N/A"},{"$error":"#N/A"},{"$error":"#N/A"},{"$error":"#N/A"}]
[31,"17=",31,31,"",""," ",null,null,null,null,null,null,null,null,null,null,"P",5,null,4,901,"Exempt",35,"54",0,0,0,null,null," ","",null,null,null,null,null,null,null,null,null,null,null,null,null,null,null,null,null,null,null,null,null,null,null,null,null,null,null,null,null,null,null,null,null,null,null,{"$error":"#N/A"},{"$error":"#N/A"},{"$error":"#N/A"},{"$error":"#N/A"},{"$error":"#N/A"},{"$error":"#N/A"},{"$error":"#N/A"},{"$error":"#N/A"},{"$error":"#N/A"},{"$error":"#N/A"},{"$error":"#N/A"}]
[32,2,32,2,"",""," ",null,null,null,null,null,null,null,null,null,null,"P",6,null,4,901,"Exempt",36,"64",0,0,0,null,null," ","",{"$f":"+T47","v":0},{"$f":"COUNTIF(AG:AG,T47)","v":1},null,null,null,null,null,null,null,null,null,null,null,null,null,null,null,null,null,null,null,null,null,null,null,null,null,null,null,null,null,null,null,null,null,{"$error":"#N/A"},{"$error":"#N/A"},{"$error":"#N/A"},{"$error":"#N/A"},{"$error":"#N/A"},{"$error":"#N/A"},{"$error":"#N/A"},{"$error":"#N/A"},{"$error":"#N/A"},{"$error":"#N/A"},{"$error":"#N/A"}]
[null,null,null,null,null,null,null,null,null,null,null,null,null,null,null,null,null,"P",7,null,4,901,"Exempt",37,"74",0,0,0,null,null," ","",null,null,null,null,null,null,null,null,null,null,null,null,null,null,null,null,null,null,null,null,null,null,null,null,null,null,null,null,null,null,null,null,null,null,null,null,{"$error":"#N/A"},{"$error":"#N/A"},{"$error":"#N/A"},{"$error":"#N/A"},{"$error":"#N/A"},{"$error":"#N/A"},{"$error":"#N/A"},{"$error":"#N/A"},{"$error":"#N/A"},{"$error":"#N/A"}]
[null,null,null,null,null,null,null,null,null,null,null,null,null,null,null,null,null,"P",8,null,4,901,"Exempt",38,"84",0,0,0,null,null," ","",null,null,null,null,null,null,null,null,null,null,null,null,null,null,null,null,null,null,null,null,null,null,null,null,null,null,null,null,null,null,null,null,null,null,null,{"$error":"#N/A"},{"$error":"#N/A"},{"$error":"#N/A"},{"$error":"#N/A"},{"$error":"#N/A"},{"$error":"#N/A"},{"$error":"#N/A"},{"$error":"#N/A"},{"$error":"#N/A"},{"$error":"#N/A"},{"$error":"#N/A"}]
[null,null,null,null,null,null,null,null,null,null,null,null,null,null,null,null,null,null,null,null,null,null,null,null,null,null,null,null,null,null,null,null,null,null,null,null,null,null,null,null,null,null,null,null,null,null,null,null,null,null,null,null,null,null,null,null,null,null,null,null,null,null,null,null,null,null,null,{"$error":"#N/A"},{"$error":"#N/A"},{"$error":"#N/A"},{"$error":"#N/A"},{"$error":"#N/A"},{"$error":"#N/A"},{"$error":"#N/A"},{"$error":"#N/A"},{"$error":"#N/A"},{"$error":"#N/A"},{"$error":"#N/A"}]
[null,null,null,null,null,null,null,null,null,null,null,null,null,null,null,null,null,null,null,null,null,null,null,null,null,null,null,null,null,null,null,null,null,null,null,null,null,null,null,null,null,null,null,null,null,null,null,null,null,null,null,null,null,null,null,null,null,null,null,null,null,null,null,null,null,null,null,{"$error":"#N/A"},{"$error":"#N/A"},{"$error":"#N/A"},{"$error":"#N/A"},{"$error":"#N/A"},{"$error":"#N/A"},{"$error":"#N/A"},{"$error":"#N/A"},{"$error":"#N/A"},{"$error":"#N/A"},{"$error":"#N/A"}]
[null,null,null,null,null,null,null,null,null,null,null,null,null,null,null,null,null,null,null,null,null,null,null,null,null,null,null,null,null,null,null,null,null,null,null,null,null,null,null,null,null,null,null,null,null,null,null,null,null,null,null,null,null,null,null,null,null,null,null,null,null,null,null,null,null,null,null,{"$error":"#N/A"},{"$error":"#N/A"},{"$error":"#N/A"},{"$error":"#N/A"},{"$error":"#N/A"},{"$error":"#N/A"},{"$error":"#N/A"},{"$error":"#N/A"},{"$error":"#N/A"},{"$error":"#N/A"},{"$error":"#N/A"}]
[null,null,null,null,null,null,null,null,null,null,null,null,null,null,null,null,null,null,null,null,null,null,null,null,null,null,null,null,null,null,null,null,null,null,null,null,null,null,null,null,null,null,null,null,null,null,null,null,null,null,null,null,null,null,null,null,null,null,null,null,null,null,null,null,null,null,null,{"$error":"#N/A"},{"$error":"#N/A"},{"$error":"#N/A"},{"$error":"#N/A"},{"$error":"#N/A"},{"$error":"#N/A"},{"$error":"#N/A"},{"$error":"#N/A"},{"$error":"#N/A"},{"$error":"#N/A"},{"$error":"#N/A"}]
[null,null,null,null,null,null,null,null,null,null,null,null,null,null,null,null,null,null,null,null,null,null,null,null,null,null,null,null,null,null,null,null,null,null,null,null,null,null,null,null,null,null,null,null,null,null,null,null,null,null,null,null,null,null,null,null,null,null,null,null,null,null,null,null,null,null,null,{"$error":"#N/A"},{"$error":"#N/A"},{"$error":"#N/A"},{"$error":"#N/A"},{"$error":"#N/A"},{"$error":"#N/A"},{"$error":"#N/A"},{"$error":"#N/A"},{"$error":"#N/A"},{"$error":"#N/A"},{"$error":"#N/A"}]
[]
[]
[]
[]
[]
[]
[]
[]
[]
[]
[]
[]
[]
[]
[]
[]
[]
[]
[]
[]
[]
[]
[]
[]
[]
[]
[]
[]
[]
[]
[]
[]
[]
[]
[]
[]
[]
[]
[]
[]
[]
[]
[]
[]
[]
[]
[]
[]
[]
[]
[]
[]
[]
[]
[]
[]
[]
[]
[]
[]
[]
[]
[]
[]
[]
[]
[]
[]
[]
[]
[]
[]
[]
[null,null,null,null,null,null,null,null,null,null,null,null,null,null,null,null,null,null,null,null,null,null,null,null,{"$f":"IF(AE128=AE127,Y127+1,1)","v":1},{"$f":"COUNTIF($AE$132:$AE$200,AE128)","v":0},null,null,null,null,null,{"$f":"Y128&\"/\"&Z128","v":"1/0"}]
[]
[]
[null,null,null,null,null,null,null,null,null,null,null,null,null,null,null,null,null,null,null,null,null,"Dos","NOM Prénom","Rang","RC","NC","1/2 T","b","c","d","Club","N° Club"]
[null,null,null,null,null,null,null,null,null,null,null,null,null,null,null,null,null,null,null,null,null,50,"VIDAL Charles",2,{"$f":"IF(AE132=AE131,Y131+1,1)","v":1},{"$f":"COUNTIF($AE$132:$AE$200,AE132)","v":1},null,null,null,null,"ASSUN TT","1/1"]
[null,null,null,null,null,null,null,null,null,null,null,null,null,null,null,null,null,null,null,null,null,46,"NICOLLE Augustin",7,1,2,null,null,null,null,"COUTANCES JA","1/2"]
[null,null,null,null,null,null,null,null,null,null,null,null,null,null,null,null,null,null,null,null,null,48,"NICOLLE Emile",8,2,2,null,null,null,null,"COUTANCES JA","2/2"]
[null,null,null,null,null,null,null,null,null,null,null,null,null,null,null,null,null,null,null,null,null,44,"LUCAS Ifig",1,1,1,null,null,null,null,"EQUEURDREVILLE","1/1"]
[null,null,null,null,null,null,null,null,null,null,null,null,null,null,null,null,null,null,null,null,null,45,"LECLERC Alexandre-Bao",6,1,1,null,null,null,null,"OC AGNEAUX","1/1"]
[null,null,null,null,null,null,null,null,null,null,null,null,null,null,null,null,null,null,null,null,null,49,"ROBION Paul",3,1,1,null,null,null,null,"SIOUVILLE ATTLC","1/1"]
[null,null,null,null,null,null,null,null,null,null,null,null,null,null,null,null,null,null,null,null,null,47,"LEVILLAIN Camille",4,1,1,null,null,null,null,"ST PAIR BRICQUE","1/1"]
[null,null,null,null,null,null,null,null,null,null,null,null,null,null,null,null,null,null,null,null,null,52,"COUEDEL-COULON Eloan",5,1,1,null,null,null,null,"TT SAINT JAMES","1/1"]
[null,null,null,null,null,null,null,null,null,null,null,null,null,null,null,null,null,null,null,null,null,190,"BEUCHER Freddy",5,1,1,null,null,null,null,"VILLENEUVE","1/1"]
[null,null,null,null,null,null,null,null,null,null,null,null,null,null,null,null,null,null,null,null,null,null,null,null,1,0,null,null,null,null,null,"1/0"]

{"sheet":"G-232e","index":21,"n_rows":5,"n_cols":9,"rows_kept":5,"cut":false,"hidden":false,"merged":[]}
["Clt",1,2,3,4,5,6,7,8]
["1er",{"$f":"'TS-232e'!T15","v":0},{"$f":"'TS-232e'!T16","v":0},{"$f":"'TS-232e'!T17","v":0},{"$f":"'TS-232e'!T18","v":0},{"$f":"'TS-232e'!T19","v":0},{"$f":"'TS-232e'!T20","v":0},{"$f":"'TS-232e'!T21","v":0},{"$f":"'TS-232e'!T22","v":0}]
["2ème",{"$f":"'TS-232e'!T24","v":0},{"$f":"'TS-232e'!T25","v":0},{"$f":"'TS-232e'!T26","v":0},{"$f":"'TS-232e'!T27","v":0},{"$f":"'TS-232e'!T28","v":0},{"$f":"'TS-232e'!T29","v":0},{"$f":"'TS-232e'!T30","v":0},{"$f":"'TS-232e'!T31","v":0}]
["3ème",{"$f":"'TS-232e'!T33","v":0},{"$f":"'TS-232e'!T34","v":0},{"$f":"'TS-232e'!T35","v":0},{"$f":"'TS-232e'!T36","v":0},{"$f":"'TS-232e'!T37","v":0},{"$f":"'TS-232e'!T38","v":0},{"$f":"'TS-232e'!T39","v":0},{"$f":"'TS-232e'!T40","v":0}]
["4ème",{"$f":"'TS-232e'!T42","v":0},{"$f":"'TS-232e'!T43","v":0},{"$f":"'TS-232e'!T44","v":0},{"$f":"'TS-232e'!T45","v":0},{"$f":"'TS-232e'!T46","v":0},{"$f":"'TS-232e'!T47","v":0},{"$f":"'TS-232e'!T48","v":0},{"$f":"'TS-232e'!T49","v":0}]

{"sheet":"TS-232f","index":22,"n_rows":141,"n_cols":98,"rows_kept":141,"cut":false,"hidden":false,"merged":[[14,86,14,87],[7,11,7,21],[7,30,7,41],[8,30,8,41],[12,29,12,43],[12,46,12,81],[14,82,14,85],[13,79,13,81],[14,79,15,79],[14,80,14,81],[3,0,5,43],[22,20,29,21],[31,20,38,21],[39,20,46,21],[13,24,13,27],[14,20,21,21]]}
[{"$f":"\"Epreuve  : \"&'TS-200'!$C$1","v":"Epreuve  : Critérium Fédéral"},null,null,null,null,null,null,null,null,null,null,null,null,null,null,null,null,null,null,null,null,null,null,null,null,null,null,null,null,null,null,null,null,null,null,null,null,null,null,null,null,null,null,{"$f":"\"Lieu : \"&'TS-200'!$C$2","v":"Lieu : Pont à Mousson"}]
[{"$f":"\"Tableau : \"&'TS-200'!$C$4","v":"Tableau :  "},null,null,null,null,null,null,null,null,null,null,null,null,null,null,null,null,null,null,null,null,null,null,null,null,null,null,null,null,null,null,null,null,null,null,null,null,null,null,null,null,null,null,{"$f":"\"Date : \"&'TS-200'!$C$3","v":"Date : 15 au 17 mars 2019"}]
[]
["TABLEAU DE TIRAGE AU SORT\n32 JOUEURS KO\n8 poules - 4 qualifiés",null,null,null,null,null,null,null,null,null,null,null,null,null,null,null,null,null,null,null,null,null,null,null,null,null,null,null,null,null,null,null,null,null,null,null,null,null,null,null,null,null,null,null,null,null,null,null,null,null,null,null,null,null,null,null,null,null,null,null,null,null,null,null,null,null,null,null,null,null,null,null,null,null,null,null,null,null,null,null,null,null,null,null,null,null,null,null,null,null,null,null,null,1,"H","HH","B","HB"]
[null,null,null,null,null,null,null,null,null,null,null,null,null,null,null,null,null,null,null,null,null,null,null,null,null,null,null,null,null,null,null,null,null,null,null,null,null,null,null,null,null,null,null,null,null,null,null,null,null,null,null,null,null,null,null,null,null,null,null,null,null,null,null,null,null,null,null,null,null,null,null,null,null,null,null,null,null,null,null,null,null,null,null,null,null,null,null,null,null,null,null,null,null,2,"H","HH","B","HB"]
[null,null,null,null,null,null,null,null,null,null,null,null,null,null,null,null,null,null,null,null,null,null,null,null,null,null,null,null,null,null,null,null,null,null,null,null,null,null,null,null,null,null,null,null,null,null,null,null,null,null,null,null,null,null,null,null,null,null,null,null,null,null,null,null,null,null,null,null,null,null,null,null,null,null,null,null,null,null,null,null,null,null,null,null,null,null,null,null,null,null,null,null,null,3,"H","HH","B","HB"]
[null,null,null,null,null,null,null,null,null,null,null,null,null,null,null,null,null,null,null,null,null,null,null,null,null,null,null,null,null,null,null,null,null,null,null,null,null,null,null,null,null,null,null,null,null,null,null,null,null,null,null,null,null,null,null,null,null,null,null,null,null,null,null,null,null,null,null,null,null,null,null,null,null,null,null,null,null,null,null,null,null,null,null,null,null,null,null,null,null,null,null,null,null,4,"H","HH","B","HB"]
[null,null,null,null,null,null,"Critère d'appartenance pour la mise en tableau",null,null,null,null,"Club",null,null,null,null,null,null,null,null,null,null,null,null,null,null,null,null,null,null,"Club, Comité ou Ligue (tiré au sort)",null,null,null,null,null,null,null,null,null,null,null,"COUTANCES JA",null,null,null,null,null,null,null,null,null,null,null,null,null,null,null,null,null,null,null,null,null,null,null,null,null,null,null,null,null,null,null,null,null,null,null,null,null,null,null,null,null,null,null,null,null,null,null,null,null,null,5,"H","HH","B","HB"]
[null,null,null,null,null,null,null,null,null,null,"Club",null,null,null,null,null,null,null,null,null,null,null,null,null,null,null,null,null,null,null,"Partie du tableau tirée au sort (H=Haut, B=Bas)",null,null,null,null,null,null,null,null,null,null,null,"B",null,"H ou B",null,null,null,null,null,null,null,null,null,null,null,null,null,null,null,null,null,null,null,null,null,null,null,null,null,null,null,null,null,null,null,null,null,null,null,null,null,null,null,null,null,null,null,null,null,null,null,null,6,"H","HH","B","HB"]
[{"$f":"IF(L8=\"Club\",10,IF(L8=\"Ligue\",11,IF(L8=\"Comité\",12,10)))","v":10},null,null,null,null,null,{"$f":"IF(L8=\"Club\",10,IF(L8=\"Ligue\",11,IF(L8=\"Comité\",12,10)))","v":10},null,null,null,"Ligue",null,null,null,null,null,null,null,null,null,null,null,null,null,null,null,null,null,null,null,null,null,null,null,null,null,null,null,null,null,null,null,null,null,"H",null,"Position"," ",null,null,null,null,null,null,null,null,null,null,null,null,null,null,null,null,null,null,null,null,null,null,null,null,null,null,null,null,null,null,null,0,"H","B","HH","HB","BH","BB","H","B",null,null,null,null,null,7,"H","HH","B","HB"]
[null,null,null,null,null,null,null,null,null,null,"Comité",null,null,null,null,null,null,null,null,null,null,null,null,null,null,null,null,null,null,null,null,null,null,null,null,null,null,null,null,null,null,null,null,null,"B",null,"N° colonne TCD","H",null,null,null,null,null,null,null,null,null,null,null,null,null,null,null,null,null,null,null,null,null,null,null,null,null,null,null,null,null,null,null,{"$f":"MATCH(CB10,$AU$16:$CA$16,0)","v":{"$error":"#N/A"}},{"$f":"MATCH(CC10,$AU$15:$CA$15,0)","v":2},{"$f":"MATCH(CD10,$AU$15:$CA$15,0)","v":13},{"$f":"MATCH(CE10,$AU$16:$CA$16,0)","v":2},{"$f":"MATCH(CF10,$AU$16:$CA$16,0)","v":7},{"$f":"MATCH(CG10,$AU$16:$CA$16,0)","v":18},{"$f":"MATCH(CH10,$AU$16:$CA$16,0)","v":13},{"$f":"MATCH(CI10,$AU$15:$CA$15,0)","v":2},{"$f":"MATCH(CJ10,$AU$15:$CA$15,0)","v":13},null,null,null,null,null,8,"H","HH","B","HB"]
[null,null,null,null,null,null,null,null,null,null,null,null,null,null,null,null,null,null,null,null,null,null,null,null,null,null,null,null,null,null,null,null,null,null,null,null,null,null,null,null,null,null,null,null,"HH",null,null,2,3,4,5,6,7,8,9,10,11,12,13,14,15,16,17,18,19,20,21,22,23,24,25,26,27,28,29,30,31,32,33,34,35,36,37,38,39,40,41,42,null,null,null,null,null,9,"H","HB","B","HH"]
[null,null,null,null,null,null,null,null,null,null,null,null,null,null,null,null,null,null,null,null,null,null,null,null,null,null,null,null,null,"1er de poule",null,null,null,null,null,null,null,null,null,null,null,null,null,null,"HB",null,"NB JOUEUR / CLUB",null,null,null,null,null,null,null,null,null,null,null,null,null,null,null,null,null,null,null,null,null,null,null,null,null,null,null,null,null,null,null,null,null,null,null,null,null,null,null,null,null,null,null,null,null,null,10,"H","HB","B","HH"]
[null,null,null,null,null,null,null,null,null,null,null,null,null,null,null,null,null,null,null,null,null,null,null,null,"N° Dispo",null,null,null,"SPIDD","Pl","x","TAS","N°","Dos","NOM Prénom","Rang","SPIDD","a","1/2 T","1/4 T","c","d","Club, Comité ou Ligue","N° Club","BH",null,"NB Club, Comité ou Ligue","1/2 T","1/4 T","N°",null,null,null,null,null,null,null,null,null,null,null,null,null,null,null,null,null,null,null,null,null,null,null,null,null,null,null,null,null,"TAS >1",null,null,null,null,null,null,null,null,null,null,null,null,null,11,"H","HB","B","HH"]
[{"$f":"IF(ISNA(VLOOKUP(C15,$AF$15:$AQ$50,4,FALSE)),\"\",VLOOKUP(C15,$AF$15:$AQ$50,4,FALSE)&\" - \"&VLOOKUP(C15,$AF$15:$AQ$50,12,FALSE))","v":""},32,{"$f":"E15","v":2},"17=",2,{"$f":"IF(ISNA(VLOOKUP(C15,$AF$15:$AQ$46,12,FALSE)),\"\",VLOOKUP(C15,$AF$15:$AQ$46,12,FALSE))","v":""},null,null,null,null,null,{"$f":"IF(ISNA(VLOOKUP(O15,$AF$15:$AQ$46,12,FALSE)),\"\",VLOOKUP(O15,$AF$15:$AQ$46,12,FALSE))","v":""},1,1,{"$f":"M15","v":1},1,{"$f":"IF(ISNA(VLOOKUP(O15,$AF$15:$AQ$50,4,FALSE)),\"\",VLOOKUP(O15,$AF$15:$AQ$50,4,FALSE)&\" - \"&VLOOKUP(O15,$AF$15:$AQ$50,12,FALSE))","v":""},null,null,null,"HH",null,null,null,1,null,2,null,{"$f":"IF(AF15=\"\",\"\",VLOOKUP(AF15,_TAS32,3,FALSE))","v":""},"P",1,null,1,{"$f":"IF(ISNA(VLOOKUP(AK15,Liste_SPIDD,2,FALSE)),901,VLOOKUP(AK15,Liste_SPIDD,2,FALSE))","v":44},{"$f":"IF(AH15=\"\",\"\",IF(ISNA(VLOOKUP(AH15,Liste_Dos_SPIDD,2,FALSE)),VLOOKUP(AH15,Liste_J,3,FALSE),VLOOKUP(AH15,Liste_Dos_SPIDD,2,FALSE)))","v":"LUCAS Ifig"},1,{"$f":"AE15&AG15","v":"11"},{"$f":"IF($AF15=0,0,VLOOKUP($AF15,$CP$4:$CS$68,2,FALSE))","v":0},0,{"$f":"IF($AF15=0,0,VLOOKUP($AF15,$CP$4:$CS$68,3,FALSE))","v":0},null,null,{"$f":"IF(AH15=\"\",\"\",IF(ISNA(VLOOKUP(AH15,Liste_Dos_SPIDD,3,FALSE)),VLOOKUP(AH15,Liste_J,$A$10,FALSE),VLOOKUP(AH15,Liste_Dos_SPIDD,3,FALSE)))","v":"EQUEURDREVILLE"},{"$f":"IF(ISERROR(VLOOKUP(AH15,$AH$131:$AR$147,1,FALSE)),\"\",IF(VLOOKUP(AH15,$AH$131:$AR$147,11,FALSE)=\"1/1\",\"\",VLOOKUP(AH15,$AH$131:$AR$147,11,FALSE)))","v":""},"BB",null,null,"H",null,null,null,null,null,null,null,null,null,"Total H","B",null,null,null,null,null,null,null,null,null,"Total B","Total général",null,null,null,null,null,null,null,null,null,"1er","2ème",null,"3ème",null,null,null,"4ème",null,null,null,null,null,null,12,"H","HB","B","HH"]
[null,null,null,null,null,{"$f":"IF(ISNA(VLOOKUP(I16,$AF$15:$AQ$46,12,FALSE)),\"\",VLOOKUP(I16,$AF$15:$AQ$46,12,FALSE))","v":""},3,"17=",{"$f":"G16","v":3},17,{"$f":"IF(ISNA(VLOOKUP(I16,$AF$15:$AQ$50,4,FALSE)),\"\",VLOOKUP(I16,$AF$15:$AQ$50,4,FALSE)&\" - \"&VLOOKUP(I16,$AF$15:$AQ$50,12,FALSE))","v":""},{"$f":"IF(ISNA(VLOOKUP(I16,$AF$15:$AQ$46,12,FALSE)),\"\",VLOOKUP(I16,$AF$15:$AQ$46,12,FALSE))","v":""},null,null,null,null,null,null,null,null,null,null,null,null,32,null,31,null,"","P",2,null,1,50,"VIDAL Charles",2,{"$f":"AE16&AG16","v":"21"},0,0,0,null,null,"ASSUN TT","",null,null,null,"HH",null,null,null,"Total HH","HB",null,null,null,"Total HB",null,"BB",null,null,null,"Total BB","BH",null,null,null,"Total BH",null,null,null,null,null,null,null,null,null,null,null,null,"H","B","HH","HB","BH","BB",{"$f":"+CI10","v":"H"},{"$f":"+CJ10","v":"B"},null,null,null,null,null,13,"H","HB","B","HH"]
[null,null,null,null,null,{"$f":"IF(ISNA(VLOOKUP(I17,$AF$15:$AQ$46,12,FALSE)),\"\",VLOOKUP(I17,$AF$15:$AQ$46,12,FALSE))","v":""},4,"9=",{"$f":"G17","v":4},16,{"$f":"IF(ISNA(VLOOKUP(I17,$AF$15:$AQ$50,4,FALSE)),\"\",VLOOKUP(I17,$AF$15:$AQ$50,4,FALSE)&\" - \"&VLOOKUP(I17,$AF$15:$AQ$50,12,FALSE))","v":""},{"$f":"IF(ISNA(VLOOKUP(I17,$AF$15:$AQ$46,12,FALSE)),\"\",VLOOKUP(I17,$AF$15:$AQ$46,12,FALSE))","v":""},null,null,null,null,null,null,null,null,null,null,null,null,17,null,18,null,"","P",3,null,1,49,"ROBION Paul",3,"31",0,0,0,null,null,"SIOUVILLE ATTLC","",null,null,"Club, Comité ou Ligue",1,2,3,4,null,1,2,3,4,null,null,1,2,3,4,null,1,2,3,4,null,null,null,null,null,null,null,null,null,null,null,null,{"$f":"IF(VLOOKUP($AU17,$AU$14:$BV$47,CB$11,FALSE)>1,VLOOKUP($AU17,$AU$14:$BV$47,CB$11,FALSE),\"\")","v":{"$error":"#REF!"}},{"$f":"IF(OR(VLOOKUP($AU17,$AU$14:$BV$47,CC$11,FALSE)>1,AND(VLOOKUP($AU17,$AU$14:$BV$47,CC$11,FALSE)=1,(VLOOKUP($AU17,$AU$14:$BV$47,CC$11+3,FALSE)+VLOOKUP($AU17,$AU$14:$BV$47,CC$11+6,FALSE))>0)),(VLOOKUP($AU17,$AU$14:$BV$47,CC$11,FALSE)+VLOOKUP($AU17,$AU$14:$BV$47,CC$11+3,FALSE)+VLOOKUP($AU17,$AU$14:$BV$47,CC$11+6,FALSE)),\"\")","v":7},7,{"$f":"IF(OR(VLOOKUP($AU17,$AU$14:$BV$47,CE$11+2,FALSE)>1,AND(VLOOKUP($AU17,$AU$14:$BV$47,CE$11+2,FALSE)=1,(VLOOKUP($AU17,$AU$14:$BV$47,CE$11,FALSE)+VLOOKUP($AU17,$AU$14:$BV$47,CE$11+1,FALSE)+VLOOKUP($AU17,$AU$14:$BV$47,CE$11+2,FALSE))>1)),VLOOKUP($AU17,$AU$14:$BV$47,CE$11+4,FALSE)-VLOOKUP($AU17,$AU$14:$BV$47,CE$11+3,FALSE),\"\")","v":-4},{"$f":"IF(OR(VLOOKUP($AU17,$AU$14:$BV$47,CF$11+2,FALSE)>1,AND(VLOOKUP($AU17,$AU$14:$BV$47,CF$11+2,FALSE)=1,VLOOKUP($AU17,$AU$14:$BV$47,CF$11,FALSE)+VLOOKUP($AU17,$AU$14:$BV$47,CF$11+1,FALSE)+VLOOKUP($AU17,$AU$14:$BV$47,CF$11+2,FALSE)>1)),VLOOKUP($AU17,$AU$14:$BV$47,CF$11+4,FALSE)-VLOOKUP($AU17,$AU$14:$BV$47,CF$11+3,FALSE),\"\")","v":-4},-4,-4,{"$f":"IF(OR(VLOOKUP($AU17,$AU$14:$BV$47,CI$11+3,FALSE)>0.5,VLOOKUP($AU17,$AU$14:$BV$47,CI$11+8,FALSE)>0.5),VLOOKUP($AU17,$AU$14:$BV$47,CI$11+10,FALSE)-VLOOKUP($AU17,$AU$14:$BV$47,CI$11,FALSE)-VLOOKUP($AU17,$AU$14:$BV$47,CI$11+5,FALSE),\"\")","v":-2},-2,null,null,null,null,null,14,"H","HB","B","HH"]
[null,null,null,null,null,null,null,null,null,null,null,null,null,null,null,null,null,null,null,null,null,null,null,null,16,null,15,null,"","P",4,null,1,47,"LEVILLAIN Camille",4,"41",0,0,0,null,null,"ST PAIR BRICQUE","",null,null,"ASSUN TT",null,null,null,null,null,null,null,1,null,1,1,1,null,null,null,1,null,null,null,null,null,1,2,null,null,null,null,null,null,null,null,null,{"$error":"#REF!"},"","","","","","","","",null,null,null,null,null,15,"H","HB","B","HH"]
[null,null,null,null,null,{"$f":"IF(ISNA(VLOOKUP(I19,$AF$15:$AQ$46,12,FALSE)),\"\",VLOOKUP(I19,$AF$15:$AQ$46,12,FALSE))","v":""},5,"9=",{"$f":"G19","v":5},9,{"$f":"IF(ISNA(VLOOKUP(I19,$AF$15:$AQ$50,4,FALSE)),\"\",VLOOKUP(I19,$AF$15:$AQ$50,4,FALSE)&\" - \"&VLOOKUP(I19,$AF$15:$AQ$50,12,FALSE))","v":""},{"$f":"IF(ISNA(VLOOKUP(I19,$AF$15:$AQ$46,12,FALSE)),\"\",VLOOKUP(I19,$AF$15:$AQ$46,12,FALSE))","v":""},null,null,null,null,null,null,null,null,null,null,null,null,9,null,10,null,"","P",5,null,1,52,"COUEDEL-COULON Eloan",5,"51",0,0,0,null,null,"TT SAINT JAMES","",null,null,"ATTDUCEYAVRANCH",null,null,null,1,1,null,1,null,null,1,2,null,null,null,1,1,null,1,null,null,1,2,4,null,null,null,null,null,null,null,null,null,{"$error":"#REF!"},"","","","","","",2,2,null,null,null,null,null,16,"H","HB","B","HH"]
[null,null,null,null,null,{"$f":"IF(ISNA(VLOOKUP(I20,$AF$15:$AQ$46,12,FALSE)),\"\",VLOOKUP(I20,$AF$15:$AQ$46,12,FALSE))","v":""},6,"17=",{"$f":"G20","v":6},24,{"$f":"IF(ISNA(VLOOKUP(I20,$AF$15:$AQ$50,4,FALSE)),\"\",VLOOKUP(I20,$AF$15:$AQ$50,4,FALSE)&\" - \"&VLOOKUP(I20,$AF$15:$AQ$50,12,FALSE))","v":""},{"$f":"IF(ISNA(VLOOKUP(I20,$AF$15:$AQ$46,12,FALSE)),\"\",VLOOKUP(I20,$AF$15:$AQ$46,12,FALSE))","v":""},null,null,null,null,null,null,null,null,null,null,null,null,24,null,23,null,"","P",6,null,1,45,"LECLERC Alexandre-Bao",6,"61",0,0,0,null,null,"OC AGNEAUX","",null,null,"CARANTILLAISE",null,null,null,1,1,null,null,null,null,null,1,null,null,null,null,null,null,1,null,null,1,1,2,null,null,null,null,null,null,null,null,null,{"$error":"#REF!"},"","","","","","",1,"",null,null,null,null,null,17,"B","BH","H","BB"]
[{"$f":"IF(ISNA(VLOOKUP(C21,$AF$15:$AQ$50,4,FALSE)),\"\",VLOOKUP(C21,$AF$15:$AQ$50,4,FALSE)&\" - \"&VLOOKUP(C21,$AF$15:$AQ$50,12,FALSE))","v":""},25,{"$f":"E21","v":7},"17=",7,{"$f":"IF(ISNA(VLOOKUP(C21,$AF$15:$AQ$46,12,FALSE)),\"\",VLOOKUP(C21,$AF$15:$AQ$46,12,FALSE))","v":""},null,null,null,null,null,{"$f":"IF(ISNA(VLOOKUP(O21,$AF$15:$AQ$46,12,FALSE)),\"\",VLOOKUP(O21,$AF$15:$AQ$46,12,FALSE))","v":""},8,"5=",{"$f":"M21","v":8},8,{"$f":"IF(ISNA(VLOOKUP(O21,$AF$15:$AQ$50,4,FALSE)),\"\",VLOOKUP(O21,$AF$15:$AQ$50,4,FALSE)&\" - \"&VLOOKUP(O21,$AF$15:$AQ$50,12,FALSE))","v":""},null,null,null,null,null,null,null,25,null,26,null,"","P",7,null,1,46,"NICOLLE Augustin",7,"71",0,0,0,null,null,"COUTANCES JA","1/2",null,null,"COUTANCES JA",1,null,null,null,1,null,null,1,null,1,2,1,null,null,null,1,null,null,1,null,1,2,4,null,null,null,null,null,null,null,null,null,{"$error":"#REF!"},"","","","","","","","",null,null,null,null,null,18,"B","BH","H","BB"]
["--------------------------------------------------------------------------------------------------------------------------------------------------------------------------------------------------------------------",null,null,null,null,null,null,null,null,null,null,null,null,null,null,null,null,null,null," ",null,null,null,null,8,null,7,null,"","P",8,null,1,48,"NICOLLE Emile",8,"81",0,0,0,null,null,"COUTANCES JA","2/2",null,null,"EQUEURDREVILLE",1,null,null,null,1,null,null,null,null,null,1,null,null,null,null,null,null,null,1,null,1,1,2,null,null,null,null,null,null,null,null,null,{"$error":"#REF!"},"","","","","","","","",null,null,null,null,null,19,"B","BH","H","BB"]
[{"$f":"IF(ISNA(VLOOKUP(C23,$AF$15:$AQ$50,4,FALSE)),\"\",VLOOKUP(C23,$AF$15:$AQ$50,4,FALSE)&\" - \"&VLOOKUP(C23,$AF$15:$AQ$50,12,FALSE))","v":""},28,{"$f":"E23","v":10},"17=",10,{"$f":"IF(ISNA(VLOOKUP(C23,$AF$15:$AQ$50,12,FALSE)),\"\",VLOOKUP(C23,$AF$15:$AQ$50,12,FALSE))","v":""},null,null,null,null,null,{"$f":"IF(ISNA(VLOOKUP(O23,$AF$15:$AQ$50,12,FALSE)),\"\",VLOOKUP(O23,$AF$15:$AQ$50,12,FALSE))","v":""},9,"5=",{"$f":"M23","v":9},5,{"$f":"IF(ISNA(VLOOKUP(O23,$AF$15:$AQ$50,4,FALSE)),\"\",VLOOKUP(O23,$AF$15:$AQ$50,4,FALSE)&\" - \"&VLOOKUP(O23,$AF$15:$AQ$50,12,FALSE))","v":""},null,null,null,"HB",null,null,null,5,null,6,null,"SPIDD","2ème de poule",null,null,null,null,null,null,null,null,null,null,null,null,null,null,null,null,"OC AGNEAUX",null,null,1,null,1,null,null,null,null,null,1,null,null,null,null,null,1,null,null,null,1,1,2,null,null,null,null,null,null,null,null,null,{"$error":"#REF!"},"","","","","","","","",null,null,null,null,null,20,"B","BH","H","BB"]
[null,null,null,null,null,{"$f":"IF(ISNA(VLOOKUP(I24,$AF$15:$AQ$46,12,FALSE)),\"\",VLOOKUP(I24,$AF$15:$AQ$46,12,FALSE))","v":""},11,"17=",{"$f":"G24","v":11},21,{"$f":"IF(ISNA(VLOOKUP(I24,$AF$15:$AQ$50,4,FALSE)),\"\",VLOOKUP(I24,$AF$15:$AQ$50,4,FALSE)&\" - \"&VLOOKUP(I24,$AF$15:$AQ$50,12,FALSE))","v":""},{"$f":"IF(ISNA(VLOOKUP(I24,$AF$15:$AQ$50,12,FALSE)),\"\",VLOOKUP(I24,$AF$15:$AQ$50,12,FALSE))","v":""},null,null,null,null,null,null,null,null,null,null,null,null,28,null,27,null,{"$f":"IF(AF24=\"\",\"\",VLOOKUP(AF24,_TAS32,3,FALSE))","v":""},"P",1,null,2,{"$f":"IF(ISNA(VLOOKUP(AK24,Liste_SPIDD,2,FALSE)),901,VLOOKUP(AK24,Liste_SPIDD,2,FALSE))","v":201},{"$f":"IF(AH24=\"\",\"\",IF(ISNA(VLOOKUP(AH24,Liste_Dos_SPIDD,2,FALSE)),VLOOKUP(AH24,Liste_J,3,FALSE),VLOOKUP(AH24,Liste_Dos_SPIDD,2,FALSE)))","v":"LUCAS Ifig"},11,{"$f":"AE24&AG24","v":"12"},{"$f":"IF($AF24=0,0,VLOOKUP($AF24,$CP$4:$CS$68,2,FALSE))","v":0},{"$f":"IF(AM15=\"H\",\"B\",IF(AM15=\"B\",\"H\",\"\"))","v":""},{"$f":"IF($AF24=0,0,VLOOKUP($AF24,$CP$4:$CS$68,3,FALSE))","v":0},null,null,{"$f":"IF(AH24=\"\",\"\",IF(ISNA(VLOOKUP(AH24,Liste_Dos_SPIDD,3,FALSE)),VLOOKUP(AH24,Liste_J,$A$10,FALSE),VLOOKUP(AH24,Liste_Dos_SPIDD,3,FALSE)))","v":"EQUEURDREVILLE"},{"$f":"IF(ISERROR(VLOOKUP(AQ24,$AU$12:$CH$54,18,FALSE)),\"\",IF($AQ$9=\"H\",VLOOKUP(AQ24,$AU$12:$CH$54,35,FALSE),IF($AQ$9=\"B\",VLOOKUP(AQ24,$AU$12:$CH$54,36,FALSE),\"\")))","v":""},null,null,"SIOUVILLE ATTLC",null,null,1,null,1,null,null,null,null,null,1,null,null,null,null,null,1,null,null,null,1,1,2,null,null,null,null,null,null,null,null,null,{"$error":"#REF!"},"","","","","","","","",null,null,null,null,null,21,"B","BH","H","BB"]
[null,null,null,null,null,{"$f":"IF(ISNA(VLOOKUP(I25,$AF$15:$AQ$46,12,FALSE)),\"\",VLOOKUP(I25,$AF$15:$AQ$46,12,FALSE))","v":""},12,"9=",{"$f":"G25","v":12},12,{"$f":"IF(ISNA(VLOOKUP(I25,$AF$15:$AQ$50,4,FALSE)),\"\",VLOOKUP(I25,$AF$15:$AQ$50,4,FALSE)&\" - \"&VLOOKUP(I25,$AF$15:$AQ$50,12,FALSE))","v":""},{"$f":"IF(ISNA(VLOOKUP(I25,$AF$15:$AQ$50,12,FALSE)),\"\",VLOOKUP(I25,$AF$15:$AQ$50,12,FALSE))","v":""},null,null,null,null,null,null,null,null,null,null,null,null,21,null,22,null,"","P",2,null,2,202,"VIDAL Charles",12,{"$f":"AE25&AG25","v":"22"},0,"",0,null,null,"ASSUN TT",{"$f":"IF(ISERROR(VLOOKUP(AQ25,$AU$12:$CH$54,18,FALSE)),\"\",IF($AQ$9=\"H\",VLOOKUP(AQ25,$AU$12:$CH$54,35,FALSE),IF($AQ$9=\"B\",VLOOKUP(AQ25,$AU$12:$CH$54,36,FALSE),\"\")))","v":""},null,null,"ST PAIR BRICQUE",null,1,null,null,1,1,null,null,1,2,3,null,1,1,null,2,null,null,null,1,1,3,6,null,null,null,null,null,null,null,null,null,{"$error":"#REF!"},"","","","","",2,2,3,null,null,null,null,null,22,"B","BH","H","BB"]
[null,null,null,null,null,null,null,null,null,null,null,null,null,null,null,null,null,null,null,null,null,null,null,null,12,null,11,null,"","P",3,null,2,203,"ROBION Paul",13,"32",0,"",0,null,null,"SIOUVILLE ATTLC","",null,null,"TORIGNAISE ESTT",null,null,null,null,null,null,1,null,1,2,2,null,1,null,1,2,null,null,null,null,null,2,4,null,null,null,null,null,null,null,null,null,{"$error":"#REF!"},"","","","","","",2,2,null,null,null,null,null,23,"B","BH","H","BB"]
[null,null,null,null,null,{"$f":"IF(ISNA(VLOOKUP(I27,$AF$15:$AQ$46,12,FALSE)),\"\",VLOOKUP(I27,$AF$15:$AQ$46,12,FALSE))","v":""},13,"9=",{"$f":"G27","v":13},13,{"$f":"IF(ISNA(VLOOKUP(I27,$AF$15:$AQ$50,4,FALSE)),\"\",VLOOKUP(I27,$AF$15:$AQ$50,4,FALSE)&\" - \"&VLOOKUP(I27,$AF$15:$AQ$50,12,FALSE))","v":""},{"$f":"IF(ISNA(VLOOKUP(I27,$AF$15:$AQ$50,12,FALSE)),\"\",VLOOKUP(I27,$AF$15:$AQ$50,12,FALSE))","v":""},null,null,null,null,null,null,null,null,null,null,null,null,13,null,14,null,"","P",4,null,2,204,"LEVILLAIN Camille",14,"42",0,"",0,null,null,"ST PAIR BRICQUE","",null,null,"TT SAINT JAMES",null,1,null,null,1,1,null,null,null,1,2,null,null,1,null,1,null,null,null,1,1,2,4,null,null,null,null,null,null,null,null,null,{"$error":"#REF!"},"","","","","","","",2,null,null,null,null,null,24,"B","BH","H","BB"]
[null,null,null,null,null,{"$f":"IF(ISNA(VLOOKUP(I28,$AF$15:$AQ$46,12,FALSE)),\"\",VLOOKUP(I28,$AF$15:$AQ$46,12,FALSE))","v":""},14,"17=",{"$f":"G28","v":14},20,{"$f":"IF(ISNA(VLOOKUP(I28,$AF$15:$AQ$50,4,FALSE)),\"\",VLOOKUP(I28,$AF$15:$AQ$50,4,FALSE)&\" - \"&VLOOKUP(I28,$AF$15:$AQ$50,12,FALSE))","v":""},{"$f":"IF(ISNA(VLOOKUP(I28,$AF$15:$AQ$50,12,FALSE)),\"\",VLOOKUP(I28,$AF$15:$AQ$50,12,FALSE))","v":""},null,null,null,null,null,null,null,null,null,null,null,null,20,null,19,null,"","P",5,null,2,205,"COUEDEL-COULON Eloan",15,"52",0,"",0,null,null,"TT SAINT JAMES","",null,null,"Total général",2,2,2,2,8,2,2,2,2,8,16,2,2,2,2,8,2,2,2,2,8,16,32,null,null,null,null,null,null,null,null,null,{"$error":"#REF!"},6,6,6,6,6,6,12,12,null,null,null,null,null,25,"B","BB","H","BH"]
[{"$f":"IF(ISNA(VLOOKUP(C29,$AF$15:$AQ$50,4,FALSE)),\"\",VLOOKUP(C29,$AF$15:$AQ$50,4,FALSE)&\" - \"&VLOOKUP(C29,$AF$15:$AQ$50,12,FALSE))","v":""},29,{"$f":"E29","v":15},"17=",15,{"$f":"IF(ISNA(VLOOKUP(C29,$AF$15:$AQ$50,12,FALSE)),\"\",VLOOKUP(C29,$AF$15:$AQ$50,12,FALSE))","v":""},null,null,null,null,null,{"$f":"IF(ISNA(VLOOKUP(O29,$AF$15:$AQ$50,12,FALSE)),\"\",VLOOKUP(O29,$AF$15:$AQ$50,12,FALSE))","v":""},16,"3=",{"$f":"M29","v":16},4,{"$f":"IF(ISNA(VLOOKUP(O29,$AF$15:$AQ$50,4,FALSE)),\"\",VLOOKUP(O29,$AF$15:$AQ$50,4,FALSE)&\" - \"&VLOOKUP(O29,$AF$15:$AQ$50,12,FALSE))","v":""},null,null,null,null,null,null,null,29,null,30,null,"","P",6,null,2,206,"LECLERC Alexandre-Bao",16,"62",0,"",0,null,null,"OC AGNEAUX","",null,null,null,null,null,null,null,null,null,null,null,null,null,null,null,null,null,null,null,null,null,null,null,null,null,null,null,null,null,null,null,null,null,null,null,{"$error":"#N/A"},{"$error":"#N/A"},{"$error":"#N/A"},{"$error":"#N/A"},{"$error":"#N/A"},{"$error":"#N/A"},{"$error":"#N/A"},{"$error":"#N/A"},{"$error":"#N/A"},null,null,null,null,null,26,"B","BB","H","BH"]
[null,null,null,null,null,null,null,null,null,null,null,null,null,null,null,null,null,null,null,null,null,null,null,null,4,null,3,null,"","P",7,null,2,207,"NICOLLE Augustin",17,"72",0,"",0,null,null,"COUTANCES JA","",null,null,null,null,null,null,null,null,null,null,null,null,null,null,null,null,null,null,null,null,null,null,null,null,null,null,null,null,null,null,null,null,null,null,null,{"$error":"#N/A"},{"$error":"#N/A"},{"$error":"#N/A"},{"$error":"#N/A"},{"$error":"#N/A"},{"$error":"#N/A"},{"$error":"#N/A"},{"$error":"#N/A"},{"$error":"#N/A"},null,null,null,null,null,27,"B","BB","H","BH"]
[null,null,null,null,null,null,null,null,null,null,null,null,null,null,null,null,null,null,null,null,null,null,null,null,null,null,null,null,"","P",8,null,2,208,"NICOLLE Emile",18,"82",0,"",0,null,null,"COUTANCES JA","",null,null,null,null,null,null,null,null,null,null,null,null,null,null,null,null,null,null,null,null,null,null,null,null,null,null,null,null,null,null,null,null,null,null,null,{"$error":"#N/A"},{"$error":"#N/A"},{"$error":"#N/A"},{"$error":"#N/A"},{"$error":"#N/A"},{"$error":"#N/A"},{"$error":"#N/A"},{"$error":"#N/A"},{"$error":"#N/A"},null,null,null,null,null,28,"B","BB","H","BH"]
[{"$f":"IF(ISNA(VLOOKUP(C32,$AF$15:$AQ$50,4,FALSE)),\"\",VLOOKUP(C32,$AF$15:$AQ$50,4,FALSE)&\" - \"&VLOOKUP(C32,$AF$15:$AQ$50,12,FALSE))","v":""},30,{"$f":"E32","v":18},"17=",18,{"$f":"IF(ISNA(VLOOKUP(C32,$AF$15:$AQ$50,12,FALSE)),\"\",VLOOKUP(C32,$AF$15:$AQ$50,12,FALSE))","v":""},null,null,null,null,null,{"$f":"IF(ISNA(VLOOKUP(O32,$AF$15:$AQ$50,12,FALSE)),\"\",VLOOKUP(O32,$AF$15:$AQ$50,12,FALSE))","v":""},17,"3=",{"$f":"M32","v":17},3,{"$f":"IF(ISNA(VLOOKUP(O32,$AF$15:$AQ$50,4,FALSE)),\"\",VLOOKUP(O32,$AF$15:$AQ$50,4,FALSE)&\" - \"&VLOOKUP(O32,$AF$15:$AQ$50,12,FALSE))","v":""},null,null,null,"BH",null,null,null,null,null,null,null,"SPIDD","3ème de poule",null,null,null,null,null,null,null,null,null,null,null,null,null,null,null,null,null,null,null,null,null,null,null,null,null,null,null,null,null,null,null,null,null,null,null,null,null,null,null,null,null,null,null,null,null,null,null,null,null,{"$error":"#N/A"},{"$error":"#N/A"},{"$error":"#N/A"},{"$error":"#N/A"},{"$error":"#N/A"},{"$error":"#N/A"},{"$error":"#N/A"},{"$error":"#N/A"},{"$error":"#N/A"},null,null,null,null,null,29,"B","BB","H","BH"]
[null,null,null,null,null,{"$f":"IF(ISNA(VLOOKUP(I33,$AF$15:$AQ$46,12,FALSE)),\"\",VLOOKUP(I33,$AF$15:$AQ$46,12,FALSE))","v":""},19,"17=",{"$f":"G33","v":19},19,{"$f":"IF(ISNA(VLOOKUP(I33,$AF$15:$AQ$50,4,FALSE)),\"\",VLOOKUP(I33,$AF$15:$AQ$50,4,FALSE)&\" - \"&VLOOKUP(I33,$AF$15:$AQ$50,12,FALSE))","v":""},{"$f":"IF(ISNA(VLOOKUP(I33,$AF$15:$AQ$50,12,FALSE)),\"\",VLOOKUP(I33,$AF$15:$AQ$50,12,FALSE))","v":""},null,null,null,null,null,null,null,null,null,null,null,null,null,null,null,null,{"$f":"IF(AF33=\"\",\"\",VLOOKUP(AF33,_TAS32,3,FALSE))","v":""},"P",1,null,3,{"$f":"IF(ISNA(VLOOKUP(AK33,Liste_SPIDD,2,FALSE)),901,VLOOKUP(AK33,Liste_SPIDD,2,FALSE))","v":301},{"$f":"IF(AH33=\"\",\"\",IF(ISNA(VLOOKUP(AH33,Liste_Dos_SPIDD,2,FALSE)),VLOOKUP(AH33,Liste_J,3,FALSE),VLOOKUP(AH33,Liste_Dos_SPIDD,2,FALSE)))","v":"LUCAS Ifig"},21,{"$f":"AE33&AG33","v":"13"},{"$f":"IF($AF33=0,0,VLOOKUP($AF33,$CP$4:$CS$68,2,FALSE))","v":0},{"$f":"AM24","v":""},{"$f":"IF($AN24=0,0,IF(AN24=\"HH\",\"HB\",IF(AN24=\"HB\",\"HH\",IF(AN24=\"BH\",\"BB\",IF(AN24=\"BB\",\"BH\")))))","v":0},null,null,{"$f":"IF(AH33=\"\",\"\",IF(ISNA(VLOOKUP(AH33,Liste_Dos_SPIDD,3,FALSE)),VLOOKUP(AH33,Liste_J,$A$10,FALSE),VLOOKUP(AH33,Liste_Dos_SPIDD,3,FALSE)))","v":"EQUEURDREVILLE"},{"$f":"IF(ISERROR(VLOOKUP(AQ33,$AU$12:$CH$54,18,FALSE)),\"\",IF($AQ$9=\"HH\",VLOOKUP(AQ33,$AU$12:$CH$54,37,FALSE),IF($AQ$9=\"HB\",VLOOKUP(AQ33,$AU$12:$CH$54,38,FALSE),IF($AQ$9=\"BH\",VLOOKUP(AQ33,$AU$12:$CH$54,39,FALSE),IF($AQ$9=\"BB\",VLOOKUP(AQ33,$AU$12:$CH$54,40,FALSE),\"\")))))","v":""},null,null,null,null,null,null,null,null,null,null,null,null,null,null,null,null,null,null,null,null,null,null,null,null,null,null,null,null,null,null,null,null,null,null,null,{"$error":"#N/A"},{"$f":"IF(OR(VLOOKUP($AU33,$AU$14:$BV$47,CC$11,FALSE)>1,AND(VLOOKUP($AU33,$AU$14:$BV$47,CC$11,FALSE)=1,(VLOOKUP($AU33,$AU$14:$BV$47,CC$11+3,FALSE)+VLOOKUP($AU33,$AU$14:$BV$47,CC$11+6,FALSE))>0)),(VLOOKUP($AU33,$AU$14:$BV$47,CC$11,FALSE)+VLOOKUP($AU33,$AU$14:$BV$47,CC$11+3,FALSE)+VLOOKUP($AU33,$AU$14:$BV$47,CC$11+6,FALSE)),\"\")","v":{"$error":"#N/A"}},{"$error":"#N/A"},{"$error":"#N/A"},{"$f":"IF(OR(VLOOKUP($AU33,$AU$14:$BV$47,CF$11+2,FALSE)>1,AND(VLOOKUP($AU33,$AU$14:$BV$47,CF$11+2,FALSE)=1,VLOOKUP($AU33,$AU$14:$BV$47,CF$11,FALSE)+VLOOKUP($AU33,$AU$14:$BV$47,CF$11+1,FALSE)+VLOOKUP($AU33,$AU$14:$BV$47,CF$11+2,FALSE)>1)),VLOOKUP($AU33,$AU$14:$BV$47,CF$11+4,FALSE)-VLOOKUP($AU33,$AU$14:$BV$47,CF$11+3,FALSE),\"\")","v":{"$error":"#N/A"}},{"$error":"#N/A"},{"$error":"#N/A"},{"$error":"#N/A"},{"$error":"#N/A"},null,null,null,null,null,30,"B","BB","H","BH"]
[null,null,null,null,null,{"$f":"IF(ISNA(VLOOKUP(I34,$AF$15:$AQ$46,12,FALSE)),\"\",VLOOKUP(I34,$AF$15:$AQ$46,12,FALSE))","v":""},20,"9=",{"$f":"G34","v":20},14,{"$f":"IF(ISNA(VLOOKUP(I34,$AF$15:$AQ$50,4,FALSE)),\"\",VLOOKUP(I34,$AF$15:$AQ$50,4,FALSE)&\" - \"&VLOOKUP(I34,$AF$15:$AQ$50,12,FALSE))","v":""},{"$f":"IF(ISNA(VLOOKUP(I34,$AF$15:$AQ$50,12,FALSE)),\"\",VLOOKUP(I34,$AF$15:$AQ$50,12,FALSE))","v":""},null,null,null,null,null,null,null,null,null,null,null,null,null,null,null,null,"","P",2,null,3,302,"VIDAL Charles",22,{"$f":"AE34&AG34","v":"23"},0,"",0,null,null,"ASSUN TT",{"$f":"IF(ISERROR(VLOOKUP(AQ34,$AU$12:$CH$54,18,FALSE)),\"\",IF($AQ$9=\"HH\",VLOOKUP(AQ34,$AU$12:$CH$54,37,FALSE),IF($AQ$9=\"HB\",VLOOKUP(AQ34,$AU$12:$CH$54,38,FALSE),IF($AQ$9=\"BH\",VLOOKUP(AQ34,$AU$12:$CH$54,39,FALSE),IF($AQ$9=\"BB\",VLOOKUP(AQ34,$AU$12:$CH$54,40,FALSE),\"\")))))","v":""},null,null,null,null,null,null,null,null,null,null,null,null,null,null,null,null,null,null,null,null,null,null,null,null,null,null,null,null,null,null,null,null,null,null,null,{"$error":"#N/A"},{"$error":"#N/A"},{"$error":"#N/A"},{"$error":"#N/A"},{"$error":"#N/A"},{"$error":"#N/A"},{"$error":"#N/A"},{"$error":"#N/A"},{"$error":"#N/A"},null,null,null,null,null,31,"B","BB","H","BH"]
[null,null,null,null,null,null,null,null,null,null,null,null,null,null,null,null,null,null,null,null,null,null,null,null,null,null,null,null,"","P",3,null,3,303,"ROBION Paul",23,"33",0,"",0,null,null,"SIOUVILLE ATTLC","",null,null,null,null,null,null,null,null,null,null,null,null,null,null,null,null,null,null,null,null,null,null,null,null,null,null,null,null,null,null,null,null,null,null,null,{"$error":"#N/A"},{"$error":"#N/A"},{"$error":"#N/A"},{"$error":"#N/A"},{"$error":"#N/A"},{"$error":"#N/A"},{"$error":"#N/A"},{"$error":"#N/A"},{"$error":"#N/A"},null,null,null,null,null,32,"B","BB","H","BH"]
[null,null,null,null,null,{"$f":"IF(ISNA(VLOOKUP(I36,$AF$15:$AQ$46,12,FALSE)),\"\",VLOOKUP(I36,$AF$15:$AQ$46,12,FALSE))","v":""},21,"9=",{"$f":"G36","v":21},11,{"$f":"IF(ISNA(VLOOKUP(I36,$AF$15:$AQ$50,4,FALSE)),\"\",VLOOKUP(I36,$AF$15:$AQ$50,4,FALSE)&\" - \"&VLOOKUP(I36,$AF$15:$AQ$50,12,FALSE))","v":""},{"$f":"IF(ISNA(VLOOKUP(I36,$AF$15:$AQ$50,12,FALSE)),\"\",VLOOKUP(I36,$AF$15:$AQ$50,12,FALSE))","v":""},null,null,null,null,null,null,null,null,null,null,null,null,null,null,null,null,"","P",4,null,3,304,"LEVILLAIN Camille",24,"43",0,"",0,null,null,"ST PAIR BRICQUE","",null,null,null,null,null,null,null,null,null,null,null,null,null,null,null,null,null,null,null,null,null,null,null,null,null,null,null,null,null,null,null,null,null,null,null,{"$error":"#N/A"},{"$error":"#N/A"},{"$error":"#N/A"},{"$error":"#N/A"},{"$error":"#N/A"},{"$error":"#N/A"},{"$error":"#N/A"},{"$error":"#N/A"},{"$error":"#N/A"}]
[null,null,null,null,null,{"$f":"IF(ISNA(VLOOKUP(I37,$AF$15:$AQ$46,12,FALSE)),\"\",VLOOKUP(I37,$AF$15:$AQ$46,12,FALSE))","v":""},22,"17=",{"$f":"G37","v":22},22,{"$f":"IF(ISNA(VLOOKUP(I37,$AF$15:$AQ$50,4,FALSE)),\"\",VLOOKUP(I37,$AF$15:$AQ$50,4,FALSE)&\" - \"&VLOOKUP(I37,$AF$15:$AQ$50,12,FALSE))","v":""},{"$f":"IF(ISNA(VLOOKUP(I37,$AF$15:$AQ$50,12,FALSE)),\"\",VLOOKUP(I37,$AF$15:$AQ$50,12,FALSE))","v":""},null,null,null,null,null,null,null,null,null,null,null,null,null,null,null,null,"","P",5,null,3,305,"COUEDEL-COULON Eloan",25,"53",0,"",0,null,null,"TT SAINT JAMES","",null,null,null,null,null,null,null,null,null,null,null,null,null,null,null,null,null,null,null,null,null,null,null,null,null,null,null,null,null,null,null,null,null,null,null,{"$error":"#N/A"},{"$error":"#N/A"},{"$error":"#N/A"},{"$error":"#N/A"},{"$error":"#N/A"},{"$error":"#N/A"},{"$error":"#N/A"},{"$error":"#N/A"},{"$error":"#N/A"}]
[{"$f":"IF(ISNA(VLOOKUP(C38,$AF$15:$AQ$50,4,FALSE)),\"\",VLOOKUP(C38,$AF$15:$AQ$50,4,FALSE)&\" - \"&VLOOKUP(C38,$AF$15:$AQ$50,12,FALSE))","v":""},27,{"$f":"E38","v":23},"17=",23,{"$f":"IF(ISNA(VLOOKUP(C38,$AF$15:$AQ$50,12,FALSE)),\"\",VLOOKUP(C38,$AF$15:$AQ$50,12,FALSE))","v":""},null,null,null,null,null,{"$f":"IF(ISNA(VLOOKUP(O38,$AF$15:$AQ$50,12,FALSE)),\"\",VLOOKUP(O38,$AF$15:$AQ$50,12,FALSE))","v":""},24,"5=",{"$f":"M38","v":24},6,{"$f":"IF(ISNA(VLOOKUP(O38,$AF$15:$AQ$50,4,FALSE)),\"\",VLOOKUP(O38,$AF$15:$AQ$50,4,FALSE)&\" - \"&VLOOKUP(O38,$AF$15:$AQ$50,12,FALSE))","v":""},null,null,null,null,null,null,null,null,null,null,null,"","P",6,null,3,306,"LECLERC Alexandre-Bao",26,"63",0,"",0,null,null,"OC AGNEAUX","",null,null,null,null,null,null,null,null,null,null,null,null,null,null,null,null,null,null,null,null,null,null,null,null,null,null,null,null,null,null,null,null,null,null,null,{"$error":"#N/A"},{"$error":"#N/A"},{"$error":"#N/A"},{"$error":"#N/A"},{"$error":"#N/A"},{"$error":"#N/A"},{"$error":"#N/A"},{"$error":"#N/A"},{"$error":"#N/A"}]
["--------------------------------------------------------------------------------------------------------------------------------------------------------------------------------------------------------------------",null,null,null,null,null,null,null,null,null,null,null,null,null,null,null,null,null,null," ",null,null,null,null,null,null,null,null,"","P",7,null,3,307,"NICOLLE Augustin",27,"73",0,"",0,null,null,"COUTANCES JA","",null,null,null,null,null,null,null,null,null,null,null,null,null,null,null,null,null,null,null,null,null,null,null,null,null,null,null,null,null,null,null,null,null,null,null,{"$error":"#N/A"},{"$error":"#N/A"},{"$error":"#N/A"},{"$error":"#N/A"},{"$error":"#N/A"},{"$error":"#N/A"},{"$error":"#N/A"},{"$error":"#N/A"},{"$error":"#N/A"}]
[{"$f":"IF(ISNA(VLOOKUP(C40,$AF$15:$AQ$50,4,FALSE)),\"\",VLOOKUP(C40,$AF$15:$AQ$50,4,FALSE)&\" - \"&VLOOKUP(C40,$AF$15:$AQ$50,12,FALSE))","v":""},26,{"$f":"E40","v":26},"17=",26,{"$f":"IF(ISNA(VLOOKUP(C40,$AF$15:$AQ$50,12,FALSE)),\"\",VLOOKUP(C40,$AF$15:$AQ$50,12,FALSE))","v":""},null,null,null,null,null,{"$f":"IF(ISNA(VLOOKUP(O40,$AF$15:$AQ$50,12,FALSE)),\"\",VLOOKUP(O40,$AF$15:$AQ$50,12,FALSE))","v":""},25,"5=",{"$f":"M40","v":25},7,{"$f":"IF(ISNA(VLOOKUP(O40,$AF$15:$AQ$50,4,FALSE)),\"\",VLOOKUP(O40,$AF$15:$AQ$50,4,FALSE)&\" - \"&VLOOKUP(O40,$AF$15:$AQ$50,12,FALSE))","v":""},null,null,null,"BB",null,null,null,null,null,null,null,"","P",8,null,3,308,"NICOLLE Emile",28,"83",0,"",0,null,null,"COUTANCES JA","",null,null,null,null,null,null,null,null,null,null,null,null,null,null,null,null,null,null,null,null,null,null,null,null,null,null,null,null,null,null,null,null,null,null,null,{"$error":"#N/A"},{"$error":"#N/A"},{"$error":"#N/A"},{"$error":"#N/A"},{"$error":"#N/A"},{"$error":"#N/A"},{"$error":"#N/A"},{"$error":"#N/A"},{"$error":"#N/A"}]
[null,null,null,null,null,{"$f":"IF(ISNA(VLOOKUP(I41,$AF$15:$AQ$46,12,FALSE)),\"\",VLOOKUP(I41,$AF$15:$AQ$46,12,FALSE))","v":""},27,"17=",{"$f":"G41","v":27},23,{"$f":"IF(ISNA(VLOOKUP(I41,$AF$15:$AQ$50,4,FALSE)),\"\",VLOOKUP(I41,$AF$15:$AQ$50,4,FALSE)&\" - \"&VLOOKUP(I41,$AF$15:$AQ$50,12,FALSE))","v":""},{"$f":"IF(ISNA(VLOOKUP(I41,$AF$15:$AQ$50,12,FALSE)),\"\",VLOOKUP(I41,$AF$15:$AQ$50,12,FALSE))","v":""},null,null,null,null,null,null,null,null,null,null,null,null,null,null,null,null,"SPIDD","4ème de poule",null,null,null,null,null,null,null,null,null,null,null,null,null,null,null,null,null,null,null,null,null,null,null,null,null,null,null,null,null,null,null,null,null,null,null,null,null,null,null,null,null,null,null,null,null,null,null,null,null,{"$error":"#N/A"},{"$error":"#N/A"},{"$error":"#N/A"},{"$error":"#N/A"},{"$error":"#N/A"},{"$error":"#N/A"},{"$error":"#N/A"},{"$error":"#N/A"},{"$error":"#N/A"}]
[null,null,null,null,null,{"$f":"IF(ISNA(VLOOKUP(I42,$AF$15:$AQ$46,12,FALSE)),\"\",VLOOKUP(I42,$AF$15:$AQ$46,12,FALSE))","v":""},28,"9=",{"$f":"G42","v":28},10,{"$f":"IF(ISNA(VLOOKUP(I42,$AF$15:$AQ$50,4,FALSE)),\"\",VLOOKUP(I42,$AF$15:$AQ$50,4,FALSE)&\" - \"&VLOOKUP(I42,$AF$15:$AQ$50,12,FALSE))","v":""},{"$f":"IF(ISNA(VLOOKUP(I42,$AF$15:$AQ$50,12,FALSE)),\"\",VLOOKUP(I42,$AF$15:$AQ$50,12,FALSE))","v":""},null,null,null,null,null,null,null,null,null,null,null,null,null,null,null,null,{"$f":"IF(AF42=\"\",\"\",VLOOKUP(AF42,_TAS32,3,FALSE))","v":""},"P",1,null,4,{"$f":"IF(ISNA(VLOOKUP(AK42,Liste_SPIDD,2,FALSE)),901,VLOOKUP(AK42,Liste_SPIDD,2,FALSE))","v":901},{"$f":"IF(AH42=\"\",\"\",IF(ISNA(VLOOKUP(AH42,Liste_Dos_SPIDD,2,FALSE)),VLOOKUP(AH42,Liste_J,3,FALSE),VLOOKUP(AH42,Liste_Dos_SPIDD,2,FALSE)))","v":"Exempt"},31,{"$f":"AE42&AG42","v":"14"},{"$f":"IF($AF42=0,0,VLOOKUP($AF42,$CP$4:$CS$68,2,FALSE))","v":0},{"$f":"AM15","v":0},{"$f":"IF($AN15=0,0,IF(AN15=\"HH\",\"HB\",IF(AN15=\"HB\",\"HH\",IF(AN15=\"BH\",\"BB\",IF(AN15=\"BB\",\"BH\")))))","v":0},null,null,{"$f":"IF(AH42=\"\",\"\",IF(ISNA(VLOOKUP(AH42,Liste_Dos_SPIDD,3,FALSE)),VLOOKUP(AH42,Liste_J,$A$10,FALSE),VLOOKUP(AH42,Liste_Dos_SPIDD,3,FALSE)))","v":" "},{"$f":"IF(ISERROR(VLOOKUP(AQ42,$AU$12:$CJ$54,18,FALSE)),\"\",IF($AQ$9=\"H\",VLOOKUP(AQ42,$AU$12:$CJ$54,41,FALSE),IF($AQ$9=\"B\",VLOOKUP(AQ42,$AU$12:$CJ$54,42,FALSE),\"\")))","v":""},null,null,null,null,null,null,null,null,null,null,null,null,null,null,null,null,null,null,null,null,null,null,null,null,null,null,null,null,null,null,null,null,null,null,null,{"$error":"#N/A"},{"$error":"#N/A"},{"$error":"#N/A"},{"$error":"#N/A"},{"$error":"#N/A"},{"$error":"#N/A"},{"$error":"#N/A"},{"$error":"#N/A"},{"$error":"#N/A"}]
[null,null,null,null,null,null,null,null,null,null,null,null,null,null,null,null,null,null,null,null,null,null,null,null,null,null,null,null,"","P",2,null,4,901,"Exempt",32,{"$f":"AE43&AG43","v":"24"},0,{"$f":"AM16","v":0},{"$f":"IF($AN16=0,0,IF(AN16=\"HH\",\"HB\",IF(AN16=\"HB\",\"HH\",IF(AN16=\"BH\",\"BB\",IF(AN16=\"BB\",\"BH\")))))","v":0},null,null," ",{"$f":"IF(ISERROR(VLOOKUP(AQ43,$AU$12:$CJ$54,18,FALSE)),\"\",IF($AQ$9=\"H\",VLOOKUP(AQ43,$AU$12:$CJ$54,41,FALSE),IF($AQ$9=\"B\",VLOOKUP(AQ43,$AU$12:$CJ$54,42,FALSE),\"\")))","v":""},null,null,null,null,null,null,null,null,null,null,null,null,null,null,null,null,null,null,null,null,null,null,null,null,null,null,null,null,null,null,null,null,null,null,null,{"$error":"#N/A"},{"$error":"#N/A"},{"$error":"#N/A"},{"$error":"#N/A"},{"$error":"#N/A"},{"$error":"#N/A"},{"$error":"#N/A"},{"$error":"#N/A"},{"$error":"#N/A"}]
[null,null,null,null,null,{"$f":"IF(ISNA(VLOOKUP(I44,$AF$15:$AQ$46,12,FALSE)),\"\",VLOOKUP(I44,$AF$15:$AQ$46,12,FALSE))","v":""},29,"9=",{"$f":"G44","v":29},15,{"$f":"IF(ISNA(VLOOKUP(I44,$AF$15:$AQ$50,4,FALSE)),\"\",VLOOKUP(I44,$AF$15:$AQ$50,4,FALSE)&\" - \"&VLOOKUP(I44,$AF$15:$AQ$50,12,FALSE))","v":""},{"$f":"IF(ISNA(VLOOKUP(I44,$AF$15:$AQ$50,12,FALSE)),\"\",VLOOKUP(I44,$AF$15:$AQ$50,12,FALSE))","v":""},null,null,null,null,null,null,null,null,null,null,null,null,null,null,null,null,"","P",3,null,4,901,"Exempt",33,"34",0,0,0,null,null," ","",null,null,null,null,null,null,null,null,null,null,null,null,null,null,null,null,null,null,null,null,null,null,null,null,null,null,null,null,null,null,null,null,null,null,null,{"$error":"#N/A"},{"$error":"#N/A"},{"$error":"#N/A"},{"$error":"#N/A"},{"$error":"#N/A"},{"$error":"#N/A"},{"$error":"#N/A"},{"$error":"#N/A"},{"$error":"#N/A"}]
[null,null,null,null,null,{"$f":"IF(ISNA(VLOOKUP(I45,$AF$15:$AQ$46,12,FALSE)),\"\",VLOOKUP(I45,$AF$15:$AQ$46,12,FALSE))","v":""},30,"17=",{"$f":"G45","v":30},18,{"$f":"IF(ISNA(VLOOKUP(I45,$AF$15:$AQ$50,4,FALSE)),\"\",VLOOKUP(I45,$AF$15:$AQ$50,4,FALSE)&\" - \"&VLOOKUP(I45,$AF$15:$AQ$50,12,FALSE))","v":""},{"$f":"IF(ISNA(VLOOKUP(I45,$AF$15:$AQ$50,12,FALSE)),\"\",VLOOKUP(I45,$AF$15:$AQ$50,12,FALSE))","v":""},null,null,null,null,null,null,null,null,null,null,null,null,null,null,null,null,"","P",4,null,4,901,"Exempt",34,"44",0,0,0,null,null," ","",null,null,null,null,null,null,null,null,null,null,null,null,null,null,null,null,null,null,null,null,null,null,null,null,null,null,null,null,null,null,null,null,null,null,null,{"$error":"#N/A"},{"$error":"#N/A"},{"$error":"#N/A"},{"$error":"#N/A"},{"$error":"#N/A"},{"$error":"#N/A"},{"$error":"#N/A"},{"$error":"#N/A"},{"$error":"#N/A"}]
[{"$f":"IF(ISNA(VLOOKUP(C46,$AF$15:$AQ$50,4,FALSE)),\"\",VLOOKUP(C46,$AF$15:$AQ$50,4,FALSE)&\" - \"&VLOOKUP(C46,$AF$15:$AQ$50,12,FALSE))","v":""},31,{"$f":"E46","v":31},"17=",31,{"$f":"IF(ISNA(VLOOKUP(C46,$AF$15:$AQ$50,12,FALSE)),\"\",VLOOKUP(C46,$AF$15:$AQ$50,12,FALSE))","v":""},null,null,null,null,null,{"$f":"IF(ISNA(VLOOKUP(O46,$AF$15:$AQ$50,12,FALSE)),\"\",VLOOKUP(O46,$AF$15:$AQ$50,12,FALSE))","v":""},32,2,{"$f":"M46","v":32},2,{"$f":"IF(ISNA(VLOOKUP(O46,$AF$15:$AQ$50,4,FALSE)),\"\",VLOOKUP(O46,$AF$15:$AQ$50,4,FALSE)&\" - \"&VLOOKUP(O46,$AF$15:$AQ$50,12,FALSE))","v":""},null,null,null,null,null,null,null,null,null,null,null,"","P",5,null,4,901,"Exempt",35,"54",0,0,0,null,null," ","",null,null,null,null,null,null,null,null,null,null,null,null,null,null,null,null,null,null,null,null,null,null,null,null,null,null,null,null,null,null,null,null,null,null,null,{"$error":"#N/A"},{"$error":"#N/A"},{"$error":"#N/A"},{"$error":"#N/A"},{"$error":"#N/A"},{"$error":"#N/A"},{"$error":"#N/A"},{"$error":"#N/A"},{"$error":"#N/A"}]
[null,null,null,null,null,null,null,null,null,null,null,null,null,null,null,null,null,null,null,null,null,null,null,null,null,null,null,null,"","P",6,null,4,901,"Exempt",36,"64",0,0,0,null,null," ","",{"$f":"+AF47","v":0},{"$f":"COUNTIF(AS:AS,AF47)","v":1},null,null,null,null,null,null,null,null,null,null,null,null,null,null,null,null,null,null,null,null,null,null,null,null,null,null,null,null,null,null,null,null,null,{"$error":"#N/A"},{"$error":"#N/A"},{"$error":"#N/A"},{"$error":"#N/A"},{"$error":"#N/A"},{"$error":"#N/A"},{"$error":"#N/A"},{"$error":"#N/A"},{"$error":"#N/A"}]
[null,null,null,null,null,null,null,null,null,null,null,null,null,null,null,null,null,null,null,null,null,null,null,null,null,null,null,null,"","P",7,null,4,901,"Exempt",37,"74",0,0,0,null,null," ","",null,null,null,null,null,null,null,null,null,null,null,null,null,null,null,null,null,null,null,null,null,null,null,null,null,null,null,null,null,null,null,null,null,null,null,null,{"$error":"#N/A"},{"$error":"#N/A"},{"$error":"#N/A"},{"$error":"#N/A"},{"$error":"#N/A"},{"$error":"#N/A"},{"$error":"#N/A"},{"$error":"#N/A"}]
[null,null,null,null,null,null,null,null,null,null,null,null,null,null,null,null,null,null,null,null,null,null,null,null,null,null,null,null,"","P",8,null,4,901,"Exempt",38,"84",0,0,0,null,null," ","",null,null,null,null,null,null,null,null,null,null,null,null,null,null,null,null,null,null,null,null,null,null,null,null,null,null,null,null,null,null,null,null,null,null,null,{"$error":"#N/A"},{"$error":"#N/A"},{"$error":"#N/A"},{"$error":"#N/A"},{"$error":"#N/A"},{"$error":"#N/A"},{"$error":"#N/A"},{"$error":"#N/A"},{"$error":"#N/A"}]
[null,null,null,null,null,null,null,null,null,null,null,null,null,null,null,null,null,null,null,null,null,null,null,null,null,null,null,null,null,null,null,null,null,null,null,null,null,null,null,null,null,null,null,null,null,null,null,null,null,null,null,null,null,null,null,null,null,null,null,null,null,null,null,null,null,null,null,null,null,null,null,null,null,null,null,null,null,null,null,{"$error":"#N/A"},{"$error":"#N/A"},{"$error":"#N/A"},{"$error":"#N/A"},{"$error":"#N/A"},{"$error":"#N/A"},{"$error":"#N/A"},{"$error":"#N/A"},{"$error":"#N/A"}]
[null,null,null,null,null,null,null,null,null,null,null,null,null,null,null,null,null,null,null,null,null,null,null,null,null,null,null,null,null,null,null,null,null,null,null,null,null,null,null,null,null,null,null,null,null,null,null,null,null,null,null,null,null,null,null,null,null,null,null,null,null,null,null,null,null,null,null,null,null,null,null,null,null,null,null,null,null,null,null,{"$error":"#N/A"},{"$error":"#N/A"},{"$error":"#N/A"},{"$error":"#N/A"},{"$error":"#N/A"},{"$error":"#N/A"},{"$error":"#N/A"},{"$error":"#N/A"},{"$error":"#N/A"}]
[null,null,null,null,null,null,null,null,null,null,null,null,null,null,null,null,null,null,null,null,null,null,null,null,null,null,null,null,null,null,null,null,null,null,null,null,null,null,null,null,null,null,null,null,null,null,null,null,null,null,null,null,null,null,null,null,null,null,null,null,null,null,null,null,null,null,null,null,null,null,null,null,null,null,null,null,null,null,null,{"$error":"#N/A"},{"$error":"#N/A"},{"$error":"#N/A"},{"$error":"#N/A"},{"$error":"#N/A"},{"$error":"#N/A"},{"$error":"#N/A"},{"$error":"#N/A"},{"$f":"IF(OR(VLOOKUP($AU52,$AU$14:$BV$47,CJ$11+10,FALSE)-VLOOKUP($AU52,$AU$14:$BV$47,CJ$11+4,FALSE)-VLOOKUP($AU52,$AU$14:$BV$47,CJ$11+9,FALSE)>0.5,AND(OR(VLOOKUP($AU52,$AU$14:$BV$47,CJ$11+4,FALSE)>0.5,VLOOKUP($AU52,$AU$14:$BV$47,CJ$11+9,FALSE)>0.5))),VLOOKUP($AU52,$AU$14:$BV$47,CJ$11+10,FALSE)-VLOOKUP($AU52,$AU$14:$BV$47,CJ$11,FALSE)-VLOOKUP($AU52,$AU$14:$BV$47,CJ$11+5,FALSE),\"\")","v":{"$error":"#N/A"}}]
[null,null,null,null,null,null,null,null,null,null,null,null,null,null,null,null,null,null,null,null,null,null,null,null,null,null,null,null,null,null,null,null,null,null,null,null,null,null,null,null,null,null,null,null,null,null,null,null,null,null,null,null,null,null,null,null,null,null,null,null,null,null,null,null,null,null,null,null,null,null,null,null,null,null,null,null,null,null,null,{"$error":"#N/A"},{"$error":"#N/A"},{"$error":"#N/A"},{"$error":"#N/A"},{"$error":"#N/A"},{"$error":"#N/A"},{"$error":"#N/A"},{"$error":"#N/A"},{"$f":"IF(OR(VLOOKUP($AU53,$AU$14:$BV$47,CJ$11+10,FALSE)-VLOOKUP($AU53,$AU$14:$BV$47,CJ$11+4,FALSE)-VLOOKUP($AU53,$AU$14:$BV$47,CJ$11+9,FALSE)>0.5,AND(OR(VLOOKUP($AU53,$AU$14:$BV$47,CJ$11+4,FALSE)>0.5,VLOOKUP($AU53,$AU$14:$BV$47,CJ$11+9,FALSE)>0.5))),VLOOKUP($AU53,$AU$14:$BV$47,CJ$11+10,FALSE)-VLOOKUP($AU53,$AU$14:$BV$47,CJ$11,FALSE)-VLOOKUP($AU53,$AU$14:$BV$47,CJ$11+5,FALSE),\"\")","v":{"$error":"#N/A"}}]
[null,null,null,null,null,null,null,null,null,null,null,null,null,null,null,null,null,null,null,null,null,null,null,null,null,null,null,null,null,null,null,null,null,null,null,null,null,null,null,null,null,null,null,null,null,null,null,null,null,null,null,null,null,null,null,null,null,null,null,null,null,null,null,null,null,null,null,null,null,null,null,null,null,null,null,null,null,null,null,{"$error":"#N/A"},{"$error":"#N/A"},{"$error":"#N/A"},{"$error":"#N/A"},{"$error":"#N/A"},{"$error":"#N/A"},{"$error":"#N/A"},{"$error":"#N/A"},{"$f":"IF(OR(VLOOKUP($AU54,$AU$14:$BV$47,CJ$11+10,FALSE)-VLOOKUP($AU54,$AU$14:$BV$47,CJ$11+4,FALSE)-VLOOKUP($AU54,$AU$14:$BV$47,CJ$11+9,FALSE)>0.5,AND(OR(VLOOKUP($AU54,$AU$14:$BV$47,CJ$11+4,FALSE)>0.5,VLOOKUP($AU54,$AU$14:$BV$47,CJ$11+9,FALSE)>0.5))),VLOOKUP($AU54,$AU$14:$BV$47,CJ$11+10,FALSE)-VLOOKUP($AU54,$AU$14:$BV$47,CJ$11,FALSE)-VLOOKUP($AU54,$AU$14:$BV$47,CJ$11+5,FALSE),\"\")","v":{"$error":"#N/A"}}]
[]
[]
[]
[]
[]
[]
[]
[]
[]
[]
[]
[]
[]
[]
[]
[]
[]
[]
[]
[]
[]
[]
[]
[]
[]
[]
[]
[]
[]
[]
[]
[]
[]
[]
[]
[]
[]
[]
[]
[]
[]
[]
[]
[]
[]
[]
[]
[]
[]
[]
[]
[]
[]
[]
[]
[]
[]
[]
[]
[]
[]
[]
[]
[]
[]
[]
[]
[]
[]
[]
[]
[]
[]
[null,null,null,null,null,null,null,null,null,null,null,null,null,null,null,null,null,null,null,null,null,null,null,null,null,null,null,null,null,null,null,null,null,null,null,null,{"$f":"IF(AQ128=AQ127,AK127+1,1)","v":1},{"$f":"COUNTIF($AQ$132:$AQ$200,AQ128)","v":0},null,null,null,null,null,{"$f":"AK128&\"/\"&AL128","v":"1/0"}]
[]
[]
[null,null,null,null,null,null,null,null,null,null,null,null,null,null,null,null,null,null,null,null,null,null,null,null,null,null,null,null,null,null,null,null,null,"Dos","NOM Prénom","Rang","RC","NC","1/2 T","b","c","d","Club","N° Club"]
[null,null,null,null,null,null,null,null,null,null,null,null,null,null,null,null,null,null,null,null,null,null,null,null,null,null,null,null,null,null,null,null,1,50,"VIDAL Charles",2,1,1,null,null,null,null,"ASSUN TT","1/1"]
[null,null,null,null,null,null,null,null,null,null,null,null,null,null,null,null,null,null,null,null,null,null,null,null,null,null,null,null,null,null,null,null,1,46,"NICOLLE Augustin",7,1,2,null,null,null,null,"COUTANCES JA","1/2"]
[null,null,null,null,null,null,null,null,null,null,null,null,null,null,null,null,null,null,null,null,null,null,null,null,null,null,null,null,null,null,null,null,1,48,"NICOLLE Emile",8,2,2,null,null,null,null,"COUTANCES JA","2/2"]
[null,null,null,null,null,null,null,null,null,null,null,null,null,null,null,null,null,null,null,null,null,null,null,null,null,null,null,null,null,null,null,null,1,44,"LUCAS Ifig",1,1,1,null,null,null,null,"EQUEURDREVILLE","1/1"]
[null,null,null,null,null,null,null,null,null,null,null,null,null,null,null,null,null,null,null,null,null,null,null,null,null,null,null,null,null,null,null,null,1,45,"LECLERC Alexandre-Bao",6,1,1,null,null,null,null,"OC AGNEAUX","1/1"]
[null,null,null,null,null,null,null,null,null,null,null,null,null,null,null,null,null,null,null,null,null,null,null,null,null,null,null,null,null,null,null,null,1,49,"ROBION Paul",3,1,1,null,null,null,null,"SIOUVILLE ATTLC","1/1"]
[null,null,null,null,null,null,null,null,null,null,null,null,null,null,null,null,null,null,null,null,null,null,null,null,null,null,null,null,null,null,null,null,1,47,"LEVILLAIN Camille",4,1,1,null,null,null,null,"ST PAIR BRICQUE","1/1"]
[null,null,null,null,null,null,null,null,null,null,null,null,null,null,null,null,null,null,null,null,null,null,null,null,null,null,null,null,null,null,null,null,1,52,"COUEDEL-COULON Eloan",5,1,1,null,null,null,null,"TT SAINT JAMES","1/1"]
[null,null,null,null,null,null,null,null,null,null,null,null,null,null,null,null,null,null,null,null,null,null,null,null,null,null,null,null,null,null,null,null,null,null,null,null,1,0,null,null,null,null,null,"1/0"]
[null,null,null,null,null,null,null,null,null,null,null,null,null,null,null,null,null,null,null,null,null,null,null,null,null,null,null,null,null,null,null,null,null,null,null,null,2,0,null,null,null,null,null,"2/0"]

{"sheet":"G-232f","index":23,"n_rows":5,"n_cols":9,"rows_kept":5,"cut":false,"hidden":false,"merged":[]}
["Clt",1,2,3,4,5,6,7,8]
["1er",{"$f":"'TS-232f'!AF15","v":0},{"$f":"'TS-232f'!AF16","v":0},{"$f":"'TS-232f'!AF17","v":0},{"$f":"'TS-232f'!AF18","v":0},{"$f":"'TS-232f'!AF19","v":0},{"$f":"'TS-232f'!AF20","v":0},{"$f":"'TS-232f'!AF21","v":0},{"$f":"'TS-232f'!AF22","v":0}]
["2ème",{"$f":"'TS-232f'!AF24","v":0},{"$f":"'TS-232f'!AF25","v":0},{"$f":"'TS-232f'!AF26","v":0},{"$f":"'TS-232f'!AF27","v":0},{"$f":"'TS-232f'!AF28","v":0},{"$f":"'TS-232f'!AF29","v":0},{"$f":"'TS-232f'!AF30","v":0},{"$f":"'TS-232f'!AF31","v":0}]
["3ème",{"$f":"'TS-232f'!AF33","v":0},{"$f":"'TS-232f'!AF34","v":0},{"$f":"'TS-232f'!AF35","v":0},{"$f":"'TS-232f'!AF36","v":0},{"$f":"'TS-232f'!AF37","v":0},{"$f":"'TS-232f'!AF38","v":0},{"$f":"'TS-232f'!AF39","v":0},{"$f":"'TS-232f'!AF40","v":0}]
["4ème",{"$f":"'TS-232f'!AF42","v":0},{"$f":"'TS-232f'!AF43","v":0},{"$f":"'TS-232f'!AF44","v":0},{"$f":"'TS-232f'!AF45","v":0},{"$f":"'TS-232f'!AF46","v":0},{"$f":"'TS-232f'!AF47","v":0},{"$f":"'TS-232f'!AF48","v":0},{"$f":"'TS-232f'!AF49","v":0}]

{"sheet":"TS-264a","index":24,"n_rows":163,"n_cols":89,"rows_kept":163,"cut":false,"hidden":false,"merged":[[7,0,7,11],[3,0,5,42],[7,24,11,24],[7,29,7,37],[8,29,8,40],[7,22,11,22],[3,46,3,49],[4,48,4,49],[118,26,118,42],[14,26,47,26],[14,45,14,63],[15,61,15,63],[16,61,17,61],[16,62,16,63],[14,27,14,42],[13,26,13,42],[15,22,15,25],[83,26,83,42],[84,26,117,26],[49,27,49,37],[49,26,82,26],[48,26,48,37]]}
[{"$f":"\"Epreuve  : \"&'TS-200'!$C$1","v":"Epreuve  : Critérium Fédéral"},null,null,null,null,null,null,null,null,null,null,null,null,null,null,null,null,null,null,null,null,null,null,null,null,null,null,null,null,null,null,null,null,null,null,null,null,null,null,null,null,null,{"$f":"\"Lieu : \"&'TS-200'!$C$2","v":"Lieu : Pont à Mousson"}]
[{"$f":"\"Tableau : \"&'TS-200'!$C$4","v":"Tableau :  "},null,null,null,null,null,null,null,null,null,null,null,null,null,null,null,null,null,null,null,null,null,null,null,null,null,null,null,null,null,null,null,null,null,null,null,null,null,null,null,null,null,{"$f":"\"Date : \"&'TS-200'!$C$3","v":"Date : 15 au 17 mars 2019"}]
[]
["TABLEAU DE TIRAGE AU SORT\n64 JOUEURS\n32 poules - 2 qualifiés",null,null,null,null,null,null,null,null,null,null,null,null,null,null,null,null,null,null,null,null,null,null,null,null,null,null,null,null,null,null,null,null,null,null,null,null,null,null,null,null,null,null,{"$f":"+AI4","v":0},{"$f":"COUNTIF(AR:AR,AI4)","v":74},null,"Bornes TAS",null,null,null,null,null,null,null,null,null,null,null,null,null,null,null,null,null,null,null,null,null,null,null,null,null,null,null,null,null,null,null,null,null,null,null,null,null,null,1,"H","H","B"]
[null,null,null,null,null,null,null,null,null,null,null,null,null,null,null,null,null,null,null,null,null,null,null,null,null,null,null,null,null,null,null,null,null,null,null,null,null,null,null,null,null,null,null,0,{"$f":"COUNTIF(AR:AR,AI5)","v":74},null,"Inf","Sup","Nb joueurs",null,null,null,null,null,null,null,null,null,null,null,null,null,null,null,null,null,null,null,null,null,null,null,null,null,null,null,null,null,null,null,null,null,null,null,null,2,"H","H","B"]
[null,null,null,null,null,null,null,null,null,null,null,null,null,null,null,null,null,null,null,null,null,null,null,null,null,null,null,null,null,null,null,null,null,null,null,null,null,null,null,null,null,null,null,0,{"$f":"COUNTIF(AR:AR,AI6)","v":74},null,33,64,null,33,null,null,null,null,null,null,null,null,null,null,null,null,null,null,null,null,null,null,null,null,null,null,null,null,null,null,null,null,null,null,null,null,null,null,null,3,"H","H","B"]
[null,null,null,null,null,null,null,null,null,null,null,null,null,null,null,null,null,null,null,null,null,null,null,null,null,null,null,null,null,null,null,null,null,null,null,null,null,null,null,null,null,null,null,0,{"$f":"COUNTIF(AR:AR,AI7)","v":74},null,null,null,null,null,null,null,null,null,null,null,null,null,null,null,null,null,null,null,null,null,null,null,null,null,null,null,null,null,null,null,null,null,null,null,null,null,null,null,null,4,"H","H","B"]
["Critère d'appartenance pour la mise en tableau",null,null,null,null,null,null,null,null,null,null,null,null,null,null,"Club",null,null,null,null,null,null,{"$f":"\"Nb \"&AU6&\"/\"&AV6","v":"Nb 33/64"},null,{"$f":"COUNTIF(AB12:AB126,1)","v":0},null,null,null,null,"Club, Comité ou Ligue (tiré au sort)",null,null,null,null,null,null,null,null,null,null,null,"EQUEURDREVILLE",null,null,null,null,null,null,null,null,null,null,null,null,null,null,null,null,null,null,null,null,null,null,null,null,null,null,null,null,null,null,null,null,null,null,null,null,null,null,null,null,null,null,null,5,"H","H","B"]
[null,null,null,null,"Club",null,null,null,null,null,null,null,null,null,null,null,null,null,null,null,null,null,null,null,null,null,null,null,null,"Partie du tableau tirée au sort (H=Haut, B=Bas)",null,null,null,null,null,null,null,null,null,null,null,"H ou B",null,null,null,null,null,null,null,null,null,null,null,null,null,null,null,null,null,null,null,null,null,null,null,null,null,null,null,null,null,null,null,null,null,null,null,null,null,null,null,null,null,null,null,6,"H","H","B"]
[{"$f":"IF(P8=\"Club\",10,IF(P8=\"Ligue\",11,IF(P8=\"Comité\",12,10)))","v":10},null,null,null,"Ligue",null,null,null,null,null,null,null,null,null,null,null,null,null,null,null,null,null,null,null,null,null,null,null,null,null,null,null,null,null,null,null,null,null,null,null,null,null,"H ou B",null,null,null,null,null,null,null,null,null,null,null,null,null,null,null,null,null,null,null,null,null,null,null,null,null,null,null,null,null,null,null,null,null,null,null,null,null,null,null,null,null,null,7,"H","H","B"]
[{"$f":"IF(P8=\"Club\",10,IF(P8=\"Ligue\",11,IF(P8=\"Comité\",12,10)))","v":10},null,null,null,"Comité",null,null,null,null,null,null,null,null,null,null,null,null,null,null,null,null,null,null,null,null,null,null,null,null,null,null,null,null,null,null,null,null,null,null,null,null,null,"H",null,null,"Position",null,null,null,null,null,null,null,null,null,null,null,null,null,null,null,0,"H","B",null,null,null,null,null,null,null,null,null,null,null,null,null,null,null,null,null,null,null,null,null,8,"H","H","B"]
[null,null,null,null,null,null,null,null,null,null,null,null,null,null,null,null,null,null,null,null,null,null,null,null,null,null,null,null,null,null,null,null,null,null,null,null,null,null,null,null,null,null,"B",null,null,"N° colonne TCD"," ",null,null,null,null,null,null,null,null,null,null,null,null,null,null,{"$f":"MATCH(BJ11,$AT$17:$BE$17,0)","v":2},{"$f":"MATCH(BK11,$AT$17:$BE$17,0)","v":{"$error":"#N/A"}},{"$f":"MATCH(BL11,$AT$17:$BE$17,0)","v":{"$error":"#N/A"}},null,null,null,null,null,null,null,null,null,null,null,null,null,null,null,null,null,null,null,null,null,9,"H","H","B"]
[null,null,null,null,null,null,null,null,null,null,null,null,null,null,null,null,null,null,null,null,null,null,null,null,null,null,null,null,"Pl","x","TAS","N°","Dos","NOM Prénom","y","z","a","1/2 T","b","c","d","Club, Comité ou Ligue","N° Club","y",{"$f":"COUNTIF(AR:AR,AI13)","v":1},null,"H",null,null,null,null,null,null,null,null,null,null,null,null,null,null,null,null,null,null,null,null,null,null,null,null,null,null,null,null,null,null,null,null,null,null,null,null,null,null,10,"H","H","B"]
[null,null,null,null,null,null,null,null,null,null,null,null,null,null,null,null,null,null,null,null,null,null,null,null,null,null,"X",null,null,null,null,null,null,null,null,null,null,null,null,null,null,null,null,0,{"$f":"COUNTIF(AR:AR,AI14)","v":74},null,"B",null,null,null,null,null,null,null,null,null,null,null,null,null,null,null,null,null,null,null,null,null,null,null,null,null,null,null,null,null,null,null,null,null,null,null,null,null,null,11,"H","H","B"]
[null,null,null,null,null,null,null,null,null,null,null,null,null,null,null,null,null,null,null,null,null,null,null,null,null,null,null,"1er de poule",null,null,null,null,null,null,null,null,null,null,null,null,null,null,null,{"$f":"+AI15","v":0},{"$f":"COUNTIF(AR:AR,AI15)","v":74},"NB JOUEUR / CLUB",null,null,null,null,null,null,null,null,null,null,null,null,null,null,null,null,null,null,null,null,null,null,null,null,null,null,null,null,null,null,null,null,null,null,null,null,null,null,null,12,"H","H","B"]
[null,null,null,null,null,null,null,null,null,null,null,null,null,null,null,null,null,null,null,null,null,null,"N° Dispo",null,null,null,null,null,"Pl","x","TAS","N°","Dos","NOM Prénom","Rang","SPIDD","a","1/2 T","b","c","d","Club, Comité ou Ligue","N° Club",{"$f":"+AI16","v":"Rang"},{"$f":"COUNTIF(AR:AR,AI16)","v":2},"NB Club, Comité ou Ligue","1/2 T","N°",null,null,null,null,null,null,null,null,null,null,null,null,null,"TAS >1",null,null,null,null,null,null,null,null,null,null,null,null,null,null,null,null,null,null,null,null,null,null,null,13,"H","H","B"]
[1,1,1,1,{"$f":"IF(ISNA(VLOOKUP(C17,$AE$7:$AQ$152,4,FALSE)),\"\",VLOOKUP(C17,$AE$7:$AQ$152,4,FALSE)&\" - \"&VLOOKUP(C17,$AE$7:$AQ$152,12,FALSE))","v":""},{"$f":"IF(ISNA(VLOOKUP(C17,$AE$7:$AQ$152,12,FALSE)),\"\",VLOOKUP(C17,$AE$7:$AQ$152,12,FALSE))","v":""}," ",null,null,null,null,33,"3=",33,3,{"$f":"IF(ISNA(VLOOKUP(N17,$AE$7:$AQ$152,4,FALSE)),\"\",VLOOKUP(N17,$AE$7:$AQ$152,4,FALSE)&\" - \"&VLOOKUP(N17,$AE$7:$AQ$152,12,FALSE))","v":""},{"$f":"IF(ISNA(VLOOKUP(N17,$AE$7:$AQ$152,12,FALSE)),\"\",VLOOKUP(N17,$AE$7:$AQ$152,12,FALSE))","v":""}," "," "," ",null,null,1,null,2,null,null,null,"P",1,null,1,{"$f":"IF(ISNA(VLOOKUP(AJ17,Liste_SPIDD,2,FALSE)),901,VLOOKUP(AJ17,Liste_SPIDD,2,FALSE))","v":44},{"$f":"IF(AG17=\"\",\"\",IF(ISNA(VLOOKUP(AG17,Liste_Dos_SPIDD,2,FALSE)),VLOOKUP(AG17,Liste_J,3,FALSE),VLOOKUP(AG17,Liste_Dos_SPIDD,2,FALSE)))","v":"LUCAS Ifig"},1,{"$f":"AD17&AF17","v":"11"},null,{"$f":"IF($AE17=0,0,VLOOKUP($AE17,$CH$4:$CK$70,2,FALSE))","v":0},null,null,null,{"$f":"IF(AG17=\"\",\"\",IF(ISNA(VLOOKUP(AG17,Liste_Dos_SPIDD,3,FALSE)),VLOOKUP(AG17,Liste_J,$A$10,FALSE),VLOOKUP(AG17,Liste_Dos_SPIDD,3,FALSE)))","v":"EQUEURDREVILLE"},{"$f":"IF(ISERROR(VLOOKUP(AG17,$AG$131:$AQ$163,1,FALSE)),\"\",IF(VLOOKUP(AG17,$AG$131:$AQ$163,11,FALSE)=\"1/1\",\"\",VLOOKUP(AG17,$AG$131:$AQ$163,11,FALSE)))","v":"1/2"},{"$f":"+AE17","v":0},{"$f":"COUNTIF(AR:AR,AE17)","v":74},null,0,"Total 0","","Total ","Total général",null,null,null,null,null,null,null,null,null,null,"1er","2ème",null,null,null,null,null,null,null,null,null,null,null,null,null,null,null,null,null,null,null,null,null,null,14,"H","H","B"]
[2,"33=",2,64,"",""," ",null,null,null,null,34,"33=",34,62,"",""," "," "," ",null,null,64,null,63,null,null,null,"P",2,null,1,50,"VIDAL Charles",2,{"$f":"AD18&AF18","v":"21"},null,0,null,null,null,"ASSUN TT",{"$f":"IF(ISERROR(VLOOKUP(AG18,$AG$131:$AQ$163,1,FALSE)),\"\",IF(VLOOKUP(AG18,$AG$131:$AQ$163,11,FALSE)=\"1/1\",\"\",VLOOKUP(AG18,$AG$131:$AQ$163,11,FALSE)))","v":"1/2"},0,74,"Club, Comité ou Ligue",1,null,2,null,null,null,null,null,null,null,null,null,null,null,null,null,"H","B",null,null,null,null,null,null,null,null,null,null,null,null,null,null,null,null,null,null,null,null,null,15,"H","H","B"]
[3,"33=",3,33,"",""," ",null,null,null,null,35,"33=",35,35,"",""," "," "," ",null,null,33,null,34,null,null,null,"P",3,null,1,49,"ROBION Paul",3,"31",null,0,null,null,null,"SIOUVILLE ATTLC","1/2",0,74,"ASSUN TT",2,2,2,2,4,null,null,null,null,null,null,null,null,null,null,{"$f":"IF(VLOOKUP($AT19,$AT$15:$BH$83,BJ$12,FALSE)>1,VLOOKUP($AT19,$AT$15:$BH$83,BJ$12,FALSE),\"\")","v":2},{"$f":"IF(OR(VLOOKUP($AT19,$AT$15:$BH$83,BK$12+1,FALSE)>1,AND(VLOOKUP($AT19,$AT$15:$BH$83,BK$12+1,FALSE)=1,VLOOKUP($AT19,$AT$15:$BH$83,BK$12+2,FALSE)>1)),VLOOKUP($AT19,$AT$15:$BH$83,BK$12+2,FALSE),\"\")","v":{"$error":"#N/A"}},{"$error":"#N/A"},null,null,null,null,null,null,null,null,null,null,null,null,null,null,null,null,null,null,null,null,null,16,"H","H","B"]
[4,"17=",4,32,"",""," ",null,null,null,null,36,"17=",36,30,"",""," "," "," ",null,null,32,null,31,null,null,null,"P",4,null,1,47,"LEVILLAIN Camille",4,"41",null,0,null,null,null,"ST PAIR BRICQUE","1/6",0,74,"ATTDUCEYAVRANCH",4,4,4,4,8,null,null,null,null,null,null,null,null,null,null,4,{"$error":"#N/A"},{"$error":"#N/A"},null,null,null,null,null,null,null,null,null,null,null,null,null,null,null,null,null,null,null,null,null,17,"H","B","B"]
[5,"17=",5,17,"",""," ",null,null,null,null,37,"17=",37,19,"",""," "," "," ",null,null,17,null,18,null,null,null,"P",5,null,1,52,"COUEDEL-COULON Eloan",5,"51",null,0,null,null,null,"TT SAINT JAMES","1/4",0,74,"CARANTILLAISE",2,2,2,2,4,null,null,null,null,null,null,null,null,null,null,2,{"$error":"#N/A"},{"$error":"#N/A"},null,null,null,null,null,null,null,null,null,null,null,null,null,null,null,null,null,null,null,null,null,18,"H","B","B"]
[6,"33=",6,48,"",""," ",null,null,null,null,38,"33=",38,46,"",""," "," "," ",null,null,48,null,47,null,null,null,"P",6,null,1,45,"LECLERC Alexandre-Bao",6,"61",null,0,null,null,null,"OC AGNEAUX","1/2",0,74,"COUTANCES JA",4,4,4,4,8,null,null,null,null,null,null,null,null,null,null,4,{"$error":"#N/A"},{"$error":"#N/A"},null,null,null,null,null,null,null,null,null,null,null,null,null,null,null,null,null,null,null,null,null,19,"H","B","B"]
[7,"33=",7,49,"",""," ",null,null,null,null,39,"33=",39,51,"",""," "," "," ",null,null,49,null,50,null,null,null,"P",7,null,1,46,"NICOLLE Augustin",7,"71",null,0,null,null,null,"COUTANCES JA","1/4",0,74,"EQUEURDREVILLE",2,2,2,2,4,null,null,null,null,null,null,null,null,null,null,2,{"$error":"#N/A"},{"$error":"#N/A"},null,null,null,null,null,null,null,null,null,null,null,null,null,null,null,null,null,null,null,null,null,20,"H","B","B"]
[8,"9=",8,16,"",""," ",null,null,null,null,40,"9=",40,14,"",""," "," "," ",null,null,16,null,15,null,null,null,"P",8,null,1,48,"NICOLLE Emile",8,"81",null,0,null,null,null,"COUTANCES JA","2/4",0,74,"OC AGNEAUX",2,2,2,2,4,null,null,null,null,null,null,null,null,null,null,2,{"$error":"#N/A"},{"$error":"#N/A"},null,null,null,null,null,null,null,null,null,null,null,null,null,null,null,null,null,null,null,null,null,21,"H","B","B"]
[9,"9=",9,9,"",""," ",null,null,null,null,41,"9=",41,11,"",""," "," "," ",null,null,9,null,10,null,null,null,"P",9,null,1,51,"RIPOCHE Nathan",9,"91",null,0,null,null,null,"ST PAIR BRICQUE","2/6",0,74,"SIOUVILLE ATTLC",2,2,2,2,4,null,null,null,null,null,null,null,null,null,null,2,{"$error":"#N/A"},{"$error":"#N/A"},null,null,null,null,null,null,null,null,null,null,null,null,null,null,null,null,null,null,null,null,null,22,"H","B","B"]
[10,"33=",10,56,"",""," ",null,null,null,null,42,"33=",42,54,"",""," "," "," ",null,null,56,null,55,null,null,null,"P",10,null,1,58,"PEIN Edgar",10,"101",null,0,null,null,null,"ST PAIR BRICQUE","3/6",0,74,"ST PAIR BRICQUE",6,6,6,6,12,null,null,null,null,null,null,null,null,null,null,6,{"$error":"#N/A"},{"$error":"#N/A"},null,null,null,null,null,null,null,null,null,null,null,null,null,null,null,null,null,null,null,null,null,23,"H","B","B"]
[11,"33=",11,41,"",""," ",null,null,null,null,43,"33=",43,43,"",""," "," "," ",null,null,41,null,42,null,null,null,"P",11,null,1,54,"RICOUX Bastien",11,"111",null,0,null,null,null,"ATTDUCEYAVRANCH","1/4",0,74,"TORIGNAISE ESTT",4,4,4,4,8,null,null,null,null,null,null,null,null,null,null,4,{"$error":"#N/A"},{"$error":"#N/A"},null,null,null,null,null,null,null,null,null,null,null,null,null,null,null,null,null,null,null,null,null,24,"H","B","B"]
[12,"17=",12,24,"",""," ",null,null,null,null,44,"17=",44,22,"",""," "," "," ",null,null,24,null,23,null,null,null,"P",12,null,1,55,"ROC Ferdinand",12,"121",null,0,null,null,null,"ATTDUCEYAVRANCH","2/4",0,74,"TT SAINT JAMES",4,4,4,4,8,null,null,null,null,null,null,null,null,null,null,4,{"$error":"#N/A"},{"$error":"#N/A"},null,null,null,null,null,null,null,null,null,null,null,null,null,null,null,null,null,null,null,null,null,25,"H","B","B"]
[13,"17=",13,25,"",""," ",null,null,null,null,45,"17=",45,27,"",""," "," "," ",null,null,25,null,26,null,null,null,"P",13,null,1,57,"RIGOT Noe",13,"131",null,0,null,null,null,"CARANTILLAISE","1/2",0,74,"Total général",32,32,32,32,64,null,null,null,null,null,null,null,null,null,null,32,{"$error":"#N/A"},{"$error":"#N/A"},null,null,null,null,null,null,null,null,null,null,null,null,null,null,null,null,null,null,null,null,null,26,"H","B","B"]
[14,"33=",14,40,"",""," ",null,null,null,null,46,"33=",46,38,"",""," "," "," ",null,null,40,null,39,null,null,null,"P",14,null,1,53,"MASSELINE Malo",14,"141",null,0,null,null,null,"TORIGNAISE ESTT","1/4",0,74,null,null,null,null,null,null,null,null,null,null,null,null,null,null,null,null,{"$error":"#N/A"},{"$error":"#N/A"},{"$error":"#N/A"},null,null,null,null,null,null,null,null,null,null,null,null,null,null,null,null,null,null,null,null,null,27,"H","B","B"]
[15,"33=",15,57,"",""," ",null,null,null,null,47,"33=",47,59,"",""," "," "," ",null,null,57,null,58,null,null,null,"P",15,null,1,59,"BRILLET Pacome",15,"151",null,0,null,null,null,"TT SAINT JAMES","2/4",0,74,null,null,null,null,null,null,null,null,null,null,null,null,null,null,null,null,{"$error":"#N/A"},{"$error":"#N/A"},{"$error":"#N/A"},null,null,null,null,null,null,null,null,null,null,null,null,null,null,null,null,null,null,null,null,null,28,"H","B","B"]
[16,"5=",16,8,"",""," ",null,null,null,null,48,"5=",48,6,"",""," "," "," ",null,null,8,null,7,null,null,null,"P",16,null,1,56,"VARIN Louis",16,"161",null,0,null,null,null,"TORIGNAISE ESTT","2/4",0,74,null,null,null,null,null,null,null,null,null,null,null,null,null,null,null,null,{"$error":"#N/A"},{"$error":"#N/A"},{"$error":"#N/A"},null,null,null,null,null,null,null,null,null,null,null,null,null,null,null,null,null,null,null,null,null,29,"H","B","B"]
[17,"5=",17,5,"",""," ",null,null,null,null,49,"5=",49,7,"",""," "," "," ",null,null,5,null,6,null,null,null,"P",17,null,1,121,"LUCAS Ifig",17,"171",null,0,null,null,null,"EQUEURDREVILLE","2/2",0,74,null,null,null,null,null,null,null,null,null,null,null,null,null,null,null,null,{"$error":"#N/A"},{"$error":"#N/A"},{"$error":"#N/A"},null,null,null,null,null,null,null,null,null,null,null,null,null,null,null,null,null,null,null,null,null,30,"H","B","B"]
[18,"33=",18,60,"",""," ",null,null,null,null,50,"33=",50,58,"",""," "," "," ",null,null,60,null,59,null,null,null,"P",18,null,1,122,"VIDAL Charles",18,"181",null,0,null,null,null,"ASSUN TT","2/2",0,74,null,null,null,null,null,null,null,null,null,null,null,null,null,null,null,null,{"$error":"#N/A"},{"$error":"#N/A"},{"$error":"#N/A"},null,null,null,null,null,null,null,null,null,null,null,null,null,null,null,null,null,null,null,null,null,31,"H","B","B"]
[19,"33=",19,37,"",""," ",null,null,null,null,51,"33=",51,39,"",""," "," "," ",null,null,37,null,38,null,null,null,"P",19,null,1,123,"ROBION Paul",19,"191",null,0,null,null,null,"SIOUVILLE ATTLC","2/2",0,74,null,null,null,null,null,null,null,null,null,null,null,null,null,null,null,null,{"$error":"#N/A"},{"$error":"#N/A"},{"$error":"#N/A"},null,null,null,null,null,null,null,null,null,null,null,null,null,null,null,null,null,null,null,null,null,32,"H","B","B"]
[20,"17=",20,28,"",""," ",null,null,null,null,52,"17=",52,26,"",""," "," "," ",null,null,28,null,27,null,null,null,"P",20,null,1,124,"LEVILLAIN Camille",20,"201",null,0,null,null,null,"ST PAIR BRICQUE","4/6",0,74,null,null,null,null,null,null,null,null,null,null,null,null,null,null,null,null,{"$error":"#N/A"},{"$error":"#N/A"},{"$error":"#N/A"},null,null,null,null,null,null,null,null,null,null,null,null,null,null,null,null,null,null,null,null,null,33,"B","H","H"]
[21,"17=",21,21,"",""," ",null,null,null,null,53,"17=",53,23,"",""," "," "," ",null,null,21,null,22,null,null,null,"P",21,null,1,125,"COUEDEL-COULON Eloan",21,"211",null,0,null,null,null,"TT SAINT JAMES","3/4",0,74,null,null,null,null,null,null,null,null,null,null,null,null,null,null,null,null,{"$error":"#N/A"},{"$error":"#N/A"},{"$error":"#N/A"},null,null,null,null,null,null,null,null,null,null,null,null,null,null,null,null,null,null,null,null,null,34,"B","H","H"]
[22,"33=",22,44,"",""," ",null,null,null,null,54,"33=",54,42,"",""," "," "," ",null,null,44,null,43,null,null,null,"P",22,null,1,126,"LECLERC Alexandre-Bao",22,"221",null,0,null,null,null,"OC AGNEAUX","2/2",0,74,null,null,null,null,null,null,null,null,null,null,null,null,null,null,null,null,{"$error":"#N/A"},{"$error":"#N/A"},{"$error":"#N/A"},null,null,null,null,null,null,null,null,null,null,null,null,null,null,null,null,null,null,null,null,null,35,"B","H","H"]
[23,"33=",23,53,"",""," ",null,null,null,null,55,"33=",55,55,"",""," "," "," ",null,null,53,null,54,null,null,null,"P",23,null,1,127,"NICOLLE Augustin",23,"231",null,0,null,null,null,"COUTANCES JA","3/4",0,74,null,null,null,null,null,null,null,null,null,null,null,null,null,null,null,null,{"$error":"#N/A"},{"$f":"IF(OR(VLOOKUP($AT39,$AT$15:$BH$83,BK$12+1,FALSE)>1,AND(VLOOKUP($AT39,$AT$15:$BH$83,BK$12+1,FALSE)=1,VLOOKUP($AT39,$AT$15:$BH$83,BK$12+2,FALSE)>1)),VLOOKUP($AT39,$AT$15:$BH$83,BK$12+2,FALSE),\"\")","v":{"$error":"#N/A"}},{"$error":"#N/A"},null,null,null,null,null,null,null,null,null,null,null,null,null,null,null,null,null,null,null,null,null,36,"B","H","H"]
[24,"9=",24,12,"",""," ",null,null,null,null,56,"9=",56,10,"",""," "," "," ",null,null,12,null,11,null,null,null,"P",24,null,1,128,"NICOLLE Emile",24,"241",null,0,null,null,null,"COUTANCES JA","4/4",0,74,null,null,null,null,null,null,null,null,null,null,null,null,null,null,null,null,{"$error":"#N/A"},{"$error":"#N/A"},{"$error":"#N/A"},null,null,null,null,null,null,null,null,null,null,null,null,null,null,null,null,null,null,null,null,null,37,"B","H","H"]
[25,"9=",25,13,"",""," ",null,null,null,null,57,"9=",57,15,"",""," "," "," ",null,null,13,null,14,null,null,null,"P",25,null,1,129,"RIPOCHE Nathan",25,"251",null,0,null,null,null,"ST PAIR BRICQUE","5/6",0,74,null,null,null,null,null,null,null,null,null,null,null,null,null,null,null,null,{"$error":"#N/A"},{"$error":"#N/A"},{"$error":"#N/A"},null,null,null,null,null,null,null,null,null,null,null,null,null,null,null,null,null,null,null,null,null,38,"B","H","H"]
[26,"33=",26,52,"",""," ",null,null,null,null,58,"33=",58,50,"",""," "," "," ",null,null,52,null,51,null,null,null,"P",26,null,1,130,"PEIN Edgar",26,"261",null,0,null,null,null,"ST PAIR BRICQUE","6/6",0,74,null,null,null,null,null,null,null,null,null,null,null,null,null,null,null,null,{"$error":"#N/A"},{"$error":"#N/A"},{"$error":"#N/A"},null,null,null,null,null,null,null,null,null,null,null,null,null,null,null,null,null,null,null,null,null,39,"B","H","H"]
[27,"33=",27,45,"",""," ",null,null,null,null,59,"33=",59,47,"",""," "," "," ",null,null,45,null,46,null,null,null,"P",27,null,1,131,"RICOUX Bastien",27,"271",null,0,null,null,null,"ATTDUCEYAVRANCH","3/4",0,74,null,null,null,null,null,null,null,null,null,null,null,null,null,null,null,null,{"$error":"#N/A"},{"$error":"#N/A"},{"$error":"#N/A"},null,null,null,null,null,null,null,null,null,null,null,null,null,null,null,null,null,null,null,null,null,40,"B","H","H"]
[28,"17=",28,20,"",""," ",null,null,null,null,60,"17=",60,18,"",""," "," "," ",null,null,20,null,19,null,null,null,"P",28,null,1,132,"ROC Ferdinand",28,"281",null,0,null,null,null,"ATTDUCEYAVRANCH","4/4",0,74,null,null,null,null,null,null,null,null,null,null,null,null,null,null,null,null,{"$error":"#N/A"},{"$error":"#N/A"},{"$error":"#N/A"},null,null,null,null,null,null,null,null,null,null,null,null,null,null,null,null,null,null,null,null,null,41,"B","H","H"]
[29,"17=",29,29,"",""," ",null,null,null,null,61,"17=",61,31,"",""," "," "," ",null,null,29,null,30,null,null,null,"P",29,null,1,133,"RIGOT Noe",29,"291",null,0,null,null,null,"CARANTILLAISE","2/2",0,74,null,null,null,null,null,null,null,null,null,null,null,null,null,null,null,null,{"$error":"#N/A"},{"$error":"#N/A"},{"$error":"#N/A"},null,null,null,null,null,null,null,null,null,null,null,null,null,null,null,null,null,null,null,null,null,42,"B","H","H"]
[30,"33=",30,36,"",""," ",null,null,null,null,62,"33=",62,34,"",""," "," "," ",null,null,36,null,35,null,null,null,"P",30,null,1,134,"MASSELINE Malo",30,"301",null,0,null,null,null,"TORIGNAISE ESTT","3/4",0,74,null,null,null,null,null,null,null,null,null,null,null,null,null,null,null,null,{"$error":"#N/A"},{"$error":"#N/A"},{"$error":"#N/A"},null,null,null,null,null,null,null,null,null,null,null,null,null,null,null,null,null,null,null,null,null,43,"B","H","H"]
[31,"33=",31,61,"",""," ",null,null,null,null,63,"33=",63,63,"",""," "," "," ",null,null,61,null,62,null,null,null,"P",31,null,1,135,"BRILLET Pacome",31,"311",null,0,null,null,null,"TT SAINT JAMES","4/4",0,74,null,null,null,null,null,null,null,null,null,null,null,null,null,null,null,null,{"$error":"#N/A"},{"$error":"#N/A"},{"$error":"#N/A"},null,null,null,null,null,null,null,null,null,null,null,null,null,null,null,null,null,null,null,null,null,44,"B","H","H"]
[32,"3=",32,4,"",""," ",null,null,null,null,64,2,64,2,"",""," "," "," ",null,null,4,null,3,null,null,null,"P",32,null,1,136,"VARIN Louis",32,"321",null,0,null,null,null,"TORIGNAISE ESTT","4/4",0,74,null,null,null,null,null,null,null,null,null,null,null,null,null,null,null,null,{"$error":"#N/A"},{"$error":"#N/A"},{"$error":"#N/A"},null,null,null,null,null,null,null,null,null,null,null,null,null,null,null,null,null,null,null,null,null,45,"B","H","H"]
[null,null,null,null,null,null,null,null,null,null,null,null,null,null,null,null,null,null,null,null,null,null,null,null,null,null,null,null,null,null,null,null,null,null,null,null,null,null,null,null,null,null,null,{"$f":"+AI49","v":0},{"$f":"COUNTIF(AR:AR,AI49)","v":74},null,null,null,null,null,null,null,null,null,null,null,null,null,null,null,null,{"$error":"#N/A"},{"$error":"#N/A"},{"$error":"#N/A"},null,null,null,null,null,null,null,null,null,null,null,null,null,null,null,null,null,null,null,null,null,46,"B","H","H"]
[null,null,null,null,null,null,null,null,null,null,null,null,null,null,null,null,null,null,null,null,null,null,null,null,null,null,null,"2ème de poule",null,null,null,null,null,null,null,null,null,null,null,null,null,null,null,{"$f":"+#REF!","v":{"$error":"#REF!"}},{"$f":"COUNTIF(AR:AR,#REF!)","v":34},null,null,null,null,null,null,null,null,null,null,null,null,null,null,null,null,{"$error":"#N/A"},{"$error":"#N/A"},{"$error":"#N/A"},null,null,null,null,null,null,null,null,null,null,null,null,null,null,null,null,null,null,null,null,null,47,"B","H","H"]
[null,null,null,null,null,null,null,null,null,null,null,null,null,null,null,null,null,null,null,null,null,null,null,null,null,null,null,null,"Pl","x","TAS","N°","Dos","NOM Prénom","Rang","SPIDD","a","1/2 T","b","c","d","Club","N° Club",{"$f":"+#REF!","v":{"$error":"#REF!"}},{"$f":"COUNTIF(AR:AR,#REF!)","v":34},null,null,null,null,null,null,null,null,null,null,null,null,null,null,null,null,{"$f":"IF(VLOOKUP($AT51,$AT$15:$BH$83,BJ$12,FALSE)>1,VLOOKUP($AT51,$AT$15:$BH$83,BJ$12,FALSE),\"\")","v":{"$error":"#N/A"}},{"$error":"#N/A"},{"$error":"#N/A"},null,null,null,null,null,null,null,null,null,null,null,null,null,null,null,null,null,null,null,null,null,48,"B","H","H"]
[null,null,null,null,null,null,null,null,null,null,null,null,null,null,null,null,null,null,null,null,null,null,null,null,null,null,null,null,"P",1,null,2,{"$f":"IF(ISNA(VLOOKUP(AJ52,Liste_SPIDD,2,FALSE)),901,VLOOKUP(AJ52,Liste_SPIDD,2,FALSE))","v":201},{"$f":"IF(AG52=\"\",\"\",IF(ISNA(VLOOKUP(AG52,Liste_Dos_SPIDD,2,FALSE)),VLOOKUP(AG52,Liste_J,3,FALSE),VLOOKUP(AG52,Liste_Dos_SPIDD,2,FALSE)))","v":"LUCAS Ifig"},1,{"$f":"AD52&AF52","v":"12"},null,{"$f":"IF(AL17=\"H\",\"B\",IF(AL17=\"B\",\"H\",\"\"))","v":""},null,null,null,{"$f":"IF(AG52=\"\",\"\",IF(ISNA(VLOOKUP(AG52,Liste_Dos_SPIDD,3,FALSE)),VLOOKUP(AG52,Liste_J,$A$10,FALSE),VLOOKUP(AG52,Liste_Dos_SPIDD,3,FALSE)))","v":"EQUEURDREVILLE"},{"$f":"IF(ISERROR(VLOOKUP(AP52,$AT$13:$BL$120,18,FALSE)),\"\",IF(AL52=\"H\",VLOOKUP(AP52,$AT$13:$BL$120,18,FALSE),IF(AL52=\"B\",VLOOKUP(AP52,$AT$13:$BL$120,19,FALSE),\"\")))","v":""},{"$f":"+#REF!","v":{"$error":"#REF!"}},{"$f":"COUNTIF(AR:AR,#REF!)","v":34},null,null,null,null,null,null,null,null,null,null,null,null,null,null,null,null,{"$error":"#N/A"},{"$error":"#N/A"},{"$error":"#N/A"},null,null,null,null,null,null,null,null,null,null,null,null,null,null,null,null,null,null,null,null,null,49,"B","B","H"]
[null,null,null,null,null,null,null,null,null,null,null,null,null,null,null,null,null,null,null,null,null,null,null,null,null,null,null,null,"P",2,null,2,202,"VIDAL Charles",2,{"$f":"AD53&AF53","v":"22"},null,"",null,null,null,"ASSUN TT","",{"$f":"+#REF!","v":{"$error":"#REF!"}},{"$f":"COUNTIF(AR:AR,#REF!)","v":34},null,null,null,null,null,null,null,null,null,null,null,null,null,null,null,null,{"$error":"#N/A"},{"$error":"#N/A"},{"$error":"#N/A"},null,null,null,null,null,null,null,null,null,null,null,null,null,null,null,null,null,null,null,null,null,50,"B","B","H"]
[null,null,null,null,null,null,null,null,null,null,null,null,null,null,null,null,null,null,null,null,null,null,null,null,null,null,null,null,"P",3,null,2,203,"ROBION Paul",3,"32",null,"",null,null,null,"SIOUVILLE ATTLC","",{"$f":"+#REF!","v":{"$error":"#REF!"}},{"$f":"COUNTIF(AR:AR,#REF!)","v":34},null,null,null,null,null,null,null,null,null,null,null,null,null,null,null,null,{"$error":"#N/A"},{"$error":"#N/A"},{"$error":"#N/A"},null,null,null,null,null,null,null,null,null,null,null,null,null,null,null,null,null,null,null,null,null,51,"B","B","H"]
[null,null,null,null,null,null,null,null,null,null,null,null,null,null,null,null,null,null,null,null,null,null,null,null,null,null,null,null,"P",4,null,2,204,"LEVILLAIN Camille",4,"42",null,"",null,null,null,"ST PAIR BRICQUE","",{"$f":"+#REF!","v":{"$error":"#REF!"}},{"$f":"COUNTIF(AR:AR,#REF!)","v":34},null,null,null,null,null,null,null,null,null,null,null,null,null,null,null,null,{"$error":"#N/A"},{"$error":"#N/A"},{"$error":"#N/A"},null,null,null,null,null,null,null,null,null,null,null,null,null,null,null,null,null,null,null,null,null,52,"B","B","H"]
[null,null,null,null,null,null,null,null,null,null,null,null,null,null,null,null,null,null,null,null,null,null,null,null,null,null,null,null,"P",5,null,2,205,"COUEDEL-COULON Eloan",5,"52",null,"",null,null,null,"TT SAINT JAMES","",{"$f":"+#REF!","v":{"$error":"#REF!"}},{"$f":"COUNTIF(AR:AR,#REF!)","v":34},null,null,null,null,null,null,null,null,null,null,null,null,null,null,null,null,{"$error":"#N/A"},{"$error":"#N/A"},{"$error":"#N/A"},null,null,null,null,null,null,null,null,null,null,null,null,null,null,null,null,null,null,null,null,null,53,"B","B","H"]
[null,null,null,null,null,null,null,null,null,null,null,null,null,null,null,null,null,null,null,null,null,null,null,null,null,null,null,null,"P",6,null,2,206,"LECLERC Alexandre-Bao",6,"62",null,"",null,null,null,"OC AGNEAUX","",{"$f":"+#REF!","v":{"$error":"#REF!"}},{"$f":"COUNTIF(AR:AR,#REF!)","v":34},null,null,null,null,null,null,null,null,null,null,null,null,null,null,null,null,{"$error":"#N/A"},{"$error":"#N/A"},{"$error":"#N/A"},null,null,null,null,null,null,null,null,null,null,null,null,null,null,null,null,null,null,null,null,null,54,"B","B","H"]
[null,null,null,null,null,null,null,null,null,null,null,null,null,null,null,null,null,null,null,null,null,null,null,null,null,null,null,null,"P",7,null,2,207,"NICOLLE Augustin",7,"72",null,"",null,null,null,"COUTANCES JA","",{"$f":"+#REF!","v":{"$error":"#REF!"}},{"$f":"COUNTIF(AR:AR,#REF!)","v":34},null,null,null,null,null,null,null,null,null,null,null,null,null,null,null,null,{"$error":"#N/A"},{"$error":"#N/A"},{"$error":"#N/A"},null,null,null,null,null,null,null,null,null,null,null,null,null,null,null,null,null,null,null,null,null,55,"B","B","H"]
[null,null,null,null,null,null,null,null,null,null,null,null,null,null,null,null,null,null,null,null,null,null,null,null,null,null,null,null,"P",8,null,2,208,"NICOLLE Emile",8,"82",null,"",null,null,null,"COUTANCES JA","",{"$f":"+#REF!","v":{"$error":"#REF!"}},{"$f":"COUNTIF(AR:AR,#REF!)","v":34},null,null,null,null,null,null,null,null,null,null,null,null,null,null,null,null,{"$error":"#N/A"},{"$f":"IF(OR(VLOOKUP($AT59,$AT$15:$BH$83,BK$12+1,FALSE)>1,AND(VLOOKUP($AT59,$AT$15:$BH$83,BK$12+1,FALSE)=1,VLOOKUP($AT59,$AT$15:$BH$83,BK$12+2,FALSE)>1)),VLOOKUP($AT59,$AT$15:$BH$83,BK$12+2,FALSE),\"\")","v":{"$error":"#N/A"}},{"$error":"#N/A"},null,null,null,null,null,null,null,null,null,null,null,null,null,null,null,null,null,null,null,null,null,56,"B","B","H"]
[null,null,null,null,null,null,null,null,null,null,null,null,null,null,null,null,null,null,null,null,null,null,null,null,null,null,null,null,"P",9,null,2,209,"RIPOCHE Nathan",9,"92",null,"",null,null,null,"ST PAIR BRICQUE","",{"$f":"+#REF!","v":{"$error":"#REF!"}},{"$f":"COUNTIF(AR:AR,#REF!)","v":34},null,null,null,null,null,null,null,null,null,null,null,null,null,null,null,null,{"$error":"#N/A"},{"$error":"#N/A"},{"$error":"#N/A"},null,null,null,null,null,null,null,null,null,null,null,null,null,null,null,null,null,null,null,null,null,57,"B","B","H"]
[null,null,null,null,null,null,null,null,null,null,null,null,null,null,null,null,null,null,null,null,null,null,null,null,null,null,null,null,"P",10,null,2,210,"PEIN Edgar",10,"102",null,"",null,null,null,"ST PAIR BRICQUE","",{"$f":"+#REF!","v":{"$error":"#REF!"}},{"$f":"COUNTIF(AR:AR,#REF!)","v":34},null,null,null,null,null,null,null,null,null,null,null,null,null,null,null,null,{"$error":"#N/A"},{"$error":"#N/A"},{"$error":"#N/A"},null,null,null,null,null,null,null,null,null,null,null,null,null,null,null,null,null,null,null,null,null,58,"B","B","H"]
[null,null,null,null,null,null,null,null,null,null,null,null,null,null,null,null,null,null,null,null,null,null,null,null,null,null,null,null,"P",11,null,2,211,"RICOUX Bastien",11,"112",null,"",null,null,null,"ATTDUCEYAVRANCH","",{"$f":"+#REF!","v":{"$error":"#REF!"}},{"$f":"COUNTIF(AR:AR,#REF!)","v":34},null,null,null,null,null,null,null,null,null,null,null,null,null,null,null,null,{"$error":"#N/A"},{"$error":"#N/A"},{"$error":"#N/A"},null,null,null,null,null,null,null,null,null,null,null,null,null,null,null,null,null,null,null,null,null,59,"B","B","H"]
[null,null,null,null,null,null,null,null,null,null,null,null,null,null,null,null,null,null,null,null,null,null,null,null,null,null,null,null,"P",12,null,2,212,"ROC Ferdinand",12,"122",null,"",null,null,null,"ATTDUCEYAVRANCH","",{"$f":"+#REF!","v":{"$error":"#REF!"}},{"$f":"COUNTIF(AR:AR,#REF!)","v":34},null,null,null,null,null,null,null,null,null,null,null,null,null,null,null,null,{"$error":"#N/A"},{"$error":"#N/A"},{"$error":"#N/A"},null,null,null,null,null,null,null,null,null,null,null,null,null,null,null,null,null,null,null,null,null,60,"B","B","H"]
[null,null,null,null,null,null,null,null,null,null,null,null,null,null,null,null,null,null,null,null,null,null,null,null,null,null,null,null,"P",13,null,2,213,"RIGOT Noe",13,"132",null,"",null,null,null,"CARANTILLAISE","",{"$f":"+#REF!","v":{"$error":"#REF!"}},{"$f":"COUNTIF(AR:AR,#REF!)","v":34},null,null,null,null,null,null,null,null,null,null,null,null,null,null,null,null,{"$error":"#N/A"},{"$error":"#N/A"},{"$error":"#N/A"},null,null,null,null,null,null,null,null,null,null,null,null,null,null,null,null,null,null,null,null,null,61,"B","B","H"]
[null,null,null,null,null,null,null,null,null,null,null,null,null,null,null,null,null,null,null,null,null,null,null,null,null,null,null,null,"P",14,null,2,214,"MASSELINE Malo",14,"142",null,"",null,null,null,"TORIGNAISE ESTT","",{"$f":"+#REF!","v":{"$error":"#REF!"}},{"$f":"COUNTIF(AR:AR,#REF!)","v":34},null,null,null,null,null,null,null,null,null,null,null,null,null,null,null,null,{"$error":"#N/A"},{"$error":"#N/A"},{"$error":"#N/A"},null,null,null,null,null,null,null,null,null,null,null,null,null,null,null,null,null,null,null,null,null,62,"B","B","H"]
[null,null,null,null,null,null,null,null,null,null,null,null,null,null,null,null,null,null,null,null,null,null,null,null,null,null,null,null,"P",15,null,2,215,"BRILLET Pacome",15,"152",null,"",null,null,null,"TT SAINT JAMES","",{"$f":"+#REF!","v":{"$error":"#REF!"}},{"$f":"COUNTIF(AR:AR,#REF!)","v":34},null,null,null,null,null,null,null,null,null,null,null,null,null,null,null,null,{"$error":"#N/A"},{"$error":"#N/A"},{"$error":"#N/A"},null,null,null,null,null,null,null,null,null,null,null,null,null,null,null,null,null,null,null,null,null,63,"B","B","H"]
[null,null,null,null,null,null,null,null,null,null,null,null,null,null,null,null,null,null,null,null,null,null,null,null,null,null,null,null,"P",16,null,2,216,"VARIN Louis",16,"162",null,"",null,null,null,"TORIGNAISE ESTT","",{"$f":"+#REF!","v":{"$error":"#REF!"}},{"$f":"COUNTIF(AR:AR,#REF!)","v":34},null,null,null,null,null,null,null,null,null,null,null,null,null,null,null,null,{"$error":"#N/A"},{"$error":"#N/A"},{"$error":"#N/A"},null,null,null,null,null,null,null,null,null,null,null,null,null,null,null,null,null,null,null,null,null,64,"B","B","H"]
[null,null,null,null,null,null,null,null,null,null,null,null,null,null,null,null,null,null,null,null,null,null,null,null,null,null,null,null,"P",17,null,2,217,"LUCAS Ifig",17,"172",null,"",null,null,null,"EQUEURDREVILLE","",{"$f":"+#REF!","v":{"$error":"#REF!"}},{"$f":"COUNTIF(AR:AR,#REF!)","v":34},null,null,null,null,null,null,null,null,null,null,null,null,null,null,null,null,{"$error":"#N/A"},{"$error":"#N/A"},{"$error":"#N/A"}]
[null,null,null,null,null,null,null,null,null,null,null,null,null,null,null,null,null,null,null,null,null,null,null,null,null,null,null,null,"P",18,null,2,218,"VIDAL Charles",18,"182",null,"",null,null,null,"ASSUN TT","",{"$f":"+#REF!","v":{"$error":"#REF!"}},{"$f":"COUNTIF(AR:AR,#REF!)","v":34},null,null,null,null,null,null,null,null,null,null,null,null,null,null,null,null,{"$error":"#N/A"},{"$error":"#N/A"},{"$error":"#N/A"}]
[null,null,null,null,null,null,null,null,null,null,null,null,null,null,null,null,null,null,null,null,null,null,null,null,null,null,null,null,"P",19,null,2,219,"ROBION Paul",19,"192",null,"",null,null,null,"SIOUVILLE ATTLC","",{"$f":"+#REF!","v":{"$error":"#REF!"}},{"$f":"COUNTIF(AR:AR,#REF!)","v":34},null,null,null,null,null,null,null,null,null,null,null,null,null,null,null,null,{"$error":"#N/A"},{"$error":"#N/A"},{"$error":"#N/A"}]
[null,null,null,null,null,null,null,null,null,null,null,null,null,null,null,null,null,null,null,null,null,null,null,null,null,null,null,null,"P",20,null,2,220,"LEVILLAIN Camille",20,"202",null,"",null,null,null,"ST PAIR BRICQUE","",{"$f":"+#REF!","v":{"$error":"#REF!"}},{"$f":"COUNTIF(AR:AR,#REF!)","v":34},null,null,null,null,null,null,null,null,null,null,null,null,null,null,null,null,{"$error":"#N/A"},{"$error":"#N/A"},{"$error":"#N/A"}]
[null,null,null,null,null,null,null,null,null,null,null,null,null,null,null,null,null,null,null,null,null,null,null,null,null,null,null,null,"P",21,null,2,221,"COUEDEL-COULON Eloan",21,"212",null,"",null,null,null,"TT SAINT JAMES","",{"$f":"+#REF!","v":{"$error":"#REF!"}},{"$f":"COUNTIF(AR:AR,#REF!)","v":34},null,null,null,null,null,null,null,null,null,null,null,null,null,null,null,null,{"$error":"#N/A"},{"$error":"#N/A"},{"$error":"#N/A"}]
[null,null,null,null,null,null,null,null,null,null,null,null,null,null,null,null,null,null,null,null,null,null,null,null,null,null,null,null,"P",22,null,2,222,"LECLERC Alexandre-Bao",22,"222",null,"",null,null,null,"OC AGNEAUX","",{"$f":"+#REF!","v":{"$error":"#REF!"}},{"$f":"COUNTIF(AR:AR,#REF!)","v":34},null,null,null,null,null,null,null,null,null,null,null,null,null,null,null,null,{"$error":"#N/A"},{"$error":"#N/A"},{"$error":"#N/A"}]
[null,null,null,null,null,null,null,null,null,null,null,null,null,null,null,null,null,null,null,null,null,null,null,null,null,null,null,null,"P",23,null,2,223,"NICOLLE Augustin",23,"232",null,"",null,null,null,"COUTANCES JA","",{"$f":"+#REF!","v":{"$error":"#REF!"}},{"$f":"COUNTIF(AR:AR,#REF!)","v":34},null,null,null,null,null,null,null,null,null,null,null,null,null,null,null,null,{"$error":"#N/A"},{"$error":"#N/A"},{"$error":"#N/A"}]
[null,null,null,null,null,null,null,null,null,null,null,null,null,null,null,null,null,null,null,null,null,null,null,null,null,null,null,null,"P",24,null,2,224,"NICOLLE Emile",24,"242",null,"",null,null,null,"COUTANCES JA","",{"$f":"+#REF!","v":{"$error":"#REF!"}},{"$f":"COUNTIF(AR:AR,#REF!)","v":34},null,null,null,null,null,null,null,null,null,null,null,null,null,null,null,null,{"$error":"#N/A"},{"$error":"#N/A"},{"$error":"#N/A"}]
[null,null,null,null,null,null,null,null,null,null,null,null,null,null,null,null,null,null,null,null,null,null,null,null,null,null,null,null,"P",25,null,2,225,"RIPOCHE Nathan",25,"252",null,"",null,null,null,"ST PAIR BRICQUE","",{"$f":"+#REF!","v":{"$error":"#REF!"}},{"$f":"COUNTIF(AR:AR,#REF!)","v":34},null,null,null,null,null,null,null,null,null,null,null,null,null,null,null,null,{"$error":"#N/A"},{"$error":"#N/A"},{"$error":"#N/A"}]
[null,null,null,null,null,null,null,null,null,null,null,null,null,null,null,null,null,null,null,null,null,null,null,null,null,null,null,null,"P",26,null,2,226,"PEIN Edgar",26,"262",null,"",null,null,null,"ST PAIR BRICQUE","",{"$f":"+#REF!","v":{"$error":"#REF!"}},{"$f":"COUNTIF(AR:AR,#REF!)","v":34},null,null,null,null,null,null,null,null,null,null,null,null,null,null,null,null,{"$error":"#N/A"},{"$error":"#N/A"},{"$error":"#N/A"}]
[null,null,null,null,null,null,null,null,null,null,null,null,null,null,null,null,null,null,null,null,null,null,null,null,null,null,null,null,"P",27,null,2,227,"RICOUX Bastien",27,"272",null,"",null,null,null,"ATTDUCEYAVRANCH","",{"$f":"+#REF!","v":{"$error":"#REF!"}},{"$f":"COUNTIF(AR:AR,#REF!)","v":34},null,null,null,null,null,null,null,null,null,null,null,null,null,null,null,null,{"$error":"#N/A"},{"$error":"#N/A"},{"$error":"#N/A"}]
[null,null,null,null,null,null,null,null,null,null,null,null,null,null,null,null,null,null,null,null,null,null,null,null,null,null,null,null,"P",28,null,2,228,"ROC Ferdinand",28,"282",null,"",null,null,null,"ATTDUCEYAVRANCH","",{"$f":"+#REF!","v":{"$error":"#REF!"}},{"$f":"COUNTIF(AR:AR,#REF!)","v":34},null,null,null,null,null,null,null,null,null,null,null,null,null,null,null,null,{"$error":"#N/A"},{"$error":"#N/A"},{"$error":"#N/A"}]
[null,null,null,null,null,null,null,null,null,null,null,null,null,null,null,null,null,null,null,null,null,null,null,null,null,null,null,null,"P",29,null,2,229,"RIGOT Noe",29,"292",null,"",null,null,null,"CARANTILLAISE","",{"$f":"+#REF!","v":{"$error":"#REF!"}},{"$f":"COUNTIF(AR:AR,#REF!)","v":34},null,null,null,null,null,null,null,null,null,null,null,null,null,null,null,null,{"$error":"#N/A"},{"$error":"#N/A"},{"$error":"#N/A"}]
[null,null,null,null,null,null,null,null,null,null,null,null,null,null,null,null,null,null,null,null,null,null,null,null,null,null,null,null,"P",30,null,2,230,"MASSELINE Malo",30,"302",null,"",null,null,null,"TORIGNAISE ESTT","",{"$f":"+#REF!","v":{"$error":"#REF!"}},{"$f":"COUNTIF(AR:AR,#REF!)","v":34},null,null,null,null,null,null,null,null,null,null,null,null,null,null,null,null,{"$error":"#N/A"},{"$error":"#N/A"},{"$error":"#N/A"}]
[null,null,null,null,null,null,null,null,null,null,null,null,null,null,null,null,null,null,null,null,null,null,null,null,null,null,null,null,"P",31,null,2,231,"BRILLET Pacome",31,"312",null,"",null,null,null,"TT SAINT JAMES","",{"$f":"+#REF!","v":{"$error":"#REF!"}},{"$f":"COUNTIF(AR:AR,#REF!)","v":34},null,null,null,null,null,null,null,null,null,null,null,null,null,null,null,null,{"$error":"#N/A"},{"$error":"#N/A"},{"$error":"#N/A"}]
[null,null,null,null,null,null,null,null,null,null,null,null,null,null,null,null,null,null,null,null,null,null,null,null,null,null,null,null,"P",32,null,2,232,"VARIN Louis",32,"322",null,"",null,null,null,"TORIGNAISE ESTT","",{"$f":"+#REF!","v":{"$error":"#REF!"}},{"$f":"COUNTIF(AR:AR,#REF!)","v":34},null,null,null,null,null,null,null,null,null,null,null,null,null,null,null,null,{"$error":"#N/A"},{"$error":"#N/A"},{"$error":"#N/A"}]
[null,null,null,null,null,null,null,null,null,null,null,null,null,null,null,null,null,null,null,null,null,null,null,null,null,null,null,null,null,null,null,null,null,null,null,null,null,null,null,null,null,null,null,{"$f":"+AI84","v":0},{"$f":"COUNTIF(AR:AR,AI84)","v":74}]
[null,null,null,null,null,null,null,null,null,null,null,null,null,null,null,null,null,null,null,null,null,null,null,null,null,null,null,null,null,null,null,null,null,null,null,null,null,null,null,null,null,null,null,{"$f":"+AI120","v":0},{"$f":"COUNTIF(AR:AR,AI120)","v":74}]
[null,null,null,null,null,null,null,null,null,null,null,null,null,null,null,null,null,null,null,null,null,null,null,null,null,null,null,null,null,null,null,null,null,null,null,null,null,null,null,null,null,null,null,{"$f":"+AI51","v":"Rang"},{"$f":"COUNTIF(AR:AR,AI51)","v":2}]
[null,null,null,null,null,null,null,null,null,null,null,null,null,null,null,null,null,null,null,null,null,null,null,null,null,null,null,null,null,null,null,null,null,null,null,null,null,null,null,null,null,null,null,{"$f":"+AE52","v":0},{"$f":"COUNTIF(AR:AR,AE52)","v":74}]
[null,null,null,null,null,null,null,null,null,null,null,null,null,null,null,null,null,null,null,null,null,null,null,null,null,null,null,null,null,null,null,null,null,null,null,null,null,null,null,null,null,null,null,0,74]
[null,null,null,null,null,null,null,null,null,null,null,null,null,null,null,null,null,null,null,null,null,null,null,null,null,null,null,null,null,null,null,null,null,null,null,null,null,null,null,null,null,null,null,0,74]
[null,null,null,null,null,null,null,null,null,null,null,null,null,null,null,null,null,null,null,null,null,null,null,null,null,null,null,null,null,null,null,null,null,null,null,null,null,null,null,null,null,null,null,0,74]
[null,null,null,null,null,null,null,null,null,null,null,null,null,null,null,null,null,null,null,null,null,null,null,null,null,null,null,null,null,null,null,null,null,null,null,null,null,null,null,null,null,null,null,0,74]
[null,null,null,null,null,null,null,null,null,null,null,null,null,null,null,null,null,null,null,null,null,null,null,null,null,null,null,null,null,null,null,null,null,null,null,null,null,null,null,null,null,null,null,0,74]
[null,null,null,null,null,null,null,null,null,null,null,null,null,null,null,null,null,null,null,null,null,null,null,null,null,null,null,null,null,null,null,null,null,null,null,null,null,null,null,null,null,null,null,0,74]
[null,null,null,null,null,null,null,null,null,null,null,null,null,null,null,null,null,null,null,null,null,null,null,null,null,null,null,null,null,null,null,null,null,null,null,null,null,null,null,null,null,null,null,0,74]
[null,null,null,null,null,null,null,null,null,null,null,null,null,null,null,null,null,null,null,null,null,null,null,null,null,null,null,null,null,null,null,null,null,null,null,null,null,null,null,null,null,null,null,0,74]
[null,null,null,null,null,null,null,null,null,null,null,null,null,null,null,null,null,null,null,null,null,null,null,null,null,null,null,null,null,null,null,null,null,null,null,null,null,null,null,null,null,null,null,0,74]
[null,null,null,null,null,null,null,null,null,null,null,null,null,null,null,null,null,null,null,null,null,null,null,null,null,null,null,null,null,null,null,null,null,null,null,null,null,null,null,null,null,null,null,0,74]
[null,null,null,null,null,null,null,null,null,null,null,null,null,null,null,null,null,null,null,null,null,null,null,null,null,null,null,null,null,null,null,null,null,null,null,null,null,null,null,null,null,null,null,0,74]
[null,null,null,null,null,null,null,null,null,null,null,null,null,null,null,null,null,null,null,null,null,null,null,null,null,null,null,null,null,null,null,null,null,null,null,null,null,null,null,null,null,null,null,0,74]
[null,null,null,null,null,null,null,null,null,null,null,null,null,null,null,null,null,null,null,null,null,null,null,null,null,null,null,null,null,null,null,null,null,null,null,null,null,null,null,null,null,null,null,0,74]
[null,null,null,null,null,null,null,null,null,null,null,null,null,null,null,null,null,null,null,null,null,null,null,null,null,null,null,null,null,null,null,null,null,null,null,null,null,null,null,null,null,null,null,0,74]
[null,null,null,null,null,null,null,null,null,null,null,null,null,null,null,null,null,null,null,null,null,null,null,null,null,null,null,null,null,null,null,null,null,null,null,null,null,null,null,null,null,null,null,0,74]
[null,null,null,null,null,null,null,null,null,null,null,null,null,null,null,null,null,null,null,null,null,null,null,null,null,null,null,null,null,null,null,null,null,null,null,null,null,null,null,null,null,null,null,0,74]
[null,null,null,null,null,null,null,null,null,null,null,null,null,null,null,null,null,null,null,null,null,null,null,null,null,null,null,null,null,null,null,null,null,null,null,null,null,null,null,null,null,null,null,0,74]
[null,null,null,null,null,null,null,null,null,null,null,null,null,null,null,null,null,null,null,null,null,null,null,null,null,null,null,null,null,null,null,null,null,null,null,null,null,null,null,null,null,null,null,0,74]
[null,null,null,null,null,null,null,null,null,null,null,null,null,null,null,null,null,null,null,null,null,null,null,null,null,null,null,null,null,null,null,null,null,null,null,null,null,null,null,null,null,null,null,0,74]
[null,null,null,null,null,null,null,null,null,null,null,null,null,null,null,null,null,null,null,null,null,null,null,null,null,null,null,null,null,null,null,null,null,null,null,null,null,null,null,null,null,null,null,0,74]
[null,null,null,null,null,null,null,null,null,null,null,null,null,null,null,null,null,null,null,null,null,null,null,null,null,null,null,null,null,null,null,null,null,null,null,null,null,null,null,null,null,null,null,0,74]
[null,null,null,null,null,null,null,null,null,null,null,null,null,null,null,null,null,null,null,null,null,null,null,null,null,null,null,null,null,null,null,null,null,null,null,null,null,null,null,null,null,null,null,0,74]
[null,null,null,null,null,null,null,null,null,null,null,null,null,null,null,null,null,null,null,null,null,null,null,null,null,null,null,null,null,null,null,null,null,null,null,null,null,null,null,null,null,null,null,0,74]
[null,null,null,null,null,null,null,null,null,null,null,null,null,null,null,null,null,null,null,null,null,null,null,null,null,null,null,null,null,null,null,null,null,null,null,null,null,null,null,null,null,null,null,0,74]
[null,null,null,null,null,null,null,null,null,null,null,null,null,null,null,null,null,null,null,null,null,null,null,null,null,null,null,null,null,null,null,null,null,null,null,null,null,null,null,null,null,null,null,0,74]
[null,null,null,null,null,null,null,null,null,null,null,null,null,null,null,null,null,null,null,null,null,null,null,null,null,null,null,null,null,null,null,null,null,null,null,null,null,null,null,null,null,null,null,0,74]
[null,null,null,null,null,null,null,null,null,null,null,null,null,null,null,null,null,null,null,null,null,null,null,null,null,null,null,null,null,null,null,null,null,null,null,null,null,null,null,null,null,null,null,0,74]
[null,null,null,null,null,null,null,null,null,null,null,null,null,null,null,null,null,null,null,null,null,null,null,null,null,null,null,null,null,null,null,null,null,null,null,null,null,null,null,null,null,null,null,0,74]
[null,null,null,null,null,null,null,null,null,null,null,null,null,null,null,null,null,null,null,null,null,null,null,null,null,null,null,null,null,null,null,null,null,null,null,null,null,null,null,null,null,null,null,0,74]
[null,null,null,null,null,null,null,null,null,null,null,null,null,null,null,null,null,null,null,null,null,null,null,null,null,null,null,null,null,null,null,null,null,null,null,null,null,null,null,null,null,null,null,0,74]
[null,null,null,null,null,null,null,null,null,null,null,null,null,null,null,null,null,null,null,null,null,null,null,null,null,null,null,null,null,null,null,null,null,null,null,null,null,null,null,null,null,null,null,0,74]
[null,null,null,null,null,null,null,null,null,null,null,null,null,null,null,null,null,null,null,null,null,null,null,null,null,null,null,null,null,null,null,null,null,null,null,null,null,null,null,null,null,null,null,{"$f":"+AI119","v":0},{"$f":"COUNTIF(AR:AR,AI119)","v":74}]
[]
[]
[]
[]
[]
[]
[]
[]
[null,null,null,null,null,null,null,null,null,null,null,null,null,null,null,null,null,null,null,null,null,null,null,null,null,null,null,null,null,null,null,null,null,null,null,null,null,null,null,null,null,null,{"$f":"AJ128&\"/\"&AK128","v":"/"}]
[]
[]
[null,null,null,null,null,null,null,null,null,null,null,null,null,null,null,null,null,null,null,null,null,null,null,null,null,null,null,null,null,null,null,null,"Dos","NOM Prénom","x","RC","NC","1/2 T","b","c","d","Club","N° Club"]
[null,null,null,null,null,null,null,null,null,null,null,null,null,null,null,null,null,null,null,null,null,null,null,null,null,null,null,null,null,null,null,null,50,"VIDAL Charles",2,{"$f":"IF(AP132=AP131,AJ131+1,1)","v":1},{"$f":"COUNTIF($AP$132:$AP$163,AP132)","v":2},null,null,null,null,"ASSUN TT","1/2"]
[null,null,null,null,null,null,null,null,null,null,null,null,null,null,null,null,null,null,null,null,null,null,null,null,null,null,null,null,null,null,null,null,122,"VIDAL Charles",18,2,2,null,null,null,null,"ASSUN TT","2/2"]
[null,null,null,null,null,null,null,null,null,null,null,null,null,null,null,null,null,null,null,null,null,null,null,null,null,null,null,null,null,null,null,null,54,"RICOUX Bastien",11,1,4,null,null,null,null,"ATTDUCEYAVRANCH","1/4"]
[null,null,null,null,null,null,null,null,null,null,null,null,null,null,null,null,null,null,null,null,null,null,null,null,null,null,null,null,null,null,null,null,55,"ROC Ferdinand",12,2,4,null,null,null,null,"ATTDUCEYAVRANCH","2/4"]
[null,null,null,null,null,null,null,null,null,null,null,null,null,null,null,null,null,null,null,null,null,null,null,null,null,null,null,null,null,null,null,null,131,"RICOUX Bastien",27,3,4,null,null,null,null,"ATTDUCEYAVRANCH","3/4"]
[null,null,null,null,null,null,null,null,null,null,null,null,null,null,null,null,null,null,null,null,null,null,null,null,null,null,null,null,null,null,null,null,132,"ROC Ferdinand",28,4,4,null,null,null,null,"ATTDUCEYAVRANCH","4/4"]
[null,null,null,null,null,null,null,null,null,null,null,null,null,null,null,null,null,null,null,null,null,null,null,null,null,null,null,null,null,null,null,null,57,"RIGOT Noe",13,1,2,null,null,null,null,"CARANTILLAISE","1/2"]
[null,null,null,null,null,null,null,null,null,null,null,null,null,null,null,null,null,null,null,null,null,null,null,null,null,null,null,null,null,null,null,null,133,"RIGOT Noe",29,2,2,null,null,null,null,"CARANTILLAISE","2/2"]
[null,null,null,null,null,null,null,null,null,null,null,null,null,null,null,null,null,null,null,null,null,null,null,null,null,null,null,null,null,null,null,null,46,"NICOLLE Augustin",7,1,4,null,null,null,null,"COUTANCES JA","1/4"]
[null,null,null,null,null,null,null,null,null,null,null,null,null,null,null,null,null,null,null,null,null,null,null,null,null,null,null,null,null,null,null,null,48,"NICOLLE Emile",8,2,4,null,null,null,null,"COUTANCES JA","2/4"]
[null,null,null,null,null,null,null,null,null,null,null,null,null,null,null,null,null,null,null,null,null,null,null,null,null,null,null,null,null,null,null,null,127,"NICOLLE Augustin",23,3,4,null,null,null,null,"COUTANCES JA","3/4"]
[null,null,null,null,null,null,null,null,null,null,null,null,null,null,null,null,null,null,null,null,null,null,null,null,null,null,null,null,null,null,null,null,128,"NICOLLE Emile",24,4,4,null,null,null,null,"COUTANCES JA","4/4"]
[null,null,null,null,null,null,null,null,null,null,null,null,null,null,null,null,null,null,null,null,null,null,null,null,null,null,null,null,null,null,null,null,44,"LUCAS Ifig",1,1,2,null,null,null,null,"EQUEURDREVILLE","1/2"]
[null,null,null,null,null,null,null,null,null,null,null,null,null,null,null,null,null,null,null,null,null,null,null,null,null,null,null,null,null,null,null,null,121,"LUCAS Ifig",17,2,2,null,null,null,null,"EQUEURDREVILLE","2/2"]
[null,null,null,null,null,null,null,null,null,null,null,null,null,null,null,null,null,null,null,null,null,null,null,null,null,null,null,null,null,null,null,null,45,"LECLERC Alexandre-Bao",6,1,2,null,null,null,null,"OC AGNEAUX","1/2"]
[null,null,null,null,null,null,null,null,null,null,null,null,null,null,null,null,null,null,null,null,null,null,null,null,null,null,null,null,null,null,null,null,126,"LECLERC Alexandre-Bao",22,2,2,null,null,null,null,"OC AGNEAUX","2/2"]
[null,null,null,null,null,null,null,null,null,null,null,null,null,null,null,null,null,null,null,null,null,null,null,null,null,null,null,null,null,null,null,null,49,"ROBION Paul",3,1,2,null,null,null,null,"SIOUVILLE ATTLC","1/2"]
[null,null,null,null,null,null,null,null,null,null,null,null,null,null,null,null,null,null,null,null,null,null,null,null,null,null,null,null,null,null,null,null,123,"ROBION Paul",19,2,2,null,null,null,null,"SIOUVILLE ATTLC","2/2"]
[null,null,null,null,null,null,null,null,null,null,null,null,null,null,null,null,null,null,null,null,null,null,null,null,null,null,null,null,null,null,null,null,47,"LEVILLAIN Camille",4,1,6,null,null,null,null,"ST PAIR BRICQUE","1/6"]
[null,null,null,null,null,null,null,null,null,null,null,null,null,null,null,null,null,null,null,null,null,null,null,null,null,null,null,null,null,null,null,null,51,"RIPOCHE Nathan",9,2,6,null,null,null,null,"ST PAIR BRICQUE","2/6"]
[null,null,null,null,null,null,null,null,null,null,null,null,null,null,null,null,null,null,null,null,null,null,null,null,null,null,null,null,null,null,null,null,58,"PEIN Edgar",10,3,6,null,null,null,null,"ST PAIR BRICQUE","3/6"]
[null,null,null,null,null,null,null,null,null,null,null,null,null,null,null,null,null,null,null,null,null,null,null,null,null,null,null,null,null,null,null,null,124,"LEVILLAIN Camille",20,4,6,null,null,null,null,"ST PAIR BRICQUE","4/6"]
[null,null,null,null,null,null,null,null,null,null,null,null,null,null,null,null,null,null,null,null,null,null,null,null,null,null,null,null,null,null,null,null,129,"RIPOCHE Nathan",25,5,6,null,null,null,null,"ST PAIR BRICQUE","5/6"]
[null,null,null,null,null,null,null,null,null,null,null,null,null,null,null,null,null,null,null,null,null,null,null,null,null,null,null,null,null,null,null,null,130,"PEIN Edgar",26,6,6,null,null,null,null,"ST PAIR BRICQUE","6/6"]
[null,null,null,null,null,null,null,null,null,null,null,null,null,null,null,null,null,null,null,null,null,null,null,null,null,null,null,null,null,null,null,null,53,"MASSELINE Malo",14,1,4,null,null,null,null,"TORIGNAISE ESTT","1/4"]
[null,null,null,null,null,null,null,null,null,null,null,null,null,null,null,null,null,null,null,null,null,null,null,null,null,null,null,null,null,null,null,null,56,"VARIN Louis",16,2,4,null,null,null,null,"TORIGNAISE ESTT","2/4"]
[null,null,null,null,null,null,null,null,null,null,null,null,null,null,null,null,null,null,null,null,null,null,null,null,null,null,null,null,null,null,null,null,134,"MASSELINE Malo",30,3,4,null,null,null,null,"TORIGNAISE ESTT","3/4"]
[null,null,null,null,null,null,null,null,null,null,null,null,null,null,null,null,null,null,null,null,null,null,null,null,null,null,null,null,null,null,null,null,136,"VARIN Louis",32,4,4,null,null,null,null,"TORIGNAISE ESTT","4/4"]
[null,null,null,null,null,null,null,null,null,null,null,null,null,null,null,null,null,null,null,null,null,null,null,null,null,null,null,null,null,null,null,null,52,"COUEDEL-COULON Eloan",5,1,4,null,null,null,null,"TT SAINT JAMES","1/4"]
[null,null,null,null,null,null,null,null,null,null,null,null,null,null,null,null,null,null,null,null,null,null,null,null,null,null,null,null,null,null,null,null,59,"BRILLET Pacome",15,2,4,null,null,null,null,"TT SAINT JAMES","2/4"]
[null,null,null,null,null,null,null,null,null,null,null,null,null,null,null,null,null,null,null,null,null,null,null,null,null,null,null,null,null,null,null,null,125,"COUEDEL-COULON Eloan",21,3,4,null,null,null,null,"TT SAINT JAMES","3/4"]
[null,null,null,null,null,null,null,null,null,null,null,null,null,null,null,null,null,null,null,null,null,null,null,null,null,null,null,null,null,null,null,null,135,"BRILLET Pacome",31,4,4,null,null,null,null,"TT SAINT JAMES","4/4"]

{"sheet":"G-264a","index":25,"n_rows":3,"n_cols":33,"rows_kept":3,"cut":false,"hidden":false,"merged":[]}
["Clt",1,2,3,4,5,6,7,8,9,10,11,12,13,14,15,16,17,18,19,20,21,22,23,24,25,26,27,28,29,30,31,32]
["1er",{"$f":"'TS-264a'!AE17","v":0},{"$f":"'TS-264a'!AE18","v":0},{"$f":"'TS-264a'!AE19","v":0},{"$f":"'TS-264a'!AE20","v":0},{"$f":"'TS-264a'!AE21","v":0},{"$f":"'TS-264a'!AE22","v":0},{"$f":"'TS-264a'!AE23","v":0},{"$f":"'TS-264a'!AE24","v":0},{"$f":"'TS-264a'!AE25","v":0},{"$f":"'TS-264a'!AE26","v":0},{"$f":"'TS-264a'!AE27","v":0},{"$f":"'TS-264a'!AE28","v":0},{"$f":"'TS-264a'!AE29","v":0},{"$f":"'TS-264a'!AE30","v":0},{"$f":"'TS-264a'!AE31","v":0},{"$f":"'TS-264a'!AE32","v":0},{"$f":"'TS-264a'!AE33","v":0},{"$f":"'TS-264a'!AE34","v":0},{"$f":"'TS-264a'!AE35","v":0},{"$f":"'TS-264a'!AE36","v":0},{"$f":"'TS-264a'!AE37","v":0},{"$f":"'TS-264a'!AE38","v":0},{"$f":"'TS-264a'!AE39","v":0},{"$f":"'TS-264a'!AE40","v":0},{"$f":"'TS-264a'!AE41","v":0},{"$f":"'TS-264a'!AE42","v":0},{"$f":"'TS-264a'!AE43","v":0},{"$f":"'TS-264a'!AE44","v":0},{"$f":"'TS-264a'!AE45","v":0},{"$f":"'TS-264a'!AE46","v":0},{"$f":"'TS-264a'!AE47","v":0},{"$f":"'TS-264a'!AE48","v":0}]
["2ème",{"$f":"'TS-264a'!AE52","v":0},{"$f":"'TS-264a'!AE53","v":0},{"$f":"'TS-264a'!AE54","v":0},{"$f":"'TS-264a'!AE55","v":0},{"$f":"'TS-264a'!AE56","v":0},{"$f":"'TS-264a'!AE57","v":0},{"$f":"'TS-264a'!AE58","v":0},{"$f":"'TS-264a'!AE59","v":0},{"$f":"'TS-264a'!AE60","v":0},{"$f":"'TS-264a'!AE61","v":0},{"$f":"'TS-264a'!AE62","v":0},{"$f":"'TS-264a'!AE63","v":0},{"$f":"'TS-264a'!AE64","v":0},{"$f":"'TS-264a'!AE65","v":0},{"$f":"'TS-264a'!AE66","v":0},{"$f":"'TS-264a'!AE67","v":0},{"$f":"'TS-264a'!AE68","v":0},{"$f":"'TS-264a'!AE69","v":0},{"$f":"'TS-264a'!AE70","v":0},{"$f":"'TS-264a'!AE71","v":0},{"$f":"'TS-264a'!AE72","v":0},{"$f":"'TS-264a'!AE73","v":0},{"$f":"'TS-264a'!AE74","v":0},{"$f":"'TS-264a'!AE75","v":0},{"$f":"'TS-264a'!AE76","v":0},{"$f":"'TS-264a'!AE77","v":0},{"$f":"'TS-264a'!AE78","v":0},{"$f":"'TS-264a'!AE79","v":0},{"$f":"'TS-264a'!AE80","v":0},{"$f":"'TS-264a'!AE81","v":0},{"$f":"'TS-264a'!AE82","v":0},{"$f":"'TS-264a'!AE83","v":0}]

{"sheet":"TS-264c","index":26,"n_rows":187,"n_cols":99,"rows_kept":187,"cut":false,"hidden":false,"merged":[[3,46,3,49],[4,48,4,49],[14,45,14,63],[3,0,5,42],[7,24,11,24],[7,0,7,11],[8,29,8,40],[13,27,13,37],[7,29,7,38],[14,27,14,30],[32,8,47,9],[32,19,47,20],[7,22,11,22],[15,22,15,25],[16,8,31,9],[16,19,31,20],[61,27,61,37],[15,78,15,80],[16,81,16,84],[108,27,108,41],[60,27,60,37],[107,27,107,41],[37,27,37,30],[16,78,17,78],[16,79,16,80]]}
[{"$f":"\"Epreuve  : \"&'TS-200'!$C$1","v":"Epreuve  : Critérium Fédéral"},null,null,null,null,null,null,null,null,null,null,null,null,null,null,null,null,null,null,null,null,null,null,null,null,null,null,null,null,null,null,null,null,null,null,null,null,null,null,null,null,null,{"$f":"\"Lieu : \"&'TS-200'!$C$2","v":"Lieu : Pont à Mousson"}]
[{"$f":"\"Tableau : \"&'TS-200'!$C$4","v":"Tableau :  "},null,null,null,null,null,null,null,null,null,null,null,null,null,null,null,null,null,null,null,null,null,null,null,null,null,null,null,null,null,null,null,null,null,null,null,null,null,null,null,null,null,{"$f":"\"Date : \"&'TS-200'!$C$3","v":"Date : 15 au 17 mars 2019"}]
[]
["TABLEAU DE TIRAGE AU SORT\n64 JOUEURS\n21 poules - 3 qualifiés",null,null,null,null,null,null,null,null,null,null,null,null,null,null,null,null,null,null,null,null,null,null,null,null,null,null,null,null,null,null,null,null,null,null,null,null,null,null,null,null,null,null,{"$f":"+AI4","v":0},{"$f":"COUNTIF(AR:AR,AI4)","v":4},null,"Bornes TAS",null,null,null,null,null,null,null,null,null,null,null,null,null,null,null,null,null,null,null,null,null,null,null,null,null,null,null,null,null,null,null,null,null,null,null,null,null,null,null,null,null,null,null,null,null,null,null,null,1,"H","HH","B"]
[null,null,null,null,null,null,null,null,null,null,null,null,null,null,null,null,null,null,null,null,null,null,null,null,null,null,null,null,null,null,null,null,null,null,null,null,null,null,null,null,null,null,null,{"$f":"+AI5","v":0},{"$f":"COUNTIF(AR:AR,AI5)","v":4},null,"Inf","Sup","Nb joueurs",null,null,null,null,null,null,null,null,null,null,null,null,null,null,null,null,null,null,null,null,null,null,null,null,null,null,null,null,null,null,null,null,null,null,null,null,null,null,null,null,null,null,null,null,null,null,2,"H","HH","B"]
[null,null,null,null,null,null,null,null,null,null,null,null,null,null,null,null,null,null,null,null,null,null,null,null,null,null,null,null,null,null,null,null,null,null,null,null,null,null,null,null,null,null,null,{"$f":"+AI6","v":0},{"$f":"COUNTIF(AR:AR,AI6)","v":4},null,33,64,null,33,null,null,null,null,null,null,null,null,null,null,null,null,null,null,null,null,null,null,null,null,null,null,null,null,null,null,null,null,null,null,null,null,null,null,null,null,null,null,null,null,null,null,null,null,null,3,"H","HH","B"]
[null,null,null,null,null,null,null,null,null,null,null,null,null,null,null,null,null,null,null,null,null,null,null,null,null,null,null,null,null,null,null,null,null,null,null,null,null,null,null,null,null,null,null,{"$f":"+AI7","v":0},{"$f":"COUNTIF(AR:AR,AI7)","v":4},null,null,null,null,null,null,null,null,null,null,null,null,null,null,null,null,null,null,null,null,null,null,null,null,null,null,null,null,null,null,null,null,null,null,null,null,null,null,null,null,null,null,null,null,null,null,null,null,null,null,4,"H","HH","B"]
["Critère d'appartenance pour la mise en tableau",null,null,null,null,null,null,null,null,null,null,null,null,null,null,"Club",null,null,null,null,null,null,{"$f":"\"Nb \"&AU6&\"/\"&AV6","v":"Nb 33/64"},null,{"$f":"COUNTIF(AB12:AB161,1)","v":0},null,null,null,null,"Club, Comité ou Ligue (tiré au sort)",null,null,null,null,null,null,null,null,null,null,null,"EQUEURDREVILLE",null,null,null,null,null,null,null,null,null,null,null,null,null,null,null,null,null,null,null,null,null,null,null,null,null,null,null,null,null,null,null,null,null,null,null,null,null,null,null,null,null,null,null,null,null,null,null,null,null,null,null,null,null,5,"H","HH","B"]
[null,null,null,null,"Club",null,null,null,null,null,null,null,null,null,null,null,null,null,null,null,null,null,null,null,null,null,null,null,null,"Partie du tableau tirée au sort (H=Haut, B=Bas)",null,null,null,null,null,null,null,null,null,null,null,"H ou B",null,"H ou B",null,null,null,null,null,null,null,null,null,null,null,null,null,null,null,null,null,null,null,null,null,null,null,null,null,null,null,null,null,null,null,null,null,null,null,null,null,null,null,null,null,null,null,null,null,null,null,null,null,null,null,6,"H","HH","B"]
[{"$f":"IF(P8=\"Club\",10,IF(P8=\"Ligue\",11,IF(P8=\"Comité\",12,10)))","v":10},null,null,null,"Ligue",null,null,null,null,null,null,null,null,null,null,null,null,null,null,null,null,null,null,null,null,null,null,null,null,null,null,null,null,null,null,null,null,null,null,null,null,null,null,"H",null,null,null,null,null,null,null,null,null,null,null,null,null,null,null,null,null,null,null,null,null,null,null,null,null,null,null,null,null,null,null,null,null,null,null,null,null,null,null,null,null,null,null,null,null,null,null,null,null,null,null,7,"H","HH","B"]
[{"$f":"IF(P8=\"Club\",10,IF(P8=\"Ligue\",11,IF(P8=\"Comité\",12,10)))","v":10},null,null,null,"Comité",null,null,null,null,null,null,null,null,null,null,null,null,null,null,null,null,null,null,null,null,null,null,null,null,null,null,null,null,null,null,null,null,null,null,null,null,null,null,"B",null,"Position",null,null,null,null,null,null,null,null,null,null,null,null,null,null,null,null,null,null,null,null,null,null,null,null,null,null,null,null,null,null,null,null,0,"H","B","HH","HB","BH","BB",null,null,null,null,null,null,null,null,null,null,8,"H","HH","B"]
[null,null,null,null,null,null,null,null,null,null,null,null,null,null,null,null,null,null,null,null,null,null,null,null,null,null,null,null,null,null,null,null,null,null,null,null,null,null,null,null,null,null,null,"HH",null,"N° colonne TCD"," ",null,null,null,null,null,null,null,null,null,null,null,null,null,null,null,null,null,null,null,null,null,null,null,null,null,null,null,null,null,null,null,{"$f":"MATCH(CA11,$AT$17:$BL$17,0)","v":2},{"$f":"MATCH(CB11,$AT$17:$BL$17,0)","v":{"$error":"#N/A"}},{"$f":"MATCH(CC11,$AT$17:$BL$17,0)","v":{"$error":"#N/A"}},{"$f":"MATCH(CD11,$AT$18:$BL$18,0)","v":{"$error":"#N/A"}},{"$f":"MATCH(CE11,$AT$18:$BL$18,0)","v":{"$error":"#N/A"}},{"$f":"MATCH(CF11,$AT$18:$BL$18,0)","v":{"$error":"#N/A"}},{"$f":"MATCH(CG11,$AT$18:$BL$18,0)","v":{"$error":"#N/A"}},null,null,null,null,null,null,null,null,null,null,9,"H","HH","B"]
[null,null,null,null,null,null,null,null,null,null,null,null,null,null,null,null,null,null,null,null,null,null,null,null,null,null,null,"Y","Pl","x","TAS","N°","Dos","NOM Prénom","Rang","z","a","1/2 T","1/4 T","c","d","Club, Comité ou Ligue","N° Club","HB",{"$f":"COUNTIF(AR:AR,AI13)","v":0},1,2,3,4,5,6,7,8,9,10,11,12,13,14,15,16,17,18,19,20,21,22,23,24,25,26,27,28,29,30,31,32,33,34,35,36,37,38,39,40,null,null,null,null,null,null,null,null,null,null,10,"H","HH","B"]
[null,null,null,null,null,null,null,null,null,null,null,null,null,null,null,null,null,null,null,null,null,null,null,null,null,null,"X",null,null,null,null,null,null,null,null,null,null,null,null,null,null,null,null,"BH",null,null,"B",null,null,null,null,null,null,null,null,null,null,null,null,null,null,null,null,null,null,null,null,null,null,null,null,null,null,null,null,null,null,null,null,null,null,null,null,null,null,null,null,null,null,null,null,null,null,null,null,11,"H","HH","B"]
[null,null,null,null,null,null,null,null,null,null,null,null,null,null,null,null,null,null,null,null,null,null,null,null,null,null,null,null,null,null,null,null,"1er de poule",null,null,null,null,null,null,null,null,null," ","BB",null,"NB JOUEUR / CLUB",null,null,null,null,null,null,null,null,null,null,null,null,null,null,null,null,null,null,null,null,null,null,null,null,null,null,null,null,null,null,null,null,null,null,null,null,null,null,null,null,null,null,null,null,null,null,null,null,null,12,"H","HH","B"]
[null,null,null,null,null,null,null,null,null,null,null,null,null,null,null,null,null,null,null,null,null,null,"N° Dispo",null,null,null,null,null,"Pl","x","TAS","N°","Dos","NOM Prénom","Rang","SPIDD","a","1/2 T","1/4 T","c","d","Club, Comité ou Ligue","N° Club",null,null,"NB Club, Comité ou Ligue","1/2 T","1/4 T","N°",null,null,null,null,null,null,null,null,null,null,null,null,null,null,null,null,null,null,null,null,null,null,null,null,null,null,null,null,null,"TAS >1",null,null,null,null,null,null,null,null,null,null,null,null,null,null,null,null,13,"H","HH","B"]
[1,1,1,1,{"$f":"IF(ISNA(VLOOKUP(C17,$AE$7:$AQ$187,4,FALSE)),\"\",VLOOKUP(C17,$AE$7:$AQ$187,4,FALSE)&\" - \"&VLOOKUP(C17,$AE$7:$AQ$187,12,FALSE))","v":""},{"$f":"IF(ISNA(VLOOKUP(C17,$AE$7:$AQ$187,12,FALSE)),\"\",VLOOKUP(C17,$AE$7:$AQ$187,12,FALSE))","v":""}," ",null,"HH",null,null,33,"3=",33,3,{"$f":"IF(ISNA(VLOOKUP(N17,$AE$7:$AQ$187,4,FALSE)),\"\",VLOOKUP(N17,$AE$7:$AQ$187,4,FALSE)&\" - \"&VLOOKUP(N17,$AE$7:$AQ$187,12,FALSE))","v":""},{"$f":"IF(ISNA(VLOOKUP(N17,$AE$7:$AQ$187,12,FALSE)),\"\",VLOOKUP(N17,$AE$7:$AQ$187,12,FALSE))","v":""}," "," ","BH",null,null,1,null,2,null,null,null,"P",1,null,1,{"$f":"IF(ISNA(VLOOKUP(AJ17,Liste_SPIDD,2,FALSE)),901,VLOOKUP(AJ17,Liste_SPIDD,2,FALSE))","v":44},{"$f":"IF(AG17=\"\",\"\",IF(ISNA(VLOOKUP(AG17,Liste_Dos_SPIDD,2,FALSE)),VLOOKUP(AG17,Liste_J,3,FALSE),VLOOKUP(AG17,Liste_Dos_SPIDD,2,FALSE)))","v":"LUCAS Ifig"},1,{"$f":"AD17&AF17","v":"11"},null,{"$f":"IF($AE17=0,0,VLOOKUP($AE17,CR$4:CU$72,2,FALSE))","v":0},{"$f":"IF($AE17=0,0,VLOOKUP($AE17,CR$4:CU$72,3,FALSE))","v":0},null,null,{"$f":"IF(AG17=\"\",\"\",IF(ISNA(VLOOKUP(AG17,Liste_Dos_SPIDD,3,FALSE)),VLOOKUP(AG17,Liste_J,$A$10,FALSE),VLOOKUP(AG17,Liste_Dos_SPIDD,3,FALSE)))","v":"EQUEURDREVILLE"},{"$f":"IF(ISERROR(VLOOKUP(AG17,$AG$166:$AQ$188,1,FALSE)),\"\",IF(VLOOKUP(AG17,$AG$166:$AQ$188,11,FALSE)=\"1/1\",\"\",VLOOKUP(AG17,$AG$166:$AQ$188,11,FALSE)))","v":"1/2"},null,null,null,0,null,"Total 0","",null,null,"Total ","Total général",null,null,null,null,null,null,null,null,null,null,null,null,null,null,null,null,null,null,null,null,null,null,null,null,"1er","2ème",null,"3ème",null,null,null,null,null,null,null,null,null,null,null,null,null,14,"H","HH","B"]
[2,"33=",2,64,"Exempt -  "," "," ",null,null,null,null,34,"33=",34,62,"",""," "," ",null,null,null,64,null,63,null,null,null,"P",2,null,1,50,"VIDAL Charles",2,{"$f":"AD18&AF18","v":"21"},null,0,0,null,null,"ASSUN TT","1/2",null,null,null,0,"Total 0",null,0,null,"Total 0",null,null,null,null,null,null,null,null,null,null,null,null,null,null,null,null,null,null,null,null,null,null,null,null,null,null,null,"H","B","HH","HB","BH","BB",null,null,null,null,null,null,null,null,null,null,15,"H","HH","B"]
[3,"33=",3,33,"",""," ",null,null,null,null,35,"33=",35,35,"",""," "," ",null,null,null,33,null,34,null,null,null,"P",3,null,1,49,"ROBION Paul",3,"31",null,0,0,null,null,"SIOUVILLE ATTLC","1/2",null,null,"Club, Comité ou Ligue",1,null,null,2,3,null,null,null,null,null,null,null,null,null,null,null,null,null,null,null,null,null,null,null,null,null,null,null,null,null,null,null,{"$f":"IF(VLOOKUP($AT19,$AT$16:$BL$110,CA$11,FALSE)>1,VLOOKUP($AT19,$AT$16:$BL$110,CA$11,FALSE),\"\")","v":{"$error":"#VALUE!"}},{"$f":"IF(OR(VLOOKUP($AT19,$AT$16:$BL$110,CB$12,FALSE)>1,AND(VLOOKUP($AT19,$AT$16:$BL$110,CB$12,FALSE)=1,(VLOOKUP($AT19,$AT$16:$BL$110,CB$12+4,FALSE)+VLOOKUP($AT19,$AT$16:$BL$110,CB$12+6,FALSE))>0)),(VLOOKUP($AT19,$AT$16:$BL$110,CB$12,FALSE)+VLOOKUP($AT19,$AT$16:$BL$110,CB$12+4,FALSE)+VLOOKUP($AT19,$AT$16:$BL$110,CB$12+6,FALSE)),\"\")","v":{"$error":"#REF!"}},{"$f":"IF(OR(VLOOKUP($AT19,$AT$16:$BL$110,CC$12,FALSE)>1,AND(VLOOKUP($AT19,$AT$16:$BL$110,CC$12,FALSE)=1,(VLOOKUP($AT19,$AT$16:$BL$110,CC$12+4,FALSE)+VLOOKUP($AT19,$AT$16:$BL$110,CC$12+6,FALSE))>0)),(VLOOKUP($AT19,$AT$16:$BL$110,CC$12,FALSE)+VLOOKUP($AT19,$AT$16:$BL$110,CC$12+4,FALSE)+VLOOKUP($AT19,$AT$16:$BL$110,CC$12+6,FALSE)),\"\")","v":{"$error":"#REF!"}},{"$f":"IF(OR(VLOOKUP($AT19,$AT$16:$BL$110,CD$12+2,FALSE)>1,AND(VLOOKUP($AT19,$AT$16:$BL$110,CD$12+2,FALSE)=1,VLOOKUP($AT19,$AT$16:$BL$110,CD$12+3,FALSE)>1)),VLOOKUP($AT19,$AT$16:$BL$110,CD$12+3,FALSE),\"\")","v":{"$error":"#N/A"}},{"$f":"IF(OR(VLOOKUP($AT19,$AT$16:$BL$110,CE$12+2,FALSE)>1,AND(VLOOKUP($AT19,$AT$16:$BL$110,CE$12+2,FALSE)=1,VLOOKUP($AT19,$AT$16:$BL$110,CE$12+3,FALSE)>1)),VLOOKUP($AT19,$AT$16:$BL$110,CE$12+3,FALSE),\"\")","v":{"$error":"#N/A"}},{"$f":"IF(OR(VLOOKUP($AT19,$AT$16:$BL$110,CF$12+2,FALSE)>1,AND(VLOOKUP($AT19,$AT$16:$BL$110,CF$12+2,FALSE)=1,VLOOKUP($AT19,$AT$16:$BL$110,CF$12+3,FALSE)>1)),VLOOKUP($AT19,$AT$16:$BL$110,CF$12+3,FALSE),\"\")","v":{"$error":"#N/A"}},{"$f":"IF(OR(VLOOKUP($AT19,$AT$16:$BL$110,CG$12+2,FALSE)>1,AND(VLOOKUP($AT19,$AT$16:$BL$110,CG$12+2,FALSE)=1,VLOOKUP($AT19,$AT$16:$BL$110,CG$12+3,FALSE)>1)),VLOOKUP($AT19,$AT$16:$BL$110,CG$12+3,FALSE),\"\")","v":{"$error":"#N/A"}},null,null,null,null,null,null,null,null,null,null,16,"H","HH","B"]
[4,"17=",4,32,"",""," ",null,null,null,null,36,"17=",36,30,"",""," "," ",null,null,null,32,null,31,null,null,null,"P",4,null,1,47,"LEVILLAIN Camille",4,"41",null,0,0,null,null,"ST PAIR BRICQUE","1/4",null,null,"ASSUN TT",2,2,2,2,2,4,4,6,null,null,null,null,null,null,null,null,null,null,null,null,null,null,null,null,null,null,null,null,null,null,null,null,{"$f":"IF(VLOOKUP($AT20,$AT$16:$BL$110,CA$11,FALSE)>1,VLOOKUP($AT20,$AT$16:$BL$110,CA$11,FALSE),\"\")","v":{"$error":"#VALUE!"}},{"$f":"IF(OR(VLOOKUP($AT20,$AT$16:$BL$110,CB$12,FALSE)>1,AND(VLOOKUP($AT20,$AT$16:$BL$110,CB$12,FALSE)=1,(VLOOKUP($AT20,$AT$16:$BL$110,CB$12+4,FALSE)+VLOOKUP($AT20,$AT$16:$BL$110,CB$12+6,FALSE))>0)),(VLOOKUP($AT20,$AT$16:$BL$110,CB$12,FALSE)+VLOOKUP($AT20,$AT$16:$BL$110,CB$12+4,FALSE)+VLOOKUP($AT20,$AT$16:$BL$110,CB$12+6,FALSE)),\"\")","v":{"$error":"#REF!"}},{"$error":"#REF!"},{"$f":"IF(OR(VLOOKUP($AT20,$AT$16:$BL$110,CD$12+2,FALSE)>1,AND(VLOOKUP($AT20,$AT$16:$BL$110,CD$12+2,FALSE)=1,VLOOKUP($AT20,$AT$16:$BL$110,CD$12+3,FALSE)>1)),VLOOKUP($AT20,$AT$16:$BL$110,CD$12+3,FALSE),\"\")","v":{"$error":"#N/A"}},{"$error":"#N/A"},{"$error":"#N/A"},{"$error":"#N/A"},null,null,null,null,null,null,null,null,null,null,17,"H","HB","B"]
[5,"17=",5,17,"",""," ",null,null,null,null,37,"17=",37,19,"",""," "," ",null,null,null,17,null,18,null,null,null,"P",5,null,1,52,"COUEDEL-COULON Eloan",5,"51",null,0,0,null,null,"TT SAINT JAMES","1/3",null,null,"ATTDUCEYAVRANCH",2,2,2,2,2,4,4,6,null,null,null,null,null,null,null,null,null,null,null,null,null,null,null,null,null,null,null,null,null,null,null,null,{"$error":"#VALUE!"},{"$error":"#REF!"},{"$error":"#REF!"},{"$error":"#N/A"},{"$error":"#N/A"},{"$error":"#N/A"},{"$error":"#N/A"},null,null,null,null,null,null,null,null,null,null,18,"H","HB","B"]
[6,"33=",6,48,"",""," ",null,null,null,null,38,"33=",38,46,"",""," "," ",null,null,null,48,null,47,null,null,null,"P",6,null,1,45,"LECLERC Alexandre-Bao",6,"61",null,0,0,null,null,"OC AGNEAUX","",null,null,"CARANTILLAISE",1,1,1,1,1,2,2,3,null,null,null,null,null,null,null,null,null,null,null,null,null,null,null,null,null,null,null,null,null,null,null,null,{"$error":"#VALUE!"},{"$error":"#REF!"},{"$error":"#REF!"},{"$error":"#N/A"},{"$error":"#N/A"},{"$error":"#N/A"},{"$error":"#N/A"},null,null,null,null,null,null,null,null,null,null,19,"H","HB","B"]
[7,"33=",7,49,"",""," ",null,null,null,null,39,"33=",39,51,"",""," "," ",null,null,null,49,null,50,null,null,null,"P",7,null,1,46,"NICOLLE Augustin",7,"71",null,0,0,null,null,"COUTANCES JA","1/2",null,null,"COUTANCES JA",2,2,2,2,2,4,4,6,null,null,null,null,null,null,null,null,null,null,null,null,null,null,null,null,null,null,null,null,null,null,null,null,{"$error":"#VALUE!"},{"$error":"#REF!"},{"$error":"#REF!"},{"$error":"#N/A"},{"$error":"#N/A"},{"$error":"#N/A"},{"$error":"#N/A"},null,null,null,null,null,null,null,null,null,null,20,"H","HB","B"]
[8,"9=",8,16,"",""," ",null,null,null,null,40,"9=",40,14,"",""," "," ",null,null,null,16,null,15,null,null,null,"P",8,null,1,48,"NICOLLE Emile",8,"81",null,0,0,null,null,"COUTANCES JA","2/2",null,null,"EQUEURDREVILLE",2,2,2,2,2,4,4,6,null,null,null,null,null,null,null,null,null,null,null,null,null,null,null,null,null,null,null,null,null,null,null,null,{"$error":"#VALUE!"},{"$error":"#REF!"},{"$error":"#REF!"},{"$error":"#N/A"},{"$error":"#N/A"},{"$error":"#N/A"},{"$error":"#N/A"},null,null,null,null,null,null,null,null,null,null,21,"H","HB","B"]
[9,"9=",9,9,"",""," ",null,null,null,null,41,"9=",41,11,"",""," "," ",null,null,null,9,null,10,null,null,null,"P",9,null,1,51,"RIPOCHE Nathan",9,"91",null,0,0,null,null,"ST PAIR BRICQUE","2/4",null,null,"OC AGNEAUX",1,1,1,1,1,2,2,3,null,null,null,null,null,null,null,null,null,null,null,null,null,null,null,null,null,null,null,null,null,null,null,null,{"$error":"#VALUE!"},{"$error":"#REF!"},{"$error":"#REF!"},{"$error":"#N/A"},{"$error":"#N/A"},{"$error":"#N/A"},{"$error":"#N/A"},null,null,null,null,null,null,null,null,null,null,22,"H","HB","B"]
[10,"33=",10,56,"",""," ",null,null,null,null,42,"33=",42,54,"",""," "," ",null,null,null,56,null,55,null,null,null,"P",10,null,1,58,"PEIN Edgar",10,"101",null,0,0,null,null,"ST PAIR BRICQUE","3/4",null,null,"SIOUVILLE ATTLC",2,2,2,2,2,4,4,6,null,null,null,null,null,null,null,null,null,null,null,null,null,null,null,null,null,null,null,null,null,null,null,null,{"$error":"#VALUE!"},{"$error":"#REF!"},{"$error":"#REF!"},{"$error":"#N/A"},{"$error":"#N/A"},{"$error":"#N/A"},{"$error":"#N/A"},null,null,null,null,null,null,null,null,null,null,23,"H","HB","B"]
[11,"33=",11,41,"",""," ",null,null,null,null,43,"33=",43,43,"",""," "," ",null,null,null,41,null,42,null,null,null,"P",11,null,1,54,"RICOUX Bastien",11,"111",null,0,0,null,null,"ATTDUCEYAVRANCH","1/2",null,null,"ST PAIR BRICQUE",4,4,4,4,4,8,8,12,null,null,null,null,null,null,null,null,null,null,null,null,null,null,null,null,null,null,null,null,null,null,null,null,{"$error":"#VALUE!"},{"$error":"#REF!"},{"$error":"#REF!"},{"$error":"#N/A"},{"$error":"#N/A"},{"$error":"#N/A"},{"$error":"#N/A"},null,null,null,null,null,null,null,null,null,null,24,"H","HB","B"]
[12,"17=",12,24,"",""," ",null,null,null,null,44,"17=",44,22,"",""," "," ",null,null,null,24,null,23,null,null,null,"P",12,null,1,55,"ROC Ferdinand",12,"121",null,0,0,null,null,"ATTDUCEYAVRANCH","2/2",null,null,"TORIGNAISE ESTT",2,2,2,2,2,4,4,6,null,null,null,null,null,null,null,null,null,null,null,null,null,null,null,null,null,null,null,null,null,null,null,null,{"$error":"#VALUE!"},{"$error":"#REF!"},{"$error":"#REF!"},{"$error":"#N/A"},{"$error":"#N/A"},{"$error":"#N/A"},{"$error":"#N/A"},null,null,null,null,null,null,null,null,null,null,25,"H","HB","B"]
[13,"17=",13,25,"",""," ",null,null,null,null,45,"17=",45,27,"",""," "," ",null,null,null,25,null,26,null,null,null,"P",13,null,1,57,"RIGOT Noe",13,"131",null,0,0,null,null,"CARANTILLAISE","",null,null,"TT SAINT JAMES",3,3,3,3,3,6,6,9,null,null,null,null,null,null,null,null,null,null,null,null,null,null,null,null,null,null,null,null,null,null,null,null,{"$error":"#VALUE!"},{"$error":"#REF!"},{"$error":"#REF!"},{"$error":"#N/A"},{"$error":"#N/A"},{"$error":"#N/A"},{"$error":"#N/A"},null,null,null,null,null,null,null,null,null,null,26,"H","HB","B"]
[14,"33=",14,40,"",""," ",null,null,null,null,46,"33=",46,38,"",""," "," ",null,null,null,40,null,39,null,null,null,"P",14,null,1,53,"MASSELINE Malo",14,"141",null,0,0,null,null,"TORIGNAISE ESTT","1/2",null,null,"Total général",21,21,21,21,21,42,42,63,null,null,null,null,null,null,null,null,null,null,null,null,null,null,null,null,null,null,null,null,null,null,null,null,{"$error":"#VALUE!"},{"$error":"#REF!"},{"$error":"#REF!"},{"$error":"#N/A"},{"$error":"#N/A"},{"$error":"#N/A"},{"$error":"#N/A"},null,null,null,null,null,null,null,null,null,null,27,"H","HB","B"]
[15,"33=",15,57,"",""," ",null,null,null,null,47,"33=",47,59,"",""," "," ",null,null,null,57,null,58,null,null,null,"P",15,null,1,59,"BRILLET Pacome",15,"151",null,0,0,null,null,"TT SAINT JAMES","2/3",null,null,null,null,null,null,null,null,null,null,null,null,null,null,null,null,null,null,null,null,null,null,null,null,null,null,null,null,null,null,null,null,null,null,null,{"$error":"#N/A"},{"$error":"#N/A"},{"$error":"#N/A"},{"$error":"#N/A"},{"$error":"#N/A"},{"$error":"#N/A"},{"$error":"#N/A"},null,null,null,null,null,null,null,null,null,null,28,"H","HB","B"]
[16,"5=",16,8,"",""," ",null,null,null,null,48,"5=",48,6,"",""," "," ",null,null,null,8,null,7,null,null,null,"P",16,null,1,56,"VARIN Louis",16,"161",null,0,0,null,null,"TORIGNAISE ESTT","2/2",null,null,null,null,null,null,null,null,null,null,null,null,null,null,null,null,null,null,null,null,null,null,null,null,null,null,null,null,null,null,null,null,null,null,null,{"$error":"#N/A"},{"$error":"#N/A"},{"$error":"#N/A"},{"$error":"#N/A"},{"$error":"#N/A"},{"$error":"#N/A"},{"$error":"#N/A"},null,null,null,null,null,null,null,null,null,null,29,"H","HB","B"]
[17,"5=",17,5,"",""," ",null,"HB",null,null,49,"5=",49,7,"",""," "," ","BB",null,null,5,null,6,null,null,null,"P",17,null,1,121,"LUCAS Ifig",17,"171",null,0,0,null,null,"EQUEURDREVILLE","2/2",null,null,null,null,null,null,null,null,null,null,null,null,null,null,null,null,null,null,null,null,null,null,null,null,null,null,null,null,null,null,null,null,null,null,null,{"$error":"#N/A"},{"$error":"#N/A"},{"$error":"#N/A"},{"$error":"#N/A"},{"$error":"#N/A"},{"$error":"#N/A"},{"$error":"#N/A"},null,null,null,null,null,null,null,null,null,null,30,"H","HB","B"]
[18,"33=",18,60,"",""," ",null,null,null,null,50,"33=",50,58,"",""," "," ",null,null,null,60,null,59,null,null,null,"P",18,null,1,122,"VIDAL Charles",18,"181",null,0,0,null,null,"ASSUN TT","2/2",null,null,null,null,null,null,null,null,null,null,null,null,null,null,null,null,null,null,null,null,null,null,null,null,null,null,null,null,null,null,null,null,null,null,null,{"$error":"#N/A"},{"$error":"#N/A"},{"$error":"#N/A"},{"$error":"#N/A"},{"$error":"#N/A"},{"$error":"#N/A"},{"$error":"#N/A"},null,null,null,null,null,null,null,null,null,null,31,"H","HB","B"]
[19,"33=",19,37,"",""," ",null,null,null,null,51,"33=",51,39,"",""," "," ",null,null,null,37,null,38,null,null,null,"P",19,null,1,123,"ROBION Paul",19,"191",null,0,0,null,null,"SIOUVILLE ATTLC","2/2",null,null,null,null,null,null,null,null,null,null,null,null,null,null,null,null,null,null,null,null,null,null,null,null,null,null,null,null,null,null,null,null,null,null,null,{"$error":"#N/A"},{"$error":"#N/A"},{"$error":"#N/A"},{"$error":"#N/A"},{"$error":"#N/A"},{"$error":"#N/A"},{"$error":"#N/A"},null,null,null,null,null,null,null,null,null,null,32,"H","HB","B"]
[20,"17=",20,28,"",""," ",null,null,null,null,52,"17=",52,26,"",""," "," ",null,null,null,28,null,27,null,null,null,"P",20,null,1,124,"LEVILLAIN Camille",20,"201",null,0,0,null,null,"ST PAIR BRICQUE","4/4",null,null,null,null,null,null,null,null,null,null,null,null,null,null,null,null,null,null,null,null,null,null,null,null,null,null,null,null,null,null,null,null,null,null,null,{"$error":"#N/A"},{"$error":"#N/A"},{"$error":"#N/A"},{"$error":"#N/A"},{"$error":"#N/A"},{"$error":"#N/A"},{"$error":"#N/A"},null,null,null,null,null,null,null,null,null,null,33,"B","BH","H"]
[21,"17=",21,21,"",""," ",null,null,null,null,53,"17=",53,23,"",""," "," ",null,null,null,21,null,22,null,null,null,"P",21,null,1,125,"COUEDEL-COULON Eloan",21,"211",null,0,0,null,null,"TT SAINT JAMES","3/3",null,null,null,null,null,null,null,null,null,null,null,null,null,null,null,null,null,null,null,null,null,null,null,null,null,null,null,null,null,null,null,null,null,null,null,{"$error":"#N/A"},{"$error":"#N/A"},{"$error":"#N/A"},{"$error":"#N/A"},{"$error":"#N/A"},{"$error":"#N/A"},{"$error":"#N/A"},null,null,null,null,null,null,null,null,null,null,34,"B","BH","H"]
[22,"33=",22,44,"",""," ",null,null,null,null,54,"33=",54,42,"",""," "," ",null,null,null,44,null,43,null,null,null,null,null,null,null,"2ème de poule",null,null,null,null,null,null,null,null,null," ",null,null,null,null,null,null,null,null,null,null,null,null,null,null,null,null,null,null,null,null,null,null,null,null,null,null,null,null,null,null,null,null,null,null,null,{"$error":"#N/A"},{"$error":"#N/A"},{"$error":"#N/A"},{"$error":"#N/A"},{"$error":"#N/A"},{"$error":"#N/A"},{"$error":"#N/A"},null,null,null,null,null,null,null,null,null,null,35,"B","BH","H"]
[23,"33=",23,53,"",""," ",null,null,null,null,55,"33=",55,55,"",""," "," ",null,null,null,53,null,54,null,null,null,"Pl","x","TAS","N°","Dos","NOM Prénom","Rang","SPIDD","a","1/2 T","1/4 T","c","d","Club, Comité ou Ligue","N° Club",null,null,null,null,null,null,null,null,null,null,null,null,null,null,null,null,null,null,null,null,null,null,null,null,null,null,null,null,null,null,null,null,null,null,null,{"$error":"#N/A"},{"$error":"#N/A"},{"$error":"#N/A"},{"$error":"#N/A"},{"$error":"#N/A"},{"$error":"#N/A"},{"$error":"#N/A"},null,null,null,null,null,null,null,null,null,null,36,"B","BH","H"]
[24,"9=",24,12,"",""," ",null,null,null,null,56,"9=",56,10,"",""," "," ",null,null,null,12,null,11,null,null,null,"P",1,null,2,{"$f":"IF(ISNA(VLOOKUP(AJ40,Liste_SPIDD,2,FALSE)),901,VLOOKUP(AJ40,Liste_SPIDD,2,FALSE))","v":201},{"$f":"IF(AG40=\"\",\"\",IF(ISNA(VLOOKUP(AG40,Liste_Dos_SPIDD,2,FALSE)),VLOOKUP(AG40,Liste_J,3,FALSE),VLOOKUP(AG40,Liste_Dos_SPIDD,2,FALSE)))","v":"LUCAS Ifig"},22,{"$f":"AD40&AF40","v":"12"},null,{"$f":"IF(AL17=\"H\",\"B\",IF(AL17=\"B\",\"H\",\"\"))","v":""},{"$f":"IF($AE40=0,0,VLOOKUP($AE40,CR$4:CU$72,3,FALSE))","v":0},null,null,{"$f":"IF(AG40=\"\",\"\",IF(ISNA(VLOOKUP(AG40,Liste_Dos_SPIDD,3,FALSE)),VLOOKUP(AG40,Liste_J,$A$10,FALSE),VLOOKUP(AG40,Liste_Dos_SPIDD,3,FALSE)))","v":"EQUEURDREVILLE"},{"$f":"IF(ISERROR(VLOOKUP(AP40,$AT$13:$CG$147,35,FALSE)),\"\",IF(AL40=\"H\",VLOOKUP(AP40,$AT$13:$CG$147,35,FALSE),IF(AL40=\"B\",VLOOKUP(AP40,$AT$13:$CG$147,36,FALSE),\"\")))","v":""},null,null,null,null,null,null,null,null,null,null,null,null,null,null,null,null,null,null,null,null,null,null,null,null,null,null,null,null,null,null,null,null,null,null,null,{"$error":"#N/A"},{"$error":"#N/A"},{"$error":"#N/A"},{"$error":"#N/A"},{"$error":"#N/A"},{"$error":"#N/A"},{"$error":"#N/A"},null,null,null,null,null,null,null,null,null,null,37,"B","BH","H"]
[25,"9=",25,13,"",""," ",null,null,null,null,57,"9=",57,15,"",""," "," ",null,null,null,13,null,14,null,null,null,"P",2,null,2,202,"VIDAL Charles",23,{"$f":"AD41&AF41","v":"22"},null,{"$f":"IF(AL18=\"H\",\"B\",IF(AL18=\"B\",\"H\",\"\"))","v":""},0,null,null,"ASSUN TT",{"$f":"IF(ISERROR(VLOOKUP(AP41,$AT$13:$CG$147,35,FALSE)),\"\",IF(AL41=\"H\",VLOOKUP(AP41,$AT$13:$CG$147,35,FALSE),IF(AL41=\"B\",VLOOKUP(AP41,$AT$13:$CG$147,36,FALSE),\"\")))","v":""},null,null,null,null,null,null,null,null,null,null,null,null,null,null,null,null,null,null,null,null,null,null,null,null,null,null,null,null,null,null,null,null,null,null,null,{"$error":"#N/A"},{"$error":"#N/A"},{"$error":"#N/A"},{"$error":"#N/A"},{"$error":"#N/A"},{"$error":"#N/A"},{"$error":"#N/A"},null,null,null,null,null,null,null,null,null,null,38,"B","BH","H"]
[26,"33=",26,52,"",""," ",null,null,null,null,58,"33=",58,50,"",""," "," ",null,null,null,52,null,51,null,null,null,"P",3,null,2,203,"ROBION Paul",24,"32",null,"",0,null,null,"SIOUVILLE ATTLC","",null,null,null,null,null,null,null,null,null,null,null,null,null,null,null,null,null,null,null,null,null,null,null,null,null,null,null,null,null,null,null,null,null,null,null,{"$error":"#N/A"},{"$error":"#N/A"},{"$error":"#N/A"},{"$error":"#N/A"},{"$error":"#N/A"},{"$error":"#N/A"},{"$error":"#N/A"},null,null,null,null,null,null,null,null,null,null,39,"B","BH","H"]
[27,"33=",27,45,"",""," ",null,null,null,null,59,"33=",59,47,"",""," "," ",null,null,null,45,null,46,null,null,null,"P",4,null,2,204,"LEVILLAIN Camille",25,"42",null,"",0,null,null,"ST PAIR BRICQUE","",null,null,null,null,null,null,null,null,null,null,null,null,null,null,null,null,null,null,null,null,null,null,null,null,null,null,null,null,null,null,null,null,null,null,null,{"$error":"#N/A"},{"$error":"#N/A"},{"$error":"#N/A"},{"$error":"#N/A"},{"$error":"#N/A"},{"$error":"#N/A"},{"$error":"#N/A"},null,null,null,null,null,null,null,null,null,null,40,"B","BH","H"]
[28,"17=",28,20,"",""," ",null,null,null,null,60,"17=",60,18,"",""," "," ",null,null,null,20,null,19,null,null,null,"P",5,null,2,205,"COUEDEL-COULON Eloan",26,"52",null,"",0,null,null,"TT SAINT JAMES","",null,null,null,null,null,null,null,null,null,null,null,null,null,null,null,null,null,null,null,null,null,null,null,null,null,null,null,null,null,null,null,null,null,null,null,{"$error":"#N/A"},{"$error":"#N/A"},{"$error":"#N/A"},{"$error":"#N/A"},{"$error":"#N/A"},{"$error":"#N/A"},{"$error":"#N/A"},null,null,null,null,null,null,null,null,null,null,41,"B","BH","H"]
[29,"17=",29,29,"",""," ",null,null,null,null,61,"17=",61,31,"",""," "," ",null,null,null,29,null,30,null,null,null,"P",6,null,2,206,"LECLERC Alexandre-Bao",27,"62",null,"",0,null,null,"OC AGNEAUX","",null,null,null,null,null,null,null,null,null,null,null,null,null,null,null,null,null,null,null,null,null,null,null,null,null,null,null,null,null,null,null,null,null,null,null,{"$error":"#N/A"},{"$error":"#N/A"},{"$error":"#N/A"},{"$error":"#N/A"},{"$error":"#N/A"},{"$error":"#N/A"},{"$error":"#N/A"},null,null,null,null,null,null,null,null,null,null,42,"B","BH","H"]
[30,"33=",30,36,"",""," ",null,null,null,null,62,"33=",62,34,"",""," "," ",null,null,null,36,null,35,null,null,null,"P",7,null,2,207,"NICOLLE Augustin",28,"72",null,"",0,null,null,"COUTANCES JA","",null,null,null,null,null,null,null,null,null,null,null,null,null,null,null,null,null,null,null,null,null,null,null,null,null,null,null,null,null,null,null,null,null,null,null,{"$error":"#N/A"},{"$error":"#N/A"},{"$error":"#N/A"},{"$error":"#N/A"},{"$error":"#N/A"},{"$error":"#N/A"},{"$error":"#N/A"},null,null,null,null,null,null,null,null,null,null,43,"B","BH","H"]
[31,"33=",31,61,"",""," ",null,null,null,null,63,"33=",63,63,"",""," "," ",null,null,null,61,null,62,null,null,null,"P",8,null,2,208,"NICOLLE Emile",29,"82",null,"",0,null,null,"COUTANCES JA","",null,null,null,null,null,null,null,null,null,null,null,null,null,null,null,null,null,null,null,null,null,null,null,null,null,null,null,null,null,null,null,null,null,null,null,{"$error":"#N/A"},{"$error":"#N/A"},{"$error":"#N/A"},{"$error":"#N/A"},{"$error":"#N/A"},{"$error":"#N/A"},{"$error":"#N/A"},null,null,null,null,null,null,null,null,null,null,44,"B","BH","H"]
[32,"3=",32,4,"",""," ",null,null,null,null,64,2,64,2,"",""," "," ",null,null,null,4,null,3,null,null,null,"P",9,null,2,209,"RIPOCHE Nathan",30,"92",null,"",0,null,null,"ST PAIR BRICQUE","",null,null,null,null,null,null,null,null,null,null,null,null,null,null,null,null,null,null,null,null,null,null,null,null,null,null,null,null,null,null,null,null,null,null,null,{"$error":"#N/A"},{"$error":"#N/A"},{"$error":"#N/A"},{"$error":"#N/A"},{"$error":"#N/A"},{"$error":"#N/A"},{"$error":"#N/A"},null,null,null,null,null,null,null,null,null,null,45,"B","BH","H"]
[null,null,null,null,null,null,null,null,null,null,null,null,null,null,null,null,null,null,null,null,null,null,null,null,null,null,null,null,"P",10,null,2,210,"PEIN Edgar",31,"102",null,"",0,null,null,"ST PAIR BRICQUE","",null,null,null,null,null,null,null,null,null,null,null,null,null,null,null,null,null,null,null,null,null,null,null,null,null,null,null,null,null,null,null,null,null,null,null,{"$error":"#N/A"},{"$error":"#N/A"},{"$error":"#N/A"},{"$error":"#N/A"},{"$error":"#N/A"},{"$error":"#N/A"},{"$error":"#N/A"},null,null,null,null,null,null,null,null,null,null,46,"B","BH","H"]
[null,null,null,null,null,null,null,null,null,null,null,null,null,null,null,null,null,null,null,null,null,null,null,null,null,null,null,null,"P",11,null,2,211,"RICOUX Bastien",32,"112",null,"",0,null,null,"ATTDUCEYAVRANCH","",null,null,null,null,null,null,null,null,null,null,null,null,null,null,null,null,null,null,null,null,null,null,null,null,null,null,null,null,null,null,null,null,null,null,null,{"$error":"#N/A"},{"$error":"#N/A"},{"$error":"#N/A"},{"$error":"#N/A"},{"$error":"#N/A"},{"$error":"#N/A"},{"$error":"#N/A"},null,null,null,null,null,null,null,null,null,null,47,"B","BH","H"]
[null,null,null,null,null,null,null,null,null,null,null,null,null,null,null,null,null,null,null,null,null,null,null,null,null,null,null,null,"P",12,null,2,212,"ROC Ferdinand",33,"122",null,"",0,null,null,"ATTDUCEYAVRANCH","",null,null,null,null,null,null,null,null,null,null,null,null,null,null,null,null,null,null,null,null,null,null,null,null,null,null,null,null,null,null,null,null,null,null,null,{"$error":"#N/A"},{"$error":"#N/A"},{"$error":"#N/A"},{"$error":"#N/A"},{"$error":"#N/A"},{"$error":"#N/A"},{"$error":"#N/A"},null,null,null,null,null,null,null,null,null,null,48,"B","BH","H"]
[null,null,null,null,null,null,null,null,null,null,null,null,null,null,null,null,null,null,null,null,null,null,null,null,null,null,null,null,"P",13,null,2,213,"RIGOT Noe",34,"132",null,"",0,null,null,"CARANTILLAISE","",null,null,null,null,null,null,null,null,null,null,null,null,null,null,null,null,null,null,null,null,null,null,null,null,null,null,null,null,null,null,null,null,null,null,null,{"$error":"#N/A"},{"$f":"IF(OR(VLOOKUP($AT52,$AT$16:$BL$110,CB$12,FALSE)>1,AND(VLOOKUP($AT52,$AT$16:$BL$110,CB$12,FALSE)=1,(VLOOKUP($AT52,$AT$16:$BL$110,CB$12+4,FALSE)+VLOOKUP($AT52,$AT$16:$BL$110,CB$12+6,FALSE))>0)),(VLOOKUP($AT52,$AT$16:$BL$110,CB$12,FALSE)+VLOOKUP($AT52,$AT$16:$BL$110,CB$12+4,FALSE)+VLOOKUP($AT52,$AT$16:$BL$110,CB$12+6,FALSE)),\"\")","v":{"$error":"#N/A"}},{"$error":"#N/A"},{"$f":"IF(OR(VLOOKUP($AT52,$AT$16:$BL$110,CD$12+2,FALSE)>1,AND(VLOOKUP($AT52,$AT$16:$BL$110,CD$12+2,FALSE)=1,VLOOKUP($AT52,$AT$16:$BL$110,CD$12+3,FALSE)>1)),VLOOKUP($AT52,$AT$16:$BL$110,CD$12+3,FALSE),\"\")","v":{"$error":"#N/A"}},{"$error":"#N/A"},{"$error":"#N/A"},{"$error":"#N/A"},null,null,null,null,null,null,null,null,null,null,49,"B","BB","H"]
[null,null,null,null,null,null,null,null,null,null,null,null,null,null,null,null,null,null,null,null,null,null,null,null,null,null,null,null,"P",14,null,2,214,"MASSELINE Malo",35,"142",null,"",0,null,null,"TORIGNAISE ESTT","",null,null,null,null,null,null,null,null,null,null,null,null,null,null,null,null,null,null,null,null,null,null,null,null,null,null,null,null,null,null,null,null,null,null,null,{"$error":"#N/A"},{"$error":"#N/A"},{"$error":"#N/A"},{"$error":"#N/A"},{"$error":"#N/A"},{"$error":"#N/A"},{"$error":"#N/A"},null,null,null,null,null,null,null,null,null,null,50,"B","BB","H"]
[null,null,null,null,null,null,null,null,null,null,null,null,null,null,null,null,null,null,null,null,null,null,null,null,null,null,null,null,"P",15,null,2,215,"BRILLET Pacome",36,"152",null,"",0,null,null,"TT SAINT JAMES","",null,null,null,null,null,null,null,null,null,null,null,null,null,null,null,null,null,null,null,null,null,null,null,null,null,null,null,null,null,null,null,null,null,null,null,{"$error":"#N/A"},{"$error":"#N/A"},{"$error":"#N/A"},{"$error":"#N/A"},{"$error":"#N/A"},{"$error":"#N/A"},{"$error":"#N/A"},null,null,null,null,null,null,null,null,null,null,51,"B","BB","H"]
[null,null,null,null,null,null,null,null,null,null,null,null,null,null,null,null,null,null,null,null,null,null,null,null,null,null,null,null,"P",16,null,2,216,"VARIN Louis",37,"162",null,"",0,null,null,"TORIGNAISE ESTT","",null,null,null,null,null,null,null,null,null,null,null,null,null,null,null,null,null,null,null,null,null,null,null,null,null,null,null,null,null,null,null,null,null,null,null,{"$error":"#N/A"},{"$error":"#N/A"},{"$error":"#N/A"},{"$error":"#N/A"},{"$error":"#N/A"},{"$error":"#N/A"},{"$error":"#N/A"},null,null,null,null,null,null,null,null,null,null,52,"B","BB","H"]
[null,null,null,null,null,null,null,null,null,null,null,null,null,null,null,null,null,null,null,null,null,null,null,null,null,null,null,null,"P",17,null,2,217,"LUCAS Ifig",38,"172",null,"",0,null,null,"EQUEURDREVILLE","",null,null,null,null,null,null,null,null,null,null,null,null,null,null,null,null,null,null,null,null,null,null,null,null,null,null,null,null,null,null,null,null,null,null,null,{"$error":"#N/A"},{"$error":"#N/A"},{"$error":"#N/A"},{"$error":"#N/A"},{"$error":"#N/A"},{"$error":"#N/A"},{"$error":"#N/A"},null,null,null,null,null,null,null,null,null,null,53,"B","BB","H"]
[null,null,null,null,null,null,null,null,null,null,null,null,null,null,null,null,null,null,null,null,null,null,null,null,null,null,null,null,"P",18,null,2,218,"VIDAL Charles",39,"182",null,"",0,null,null,"ASSUN TT","",null,null,null,null,null,null,null,null,null,null,null,null,null,null,null,null,null,null,null,null,null,null,null,null,null,null,null,null,null,null,null,null,null,null,null,{"$error":"#N/A"},{"$error":"#N/A"},{"$error":"#N/A"},{"$error":"#N/A"},{"$error":"#N/A"},{"$error":"#N/A"},{"$error":"#N/A"},null,null,null,null,null,null,null,null,null,null,54,"B","BB","H"]
[null,null,null,null,null,null,null,null,null,null,null,null,null,null,null,null,null,null,null,null,null,null,null,null,null,null,null,null,"P",19,null,2,219,"ROBION Paul",40,"192",null,"",0,null,null,"SIOUVILLE ATTLC","",null,null,null,null,null,null,null,null,null,null,null,null,null,null,null,null,null,null,null,null,null,null,null,null,null,null,null,null,null,null,null,null,null,null,null,{"$error":"#N/A"},{"$error":"#N/A"},{"$error":"#N/A"},{"$error":"#N/A"},{"$error":"#N/A"},{"$error":"#N/A"},{"$error":"#N/A"},null,null,null,null,null,null,null,null,null,null,55,"B","BB","H"]
[null,null,null,null,null,null,null,null,null,null,null,null,null,null,null,null,null,null,null,null,null,null,null,null,null,null,null,null,"P",20,null,2,220,"LEVILLAIN Camille",41,"202",null,"",0,null,null,"ST PAIR BRICQUE","",null,null,null,null,null,null,null,null,null,null,null,null,null,null,null,null,null,null,null,null,null,null,null,null,null,null,null,null,null,null,null,null,null,null,null,{"$error":"#N/A"},{"$error":"#N/A"},{"$error":"#N/A"},{"$error":"#N/A"},{"$error":"#N/A"},{"$error":"#N/A"},{"$error":"#N/A"},null,null,null,null,null,null,null,null,null,null,56,"B","BB","H"]
[null,null,null,null,null,null,null,null,null,null,null,null,null,null,null,null,null,null,null,null,null,null,null,null,null,null,null,null,"P",21,null,2,221,"COUEDEL-COULON Eloan",42,"212",null,"",0,null,null,"TT SAINT JAMES","",null,null,null,null,null,null,null,null,null,null,null,null,null,null,null,null,null,null,null,null,null,null,null,null,null,null,null,null,null,null,null,null,null,null,null,{"$error":"#N/A"},{"$error":"#N/A"},{"$error":"#N/A"},{"$error":"#N/A"},{"$error":"#N/A"},{"$error":"#N/A"},{"$error":"#N/A"},null,null,null,null,null,null,null,null,null,null,57,"B","BB","H"]
[null,null,null,null,null,null,null,null,null,null,null,null,null,null,null,null,null,null,null,null,null,null,null,null,null,null,null,null,null,null,null,null,null,null,null,null,null,null,null,null,null,null,null,null,null,null,null,null,null,null,null,null,null,null,null,null,null,null,null,null,null,null,null,null,null,null,null,null,null,null,null,null,null,null,null,null,null,null,{"$error":"#N/A"},{"$error":"#N/A"},{"$error":"#N/A"},{"$error":"#N/A"},{"$error":"#N/A"},{"$error":"#N/A"},{"$error":"#N/A"},null,null,null,null,null,null,null,null,null,null,58,"B","BB","H"]
[null,null,null,null,null,null,null,null,null,null,null,null,null,null,null,null,null,null,null,null,null,null,null,null,null,null,null,"3ème de poule",null,null,null,null,null,null,null,null,null,null,null,null,null,null,null,null,null,null,null,null,null,null,null,null,null,null,null,null,null,null,null,null,null,null,null,null,null,null,null,null,null,null,null,null,null,null,null,null,null,null,{"$error":"#N/A"},{"$error":"#N/A"},{"$error":"#N/A"},{"$error":"#N/A"},{"$error":"#N/A"},{"$error":"#N/A"},{"$error":"#N/A"},null,null,null,null,null,null,null,null,null,null,59,"B","BB","H"]
[null,null,null,null,null,null,null,null,null,null,null,null,null,null,null,null,null,null,null,null,null,null,null,null,null,null,null,null,"Pl","x","TAS","N°","Dos","NOM Prénom","Rang","SPIDD","a","1/2 T","1/4 T","c","d","Club","N° Club",null,null,null,null,null,null,null,null,null,null,null,null,null,null,null,null,null,null,null,null,null,null,null,null,null,null,null,null,null,null,null,null,null,null,null,{"$error":"#N/A"},{"$error":"#N/A"},{"$error":"#N/A"},{"$error":"#N/A"},{"$error":"#N/A"},{"$error":"#N/A"},{"$error":"#N/A"},null,null,null,null,null,null,null,null,null,null,60,"B","BB","H"]
[null,null,null,null,null,null,null,null,null,null,null,null,null,null,null,null,null,null,null,null,null,null,null,null,null,null,null,null,"P",1,null,3,{"$f":"IF(ISNA(VLOOKUP(AJ64,Liste_SPIDD,2,FALSE)),901,VLOOKUP(AJ64,Liste_SPIDD,2,FALSE))","v":301},{"$f":"IF(AG64=\"\",\"\",IF(ISNA(VLOOKUP(AG64,Liste_Dos_SPIDD,2,FALSE)),VLOOKUP(AG64,Liste_J,3,FALSE),VLOOKUP(AG64,Liste_Dos_SPIDD,2,FALSE)))","v":"LUCAS Ifig"},43,{"$f":"AD64&AF64","v":"13"},null,{"$f":"AL40","v":""},{"$f":"IF(AM40=0,0,IF(AM40=\"HH\",\"HB\",IF(AM40=\"HB\",\"HH\",IF(AM40=\"BH\",\"BB\",IF(AM40=\"BB\",\"BH\")))))","v":0},null,null,{"$f":"IF(AG64=\"\",\"\",IF(ISNA(VLOOKUP(AG64,Liste_Dos_SPIDD,3,FALSE)),VLOOKUP(AG64,Liste_J,$A$10,FALSE),VLOOKUP(AG64,Liste_Dos_SPIDD,3,FALSE)))","v":"EQUEURDREVILLE"},{"$f":"IF(ISERROR(VLOOKUP(AP64,$AT$16:$CG$110,18,FALSE)),\"\",IF($AP$9=\"HH\",VLOOKUP(AP64,$AT$16:$CG$110,37,FALSE),IF($AP$9=\"HB\",VLOOKUP(AP64,$AT$16:$CG$110,38,FALSE),IF($AP$9=\"BH\",VLOOKUP(AP64,$AT$16:$CG$110,39,FALSE),IF($AP$9=\"BB\",VLOOKUP(AP64,$AT$16:$CG$110,40,FALSE),\"\")))))","v":""},null,null,null,null,null,null,null,null,null,null,null,null,null,null,null,null,null,null,null,null,null,null,null,null,null,null,null,null,null,null,null,null,null,null,null,{"$error":"#N/A"},{"$error":"#N/A"},{"$error":"#N/A"},{"$error":"#N/A"},{"$error":"#N/A"},{"$error":"#N/A"},{"$error":"#N/A"},null,null,null,null,null,null,null,null,null,null,61,"B","BB","H"]
[null,null,null,null,null,null,null,null,null,null,null,null,null,null,null,null,null,null,null,null,null,null,null,null,null,null,null,null,"P",2,null,3,302,"VIDAL Charles",44,{"$f":"AD65&AF65","v":"23"},null,"",0,null,null,"ASSUN TT","",null,null,null,null,null,null,null,null,null,null,null,null,null,null,null,null,null,null,null,null,null,null,null,null,null,null,null,null,null,null,null,null,null,null,null,{"$error":"#N/A"},{"$error":"#N/A"},{"$error":"#N/A"},{"$error":"#N/A"},{"$error":"#N/A"},{"$error":"#N/A"},{"$error":"#N/A"},null,null,null,null,null,null,null,null,null,null,62,"B","BB","H"]
[null,null,null,null,null,null,null,null,null,null,null,null,null,null,null,null,null,null,null,null,null,null,null,null,null,null,null,null,"P",3,null,3,303,"ROBION Paul",45,"33",null,"",0,null,null,"SIOUVILLE ATTLC","",null,null,null,null,null,null,null,null,null,null,null,null,null,null,null,null,null,null,null,null,null,null,null,null,null,null,null,null,null,null,null,null,null,null,null,{"$error":"#N/A"},{"$error":"#N/A"},{"$error":"#N/A"},{"$error":"#N/A"},{"$error":"#N/A"},{"$error":"#N/A"},{"$error":"#N/A"},null,null,null,null,null,null,null,null,null,null,63,"B","BB","H"]
[null,null,null,null,null,null,null,null,null,null,null,null,null,null,null,null,null,null,null,null,null,null,null,null,null,null,null,null,"P",4,null,3,304,"LEVILLAIN Camille",46,"43",null,"",0,null,null,"ST PAIR BRICQUE","",null,null,null,null,null,null,null,null,null,null,null,null,null,null,null,null,null,null,null,null,null,null,null,null,null,null,null,null,null,null,null,null,null,null,null,{"$error":"#N/A"},{"$error":"#N/A"},{"$error":"#N/A"},{"$error":"#N/A"},{"$error":"#N/A"},{"$error":"#N/A"},{"$error":"#N/A"},null,null,null,null,null,null,null,null,null,null,64,"B","BB","H"]
[null,null,null,null,null,null,null,null,null,null,null,null,null,null,null,null,null,null,null,null,null,null,null,null,null,null,null,null,"P",5,null,3,305,"COUEDEL-COULON Eloan",47,"53",null,"",0,null,null,"TT SAINT JAMES","",null,null,null,null,null,null,null,null,null,null,null,null,null,null,null,null,null,null,null,null,null,null,null,null,null,null,null,null,null,null,null,null,null,null,null,{"$error":"#N/A"},{"$error":"#N/A"},{"$error":"#N/A"},{"$error":"#N/A"},{"$error":"#N/A"},{"$error":"#N/A"},{"$error":"#N/A"}]
[null,null,null,null,null,null,null,null,null,null,null,null,null,null,null,null,null,null,null,null,null,null,null,null,null,null,null,null,"P",6,null,3,306,"LECLERC Alexandre-Bao",48,"63",null,"",0,null,null,"OC AGNEAUX","",null,null,null,null,null,null,null,null,null,null,null,null,null,null,null,null,null,null,null,null,null,null,null,null,null,null,null,null,null,null,null,null,null,null,null,{"$error":"#N/A"},{"$error":"#N/A"},{"$error":"#N/A"},{"$error":"#N/A"},{"$error":"#N/A"},{"$error":"#N/A"},{"$error":"#N/A"}]
[null,null,null,null,null,null,null,null,null,null,null,null,null,null,null,null,null,null,null,null,null,null,null,null,null,null,null,null,"P",7,null,3,307,"NICOLLE Augustin",49,"73",null,"",0,null,null,"COUTANCES JA","",null,null,null,null,null,null,null,null,null,null,null,null,null,null,null,null,null,null,null,null,null,null,null,null,null,null,null,null,null,null,null,null,null,null,null,{"$error":"#N/A"},{"$error":"#N/A"},{"$error":"#N/A"},{"$error":"#N/A"},{"$error":"#N/A"},{"$error":"#N/A"},{"$error":"#N/A"}]
[null,null,null,null,null,null,null,null,null,null,null,null,null,null,null,null,null,null,null,null,null,null,null,null,null,null,null,null,"P",8,null,3,308,"NICOLLE Emile",50,"83",null,"",0,null,null,"COUTANCES JA","",null,null,null,null,null,null,null,null,null,null,null,null,null,null,null,null,null,null,null,null,null,null,null,null,null,null,null,null,null,null,null,null,null,null,null,{"$error":"#N/A"},{"$error":"#N/A"},{"$error":"#N/A"},{"$error":"#N/A"},{"$error":"#N/A"},{"$error":"#N/A"},{"$error":"#N/A"}]
[null,null,null,null,null,null,null,null,null,null,null,null,null,null,null,null,null,null,null,null,null,null,null,null,null,null,null,null,"P",9,null,3,309,"RIPOCHE Nathan",51,"93",null,"",0,null,null,"ST PAIR BRICQUE","",null,null,null,null,null,null,null,null,null,null,null,null,null,null,null,null,null,null,null,null,null,null,null,null,null,null,null,null,null,null,null,null,null,null,null,{"$error":"#N/A"},{"$error":"#N/A"},{"$error":"#N/A"},{"$error":"#N/A"},{"$error":"#N/A"},{"$error":"#N/A"},{"$error":"#N/A"}]
[null,null,null,null,null,null,null,null,null,null,null,null,null,null,null,null,null,null,null,null,null,null,null,null,null,null,null,null,"P",10,null,3,310,"PEIN Edgar",52,"103",null,"",0,null,null,"ST PAIR BRICQUE","",null,null,null,null,null,null,null,null,null,null,null,null,null,null,null,null,null,null,null,null,null,null,null,null,null,null,null,null,null,null,null,null,null,null,null,{"$error":"#N/A"},{"$error":"#N/A"},{"$error":"#N/A"},{"$error":"#N/A"},{"$error":"#N/A"},{"$error":"#N/A"},{"$error":"#N/A"}]
[null,null,null,null,null,null,null,null,null,null,null,null,null,null,null,null,null,null,null,null,null,null,null,null,null,null,null,null,"P",11,null,3,311,"RICOUX Bastien",53,"113",null,"",0,null,null,"ATTDUCEYAVRANCH","",null,null,null,null,null,null,null,null,null,null,null,null,null,null,null,null,null,null,null,null,null,null,null,null,null,null,null,null,null,null,null,null,null,null,null,{"$error":"#N/A"},{"$error":"#N/A"},{"$error":"#N/A"},{"$error":"#N/A"},{"$error":"#N/A"},{"$error":"#N/A"},{"$error":"#N/A"}]
[null,null,null,null,null,null,null,null,null,null,null,null,null,null,null,null,null,null,null,null,null,null,null,null,null,null,null,null,"P",12,null,3,312,"ROC Ferdinand",54,"123",null,"",0,null,null,"ATTDUCEYAVRANCH","",null,null,null,null,null,null,null,null,null,null,null,null,null,null,null,null,null,null,null,null,null,null,null,null,null,null,null,null,null,null,null,null,null,null,null,{"$error":"#N/A"},{"$error":"#N/A"},{"$error":"#N/A"},{"$error":"#N/A"},{"$error":"#N/A"},{"$error":"#N/A"},{"$error":"#N/A"}]
[null,null,null,null,null,null,null,null,null,null,null,null,null,null,null,null,null,null,null,null,null,null,null,null,null,null,null,null,"P",13,null,3,313,"RIGOT Noe",55,"133",null,"",0,null,null,"CARANTILLAISE","",null,null,null,null,null,null,null,null,null,null,null,null,null,null,null,null,null,null,null,null,null,null,null,null,null,null,null,null,null,null,null,null,null,null,null,{"$error":"#N/A"},{"$error":"#N/A"},{"$error":"#N/A"},{"$error":"#N/A"},{"$error":"#N/A"},{"$error":"#N/A"},{"$error":"#N/A"}]
[null,null,null,null,null,null,null,null,null,null,null,null,null,null,null,null,null,null,null,null,null,null,null,null,null,null,null,null,"P",14,null,3,314,"MASSELINE Malo",56,"143",null,"",0,null,null,"TORIGNAISE ESTT","",null,null,null,null,null,null,null,null,null,null,null,null,null,null,null,null,null,null,null,null,null,null,null,null,null,null,null,null,null,null,null,null,null,null,null,{"$error":"#N/A"},{"$error":"#N/A"},{"$error":"#N/A"},{"$error":"#N/A"},{"$error":"#N/A"},{"$error":"#N/A"},{"$error":"#N/A"}]
[null,null,null,null,null,null,null,null,null,null,null,null,null,null,null,null,null,null,null,null,null,null,null,null,null,null,null,null,"P",15,null,3,315,"BRILLET Pacome",57,"153",null,"",0,null,null,"TT SAINT JAMES","",null,null,null,null,null,null,null,null,null,null,null,null,null,null,null,null,null,null,null,null,null,null,null,null,null,null,null,null,null,null,null,null,null,null,null,{"$error":"#N/A"},{"$error":"#N/A"},{"$error":"#N/A"},{"$error":"#N/A"},{"$error":"#N/A"},{"$error":"#N/A"},{"$error":"#N/A"}]
[null,null,null,null,null,null,null,null,null,null,null,null,null,null,null,null,null,null,null,null,null,null,null,null,null,null,null,null,"P",16,null,3,316,"VARIN Louis",58,"163",null,"",0,null,null,"TORIGNAISE ESTT","",null,null,null,null,null,null,null,null,null,null,null,null,null,null,null,null,null,null,null,null,null,null,null,null,null,null,null,null,null,null,null,null,null,null,null,{"$error":"#N/A"},{"$error":"#N/A"},{"$error":"#N/A"},{"$error":"#N/A"},{"$error":"#N/A"},{"$error":"#N/A"},{"$error":"#N/A"}]
[null,null,null,null,null,null,null,null,null,null,null,null,null,null,null,null,null,null,null,null,null,null,null,null,null,null,null,null,"P",17,null,3,317,"LUCAS Ifig",59,"173",null,"",0,null,null,"EQUEURDREVILLE","",null,null,null,null,null,null,null,null,null,null,null,null,null,null,null,null,null,null,null,null,null,null,null,null,null,null,null,null,null,null,null,null,null,null,null,{"$error":"#N/A"},{"$error":"#N/A"},{"$error":"#N/A"},{"$error":"#N/A"},{"$error":"#N/A"},{"$error":"#N/A"},{"$error":"#N/A"}]
[null,null,null,null,null,null,null,null,null,null,null,null,null,null,null,null,null,null,null,null,null,null,null,null,null,null,null,null,"P",18,null,3,318,"VIDAL Charles",60,"183",null,"",0,null,null,"ASSUN TT","",null,null,null,null,null,null,null,null,null,null,null,null,null,null,null,null,null,null,null,null,null,null,null,null,null,null,null,null,null,null,null,null,null,null,null,{"$error":"#N/A"},{"$error":"#N/A"},{"$error":"#N/A"},{"$error":"#N/A"},{"$error":"#N/A"},{"$error":"#N/A"},{"$error":"#N/A"}]
[null,null,null,null,null,null,null,null,null,null,null,null,null,null,null,null,null,null,null,null,null,null,null,null,null,null,null,null,"P",19,null,3,319,"ROBION Paul",61,"193",null,"",0,null,null,"SIOUVILLE ATTLC","",null,null,null,null,null,null,null,null,null,null,null,null,null,null,null,null,null,null,null,null,null,null,null,null,null,null,null,null,null,null,null,null,null,null,null,{"$error":"#N/A"},{"$error":"#N/A"},{"$error":"#N/A"},{"$error":"#N/A"},{"$error":"#N/A"},{"$error":"#N/A"},{"$error":"#N/A"}]
[null,null,null,null,null,null,null,null,null,null,null,null,null,null,null,null,null,null,null,null,null,null,null,null,null,null,null,null,"P",20,null,3,320,"LEVILLAIN Camille",62,"203",null,"",0,null,null,"ST PAIR BRICQUE","",null,null,null,null,null,null,null,null,null,null,null,null,null,null,null,null,null,null,null,null,null,null,null,null,null,null,null,null,null,null,null,null,null,null,null,{"$error":"#N/A"},{"$error":"#N/A"},{"$error":"#N/A"},{"$error":"#N/A"},{"$error":"#N/A"},{"$error":"#N/A"},{"$error":"#N/A"}]
[null,null,null,null,null,null,null,null,null,null,null,null,null,null,null,null,null,null,null,null,null,null,null,null,null,null,null,null,"P",21,null,3,321,"COUEDEL-COULON Eloan",63,"213",null,"",0,null,null,"TT SAINT JAMES","",null,null,null,null,null,null,null,null,null,null,null,null,null,null,null,null,null,null,null,null,null,null,null,null,null,null,null,null,null,null,null,null,null,null,null,{"$f":"IF(VLOOKUP($AT84,$AT$16:$BL$110,CA$11,FALSE)>1,VLOOKUP($AT84,$AT$16:$BL$110,CA$11,FALSE),\"\")","v":{"$error":"#N/A"}},{"$error":"#N/A"},{"$error":"#N/A"},{"$error":"#N/A"},{"$error":"#N/A"},{"$error":"#N/A"},{"$error":"#N/A"}]
[]
[]
[null,null,null,null,null,null,null,null,null,null,null,null,null,null,null,null,null,null,null,null,null,null,null,null,null,null,null,null,null,null,2,3,901,{"$f":"IF(AG87=\"\",\"\",IF(ISNA(VLOOKUP(AG87,Liste_Dos_SPIDD,2,FALSE)),VLOOKUP(AG87,Liste_J,3,FALSE),VLOOKUP(AG87,Liste_Dos_SPIDD,2,FALSE)))","v":"Exempt"},63,{"$f":"AD87&AF87","v":"3"},null,null,null,null,null,{"$f":"IF(AG87=\"\",\"\",IF(ISNA(VLOOKUP(AG87,Liste_Dos_SPIDD,3,FALSE)),VLOOKUP(AG87,Liste_J,$A$10,FALSE),VLOOKUP(AG87,Liste_Dos_SPIDD,3,FALSE)))","v":" "},{"$f":"IF(ISERROR(VLOOKUP(AP87,$AT$16:$CG$110,18,FALSE)),\"\",IF($AP$9=\"HH\",VLOOKUP(AP87,$AT$16:$CG$110,37,FALSE),IF($AP$9=\"HB\",VLOOKUP(AP87,$AT$16:$CG$110,38,FALSE),IF($AP$9=\"BH\",VLOOKUP(AP87,$AT$16:$CG$110,39,FALSE),IF($AP$9=\"BB\",VLOOKUP(AP87,$AT$16:$CG$110,40,FALSE),\"\")))))","v":""}]
[]
[]
[]
[]
[]
[]
[]
[]
[]
[]
[]
[]
[]
[]
[]
[]
[]
[]
[]
[]
[]
[]
[]
[]
[]
[]
[]
[]
[]
[]
[]
[]
[]
[]
[]
[]
[]
[]
[]
[]
[]
[]
[]
[]
[]
[]
[]
[]
[]
[]
[]
[]
[]
[]
[]
[]
[]
[]
[]
[]
[]
[]
[]
[]
[]
[]
[]
[]
[]
[]
[]
[]
[]
[]
[]
[null,null,null,null,null,null,null,null,null,null,null,null,null,null,null,null,null,null,null,null,null,null,null,null,null,null,null,null,null,null,null,null,null,null,null,null,null,null,null,null,null,null,{"$f":"AJ163&\"/\"&AK163","v":"/"}]
[]
[]
[null,null,null,null,null,null,null,null,null,null,null,null,null,null,null,null,null,null,null,null,null,null,null,null,null,null,null,null,null,null,null,null,"Dos","NOM Prénom","Rang","RC","NC","1/2 T","b","c","d","Club","N° Club"]
[null,null,null,null,null,null,null,null,null,null,null,null,null,null,null,null,null,null,null,null,null,null,null,null,null,null,null,null,null,null,null,null,50,"VIDAL Charles",2,{"$f":"IF(AP167=AP166,AJ166+1,1)","v":1},{"$f":"COUNTIF($AP$167:$AP$187,AP167)","v":2},null,null,null,null,"ASSUN TT","1/2"]
[null,null,null,null,null,null,null,null,null,null,null,null,null,null,null,null,null,null,null,null,null,null,null,null,null,null,null,null,null,null,null,null,122,"VIDAL Charles",18,2,2,null,null,null,null,"ASSUN TT","2/2"]
[null,null,null,null,null,null,null,null,null,null,null,null,null,null,null,null,null,null,null,null,null,null,null,null,null,null,null,null,null,null,null,null,54,"RICOUX Bastien",11,1,2,null,null,null,null,"ATTDUCEYAVRANCH","1/2"]
[null,null,null,null,null,null,null,null,null,null,null,null,null,null,null,null,null,null,null,null,null,null,null,null,null,null,null,null,null,null,null,null,55,"ROC Ferdinand",12,2,2,null,null,null,null,"ATTDUCEYAVRANCH","2/2"]
[null,null,null,null,null,null,null,null,null,null,null,null,null,null,null,null,null,null,null,null,null,null,null,null,null,null,null,null,null,null,null,null,57,"RIGOT Noe",13,1,1,null,null,null,null,"CARANTILLAISE","1/1"]
[null,null,null,null,null,null,null,null,null,null,null,null,null,null,null,null,null,null,null,null,null,null,null,null,null,null,null,null,null,null,null,null,46,"NICOLLE Augustin",7,1,2,null,null,null,null,"COUTANCES JA","1/2"]
[null,null,null,null,null,null,null,null,null,null,null,null,null,null,null,null,null,null,null,null,null,null,null,null,null,null,null,null,null,null,null,null,48,"NICOLLE Emile",8,2,2,null,null,null,null,"COUTANCES JA","2/2"]
[null,null,null,null,null,null,null,null,null,null,null,null,null,null,null,null,null,null,null,null,null,null,null,null,null,null,null,null,null,null,null,null,44,"LUCAS Ifig",1,1,2,null,null,null,null,"EQUEURDREVILLE","1/2"]
[null,null,null,null,null,null,null,null,null,null,null,null,null,null,null,null,null,null,null,null,null,null,null,null,null,null,null,null,null,null,null,null,121,"LUCAS Ifig",17,2,2,null,null,null,null,"EQUEURDREVILLE","2/2"]
[null,null,null,null,null,null,null,null,null,null,null,null,null,null,null,null,null,null,null,null,null,null,null,null,null,null,null,null,null,null,null,null,45,"LECLERC Alexandre-Bao",6,1,1,null,null,null,null,"OC AGNEAUX","1/1"]
[null,null,null,null,null,null,null,null,null,null,null,null,null,null,null,null,null,null,null,null,null,null,null,null,null,null,null,null,null,null,null,null,49,"ROBION Paul",3,1,2,null,null,null,null,"SIOUVILLE ATTLC","1/2"]
[null,null,null,null,null,null,null,null,null,null,null,null,null,null,null,null,null,null,null,null,null,null,null,null,null,null,null,null,null,null,null,null,123,"ROBION Paul",19,2,2,null,null,null,null,"SIOUVILLE ATTLC","2/2"]
[null,null,null,null,null,null,null,null,null,null,null,null,null,null,null,null,null,null,null,null,null,null,null,null,null,null,null,null,null,null,null,null,47,"LEVILLAIN Camille",4,1,4,null,null,null,null,"ST PAIR BRICQUE","1/4"]
[null,null,null,null,null,null,null,null,null,null,null,null,null,null,null,null,null,null,null,null,null,null,null,null,null,null,null,null,null,null,null,null,51,"RIPOCHE Nathan",9,2,4,null,null,null,null,"ST PAIR BRICQUE","2/4"]
[null,null,null,null,null,null,null,null,null,null,null,null,null,null,null,null,null,null,null,null,null,null,null,null,null,null,null,null,null,null,null,null,58,"PEIN Edgar",10,3,4,null,null,null,null,"ST PAIR BRICQUE","3/4"]
[null,null,null,null,null,null,null,null,null,null,null,null,null,null,null,null,null,null,null,null,null,null,null,null,null,null,null,null,null,null,null,null,124,"LEVILLAIN Camille",20,4,4,null,null,null,null,"ST PAIR BRICQUE","4/4"]
[null,null,null,null,null,null,null,null,null,null,null,null,null,null,null,null,null,null,null,null,null,null,null,null,null,null,null,null,null,null,null,null,53,"MASSELINE Malo",14,1,2,null,null,null,null,"TORIGNAISE ESTT","1/2"]
[null,null,null,null,null,null,null,null,null,null,null,null,null,null,null,null,null,null,null,null,null,null,null,null,null,null,null,null,null,null,null,null,56,"VARIN Louis",16,2,2,null,null,null,null,"TORIGNAISE ESTT","2/2"]
[null,null,null,null,null,null,null,null,null,null,null,null,null,null,null,null,null,null,null,null,null,null,null,null,null,null,null,null,null,null,null,null,52,"COUEDEL-COULON Eloan",5,1,3,null,null,null,null,"TT SAINT JAMES","1/3"]
[null,null,null,null,null,null,null,null,null,null,null,null,null,null,null,null,null,null,null,null,null,null,null,null,null,null,null,null,null,null,null,null,59,"BRILLET Pacome",15,2,3,null,null,null,null,"TT SAINT JAMES","2/3"]
[null,null,null,null,null,null,null,null,null,null,null,null,null,null,null,null,null,null,null,null,null,null,null,null,null,null,null,null,null,null,null,null,125,"COUEDEL-COULON Eloan",21,3,3,null,null,null,null,"TT SAINT JAMES","3/3"]

{"sheet":"G-264c","index":27,"n_rows":4,"n_cols":22,"rows_kept":4,"cut":false,"hidden":false,"merged":[]}
["Clt",1,2,3,4,5,6,7,8,9,10,11,12,13,14,15,16,17,18,19,20,21]
["1er",{"$f":"'TS-264c'!AE17","v":0},{"$f":"'TS-264c'!AE18","v":0},{"$f":"'TS-264c'!AE19","v":0},{"$f":"'TS-264c'!AE20","v":0},{"$f":"'TS-264c'!AE21","v":0},{"$f":"'TS-264c'!AE22","v":0},{"$f":"'TS-264c'!AE23","v":0},{"$f":"'TS-264c'!AE24","v":0},{"$f":"'TS-264c'!AE25","v":0},{"$f":"'TS-264c'!AE26","v":0},{"$f":"'TS-264c'!AE27","v":0},{"$f":"'TS-264c'!AE28","v":0},{"$f":"'TS-264c'!AE29","v":0},{"$f":"'TS-264c'!AE30","v":0},{"$f":"'TS-264c'!AE31","v":0},{"$f":"'TS-264c'!AE32","v":0},{"$f":"'TS-264c'!AE33","v":0},{"$f":"'TS-264c'!AE34","v":0},{"$f":"'TS-264c'!AE35","v":0},{"$f":"'TS-264c'!AE36","v":0},{"$f":"'TS-264c'!AE37","v":0}]
["2ème",{"$f":"'TS-264c'!AE40","v":0},{"$f":"'TS-264c'!AE41","v":0},{"$f":"'TS-264c'!AE42","v":0},{"$f":"'TS-264c'!AE43","v":0},{"$f":"'TS-264c'!AE44","v":0},{"$f":"'TS-264c'!AE45","v":0},{"$f":"'TS-264c'!AE46","v":0},{"$f":"'TS-264c'!AE47","v":0},{"$f":"'TS-264c'!AE48","v":0},{"$f":"'TS-264c'!AE49","v":0},{"$f":"'TS-264c'!AE50","v":0},{"$f":"'TS-264c'!AE51","v":0},{"$f":"'TS-264c'!AE52","v":0},{"$f":"'TS-264c'!AE53","v":0},{"$f":"'TS-264c'!AE54","v":0},{"$f":"'TS-264c'!AE55","v":0},{"$f":"'TS-264c'!AE56","v":0},{"$f":"'TS-264c'!AE57","v":0},{"$f":"'TS-264c'!AE58","v":0},{"$f":"'TS-264c'!AE59","v":0},{"$f":"'TS-264c'!AE60","v":0}]
["3ème",{"$f":"'TS-264c'!AE64","v":0},{"$f":"'TS-264c'!AE65","v":0},{"$f":"'TS-264c'!AE66","v":0},{"$f":"'TS-264c'!AE67","v":0},{"$f":"'TS-264c'!AE68","v":0},{"$f":"'TS-264c'!AE69","v":0},{"$f":"'TS-264c'!AE70","v":0},{"$f":"'TS-264c'!AE71","v":0},{"$f":"'TS-264c'!AE72","v":0},{"$f":"'TS-264c'!AE73","v":0},{"$f":"'TS-264c'!AE74","v":0},{"$f":"'TS-264c'!AE75","v":0},{"$f":"'TS-264c'!AE76","v":0},{"$f":"'TS-264c'!AE77","v":0},{"$f":"'TS-264c'!AE78","v":0},{"$f":"'TS-264c'!AE79","v":0},{"$f":"'TS-264c'!AE80","v":0},{"$f":"'TS-264c'!AE81","v":0},{"$f":"'TS-264c'!AE82","v":0},{"$f":"'TS-264c'!AE83","v":0},{"$f":"'TS-264c'!AE84","v":0}]

{"sheet":"TS-264f","index":28,"n_rows":182,"n_cols":99,"rows_kept":182,"cut":false,"hidden":false,"merged":[[3,0,5,42],[3,46,3,49],[4,48,4,49],[7,0,7,11],[7,22,11,22],[7,24,11,24],[16,85,16,88],[16,81,16,84],[7,29,7,38],[8,29,8,40],[32,8,47,9],[32,19,47,20],[13,27,13,37],[16,8,31,9],[16,19,31,20],[14,27,14,30],[14,45,14,63],[15,22,15,25],[14,78,14,80],[15,78,16,78],[15,79,15,80],[107,27,107,41],[108,27,108,41],[32,27,32,30],[79,27,79,37],[60,27,60,37],[61,27,61,37]]}
[{"$f":"\"Epreuve  : \"&'TS-200'!$C$1","v":"Epreuve  : Critérium Fédéral"},null,null,null,null,null,null,null,null,null,null,null,null,null,null,null,null,null,null,null,null,null,null,null,null,null,null,null,null,null,null,null,null,null,null,null,null,null,null,null,null,null,{"$f":"\"Lieu : \"&'TS-200'!$C$2","v":"Lieu : Pont à Mousson"}]
[{"$f":"\"Tableau : \"&'TS-200'!$C$4","v":"Tableau :  "},null,null,null,null,null,null,null,null,null,null,null,null,null,null,null,null,null,null,null,null,null,null,null,null,null,null,null,null,null,null,null,null,null,null,null,null,null,null,null,null,null,{"$f":"\"Date : \"&'TS-200'!$C$3","v":"Date : 15 au 17 mars 2019"}]
[]
["TABLEAU DE TIRAGE AU SORT\n64 JOUEURS\n16 poules - 4 qualifiés",null,null,null,null,null,null,null,null,null,null,null,null,null,null,null,null,null,null,null,null,null,null,null,null,null,null,null,null,null,null,null,null,null,null,null,null,null,null,null,null,null,null,{"$f":"+AI4","v":0},{"$f":"COUNTIF(AR:AR,AI4)","v":4},null,"Bornes TAS",null,null,null,null,null,null,null,null,null,null,null,null,null,null,null,null,null,null,null,null,null,null,null,null,null,null,null,null,null,null,null,null,null,null,null,null,null,null,null,null,null,null,null,null,null,null,null,null,1,"H","HH","B"]
[null,null,null,null,null,null,null,null,null,null,null,null,null,null,null,null,null,null,null,null,null,null,null,null,null,null,null,null,null,null,null,null,null,null,null,null,null,null,null,null,null,null,null,{"$f":"+AI5","v":0},{"$f":"COUNTIF(AR:AR,AI5)","v":4},null,"Inf","Sup","Nb joueurs",null,null,null,null,null,null,null,null,null,null,null,null,null,null,null,null,null,null,null,null,null,null,null,null,null,null,null,null,null,null,null,null,null,null,null,null,null,null,null,null,null,null,null,null,null,null,2,"H","HH","B"]
[null,null,null,null,null,null,null,null,null,null,null,null,null,null,null,null,null,null,null,null,null,null,null,null,null,null,null,null,null,null,null,null,null,null,null,null,null,null,null,null,null,null,null,{"$f":"+AI6","v":0},{"$f":"COUNTIF(AR:AR,AI6)","v":4},null,33,64,null,33,null,null,null,null,null,null,null,null,null,null,null,null,null,null,null,null,null,null,null,null,null,null,null,null,null,null,null,null,null,null,null,null,null,null,null,null,null,null,null,null,null,null,null,null,null,3,"H","HH","B"]
[null,null,null,null,null,null,null,null,null,null,null,null,null,null,null,null,null,null,null,null,null,null,null,null,null,null,null,null,null,null,null,null,null,null,null,null,null,null,null,null,null,null,null,{"$f":"+AI7","v":0},{"$f":"COUNTIF(AR:AR,AI7)","v":4},null,null,null,null,null,null,null,null,null,null,null,null,null,null,null,null,null,null,null,null,null,null,null,null,null,null,null,null,null,null,null,null,null,null,null,null,null,null,null,null,null,null,null,null,null,null,null,null,null,null,4,"H","HH","B"]
["Critère d'appartenance pour la mise en tableau",null,null,null,null,null,null,null,null,null,null,null,null,null,null,"Club",null,null,null,null,null,null,{"$f":"\"Nb \"&AU6&\"/\"&AV6","v":"Nb 33/64"},null,{"$f":"COUNTIF(AB12:AB161,1)","v":0},null,null,null,null,"Club, Comité ou Ligue (tiré au sort)",null,null,null,null,null,null,null,null,null,null,null," ",null,null,null,null,null,null,null,null,null,null,null,null,null,null,null,null,null,null,null,null,null,null,null,null,null,null,null,null,null,null,null,null,null,null,null,null,null,null,null,null,null,null,null,null,null,null,null,null,null,null,null,null,null,5,"H","HH","B"]
[null,null,null,null,"Club",null,null,null,null,null,null,null,null,null,null,null,null,null,null,null,null,null,null,null,null,null,null,null,null,"Partie du tableau tirée au sort (H=Haut, B=Bas)",null,null,null,null,null,null,null,null,null,null,null,"HB",null,"H ou B",null,null,null,null,null,null,null,null,null,null,null,null,null,null,null,null,null,null,null,null,null,null,null,null,null,null,null,null,null,null,null,null,null,null,null,null,null,null,null,null,null,null,null,null,null,null,null,null,null,null,null,6,"H","HH","B"]
[{"$f":"IF(P8=\"Club\",10,IF(P8=\"Ligue\",11,IF(P8=\"Comité\",12,10)))","v":10},null,null,null,"Ligue",null,null,null,null,null,null,null,null,null,null,null,null,null,null,null,null,null,null,null,null,null,null,null,null,null,null,null,null,null,null,null,null,null,null,null,null,null,null,"H",null,null,null,null,null,null,null,null,null,null,null,null,null,null,null,null,null,null,null,null,null,null,null,null,null,null,null,null,null,null,null,null,null,null,null,null,null,null,null,null,null,null,null,null,null,null,null,null,null,null,null,7,"H","HH","B"]
[{"$f":"IF(P8=\"Club\",10,IF(P8=\"Ligue\",11,IF(P8=\"Comité\",12,10)))","v":10},null,null,null,"Comité",null,null,null,null,null,null,null,null,null,null,null,null,null,null,null,null,null,null,null,null,null,null,null,null,null,null,null,null,null,null,null,null,null,null,null,null,null,null,"B",null,"Position",null,null,null,null,null,null,null,null,null,null,null,null,null,null,null,null,null,null,null,null,null,null,null,null,null,null,null,null,null,null,null,null,0,"H","B","HH","HB","BH","BB","HH","HB","BH","BB",null,null,null,null,null,null,8,"H","HH","B"]
[null,null,null,null,null,null,null,null,null,null,null,null,null,null,null,null,null,null,null,null,null,null,null,null,null,null,null,null,null,null,null,null,null,null,null,null,null,null,null,null,null,null,null,"HH",null,"N° colonne TCD"," ",null,null,null,null,null,null,null,null,null,null,null,null,null,null,null,null,null,null,null,null,null,null,null,null,null,null,null,null,null,null,null,{"$f":"MATCH(CA11,$AT$17:$BL$17,0)","v":{"$error":"#N/A"}},{"$f":"MATCH(CB11,$AT$17:$BQ$17,0)","v":2},{"$f":"MATCH(CC11,$AT$17:$BQ$17,0)","v":13},{"$f":"MATCH(CD11,$AT$18:$BQ$18,0)","v":2},7,18,13,2,7,18,13,null,null,null,null,null,null,9,"H","HH","B"]
[null,null,null,null,null,null,null,null,null,null,null,null,null,null,null,null,null,null,null,null,null,null,null,null,null,null,null,"Y","Pl","x","TAS","N°","Dos","NOM Prénom","Rang","z","a","1/2 T","1/4 T","c","d","Club, Comité ou Ligue","N° Club","HB",{"$f":"COUNTIF(AR:AR,AI13)","v":0},1,2,3,4,5,6,7,8,9,10,11,12,13,14,15,16,17,18,19,20,21,22,23,24,25,26,27,28,29,30,31,32,33,34,35,36,37,38,39,40,41,42,43,44,45,null,null,null,null,null,10,"H","HH","B"]
[null,null,null,null,null,null,null,null,null,null,null,null,null,null,null,null,null,null,null,null,null,null,null,null,null,null,"X",null,null,null,null,null,null,null,null,null,null,null,null,null,null,null,null,"BH",null,null,"B",null,null,null,null,null,null,null,null,null,null,null,null,null,null,null,null,null,null,null,null,null,null,null,null,null,null,null,null,null,null,null,null,null,null,null,null,null,null,null,null,null,null,null,null,null,null,null,null,11,"H","HH","B"]
[null,null,null,null,null,null,null,null,null,null,null,null,null,null,null,null,null,null,null,null,null,null,null,null,null,null,null,null,null,null,null,null,"1er de poule",null,null,null,null,null,null,null,null,null," ","BB",null,"NB JOUEUR / CLUB",null,null,null,null,null,null,null,null,null,null,null,null,null,null,null,null,null,null,null,null,null,null,null,null,null,null,null,null,null,null,null,null,"TAS >1",null,null,null,null,null,null,null,null,null,null,null,null,null,null,null,null,12,"H","HH","B"]
[null,null,null,null,null,null,null,null,null,null,null,null,null,null,null,null,null,null,null,null,null,null,"N° Dispo",null,null,null,null,null,"Pl","x","TAS","N°","Dos","NOM Prénom","Rang","SPIDD","a","1/2 T","1/4 T","c","d","Club, Comité ou Ligue","N° Club",null,null,"NB Club, Comité ou Ligue","1/2 T","1/4 T","N°",null,null,null,null,null,null,null,null,null,null,null,null,null,null,null,null,null,null,null,null,null,null,null,null,null,null,null,null,null,"1er","2ème",null,null,null,null,null,null,null,null,null,null,null,null,null,null,null,13,"H","HH","B"]
[1,1,1,1,{"$f":"IF(ISNA(VLOOKUP(C17,$AE$7:$AQ$187,4,FALSE)),\"\",VLOOKUP(C17,$AE$7:$AQ$187,4,FALSE)&\" - \"&VLOOKUP(C17,$AE$7:$AQ$187,12,FALSE))","v":""},{"$f":"IF(ISNA(VLOOKUP(C17,$AE$7:$AQ$187,12,FALSE)),\"\",VLOOKUP(C17,$AE$7:$AQ$187,12,FALSE))","v":""}," ",null,"HH",null,null,33,"3=",33,3,{"$f":"IF(ISNA(VLOOKUP(N17,$AE$7:$AQ$187,4,FALSE)),\"\",VLOOKUP(N17,$AE$7:$AQ$187,4,FALSE)&\" - \"&VLOOKUP(N17,$AE$7:$AQ$187,12,FALSE))","v":""},{"$f":"IF(ISNA(VLOOKUP(N17,$AE$7:$AQ$187,12,FALSE)),\"\",VLOOKUP(N17,$AE$7:$AQ$187,12,FALSE))","v":""}," "," ","BH",null,null,1,null,2,null,null,null,"P",1,null,1,{"$f":"IF(ISNA(VLOOKUP(AJ17,Liste_SPIDD,2,FALSE)),901,VLOOKUP(AJ17,Liste_SPIDD,2,FALSE))","v":44},{"$f":"IF(AG17=\"\",\"\",IF(ISNA(VLOOKUP(AG17,Liste_Dos_SPIDD,2,FALSE)),VLOOKUP(AG17,Liste_J,3,FALSE),VLOOKUP(AG17,Liste_Dos_SPIDD,2,FALSE)))","v":"LUCAS Ifig"},1,{"$f":"AD17&AF17","v":"11"},null,{"$f":"IF($AE17=0,0,VLOOKUP($AE17,CR$4:CU$72,2,FALSE))","v":0},{"$f":"IF($AE17=0,0,VLOOKUP($AE17,CR$4:CU$72,3,FALSE))","v":0},null,null,{"$f":"IF(AG17=\"\",\"\",IF(ISNA(VLOOKUP(AG17,Liste_Dos_SPIDD,3,FALSE)),VLOOKUP(AG17,Liste_J,$A$10,FALSE),VLOOKUP(AG17,Liste_Dos_SPIDD,3,FALSE)))","v":"EQUEURDREVILLE"},{"$f":"IF(ISERROR(VLOOKUP(AG17,$AG$166:$AQ$188,1,FALSE)),\"\",IF(VLOOKUP(AG17,$AG$166:$AQ$188,11,FALSE)=\"1/1\",\"\",VLOOKUP(AG17,$AG$166:$AQ$188,11,FALSE)))","v":""},null,null,null,"H",null,null,null,null,null,null,null,null,null,"Total H","B",null,null,null,null,null,null,null,null,null,"Total B","Total général",null,null,null,null,null,null,null,null,null,null,"H","B","3ème",null,null,null,"4ème",null,null,null,null,null,null,null,null,null,14,"H","HH","B"]
[2,"33=",2,64,"",""," ",null,null,null,null,34,"33=",34,62,"",""," "," ",null,null,null,64,null,63,null,null,null,"P",2,null,1,50,"VIDAL Charles",2,{"$f":"AD18&AF18","v":"21"},null,0,0,null,null,"ASSUN TT","",null,null,null,"HH",null,null,null,"Total HH","HB",null,null,null,"Total HB",null,"BB",null,null,null,"Total BB","BH",null,null,null,"Total BH",null,null,null,null,null,null,null,null,null,null,null,{"$f":"IF(VLOOKUP($AT18,$AT$16:$BL$110,CA$11,FALSE)>1,VLOOKUP($AT18,$AT$16:$BL$110,CA$11,FALSE),\"\")","v":{"$error":"#N/A"}},{"$f":"IF(OR(VLOOKUP($AT18,$AT$16:$BL$110,CB$12,FALSE)>1,AND(VLOOKUP($AT18,$AT$16:$BL$110,CB$12,FALSE)=1,(VLOOKUP($AT18,$AT$16:$BL$110,CB$12+4,FALSE)+VLOOKUP($AT18,$AT$16:$BL$110,CB$12+6,FALSE))>0)),(VLOOKUP($AT18,$AT$16:$BL$110,CB$12,FALSE)+VLOOKUP($AT18,$AT$16:$BL$110,CB$12+4,FALSE)+VLOOKUP($AT18,$AT$16:$BL$110,CB$12+6,FALSE)),\"\")","v":{"$error":"#N/A"}},{"$f":"IF(OR(VLOOKUP($AT18,$AT$16:$BL$110,CC$12,FALSE)>1,AND(VLOOKUP($AT18,$AT$16:$BL$110,CC$12,FALSE)=1,(VLOOKUP($AT18,$AT$16:$BL$110,CC$12+4,FALSE)+VLOOKUP($AT18,$AT$16:$BL$110,CC$12+6,FALSE))>0)),(VLOOKUP($AT18,$AT$16:$BL$110,CC$12,FALSE)+VLOOKUP($AT18,$AT$16:$BL$110,CC$12+4,FALSE)+VLOOKUP($AT18,$AT$16:$BL$110,CC$12+6,FALSE)),\"\")","v":{"$error":"#N/A"}},"HH","HB","BH","BB","HH","HB","BH","BB",null,null,null,null,null,null,15,"H","HH","B"]
[3,"33=",3,33,"",""," ",null,null,null,null,35,"33=",35,35,"",""," "," ",null,null,null,33,null,34,null,null,null,"P",3,null,1,49,"ROBION Paul",3,"31",null,0,0,null,null,"SIOUVILLE ATTLC","",null,null,"Club, Comité ou Ligue",1,2,3,4,null,1,2,3,4,null,null,1,2,3,4,null,1,2,3,4,null,null,null,null,null,null,null,null,null,null,null,null,{"$f":"IF(VLOOKUP($AT19,$AT$16:$BL$110,CA$11,FALSE)>1,VLOOKUP($AT19,$AT$16:$BL$110,CA$11,FALSE),\"\")","v":{"$error":"#VALUE!"}},{"$f":"IF(OR(VLOOKUP($AT19,$AT$16:$BL$110,CB$12,FALSE)>1,AND(VLOOKUP($AT19,$AT$16:$BL$110,CB$12,FALSE)=1,(VLOOKUP($AT19,$AT$16:$BL$110,CB$12+4,FALSE)+VLOOKUP($AT19,$AT$16:$BL$110,CB$12+6,FALSE))>0)),(VLOOKUP($AT19,$AT$16:$BL$110,CB$12,FALSE)+VLOOKUP($AT19,$AT$16:$BL$110,CB$12+3,FALSE)+VLOOKUP($AT19,$AT$16:$BL$110,CB$12+6,FALSE)),\"\")","v":7},7,{"$f":"IF(OR(VLOOKUP($AT19,$AT$16:$BZ$110,CD$12+2,FALSE)>1,AND(VLOOKUP($AT19,$AT$16:$BZ$110,CD$12+2,FALSE)=1,(VLOOKUP($AT19,$AT$16:$BZ$110,CD$12,FALSE)+VLOOKUP($AT19,$AT$16:$BZ$110,CD$12+1,FALSE)+VLOOKUP($AT19,$AT$16:$BZ$110,CD$12+2,FALSE))>1)),VLOOKUP($AT19,$AT$16:$BZ$110,CD$12+4,FALSE)-VLOOKUP($AT19,$AT$16:$BZ$110,CD$12+3,FALSE),\"\")","v":-4},-4,-4,-4,{"$f":"IF(OR(VLOOKUP($AT19,$AT$16:$BZ$110,CH$12+3,FALSE)>1,AND(VLOOKUP($AT19,$AT$16:$BZ$110,CH$12+3,FALSE)=1,VLOOKUP($AT19,$AT$16:$BZ$110,CH$12+4,FALSE)>1)),VLOOKUP($AT19,$AT$16:$BZ$110,CH$12+4,FALSE),\"\")","v":0},0,0,0,null,null,null,null,null,null,16,"H","HH","B"]
[4,"17=",4,32,"",""," ",null,null,null,null,36,"17=",36,30,"",""," "," ",null,null,null,32,null,31,null,null,null,"P",4,null,1,47,"LEVILLAIN Camille",4,"41",null,0,0,null,null,"ST PAIR BRICQUE","",null,null,"A.G.DEAUVILLE",null,null,null,null,null,null,null,null,null,null,null,null,null,null,null,null,null,1,null,null,1,1,1,null,null,null,null,null,null,null,null,null,{"$error":"#VALUE!"},"","","","","","","","","","",null,null,null,null,null,null,17,"H","HB","B"]
[5,"17=",5,17,"",""," ",null,null,null,null,37,"17=",37,19,"",""," "," ",null,null,null,17,null,18,null,null,null,"P",5,null,1,52,"COUEDEL-COULON Eloan",5,"51",null,0,0,null,null,"TT SAINT JAMES","",null,null,"AMIENS LL",null,null,null,null,null,null,null,null,null,null,null,null,null,null,null,null,null,1,null,null,1,1,1,null,null,null,null,null,null,null,null,null,{"$error":"#VALUE!"},"","","","","","","","","","",null,null,null,null,null,null,18,"H","HB","B"]
[6,"33=",6,48,"",""," ",null,null,null,null,38,"33=",38,46,"",""," "," ",null,null,null,48,null,47,null,null,null,"P",6,null,1,45,"LECLERC Alexandre-Bao",6,"61",null,0,0,null,null,"OC AGNEAUX","",null,null,"AS HONG LANDIN",1,null,null,null,1,null,null,null,null,null,1,null,null,null,null,null,null,null,null,null,null,null,1,null,null,null,null,null,null,null,null,null,{"$error":"#VALUE!"},1,"","","","","","","","","",null,null,null,null,null,null,19,"H","HB","B"]
[7,"33=",7,49,"",""," ",null,null,null,null,39,"33=",39,51,"",""," "," ",null,null,null,49,null,50,null,null,null,"P",7,null,1,46,"NICOLLE Augustin",7,"71",null,0,0,null,null,"COUTANCES JA","",null,null,"ASM AMFREVILLE",null,null,null,null,null,null,null,null,1,1,1,null,null,null,1,1,null,null,null,null,null,1,2,null,null,null,null,null,null,null,null,null,{"$error":"#VALUE!"},"","","","","","","","","","",null,null,null,null,null,null,20,"H","HB","B"]
[8,"9=",8,16,"",""," ",null,null,null,null,40,"9=",40,14,"",""," "," ",null,null,null,16,null,15,null,null,null,"P",8,null,1,48,"NICOLLE Emile",8,"81",null,0,0,null,null,"COUTANCES JA","",null,null,"ATT HAVRE",null,null,null,null,null,null,null,null,null,null,null,1,null,null,null,1,null,null,null,null,null,1,1,null,null,null,null,null,null,null,null,null,{"$error":"#VALUE!"},"",1,"","","","","","","","",null,null,null,null,null,null,21,"H","HB","B"]
[9,"9=",9,9,"",""," ",null,null,null,null,41,"9=",41,11,"",""," "," ",null,null,null,9,null,10,null,null,null,"P",9,null,1,51,"RIPOCHE Nathan",9,"91",null,0,0,null,null,"ST PAIR BRICQUE","",null,null,"AUVERS",null,null,null,null,null,1,null,null,null,1,1,null,null,null,null,null,null,null,null,null,null,null,1,null,null,null,null,null,null,null,null,null,{"$error":"#VALUE!"},"","","","","","","","","","",null,null,null,null,null,null,22,"H","HB","B"]
[10,"33=",10,56,"",""," ",null,null,null,null,42,"33=",42,54,"",""," "," ",null,null,null,56,null,55,null,null,null,"P",10,null,1,58,"PEIN Edgar",10,"101",null,0,0,null,null,"ST PAIR BRICQUE","",null,null,"avranches",null,null,null,null,null,null,null,null,null,null,null,1,null,null,null,1,null,null,null,null,null,1,1,null,null,null,null,null,null,null,null,null,{"$error":"#VALUE!"},"",1,"","","","","","","","",null,null,null,null,null,null,23,"H","HB","B"]
[11,"33=",11,41,"",""," ",null,null,null,null,43,"33=",43,43,"",""," "," ",null,null,null,41,null,42,null,null,null,"P",11,null,1,54,"RICOUX Bastien",11,"111",null,0,0,null,null,"ATTDUCEYAVRANCH","",null,null,"BAYEUX TT",null,null,null,null,null,null,null,null,null,null,null,null,1,null,null,1,null,null,1,1,2,3,3,null,null,null,null,null,null,null,null,null,{"$error":"#VALUE!"},"","","","","","","","",2,"",null,null,null,null,null,null,24,"H","HB","B"]
[12,"17=",12,24,"",""," ",null,null,null,null,44,"17=",44,22,"",""," "," ",null,null,null,24,null,23,null,null,null,"P",12,null,1,55,"ROC Ferdinand",12,"121",null,0,0,null,null,"ATTDUCEYAVRANCH","",null,null,"BEAUVAIS TT",1,null,null,null,1,null,null,null,null,null,1,null,null,null,null,null,null,null,null,null,null,null,1,null,null,null,null,null,null,null,null,null,{"$error":"#VALUE!"},1,"","","","","","","","","",null,null,null,null,null,null,25,"H","HB","B"]
[13,"17=",13,25,"",""," ",null,null,null,null,45,"17=",45,27,"",""," "," ",null,null,null,25,null,26,null,null,null,"P",13,null,1,57,"RIGOT Noe",13,"131",null,0,0,null,null,"CARANTILLAISE","",null,null,"BRETEUIL WG TT",null,null,null,null,null,null,null,null,null,null,null,null,null,null,null,null,1,null,null,null,1,1,1,null,null,null,null,null,null,null,null,null,{"$error":"#VALUE!"},"","","","","","","","","","",null,null,null,null,null,null,26,"H","HB","B"]
[14,"33=",14,40,"",""," ",null,null,null,null,46,"33=",46,38,"",""," "," ",null,null,null,40,null,39,null,null,null,"P",14,null,1,53,"MASSELINE Malo",14,"141",null,0,0,null,null,"TORIGNAISE ESTT","",null,null,"BREVANNAISE AS",null,null,null,null,null,null,null,null,null,null,null,null,1,null,null,1,null,null,null,null,null,1,1,null,null,null,null,null,null,null,null,null,{"$error":"#VALUE!"},"","","","","","","","","","",null,null,null,null,null,null,27,"H","HB","B"]
[15,"33=",15,57,"",""," ",null,null,null,null,47,"33=",47,59,"",""," "," ",null,null,null,57,null,58,null,null,null,"P",15,null,1,59,"BRILLET Pacome",15,"151",null,0,0,null,null,"TT SAINT JAMES","",null,null,"CP ST SAENS",null,null,null,null,null,null,null,null,null,null,null,null,null,null,null,null,null,null,1,null,1,1,1,null,null,null,null,null,null,null,null,null,{"$error":"#VALUE!"},"","","","","","","","","","",null,null,null,null,null,null,28,"H","HB","B"]
[16,"5=",16,8,"",""," ",null,null,null,null,48,"5=",48,6,"",""," "," ",null,null,null,8,null,7,null,null,null,"P",16,null,1,56,"VARIN Louis",16,"161",null,0,0,null,null,"TORIGNAISE ESTT","",null,null,"CP YVETOT",null,null,null,1,1,null,null,null,null,null,1,null,null,null,null,null,null,null,null,null,null,null,1,null,null,null,null,null,null,null,null,null,{"$error":"#VALUE!"},"","","","","","","","","","",null,null,null,null,null,null,29,"H","HB","B"]
[17,"5=",17,5,"",""," ",null,"HB",null,null,49,"5=",49,7,"",""," "," ","BB",null,null,5,null,6,null,null,null,null,null,null,null,"2ème de poule",null,null,null,null,null,null,null,null,null," ",null,null,"CS ANDELYS",null,null,null,null,null,null,null,null,null,null,null,null,null,null,null,null,2,1,null,null,3,3,3,null,null,null,null,null,null,null,null,null,{"$error":"#VALUE!"},"","","","","","","","","","",null,null,null,null,null,null,30,"H","HB","B"]
[18,"33=",18,60,"",""," ",null,null,null,null,50,"33=",50,58,"",""," "," ",null,null,null,60,null,59,null,null,null,"Pl","x","TAS","N°","Dos","NOM Prénom","Rang","SPIDD","a","1/2 T","1/4 T","c","d","Club, Comité ou Ligue","N° Club",null,null,"CS AUFFAY",null,1,null,null,1,null,null,1,null,1,2,null,null,null,null,null,null,null,null,null,null,null,2,null,null,null,null,null,null,null,null,null,{"$error":"#VALUE!"},"","","","","","","","","","",null,null,null,null,null,null,31,"H","HB","B"]
[19,"33=",19,37,"",""," ",null,null,null,null,51,"33=",51,39,"",""," "," ",null,null,null,37,null,38,null,null,null,"P",1,null,2,{"$f":"IF(ISNA(VLOOKUP(AJ35,Liste_SPIDD,2,FALSE)),901,VLOOKUP(AJ35,Liste_SPIDD,2,FALSE))","v":201},{"$f":"IF(AG35=\"\",\"\",IF(ISNA(VLOOKUP(AG35,Liste_Dos_SPIDD,2,FALSE)),VLOOKUP(AG35,Liste_J,3,FALSE),VLOOKUP(AG35,Liste_Dos_SPIDD,2,FALSE)))","v":"LUCAS Ifig"},22,{"$f":"AD35&AF35","v":"12"},null,{"$f":"IF(AL17=\"H\",\"B\",IF(AL17=\"B\",\"H\",\"\"))","v":""},{"$f":"IF($AE35=0,0,VLOOKUP($AE35,CR$4:CU$72,3,FALSE))","v":0},null,null,{"$f":"IF(AG35=\"\",\"\",IF(ISNA(VLOOKUP(AG35,Liste_Dos_SPIDD,3,FALSE)),VLOOKUP(AG35,Liste_J,$A$10,FALSE),VLOOKUP(AG35,Liste_Dos_SPIDD,3,FALSE)))","v":"EQUEURDREVILLE"},{"$f":"IF(ISERROR(VLOOKUP(AP35,$AT$13:$CG$147,35,FALSE)),\"\",IF(AL35=\"H\",VLOOKUP(AP35,$AT$13:$CG$147,35,FALSE),IF(AL35=\"B\",VLOOKUP(AP35,$AT$13:$CG$147,36,FALSE),\"\")))","v":""},null,null,"CSM FINANCES",null,null,null,null,null,1,1,null,null,2,2,1,null,null,null,1,null,null,null,1,1,2,4,null,null,null,null,null,null,null,null,null,{"$error":"#VALUE!"},"",1,"","","","","","","","",null,null,null,null,null,null,32,"H","HB","B"]
[20,"17=",20,28,"",""," ",null,null,null,null,52,"17=",52,26,"",""," "," ",null,null,null,28,null,27,null,null,null,"P",2,null,2,202,"VIDAL Charles",23,{"$f":"AD36&AF36","v":"22"},null,{"$f":"IF(AL18=\"H\",\"B\",IF(AL18=\"B\",\"H\",\"\"))","v":""},0,null,null,"ASSUN TT","",null,null,"Dieppe U C TT",1,null,1,null,2,null,null,1,1,2,4,null,null,null,1,1,null,null,null,null,null,1,5,null,null,null,null,null,null,null,null,null,{"$error":"#VALUE!"},1,"",2,"","","","",2,"","",null,null,null,null,null,null,33,"B","BH","H"]
[21,"17=",21,21,"",""," ",null,null,null,null,53,"17=",53,23,"",""," "," ",null,null,null,21,null,22,null,null,null,"P",3,null,2,203,"ROBION Paul",24,"32",null,"",0,null,null,"SIOUVILLE ATTLC","",null,null,"E BOOS MTT",null,null,null,null,null,null,1,null,null,1,1,null,null,1,null,1,null,null,1,null,1,2,3,null,null,null,null,null,null,null,null,null,{"$error":"#VALUE!"},"","","","","","",{"$f":"IF(OR(VLOOKUP($AT37,$AT$16:$BZ$110,CH$12+3,FALSE)>1,AND(VLOOKUP($AT37,$AT$16:$BZ$110,CH$12+3,FALSE)=1,VLOOKUP($AT37,$AT$16:$BZ$110,CH$12+4,FALSE)>1)),VLOOKUP($AT37,$AT$16:$BZ$110,CH$12+4,FALSE),\"\")","v":""},"","","",null,null,null,null,null,null,34,"B","BH","H"]
[22,"33=",22,44,"",""," ",null,null,null,null,54,"33=",54,42,"",""," "," ",null,null,null,44,null,43,null,null,null,"P",4,null,2,204,"LEVILLAIN Camille",25,"42",null,"",0,null,null,"ST PAIR BRICQUE","",null,null,"ENT ST PIERRE",null,null,null,null,null,null,1,null,null,1,1,null,1,null,null,1,null,null,null,null,null,1,2,null,null,null,null,null,null,null,null,null,{"$error":"#VALUE!"},"","","","","","","","","","",null,null,null,null,null,null,35,"B","BH","H"]
[23,"33=",23,53,"",""," ",null,null,null,null,55,"33=",55,55,"",""," "," ",null,null,null,53,null,54,null,null,null,"P",5,null,2,205,"COUEDEL-COULON Eloan",26,"52",null,"",0,null,null,"TT SAINT JAMES","",null,null,"ETT OISSEL",null,null,null,null,null,null,null,null,1,1,1,null,null,null,null,null,null,null,null,null,null,null,1,null,null,null,null,null,null,null,null,null,{"$error":"#VALUE!"},"","","","","","","","","","",null,null,null,null,null,null,36,"B","BH","H"]
[24,"9=",24,12,"",""," ",null,null,null,null,56,"9=",56,10,"",""," "," ",null,null,null,12,null,11,null,null,null,"P",6,null,2,206,"LECLERC Alexandre-Bao",27,"62",null,"",0,null,null,"OC AGNEAUX","",null,null,"FRANQUEVILLE ST",null,null,null,null,null,null,null,null,null,null,null,null,1,null,null,1,null,null,null,null,null,1,1,null,null,null,null,null,null,null,null,null,{"$error":"#VALUE!"},"","","","","","","","","","",null,null,null,null,null,null,37,"B","BH","H"]
[25,"9=",25,13,"",""," ",null,null,null,null,57,"9=",57,15,"",""," "," ",null,null,null,13,null,14,null,null,null,"P",7,null,2,207,"NICOLLE Augustin",28,"72",null,"",0,null,null,"COUTANCES JA","",null,null,"FRIVILLE TT",null,1,null,null,1,null,null,null,null,null,1,null,null,null,null,null,null,null,null,null,null,null,1,null,null,null,null,null,null,null,null,null,{"$error":"#VALUE!"},"","","","","","","","","","",null,null,null,null,null,null,38,"B","BH","H"]
[26,"33=",26,52,"",""," ",null,null,null,null,58,"33=",58,50,"",""," "," ",null,null,null,52,null,51,null,null,null,"P",8,null,2,208,"NICOLLE Emile",29,"82",null,"",0,null,null,"COUTANCES JA","",null,null,"LIVRY-GARGAN EP",null,null,null,1,1,null,null,null,null,null,1,null,null,null,null,null,null,null,null,null,null,null,1,null,null,null,null,null,null,null,null,null,{"$error":"#VALUE!"},"","","","","","","","","","",null,null,null,null,null,null,39,"B","BH","H"]
[27,"33=",27,45,"",""," ",null,null,null,null,59,"33=",59,47,"",""," "," ",null,null,null,45,null,46,null,null,null,"P",9,null,2,209,"RIPOCHE Nathan",30,"92",null,"",0,null,null,"ST PAIR BRICQUE","",null,null,"LONGUEIL TT",null,null,null,null,null,null,null,null,null,null,null,null,null,1,null,1,null,null,null,null,null,1,1,null,null,null,null,null,null,null,null,null,{"$error":"#VALUE!"},"","","","","","","","","","",null,null,null,null,null,null,40,"B","BH","H"]
[28,"17=",28,20,"",""," ",null,null,null,null,60,"17=",60,18,"",""," "," ",null,null,null,20,null,19,null,null,null,"P",10,null,2,210,"PEIN Edgar",31,"102",null,"",0,null,null,"ST PAIR BRICQUE","",null,null,"MAGNY",null,null,1,null,1,null,null,null,1,1,2,null,null,null,null,null,null,null,null,null,null,null,2,null,null,null,null,null,null,null,null,null,{"$error":"#VALUE!"},"","","","","","","","","","",null,null,null,null,null,null,41,"B","BH","H"]
[29,"17=",29,29,"",""," ",null,null,null,null,61,"17=",61,31,"",""," "," ",null,null,null,29,null,30,null,null,null,"P",11,null,2,211,"RICOUX Bastien",32,"112",null,"",0,null,null,"ATTDUCEYAVRANCH","",null,null,"MERY",null,1,null,null,1,null,null,null,null,null,1,null,null,null,null,null,null,null,null,1,1,1,2,null,null,null,null,null,null,null,null,null,{"$error":"#VALUE!"},"","","","","",{"$f":"IF(OR(VLOOKUP($AT45,$AT$16:$BZ$110,CG$12+2,FALSE)>1,AND(VLOOKUP($AT45,$AT$16:$BZ$110,CG$12+2,FALSE)=1,(VLOOKUP($AT45,$AT$16:$BZ$110,CG$12,FALSE)+VLOOKUP($AT45,$AT$16:$BZ$110,CG$12+1,FALSE)+VLOOKUP($AT45,$AT$16:$BZ$110,CG$12+2,FALSE))>1)),VLOOKUP($AT45,$AT$16:$BZ$110,CG$12+4,FALSE)-VLOOKUP($AT45,$AT$16:$BZ$110,CG$12+3,FALSE),\"\")","v":""},"","","","",null,null,null,null,null,null,42,"B","BH","H"]
[30,"33=",30,36,"",""," ",null,null,null,null,62,"33=",62,34,"",""," "," ",null,null,null,36,null,35,null,null,null,"P",12,null,2,212,"ROC Ferdinand",33,"122",null,"",0,null,null,"ATTDUCEYAVRANCH","",null,null,"MONTIVILLLIERS",null,null,null,null,null,null,null,null,null,null,null,1,null,null,null,1,null,null,null,null,null,1,1,null,null,null,null,null,null,null,null,null,{"$error":"#VALUE!"},"",1,{"$f":"IF(OR(VLOOKUP($AT46,$AT$16:$BZ$110,CD$12+2,FALSE)>1,AND(VLOOKUP($AT46,$AT$16:$BZ$110,CD$12+2,FALSE)=1,(VLOOKUP($AT46,$AT$16:$BZ$110,CD$12,FALSE)+VLOOKUP($AT46,$AT$16:$BZ$110,CD$12+1,FALSE)+VLOOKUP($AT46,$AT$16:$BZ$110,CD$12+2,FALSE))>1)),VLOOKUP($AT46,$AT$16:$BZ$110,CD$12+4,FALSE)-VLOOKUP($AT46,$AT$16:$BZ$110,CD$12+3,FALSE),\"\")","v":""},"","","","","","","",null,null,null,null,null,null,43,"B","BH","H"]
[31,"33=",31,61,"",""," ",null,null,null,null,63,"33=",63,63,"",""," "," ",null,null,null,61,null,62,null,null,null,"P",13,null,2,213,"RIGOT Noe",34,"132",null,"",0,null,null,"CARANTILLAISE","",null,null,"MT ST AIGNAN TT",null,null,null,null,null,null,null,null,null,null,null,null,null,null,null,null,null,null,null,1,1,1,1,null,null,null,null,null,null,null,null,null,{"$error":"#VALUE!"},"","","","","","","","","","",null,null,null,null,null,null,44,"B","BH","H"]
[32,"3=",32,4,"",""," ",null,null,null,null,64,2,64,2,"",""," "," ",null,null,null,4,null,3,null,null,null,"P",14,null,2,214,"MASSELINE Malo",35,"142",null,"",0,null,null,"TORIGNAISE ESTT","",null,null,"R CRIEL",null,null,null,null,null,null,null,null,null,null,null,null,null,null,null,null,null,null,1,null,1,1,1,null,null,null,null,null,null,null,null,null,{"$error":"#VALUE!"},"","","","","","","","","","",null,null,null,null,null,null,45,"B","BH","H"]
[null,null,null,null,null,null,null,null,null,null,null,null,null,null,null,null,null,null,null,null,null,null,null,null,null,null,null,null,"P",15,null,2,215,"BRILLET Pacome",36,"152",null,"",0,null,null,"TT SAINT JAMES","",null,null,"ROMAINVILLOIS",null,1,null,null,1,null,null,null,null,null,1,null,null,null,null,null,null,null,null,null,null,null,1,null,null,null,null,null,null,null,null,null,{"$error":"#VALUE!"},"","","","","","","","","","",null,null,null,null,null,null,46,"B","BH","H"]
[null,null,null,null,null,null,null,null,null,null,null,null,null,null,null,null,null,null,null,null,null,null,null,null,null,null,null,null,"P",16,null,2,216,"VARIN Louis",37,"162",null,"",0,null,null,"TORIGNAISE ESTT","",null,null,"RS ENVERMEU",null,null,null,null,null,null,null,null,null,null,null,null,null,null,1,1,null,null,null,null,null,1,1,null,null,null,null,null,null,null,null,null,{"$error":"#VALUE!"},"","","","","","","","","","",null,null,null,null,null,null,47,"B","BH","H"]
[null,null,null,null,null,null,null,null,null,null,null,null,null,null,null,null,null,null,null,null,null,null,null,null,null,null,null,null,null,null,null,null,null,null,null,null,null,null,null,null,null,null,null,null,null,"S SOTTEVILLAIS",null,null,1,null,1,null,null,null,null,null,1,null,null,1,null,1,null,null,null,null,null,1,2,null,null,null,null,null,null,null,null,null,{"$error":"#VALUE!"},{"$f":"IF(OR(VLOOKUP($AT51,$AT$16:$BL$110,CB$12,FALSE)>1,AND(VLOOKUP($AT51,$AT$16:$BL$110,CB$12,FALSE)=1,(VLOOKUP($AT51,$AT$16:$BL$110,CB$12+4,FALSE)+VLOOKUP($AT51,$AT$16:$BL$110,CB$12+6,FALSE))>0)),(VLOOKUP($AT51,$AT$16:$BL$110,CB$12,FALSE)+VLOOKUP($AT51,$AT$16:$BL$110,CB$12+4,FALSE)+VLOOKUP($AT51,$AT$16:$BL$110,CB$12+6,FALSE)),\"\")","v":""},"","","","","","","","","",null,null,null,null,null,null,48,"B","BH","H"]
[null,null,null,null,null,null,null,null,null,null,null,null,null,null,null,null,null,null,null,null,null,null,null,null,null,null,null,null,null,null,null,null,null,null,null,null,null,null,null,null,null,null,null,null,null,"SC TURRETOT",null,null,null,null,null,null,null,1,null,1,1,null,null,null,null,null,null,null,null,null,null,null,1,null,null,null,null,null,null,null,null,null,{"$error":"#VALUE!"},"","","","","","","","","","",null,null,null,null,null,null,49,"B","BB","H"]
[null,null,null,null,null,null,null,null,null,null,null,null,null,null,null,null,null,null,null,null,null,null,null,null,null,null,null,null,null,null,null,null,null,null,null,null,null,null,null,null,null,null,null,null,null,"SPO ROUEN",1,null,null,1,2,1,1,1,null,3,5,null,null,1,1,2,1,null,null,null,1,3,8,null,null,null,null,null,null,null,null,null,{"$error":"#VALUE!"},4,"","",3,"","",{"$f":"IF(OR(VLOOKUP($AT53,$AT$16:$BZ$110,CH$12+3,FALSE)>1,AND(VLOOKUP($AT53,$AT$16:$BZ$110,CH$12+3,FALSE)=1,VLOOKUP($AT53,$AT$16:$BZ$110,CH$12+4,FALSE)>1)),VLOOKUP($AT53,$AT$16:$BZ$110,CH$12+4,FALSE),\"\")","v":2},"","",2,null,null,null,null,null,null,50,"B","BB","H"]
[null,null,null,null,null,null,null,null,null,null,null,null,null,null,null,null,null,null,null,null,null,null,null,null,null,null,null,null,null,null,null,null,null,null,null,null,null,null,null,null,null,null,null,null,null,"TARBES ODOS PTT",null,null,null,1,1,null,null,null,null,null,1,null,null,null,null,null,null,null,null,null,null,null,1,null,null,null,null,null,null,null,null,null,{"$error":"#VALUE!"},"","","","","","","","","","",null,null,null,null,null,null,51,"B","BB","H"]
[null,null,null,null,null,null,null,null,null,null,null,null,null,null,null,null,null,null,null,null,null,null,null,null,null,null,null,null,null,null,null,null,null,null,null,null,null,null,null,null,null,null,null,null,null,"TT MERS TREP EU",null,null,1,null,1,null,null,null,null,null,1,null,null,null,null,null,null,1,null,null,1,1,2,null,null,null,null,null,null,null,null,null,{"$error":"#VALUE!"},"","","","","","","","","","",null,null,null,null,null,null,52,"B","BB","H"]
[null,null,null,null,null,null,null,null,null,null,null,null,null,null,null,null,null,null,null,null,null,null,null,null,null,null,null,null,null,null,null,null,null,null,null,null,null,null,null,null,null,null,null,null,null,"VILLENEUVE",null,null,null,null,null,1,null,null,null,1,1,null,null,null,null,null,null,null,null,null,null,null,1,null,null,null,null,null,null,null,null,null,{"$error":"#VALUE!"},"","","","","","","","","","",null,null,null,null,null,null,53,"B","BB","H"]
[null,null,null,null,null,null,null,null,null,null,null,null,null,null,null,null,null,null,null,null,null,null,null,null,null,null,null,null,null,null,null,null,null,null,null,null,null,null,null,null,null,null,null,null,null,"Total général",4,4,4,4,16,4,4,4,4,16,32,4,4,4,4,16,4,4,4,4,16,32,64,null,null,null,null,null,null,null,null,null,{"$error":"#VALUE!"},24,24,12,12,12,12,16,16,16,16,null,null,null,null,null,null,54,"B","BB","H"]
[null,null,null,null,null,null,null,null,null,null,null,null,null,null,null,null,null,null,null,null,null,null,null,null,null,null,null,null,null,null,null,null,null,null,null,null,null,null,null,null,null,null,null,null,null,null,null,null,null,null,null,null,null,null,null,null,null,null,null,null,null,null,null,null,null,null,null,null,null,null,null,null,null,null,null,null,null,null,{"$error":"#N/A"},{"$error":"#N/A"},{"$error":"#N/A"},{"$error":"#N/A"},{"$error":"#N/A"},{"$error":"#N/A"},{"$error":"#N/A"},{"$error":"#N/A"},{"$error":"#N/A"},{"$error":"#N/A"},{"$error":"#N/A"},null,null,null,null,null,null,55,"B","BB","H"]
[null,null,null,null,null,null,null,null,null,null,null,null,null,null,null,null,null,null,null,null,null,null,null,null,null,null,null,null,null,null,null,null,null,null,null,null,null,null,null,null,null,null,null,null,null,null,null,null,null,null,null,null,null,null,null,null,null,null,null,null,null,null,null,null,null,null,null,null,null,null,null,null,null,null,null,null,null,null,{"$error":"#N/A"},{"$error":"#N/A"},{"$error":"#N/A"},{"$error":"#N/A"},{"$error":"#N/A"},{"$error":"#N/A"},{"$error":"#N/A"},{"$error":"#N/A"},{"$error":"#N/A"},{"$error":"#N/A"},{"$error":"#N/A"},null,null,null,null,null,null,56,"B","BB","H"]
[null,null,null,null,null,null,null,null,null,null,null,null,null,null,null,null,null,null,null,null,null,null,null,null,null,null,null,null,null,null,null,null,null,null,null,null,null,null,null,null,null,null,null,null,null,null,null,null,null,null,null,null,null,null,null,null,null,null,null,null,null,null,null,null,null,null,null,null,null,null,null,null,null,null,null,null,null,null,{"$error":"#N/A"},{"$error":"#N/A"},{"$error":"#N/A"},{"$error":"#N/A"},{"$error":"#N/A"},{"$error":"#N/A"},{"$error":"#N/A"},{"$error":"#N/A"},{"$error":"#N/A"},{"$error":"#N/A"},{"$error":"#N/A"},null,null,null,null,null,null,57,"B","BB","H"]
[null,null,null,null,null,null,null,null,null,null,null,null,null,null,null,null,null,null,null,null,null,null,null,null,null,null,null,null,null,null,null,null,null,null,null,null,null,null,null,null,null,null,null,null,null,null,null,null,null,null,null,null,null,null,null,null,null,null,null,null,null,null,null,null,null,null,null,null,null,null,null,null,null,null,null,null,null,null,{"$error":"#N/A"},{"$error":"#N/A"},{"$error":"#N/A"},{"$error":"#N/A"},{"$error":"#N/A"},{"$error":"#N/A"},{"$error":"#N/A"},{"$error":"#N/A"},{"$error":"#N/A"},{"$error":"#N/A"},{"$error":"#N/A"},null,null,null,null,null,null,58,"B","BB","H"]
[null,null,null,null,null,null,null,null,null,null,null,null,null,null,null,null,null,null,null,null,null,null,null,null,null,null,null,"3ème de poule",null,null,null,null,null,null,null,null,null,null,null,null,null,null,null,null,null,null,null,null,null,null,null,null,null,null,null,null,null,null,null,null,null,null,null,null,null,null,null,null,null,null,null,null,null,null,null,null,null,null,{"$error":"#N/A"},{"$error":"#N/A"},{"$error":"#N/A"},{"$error":"#N/A"},{"$error":"#N/A"},{"$error":"#N/A"},{"$error":"#N/A"},{"$error":"#N/A"},{"$error":"#N/A"},{"$error":"#N/A"},{"$error":"#N/A"},null,null,null,null,null,null,59,"B","BB","H"]
[null,null,null,null,null,null,null,null,null,null,null,null,null,null,null,null,null,null,null,null,null,null,null,null,null,null,null,null,"Pl","x","TAS","N°","Dos","NOM Prénom","Rang","SPIDD","a","1/2 T","1/4 T","c","d","Club","N° Club",null,null,null,null,null,null,null,null,null,null,null,null,null,null,null,null,null,null,null,null,null,null,null,null,null,null,null,null,null,null,null,null,null,null,null,{"$error":"#N/A"},{"$error":"#N/A"},{"$error":"#N/A"},{"$error":"#N/A"},{"$error":"#N/A"},{"$error":"#N/A"},{"$error":"#N/A"},{"$error":"#N/A"},{"$error":"#N/A"},{"$error":"#N/A"},{"$error":"#N/A"},null,null,null,null,null,null,60,"B","BB","H"]
[null,null,null,null,null,null,null,null,null,null,null,null,null,null,null,null,null,null,null,null,null,null,null,null,null,null,null,null,"P",1,null,3,{"$f":"IF(ISNA(VLOOKUP(AJ64,Liste_SPIDD,2,FALSE)),901,VLOOKUP(AJ64,Liste_SPIDD,2,FALSE))","v":301},{"$f":"IF(AG64=\"\",\"\",IF(ISNA(VLOOKUP(AG64,Liste_Dos_SPIDD,2,FALSE)),VLOOKUP(AG64,Liste_J,3,FALSE),VLOOKUP(AG64,Liste_Dos_SPIDD,2,FALSE)))","v":"LUCAS Ifig"},43,{"$f":"AD64&AF64","v":"13"},null,{"$f":"+AL35","v":""},{"$f":"IF(AM35=0,0,IF(AM35=\"HH\",\"HB\",IF(AM35=\"HB\",\"HH\",IF(AM35=\"BH\",\"BB\",IF(AM35=\"BB\",\"BH\")))))","v":0},null,null,{"$f":"IF(AG64=\"\",\"\",IF(ISNA(VLOOKUP(AG64,Liste_Dos_SPIDD,3,FALSE)),VLOOKUP(AG64,Liste_J,$A$10,FALSE),VLOOKUP(AG64,Liste_Dos_SPIDD,3,FALSE)))","v":"EQUEURDREVILLE"},{"$f":"IF(ISERROR(VLOOKUP(AP64,$AT$16:$CG$110,18,FALSE)),\"\",IF($AP$9=\"HH\",VLOOKUP(AP64,$AT$16:$CG$110,37,FALSE),IF($AP$9=\"HB\",VLOOKUP(AP64,$AT$16:$CG$110,38,FALSE),IF($AP$9=\"BH\",VLOOKUP(AP64,$AT$16:$CG$110,39,FALSE),IF($AP$9=\"BB\",VLOOKUP(AP64,$AT$16:$CG$110,40,FALSE),\"\")))))","v":""},null,null,null,null,null,null,null,null,null,null,null,null,null,null,null,null,null,null,null,null,null,null,null,null,null,null,null,null,null,null,null,null,null,null,null,{"$error":"#N/A"},{"$error":"#N/A"},{"$error":"#N/A"},{"$error":"#N/A"},{"$error":"#N/A"},{"$error":"#N/A"},{"$error":"#N/A"},{"$error":"#N/A"},{"$error":"#N/A"},{"$error":"#N/A"},{"$error":"#N/A"},null,null,null,null,null,null,61,"B","BB","H"]
[null,null,null,null,null,null,null,null,null,null,null,null,null,null,null,null,null,null,null,null,null,null,null,null,null,null,null,null,"P",2,null,3,302,"VIDAL Charles",44,{"$f":"AD65&AF65","v":"23"},null,"",0,null,null,"ASSUN TT","",null,null,null,null,null,null,null,null,null,null,null,null,null,null,null,null,null,null,null,null,null,null,null,null,null,null,null,null,null,null,null,null,null,null,null,{"$error":"#N/A"},{"$error":"#N/A"},{"$error":"#N/A"},{"$error":"#N/A"},{"$error":"#N/A"},{"$error":"#N/A"},{"$error":"#N/A"},{"$error":"#N/A"},{"$error":"#N/A"},{"$error":"#N/A"},{"$error":"#N/A"},null,null,null,null,null,null,62,"B","BB","H"]
[null,null,null,null,null,null,null,null,null,null,null,null,null,null,null,null,null,null,null,null,null,null,null,null,null,null,null,null,"P",3,null,3,303,"ROBION Paul",45,"33",null,"",0,null,null,"SIOUVILLE ATTLC","",null,null,null,null,null,null,null,null,null,null,null,null,null,null,null,null,null,null,null,null,null,null,null,null,null,null,null,null,null,null,null,null,null,null,null,{"$error":"#N/A"},{"$error":"#N/A"},{"$error":"#N/A"},{"$f":"IF(OR(VLOOKUP($AT66,$AT$16:$BZ$110,CD$12+2,FALSE)>1,AND(VLOOKUP($AT66,$AT$16:$BZ$110,CD$12+2,FALSE)=1,(VLOOKUP($AT66,$AT$16:$BZ$110,CD$12,FALSE)+VLOOKUP($AT66,$AT$16:$BZ$110,CD$12+1,FALSE)+VLOOKUP($AT66,$AT$16:$BZ$110,CD$12+2,FALSE))>1)),VLOOKUP($AT66,$AT$16:$BZ$110,CD$12+4,FALSE)-VLOOKUP($AT66,$AT$16:$BZ$110,CD$12+3,FALSE),\"\")","v":{"$error":"#N/A"}},{"$error":"#N/A"},{"$error":"#N/A"},{"$error":"#N/A"},{"$error":"#N/A"},{"$error":"#N/A"},{"$error":"#N/A"},{"$error":"#N/A"},null,null,null,null,null,null,63,"B","BB","H"]
[null,null,null,null,null,null,null,null,null,null,null,null,null,null,null,null,null,null,null,null,null,null,null,null,null,null,null,null,"P",4,null,3,304,"LEVILLAIN Camille",46,"43",null,"",0,null,null,"ST PAIR BRICQUE","",null,null,null,null,null,null,null,null,null,null,null,null,null,null,null,null,null,null,null,null,null,null,null,null,null,null,null,null,null,null,null,null,null,null,null,{"$error":"#N/A"},{"$error":"#N/A"},{"$error":"#N/A"},{"$error":"#N/A"},{"$error":"#N/A"},{"$error":"#N/A"},{"$error":"#N/A"},{"$error":"#N/A"},{"$error":"#N/A"},{"$error":"#N/A"},{"$error":"#N/A"},null,null,null,null,null,null,64,"B","BB","H"]
[null,null,null,null,null,null,null,null,null,null,null,null,null,null,null,null,null,null,null,null,null,null,null,null,null,null,null,null,"P",5,null,3,305,"COUEDEL-COULON Eloan",47,"53",null,"",0,null,null,"TT SAINT JAMES","",null,null,null,null,null,null,null,null,null,null,null,null,null,null,null,null,null,null,null,null,null,null,null,null,null,null,null,null,null,null,null,null,null,null,null,{"$error":"#N/A"},{"$error":"#N/A"},{"$error":"#N/A"},{"$error":"#N/A"},{"$error":"#N/A"},{"$error":"#N/A"},{"$error":"#N/A"},{"$error":"#N/A"},{"$error":"#N/A"},{"$error":"#N/A"},{"$error":"#N/A"}]
[null,null,null,null,null,null,null,null,null,null,null,null,null,null,null,null,null,null,null,null,null,null,null,null,null,null,null,null,"P",6,null,3,306,"LECLERC Alexandre-Bao",48,"63",null,"",0,null,null,"OC AGNEAUX","",null,null,null,null,null,null,null,null,null,null,null,null,null,null,null,null,null,null,null,null,null,null,null,null,null,null,null,null,null,null,null,null,null,null,null,{"$error":"#N/A"},{"$error":"#N/A"},{"$error":"#N/A"},{"$error":"#N/A"},{"$error":"#N/A"},{"$error":"#N/A"},{"$error":"#N/A"},{"$error":"#N/A"},{"$error":"#N/A"},{"$error":"#N/A"},{"$error":"#N/A"}]
[null,null,null,null,null,null,null,null,null,null,null,null,null,null,null,null,null,null,null,null,null,null,null,null,null,null,null,null,"P",7,null,3,307,"NICOLLE Augustin",49,"73",null,"",0,null,null,"COUTANCES JA","",null,null,null,null,null,null,null,null,null,null,null,null,null,null,null,null,null,null,null,null,null,null,null,null,null,null,null,null,null,null,null,null,null,null,null,{"$error":"#N/A"},{"$error":"#N/A"},{"$error":"#N/A"},{"$error":"#N/A"},{"$error":"#N/A"},{"$error":"#N/A"},{"$error":"#N/A"},{"$error":"#N/A"},{"$error":"#N/A"},{"$error":"#N/A"},{"$error":"#N/A"}]
[null,null,null,null,null,null,null,null,null,null,null,null,null,null,null,null,null,null,null,null,null,null,null,null,null,null,null,null,"P",8,null,3,308,"NICOLLE Emile",50,"83",null,"",0,null,null,"COUTANCES JA","",null,null,null,null,null,null,null,null,null,null,null,null,null,null,null,null,null,null,null,null,null,null,null,null,null,null,null,null,null,null,null,null,null,null,null,{"$error":"#N/A"},{"$error":"#N/A"},{"$error":"#N/A"},{"$error":"#N/A"},{"$error":"#N/A"},{"$error":"#N/A"},{"$error":"#N/A"},{"$error":"#N/A"},{"$error":"#N/A"},{"$error":"#N/A"},{"$error":"#N/A"}]
[null,null,null,null,null,null,null,null,null,null,null,null,null,null,null,null,null,null,null,null,null,null,null,null,null,null,null,null,"P",9,null,3,309,"RIPOCHE Nathan",51,"93",null,"",0,null,null,"ST PAIR BRICQUE","",null,null,null,null,null,null,null,null,null,null,null,null,null,null,null,null,null,null,null,null,null,null,null,null,null,null,null,null,null,null,null,null,null,null,null,{"$error":"#N/A"},{"$error":"#N/A"},{"$error":"#N/A"},{"$error":"#N/A"},{"$error":"#N/A"},{"$error":"#N/A"},{"$error":"#N/A"},{"$error":"#N/A"},{"$error":"#N/A"},{"$error":"#N/A"},{"$error":"#N/A"}]
[null,null,null,null,null,null,null,null,null,null,null,null,null,null,null,null,null,null,null,null,null,null,null,null,null,null,null,null,"P",10,null,3,310,"PEIN Edgar",52,"103",null,"",0,null,null,"ST PAIR BRICQUE","",null,null,null,null,null,null,null,null,null,null,null,null,null,null,null,null,null,null,null,null,null,null,null,null,null,null,null,null,null,null,null,null,null,null,null,{"$error":"#N/A"},{"$error":"#N/A"},{"$error":"#N/A"},{"$error":"#N/A"},{"$error":"#N/A"},{"$error":"#N/A"},{"$error":"#N/A"},{"$error":"#N/A"},{"$error":"#N/A"},{"$error":"#N/A"},{"$error":"#N/A"}]
[null,null,null,null,null,null,null,null,null,null,null,null,null,null,null,null,null,null,null,null,null,null,null,null,null,null,null,null,"P",11,null,3,311,"RICOUX Bastien",53,"113",null,"",0,null,null,"ATTDUCEYAVRANCH","",null,null,null,null,null,null,null,null,null,null,null,null,null,null,null,null,null,null,null,null,null,null,null,null,null,null,null,null,null,null,null,null,null,null,null,{"$error":"#N/A"},{"$error":"#N/A"},{"$error":"#N/A"},{"$error":"#N/A"},{"$error":"#N/A"},{"$error":"#N/A"},{"$error":"#N/A"},{"$error":"#N/A"},{"$error":"#N/A"},{"$error":"#N/A"},{"$error":"#N/A"}]
[null,null,null,null,null,null,null,null,null,null,null,null,null,null,null,null,null,null,null,null,null,null,null,null,null,null,null,null,"P",12,null,3,312,"ROC Ferdinand",54,"123",null,"",0,null,null,"ATTDUCEYAVRANCH","",null,null,null,null,null,null,null,null,null,null,null,null,null,null,null,null,null,null,null,null,null,null,null,null,null,null,null,null,null,null,null,null,null,null,null,{"$error":"#N/A"},{"$error":"#N/A"},{"$error":"#N/A"},{"$error":"#N/A"},{"$error":"#N/A"},{"$error":"#N/A"},{"$error":"#N/A"},{"$error":"#N/A"},{"$error":"#N/A"},{"$error":"#N/A"},{"$error":"#N/A"}]
[null,null,null,null,null,null,null,null,null,null,null,null,null,null,null,null,null,null,null,null,null,null,null,null,null,null,null,null,"P",13,null,3,313,"RIGOT Noe",55,"133",null,"",0,null,null,"CARANTILLAISE","",null,null,null,null,null,null,null,null,null,null,null,null,null,null,null,null,null,null,null,null,null,null,null,null,null,null,null,null,null,null,null,null,null,null,null,{"$error":"#N/A"},{"$error":"#N/A"},{"$error":"#N/A"},{"$error":"#N/A"},{"$error":"#N/A"},{"$error":"#N/A"},{"$error":"#N/A"},{"$error":"#N/A"},{"$error":"#N/A"},{"$error":"#N/A"},{"$error":"#N/A"}]
[null,null,null,null,null,null,null,null,null,null,null,null,null,null,null,null,null,null,null,null,null,null,null,null,null,null,null,null,"P",14,null,3,314,"MASSELINE Malo",56,"143",null,"",0,null,null,"TORIGNAISE ESTT","",null,null,null,null,null,null,null,null,null,null,null,null,null,null,null,null,null,null,null,null,null,null,null,null,null,null,null,null,null,null,null,null,null,null,null,{"$error":"#N/A"},{"$error":"#N/A"},{"$error":"#N/A"},{"$error":"#N/A"},{"$error":"#N/A"},{"$error":"#N/A"},{"$error":"#N/A"},{"$error":"#N/A"},{"$error":"#N/A"},{"$error":"#N/A"},{"$error":"#N/A"}]
[null,null,null,null,null,null,null,null,null,null,null,null,null,null,null,null,null,null,null,null,null,null,null,null,null,null,null,null,"P",15,null,3,315,"BRILLET Pacome",57,"153",null,"",0,null,null,"TT SAINT JAMES","",null,null,null,null,null,null,null,null,null,null,null,null,null,null,null,null,null,null,null,null,null,null,null,null,null,null,null,null,null,null,null,null,null,null,null,{"$error":"#N/A"},{"$error":"#N/A"},{"$error":"#N/A"},{"$error":"#N/A"},{"$error":"#N/A"},{"$error":"#N/A"},{"$error":"#N/A"},{"$error":"#N/A"},{"$error":"#N/A"},{"$error":"#N/A"},{"$error":"#N/A"}]
[null,null,null,null,null,null,null,null,null,null,null,null,null,null,null,null,null,null,null,null,null,null,null,null,null,null,null,null,"P",16,null,3,316,"VARIN Louis",58,"163",null,"",0,null,null,"TORIGNAISE ESTT","",null,null,null,null,null,null,null,null,null,null,null,null,null,null,null,null,null,null,null,null,null,null,null,null,null,null,null,null,null,null,null,null,null,null,null,{"$error":"#N/A"},{"$error":"#N/A"},{"$error":"#N/A"},{"$error":"#N/A"},{"$error":"#N/A"},{"$error":"#N/A"},{"$error":"#N/A"},{"$error":"#N/A"},{"$error":"#N/A"},{"$error":"#N/A"},{"$error":"#N/A"}]
[null,null,null,null,null,null,null,null,null,null,null,null,null,null,null,null,null,null,null,null,null,null,null,null,null,null,null,"4ème de poule",null,null,null,null,null,null,null,null,null,null,null,null,null,null,null,null,null,null,null,null,null,null,null,null,null,null,null,null,null,null,null,null,null,null,null,null,null,null,null,null,null,null,null,null,null,null,null,null,null,null,{"$error":"#N/A"},{"$error":"#N/A"},{"$error":"#N/A"},{"$error":"#N/A"},{"$error":"#N/A"},{"$error":"#N/A"},{"$error":"#N/A"},{"$error":"#N/A"},{"$error":"#N/A"},{"$error":"#N/A"},{"$error":"#N/A"}]
[null,null,null,null,null,null,null,null,null,null,null,null,null,null,null,null,null,null,null,null,null,null,null,null,null,null,null,null,"Pl","x","TAS","N°","Dos","NOM Prénom","Rang","SPIDD","a","1/2 T","1/4 T","c","d","Club","N° Club",null,null,null,null,null,null,null,null,null,null,null,null,null,null,null,null,null,null,null,null,null,null,null,null,null,null,null,null,null,null,null,null,null,null,null,{"$error":"#N/A"},{"$error":"#N/A"},{"$error":"#N/A"},{"$error":"#N/A"},{"$error":"#N/A"},{"$error":"#N/A"},{"$error":"#N/A"},{"$error":"#N/A"},{"$error":"#N/A"},{"$error":"#N/A"},{"$error":"#N/A"}]
[null,null,null,null,null,null,null,null,null,null,null,null,null,null,null,null,null,null,null,null,null,null,null,null,null,null,null,null,"P",1,null,4,{"$f":"IF(ISNA(VLOOKUP(AJ82,Liste_SPIDD,2,FALSE)),901,VLOOKUP(AJ82,Liste_SPIDD,2,FALSE))","v":901},{"$f":"IF(AG82=\"\",\"\",IF(ISNA(VLOOKUP(AG82,Liste_Dos_SPIDD,2,FALSE)),VLOOKUP(AG82,Liste_J,3,FALSE),VLOOKUP(AG82,Liste_Dos_SPIDD,2,FALSE)))","v":"Exempt"},43,{"$f":"AD82&AF82","v":"14"},null,{"$f":"+AL17","v":0},{"$f":"IF(AM17=0,0,IF(AM17=\"HH\",\"HB\",IF(AM17=\"HB\",\"HH\",IF(AM17=\"BH\",\"BB\",IF(AM17=\"BB\",\"BH\")))))","v":0},null,null,{"$f":"IF(AG82=\"\",\"\",IF(ISNA(VLOOKUP(AG82,Liste_Dos_SPIDD,3,FALSE)),VLOOKUP(AG82,Liste_J,$A$10,FALSE),VLOOKUP(AG82,Liste_Dos_SPIDD,3,FALSE)))","v":" "},{"$f":"IF(ISERROR(VLOOKUP(AP82,$AT$16:$CK$110,18,FALSE)),\"\",IF($AP$9=\"HH\",VLOOKUP(AP82,$AT$16:$CK$110,41,FALSE),IF($AP$9=\"HB\",VLOOKUP(AP82,$AT$16:$CK$110,42,FALSE),IF($AP$9=\"BH\",VLOOKUP(AP82,$AT$16:$CK$110,43,FALSE),IF($AP$9=\"BB\",VLOOKUP(AP82,$AT$16:$CK$110,44,FALSE),\"\")))))","v":""},null,null,null,null,null,null,null,null,null,null,null,null,null,null,null,null,null,null,null,null,null,null,null,null,null,null,null,null,null,null,null,null,null,null,null,{"$error":"#N/A"},{"$error":"#N/A"},{"$error":"#N/A"},{"$error":"#N/A"},{"$error":"#N/A"},{"$error":"#N/A"},{"$error":"#N/A"},{"$error":"#N/A"},{"$error":"#N/A"},{"$error":"#N/A"},{"$error":"#N/A"}]
[null,null,null,null,null,null,null,null,null,null,null,null,null,null,null,null,null,null,null,null,null,null,null,null,null,null,null,null,"P",2,null,4,901,"Exempt",44,{"$f":"AD83&AF83","v":"24"},null,0,0,null,null," ","",null,null,null,null,null,null,null,null,null,null,null,null,null,null,null,null,null,null,null,null,null,null,null,null,null,null,null,null,null,null,null,null,null,null,null,{"$f":"IF(VLOOKUP($AT83,$AT$16:$BL$110,CA$11,FALSE)>1,VLOOKUP($AT83,$AT$16:$BL$110,CA$11,FALSE),\"\")","v":{"$error":"#N/A"}},{"$error":"#N/A"},{"$error":"#N/A"},{"$error":"#N/A"},{"$error":"#N/A"},{"$error":"#N/A"},{"$error":"#N/A"},{"$error":"#N/A"},{"$error":"#N/A"},{"$error":"#N/A"},{"$error":"#N/A"}]
[null,null,null,null,null,null,null,null,null,null,null,null,null,null,null,null,null,null,null,null,null,null,null,null,null,null,null,null,"P",3,null,4,901,"Exempt",45,"34",null,0,0,null,null," ","",null,null,null,null,null,null,null,null,null,null,null,null,null,null,null,null,null,null,null,null,null,null,null,null,null,null,null,null,null,null,null,null,null,null,null,{"$f":"IF(VLOOKUP($AT84,$AT$16:$BL$110,CA$11,FALSE)>1,VLOOKUP($AT84,$AT$16:$BL$110,CA$11,FALSE),\"\")","v":{"$error":"#N/A"}},{"$f":"IF(OR(VLOOKUP($AT84,$AT$16:$BL$110,CB$12,FALSE)>1,AND(VLOOKUP($AT84,$AT$16:$BL$110,CB$12,FALSE)=1,(VLOOKUP($AT84,$AT$16:$BL$110,CB$12+3,FALSE)+VLOOKUP($AT84,$AT$16:$BL$110,CB$12+6,FALSE))>0)),(VLOOKUP($AT84,$AT$16:$BL$110,CB$12,FALSE)+VLOOKUP($AT84,$AT$16:$BL$110,CB$12+3,FALSE)+VLOOKUP($AT84,$AT$16:$BL$110,CB$12+6,FALSE)),\"\")","v":{"$error":"#N/A"}},{"$error":"#N/A"},{"$error":"#N/A"},{"$error":"#N/A"},{"$error":"#N/A"},{"$error":"#N/A"},{"$error":"#N/A"},{"$error":"#N/A"},{"$error":"#N/A"},{"$error":"#N/A"}]
[null,null,null,null,null,null,null,null,null,null,null,null,null,null,null,null,null,null,null,null,null,null,null,null,null,null,null,null,"P",4,null,4,901,"Exempt",46,"44",null,0,0,null,null," ","",null,null,null,null,null,null,null,null,null,null,null,null,null,null,null,null,null,null,null,null,null,null,null,null,null,null,null,null,null,null,null,null,null,null,null,{"$f":"IF(VLOOKUP($AT85,$AT$16:$BL$110,CA$11,FALSE)>1,VLOOKUP($AT85,$AT$16:$BL$110,CA$11,FALSE),\"\")","v":{"$error":"#N/A"}},{"$error":"#N/A"},{"$error":"#N/A"},{"$error":"#N/A"},{"$error":"#N/A"},{"$error":"#N/A"},{"$error":"#N/A"},{"$error":"#N/A"},{"$error":"#N/A"},{"$error":"#N/A"},{"$error":"#N/A"}]
[null,null,null,null,null,null,null,null,null,null,null,null,null,null,null,null,null,null,null,null,null,null,null,null,null,null,null,null,"P",5,null,4,901,"Exempt",47,"54",null,0,0,null,null," ","",null,null,null,null,null,null,null,null,null,null,null,null,null,null,null,null,null,null,null,null,null,null,null,null,null,null,null,null,null,null,null,null,null,null,null,{"$f":"IF(VLOOKUP($AT86,$AT$16:$BL$110,CA$11,FALSE)>1,VLOOKUP($AT86,$AT$16:$BL$110,CA$11,FALSE),\"\")","v":{"$error":"#N/A"}},{"$error":"#N/A"},{"$error":"#N/A"},{"$error":"#N/A"},{"$error":"#N/A"},{"$error":"#N/A"},{"$error":"#N/A"},{"$error":"#N/A"},{"$error":"#N/A"},{"$error":"#N/A"},{"$error":"#N/A"}]
[null,null,null,null,null,null,null,null,null,null,null,null,null,null,null,null,null,null,null,null,null,null,null,null,null,null,null,null,"P",6,null,4,901,"Exempt",48,"64",null,0,0,null,null," ",""]
[null,null,null,null,null,null,null,null,null,null,null,null,null,null,null,null,null,null,null,null,null,null,null,null,null,null,null,null,"P",7,null,4,901,"Exempt",49,"74",null,0,0,null,null," ",""]
[null,null,null,null,null,null,null,null,null,null,null,null,null,null,null,null,null,null,null,null,null,null,null,null,null,null,null,null,"P",8,null,4,901,"Exempt",50,"84",null,0,0,null,null," ",""]
[null,null,null,null,null,null,null,null,null,null,null,null,null,null,null,null,null,null,null,null,null,null,null,null,null,null,null,null,"P",9,null,4,901,"Exempt",51,"94",null,0,0,null,null," ",""]
[null,null,null,null,null,null,null,null,null,null,null,null,null,null,null,null,null,null,null,null,null,null,null,null,null,null,null,null,"P",10,null,4,901,"Exempt",52,"104",null,0,0,null,null," ",""]
[null,null,null,null,null,null,null,null,null,null,null,null,null,null,null,null,null,null,null,null,null,null,null,null,null,null,null,null,"P",11,null,4,901,"Exempt",53,"114",null,0,0,null,null," ",""]
[null,null,null,null,null,null,null,null,null,null,null,null,null,null,null,null,null,null,null,null,null,null,null,null,null,null,null,null,"P",12,null,4,901,"Exempt",54,"124",null,0,0,null,null," ",""]
[null,null,null,null,null,null,null,null,null,null,null,null,null,null,null,null,null,null,null,null,null,null,null,null,null,null,null,null,"P",13,null,4,901,"Exempt",55,"134",null,0,0,null,null," ",""]
[null,null,null,null,null,null,null,null,null,null,null,null,null,null,null,null,null,null,null,null,null,null,null,null,null,null,null,null,"P",14,null,4,901,"Exempt",56,"144",null,0,0,null,null," ",""]
[null,null,null,null,null,null,null,null,null,null,null,null,null,null,null,null,null,null,null,null,null,null,null,null,null,null,null,null,"P",15,null,4,901,"Exempt",57,"154",null,0,0,null,null," ",""]
[null,null,null,null,null,null,null,null,null,null,null,null,null,null,null,null,null,null,null,null,null,null,null,null,null,null,null,null,"P",16,null,4,901,"Exempt",58,"164",null,0,0,null,null," ",""]
[]
[]
[]
[]
[]
[]
[]
[]
[]
[]
[]
[]
[]
[]
[]
[]
[]
[]
[]
[]
[]
[]
[]
[]
[]
[]
[]
[]
[]
[]
[]
[]
[]
[]
[]
[]
[]
[]
[]
[]
[]
[]
[]
[]
[]
[]
[]
[]
[]
[]
[]
[]
[]
[]
[]
[]
[]
[]
[]
[]
[]
[]
[]
[]
[]
[null,null,null,null,null,null,null,null,null,null,null,null,null,null,null,null,null,null,null,null,null,null,null,null,null,null,null,null,null,null,null,null,null,null,null,{"$f":"IF(AP163=AP162,AJ162+1,1)","v":1},{"$f":"COUNTIF($AP$167:$AP$187,AP163)","v":0},null,null,null,null,null,{"$f":"AJ163&\"/\"&AK163","v":"1/0"}]
[]
[]
[null,null,null,null,null,null,null,null,null,null,null,null,null,null,null,null,null,null,null,null,null,null,null,null,null,null,null,null,null,null,null,null,"Dos","NOM Prénom","Rang","RC","NC","1/2 T","b","c","d","Club","N° Club"]
[null,null,null,null,null,null,null,null,null,null,null,null,null,null,null,null,null,null,null,null,null,null,null,null,null,null,null,null,null,null,null,null,195,"ARAUJO Remy",9,1,1,0,0,null,null,"AS HONG LANDIN","1/1"]
[null,null,null,null,null,null,null,null,null,null,null,null,null,null,null,null,null,null,null,null,null,null,null,null,null,null,null,null,null,null,null,null,196,"RENIER Guillaume",10,1,1,0,0,null,null,"ATT HAVRE","1/1"]
[null,null,null,null,null,null,null,null,null,null,null,null,null,null,null,null,null,null,null,null,null,null,null,null,null,null,null,null,null,null,null,null,230,"DUBOIS Eric",13,1,1,0,0,null,null,"AUVERS","1/1"]
[null,null,null,null,null,null,null,null,null,null,null,null,null,null,null,null,null,null,null,null,null,null,null,null,null,null,null,null,null,null,null,null,187,"D'ARJUZON Gaspard",2,1,1,0,0,null,null,"avranches","1/1"]
[null,null,null,null,null,null,null,null,null,null,null,null,null,null,null,null,null,null,null,null,null,null,null,null,null,null,null,null,null,null,null,null,186,"SMEIR Jean",1,1,1,0,0,null,null,"BEAUVAIS TT","1/1"]
[null,null,null,null,null,null,null,null,null,null,null,null,null,null,null,null,null,null,null,null,null,null,null,null,null,null,null,null,null,null,null,null,237,"SELLIER Dorian",6,1,1,0,0,null,null,"BRETEUIL WG TT","1/1"]
[null,null,null,null,null,null,null,null,null,null,null,null,null,null,null,null,null,null,null,null,null,null,null,null,null,null,null,null,null,null,null,null,188,"CUNY Baptiste",3,1,2,0,0,null,null,"CS ANDELYS","1/2"]
[null,null,null,null,null,null,null,null,null,null,null,null,null,null,null,null,null,null,null,null,null,null,null,null,null,null,null,null,null,null,null,null,202,"CUNY Florian",14,2,2,0,0,null,null,"CS ANDELYS","2/2"]
[null,null,null,null,null,null,null,null,null,null,null,null,null,null,null,null,null,null,null,null,null,null,null,null,null,null,null,null,null,null,null,null,231,"FEROLDI Paul",12,1,2,0,0,null,null,"CSM FINANCES","1/2"]
[null,null,null,null,null,null,null,null,null,null,null,null,null,null,null,null,null,null,null,null,null,null,null,null,null,null,null,null,null,null,null,null,203,"BORAME Florent",15,2,2,0,0,null,null,"CSM FINANCES","2/2"]
[null,null,null,null,null,null,null,null,null,null,null,null,null,null,null,null,null,null,null,null,null,null,null,null,null,null,null,null,null,null,null,null,194,"CHHAN David",8,1,1,0,0,null,null,"Dieppe U C TT","1/1"]
[null,null,null,null,null,null,null,null,null,null,null,null,null,null,null,null,null,null,null,null,null,null,null,null,null,null,null,null,null,null,null,null,193,"REIX Vincent",7,1,1,0,0,null,null,"MONTIVILLLIERS","1/1"]
[null,null,null,null,null,null,null,null,null,null,null,null,null,null,null,null,null,null,null,null,null,null,null,null,null,null,null,null,null,null,null,null,189,"CASTILLA Jean-vincent",4,1,3,0,0,null,null,"SPO ROUEN","1/3"]
[null,null,null,null,null,null,null,null,null,null,null,null,null,null,null,null,null,null,null,null,null,null,null,null,null,null,null,null,null,null,null,null,197,"GOUY Maximilien",11,2,3,0,0,null,null,"SPO ROUEN","2/3"]
[null,null,null,null,null,null,null,null,null,null,null,null,null,null,null,null,null,null,null,null,null,null,null,null,null,null,null,null,null,null,null,null,204,"LAGRANGE Noé",16,3,3,0,0,null,null,"SPO ROUEN","3/3"]
[null,null,null,null,null,null,null,null,null,null,null,null,null,null,null,null,null,null,null,null,null,null,null,null,null,null,null,null,null,null,null,null,190,"BEUCHER Freddy",5,1,1,0,0,null,null,"VILLENEUVE","1/1"]

{"sheet":"G-264f","index":29,"n_rows":5,"n_cols":17,"rows_kept":5,"cut":false,"hidden":false,"merged":[]}
["Clt",1,2,3,4,5,6,7,8,9,10,11,12,13,14,15,16]
["1er",{"$f":"'TS-264f'!AE17","v":0},{"$f":"'TS-264f'!AE18","v":0},{"$f":"'TS-264f'!AE19","v":0},{"$f":"'TS-264f'!AE20","v":0},{"$f":"'TS-264f'!AE21","v":0},{"$f":"'TS-264f'!AE22","v":0},{"$f":"'TS-264f'!AE23","v":0},{"$f":"'TS-264f'!AE24","v":0},{"$f":"'TS-264f'!AE25","v":0},{"$f":"'TS-264f'!AE26","v":0},{"$f":"'TS-264f'!AE27","v":0},{"$f":"'TS-264f'!AE28","v":0},{"$f":"'TS-264f'!AE29","v":0},{"$f":"'TS-264f'!AE30","v":0},{"$f":"'TS-264f'!AE31","v":0},{"$f":"'TS-264f'!AE32","v":0}]
["2ème",{"$f":"'TS-264f'!AE35","v":0},{"$f":"'TS-264f'!AE36","v":0},{"$f":"'TS-264f'!AE37","v":0},{"$f":"'TS-264f'!AE38","v":0},{"$f":"'TS-264f'!AE39","v":0},{"$f":"'TS-264f'!AE40","v":0},{"$f":"'TS-264f'!AE41","v":0},{"$f":"'TS-264f'!AE42","v":0},{"$f":"'TS-264f'!AE43","v":0},{"$f":"'TS-264f'!AE44","v":0},{"$f":"'TS-264f'!AE45","v":0},{"$f":"'TS-264f'!AE46","v":0},{"$f":"'TS-264f'!AE47","v":0},{"$f":"'TS-264f'!AE48","v":0},{"$f":"'TS-264f'!AE49","v":0},{"$f":"'TS-264f'!AE50","v":0}]
["3ème",{"$f":"'TS-264f'!AE64","v":0},{"$f":"'TS-264f'!AE65","v":0},{"$f":"'TS-264f'!AE66","v":0},{"$f":"'TS-264f'!AE67","v":0},{"$f":"'TS-264f'!AE68","v":0},{"$f":"'TS-264f'!AE69","v":0},{"$f":"'TS-264f'!AE70","v":0},{"$f":"'TS-264f'!AE71","v":0},{"$f":"'TS-264f'!AE72","v":0},{"$f":"'TS-264f'!AE73","v":0},{"$f":"'TS-264f'!AE74","v":0},{"$f":"'TS-264f'!AE75","v":0},{"$f":"'TS-264f'!AE76","v":0},{"$f":"'TS-264f'!AE77","v":0},{"$f":"'TS-264f'!AE78","v":0},{"$f":"'TS-264f'!AE79","v":0}]
["4ème",{"$f":"'TS-264f'!AE82","v":0},{"$f":"'TS-264f'!AE83","v":0},{"$f":"'TS-264f'!AE84","v":0},{"$f":"'TS-264f'!AE85","v":0},{"$f":"'TS-264f'!AE86","v":0},{"$f":"'TS-264f'!AE87","v":0},{"$f":"'TS-264f'!AE88","v":0},{"$f":"'TS-264f'!AE89","v":0},{"$f":"'TS-264f'!AE90","v":0},{"$f":"'TS-264f'!AE91","v":0},{"$f":"'TS-264f'!AE92","v":0},{"$f":"'TS-264f'!AE93","v":0},{"$f":"'TS-264f'!AE94","v":0},{"$f":"'TS-264f'!AE95","v":0},{"$f":"'TS-264f'!AE96","v":0},{"$f":"'TS-264f'!AE97","v":0}]

{"sheet":"TS-296a","index":30,"n_rows":331,"n_cols":89,"rows_kept":331,"cut":false,"hidden":false,"merged":[[15,22,15,25],[15,61,15,63],[16,61,17,61],[16,62,16,63],[3,0,5,42],[3,46,3,49],[4,48,4,49],[7,0,7,11],[7,22,11,22],[7,24,11,24],[7,29,7,38],[8,29,8,40],[66,27,66,37],[67,27,67,37],[13,27,13,37],[14,27,14,30],[14,45,14,63]]}
[{"$f":"\"Epreuve  : \"&'TS-200'!$C$1","v":"Epreuve  : Critérium Fédéral"},null,null,null,null,null,null,null,null,null,null,null,null,null,null,null,null,null,null,null,null,null,null,null,null,null,null,null,null,null,null,null,null,null,null,null,null,null,null,null,null,null,{"$f":"Lieu","v":"Pont à Mousson"}]
[{"$f":"\"Tableau : \"&'TS-200'!$C$4","v":"Tableau :  "},null,null,null,null,null,null,null,null,null,null,null,null,null,null,null,null,null,null,null,null,null,null,null,null,null,null,null,null,null,null,null,null,null,null,null,null,null,null,null,null,null,{"$f":"Date","v":"15 au 17 mars 2019"}]
[]
["TABLEAU DE TIRAGE AU SORT\n96 JOUEURS\n48 poules - 2 qualifiés",null,null,null,null,null,null,null,null,null,null,null,null,null,null,null,null,null,null,null,null,null,null,null,null,null,null,null,null,null,null,null,null,null,null,null,null,null,null,null,null,null,null,{"$f":"+AI4","v":0},{"$f":"COUNTIF(AR:AR,AI4)","v":4},null,"Bornes TAS",null,null,null,null,null,null,null,null,null,null,null,null,null,null,null,null,null,null,null,null,null,null,null,null,null,null,null,null,null,null,null,null,null,null,null,null,null,null,1,"H","H","B"]
[null,null,null,null,null,null,null,null,null,null,null,null,null,null,null,null,null,null,null,null,null,null,null,null,null,null,null,null,null,null,null,null,null,null,null,null,null,null,null,null,null,null,null,{"$f":"+AI5","v":0},{"$f":"COUNTIF(AR:AR,AI5)","v":4},null,"Inf","Sup","Nb joueurs",null,null,null,null,null,null,null,null,null,null,null,null,null,null,null,null,null,null,null,null,null,null,null,null,null,null,null,null,null,null,null,null,null,null,null,null,3,"H","H","B"]
[null,null,null,null,null,null,null,null,null,null,null,null,null,null,null,null,null,null,null,null,null,null,null,null,null,null,null,null,null,null,null,null,null,null,null,null,null,null,null,null,null,null,null,{"$f":"+AI6","v":0},{"$f":"COUNTIF(AR:AR,AI6)","v":4},null,33,64,null,33,null,null,null,null,null,null,null,null,null,null,null,null,null,null,null,null,null,null,null,null,null,null,null,null,null,null,null,null,null,null,null,null,null,null,null,4,"H","H","B"]
[null,null,null,null,null,null,null,null,null,null,null,null,null,null,null,null,null,null,null,null,null,null,null,null,null,null,null,null,null,null,null,null,null,null,null,null,null,null,null,null,null,null,null,{"$f":"+AI7","v":0},{"$f":"COUNTIF(AR:AR,AI7)","v":4},null,null,null,null,null,null,null,null,null,null,null,null,null,null,null,null,null,null,null,null,null,null,null,null,null,null,null,null,null,null,null,null,null,null,null,null,null,null,null,null,5,"H","H","B"]
["Critère d'appartenance pour la mise en tableau",null,null,null,null,null,null,null,null,null,null,null,null,null,null,"Club",null,null,null,null,null,null,{"$f":"\"Nb \"&AU6&\"/\"&AV6","v":"Nb 33/64"},null,{"$f":"COUNTIF(AB12:AB187,1)","v":0},null,null,null,null,"Club, Comité ou Ligue (tiré au sort)",null,null,null,null,null,null,null,null,null,null,null,"EQUEURDREVILLE",null,null,null,null,null,null,null,null,null,null,null,null,null,null,null,null,null,null,null,null,null,null,null,null,null,null,null,null,null,null,null,null,null,null,null,null,null,null,null,null,null,null,null,6,"H","H","B"]
[null,null,null,null,"Club",null,null,null,null,null,null,null,null,null,null,null,null,null,null,null,null,null,null,null,null,null,null,null,null,"Partie du tableau tirée au sort (H=Haut, B=Bas)",null,null,null,null,null,null,null,null,null,null,null,"B",null,null,null,null,null,null,null,null,null,null,null,null,null,null,null,null,null,null,null,null,null,null,null,null,null,null,null,null,null,null,null,null,null,null,null,null,null,null,null,null,null,null,null,8,"H","H","B"]
[{"$f":"IF(P8=\"Club\",10,IF(P8=\"Ligue\",11,IF(P8=\"Comité\",12,10)))","v":10},null,null,null,"Ligue",null,null,null,null,null,null,null,null,null,null,null,null,null,null,null,null,null,null,null,null,null,null,null,null,null,null,null,null,null,null,null,null,null,null,null,null,null,"H ou B",null,null,null,null,null,null,null,null,null,null,null,null,null,null,null,null,null,null,null,null,null,null,null,null,null,null,null,null,null,null,null,null,null,null,null,null,null,null,null,null,null,null,9,"H","H","B"]
[{"$f":"IF(P8=\"Club\",10,IF(P8=\"Ligue\",11,IF(P8=\"Comité\",12,10)))","v":10},null,null,null,"Comité",null,null,null,null,null,null,null,null,null,null,null,null,null,null,null,null,null,null,null,null,null,null,null,null,null,null,null,null,null,null,null,null,null,null,null,null,null,"H",null,null,"Position",null,null,null,null,null,null,null,null,null,null,null,null,null,null,null,0,"H","B",null,null,null,null,null,null,null,null,null,null,null,null,null,null,null,null,null,null,null,null,null,11,"H","H","B"]
[null,null,null,null,null,null,null,null,null,null,null,null,null,null,null,null,null,null,null,null,null,null,null,null,null,null,null,null,null,null,null,null,null,null,null,null,null,null,null,null,null,null,"B",null,null,"N° colonne TCD"," ",null,null,null,null,null,null,null,null,null,null,null,null,null,null,{"$f":"MATCH(BJ11,$AT$17:$BE$17,0)","v":{"$error":"#N/A"}},{"$f":"MATCH(BK11,$AT$17:$BE$17,0)","v":5},{"$f":"MATCH(BL11,$AT$17:$BE$17,0)","v":2},null,null,null,null,null,null,null,null,null,null,null,null,null,null,null,null,null,null,null,null,null,12,"H","H","B"]
[null,null,null,null,null,null,null,null,null,null,null,null,null,null,null,null,null,null,null,null,null,null,null,null,null,null,null,"Y","Pl","x","TAS","N°","Dos","NOM Prénom","Rang","z","a","1/2 T","1/4 T","c","d","Club, Comité ou Ligue","N° Club",{"$f":"+AI13","v":"Rang"},{"$f":"COUNTIF(AR:AR,AI13)","v":1},null,"H",null,null,null,null,null,null,null,null,null,null,null,null,null,null,null,null,null,null,null,null,null,null,null,null,null,null,null,null,null,null,null,null,null,null,null,null,null,null,13,"H","H","B"]
[null,null,null,null,null,null,null,null,null,null,null,null,null,null,null,null,null,null,null,null,null,null,null,null,null,null,"X",null,null,null,null,null,null,null,null,null,null,null,null,null,null,null,null,null,null,null,"B",null,null,null,null,null,null,null,null,null,null,null,null,null,null,null,null,null,null,null,null,null,null,null,null,null,null,null,null,null,null,null,null,null,null,null,null,null,null,14,"H","H","B"]
[null,null,null,null,null,null,null,null,null,null,null,null,null,null,null,null,null,null,null,null,null,null,null,null,null,null,null,null,null,null,null,null,"1er de poule",null,null,null,null,null,null,null,null,null," ",null,null,"NB JOUEUR / CLUB",null,null,null,null,null,null,null,null,null,null,null,null,null,null,null,null,null,null,null,null,null,null,null,null,null,null,null,null,null,null,null,null,null,null,null,null,null,null,null,16,"H","H","B"]
[null,null,null,null,null,null,null,null,null,null,null,null,null,null,null,null,null,null,null,null,null,null,"N° Dispo",null,null,null,null,null,"Pl","x","TAS","N°","Dos","NOM Prénom","Rang","SPIDD","a","1/2 T","1/4 T","c","d","Club, Comité ou Ligue","N° Club",null,null,"NB Club, Comité ou Ligue","1/2 T","N°",null,null,null,null,null,null,null,null,null,null,null,null,null,"TAS >1",null,null,null,null,null,null,null,null,null,null,null,null,null,null,null,null,null,null,null,null,null,null,null,17,"H","H","B"]
[1,1,{"$f":"+A17","v":1},1,{"$f":"IF(ISNA(VLOOKUP(C17,$AE$7:$AQ$304,4,FALSE)),\"\",VLOOKUP(C17,$AE$7:$AQ$304,4,FALSE)&\" - \"&VLOOKUP(C17,$AE$7:$AQ$304,12,FALSE))","v":""},{"$f":"IF(ISNA(VLOOKUP(C17,$AE$7:$AQ$304,12,FALSE)),\"\",VLOOKUP(C17,$AE$7:$AQ$304,12,FALSE))","v":""}," ",null,null,null,null,65,"3=",{"$f":"+L17","v":65},3,{"$f":"IF(ISNA(VLOOKUP(N17,$AE$7:$AQ$304,4,FALSE)),\"\",VLOOKUP(N17,$AE$7:$AQ$304,4,FALSE)&\" - \"&VLOOKUP(N17,$AE$7:$AQ$304,12,FALSE))","v":""},{"$f":"IF(ISNA(VLOOKUP(N17,$AE$7:$AQ$304,12,FALSE)),\"\",VLOOKUP(N17,$AE$7:$AQ$304,12,FALSE))","v":""}," "," "," ",null,null,1,null,6,null,null,null,"P",1,null,1,{"$f":"IF(ISNA(VLOOKUP(AJ17,Liste_SPIDD,2,FALSE)),901,VLOOKUP(AJ17,Liste_SPIDD,2,FALSE))","v":44},{"$f":"IF(AG17=\"\",\"\",IF(ISNA(VLOOKUP(AG17,Liste_Dos_SPIDD,2,FALSE)),VLOOKUP(AG17,Liste_J,3,FALSE),VLOOKUP(AG17,Liste_Dos_SPIDD,2,FALSE)))","v":"LUCAS Ifig"},1,{"$f":"AD17&AF17","v":"11"},null,{"$f":"IF($AE17=0,0,VLOOKUP($AE17,$CH$4:$CK$99,2,FALSE))","v":0},null,null,null,{"$f":"IF(AG17=\"\",\"\",IF(ISNA(VLOOKUP(AG17,Liste_Dos_SPIDD,3,FALSE)),VLOOKUP(AG17,Liste_J,$A$10,FALSE),VLOOKUP(AG17,Liste_Dos_SPIDD,3,FALSE)))","v":"EQUEURDREVILLE"},{"$f":"IF(ISERROR(VLOOKUP(AG17,$AG$283:$AQ$336,1,FALSE)),\"\",IF(VLOOKUP(AG17,$AG$283:$AQ$336,11,FALSE)=\"1/1\",\"\",VLOOKUP(AG17,$AG$283:$AQ$336,11,FALSE)))","v":""},null,null,null,"B",null,"Total B","H",null,"Total H","Total général",null,null,null,null,null,null,null,null,"1er","2ème",null,null,null,null,null,null,null,null,null,null,null,null,null,null,null,null,null,null,null,null,null,null,19,"H","H","B"]
[3,"65=",{"$f":"+A18","v":3},65,"",""," ",null,null,null,null,67,"65=",{"$f":"+L18","v":67},67,"",""," ",null," ",null,null,128,null,123,null,null,null,"P",2,null,1,50,"VIDAL Charles",2,{"$f":"AD18&AF18","v":"21"},null,0,null,null,null,"ASSUN TT",{"$f":"IF(ISERROR(VLOOKUP(AG18,$AG$283:$AQ$336,1,FALSE)),\"\",IF(VLOOKUP(AG18,$AG$283:$AQ$336,11,FALSE)=\"1/1\",\"\",VLOOKUP(AG18,$AG$283:$AQ$336,11,FALSE)))","v":""},null,null,"Club, Comité ou Ligue",1,2,null,1,2,null,null,null,null,null,null,null,null,null,null,null,"H","B",null,null,null,null,null,null,null,null,null,null,null,null,null,null,null,null,null,null,null,null,null,20,"H","H","B"]
[4,"33=",4,64,"",""," ",null,null,null,null,68,"33=",68,62,"",""," "," "," ",null,null,65,null,70,null,null,null,"P",3,null,1,49,"ROBION Paul",3,"31",null,0,null,null,null,"SIOUVILLE ATTLC","",null,null,"ASSUN TT",3,null,3,null,3,3,6,null,null,null,null,null,null,null,null,{"$f":"IF(VLOOKUP($AT19,$AT$15:$BH$120,BJ$12,FALSE)>1,VLOOKUP($AT19,$AT$15:$BH$120,BJ$12,FALSE),\"\")","v":{"$error":"#REF!"}},{"$f":"IF(OR(VLOOKUP($AT19,$AT$15:$BH$120,BK$12+1,FALSE)>1,AND(VLOOKUP($AT19,$AT$15:$BH$120,BK$12+1,FALSE)=1,VLOOKUP($AT19,$AT$15:$BH$120,BK$12+2,FALSE)>1)),VLOOKUP($AT19,$AT$15:$BH$120,BK$12+2,FALSE),\"\")","v":3},{"$f":"IF(OR(VLOOKUP($AT19,$AT$15:$BH$120,BL$12+1,FALSE)>1,AND(VLOOKUP($AT19,$AT$15:$BH$120,BL$12+1,FALSE)=1,VLOOKUP($AT19,$AT$15:$BH$120,BL$12+2,FALSE)>1)),VLOOKUP($AT19,$AT$15:$BH$120,BL$12+2,FALSE),\"\")","v":""},null,null,null,null,null,null,null,null,null,null,null,null,null,null,null,null,null,null,null,null,null,21,"H","H","B"]
[5,"33=",5,33,"",""," ",null,null,null,null,69,"33=",69,35,"",""," "," "," ",null,null,64,null,59,null,null,null,"P",4,null,1,47,"LEVILLAIN Camille",4,"41",null,0,null,null,null,"ST PAIR BRICQUE","",null,null,"ATTDUCEYAVRANCH",3,3,6,3,3,6,12,null,null,null,null,null,null,null,null,{"$f":"IF(VLOOKUP($AT20,$AT$15:$BH$120,BJ$12,FALSE)>1,VLOOKUP($AT20,$AT$15:$BH$120,BJ$12,FALSE),\"\")","v":{"$error":"#REF!"}},{"$f":"IF(OR(VLOOKUP($AT20,$AT$15:$BH$120,BK$12+1,FALSE)>1,AND(VLOOKUP($AT20,$AT$15:$BH$120,BK$12+1,FALSE)=1,VLOOKUP($AT20,$AT$15:$BH$120,BK$12+2,FALSE)>1)),VLOOKUP($AT20,$AT$15:$BH$120,BK$12+2,FALSE),\"\")","v":6},6,null,null,null,null,null,null,null,null,null,null,null,null,null,null,null,null,null,null,null,null,null,22,"H","H","B"]
[6,"65=",6,96,"",""," ",null,null,null,null,70,"65=",70,94,"",""," ",null," ",null,null,33,null,38,null,null,null,"P",5,null,1,52,"COUEDEL-COULON Eloan",5,"51",null,0,null,null,null,"TT SAINT JAMES","",null,null,"CARANTILLAISE",null,3,3,3,null,3,6,null,null,null,null,null,null,null,null,{"$error":"#REF!"},"",3,null,null,null,null,null,null,null,null,null,null,null,null,null,null,null,null,null,null,null,null,null,24,"H","H","B"]
[8,"17=",8,32,"",""," ",null,null,null,null,72,"17=",72,30,"",""," "," "," ",null,null,96,null,91,null,null,null,"P",6,null,1,45,"LECLERC Alexandre-Bao",6,"61",null,0,null,null,null,{"$f":"IF(AG22=\"\",\"\",IF(ISNA(VLOOKUP(AG22,Liste_Dos_SPIDD,3,FALSE)),VLOOKUP(AG22,Liste_J,$A$10,FALSE),VLOOKUP(AG22,Liste_Dos_SPIDD,3,FALSE)))","v":"OC AGNEAUX"},"",null,null,"COUTANCES JA",3,3,6,3,3,6,12,null,null,null,null,null,null,null,null,{"$error":"#REF!"},6,6,null,null,null,null,null,null,null,null,null,null,null,null,null,null,null,null,null,null,null,null,null,25,"H","H","B"]
[9,"17=",9,17,"",""," ",null,null,null,null,73,"17=",73,19,"",""," "," "," ",null,null,97,null,102,null,null,null,"P",7,null,1,46,"NICOLLE Augustin",7,"71",null,0,null,null,null,"COUTANCES JA","",null,null,"EQUEURDREVILLE",null,3,3,3,null,3,6,null,null,null,null,null,null,null,null,{"$error":"#REF!"},"",3,null,null,null,null,null,null,null,null,null,null,null,null,null,null,null,null,null,null,null,null,null,27,"H","H","B"]
[11,"65=",11,81,"",""," ",null,null,null,null,75,"65=",75,83,"",""," ",null," ",null,null,32,null,27,null,null,null,"P",8,null,1,48,"NICOLLE Emile",8,"81",null,0,null,null,null,"COUTANCES JA","4/4",null,null,"OC AGNEAUX",3,null,3,null,3,3,6,null,null,null,null,null,null,null,null,{"$error":"#REF!"},3,"",null,null,null,null,null,null,null,null,null,null,null,null,null,null,null,null,null,null,null,null,null,28,"H","H","B"]
[12,"33=",12,48,"",""," ",null,null,null,null,76,"33=",76,46,"",""," "," "," ",null,null,17,null,22,null,null,null,"P",9,null,1,51,"RIPOCHE Nathan",9,"91",null,0,null,null,null,"ST PAIR BRICQUE","3/4",null,null,"SIOUVILLE ATTLC",3,null,3,null,3,3,6,null,null,null,null,null,null,null,null,{"$error":"#REF!"},3,"",null,null,null,null,null,null,null,null,null,null,null,null,null,null,null,null,null,null,null,null,null,29,"H","H","B"]
[13,"33=",13,49,"",""," ",null,null,null,null,77,"33=",77,51,"",""," "," "," ",null,null,112,null,107,null,null,null,"P",10,null,1,58,"PEIN Edgar",10,"101",null,0,null,null,null,"ST PAIR BRICQUE","2/2",null,null,"ST PAIR BRICQUE",3,6,9,6,3,9,18,null,null,null,null,null,null,null,null,{"$error":"#REF!"},9,9,null,null,null,null,null,null,null,null,null,null,null,null,null,null,null,null,null,null,null,null,null,30,"H","H","B"]
[14,"65=",14,80,"",""," ",null,null,null,null,78,"65=",78,78,"",""," ",null," ",null,null,81,null,86,null,null,null,"P",11,null,1,54,"RICOUX Bastien",11,"111",null,0,null,null,null,"ATTDUCEYAVRANCH","",null,null,"TORIGNAISE ESTT",3,3,6,3,3,6,12,null,null,null,null,null,null,null,null,{"$error":"#REF!"},6,6,null,null,null,null,null,null,null,null,null,null,null,null,null,null,null,null,null,null,null,null,null,32,"H","H","B"]
[16,"9=",16,16,"",""," ",null,null,null,null,80,"9=",80,14,"",""," "," "," ",null,null,48,null,43,null,null,null,"P",12,null,1,55,"ROC Ferdinand",12,"121",null,0,null,null,null,"ATTDUCEYAVRANCH","2/2",null,null,"TT SAINT JAMES",3,3,6,3,3,6,12,null,null,null,null,null,null,null,null,{"$error":"#REF!"},6,6,null,null,null,null,null,null,null,null,null,null,null,null,null,null,null,null,null,null,null,null,null,33,"H","B","B"]
[17,"9=",17,9,"",""," ",null,null,null,null,81,"9=",81,11,"",""," "," "," ",null,null,49,null,54,null,null,null,"P",13,null,1,57,"RIGOT Noe",13,"131",null,0,null,null,null,"CARANTILLAISE","",null,null,"Total général",24,24,48,24,24,48,96,null,null,null,null,null,null,null,null,{"$error":"#REF!"},48,48,null,null,null,null,null,null,null,null,null,null,null,null,null,null,null,null,null,null,null,null,null,35,"H","B","B"]
[19,"65=",19,73,"",""," ",null,null,null,null,83,"65=",83,75,"",""," ",null," ",null,null,80,null,75,null,null,null,"P",14,null,1,53,"MASSELINE Malo",14,"141",null,0,null,null,null,"TORIGNAISE ESTT","",null,null,null,null,null,null,null,null,null,null,null,null,null,null,null,null,null,null,{"$error":"#N/A"},{"$error":"#N/A"},{"$error":"#N/A"},null,null,null,null,null,null,null,null,null,null,null,null,null,null,null,null,null,null,null,null,null,36,"H","B","B"]
[20,"33=",20,56,"",""," ",null,null,null,null,84,"33=",84,54,"",""," "," "," ",null,null,113,null,118,null,null,null,"P",15,null,1,59,"BRILLET Pacome",15,"151",null,0,null,null,null,"TT SAINT JAMES","",null,null,null,null,null,null,null,null,null,null,null,null,null,null,null,null,null,null,{"$error":"#N/A"},{"$error":"#N/A"},{"$error":"#N/A"},null,null,null,null,null,null,null,null,null,null,null,null,null,null,null,null,null,null,null,null,null,37,"H","B","B"]
[21,"33=",21,41,"",""," ",null,null,null,null,85,"33=",85,43,"",""," "," "," ",null,null,16,null,11,null,null,null,"P",16,null,1,56,"VARIN Louis",16,"161",null,0,null,null,null,"TORIGNAISE ESTT","",null,null,null,null,null,null,null,null,null,null,null,null,null,null,null,null,null,null,{"$error":"#N/A"},{"$error":"#N/A"},{"$error":"#N/A"},null,null,null,null,null,null,null,null,null,null,null,null,null,null,null,null,null,null,null,null,null,38,"H","B","B"]
[22,"65=",22,88,"",""," ",null,null,null,null,86,"65=",86,86,"",""," "," "," ",null,null,9,null,14,null,null,null,"P",17,null,1,121,"LUCAS Ifig",17,"171",null,0,null,null,null,"EQUEURDREVILLE","",null,null,null,null,null,null,null,null,null,null,null,null,null,null,null,null,null,null,{"$error":"#N/A"},{"$error":"#N/A"},{"$error":"#N/A"},null,null,null,null,null,null,null,null,null,null,null,null,null,null,null,null,null,null,null,null,null,40,"H","B","B"]
[24,"17=",24,24,"",""," ",null,null,null,null,88,"17=",88,22,"",""," "," "," ",null,null,120,null,115,null,null,null,"P",18,null,1,122,"VIDAL Charles",18,"181",null,0,null,null,null,"ASSUN TT","",null,null,null,null,null,null,null,null,null,null,null,null,null,null,null,null,null,null,{"$error":"#N/A"},{"$error":"#N/A"},{"$error":"#N/A"},null,null,null,null,null,null,null,null,null,null,null,null,null,null,null,null,null,null,null,null,null,41,"H","B","B"]
[25,"17=",25,25,"",""," ",null,null,null,null,89,"17=",89,27,"",""," ",null,null,null,null,73,null,78,null,null,null,"P",19,null,1,123,"ROBION Paul",19,"191",null,0,null,null,null,"SIOUVILLE ATTLC","",null,null,null,null,null,null,null,null,null,null,null,null,null,null,null,null,null,null,{"$error":"#N/A"},{"$error":"#N/A"},{"$error":"#N/A"},null,null,null,null,null,null,null,null,null,null,null,null,null,null,null,null,null,null,null,null,null,43,"H","B","B"]
[27,"65=",27,89,"",""," ",null,null,null,null,91,"65=",91,91,"",""," "," "," ",null,null,56,null,51,null,null,null,"P",20,null,1,124,"LEVILLAIN Camille",20,"201",null,0,null,null,null,"ST PAIR BRICQUE","",null,null,null,null,null,null,null,null,null,null,null,null,null,null,null,null,null,null,{"$error":"#N/A"},{"$error":"#N/A"},{"$error":"#N/A"},null,null,null,null,null,null,null,null,null,null,null,null,null,null,null,null,null,null,null,null,null,44,"H","B","B"]
[28,"33=",28,40,"",""," ",null,null,null,null,92,"33=",92,38,"",""," "," "," ",null,null,41,null,46,null,null,null,"P",21,null,1,125,"COUEDEL-COULON Eloan",21,"211",null,0,null,null,null,"TT SAINT JAMES","",null,null,null,null,null,null,null,null,null,null,null,null,null,null,null,null,null,null,{"$error":"#N/A"},{"$error":"#N/A"},{"$error":"#N/A"},null,null,null,null,null,null,null,null,null,null,null,null,null,null,null,null,null,null,null,null,null,45,"H","B","B"]
[29,"33=",29,57,"",""," ",null,null,null,null,93,"33=",93,59,"",""," ",null,null,null,null,88,null,83,null,null,null,"P",22,null,1,126,"LECLERC Alexandre-Bao",22,"221",null,0,null,null,null,"OC AGNEAUX","",null,null,null,null,null,null,null,null,null,null,null,null,null,null,null,null,null,null,{"$error":"#N/A"},{"$error":"#N/A"},{"$error":"#N/A"},null,null,null,null,null,null,null,null,null,null,null,null,null,null,null,null,null,null,null,null,null,46,"H","B","B"]
[30,"65=",30,72,"",""," ",null,null,null,null,94,"65=",94,70,"",""," "," "," ",null,null,105,null,110,null,null,null,"P",23,null,1,127,"NICOLLE Augustin",23,"231",null,0,null,null,null,"COUTANCES JA","",null,null,null,null,null,null,null,null,null,null,null,null,null,null,null,null,null,null,{"$error":"#N/A"},{"$error":"#N/A"},{"$error":"#N/A"},null,null,null,null,null,null,null,null,null,null,null,null,null,null,null,null,null,null,null,null,null,48,"H","B","B"]
[32,"5=",32,8,"",""," ",null,null,null,null,96,"5=",96,6,"",""," "," "," ",null,null,24,null,19,null,null,null,"P",24,null,1,128,"NICOLLE Emile",24,"241",null,0,null,null,null,"COUTANCES JA","",null,null,null,null,null,null,null,null,null,null,null,null,null,null,null,null,null,null,{"$error":"#N/A"},{"$error":"#N/A"},{"$error":"#N/A"},null,null,null,null,null,null,null,null,null,null,null,null,null,null,null,null,null,null,null,null,null,49,"H","B","B"]
[33,"5=",33,5,"",""," ",null,null,null,null,97,"5=",97,7,"",""," "," "," ",null,null,25,null,30,null,null,null,"P",25,null,1,129,"RIPOCHE Nathan",25,"251",null,0,null,null,null,"ST PAIR BRICQUE","",null,null,null,null,null,null,null,null,null,null,null,null,null,null,null,null,null,null,{"$error":"#N/A"},{"$error":"#N/A"},{"$error":"#N/A"},null,null,null,null,null,null,null,null,null,null,null,null,null,null,null,null,null,null,null,null,null,51,"H","B","B"]
[35,"65=",35,69,"",""," ",null,null,null,null,99,"65=",99,71,"",""," ",null," ",null,null,104,null,99,null,null,null,"P",26,null,1,130,"PEIN Edgar",26,"261",null,0,null,null,null,"ST PAIR BRICQUE","",null,null,null,null,null,null,null,null,null,null,null,null,null,null,null,null,null,null,{"$error":"#N/A"},{"$error":"#N/A"},{"$error":"#N/A"},null,null,null,null,null,null,null,null,null,null,null,null,null,null,null,null,null,null,null,null,null,52,"H","B","B"]
[36,"33=",36,60,"",""," ",null,null,null,null,100,"33=",100,58,"",""," "," "," ",null,null,89,null,94,null,null,null,"P",27,null,1,131,"RICOUX Bastien",27,"271",null,0,null,null,null,"ATTDUCEYAVRANCH","",null,null,null,null,null,null,null,null,null,null,null,null,null,null,null,null,null,null,{"$error":"#N/A"},{"$error":"#N/A"},{"$error":"#N/A"},null,null,null,null,null,null,null,null,null,null,null,null,null,null,null,null,null,null,null,null,null,53,"H","B","B"]
[37,"33=",37,37,"",""," ",null,null,null,null,101,"33=",101,39,"",""," "," "," ",null,null,40,null,35,null,null,null,"P",28,null,1,132,"ROC Ferdinand",28,"281",null,0,null,null,null,"ATTDUCEYAVRANCH","",null,null,null,null,null,null,null,null,null,null,null,null,null,null,null,null,null,null,{"$error":"#N/A"},{"$error":"#N/A"},{"$error":"#N/A"},null,null,null,null,null,null,null,null,null,null,null,null,null,null,null,null,null,null,null,null,null,54,"H","B","B"]
[38,"65=",38,92,"",""," ",null,null,null,null,102,"65=",102,90,"",""," ",null," ",null,null,57,null,62,null,null,null,"P",29,null,1,133,"RIGOT Noe",29,"291",null,0,null,null,null,"CARANTILLAISE","",null,null,null,null,null,null,null,null,null,null,null,null,null,null,null,null,null,null,{"$error":"#N/A"},{"$error":"#N/A"},{"$error":"#N/A"},null,null,null,null,null,null,null,null,null,null,null,null,null,null,null,null,null,null,null,null,null,56,"H","B","B"]
[40,"17=",40,28,"",""," ",null,null,null,null,104,"17=",104,26,"",""," "," "," ",null,null,72,null,67,null,null,null,"P",30,null,1,134,"MASSELINE Malo",30,"301",null,0,null,null,null,"TORIGNAISE ESTT","",null,null,null,null,null,null,null,null,null,null,null,null,null,null,null,null,null,null,{"$error":"#N/A"},{"$error":"#N/A"},{"$error":"#N/A"},null,null,null,null,null,null,null,null,null,null,null,null,null,null,null,null,null,null,null,null,null,57,"H","B","B"]
[41,"17=",41,21,"",""," ",null,null,null,null,105,"17=",105,23,"",""," "," "," ",null,null,121,null,126,null,null,null,"P",31,null,1,135,"BRILLET Pacome",31,"311",null,0,null,null,null,"TT SAINT JAMES","",null,null,null,null,null,null,null,null,null,null,null,null,null,null,null,null,null,null,{"$error":"#N/A"},{"$error":"#N/A"},{"$error":"#N/A"},null,null,null,null,null,null,null,null,null,null,null,null,null,null,null,null,null,null,null,null,null,59,"H","B","B"]
[43,"65=",43,85,"",""," ",null,null,null,null,107,"65=",107,87,"",""," ",null," ",null,null,8,null,3,null,null,null,"P",32,null,1,136,"VARIN Louis",32,"321",null,0,null,null,null,"TORIGNAISE ESTT","",null,null,null,null,null,null,null,null,null,null,null,null,null,null,null,null,null,null,{"$error":"#N/A"},{"$error":"#N/A"},{"$error":"#N/A"},null,null,null,null,null,null,null,null,null,null,null,null,null,null,null,null,null,null,null,null,null,60,"H","B","B"]
[44,"33=",44,44,"",""," ",null,null,null,null,108,"33=",108,42,"",""," "," "," ",null,null,5,null,4,null,null,null,"P",33,null,1,901,"Exempt",33,"331",null,0,null,null,null," ","",null,null,null,null,null,null,null,null,null,null,null,null,null,null,null,null,null,null,{"$error":"#N/A"},{"$error":"#N/A"},{"$error":"#N/A"},null,null,null,null,null,null,null,null,null,null,null,null,null,null,null,null,null,null,null,null,null,61,"H","B","B"]
[45,"33=",45,53,"",""," ",null,null,null,null,109,"33=",109,55,"",""," "," "," ",null,null,124,null,125,null,null,null,"P",34,null,1,901,"Exempt",34,"341",null,0,null,null,null," ","",null,null,null,null,null,null,null,null,null,null,null,null,null,null,null,null,null,null,{"$error":"#N/A"},{"$error":"#N/A"},{"$error":"#N/A"},null,null,null,null,null,null,null,null,null,null,null,null,null,null,null,null,null,null,null,null,null,62,"H","B","B"]
[46,"65=",46,76,"",""," ",null,null,null,null,110,"65=",110,74,"",""," ",null," ",null,null,69,null,68,null,null,null,"P",35,null,1,901,"Exempt",35,"351",null,0,null,null,null," ","",null,null,null,null,null,null,null,null,null,null,null,null,null,null,null,null,null,null,{"$error":"#N/A"},{"$error":"#N/A"},{"$error":"#N/A"},null,null,null,null,null,null,null,null,null,null,null,null,null,null,null,null,null,null,null,null,null,64,"H","B","B"]
[48,"9=",48,12,"",""," ",null,null,null,null,112,"9=",112,10,"",""," "," "," ",null,null,60,null,61,null,null,null,"P",36,null,1,901,"Exempt",36,"361",null,0,null,null,null," ","",null,null,null,null,null,null,null,null,null,null,null,null,null,null,null,null,null,null,{"$error":"#N/A"},{"$f":"IF(OR(VLOOKUP($AT52,$AT$15:$BH$120,BK$12+1,FALSE)>1,AND(VLOOKUP($AT52,$AT$15:$BH$120,BK$12+1,FALSE)=1,VLOOKUP($AT52,$AT$15:$BH$120,BK$12+2,FALSE)>1)),VLOOKUP($AT52,$AT$15:$BH$120,BK$12+2,FALSE),\"\")","v":{"$error":"#N/A"}},{"$error":"#N/A"},null,null,null,null,null,null,null,null,null,null,null,null,null,null,null,null,null,null,null,null,null,65,"B","H","H"]
[49,"9=",49,13,"",""," ",null,null,null,null,113,"9=",113,15,"",""," "," "," ",null,null,37,null,36,null,null,null,"P",37,null,1,901,"Exempt",37,"371",null,0,null,null,null," ","",null,null,null,null,null,null,null,null,null,null,null,null,null,null,null,null,null,null,{"$error":"#N/A"},{"$error":"#N/A"},{"$error":"#N/A"},null,null,null,null,null,null,null,null,null,null,null,null,null,null,null,null,null,null,null,null,null,67,"B","H","H"]
[51,"65=",51,77,"",""," ",null,null,null,null,115,"65=",115,79,"",""," ",null," ",null,null,92,null,93,null,null,null,"P",38,null,1,901,"Exempt",38,"381",null,0,null,null,null," ","",null,null,null,null,null,null,null,null,null,null,null,null,null,null,null,null,null,null,{"$error":"#N/A"},{"$error":"#N/A"},{"$error":"#N/A"},null,null,null,null,null,null,null,null,null,null,null,null,null,null,null,null,null,null,null,null,null,68,"B","H","H"]
[52,"33=",52,52,"",""," ",null,null,null,null,116,"33=",116,50,"",""," "," "," ",null,null,101,null,100,null,null,null,"P",39,null,1,901,"Exempt",39,"391",null,0,null,null,null," ","",null,null,null,null,null,null,null,null,null,null,null,null,null,null,null,null,null,null,{"$error":"#N/A"},{"$error":"#N/A"},{"$error":"#N/A"},null,null,null,null,null,null,null,null,null,null,null,null,null,null,null,null,null,null,null,null,null,69,"B","H","H"]
[53,"33=",53,45,"",""," ",null,null,null,null,117,"33=",117,47,"",""," "," "," ",null,null,28,null,29,null,null,null,"P",40,null,1,901,"Exempt",40,"401",null,0,null,null,null," ","",null,null,null,null,null,null,null,null,null,null,null,null,null,null,null,null,null,null,{"$error":"#N/A"},{"$error":"#N/A"},{"$error":"#N/A"},null,null,null,null,null,null,null,null,null,null,null,null,null,null,null,null,null,null,null,null,null,70,"B","H","H"]
[54,"65=",54,84,"",""," ",null,null,null,null,118,"65=",118,82,"",""," "," "," ",null,null,21,null,20,null,null,null,"P",41,null,1,901,"Exempt",41,"411",null,0,null,null,null," ","",null,null,null,null,null,null,null,null,null,null,null,null,null,null,null,null,null,null,{"$error":"#N/A"},{"$error":"#N/A"},{"$error":"#N/A"},null,null,null,null,null,null,null,null,null,null,null,null,null,null,null,null,null,null,null,null,null,72,"B","H","H"]
[56,"17=",56,20,"",""," ",null,null,null,null,120,"17=",120,18,"",""," "," "," ",null,null,108,null,109,null,null,null,"P",42,null,1,901,"Exempt",42,"421",null,0,null,null,null," ","",null,null,null,null,null,null,null,null,null,null,null,null,null,null,null,null,null,null,{"$error":"#N/A"},{"$error":"#N/A"},{"$error":"#N/A"},null,null,null,null,null,null,null,null,null,null,null,null,null,null,null,null,null,null,null,null,null,73,"B","H","H"]
[57,"17=",57,29,"",""," ",null,null,null,null,121,"17=",121,31,"",""," ",null,null,null,null,85,null,84,null,null,null,"P",43,null,1,901,"Exempt",43,"431",null,0,null,null,null," ","",null,null,null,null,null,null,null,null,null,null,null,null,null,null,null,null,null,null,{"$error":"#N/A"},{"$error":"#N/A"},{"$error":"#N/A"},null,null,null,null,null,null,null,null,null,null,null,null,null,null,null,null,null,null,null,null,null,75,"B","H","H"]
[59,"65=",59,93,"",""," ",null,null,null,null,123,"65=",123,95,"",""," "," "," ",null,null,44,null,45,null,null,null,"P",44,null,1,901,"Exempt",44,"441",null,0,null,null,null," ","",null,null,null,null,null,null,null,null,null,null,null,null,null,null,null,null,null,null,{"$error":"#N/A"},{"$error":"#N/A"},{"$error":"#N/A"},null,null,null,null,null,null,null,null,null,null,null,null,null,null,null,null,null,null,null,null,null,76,"B","H","H"]
[60,"33=",60,36,"",""," ",null,null,null,null,124,"33=",124,34,"",""," "," "," ",null,null,53,null,52,null,null,null,"P",45,null,1,901,"Exempt",45,"451",null,0,null,null,null," ","",null,null,null,null,null,null,null,null,null,null,null,null,null,null,null,null,null,null,{"$error":"#N/A"},{"$error":"#N/A"},{"$error":"#N/A"},null,null,null,null,null,null,null,null,null,null,null,null,null,null,null,null,null,null,null,null,null,77,"B","H","H"]
[61,"33=",61,61,"",""," ",null,null,null,null,125,"33=",125,63,"",""," ",null,null,null,null,76,null,77,null,null,null,"P",46,null,1,901,"Exempt",46,"461",null,0,null,null,null," ","",null,null,null,null,null,null,null,null,null,null,null,null,null,null,null,null,null,null,{"$error":"#N/A"},{"$error":"#N/A"},{"$error":"#N/A"},null,null,null,null,null,null,null,null,null,null,null,null,null,null,null,null,null,null,null,null,null,78,"B","H","H"]
[62,"65=",62,68,"",""," ",null,null,null,null,126,"65=",126,66,"",""," "," "," ",null,null,117,null,116,null,null,null,"P",47,null,1,901,"Exempt",47,"471",null,0,null,null,null," ","",null,null,null,null,null,null,null,null,null,null,null,null,null,null,null,null,null,null,{"$error":"#N/A"},{"$error":"#N/A"},{"$error":"#N/A"},null,null,null,null,null,null,null,null,null,null,null,null,null,null,null,null,null,null,null,null,null,80,"B","H","H"]
[64,"3=",64,4,"",""," ",null,null,null,null,128,2,128,2,"",""," "," "," ",null,null,12,null,13,null,null,null,"P",48,null,1,901,"Exempt",48,"481",null,0,null,null,null," ","",null,null,null,null,null,null,null,null,null,null,null,null,null,null,null,null,null,null,{"$error":"#N/A"},{"$error":"#N/A"},{"$error":"#N/A"},null,null,null,null,null,null,null,null,null,null,null,null,null,null,null,null,null,null,null,null,null,81,"B","H","H"]
[null,null,null,null,null,null," ",null,null,null,null,null,null,null,null,null,null," ",null,null,null,null,null,null,null,null,null,null,null,null,null,null,null,null,null,null,null,null,null,null,null,null,null,null,null,null,null,null,null,null,null,null,null,null,null,null,null,null,null,null,null,{"$error":"#N/A"},{"$error":"#N/A"},{"$error":"#N/A"},null,null,null,null,null,null,null,null,null,null,null,null,null,null,null,null,null,null,null,null,null,83,"B","H","H"]
[null,null,null,null,null,null," ",null,null,null,null,null,null,null,null,null,null," ",null,null,null,null,null,null,null,null,null,null,null,null,null,null,null,null,null,null,null,null,null,null,null,null,null,null,null,null,null,null,null,null,null,null,null,null,null,null,null,null,null,null,null,{"$error":"#N/A"},{"$error":"#N/A"},{"$error":"#N/A"},null,null,null,null,null,null,null,null,null,null,null,null,null,null,null,null,null,null,null,null,null,84,"B","H","H"]
[null,null,null,null,null,null," ",null,null,null,null,null,null,null,null,null,null," ",null,null,null,null,null,null,null,null,null,null,null,null,null,null,null,null,null,null,null,null,null,null,null,null,null,null,null,null,null,null,null,null,null,null,null,null,null,null,null,null,null,null,null,{"$error":"#N/A"},{"$error":"#N/A"},{"$error":"#N/A"},null,null,null,null,null,null,null,null,null,null,null,null,null,null,null,null,null,null,null,null,null,85,"B","H","H"]
[null,null,null,null,null,null,null,null,null,null,null,null,null,null,null,null,null," ",null,null,null,null,null,null,null,null,null,"2ème de poule",null,null,null,null,null,null,null,null,null,null,null,null,null,null,null,null,null,null,null,null,null,null,null,null,null,null,null,null,null,null,null,null,null,{"$error":"#N/A"},{"$error":"#N/A"},{"$error":"#N/A"},null,null,null,null,null,null,null,null,null,null,null,null,null,null,null,null,null,null,null,null,null,86,"B","H","H"]
[null,null,null,null,null,null,null,null,null,null,null,null,null,null,null,null,null," ",null,null,null,null,null,null,null,null,null,null,"Pl","x","TAS","N°","Dos","NOM Prénom","Rang","SPIDD","a","1/2 T","1/4 T","c","d","Club, Comité ou Ligue","N° Club",null,null,null,null,null,null,null,null,null,null,null,null,null,null,null,null,null,null,{"$error":"#N/A"},{"$error":"#N/A"},{"$error":"#N/A"},null,null,null,null,null,null,null,null,null,null,null,null,null,null,null,null,null,null,null,null,null,88,"B","H","H"]
[null,null,null,null,null,null,null,null,null,null,null,null,null,null,null,null,null," ",null,null,null,null,null,null,null,null,null,null,"P",1,null,2,{"$f":"IF(ISNA(VLOOKUP(AJ70,Liste_SPIDD,2,FALSE)),901,VLOOKUP(AJ70,Liste_SPIDD,2,FALSE))","v":201},{"$f":"IF(AG70=\"\",\"\",IF(ISNA(VLOOKUP(AG70,Liste_Dos_SPIDD,2,FALSE)),VLOOKUP(AG70,Liste_J,3,FALSE),VLOOKUP(AG70,Liste_Dos_SPIDD,2,FALSE)))","v":"LUCAS Ifig"},49,{"$f":"AD70&AF70","v":"12"},null,{"$f":"IF(AL17=\"H\",\"B\",IF(AL17=\"B\",\"H\",\"\"))","v":""},null,null,null,{"$f":"IF(AG70=\"\",\"\",IF(ISNA(VLOOKUP(AG70,Liste_Dos_SPIDD,3,FALSE)),VLOOKUP(AG70,Liste_J,$A$10,FALSE),VLOOKUP(AG70,Liste_Dos_SPIDD,3,FALSE)))","v":"EQUEURDREVILLE"},{"$f":"IF(ISERROR(VLOOKUP(AP70,$AT$13:$BL$145,18,FALSE)),\"\",IF(AL70=\"H\",VLOOKUP(AP70,$AT$13:$BL$145,18,FALSE),IF(AL70=\"B\",VLOOKUP(AP70,$AT$13:$BL$145,19,FALSE),\"\")))","v":""},null,null,null,null,null,null,null,null,null,null,null,null,null,null,null,null,null,null,{"$error":"#N/A"},{"$error":"#N/A"},{"$error":"#N/A"},null,null,null,null,null,null,null,null,null,null,null,null,null,null,null,null,null,null,null,null,null,89,"B","H","H"]
[null,null,null,null,null,null,null,null,null,null,null,null,null,null,null,null,null," ",null,null,null,null,null,null,null,null,null,null,"P",2,null,2,202,"VIDAL Charles",50,{"$f":"AD71&AF71","v":"22"},null,"",null,null,null,"ASSUN TT","",null,null,null,null,null,null,null,null,null,null,null,null,null,null,null,null,null,null,{"$error":"#N/A"},{"$error":"#N/A"},{"$error":"#N/A"},null,null,null,null,null,null,null,null,null,null,null,null,null,null,null,null,null,null,null,null,null,91,"B","H","H"]
[null,null,null,null,null,null,null,null,null,null,null,null,null,null,null,null,null," ",null,null,null,null,null,null,null,null,null,null,"P",3,null,2,203,"ROBION Paul",51,"32",null,"",null,null,null,"SIOUVILLE ATTLC","",null,null,null,null,null,null,null,null,null,null,null,null,null,null,null,null,null,null,{"$error":"#N/A"},{"$error":"#N/A"},{"$error":"#N/A"},null,null,null,null,null,null,null,null,null,null,null,null,null,null,null,null,null,null,null,null,null,92,"B","H","H"]
[null,null,null,null,null,null,null,null,null,null,null,null,null,null,null,null,null," ",null,null,null,null,null,null,null,null,null,null,"P",4,null,2,204,"LEVILLAIN Camille",52,"42",null,"",null,null,null,"ST PAIR BRICQUE","",null,null,null,null,null,null,null,null,null,null,null,null,null,null,null,null,null,null,{"$error":"#N/A"},{"$error":"#N/A"},{"$error":"#N/A"},null,null,null,null,null,null,null,null,null,null,null,null,null,null,null,null,null,null,null,null,null,93,"B","H","H"]
[null,null,null,null,null,null,null,null,null,null,null,null,null,null,null,null,null," ",null,null,null,null,null,null,null,null,null,null,"P",5,null,2,205,"COUEDEL-COULON Eloan",53,"52",null,"",null,null,null,"TT SAINT JAMES","",null,null,null,null,null,null,null,null,null,null,null,null,null,null,null,null,null,null,{"$error":"#N/A"},{"$error":"#N/A"},{"$error":"#N/A"},null,null,null,null,null,null,null,null,null,null,null,null,null,null,null,null,null,null,null,null,null,94,"B","H","H"]
[null,null,null,null,null,null,null,null,null,null,null,null,null,null,null,null,null," ",null,null,null,null,null,null,null,null,null,null,"P",6,null,2,206,"LECLERC Alexandre-Bao",54,"62",null,"",null,null,null,"OC AGNEAUX","",null,null,null,null,null,null,null,null,null,null,null,null,null,null,null,null,null,null,{"$error":"#N/A"},{"$error":"#N/A"},{"$error":"#N/A"},null,null,null,null,null,null,null,null,null,null,null,null,null,null,null,null,null,null,null,null,null,96,"B","H","H"]
[null,null,null,null,null,null,null,null,null,null,null,null,null,null,null,null,null," ",null,null,null,null,null,null,null,null,null,null,"P",7,null,2,207,"NICOLLE Augustin",55,"72",null,"",null,null,null,"COUTANCES JA","",null,null,null,null,null,null,null,null,null,null,null,null,null,null,null,null,null,null,{"$error":"#N/A"},{"$error":"#N/A"},{"$error":"#N/A"},null,null,null,null,null,null,null,null,null,null,null,null,null,null,null,null,null,null,null,null,null,97,"B","B","H"]
[null,null,null,null,null,null,null,null,null,null,null,null,null,null,null,null,null," ",null,null,null,null,null,null,null,null,null,null,"P",8,null,2,208,"NICOLLE Emile",56,"82",null,"",null,null,null,"COUTANCES JA","",null,null,null,null,null,null,null,null,null,null,null,null,null,null,null,null,null,null,{"$error":"#N/A"},{"$error":"#N/A"},{"$error":"#N/A"},null,null,null,null,null,null,null,null,null,null,null,null,null,null,null,null,null,null,null,null,null,99,"B","B","H"]
[null,null,null,null,null,null,null,null,null,null,null,null,null,null,null,null,null," ",null,null,null,null,null,null,null,null,null,null,"P",9,null,2,209,"RIPOCHE Nathan",57,"92",null,"",null,null,null,"ST PAIR BRICQUE","",null,null,null,null,null,null,null,null,null,null,null,null,null,null,null,null,null,null,{"$error":"#N/A"},{"$error":"#N/A"},{"$error":"#N/A"},null,null,null,null,null,null,null,null,null,null,null,null,null,null,null,null,null,null,null,null,null,100,"B","B","H"]
[null,null,null,null,null,null,null,null,null,null,null,null,null,null,null,null,null," ",null,null,null,null,null,null,null,null,null,null,"P",10,null,2,210,"PEIN Edgar",58,"102",null,"",null,null,null,"ST PAIR BRICQUE","",null,null,null,null,null,null,null,null,null,null,null,null,null,null,null,null,null,null,{"$error":"#N/A"},{"$error":"#N/A"},{"$error":"#N/A"},null,null,null,null,null,null,null,null,null,null,null,null,null,null,null,null,null,null,null,null,null,101,"B","B","H"]
[null,null,null,null,null,null,null,null,null,null,null,null,null,null,null,null,null," ",null,null,null,null,null,null,null,null,null,null,"P",11,null,2,211,"RICOUX Bastien",59,"112",null,"",null,null,null,"ATTDUCEYAVRANCH","",null,null,null,null,null,null,null,null,null,null,null,null,null,null,null,null,null,null,{"$error":"#N/A"},{"$error":"#N/A"},{"$error":"#N/A"},null,null,null,null,null,null,null,null,null,null,null,null,null,null,null,null,null,null,null,null,null,102,"B","B","H"]
[null,null,null,null,null,null,null,null,null,null,null,null,null,null,null,null,null," ",null,null,null,null,null,null,null,null,null,null,"P",12,null,2,212,"ROC Ferdinand",60,"122",null,"",null,null,null,"ATTDUCEYAVRANCH","",null,null,null,null,null,null,null,null,null,null,null,null,null,null,null,null,null,null,{"$error":"#N/A"},{"$error":"#N/A"},{"$error":"#N/A"},null,null,null,null,null,null,null,null,null,null,null,null,null,null,null,null,null,null,null,null,null,104,"B","B","H"]
[null,null,null,null,null,null,null,null,null,null,null,null,null,null,null,null,null," ",null,null,null,null,null,null,null,null,null,null,"P",13,null,2,213,"RIGOT Noe",61,"132",null,"",null,null,null,"CARANTILLAISE","",null,null,null,null,null,null,null,null,null,null,null,null,null,null,null,null,null,null,{"$error":"#N/A"},{"$error":"#N/A"},{"$error":"#N/A"},null,null,null,null,null,null,null,null,null,null,null,null,null,null,null,null,null,null,null,null,null,105,"B","B","H"]
[null,null,null,null,null,null,null,null,null,null,null,null,null,null,null,null,null," ",null,null,null,null,null,null,null,null,null,null,"P",14,null,2,214,"MASSELINE Malo",62,"142",null,"",null,null,null,"TORIGNAISE ESTT","",null,null,null,null,null,null,null,null,null,null,null,null,null,null,null,null,null,null,{"$error":"#N/A"},{"$error":"#N/A"},{"$error":"#N/A"},null,null,null,null,null,null,null,null,null,null,null,null,null,null,null,null,null,null,null,null,null,107,"B","B","H"]
[null,null,null,null,null,null,null,null,null,null,null,null,null,null,null,null,null," ",null,null,null,null,null,null,null,null,null,null,"P",15,null,2,215,"BRILLET Pacome",63,"152",null,"",null,null,null,"TT SAINT JAMES","",null,null,null,null,null,null,null,null,null,null,null,null,null,null,null,null,null,null,{"$f":"IF(VLOOKUP($AT84,$AT$15:$BH$120,BJ$12,FALSE)>1,VLOOKUP($AT84,$AT$15:$BH$120,BJ$12,FALSE),\"\")","v":{"$error":"#N/A"}},{"$f":"IF(OR(VLOOKUP($AT84,$AT$15:$BH$120,BK$12+1,FALSE)>1,AND(VLOOKUP($AT84,$AT$15:$BH$120,BK$12+1,FALSE)=1,VLOOKUP($AT84,$AT$15:$BH$120,BK$12+2,FALSE)>1)),VLOOKUP($AT84,$AT$15:$BH$120,BK$12+2,FALSE),\"\")","v":{"$error":"#N/A"}},{"$error":"#N/A"},null,null,null,null,null,null,null,null,null,null,null,null,null,null,null,null,null,null,null,null,null,108,"B","B","H"]
[null,null,null,null,null,null,null,null,null,null,null,null,null,null,null,null,null," ",null,null,null,null,null,null,null,null,null,null,"P",16,null,2,216,"VARIN Louis",64,"162",null,"",null,null,null,"TORIGNAISE ESTT","",null,null,null,null,null,null,null,null,null,null,null,null,null,null,null,null,null,null,{"$error":"#N/A"},{"$error":"#N/A"},{"$error":"#N/A"},null,null,null,null,null,null,null,null,null,null,null,null,null,null,null,null,null,null,null,null,null,109,"B","B","H"]
[null,null,null,null,null,null,null,null,null,null,null,null,null,null,null,null,null," ",null,null,null,null,null,null,null,null,null,null,"P",17,null,2,217,"LUCAS Ifig",65,"172",null,"",null,null,null,"EQUEURDREVILLE","",null,null,null,null,null,null,null,null,null,null,null,null,null,null,null,null,null,null,{"$error":"#N/A"},{"$error":"#N/A"},{"$error":"#N/A"},null,null,null,null,null,null,null,null,null,null,null,null,null,null,null,null,null,null,null,null,null,110,"B","B","H"]
[null,null,null,null,null,null,null,null,null,null,null,null,null,null,null,null,null," ",null,null,null,null,null,null,null,null,null,null,"P",18,null,2,218,"VIDAL Charles",66,"182",null,"",null,null,null,"ASSUN TT","",null,null,null,null,null,null,null,null,null,null,null,null,null,null,null,null,null,null,{"$error":"#N/A"},{"$error":"#N/A"},{"$error":"#N/A"},null,null,null,null,null,null,null,null,null,null,null,null,null,null,null,null,null,null,null,null,null,112,"B","B","H"]
[null,null,null,null,null,null,null,null,null,null,null,null,null,null,null,null,null," ",null,null,null,null,null,null,null,null,null,null,"P",19,null,2,219,"ROBION Paul",67,"192",null,"",null,null,null,"SIOUVILLE ATTLC","",null,null,null,null,null,null,null,null,null,null,null,null,null,null,null,null,null,null,{"$error":"#N/A"},{"$error":"#N/A"},{"$error":"#N/A"},null,null,null,null,null,null,null,null,null,null,null,null,null,null,null,null,null,null,null,null,null,113,"B","B","H"]
[null,null,null,null,null,null,null,null,null,null,null,null,null,null,null,null,null," ",null,null,null,null,null,null,null,null,null,null,"P",20,null,2,220,"LEVILLAIN Camille",68,"202",null,"",null,null,null,"ST PAIR BRICQUE","",null,null,null,null,null,null,null,null,null,null,null,null,null,null,null,null,null,null,{"$error":"#N/A"},{"$error":"#N/A"},{"$error":"#N/A"},null,null,null,null,null,null,null,null,null,null,null,null,null,null,null,null,null,null,null,null,null,115,"B","B","H"]
[null,null,null,null,null,null,null,null,null,null,null,null,null,null,null,null,null," ",null,null,null,null,null,null,null,null,null,null,"P",21,null,2,221,"COUEDEL-COULON Eloan",69,"212",null,"",null,null,null,"TT SAINT JAMES","",null,null,null,null,null,null,null,null,null,null,null,null,null,null,null,null,null,null,{"$error":"#N/A"},{"$error":"#N/A"},{"$error":"#N/A"},null,null,null,null,null,null,null,null,null,null,null,null,null,null,null,null,null,null,null,null,null,116,"B","B","H"]
[null,null,null,null,null,null,null,null,null,null,null,null,null,null,null,null,null," ",null,null,null,null,null,null,null,null,null,null,"P",22,null,2,222,"LECLERC Alexandre-Bao",70,"222",null,"",null,null,null,"OC AGNEAUX","",null,null,null,null,null,null,null,null,null,null,null,null,null,null,null,null,null,null,{"$error":"#N/A"},{"$error":"#N/A"},{"$error":"#N/A"},null,null,null,null,null,null,null,null,null,null,null,null,null,null,null,null,null,null,null,null,null,117,"B","B","H"]
[null,null,null,null,null,null,null,null,null,null,null,null,null,null,null,null,null,null,null,null,null,null,null,null,null,null,null,null,"P",23,null,2,223,"NICOLLE Augustin",71,"232",null,"",null,null,null,"COUTANCES JA","",null,null,null,null,null,null,null,null,null,null,null,null,null,null,null,null,null,null,{"$error":"#N/A"},{"$error":"#N/A"},{"$error":"#N/A"},null,null,null,null,null,null,null,null,null,null,null,null,null,null,null,null,null,null,null,null,null,118,"B","B","H"]
[null,null,null,null,null,null,null,null,null,null,null,null,null,null,null,null,null,null,null,null,null,null,null,null,null,null,null,null,"P",24,null,2,224,"NICOLLE Emile",72,"242",null,"",null,null,null,"COUTANCES JA","",null,null,null,null,null,null,null,null,null,null,null,null,null,null,null,null,null,null,{"$error":"#N/A"},{"$error":"#N/A"},{"$error":"#N/A"},null,null,null,null,null,null,null,null,null,null,null,null,null,null,null,null,null,null,null,null,null,120,"B","B","H"]
[null,null,null,null,null,null,null,null,null,null,null,null,null,null,null,null,null,null,null,null,null,null,null,null,null,null,null,null,"P",25,null,2,225,"RIPOCHE Nathan",73,"252",null,"",null,null,null,"ST PAIR BRICQUE","",null,null,null,null,null,null,null,null,null,null,null,null,null,null,null,null,null,null,{"$error":"#N/A"},{"$error":"#N/A"},{"$error":"#N/A"},null,null,null,null,null,null,null,null,null,null,null,null,null,null,null,null,null,null,null,null,null,121,"B","B","H"]
[null,null,null,null,null,null,null,null,null,null,null,null,null,null,null,null,null,null,null,null,null,null,null,null,null,null,null,null,"P",26,null,2,226,"PEIN Edgar",74,"262",null,"",null,null,null,"ST PAIR BRICQUE","",null,null,null,null,null,null,null,null,null,null,null,null,null,null,null,null,null,null,{"$error":"#N/A"},{"$error":"#N/A"},{"$error":"#N/A"},null,null,null,null,null,null,null,null,null,null,null,null,null,null,null,null,null,null,null,null,null,123,"B","B","H"]
[null,null,null,null,null,null,null,null,null,null,null,null,null,null,null,null,null,null,null,null,null,null,null,null,null,null,null,null,"P",27,null,2,227,"RICOUX Bastien",75,"272",null,"",null,null,null,"ATTDUCEYAVRANCH","",null,null,null,null,null,null,null,null,null,null,null,null,null,null,null,null,null,null,{"$error":"#N/A"},{"$error":"#N/A"},{"$error":"#N/A"},null,null,null,null,null,null,null,null,null,null,null,null,null,null,null,null,null,null,null,null,null,124,"B","B","H"]
[null,null,null,null,null,null,null,null,null,null,null,null,null,null,null,null,null,null,null,null,null,null,null,null,null,null,null,null,"P",28,null,2,228,"ROC Ferdinand",76,"282",null,"",null,null,null,"ATTDUCEYAVRANCH","",null,null,null,null,null,null,null,null,null,null,null,null,null,null,null,null,null,null,{"$error":"#N/A"},{"$error":"#N/A"},{"$error":"#N/A"},null,null,null,null,null,null,null,null,null,null,null,null,null,null,null,null,null,null,null,null,null,125,"B","B","H"]
[null,null,null,null,null,null,null,null,null,null,null,null,null,null,null,null,null,null,null,null,null,null,null,null,null,null,null,null,"P",29,null,2,229,"RIGOT Noe",77,"292",null,"",null,null,null,"CARANTILLAISE","",null,null,null,null,null,null,null,null,null,null,null,null,null,null,null,null,null,null,{"$error":"#N/A"},{"$error":"#N/A"},{"$error":"#N/A"},null,null,null,null,null,null,null,null,null,null,null,null,null,null,null,null,null,null,null,null,null,126,"B","B","H"]
[null,null,null,null,null,null,null,null,null,null,null,null,null,null,null,null,null,null,null,null,null,null,null,null,null,null,null,null,"P",30,null,2,230,"MASSELINE Malo",78,"302",null,"",null,null,null,"TORIGNAISE ESTT","",null,null,null,null,null,null,null,null,null,null,null,null,null,null,null,null,null,null,{"$error":"#N/A"},{"$error":"#N/A"},{"$error":"#N/A"},null,null,null,null,null,null,null,null,null,null,null,null,null,null,null,null,null,null,null,null,null,128,"B","B","H"]
[null,null,null,null,null,null,null,null,null,null,null,null,null,null,null,null,null,null,null,null,null,null,null,null,null,null,null,null,"P",31,null,2,231,"BRILLET Pacome",79,"312",null,"",null,null,null,"TT SAINT JAMES","",null,null,null,null,null,null,null,null,null,null,null,null,null,null,null,null,null,null,{"$error":"#N/A"},{"$error":"#N/A"},{"$error":"#N/A"}]
[null,null,null,null,null,null,null,null,null,null,null,null,null,null,null,null,null,null,null,null,null,null,null,null,null,null,null,null,"P",32,null,2,232,"VARIN Louis",80,"322",null,"",null,null,null,"TORIGNAISE ESTT","",null,null,null,null,null,null,null,null,null,null,null,null,null,null,null,null,null,null,{"$error":"#N/A"},{"$error":"#N/A"},{"$error":"#N/A"}]
[null,null,null,null,null,null,null,null,null,null,null,null,null,null,null,null,null,null,null,null,null,null,null,null,null,null,null,null,"P",33,null,2,901,"Exempt",81,"332",null,"",null,null,null," ","",null,null,null,null,null,null,null,null,null,null,null,null,null,null,null,null,null,null,{"$error":"#N/A"},{"$error":"#N/A"},{"$error":"#N/A"}]
[null,null,null,null,null,null,null,null,null,null,null,null,null,null,null,null,null,null,null,null,null,null,null,null,null,null,null,null,"P",34,null,2,901,"Exempt",82,"342",null,"",null,null,null," ","",null,null,null,null,null,null,null,null,null,null,null,null,null,null,null,null,null,null,{"$error":"#N/A"},{"$error":"#N/A"},{"$error":"#N/A"}]
[null,null,null,null,null,null,null,null,null,null,null,null,null,null,null,null,null,null,null,null,null,null,null,null,null,null,null,null,"P",35,null,2,901,"Exempt",83,"352",null,"",null,null,null," ","",null,null,null,null,null,null,null,null,null,null,null,null,null,null,null,null,null,null,{"$error":"#N/A"},{"$error":"#N/A"},{"$error":"#N/A"}]
[null,null,null,null,null,null,null,null,null,null,null,null,null,null,null,null,null,null,null,null,null,null,null,null,null,null,null,null,"P",36,null,2,901,"Exempt",84,"362",null,"",null,null,null," ","",null,null,null,null,null,null,null,null,null,null,null,null,null,null,null,null,null,null,{"$error":"#N/A"},{"$error":"#N/A"},{"$error":"#N/A"}]
[null,null,null,null,null,null,null,null,null,null,null,null,null,null,null,null,null,null,null,null,null,null,null,null,null,null,null,null,"P",37,null,2,901,"Exempt",85,"372",null,"",null,null,null," ","",null,null,null,null,null,null,null,null,null,null,null,null,null,null,null,null,null,null,{"$error":"#N/A"},{"$error":"#N/A"},{"$error":"#N/A"}]
[null,null,null,null,null,null,null,null,null,null,null,null,null,null,null,null,null,null,null,null,null,null,null,null,null,null,null,null,"P",38,null,2,901,"Exempt",86,"382",null,"",null,null,null," ","",null,null,null,null,null,null,null,null,null,null,null,null,null,null,null,null,null,null,{"$error":"#N/A"},{"$error":"#N/A"},{"$error":"#N/A"}]
[null,null,null,null,null,null,null,null,null,null,null,null,null,null,null,null,null,null,null,null,null,null,null,null,null,null,null,null,"P",39,null,2,901,"Exempt",87,"392",null,"",null,null,null," ","",null,null,null,null,null,null,null,null,null,null,null,null,null,null,null,null,null,null,{"$error":"#N/A"},{"$error":"#N/A"},{"$error":"#N/A"}]
[null,null,null,null,null,null,null,null,null,null,null,null,null,null,null,null,null,null,null,null,null,null,null,null,null,null,null,null,"P",40,null,2,901,"Exempt",88,"402",null,"",null,null,null," ","",null,null,null,null,null,null,null,null,null,null,null,null,null,null,null,null,null,null,{"$error":"#N/A"},{"$error":"#N/A"},{"$error":"#N/A"}]
[null,null,null,null,null,null,null,null,null,null,null,null,null,null,null,null,null,null,null,null,null,null,null,null,null,null,null,null,"P",41,null,2,901,"Exempt",89,"412",null,"",null,null,null," ","",null,null,null,null,null,null,null,null,null,null,null,null,null,null,null,null,null,null,{"$error":"#N/A"},{"$error":"#N/A"},{"$error":"#N/A"}]
[null,null,null,null,null,null,null,null,null,null,null,null,null,null,null,null,null,null,null,null,null,null,null,null,null,null,null,null,"P",42,null,2,901,"Exempt",90,"422",null,"",null,null,null," ","",null,null,null,null,null,null,null,null,null,null,null,null,null,null,null,null,null,null,{"$error":"#N/A"},{"$error":"#N/A"},{"$error":"#N/A"}]
[null,null,null,null,null,null,null,null,null,null,null,null,null,null,null,null,null,null,null,null,null,null,null,null,null,null,null,null,"P",43,null,2,901,"Exempt",91,"432",null,"",null,null,null," ","",null,null,null,null,null,null,null,null,null,null,null,null,null,null,null,null,null,null,{"$error":"#N/A"},{"$error":"#N/A"},{"$error":"#N/A"}]
[null,null,null,null,null,null,null,null,null,null,null,null,null,null,null,null,null,null,null,null,null,null,null,null,null,null,null,null,"P",44,null,2,901,"Exempt",92,"442",null,"",null,null,null," ","",null,null,null,null,null,null,null,null,null,null,null,null,null,null,null,null,null,null,{"$error":"#N/A"},{"$error":"#N/A"},{"$error":"#N/A"}]
[null,null,null,null,null,null,null,null,null,null,null,null,null,null,null,null,null,null,null,null,null,null,null,null,null,null,null,null,"P",45,null,2,901,"Exempt",93,"452",null,"",null,null,null," ","",null,null,null,null,null,null,null,null,null,null,null,null,null,null,null,null,null,null,{"$error":"#N/A"},{"$error":"#N/A"},{"$error":"#N/A"}]
[null,null,null,null,null,null,null,null,null,null,null,null,null,null,null,null,null,null,null,null,null,null,null,null,null,null,null,null,"P",46,null,2,901,"Exempt",94,"462",null,"",null,null,null," ","",null,null,null,null,null,null,null,null,null,null,null,null,null,null,null,null,null,null,{"$error":"#N/A"},{"$error":"#N/A"},{"$error":"#N/A"}]
[null,null,null,null,null,null,null,null,null,null,null,null,null,null,null,null,null,null,null,null,null,null,null,null,null,null,null,null,"P",47,null,2,901,"Exempt",95,"472",null,"",null,null,null," ","",null,null,null,null,null,null,null,null,null,null,null,null,null,null,null,null,null,null,{"$error":"#N/A"},{"$error":"#N/A"},{"$error":"#N/A"}]
[null,null,null,null,null,null,null,null,null,null,null,null,null,null,null,null,null,null,null,null,null,null,null,null,null,null,null,null,"P",48,null,2,901,"Exempt",96,"482",null,"",null,null,null," ","",null,null,null,null,null,null,null,null,null,null,null,null,null,null,null,null,null,null,{"$error":"#N/A"},{"$error":"#N/A"},{"$error":"#N/A"}]
[null,null,null,null,null,null,null,null,null,null,null,null,null,null,null,null,null,null,null,null,null,null,null,null,null,null,null,null,null,null,null,null,null,null,null,null,null,null,null,null,null,null,null,null,null,null,null,null,null,null,null,null,null,null,null,null,null,null,null,null,null,{"$error":"#N/A"},{"$error":"#N/A"},{"$error":"#N/A"}]
[null,null,null,null,null,null,null,null,null,null,null,null,null,null,null,null,null,null,null,null,null,null,null,null,null,null,null,null,null,null,null,null,null,null,null,null,null,null,null,null,null,null,null,null,null,null,null,null,null,null,null,null,null,null,null,null,null,null,null,null,null,{"$error":"#N/A"},{"$error":"#N/A"},{"$error":"#N/A"}]
[null,null,null,null,null,null,null,null,null,null,null,null,null,null,null,null,null,null,null,null,null,null,null,null,null,null,null,null,null,null,null,null,null,null,null,null,null,null,null,null,null,null,null,null,null,null,null,null,null,null,null,null,null,null,null,null,null,null,null,null,null,{"$error":"#N/A"},{"$error":"#N/A"},{"$error":"#N/A"}]
[]
[]
[]
[]
[]
[]
[]
[]
[]
[]
[]
[]
[]
[]
[]
[]
[]
[]
[]
[]
[]
[]
[]
[]
[]
[]
[]
[]
[]
[]
[]
[]
[]
[]
[]
[]
[]
[]
[]
[]
[]
[]
[]
[]
[]
[]
[]
[]
[]
[]
[]
[]
[]
[]
[]
[]
[]
[]
[]
[]
[]
[]
[]
[]
[]
[]
[]
[]
[]
[]
[]
[]
[]
[]
[]
[]
[]
[]
[]
[]
[]
[]
[]
[]
[]
[]
[]
[]
[]
[]
[]
[]
[]
[]
[]
[]
[]
[]
[]
[]
[]
[]
[]
[]
[]
[]
[]
[]
[]
[]
[]
[]
[]
[]
[]
[]
[]
[]
[]
[]
[]
[]
[]
[]
[]
[]
[]
[]
[]
[]
[]
[]
[]
[]
[]
[]
[]
[]
[]
[]
[]
[]
[]
[]
[]
[]
[]
[]
[]
[]
[]
[]
[]
[]
[]
[]
[]
[]
[]
[null,null,null,null,null,null,null,null,null,null,null,null,null,null,null,null,null,null,null,null,null,null,null,null,null,null,null,null,null,null,null,null,null,null,null,null,null,null,null,null,null,null,{"$f":"AJ280&\"/\"&AK280","v":"/"}]
[]
[]
[null,null,null,null,null,null,null,null,null,null,null,null,null,null,null,null,null,null,null,null,null,null,null,null,null,null,null,null,null,null,null,null,"Dos","NOM Prénom","x","RC","NC","1/2 T","b","c","d","Club","N° Club"]
[null,null,null,null,null,null,null,null,null,null,null,null,null,null,null,null,null,null,null,null,null,null,null,null,null,null,null,null,null,null,null,null,41,"DESCHAMPS Hugo",24,{"$f":"IF(AP284=AP283,AJ283+1,1)","v":1},{"$f":"COUNTIF($AP$284:$AP$336,AP284)","v":1},null,null,null,null,"4S TOURS T.T.",{"$f":"AJ284&\"/\"&AK284","v":"1/1"}]
[null,null,null,null,null,null,null,null,null,null,null,null,null,null,null,null,null,null,null,null,null,null,null,null,null,null,null,null,null,null,null,null,3,"ANGLES Enzo",6,1,1,null,null,null,null,"A M S L FREJUS","1/1"]
[null,null,null,null,null,null,null,null,null,null,null,null,null,null,null,null,null,null,null,null,null,null,null,null,null,null,null,null,null,null,null,null,5,"BROSSIER Benjamin",13,1,1,null,null,null,null,"ANNECY TT","1/1"]
[null,null,null,null,null,null,null,null,null,null,null,null,null,null,null,null,null,null,null,null,null,null,null,null,null,null,null,null,null,null,null,null,16,"ZHENG Dorian",22,1,2,null,null,null,null,"AS MIRAMAS","1/2"]
[null,null,null,null,null,null,null,null,null,null,null,null,null,null,null,null,null,null,null,null,null,null,null,null,null,null,null,null,null,null,null,null,17,"LAVERGNE Paul",25,2,2,null,null,null,null,"AS MIRAMAS","2/2"]
[null,null,null,null,null,null,null,null,null,null,null,null,null,null,null,null,null,null,null,null,null,null,null,null,null,null,null,null,null,null,null,null,44,"CHAPERON Dylan",38,1,1,null,null,null,null,"ATT HAVRE","1/1"]
[null,null,null,null,null,null,null,null,null,null,null,null,null,null,null,null,null,null,null,null,null,null,null,null,null,null,null,null,null,null,null,null,80,"LAM Nathan",39,1,1,null,null,null,null,"AVION TT","1/1"]
[null,null,null,null,null,null,null,null,null,null,null,null,null,null,null,null,null,null,null,null,null,null,null,null,null,null,null,null,null,null,null,null,53,"PASQUETTE Aurelien",46,1,1,null,null,null,null,"BATT","1/1"]
[null,null,null,null,null,null,null,null,null,null,null,null,null,null,null,null,null,null,null,null,null,null,null,null,null,null,null,null,null,null,null,null,43,"JELLOULI Milhane",35,1,1,null,null,null,null,"BCL OISE TT","1/1"]
[null,null,null,null,null,null,null,null,null,null,null,null,null,null,null,null,null,null,null,null,null,null,null,null,null,null,null,null,null,null,null,null,39,"REUSEAU Louis",45,1,1,null,null,null,null,"BOULOGNE BILLAN","1/1"]
[null,null,null,null,null,null,null,null,null,null,null,null,null,null,null,null,null,null,null,null,null,null,null,null,null,null,null,null,null,null,null,null,63,"COTON Flavien",20,1,2,null,null,null,null,"BRUILLE CTT","1/2"]
[null,null,null,null,null,null,null,null,null,null,null,null,null,null,null,null,null,null,null,null,null,null,null,null,null,null,null,null,null,null,null,null,55,"COTON Adrien",44,2,2,null,null,null,null,"BRUILLE CTT","2/2"]
[null,null,null,null,null,null,null,null,null,null,null,null,null,null,null,null,null,null,null,null,null,null,null,null,null,null,null,null,null,null,null,null,2,"OUAICHE Stephane",4,1,2,null,null,null,null,"CAEN TTC","1/2"]
[null,null,null,null,null,null,null,null,null,null,null,null,null,null,null,null,null,null,null,null,null,null,null,null,null,null,null,null,null,null,null,null,7,"LORENTZ Romain",17,2,2,null,null,null,null,"CAEN TTC","2/2"]
[null,null,null,null,null,null,null,null,null,null,null,null,null,null,null,null,null,null,null,null,null,null,null,null,null,null,null,null,null,null,null,null,77,"NOIRAULT Antoine",36,1,1,null,null,null,null,"C'CHARTRES TT","1/1"]
[null,null,null,null,null,null,null,null,null,null,null,null,null,null,null,null,null,null,null,null,null,null,null,null,null,null,null,null,null,null,null,null,27,"CHOBEAU Clement",30,1,2,null,null,null,null,"CHARLEVILLE MEZ","1/2"]
[null,null,null,null,null,null,null,null,null,null,null,null,null,null,null,null,null,null,null,null,null,null,null,null,null,null,null,null,null,null,null,null,58,"LIU Rundong",48,2,2,null,null,null,null,"CHARLEVILLE MEZ","2/2"]
[null,null,null,null,null,null,null,null,null,null,null,null,null,null,null,null,null,null,null,null,null,null,null,null,null,null,null,null,null,null,null,null,29,"PORET Thibault",12,1,4,null,null,null,null,"ENT ST PIERRE","1/4"]
[null,null,null,null,null,null,null,null,null,null,null,null,null,null,null,null,null,null,null,null,null,null,null,null,null,null,null,null,null,null,null,null,34,"ALCAYDE Guillaume",27,2,4,null,null,null,null,"ENT ST PIERRE","2/4"]
[null,null,null,null,null,null,null,null,null,null,null,null,null,null,null,null,null,null,null,null,null,null,null,null,null,null,null,null,null,null,null,null,51,"BESNIER Celian",29,3,4,null,null,null,null,"ENT ST PIERRE","3/4"]
[null,null,null,null,null,null,null,null,null,null,null,null,null,null,null,null,null,null,null,null,null,null,null,null,null,null,null,null,null,null,null,null,48,"BAECHLER Martin",43,4,4,null,null,null,null,"ENT ST PIERRE","4/4"]
[null,null,null,null,null,null,null,null,null,null,null,null,null,null,null,null,null,null,null,null,null,null,null,null,null,null,null,null,null,null,null,null,21,"RIVOAL Kevin",42,1,1,null,null,null,null,"ISSEENNE E P","1/1"]
[null,null,null,null,null,null,null,null,null,null,null,null,null,null,null,null,null,null,null,null,null,null,null,null,null,null,null,null,null,null,null,null,23,"DOUIN Alexis",32,1,1,null,null,null,null,"LEVALLOIS SPORT","1/1"]
[null,null,null,null,null,null,null,null,null,null,null,null,null,null,null,null,null,null,null,null,null,null,null,null,null,null,null,null,null,null,null,null,33,"RAKOTOARIMANANA Fabio",21,1,2,null,null,null,null,"LMTT","1/2"]
[null,null,null,null,null,null,null,null,null,null,null,null,null,null,null,null,null,null,null,null,null,null,null,null,null,null,null,null,null,null,null,null,20,"DUPONT Bastien",33,2,2,null,null,null,null,"LMTT","2/2"]
[null,null,null,null,null,null,null,null,null,null,null,null,null,null,null,null,null,null,null,null,null,null,null,null,null,null,null,null,null,null,null,null,19,"LEBRUN Felix",1,1,3,null,null,null,null,"MONTPELLIER TT","1/3"]
[null,null,null,null,null,null,null,null,null,null,null,null,null,null,null,null,null,null,null,null,null,null,null,null,null,null,null,null,null,null,null,null,9,"DORR Esteban",5,2,3,null,null,null,null,"MONTPELLIER TT","2/3"]
[null,null,null,null,null,null,null,null,null,null,null,null,null,null,null,null,null,null,null,null,null,null,null,null,null,null,null,null,null,null,null,null,11,"JEAN Gregoire",14,3,3,null,null,null,null,"MONTPELLIER TT","3/3"]
[null,null,null,null,null,null,null,null,null,null,null,null,null,null,null,null,null,null,null,null,null,null,null,null,null,null,null,null,null,null,null,null,8,"PETIOT Jeremy",18,1,2,null,null,null,null,"NICE CAVIGAL TT","1/2"]
[null,null,null,null,null,null,null,null,null,null,null,null,null,null,null,null,null,null,null,null,null,null,null,null,null,null,null,null,null,null,null,null,60,"GILLES Sohan",23,2,2,null,null,null,null,"NICE CAVIGAL TT","2/2"]
[null,null,null,null,null,null,null,null,null,null,null,null,null,null,null,null,null,null,null,null,null,null,null,null,null,null,null,null,null,null,null,null,18,"MENAND Remi",31,1,1,null,null,null,null,"PONTAULT UMS TT","1/1"]
[null,null,null,null,null,null,null,null,null,null,null,null,null,null,null,null,null,null,null,null,null,null,null,null,null,null,null,null,null,null,null,null,4,"BOULOUSSA Mehdi",3,1,2,null,null,null,null,"PONTOISE-CERGY","1/2"]
[null,null,null,null,null,null,null,null,null,null,null,null,null,null,null,null,null,null,null,null,null,null,null,null,null,null,null,null,null,null,null,null,89,"MOURIER Flavio",47,2,2,null,null,null,null,"PONTOISE-CERGY","2/2"]
[null,null,null,null,null,null,null,null,null,null,null,null,null,null,null,null,null,null,null,null,null,null,null,null,null,null,null,null,null,null,null,null,22,"CAVAILLE Jules",19,1,1,null,null,null,null,"PPC VILLENEUVE","1/1"]
[null,null,null,null,null,null,null,null,null,null,null,null,null,null,null,null,null,null,null,null,null,null,null,null,null,null,null,null,null,null,null,null,38,"FRUCHART Benjamin",28,1,1,null,null,null,null,"PROVILLE ASL","1/1"]
[null,null,null,null,null,null,null,null,null,null,null,null,null,null,null,null,null,null,null,null,null,null,null,null,null,null,null,null,null,null,null,null,15,"BOURRASSAUD Florian",10,1,1,null,null,null,null,"ROANNE LNTT","1/1"]
[null,null,null,null,null,null,null,null,null,null,null,null,null,null,null,null,null,null,null,null,null,null,null,null,null,null,null,null,null,null,null,null,10,"DE NODREST Leo",7,1,1,null,null,null,null,"ROMAGNE (LA)","1/1"]
[null,null,null,null,null,null,null,null,null,null,null,null,null,null,null,null,null,null,null,null,null,null,null,null,null,null,null,null,null,null,null,null,25,"LLORCA Damien",26,1,2,null,null,null,null,"ROMANS ASPTT","1/2"]
[null,null,null,null,null,null,null,null,null,null,null,null,null,null,null,null,null,null,null,null,null,null,null,null,null,null,null,null,null,null,null,null,30,"MAZAUD Corentin",37,2,2,null,null,null,null,"ROMANS ASPTT","2/2"]
[null,null,null,null,null,null,null,null,null,null,null,null,null,null,null,null,null,null,null,null,null,null,null,null,null,null,null,null,null,null,null,null,1,"ROBINOT Alexandre",2,1,2,null,null,null,null,"SPO ROUEN","1/2"]
[null,null,null,null,null,null,null,null,null,null,null,null,null,null,null,null,null,null,null,null,null,null,null,null,null,null,null,null,null,null,null,null,12,"BARDET Lilian",11,2,2,null,null,null,null,"SPO ROUEN","2/2"]
[null,null,null,null,null,null,null,null,null,null,null,null,null,null,null,null,null,null,null,null,null,null,null,null,null,null,null,null,null,null,null,null,6,"RUIZ Romain",9,1,1,null,null,null,null,"SQY PING","1/1"]
[null,null,null,null,null,null,null,null,null,null,null,null,null,null,null,null,null,null,null,null,null,null,null,null,null,null,null,null,null,null,null,null,42,"KOURAICHI Alexis",15,1,2,null,null,null,null,"ST-DENIS TT93","1/2"]
[null,null,null,null,null,null,null,null,null,null,null,null,null,null,null,null,null,null,null,null,null,null,null,null,null,null,null,null,null,null,null,null,14,"DE SAINTILAN Mathieu",16,2,2,null,null,null,null,"ST-DENIS TT93","2/2"]
[null,null,null,null,null,null,null,null,null,null,null,null,null,null,null,null,null,null,null,null,null,null,null,null,null,null,null,null,null,null,null,null,13,"PICARD Vincent",8,1,1,null,null,null,null,"THORIGNE TT","1/1"]
[null,null,null,null,null,null,null,null,null,null,null,null,null,null,null,null,null,null,null,null,null,null,null,null,null,null,null,null,null,null,null,null,32,"DOYEN Antoine",34,1,2,null,null,null,null,"U.S. VERN","1/2"]
[null,null,null,null,null,null,null,null,null,null,null,null,null,null,null,null,null,null,null,null,null,null,null,null,null,null,null,null,null,null,null,null,36,"PRIME Sebastien",40,2,2,null,null,null,null,"U.S. VERN","2/2"]
[null,null,null,null,null,null,null,null,null,null,null,null,null,null,null,null,null,null,null,null,null,null,null,null,null,null,null,null,null,null,null,null,74,"LAINE-CAMPINO Clement",41,1,1,null,null,null,null,"USM OLIVET TT","1/1"]

{"sheet":"G-296a","index":31,"n_rows":3,"n_cols":49,"rows_kept":3,"cut":false,"hidden":false,"merged":[]}
["Clt",1,2,3,4,5,6,7,8,9,10,11,12,13,14,15,16,17,18,19,20,21,22,23,24,25,26,27,28,29,30,31,32,33,34,35,36,37,38,39,40,41,42,43,44,45,46,47,48]
["1er",{"$f":"'TS-296a'!AE17","v":0},{"$f":"'TS-296a'!AE18","v":0},{"$f":"'TS-296a'!AE19","v":0},{"$f":"'TS-296a'!AE20","v":0},{"$f":"'TS-296a'!AE21","v":0},{"$f":"'TS-296a'!AE22","v":0},{"$f":"'TS-296a'!AE23","v":0},{"$f":"'TS-296a'!AE24","v":0},{"$f":"'TS-296a'!AE25","v":0},{"$f":"'TS-296a'!AE26","v":0},{"$f":"'TS-296a'!AE27","v":0},{"$f":"'TS-296a'!AE28","v":0},{"$f":"'TS-296a'!AE29","v":0},{"$f":"'TS-296a'!AE30","v":0},{"$f":"'TS-296a'!AE31","v":0},{"$f":"'TS-296a'!AE32","v":0},{"$f":"'TS-296a'!AE33","v":0},{"$f":"'TS-296a'!AE34","v":0},{"$f":"'TS-296a'!AE35","v":0},{"$f":"'TS-296a'!AE36","v":0},{"$f":"'TS-296a'!AE37","v":0},{"$f":"'TS-296a'!AE38","v":0},{"$f":"'TS-296a'!AE39","v":0},{"$f":"'TS-296a'!AE40","v":0},{"$f":"'TS-296a'!AE41","v":0},{"$f":"'TS-296a'!AE42","v":0},{"$f":"'TS-296a'!AE43","v":0},{"$f":"'TS-296a'!AE44","v":0},{"$f":"'TS-296a'!AE45","v":0},{"$f":"'TS-296a'!AE46","v":0},{"$f":"'TS-296a'!AE47","v":0},{"$f":"'TS-296a'!AE48","v":0},{"$f":"'TS-296a'!AE49","v":0},{"$f":"'TS-296a'!AE50","v":0},{"$f":"'TS-296a'!AE51","v":0},{"$f":"'TS-296a'!AE52","v":0},{"$f":"'TS-296a'!AE53","v":0},{"$f":"'TS-296a'!AE54","v":0},{"$f":"'TS-296a'!AE55","v":0},{"$f":"'TS-296a'!AE56","v":0},{"$f":"'TS-296a'!AE57","v":0},{"$f":"'TS-296a'!AE58","v":0},{"$f":"'TS-296a'!AE59","v":0},{"$f":"'TS-296a'!AE60","v":0},{"$f":"'TS-296a'!AE61","v":0},{"$f":"'TS-296a'!AE62","v":0},{"$f":"'TS-296a'!AE63","v":0},{"$f":"'TS-296a'!AE64","v":0}]
["2ème",{"$f":"'TS-296a'!AE70","v":0},{"$f":"'TS-296a'!AE71","v":0},{"$f":"'TS-296a'!AE72","v":0},{"$f":"'TS-296a'!AE73","v":0},{"$f":"'TS-296a'!AE74","v":0},{"$f":"'TS-296a'!AE75","v":0},{"$f":"'TS-296a'!AE76","v":0},{"$f":"'TS-296a'!AE77","v":0},{"$f":"'TS-296a'!AE78","v":0},{"$f":"'TS-296a'!AE79","v":0},{"$f":"'TS-296a'!AE80","v":0},{"$f":"'TS-296a'!AE81","v":0},{"$f":"'TS-296a'!AE82","v":0},{"$f":"'TS-296a'!AE83","v":0},{"$f":"'TS-296a'!AE84","v":0},{"$f":"'TS-296a'!AE85","v":0},{"$f":"'TS-296a'!AE86","v":0},{"$f":"'TS-296a'!AE87","v":0},{"$f":"'TS-296a'!AE88","v":0},{"$f":"'TS-296a'!AE89","v":0},{"$f":"'TS-296a'!AE90","v":0},{"$f":"'TS-296a'!AE91","v":0},{"$f":"'TS-296a'!AE92","v":0},{"$f":"'TS-296a'!AE93","v":0},{"$f":"'TS-296a'!AE94","v":0},{"$f":"'TS-296a'!AE95","v":0},{"$f":"'TS-296a'!AE96","v":0},{"$f":"'TS-296a'!AE97","v":0},{"$f":"'TS-296a'!AE98","v":0},{"$f":"'TS-296a'!AE99","v":0},{"$f":"'TS-296a'!AE100","v":0},{"$f":"'TS-296a'!AE101","v":0},{"$f":"'TS-296a'!AE102","v":0},{"$f":"'TS-296a'!AE103","v":0},{"$f":"'TS-296a'!AE104","v":0},{"$f":"'TS-296a'!AE105","v":0},{"$f":"'TS-296a'!AE106","v":0},{"$f":"'TS-296a'!AE107","v":0},{"$f":"'TS-296a'!AE108","v":0},{"$f":"'TS-296a'!AE109","v":0},{"$f":"'TS-296a'!AE110","v":0},{"$f":"'TS-296a'!AE111","v":0},{"$f":"'TS-296a'!AE112","v":0},{"$f":"'TS-296a'!AE113","v":0},{"$f":"'TS-296a'!AE114","v":0},{"$f":"'TS-296a'!AE115","v":0},{"$f":"'TS-296a'!AE116","v":0},{"$f":"'TS-296a'!AE117","v":0}]

{"sheet":"TS-296c","index":32,"n_rows":331,"n_cols":89,"rows_kept":331,"cut":false,"hidden":false,"merged":[[15,22,15,25],[15,78,15,80],[15,81,15,84],[3,0,5,42],[3,46,3,49],[4,48,4,49],[7,0,7,11],[7,22,11,22],[7,24,11,24],[7,29,7,38],[8,29,8,40],[121,27,121,37],[13,27,13,37],[16,78,17,78],[16,79,16,80],[66,27,66,37],[67,27,67,37],[14,27,14,30],[14,45,14,63]]}
[{"$f":"\"Epreuve  : \"&'TS-200'!$C$1","v":"Epreuve  : Critérium Fédéral"},null,null,null,null,null,null,null,null,null,null,null,null,null,null,null,null,null,null,null,null,null,null,null,null,null,null,null,null,null,null,null,null,null,null,null,null,null,null,null,null,null,{"$f":"Lieu","v":"Pont à Mousson"},null,null,"H ou B"]
[{"$f":"\"Tableau : \"&'TS-200'!$C$4","v":"Tableau :  "},null,null,null,null,null,null,null,null,null,null,null,null,null,null,null,null,null,null,null,null,null,null,null,null,null,null,null,null,null,null,null,null,null,null,null,null,null,null,null,null,null,{"$f":"Date","v":"15 au 17 mars 2019"},null,null,"H"]
[null,null,null,null,null,null,null,null,null,null,null,null,null,null,null,null,null,null,null,null,null,null,null,null,null,null,null,null,null,null,null,null,null,null,null,null,null,null,null,null,null,null,null,null,null,"B"]
["TABLEAU DE TIRAGE AU SORT\n96 JOUEURS\n32 poules - 3 qualifiés",null,null,null,null,null,null,null,null,null,null,null,null,null,null,null,null,null,null,null,null,null,null,null,null,null,null,null,null,null,null,null,null,null,null,null,null,null,null,null,null,null,null,{"$f":"+AI4","v":0},{"$f":"COUNTIF(AR:AR,AI4)","v":4},"HH","Bornes TAS",null,null,null,null,null,null,null,null,null,null,null,null,null,null,null,null,null,null,null,null,null,null,null,null,null,null,null,null,null,null,null,null,null,null,null,null,null,null,1,"H","HH","H"]
[null,null,null,null,null,null,null,null,null,null,null,null,null,null,null,null,null,null,null,null,null,null,null,null,null,null,null,null,null,null,null,null,null,null,null,null,null,null,null,null,null,null,null,{"$f":"+AI5","v":0},{"$f":"COUNTIF(AR:AR,AI5)","v":4},"HB","Inf","Sup","Nb joueurs",null,null,null,null,null,null,null,null,null,null,null,null,null,null,null,null,null,null,null,null,null,null,null,null,null,null,null,null,null,null,null,null,null,null,null,null,3,"H","HH","H"]
[null,null,null,null,null,null,null,null,null,null,null,null,null,null,null,null,null,null,null,null,null,null,null,null,null,null,null,null,null,null,null,null,null,null,null,null,null,null,null,null,null,null,null,{"$f":"+AI6","v":0},{"$f":"COUNTIF(AR:AR,AI6)","v":4},"BH",33,64,null,33,null,null,null,null,null,null,null,null,null,null,null,null,null,null,null,null,null,null,null,null,null,null,null,null,null,null,null,null,null,null,null,null,null,null,null,4,"H","HH","H"]
[null,null,null,null,null,null,null,null,null,null,null,null,null,null,null,null,null,null,null,null,null,null,null,null,null,null,null,null,null,null,null,null,null,null,null,null,null,null,null,null,null,null,null,{"$f":"+AI7","v":0},{"$f":"COUNTIF(AR:AR,AI7)","v":4},"BB",null,null,null,null,null,null,null,null,null,null,null,null,null,null,null,null,null,null,null,null,null,null,null,null,null,null,null,null,null,null,null,null,null,null,null,null,null,null,null,5,"H","HH","H"]
["Critère d'appartenance pour la mise en tableau",null,null,null,null,null,null,null,null,null,null,null,null,null,null,"Club",null,null,null,null,null,null,{"$f":"\"Nb \"&AU6&\"/\"&AV6","v":"Nb 33/64"},null,{"$f":"COUNTIF(AB12:AB278,1)","v":0},null,null,null,null,"Club, Comité ou Ligue (tiré au sort)",null,null,null,null,null,null,null,null,null,null,null,"EQUEURDREVILLE",null,null,null,null,null,null,null,null,null,null,null,null,null,null,null,null,null,null,null,null,null,null,null,null,null,null,null,null,null,null,null,null,null,null,null,null,null,null,null,null,null,null,null,6,"H","HH","H"]
[null,null,null,null,"Club",null,null,null,null,null,null,null,null,null,null,null,null,null,null,null,null,null,null,null,null,null,null,null,null,"Partie du tableau tirée au sort (H=Haut, B=Bas)",null,null,null,null,null,null,null,null,null,null,null,"HH",null,null,null,null,null,null,null,null,null,null,null,null,null,null,null,null,null,null,null,null,null,null,null,null,null,null,null,null,null,null,null,null,null,null,null,null,null,null,null,null,null,null,null,8,"H","HH","H"]
[{"$f":"IF(P8=\"Club\",10,IF(P8=\"Ligue\",11,IF(P8=\"Comité\",12,10)))","v":10},null,null,null,"Ligue",null,null,null,null,null,null,null,null,null,null,null,null,null,null,null,null,null,null,null,null,null,null,null,null,null,null,null,null,null,null,null,null,null,null,null,null,null,null,null,null,null,null,null,null,null,null,null,null,null,null,null,null,null,null,null,null,null,null,null,null,null,null,null,null,null,null,null,null,null,null,null,null,null,null,null,null,null,null,null,null,9,"H","HH","H"]
[{"$f":"IF(P8=\"Club\",10,IF(P8=\"Ligue\",11,IF(P8=\"Comité\",12,10)))","v":10},null,null,null,"Comité",null,null,null,null,null,null,null,null,null,null,null,null,null,null,null,null,null,null,null,null,null,null,null,null,null,null,null,null,null,null,null,null,null,null,null,null,null,null,null,null,"Position",null,null,null,null,null,null,null,null,null,null,null,null,null,null,null,null,null,null,null,null,null,null,null,null,null,null,null,null,null,null,null,null,0,"H","B","HH","HB","BH","BB",11,"H","HH","H"]
[null,null,null,null,null,null,null,null,null,null,null,null,null,null,null,null,null,null,null,null,null,null,null,null,null,null,null,null,null,null,null,null,null,null,null,null,null,null,null,null,null,null,null,null,null,"N° colonne TCD"," ",null,null,null,null,null,null,null,null,null,null,null,null,null,null,null,null,null,null,null,null,null,null,null,null,null,null,null,null,null,null,null,{"$f":"MATCH(CA11,$AT$17:$BL$17,0)","v":{"$error":"#N/A"}},{"$f":"MATCH(CB11,$AT$17:$BL$17,0)","v":10},{"$f":"MATCH(CC11,$AT$17:$BL$17,0)","v":2},{"$f":"MATCH(CD11,$AT$18:$BL$18,0)","v":13},{"$f":"MATCH(CE11,$AT$18:$BL$18,0)","v":15},{"$f":"MATCH(CF11,$AT$18:$BL$18,0)","v":7},{"$f":"MATCH(CG11,$AT$18:$BL$18,0)","v":5},12,"H","HH","H"]
[null,null,null,null,null,null,null,null,null,null,null,null,null,null,null,null,null,null,null,null,null,null,null,null,null,null,null,"Y","Pl","x","TAS","N°","Dos","NOM Prénom","Rang","z","a","1/2 T","1/4 T","c","d","Club, Comité ou Ligue","N° Club",{"$f":"+AI13","v":"Rang"},{"$f":"COUNTIF(AR:AR,AI13)","v":1},null,"H",null,null,null,null,null,null,null,null,null,null,null,null,null,null,null,null,null,null,null,null,null,null,null,null,null,null,null,null,null,null,null,null,null,null,null,null,null,null,13,"H","HH","H"]
[null,null,null,null,null,null,null,null,null,null,null,null,null,null,null,null,null,null,null,null,null,null,null,null,null,null,"X",null,null,null,null,null,null,null,null,null,null,null,null,null,null,null,null,null,null,null,"B",null,null,null,null,null,null,null,null,null,null,null,null,null,null,null,null,null,null,null,null,null,null,null,null,null,null,null,null,null,null,null,null,null,null,null,null,null,null,14,"H","HH","H"]
[null,null,null,null,null,null,null,null,null,null,null,null,null,null,null,null,null,null,null,null,null,null,null,null,null,null,null,null,null,null,null,null,"1er de poule",null,null,null,null,null,null,null,null,null," ",null,null,"NB JOUEUR / CLUB",null,null,null,null,null,null,null,null,null,null,null,null,null,null,null,null,null,null,null,null,null,null,null,null,null,null,null,null,null,null,null,null,null,null,null,null,null,null,null,16,"H","HH","H"]
[null,null,null,null,null,null,null,null,null,null,null,null,null,null,null,null,null,null,null,null,null,null,"N° Dispo",null,null,null,null,null,"Pl","x","TAS","N°","Dos","NOM Prénom","Rang","SPIDD","a","1/2 T","1/4 T","c","d","Club, Comité ou Ligue","N° Club",null,null,"NB Club, Comité ou Ligue","1/2 T","1/4 T","N°",null,null,null,null,null,null,null,null,null,null,null,null,null,null,null,null,null,null,null,null,null,null,null,null,null,null,null,null,null,"TAS >1",null,null,"3ème",null,null,null,17,"H","HH","H"]
[1,1,{"$f":"+A17","v":1},1,{"$f":"IF(ISNA(VLOOKUP(C17,$AE$7:$AQ$304,4,FALSE)),\"\",VLOOKUP(C17,$AE$7:$AQ$304,4,FALSE)&\" - \"&VLOOKUP(C17,$AE$7:$AQ$304,12,FALSE))","v":""},{"$f":"IF(ISNA(VLOOKUP(C17,$AE$7:$AQ$304,12,FALSE)),\"\",VLOOKUP(C17,$AE$7:$AQ$304,12,FALSE))","v":""}," ",null,null,null,null,65,"3=",{"$f":"+L17","v":65},3,{"$f":"IF(ISNA(VLOOKUP(N17,$AE$7:$AQ$304,4,FALSE)),\"\",VLOOKUP(N17,$AE$7:$AQ$304,4,FALSE)&\" - \"&VLOOKUP(N17,$AE$7:$AQ$304,12,FALSE))","v":""},{"$f":"IF(ISNA(VLOOKUP(N17,$AE$7:$AQ$304,12,FALSE)),\"\",VLOOKUP(N17,$AE$7:$AQ$304,12,FALSE))","v":""}," "," "," ",null,null,1,null,6,null,null,null,"P",1,null,1,{"$f":"IF(ISNA(VLOOKUP(AJ17,Liste_SPIDD,2,FALSE)),901,VLOOKUP(AJ17,Liste_SPIDD,2,FALSE))","v":44},{"$f":"IF(AG17=\"\",\"\",IF(ISNA(VLOOKUP(AG17,Liste_Dos_SPIDD,2,FALSE)),VLOOKUP(AG17,Liste_J,3,FALSE),VLOOKUP(AG17,Liste_Dos_SPIDD,2,FALSE)))","v":"LUCAS Ifig"},1,{"$f":"AD17&AF17","v":"11"},null,{"$f":"IF($AE17=0,0,VLOOKUP($AE17,$CH$4:$CK$99,2,FALSE))","v":0},{"$f":"IF($AE17=0,0,VLOOKUP($AE17,CH$4:CK$99,3,FALSE))","v":0},null,null,{"$f":"IF(AG17=\"\",\"\",IF(ISNA(VLOOKUP(AG17,Liste_Dos_SPIDD,3,FALSE)),VLOOKUP(AG17,Liste_J,$A$10,FALSE),VLOOKUP(AG17,Liste_Dos_SPIDD,3,FALSE)))","v":"EQUEURDREVILLE"},{"$f":"IF(ISERROR(VLOOKUP(AG17,$AG$283:$AQ$336,1,FALSE)),\"\",IF(VLOOKUP(AG17,$AG$283:$AQ$336,11,FALSE)=\"1/1\",\"\",VLOOKUP(AG17,$AG$283:$AQ$336,11,FALSE)))","v":"1/2"},null,null,null,"B",null,null,null,null,null,null,"Total B","H",null,null,null,null,null,null,"Total H","Total général",null,null,null,null,null,null,null,null,null,null,null,null,null,null,null,"1er","2ème",null,"HH","HB","BH","BB",19,"H","HH","H"]
[3,"65=",{"$f":"+A18","v":3},65,"",""," ",null,null,null,null,67,"65=",{"$f":"+L18","v":67},67,"",""," ",null," ",null,null,128,null,123,null,null,null,"P",2,null,1,50,"VIDAL Charles",2,{"$f":"AD18&AF18","v":"21"},null,0,0,null,null,"ASSUN TT",{"$f":"IF(ISERROR(VLOOKUP(AG18,$AG$283:$AQ$336,1,FALSE)),\"\",IF(VLOOKUP(AG18,$AG$283:$AQ$336,11,FALSE)=\"1/1\",\"\",VLOOKUP(AG18,$AG$283:$AQ$336,11,FALSE)))","v":"1/2"},null,null,null,0,null,"Total 0","BB","Total BB","BH","Total BH",null,0,null,"Total 0","HH","Total HH","HB","Total HB",null,null,null,null,null,null,null,null,null,null,null,null,null,null,null,null,null,null,"H","B",{"$f":"IF(OR(VLOOKUP($AT18,$AT$16:$CC$110,BM$12+2,FALSE)>1,AND(VLOOKUP($AT18,$AT$16:$CC$110,BM$12+2,FALSE)=1,VLOOKUP($AT18,$AT$16:$CC$110,BM$12+3,FALSE)>1)),VLOOKUP($AT18,$AT$16:$CC$110,BM$12+3,FALSE),\"\")","v":{"$error":"#N/A"}},{"$f":"IF(OR(VLOOKUP($AT18,$AT$16:$CC$110,BN$12+2,FALSE)>1,AND(VLOOKUP($AT18,$AT$16:$CC$110,BN$12+2,FALSE)=1,VLOOKUP($AT18,$AT$16:$CC$110,BN$12+3,FALSE)>1)),VLOOKUP($AT18,$AT$16:$CC$110,BN$12+3,FALSE),\"\")","v":{"$error":"#N/A"}},{"$f":"IF(OR(VLOOKUP($AT18,$AT$16:$CC$110,BO$12+2,FALSE)>1,AND(VLOOKUP($AT18,$AT$16:$CC$110,BO$12+2,FALSE)=1,VLOOKUP($AT18,$AT$16:$CC$110,BO$12+3,FALSE)>1)),VLOOKUP($AT18,$AT$16:$CC$110,BO$12+3,FALSE),\"\")","v":{"$error":"#N/A"}},{"$f":"IF(OR(VLOOKUP($AT18,$AT$16:$CC$110,BP$12+2,FALSE)>1,AND(VLOOKUP($AT18,$AT$16:$CC$110,BP$12+2,FALSE)=1,VLOOKUP($AT18,$AT$16:$CC$110,BP$12+3,FALSE)>1)),VLOOKUP($AT18,$AT$16:$CC$110,BP$12+3,FALSE),\"\")","v":{"$error":"#N/A"}},20,"H","HH","H"]
[4,"33=",4,64,"",""," ",null,null,null,null,68,"33=",68,62,"",""," "," "," ",null,null,65,null,70,null,null,null,"P",3,null,1,49,"ROBION Paul",3,"31",null,0,0,null,null,"SIOUVILLE ATTLC","1/2",null,null,"Club, Comité ou Ligue",2,3,null,1,null,1,null,null,2,3,null,1,null,1,null,null,null,null,null,null,null,null,null,null,null,null,null,null,null,null,null,null,{"$f":"IF(VLOOKUP($AT19,$AT$16:$BL$110,CA$11,FALSE)>1,VLOOKUP($AT19,$AT$16:$BL$110,CA$11,FALSE),\"\")","v":{"$error":"#VALUE!"}},{"$f":"IF(OR(VLOOKUP($AT19,$AT$16:$BL$110,CB$12,FALSE)>1,AND(VLOOKUP($AT19,$AT$16:$BL$110,CB$12,FALSE)=1,(VLOOKUP($AT19,$AT$16:$BL$110,CB$12+4,FALSE)+VLOOKUP($AT19,$AT$16:$BL$110,CB$12+6,FALSE))>0)),(VLOOKUP($AT19,$AT$16:$BL$110,CB$12,FALSE)+VLOOKUP($AT19,$AT$16:$BL$110,CB$12+4,FALSE)+VLOOKUP($AT19,$AT$16:$BL$110,CB$12+6,FALSE)),\"\")","v":2},{"$f":"IF(OR(VLOOKUP($AT19,$AT$16:$BL$110,CC$12,FALSE)>1,AND(VLOOKUP($AT19,$AT$16:$BL$110,CC$12,FALSE)=1,(VLOOKUP($AT19,$AT$16:$BL$110,CC$12+4,FALSE)+VLOOKUP($AT19,$AT$16:$BL$110,CC$12+6,FALSE))>0)),(VLOOKUP($AT19,$AT$16:$BL$110,CC$12,FALSE)+VLOOKUP($AT19,$AT$16:$BL$110,CC$12+4,FALSE)+VLOOKUP($AT19,$AT$16:$BL$110,CC$12+6,FALSE)),\"\")","v":2},{"$f":"IF(OR(VLOOKUP($AT19,$AT$16:$BL$110,CD$12+2,FALSE)>1,AND(VLOOKUP($AT19,$AT$16:$BL$110,CD$12+2,FALSE)=1,VLOOKUP($AT19,$AT$16:$BL$110,CD$12+3,FALSE)>1)),VLOOKUP($AT19,$AT$16:$BL$110,CD$12+3,FALSE),\"\")","v":""},{"$f":"IF(OR(VLOOKUP($AT19,$AT$16:$BL$110,CE$12+2,FALSE)>1,AND(VLOOKUP($AT19,$AT$16:$BL$110,CE$12+2,FALSE)=1,VLOOKUP($AT19,$AT$16:$BL$110,CE$12+3,FALSE)>1)),VLOOKUP($AT19,$AT$16:$BL$110,CE$12+3,FALSE),\"\")","v":""},{"$f":"IF(OR(VLOOKUP($AT19,$AT$16:$BL$110,CF$12+2,FALSE)>1,AND(VLOOKUP($AT19,$AT$16:$BL$110,CF$12+2,FALSE)=1,VLOOKUP($AT19,$AT$16:$BL$110,CF$12+3,FALSE)>1)),VLOOKUP($AT19,$AT$16:$BL$110,CF$12+3,FALSE),\"\")","v":""},{"$f":"IF(OR(VLOOKUP($AT19,$AT$16:$BL$110,CG$12+2,FALSE)>1,AND(VLOOKUP($AT19,$AT$16:$BL$110,CG$12+2,FALSE)=1,VLOOKUP($AT19,$AT$16:$BL$110,CG$12+3,FALSE)>1)),VLOOKUP($AT19,$AT$16:$BL$110,CG$12+3,FALSE),\"\")","v":""},21,"H","HH","H"]
[5,"33=",5,33,"",""," ",null,null,null,null,69,"33=",69,35,"",""," "," "," ",null,null,64,null,59,null,null,null,"P",4,null,1,47,"LEVILLAIN Camille",4,"41",null,0,0,null,null,"ST PAIR BRICQUE","1/6",null,null,"ASSUN TT",null,null,null,2,2,null,null,2,2,2,4,null,null,null,null,4,6,null,null,null,null,null,null,null,null,null,null,null,null,null,null,null,{"$f":"IF(VLOOKUP($AT20,$AT$16:$BL$110,CA$11,FALSE)>1,VLOOKUP($AT20,$AT$16:$BL$110,CA$11,FALSE),\"\")","v":{"$error":"#VALUE!"}},{"$f":"IF(OR(VLOOKUP($AT20,$AT$16:$BL$110,CB$12,FALSE)>1,AND(VLOOKUP($AT20,$AT$16:$BL$110,CB$12,FALSE)=1,(VLOOKUP($AT20,$AT$16:$BL$110,CB$12+4,FALSE)+VLOOKUP($AT20,$AT$16:$BL$110,CB$12+6,FALSE))>0)),(VLOOKUP($AT20,$AT$16:$BL$110,CB$12,FALSE)+VLOOKUP($AT20,$AT$16:$BL$110,CB$12+4,FALSE)+VLOOKUP($AT20,$AT$16:$BL$110,CB$12+6,FALSE)),\"\")","v":2},"",{"$f":"IF(OR(VLOOKUP($AT20,$AT$16:$BL$110,CD$12+2,FALSE)>1,AND(VLOOKUP($AT20,$AT$16:$BL$110,CD$12+2,FALSE)=1,VLOOKUP($AT20,$AT$16:$BL$110,CD$12+3,FALSE)>1)),VLOOKUP($AT20,$AT$16:$BL$110,CD$12+3,FALSE),\"\")","v":""},6,2,"",22,"H","HH","H"]
[6,"65=",6,96,"",""," ",null,null,null,null,70,"65=",70,94,"",""," ",null," ",null,null,33,null,38,null,null,null,"P",5,null,1,52,"COUEDEL-COULON Eloan",5,"51",null,0,0,null,null,"TT SAINT JAMES","1/4",null,null,"ATTDUCEYAVRANCH",2,2,4,null,null,2,2,6,2,2,4,null,null,2,2,6,12,null,null,null,null,null,null,null,null,null,null,null,null,null,null,null,{"$error":"#VALUE!"},4,4,2,12,2,2,24,"H","HH","H"]
[8,"17=",8,32,"",""," ",null,null,null,null,72,"17=",72,30,"",""," "," "," ",null,null,96,null,91,null,null,null,"P",6,null,1,45,"LECLERC Alexandre-Bao",6,"61",null,0,0,null,null,"OC AGNEAUX","1/2",null,null,"CARANTILLAISE",2,2,4,null,null,null,null,4,null,null,null,null,null,2,2,2,6,null,null,null,null,null,null,null,null,null,null,null,null,null,null,null,{"$error":"#VALUE!"},"",2,2,6,0,"",25,"H","HH","H"]
[9,"17=",9,17,"",""," ",null,null,null,null,73,"17=",73,19,"",""," "," "," ",null,null,97,null,102,null,null,null,"P",7,null,1,46,"NICOLLE Augustin",7,"71",null,0,0,null,null,"COUTANCES JA","1/4",null,null,"COUTANCES JA",2,2,4,2,2,null,null,6,2,2,4,2,2,null,null,6,12,null,null,null,null,null,null,null,null,null,null,null,null,null,null,null,{"$error":"#VALUE!"},4,4,"",12,2,"",27,"H","HH","H"]
[11,"65=",11,81,"",""," ",null,null,null,null,75,"65=",75,83,"",""," ",null," ",null,null,32,null,27,null,null,null,"P",8,null,1,48,"NICOLLE Emile",8,"81",null,0,0,null,null,"COUTANCES JA","2/4",null,null,"EQUEURDREVILLE",2,2,4,null,null,null,null,4,null,null,null,2,2,null,null,2,6,null,null,null,null,null,null,null,null,null,null,null,null,null,null,null,{"$error":"#VALUE!"},"",2,"",6,0,"",28,"H","HH","H"]
[12,"33=",12,48,"",""," ",null,null,null,null,76,"33=",76,46,"",""," "," "," ",null,null,17,null,22,null,null,null,"P",9,null,1,51,"RIPOCHE Nathan",9,"91",null,0,0,null,null,"ST PAIR BRICQUE","2/6",null,null,"OC AGNEAUX",null,null,null,null,null,2,2,2,2,2,4,null,null,null,null,4,6,null,null,null,null,null,null,null,null,null,null,null,null,null,null,null,{"$error":"#VALUE!"},2,"","",6,2,2,29,"H","HH","H"]
[13,"33=",13,49,"",""," ",null,null,null,null,77,"33=",77,51,"",""," "," "," ",null,null,112,null,107,null,null,null,"P",10,null,1,58,"PEIN Edgar",10,"101",null,0,0,null,null,"ST PAIR BRICQUE","3/6",null,null,"SIOUVILLE ATTLC",null,null,null,null,null,2,2,2,2,2,4,null,null,null,null,4,6,null,null,null,null,null,null,null,null,null,null,null,null,null,null,null,{"$error":"#VALUE!"},2,"","",6,2,2,30,"H","HH","H"]
[14,"65=",14,80,"",""," ",null,null,null,null,78,"65=",78,78,"",""," ",null," ",null,null,81,null,86,null,null,null,"P",11,null,1,54,"RICOUX Bastien",11,"111",null,0,0,null,null,"ATTDUCEYAVRANCH","1/4",null,null,"ST PAIR BRICQUE",4,4,8,2,2,null,null,10,2,2,4,2,2,2,2,8,18,null,null,null,null,null,null,null,null,null,null,null,null,null,null,null,{"$error":"#VALUE!"},6,6,2,18,2,"",32,"H","HH","H"]
[16,"9=",16,16,"",""," ",null,null,null,null,80,"9=",80,14,"",""," "," "," ",null,null,48,null,43,null,null,null,"P",12,null,1,55,"ROC Ferdinand",12,"121",null,0,0,null,null,"ATTDUCEYAVRANCH","2/4",null,null,"TORIGNAISE ESTT",2,2,4,null,null,2,2,6,2,2,4,2,2,null,null,6,12,null,null,null,null,null,null,null,null,null,null,null,null,null,null,null,{"$error":"#VALUE!"},4,4,"",12,2,2,33,"H","HB","B"]
[17,"9=",17,9,"",""," ",null,null,null,null,81,"9=",81,11,"",""," "," "," ",null,null,49,null,54,null,null,null,"P",13,null,1,57,"RIGOT Noe",13,"131",null,0,0,null,null,"CARANTILLAISE","1/2",null,null,"TT SAINT JAMES",2,2,4,2,2,null,null,6,2,2,4,null,null,2,2,6,12,null,null,null,null,null,null,null,null,null,null,null,null,null,null,null,{"$error":"#VALUE!"},4,4,2,12,2,"",35,"H","HB","B"]
[19,"65=",19,73,"",""," ",null,null,null,null,83,"65=",83,75,"",""," ",null," ",null,null,80,null,75,null,null,null,"P",14,null,1,53,"MASSELINE Malo",14,"141",null,0,0,null,null,"TORIGNAISE ESTT","1/4",null,null,"Total général",16,16,32,8,8,8,8,48,16,16,32,8,8,8,8,48,96,null,null,null,null,null,null,null,null,null,null,null,null,null,null,null,{"$error":"#VALUE!"},32,32,8,96,16,8,36,"H","HB","B"]
[20,"33=",20,56,"",""," ",null,null,null,null,84,"33=",84,54,"",""," "," "," ",null,null,113,null,118,null,null,null,"P",15,null,1,59,"BRILLET Pacome",15,"151",null,0,0,null,null,"TT SAINT JAMES","2/4",null,null,null,null,null,null,null,null,null,null,null,null,null,null,null,null,null,null,null,null,null,null,null,null,null,null,null,null,null,null,null,null,null,null,null,{"$error":"#N/A"},{"$error":"#N/A"},{"$error":"#N/A"},{"$error":"#N/A"},{"$error":"#N/A"},{"$error":"#N/A"},{"$error":"#N/A"},37,"H","HB","B"]
[21,"33=",21,41,"",""," ",null,null,null,null,85,"33=",85,43,"",""," "," "," ",null,null,16,null,11,null,null,null,"P",16,null,1,56,"VARIN Louis",16,"161",null,0,0,null,null,"TORIGNAISE ESTT","2/4",null,null,null,null,null,null,null,null,null,null,null,null,null,null,null,null,null,null,null,null,null,null,null,null,null,null,null,null,null,null,null,null,null,null,null,{"$error":"#N/A"},{"$error":"#N/A"},{"$error":"#N/A"},{"$error":"#N/A"},{"$error":"#N/A"},{"$error":"#N/A"},{"$error":"#N/A"},38,"H","HB","B"]
[22,"65=",22,88,"",""," ",null,null,null,null,86,"65=",86,86,"",""," "," "," ",null,null,9,null,14,null,null,null,"P",17,null,1,121,"LUCAS Ifig",17,"171",null,0,0,null,null,"EQUEURDREVILLE","2/2",null,null,null,null,null,null,null,null,null,null,null,null,null,null,null,null,null,null,null,null,null,null,null,null,null,null,null,null,null,null,null,null,null,null,null,{"$error":"#N/A"},{"$error":"#N/A"},{"$error":"#N/A"},{"$error":"#N/A"},{"$error":"#N/A"},{"$error":"#N/A"},{"$error":"#N/A"},40,"H","HB","B"]
[24,"17=",24,24,"",""," ",null,null,null,null,88,"17=",88,22,"",""," "," "," ",null,null,120,null,115,null,null,null,"P",18,null,1,122,"VIDAL Charles",18,"181",null,0,0,null,null,"ASSUN TT","2/2",null,null,null,null,null,null,null,null,null,null,null,null,null,null,null,null,null,null,null,null,null,null,null,null,null,null,null,null,null,null,null,null,null,null,null,{"$error":"#N/A"},{"$error":"#N/A"},{"$error":"#N/A"},{"$error":"#N/A"},{"$error":"#N/A"},{"$error":"#N/A"},{"$error":"#N/A"},41,"H","HB","B"]
[25,"17=",25,25,"",""," ",null,null,null,null,89,"17=",89,27,"",""," ",null,null,null,null,73,null,78,null,null,null,"P",19,null,1,123,"ROBION Paul",19,"191",null,0,0,null,null,"SIOUVILLE ATTLC","2/2",null,null,null,null,null,null,null,null,null,null,null,null,null,null,null,null,null,null,null,null,null,null,null,null,null,null,null,null,null,null,null,null,null,null,null,{"$error":"#N/A"},{"$error":"#N/A"},{"$error":"#N/A"},{"$error":"#N/A"},{"$error":"#N/A"},{"$error":"#N/A"},{"$error":"#N/A"},43,"H","HB","B"]
[27,"65=",27,89,"",""," ",null,null,null,null,91,"65=",91,91,"",""," "," "," ",null,null,56,null,51,null,null,null,"P",20,null,1,124,"LEVILLAIN Camille",20,"201",null,0,0,null,null,"ST PAIR BRICQUE","4/6",null,null,null,null,null,null,null,null,null,null,null,null,null,null,null,null,null,null,null,null,null,null,null,null,null,null,null,null,null,null,null,null,null,null,null,{"$error":"#N/A"},{"$error":"#N/A"},{"$error":"#N/A"},{"$error":"#N/A"},{"$error":"#N/A"},{"$error":"#N/A"},{"$error":"#N/A"},44,"H","HB","B"]
[28,"33=",28,40,"",""," ",null,null,null,null,92,"33=",92,38,"",""," "," "," ",null,null,41,null,46,null,null,null,"P",21,null,1,125,"COUEDEL-COULON Eloan",21,"211",null,0,0,null,null,"TT SAINT JAMES","3/4",null,null,null,null,null,null,null,null,null,null,null,null,null,null,null,null,null,null,null,null,null,null,null,null,null,null,null,null,null,null,null,null,null,null,null,{"$error":"#N/A"},{"$error":"#N/A"},{"$error":"#N/A"},{"$error":"#N/A"},{"$error":"#N/A"},{"$error":"#N/A"},{"$error":"#N/A"},45,"H","HB","B"]
[29,"33=",29,57,"",""," ",null,null,null,null,93,"33=",93,59,"",""," ",null,null,null,null,88,null,83,null,null,null,"P",22,null,1,126,"LECLERC Alexandre-Bao",22,"221",null,0,0,null,null,"OC AGNEAUX","2/2",null,null,null,null,null,null,null,null,null,null,null,null,null,null,null,null,null,null,null,null,null,null,null,null,null,null,null,null,null,null,null,null,null,null,null,{"$error":"#N/A"},{"$error":"#N/A"},{"$error":"#N/A"},{"$error":"#N/A"},{"$error":"#N/A"},{"$error":"#N/A"},{"$error":"#N/A"},46,"H","HB","B"]
[30,"65=",30,72,"",""," ",null,null,null,null,94,"65=",94,70,"",""," "," "," ",null,null,105,null,110,null,null,null,"P",23,null,1,127,"NICOLLE Augustin",23,"231",null,0,0,null,null,"COUTANCES JA","3/4",null,null,null,null,null,null,null,null,null,null,null,null,null,null,null,null,null,null,null,null,null,null,null,null,null,null,null,null,null,null,null,null,null,null,null,{"$error":"#N/A"},{"$error":"#N/A"},{"$error":"#N/A"},{"$error":"#N/A"},{"$error":"#N/A"},{"$error":"#N/A"},{"$error":"#N/A"},48,"H","HB","B"]
[32,"5=",32,8,"",""," ",null,null,null,null,96,"5=",96,6,"",""," "," "," ",null,null,24,null,19,null,null,null,"P",24,null,1,128,"NICOLLE Emile",24,"241",null,0,0,null,null,"COUTANCES JA","4/4",null,null,null,null,null,null,null,null,null,null,null,null,null,null,null,null,null,null,null,null,null,null,null,null,null,null,null,null,null,null,null,null,null,null,null,{"$error":"#N/A"},{"$error":"#N/A"},{"$error":"#N/A"},{"$error":"#N/A"},{"$error":"#N/A"},{"$error":"#N/A"},{"$error":"#N/A"},49,"H","HB","B"]
[33,"5=",33,5,"",""," ",null,null,null,null,97,"5=",97,7,"",""," "," "," ",null,null,25,null,30,null,null,null,"P",25,null,1,129,"RIPOCHE Nathan",25,"251",null,0,0,null,null,"ST PAIR BRICQUE","5/6",null,null,null,null,null,null,null,null,null,null,null,null,null,null,null,null,null,null,null,null,null,null,null,null,null,null,null,null,null,null,null,null,null,null,null,{"$error":"#N/A"},{"$error":"#N/A"},{"$error":"#N/A"},{"$error":"#N/A"},{"$error":"#N/A"},{"$error":"#N/A"},{"$error":"#N/A"},51,"H","HB","B"]
[35,"65=",35,69,"",""," ",null,null,null,null,99,"65=",99,71,"",""," ",null," ",null,null,104,null,99,null,null,null,"P",26,null,1,130,"PEIN Edgar",26,"261",null,0,0,null,null,"ST PAIR BRICQUE","6/6",null,null,null,null,null,null,null,null,null,null,null,null,null,null,null,null,null,null,null,null,null,null,null,null,null,null,null,null,null,null,null,null,null,null,null,{"$error":"#N/A"},{"$error":"#N/A"},{"$error":"#N/A"},{"$error":"#N/A"},{"$error":"#N/A"},{"$error":"#N/A"},{"$error":"#N/A"},52,"H","HB","B"]
[36,"33=",36,60,"",""," ",null,null,null,null,100,"33=",100,58,"",""," "," "," ",null,null,89,null,94,null,null,null,"P",27,null,1,131,"RICOUX Bastien",27,"271",null,0,0,null,null,"ATTDUCEYAVRANCH","3/4",null,null,null,null,null,null,null,null,null,null,null,null,null,null,null,null,null,null,null,null,null,null,null,null,null,null,null,null,null,null,null,null,null,null,null,{"$error":"#N/A"},{"$error":"#N/A"},{"$error":"#N/A"},{"$error":"#N/A"},{"$error":"#N/A"},{"$error":"#N/A"},{"$error":"#N/A"},53,"H","HB","B"]
[37,"33=",37,37,"",""," ",null,null,null,null,101,"33=",101,39,"",""," "," "," ",null,null,40,null,35,null,null,null,"P",28,null,1,132,"ROC Ferdinand",28,"281",null,0,0,null,null,"ATTDUCEYAVRANCH","4/4",null,null,null,null,null,null,null,null,null,null,null,null,null,null,null,null,null,null,null,null,null,null,null,null,null,null,null,null,null,null,null,null,null,null,null,{"$error":"#N/A"},{"$error":"#N/A"},{"$error":"#N/A"},{"$error":"#N/A"},{"$error":"#N/A"},{"$error":"#N/A"},{"$error":"#N/A"},54,"H","HB","B"]
[38,"65=",38,92,"",""," ",null,null,null,null,102,"65=",102,90,"",""," ",null," ",null,null,57,null,62,null,null,null,"P",29,null,1,133,"RIGOT Noe",29,"291",null,0,0,null,null,"CARANTILLAISE","2/2",null,null,null,null,null,null,null,null,null,null,null,null,null,null,null,null,null,null,null,null,null,null,null,null,null,null,null,null,null,null,null,null,null,null,null,{"$error":"#N/A"},{"$error":"#N/A"},{"$error":"#N/A"},{"$error":"#N/A"},{"$error":"#N/A"},{"$error":"#N/A"},{"$error":"#N/A"},56,"H","HB","B"]
[40,"17=",40,28,"",""," ",null,null,null,null,104,"17=",104,26,"",""," "," "," ",null,null,72,null,67,null,null,null,"P",30,null,1,134,"MASSELINE Malo",30,"301",null,0,0,null,null,"TORIGNAISE ESTT","3/4",null,null,null,null,null,null,null,null,null,null,null,null,null,null,null,null,null,null,null,null,null,null,null,null,null,null,null,null,null,null,null,null,null,null,null,{"$error":"#N/A"},{"$error":"#N/A"},{"$error":"#N/A"},{"$error":"#N/A"},{"$error":"#N/A"},{"$error":"#N/A"},{"$error":"#N/A"},57,"H","HB","B"]
[41,"17=",41,21,"",""," ",null,null,null,null,105,"17=",105,23,"",""," "," "," ",null,null,121,null,126,null,null,null,"P",31,null,1,135,"BRILLET Pacome",31,"311",null,0,0,null,null,"TT SAINT JAMES","4/4",null,null,null,null,null,null,null,null,null,null,null,null,null,null,null,null,null,null,null,null,null,null,null,null,null,null,null,null,null,null,null,null,null,null,null,{"$error":"#N/A"},{"$error":"#N/A"},{"$error":"#N/A"},{"$error":"#N/A"},{"$error":"#N/A"},{"$error":"#N/A"},{"$error":"#N/A"},59,"H","HB","B"]
[43,"65=",43,85,"",""," ",null,null,null,null,107,"65=",107,87,"",""," ",null," ",null,null,8,null,3,null,null,null,"P",32,null,1,136,"VARIN Louis",32,"321",null,0,0,null,null,"TORIGNAISE ESTT","4/4",null,null,null,null,null,null,null,null,null,null,null,null,null,null,null,null,null,null,null,null,null,null,null,null,null,null,null,null,null,null,null,null,null,null,null,{"$error":"#N/A"},{"$error":"#N/A"},{"$error":"#N/A"},{"$error":"#N/A"},{"$error":"#N/A"},{"$error":"#N/A"},{"$error":"#N/A"},60,"H","HB","B"]
[44,"33=",44,44,"",""," ",null,null,null,null,108,"33=",108,42,"",""," "," "," ",null,null,5,null,4,null,null,null,null,null,null,null,null,null,null,null,null,null,null,null,null,null,null,null,null,null,null,null,null,null,null,null,null,null,null,null,null,null,null,null,null,null,null,null,null,null,null,null,null,null,null,null,null,null,null,null,null,null,{"$error":"#N/A"},{"$error":"#N/A"},{"$error":"#N/A"},{"$error":"#N/A"},{"$error":"#N/A"},{"$error":"#N/A"},{"$error":"#N/A"},61,"H","HB","B"]
[45,"33=",45,53,"",""," ",null,null,null,null,109,"33=",109,55,"",""," "," "," ",null,null,124,null,125,null,null,null,null,null,null,null,null,null,null,null,null,null,null,null,null,null,null,null,null,null,null,null,null,null,null,null,null,null,null,null,null,null,null,null,null,null,null,null,null,null,null,null,null,null,null,null,null,null,null,null,null,null,{"$error":"#N/A"},{"$error":"#N/A"},{"$error":"#N/A"},{"$error":"#N/A"},{"$error":"#N/A"},{"$error":"#N/A"},{"$error":"#N/A"},62,"H","HB","B"]
[46,"65=",46,76,"",""," ",null,null,null,null,110,"65=",110,74,"",""," ",null," ",null,null,69,null,68,null,null,null,null,null,null,null,null,null,null,null,null,null,null,null,null,null,null,null,null,null,null,null,null,null,null,null,null,null,null,null,null,null,null,null,null,null,null,null,null,null,null,null,null,null,null,null,null,null,null,null,null,null,{"$error":"#N/A"},{"$error":"#N/A"},{"$error":"#N/A"},{"$error":"#N/A"},{"$error":"#N/A"},{"$error":"#N/A"},{"$error":"#N/A"},64,"H","HB","B"]
[48,"9=",48,12,"",""," ",null,null,null,null,112,"9=",112,10,"",""," "," "," ",null,null,60,null,61,null,null,null,null,null,null,null,null,null,null,null,null,null,null,null,null,null,null,null,null,null,null,null,null,null,null,null,null,null,null,null,null,null,null,null,null,null,null,null,null,null,null,null,null,null,null,null,null,null,null,null,null,null,{"$error":"#N/A"},{"$f":"IF(OR(VLOOKUP($AT52,$AT$16:$BL$110,CB$12,FALSE)>1,AND(VLOOKUP($AT52,$AT$16:$BL$110,CB$12,FALSE)=1,(VLOOKUP($AT52,$AT$16:$BL$110,CB$12+4,FALSE)+VLOOKUP($AT52,$AT$16:$BL$110,CB$12+6,FALSE))>0)),(VLOOKUP($AT52,$AT$16:$BL$110,CB$12,FALSE)+VLOOKUP($AT52,$AT$16:$BL$110,CB$12+4,FALSE)+VLOOKUP($AT52,$AT$16:$BL$110,CB$12+6,FALSE)),\"\")","v":{"$error":"#N/A"}},{"$error":"#N/A"},{"$f":"IF(OR(VLOOKUP($AT52,$AT$16:$BL$110,CD$12+2,FALSE)>1,AND(VLOOKUP($AT52,$AT$16:$BL$110,CD$12+2,FALSE)=1,VLOOKUP($AT52,$AT$16:$BL$110,CD$12+3,FALSE)>1)),VLOOKUP($AT52,$AT$16:$BL$110,CD$12+3,FALSE),\"\")","v":{"$error":"#N/A"}},{"$error":"#N/A"},{"$error":"#N/A"},{"$error":"#N/A"},65,"B","BH","H"]
[49,"9=",49,13,"",""," ",null,null,null,null,113,"9=",113,15,"",""," "," "," ",null,null,37,null,36,null,null,null,null,null,null,null,null,null,null,null,null,null,null,null,null,null,null,null,null,null,null,null,null,null,null,null,null,null,null,null,null,null,null,null,null,null,null,null,null,null,null,null,null,null,null,null,null,null,null,null,null,null,{"$error":"#N/A"},{"$error":"#N/A"},{"$error":"#N/A"},{"$error":"#N/A"},{"$error":"#N/A"},{"$error":"#N/A"},{"$error":"#N/A"},67,"B","BH","H"]
[51,"65=",51,77,"",""," ",null,null,null,null,115,"65=",115,79,"",""," ",null," ",null,null,92,null,93,null,null,null,null,null,null,null,null,null,null,null,null,null,null,null,null,null,null,null,null,null,null,null,null,null,null,null,null,null,null,null,null,null,null,null,null,null,null,null,null,null,null,null,null,null,null,null,null,null,null,null,null,null,{"$error":"#N/A"},{"$error":"#N/A"},{"$error":"#N/A"},{"$error":"#N/A"},{"$error":"#N/A"},{"$error":"#N/A"},{"$error":"#N/A"},68,"B","BH","H"]
[52,"33=",52,52,"",""," ",null,null,null,null,116,"33=",116,50,"",""," "," "," ",null,null,101,null,100,null,null,null,null,null,null,null,null,null,null,null,null,null,null,null,null,null,null,null,null,null,null,null,null,null,null,null,null,null,null,null,null,null,null,null,null,null,null,null,null,null,null,null,null,null,null,null,null,null,null,null,null,null,{"$error":"#N/A"},{"$error":"#N/A"},{"$error":"#N/A"},{"$error":"#N/A"},{"$error":"#N/A"},{"$error":"#N/A"},{"$error":"#N/A"},69,"B","BH","H"]
[53,"33=",53,45,"",""," ",null,null,null,null,117,"33=",117,47,"",""," "," "," ",null,null,28,null,29,null,null,null,null,null,null,null,null,null,null,null,null,null,null,null,null,null,null,null,null,null,null,null,null,null,null,null,null,null,null,null,null,null,null,null,null,null,null,null,null,null,null,null,null,null,null,null,null,null,null,null,null,null,{"$error":"#N/A"},{"$error":"#N/A"},{"$error":"#N/A"},{"$error":"#N/A"},{"$error":"#N/A"},{"$error":"#N/A"},{"$error":"#N/A"},70,"B","BH","H"]
[54,"65=",54,84,"",""," ",null,null,null,null,118,"65=",118,82,"",""," "," "," ",null,null,21,null,20,null,null,null,null,null,null,null,null,null,null,null,null,null,null,null,null,null,null,null,null,null,null,null,null,null,null,null,null,null,null,null,null,null,null,null,null,null,null,null,null,null,null,null,null,null,null,null,null,null,null,null,null,null,{"$error":"#N/A"},{"$error":"#N/A"},{"$error":"#N/A"},{"$error":"#N/A"},{"$error":"#N/A"},{"$error":"#N/A"},{"$error":"#N/A"},72,"B","BH","H"]
[56,"17=",56,20,"",""," ",null,null,null,null,120,"17=",120,18,"",""," "," "," ",null,null,108,null,109,null,null,null,null,null,null,null,null,null,null,null,null,null,null,null,null,null,null,null,null,null,null,null,null,null,null,null,null,null,null,null,null,null,null,null,null,null,null,null,null,null,null,null,null,null,null,null,null,null,null,null,null,null,{"$error":"#N/A"},{"$error":"#N/A"},{"$error":"#N/A"},{"$error":"#N/A"},{"$error":"#N/A"},{"$error":"#N/A"},{"$error":"#N/A"},73,"B","BH","H"]
[57,"17=",57,29,"",""," ",null,null,null,null,121,"17=",121,31,"",""," ",null,null,null,null,85,null,84,null,null,null,null,null,null,null,null,null,null,null,null,null,null,null,null,null,null,null,null,null,null,null,null,null,null,null,null,null,null,null,null,null,null,null,null,null,null,null,null,null,null,null,null,null,null,null,null,null,null,null,null,null,{"$error":"#N/A"},{"$error":"#N/A"},{"$error":"#N/A"},{"$error":"#N/A"},{"$error":"#N/A"},{"$error":"#N/A"},{"$error":"#N/A"},75,"B","BH","H"]
[59,"65=",59,93,"",""," ",null,null,null,null,123,"65=",123,95,"",""," "," "," ",null,null,44,null,45,null,null,null,null,null,null,null,null,null,null,null,null,null,null,null,null,null,null,null,null,null,null,null,null,null,null,null,null,null,null,null,null,null,null,null,null,null,null,null,null,null,null,null,null,null,null,null,null,null,null,null,null,null,{"$error":"#N/A"},{"$error":"#N/A"},{"$error":"#N/A"},{"$error":"#N/A"},{"$error":"#N/A"},{"$error":"#N/A"},{"$error":"#N/A"},76,"B","BH","H"]
[60,"33=",60,36,"",""," ",null,null,null,null,124,"33=",124,34,"",""," "," "," ",null,null,53,null,52,null,null,null,null,null,null,null,null,null,null,null,null,null,null,null,null,null,null,null,null,null,null,null,null,null,null,null,null,null,null,null,null,null,null,null,null,null,null,null,null,null,null,null,null,null,null,null,null,null,null,null,null,null,{"$error":"#N/A"},{"$error":"#N/A"},{"$error":"#N/A"},{"$error":"#N/A"},{"$error":"#N/A"},{"$error":"#N/A"},{"$error":"#N/A"},77,"B","BH","H"]
[61,"33=",61,61,"",""," ",null,null,null,null,125,"33=",125,63,"",""," ",null,null,null,null,76,null,77,null,null,null,null,null,null,null,null,null,null,null,null,null,null,null,null,null,null,null,null,null,null,null,null,null,null,null,null,null,null,null,null,null,null,null,null,null,null,null,null,null,null,null,null,null,null,null,null,null,null,null,null,null,{"$error":"#N/A"},{"$error":"#N/A"},{"$error":"#N/A"},{"$error":"#N/A"},{"$error":"#N/A"},{"$error":"#N/A"},{"$error":"#N/A"},78,"B","BH","H"]
[62,"65=",62,68,"",""," ",null,null,null,null,126,"65=",126,66,"",""," "," "," ",null,null,117,null,116,null,null,null,null,null,null,null,null,null,null,null,null,null,null,null,null,null,null,null,null,null,null,null,null,null,null,null,null,null,null,null,null,null,null,null,null,null,null,null,null,null,null,null,null,null,null,null,null,null,null,null,null,null,{"$error":"#N/A"},{"$error":"#N/A"},{"$error":"#N/A"},{"$error":"#N/A"},{"$error":"#N/A"},{"$error":"#N/A"},{"$error":"#N/A"},80,"B","BH","H"]
[64,"3=",64,4,"",""," ",null,null,null,null,128,2,128,2,"",""," "," "," ",null,null,12,null,13,null,null,null,null,null,null,null,null,null,null,null,null,null,null,null,null,null,null,null,null,null,null,null,null,null,null,null,null,null,null,null,null,null,null,null,null,null,null,null,null,null,null,null,null,null,null,null,null,null,null,null,null,null,{"$error":"#N/A"},{"$error":"#N/A"},{"$error":"#N/A"},{"$error":"#N/A"},{"$error":"#N/A"},{"$error":"#N/A"},{"$error":"#N/A"},81,"B","BH","H"]
[null,null,null,null,null,null," ",null,null,null,null,null,null,null,null,null,null," ",null,null,null,null,null,null,null,null,null,null,null,null,null,null,null,null,null,null,null,null,null,null,null,null,null,null,null,null,null,null,null,null,null,null,null,null,null,null,null,null,null,null,null,null,null,null,null,null,null,null,null,null,null,null,null,null,null,null,null,null,{"$error":"#N/A"},{"$error":"#N/A"},{"$error":"#N/A"},{"$error":"#N/A"},{"$error":"#N/A"},{"$error":"#N/A"},{"$error":"#N/A"},83,"B","BH","H"]
[null,null,null,null,null,null," ",null,null,null,null,null,null,null,null,null,null," ",null,null,null,null,null,null,null,null,null,null,null,null,null,null,null,null,null,null,null,null,null,null,null,null,null,null,null,null,null,null,null,null,null,null,null,null,null,null,null,null,null,null,null,null,null,null,null,null,null,null,null,null,null,null,null,null,null,null,null,null,{"$error":"#N/A"},{"$error":"#N/A"},{"$error":"#N/A"},{"$error":"#N/A"},{"$error":"#N/A"},{"$error":"#N/A"},{"$error":"#N/A"},84,"B","BH","H"]
[null,null,null,null,null,null," ",null,null,null,null,null,null,null,null,null,null," ",null,null,null,null,null,null,null,null,null,null,null,null,null,null,null,null,null,null,null,null,null,null,null,null,null,null,null,null,null,null,null,null,null,null,null,null,null,null,null,null,null,null,null,null,null,null,null,null,null,null,null,null,null,null,null,null,null,null,null,null,{"$error":"#N/A"},{"$error":"#N/A"},{"$error":"#N/A"},{"$error":"#N/A"},{"$error":"#N/A"},{"$error":"#N/A"},{"$error":"#N/A"},85,"B","BH","H"]
[null,null,null,null,null,null,null,null,null,null,null,null,null,null,null,null,null," ",null,null,null,null,null,null,null,null,null,"2ème de poule",null,null,null,null,null,null,null,null,null,null,null,null,null,null,null,null,null,null,null,null,null,null,null,null,null,null,null,null,null,null,null,null,null,null,null,null,null,null,null,null,null,null,null,null,null,null,null,null,null,null,{"$error":"#N/A"},{"$error":"#N/A"},{"$error":"#N/A"},{"$error":"#N/A"},{"$error":"#N/A"},{"$error":"#N/A"},{"$error":"#N/A"},86,"B","BH","H"]
[null,null,null,null,null,null,null,null,null,null,null,null,null,null,null,null,null," ",null,null,null,null,null,null,null,null,null,null,"Pl","x","TAS","N°","Dos","NOM Prénom","Rang","SPIDD","a","1/2 T","1/4 T","c","d","Club, Comité ou Ligue","N° Club",null,null,null,null,null,null,null,null,null,null,null,null,null,null,null,null,null,null,null,null,null,null,null,null,null,null,null,null,null,null,null,null,null,null,null,{"$error":"#N/A"},{"$error":"#N/A"},{"$error":"#N/A"},{"$error":"#N/A"},{"$error":"#N/A"},{"$error":"#N/A"},{"$error":"#N/A"},88,"B","BH","H"]
[null,null,null,null,null,null,null,null,null,null,null,null,null,null,null,null,null," ",null,null,null,null,null,null,null,null,null,null,"P",1,null,2,{"$f":"IF(ISNA(VLOOKUP(AJ70,Liste_SPIDD,2,FALSE)),901,VLOOKUP(AJ70,Liste_SPIDD,2,FALSE))","v":201},{"$f":"IF(AG70=\"\",\"\",IF(ISNA(VLOOKUP(AG70,Liste_Dos_SPIDD,2,FALSE)),VLOOKUP(AG70,Liste_J,3,FALSE),VLOOKUP(AG70,Liste_Dos_SPIDD,2,FALSE)))","v":"LUCAS Ifig"},33,{"$f":"AD70&AF70","v":"12"},null,{"$f":"IF(AL17=\"H\",\"B\",IF(AL17=\"B\",\"H\",\"\"))","v":""},{"$f":"IF($AE70=0,0,VLOOKUP($AE70,CH$4:CK$99,3,FALSE))","v":0},null,null,{"$f":"IF(AG70=\"\",\"\",IF(ISNA(VLOOKUP(AG70,Liste_Dos_SPIDD,3,FALSE)),VLOOKUP(AG70,Liste_J,$A$10,FALSE),VLOOKUP(AG70,Liste_Dos_SPIDD,3,FALSE)))","v":"EQUEURDREVILLE"},{"$f":"IF(ISERROR(VLOOKUP(AP70,$AT$13:$CG$147,35,FALSE)),\"\",IF(AL70=\"H\",VLOOKUP(AP70,$AT$13:$CG$147,35,FALSE),IF(AL70=\"B\",VLOOKUP(AP70,$AT$13:$CG$147,36,FALSE),\"\")))","v":""},null,null,null,null,null,null,null,null,null,null,null,null,null,null,null,null,null,null,null,null,null,null,null,null,null,null,null,null,null,null,null,null,null,null,null,{"$error":"#N/A"},{"$error":"#N/A"},{"$error":"#N/A"},{"$error":"#N/A"},{"$error":"#N/A"},{"$error":"#N/A"},{"$error":"#N/A"},89,"B","BH","H"]
[null,null,null,null,null,null,null,null,null,null,null,null,null,null,null,null,null," ",null,null,null,null,null,null,null,null,null,null,"P",2,null,2,202,"VIDAL Charles",34,{"$f":"AD71&AF71","v":"22"},null,"",0,null,null,"ASSUN TT",{"$f":"IF(ISERROR(VLOOKUP(AP71,$AT$13:$CG$147,35,FALSE)),\"\",IF(AL71=\"H\",VLOOKUP(AP71,$AT$13:$CG$147,35,FALSE),IF(AL71=\"B\",VLOOKUP(AP71,$AT$13:$CG$147,36,FALSE),\"\")))","v":""},null,null,null,null,null,null,null,null,null,null,null,null,null,null,null,null,null,null,null,null,null,null,null,null,null,null,null,null,null,null,null,null,null,null,null,{"$error":"#N/A"},{"$error":"#N/A"},{"$error":"#N/A"},{"$error":"#N/A"},{"$error":"#N/A"},{"$error":"#N/A"},{"$error":"#N/A"},91,"B","BH","H"]
[null,null,null,null,null,null,null,null,null,null,null,null,null,null,null,null,null," ",null,null,null,null,null,null,null,null,null,null,"P",3,null,2,203,"ROBION Paul",35,"32",null,"",0,null,null,"SIOUVILLE ATTLC","",null,null,null,null,null,null,null,null,null,null,null,null,null,null,null,null,null,null,null,null,null,null,null,null,null,null,null,null,null,null,null,null,null,null,null,{"$error":"#N/A"},{"$error":"#N/A"},{"$error":"#N/A"},{"$error":"#N/A"},{"$error":"#N/A"},{"$error":"#N/A"},{"$error":"#N/A"},92,"B","BH","H"]
[null,null,null,null,null,null,null,null,null,null,null,null,null,null,null,null,null," ",null,null,null,null,null,null,null,null,null,null,"P",4,null,2,204,"LEVILLAIN Camille",36,"42",null,"",0,null,null,"ST PAIR BRICQUE","",null,null,null,null,null,null,null,null,null,null,null,null,null,null,null,null,null,null,null,null,null,null,null,null,null,null,null,null,null,null,null,null,null,null,null,{"$error":"#N/A"},{"$error":"#N/A"},{"$error":"#N/A"},{"$error":"#N/A"},{"$error":"#N/A"},{"$error":"#N/A"},{"$error":"#N/A"},93,"B","BH","H"]
[null,null,null,null,null,null,null,null,null,null,null,null,null,null,null,null,null," ",null,null,null,null,null,null,null,null,null,null,"P",5,null,2,205,"COUEDEL-COULON Eloan",37,"52",null,"",0,null,null,"TT SAINT JAMES","",null,null,null,null,null,null,null,null,null,null,null,null,null,null,null,null,null,null,null,null,null,null,null,null,null,null,null,null,null,null,null,null,null,null,null,{"$error":"#N/A"},{"$error":"#N/A"},{"$error":"#N/A"},{"$error":"#N/A"},{"$error":"#N/A"},{"$error":"#N/A"},{"$error":"#N/A"},94,"B","BH","H"]
[null,null,null,null,null,null,null,null,null,null,null,null,null,null,null,null,null," ",null,null,null,null,null,null,null,null,null,null,"P",6,null,2,206,"LECLERC Alexandre-Bao",38,"62",null,"",0,null,null,"OC AGNEAUX","",null,null,null,null,null,null,null,null,null,null,null,null,null,null,null,null,null,null,null,null,null,null,null,null,null,null,null,null,null,null,null,null,null,null,null,{"$error":"#N/A"},{"$error":"#N/A"},{"$error":"#N/A"},{"$error":"#N/A"},{"$error":"#N/A"},{"$error":"#N/A"},{"$error":"#N/A"},96,"B","BH","H"]
[null,null,null,null,null,null,null,null,null,null,null,null,null,null,null,null,null," ",null,null,null,null,null,null,null,null,null,null,"P",7,null,2,207,"NICOLLE Augustin",39,"72",null,"",0,null,null,"COUTANCES JA","",null,null,null,null,null,null,null,null,null,null,null,null,null,null,null,null,null,null,null,null,null,null,null,null,null,null,null,null,null,null,null,null,null,null,null,{"$error":"#N/A"},{"$error":"#N/A"},{"$error":"#N/A"},{"$error":"#N/A"},{"$error":"#N/A"},{"$error":"#N/A"},{"$error":"#N/A"},97,"B","BB","B"]
[null,null,null,null,null,null,null,null,null,null,null,null,null,null,null,null,null," ",null,null,null,null,null,null,null,null,null,null,"P",8,null,2,208,"NICOLLE Emile",40,"82",null,"",0,null,null,"COUTANCES JA","",null,null,null,null,null,null,null,null,null,null,null,null,null,null,null,null,null,null,null,null,null,null,null,null,null,null,null,null,null,null,null,null,null,null,null,{"$error":"#N/A"},{"$error":"#N/A"},{"$error":"#N/A"},{"$error":"#N/A"},{"$error":"#N/A"},{"$error":"#N/A"},{"$error":"#N/A"},99,"B","BB","B"]
[null,null,null,null,null,null,null,null,null,null,null,null,null,null,null,null,null," ",null,null,null,null,null,null,null,null,null,null,"P",9,null,2,209,"RIPOCHE Nathan",41,"92",null,"",0,null,null,"ST PAIR BRICQUE","",null,null,null,null,null,null,null,null,null,null,null,null,null,null,null,null,null,null,null,null,null,null,null,null,null,null,null,null,null,null,null,null,null,null,null,{"$error":"#N/A"},{"$error":"#N/A"},{"$error":"#N/A"},{"$error":"#N/A"},{"$error":"#N/A"},{"$error":"#N/A"},{"$error":"#N/A"},100,"B","BB","B"]
[null,null,null,null,null,null,null,null,null,null,null,null,null,null,null,null,null," ",null,null,null,null,null,null,null,null,null,null,"P",10,null,2,210,"PEIN Edgar",42,"102",null,"",0,null,null,"ST PAIR BRICQUE","",null,null,null,null,null,null,null,null,null,null,null,null,null,null,null,null,null,null,null,null,null,null,null,null,null,null,null,null,null,null,null,null,null,null,null,{"$error":"#N/A"},{"$error":"#N/A"},{"$error":"#N/A"},{"$error":"#N/A"},{"$error":"#N/A"},{"$error":"#N/A"},{"$error":"#N/A"},101,"B","BB","B"]
[null,null,null,null,null,null,null,null,null,null,null,null,null,null,null,null,null," ",null,null,null,null,null,null,null,null,null,null,"P",11,null,2,211,"RICOUX Bastien",43,"112",null,"",0,null,null,"ATTDUCEYAVRANCH","",null,null,null,null,null,null,null,null,null,null,null,null,null,null,null,null,null,null,null,null,null,null,null,null,null,null,null,null,null,null,null,null,null,null,null,{"$error":"#N/A"},{"$error":"#N/A"},{"$error":"#N/A"},{"$error":"#N/A"},{"$error":"#N/A"},{"$error":"#N/A"},{"$error":"#N/A"},102,"B","BB","B"]
[null,null,null,null,null,null,null,null,null,null,null,null,null,null,null,null,null," ",null,null,null,null,null,null,null,null,null,null,"P",12,null,2,212,"ROC Ferdinand",44,"122",null,"",0,null,null,"ATTDUCEYAVRANCH","",null,null,null,null,null,null,null,null,null,null,null,null,null,null,null,null,null,null,null,null,null,null,null,null,null,null,null,null,null,null,null,null,null,null,null,{"$error":"#N/A"},{"$error":"#N/A"},{"$error":"#N/A"},{"$error":"#N/A"},{"$error":"#N/A"},{"$error":"#N/A"},{"$error":"#N/A"},104,"B","BB","B"]
[null,null,null,null,null,null,null,null,null,null,null,null,null,null,null,null,null," ",null,null,null,null,null,null,null,null,null,null,"P",13,null,2,213,"RIGOT Noe",45,"132",null,"",0,null,null,"CARANTILLAISE","",null,null,null,null,null,null,null,null,null,null,null,null,null,null,null,null,null,null,null,null,null,null,null,null,null,null,null,null,null,null,null,null,null,null,null,{"$error":"#N/A"},{"$error":"#N/A"},{"$error":"#N/A"},{"$error":"#N/A"},{"$error":"#N/A"},{"$error":"#N/A"},{"$error":"#N/A"},105,"B","BB","B"]
[null,null,null,null,null,null,null,null,null,null,null,null,null,null,null,null,null," ",null,null,null,null,null,null,null,null,null,null,"P",14,null,2,214,"MASSELINE Malo",46,"142",null,"",0,null,null,"TORIGNAISE ESTT","",null,null,null,null,null,null,null,null,null,null,null,null,null,null,null,null,null,null,null,null,null,null,null,null,null,null,null,null,null,null,null,null,null,null,null,{"$error":"#N/A"},{"$error":"#N/A"},{"$error":"#N/A"},{"$error":"#N/A"},{"$error":"#N/A"},{"$error":"#N/A"},{"$error":"#N/A"},107,"B","BB","B"]
[null,null,null,null,null,null,null,null,null,null,null,null,null,null,null,null,null," ",null,null,null,null,null,null,null,null,null,null,"P",15,null,2,215,"BRILLET Pacome",47,"152",null,"",0,null,null,"TT SAINT JAMES","",null,null,null,null,null,null,null,null,null,null,null,null,null,null,null,null,null,null,null,null,null,null,null,null,null,null,null,null,null,null,null,null,null,null,null,{"$f":"IF(VLOOKUP($AT84,$AT$16:$BL$110,CA$11,FALSE)>1,VLOOKUP($AT84,$AT$16:$BL$110,CA$11,FALSE),\"\")","v":{"$error":"#N/A"}},{"$f":"IF(OR(VLOOKUP($AT84,$AT$16:$BL$110,CB$12,FALSE)>1,AND(VLOOKUP($AT84,$AT$16:$BL$110,CB$12,FALSE)=1,(VLOOKUP($AT84,$AT$16:$BL$110,CB$12+4,FALSE)+VLOOKUP($AT84,$AT$16:$BL$110,CB$12+6,FALSE))>0)),(VLOOKUP($AT84,$AT$16:$BL$110,CB$12,FALSE)+VLOOKUP($AT84,$AT$16:$BL$110,CB$12+4,FALSE)+VLOOKUP($AT84,$AT$16:$BL$110,CB$12+6,FALSE)),\"\")","v":{"$error":"#N/A"}},{"$error":"#N/A"},{"$f":"IF(OR(VLOOKUP($AT84,$AT$16:$BL$110,CD$12+2,FALSE)>1,AND(VLOOKUP($AT84,$AT$16:$BL$110,CD$12+2,FALSE)=1,VLOOKUP($AT84,$AT$16:$BL$110,CD$12+3,FALSE)>1)),VLOOKUP($AT84,$AT$16:$BL$110,CD$12+3,FALSE),\"\")","v":{"$error":"#N/A"}},{"$error":"#N/A"},{"$error":"#N/A"},{"$error":"#N/A"},108,"B","BB","B"]
[null,null,null,null,null,null,null,null,null,null,null,null,null,null,null,null,null," ",null,null,null,null,null,null,null,null,null,null,"P",16,null,2,216,"VARIN Louis",48,"162",null,"",0,null,null,"TORIGNAISE ESTT","",null,null,null,null,null,null,null,null,null,null,null,null,null,null,null,null,null,null,null,null,null,null,null,null,null,null,null,null,null,null,null,null,null,null,null,{"$error":"#N/A"},{"$error":"#N/A"},{"$error":"#N/A"},{"$error":"#N/A"},{"$error":"#N/A"},{"$error":"#N/A"},{"$error":"#N/A"},109,"B","BB","B"]
[null,null,null,null,null,null,null,null,null,null,null,null,null,null,null,null,null," ",null,null,null,null,null,null,null,null,null,null,"P",17,null,2,217,"LUCAS Ifig",49,"172",null,"",0,null,null,"EQUEURDREVILLE","",null,null,null,null,null,null,null,null,null,null,null,null,null,null,null,null,null,null,null,null,null,null,null,null,null,null,null,null,null,null,null,null,null,null,null,{"$error":"#N/A"},{"$error":"#N/A"},{"$error":"#N/A"},{"$error":"#N/A"},{"$error":"#N/A"},{"$error":"#N/A"},{"$error":"#N/A"},110,"B","BB","B"]
[null,null,null,null,null,null,null,null,null,null,null,null,null,null,null,null,null," ",null,null,null,null,null,null,null,null,null,null,"P",18,null,2,218,"VIDAL Charles",50,"182",null,"",0,null,null,"ASSUN TT","",null,null,null,null,null,null,null,null,null,null,null,null,null,null,null,null,null,null,null,null,null,null,null,null,null,null,null,null,null,null,null,null,null,null,null,{"$error":"#N/A"},{"$error":"#N/A"},{"$error":"#N/A"},{"$error":"#N/A"},{"$error":"#N/A"},{"$error":"#N/A"},{"$error":"#N/A"},112,"B","BB","B"]
[null,null,null,null,null,null,null,null,null,null,null,null,null,null,null,null,null," ",null,null,null,null,null,null,null,null,null,null,"P",19,null,2,219,"ROBION Paul",51,"192",null,"",0,null,null,"SIOUVILLE ATTLC","",null,null,null,null,null,null,null,null,null,null,null,null,null,null,null,null,null,null,null,null,null,null,null,null,null,null,null,null,null,null,null,null,null,null,null,{"$error":"#N/A"},{"$error":"#N/A"},{"$error":"#N/A"},{"$error":"#N/A"},{"$error":"#N/A"},{"$error":"#N/A"},{"$error":"#N/A"},113,"B","BB","B"]
[null,null,null,null,null,null,null,null,null,null,null,null,null,null,null,null,null," ",null,null,null,null,null,null,null,null,null,null,"P",20,null,2,220,"LEVILLAIN Camille",52,"202",null,"",0,null,null,"ST PAIR BRICQUE","",null,null,null,null,null,null,null,null,null,null,null,null,null,null,null,null,null,null,null,null,null,null,null,null,null,null,null,null,null,null,null,null,null,null,null,{"$error":"#N/A"},{"$error":"#N/A"},{"$error":"#N/A"},{"$error":"#N/A"},{"$error":"#N/A"},{"$error":"#N/A"},{"$error":"#N/A"},115,"B","BB","B"]
[null,null,null,null,null,null,null,null,null,null,null,null,null,null,null,null,null," ",null,null,null,null,null,null,null,null,null,null,"P",21,null,2,221,"COUEDEL-COULON Eloan",53,"212",null,"",0,null,null,"TT SAINT JAMES","",null,null,null,null,null,null,null,null,null,null,null,null,null,null,null,null,null,null,null,null,null,null,null,null,null,null,null,null,null,null,null,null,null,null,null,{"$error":"#N/A"},{"$error":"#N/A"},{"$error":"#N/A"},{"$error":"#N/A"},{"$error":"#N/A"},{"$error":"#N/A"},{"$error":"#N/A"},116,"B","BB","B"]
[null,null,null,null,null,null,null,null,null,null,null,null,null,null,null,null,null," ",null,null,null,null,null,null,null,null,null,null,"P",22,null,2,222,"LECLERC Alexandre-Bao",54,"222",null,"",0,null,null,"OC AGNEAUX","",null,null,null,null,null,null,null,null,null,null,null,null,null,null,null,null,null,null,null,null,null,null,null,null,null,null,null,null,null,null,null,null,null,null,null,{"$error":"#N/A"},{"$error":"#N/A"},{"$error":"#N/A"},{"$error":"#N/A"},{"$error":"#N/A"},{"$error":"#N/A"},{"$error":"#N/A"},117,"B","BB","B"]
[null,null,null,null,null,null,null,null,null,null,null,null,null,null,null,null,null,null,null,null,null,null,null,null,null,null,null,null,"P",23,null,2,223,"NICOLLE Augustin",55,"232",null,"",0,null,null,"COUTANCES JA","",null,null,null,null,null,null,null,null,null,null,null,null,null,null,null,null,null,null,null,null,null,null,null,null,null,null,null,null,null,null,null,null,null,null,null,{"$error":"#N/A"},{"$error":"#N/A"},{"$error":"#N/A"},{"$error":"#N/A"},{"$error":"#N/A"},{"$error":"#N/A"},{"$error":"#N/A"},118,"B","BB","B"]
[null,null,null,null,null,null,null,null,null,null,null,null,null,null,null,null,null,null,null,null,null,null,null,null,null,null,null,null,"P",24,null,2,224,"NICOLLE Emile",56,"242",null,"",0,null,null,"COUTANCES JA","",null,null,null,null,null,null,null,null,null,null,null,null,null,null,null,null,null,null,null,null,null,null,null,null,null,null,null,null,null,null,null,null,null,null,null,{"$error":"#N/A"},{"$error":"#N/A"},{"$error":"#N/A"},{"$error":"#N/A"},{"$error":"#N/A"},{"$error":"#N/A"},{"$error":"#N/A"},120,"B","BB","B"]
[null,null,null,null,null,null,null,null,null,null,null,null,null,null,null,null,null,null,null,null,null,null,null,null,null,null,null,null,"P",25,null,2,225,"RIPOCHE Nathan",57,"252",null,"",0,null,null,"ST PAIR BRICQUE","",null,null,null,null,null,null,null,null,null,null,null,null,null,null,null,null,null,null,null,null,null,null,null,null,null,null,null,null,null,null,null,null,null,null,null,{"$error":"#N/A"},{"$error":"#N/A"},{"$error":"#N/A"},{"$error":"#N/A"},{"$error":"#N/A"},{"$error":"#N/A"},{"$error":"#N/A"},121,"B","BB","B"]
[null,null,null,null,null,null,null,null,null,null,null,null,null,null,null,null,null,null,null,null,null,null,null,null,null,null,null,null,"P",26,null,2,226,"PEIN Edgar",58,"262",null,"",0,null,null,"ST PAIR BRICQUE","",null,null,null,null,null,null,null,null,null,null,null,null,null,null,null,null,null,null,null,null,null,null,null,null,null,null,null,null,null,null,null,null,null,null,null,{"$error":"#N/A"},{"$error":"#N/A"},{"$error":"#N/A"},{"$error":"#N/A"},{"$error":"#N/A"},{"$error":"#N/A"},{"$error":"#N/A"},123,"B","BB","B"]
[null,null,null,null,null,null,null,null,null,null,null,null,null,null,null,null,null,null,null,null,null,null,null,null,null,null,null,null,"P",27,null,2,227,"RICOUX Bastien",59,"272",null,"",0,null,null,"ATTDUCEYAVRANCH","",null,null,null,null,null,null,null,null,null,null,null,null,null,null,null,null,null,null,null,null,null,null,null,null,null,null,null,null,null,null,null,null,null,null,null,{"$error":"#N/A"},{"$error":"#N/A"},{"$error":"#N/A"},{"$error":"#N/A"},{"$error":"#N/A"},{"$error":"#N/A"},{"$error":"#N/A"},124,"B","BB","B"]
[null,null,null,null,null,null,null,null,null,null,null,null,null,null,null,null,null,null,null,null,null,null,null,null,null,null,null,null,"P",28,null,2,228,"ROC Ferdinand",60,"282",null,"",0,null,null,"ATTDUCEYAVRANCH","",null,null,null,null,null,null,null,null,null,null,null,null,null,null,null,null,null,null,null,null,null,null,null,null,null,null,null,null,null,null,null,null,null,null,null,{"$error":"#N/A"},{"$error":"#N/A"},{"$error":"#N/A"},{"$error":"#N/A"},{"$error":"#N/A"},{"$error":"#N/A"},{"$error":"#N/A"},125,"B","BB","B"]
[null,null,null,null,null,null,null,null,null,null,null,null,null,null,null,null,null,null,null,null,null,null,null,null,null,null,null,null,"P",29,null,2,229,"RIGOT Noe",61,"292",null,"",0,null,null,"CARANTILLAISE","",null,null,null,null,null,null,null,null,null,null,null,null,null,null,null,null,null,null,null,null,null,null,null,null,null,null,null,null,null,null,null,null,null,null,null,{"$error":"#N/A"},{"$error":"#N/A"},{"$error":"#N/A"},{"$error":"#N/A"},{"$error":"#N/A"},{"$error":"#N/A"},{"$error":"#N/A"},126,"B","BB","B"]
[null,null,null,null,null,null,null,null,null,null,null,null,null,null,null,null,null,null,null,null,null,null,null,null,null,null,null,null,"P",30,null,2,230,"MASSELINE Malo",62,"302",null,"",0,null,null,"TORIGNAISE ESTT","",null,null,null,null,null,null,null,null,null,null,null,null,null,null,null,null,null,null,null,null,null,null,null,null,null,null,null,null,null,null,null,null,null,null,null,{"$error":"#N/A"},{"$error":"#N/A"},{"$error":"#N/A"},{"$error":"#N/A"},{"$error":"#N/A"},{"$error":"#N/A"},{"$error":"#N/A"},128,"B","BB","B"]
[null,null,null,null,null,null,null,null,null,null,null,null,null,null,null,null,null,null,null,null,null,null,null,null,null,null,null,null,"P",31,null,2,231,"BRILLET Pacome",63,"312",null,"",0,null,null,"TT SAINT JAMES","",null,null,null,null,null,null,null,null,null,null,null,null,null,null,null,null,null,null,null,null,null,null,null,null,null,null,null,null,null,null,null,null,null,null,null,{"$error":"#N/A"},{"$error":"#N/A"},{"$error":"#N/A"},{"$error":"#N/A"},{"$error":"#N/A"},{"$error":"#N/A"},{"$error":"#N/A"}]
[null,null,null,null,null,null,null,null,null,null,null,null,null,null,null,null,null,null,null,null,null,null,null,null,null,null,null,null,"P",32,null,2,232,"VARIN Louis",64,"322",null,"",0,null,null,"TORIGNAISE ESTT","",null,null,null,null,null,null,null,null,null,null,null,null,null,null,null,null,null,null,null,null,null,null,null,null,null,null,null,null,null,null,null,null,null,null,null,{"$error":"#N/A"},{"$error":"#N/A"},{"$error":"#N/A"},{"$error":"#N/A"},{"$error":"#N/A"},{"$error":"#N/A"},{"$error":"#N/A"}]
[null,null,null,null,null,null,null,null,null,null,null,null,null,null,null,null,null,null,null,null,null,null,null,null,null,null,null,null,null,null,null,null,null,null,null,null,null,null,null,null,null,null,null,null,null,null,null,null,null,null,null,null,null,null,null,null,null,null,null,null,null,null,null,null,null,null,null,null,null,null,null,null,null,null,null,null,null,null,{"$error":"#N/A"},{"$error":"#N/A"},{"$error":"#N/A"},{"$error":"#N/A"},{"$error":"#N/A"},{"$error":"#N/A"},{"$error":"#N/A"}]
[null,null,null,null,null,null,null,null,null,null,null,null,null,null,null,null,null,null,null,null,null,null,null,null,null,null,null,null,null,null,null,null,null,null,null,null,null,null,null,null,null,null,null,null,null,null,null,null,null,null,null,null,null,null,null,null,null,null,null,null,null,null,null,null,null,null,null,null,null,null,null,null,null,null,null,null,null,null,{"$error":"#N/A"},{"$error":"#N/A"},{"$error":"#N/A"},{"$error":"#N/A"},{"$error":"#N/A"},{"$error":"#N/A"},{"$error":"#N/A"}]
[null,null,null,null,null,null,null,null,null,null,null,null,null,null,null,null,null,null,null,null,null,null,null,null,null,null,null,null,null,null,null,null,null,null,null,null,null,null,null,null,null,null,null,null,null,null,null,null,null,null,null,null,null,null,null,null,null,null,null,null,null,null,null,null,null,null,null,null,null,null,null,null,null,null,null,null,null,null,{"$error":"#N/A"},{"$error":"#N/A"},{"$error":"#N/A"},{"$error":"#N/A"},{"$error":"#N/A"},{"$error":"#N/A"},{"$error":"#N/A"}]
[null,null,null,null,null,null,null,null,null,null,null,null,null,null,null,null,null,null,null,null,null,null,null,null,null,null,null,null,null,null,null,null,null,null,null,null,null,null,null,null,null,null,null,null,null,null,null,null,null,null,null,null,null,null,null,null,null,null,null,null,null,null,null,null,null,null,null,null,null,null,null,null,null,null,null,null,null,null,{"$error":"#N/A"},{"$error":"#N/A"},{"$error":"#N/A"},{"$error":"#N/A"},{"$error":"#N/A"},{"$error":"#N/A"},{"$error":"#N/A"}]
[null,null,null,null,null,null,null,null,null,null,null,null,null,null,null,null,null,null,null,null,null,null,null,null,null,null,null,null,null,null,null,null,null,null,null,null,null,null,null,null,null,null,null,null,null,null,null,null,null,null,null,null,null,null,null,null,null,null,null,null,null,null,null,null,null,null,null,null,null,null,null,null,null,null,null,null,null,null,{"$error":"#N/A"},{"$error":"#N/A"},{"$error":"#N/A"},{"$error":"#N/A"},{"$error":"#N/A"},{"$error":"#N/A"},{"$error":"#N/A"}]
[null,null,null,null,null,null,null,null,null,null,null,null,null,null,null,null,null,null,null,null,null,null,null,null,null,null,null,null,null,null,null,null,null,null,null,null,null,null,null,null,null,null,null,null,null,null,null,null,null,null,null,null,null,null,null,null,null,null,null,null,null,null,null,null,null,null,null,null,null,null,null,null,null,null,null,null,null,null,{"$error":"#N/A"},{"$error":"#N/A"},{"$error":"#N/A"},{"$error":"#N/A"},{"$error":"#N/A"},{"$error":"#N/A"},{"$error":"#N/A"}]
[null,null,null,null,null,null,null,null,null,null,null,null,null,null,null,null,null,null,null,null,null,null,null,null,null,null,null,null,null,null,null,null,null,null,null,null,null,null,null,null,null,null,null,null,null,null,null,null,null,null,null,null,null,null,null,null,null,null,null,null,null,null,null,null,null,null,null,null,null,null,null,null,null,null,null,null,null,null,{"$error":"#N/A"},{"$error":"#N/A"},{"$error":"#N/A"},{"$error":"#N/A"},{"$error":"#N/A"},{"$error":"#N/A"},{"$error":"#N/A"}]
[null,null,null,null,null,null,null,null,null,null,null,null,null,null,null,null,null,null,null,null,null,null,null,null,null,null,null,null,null,null,null,null,null,null,null,null,null,null,null,null,null,null,null,null,null,null,null,null,null,null,null,null,null,null,null,null,null,null,null,null,null,null,null,null,null,null,null,null,null,null,null,null,null,null,null,null,null,null,{"$error":"#N/A"},{"$error":"#N/A"},{"$error":"#N/A"},{"$error":"#N/A"},{"$error":"#N/A"},{"$error":"#N/A"},{"$error":"#N/A"}]
[null,null,null,null,null,null,null,null,null,null,null,null,null,null,null,null,null,null,null,null,null,null,null,null,null,null,null,null,null,null,null,null,null,null,null,null,null,null,null,null,null,null,null,null,null,null,null,null,null,null,null,null,null,null,null,null,null,null,null,null,null,null,null,null,null,null,null,null,null,null,null,null,null,null,null,null,null,null,{"$error":"#N/A"},{"$error":"#N/A"},{"$error":"#N/A"},{"$error":"#N/A"},{"$error":"#N/A"},{"$error":"#N/A"},{"$error":"#N/A"}]
[null,null,null,null,null,null,null,null,null,null,null,null,null,null,null,null,null,null,null,null,null,null,null,null,null,null,null,null,null,null,null,null,null,null,null,null,null,null,null,null,null,null,null,null,null,null,null,null,null,null,null,null,null,null,null,null,null,null,null,null,null,null,null,null,null,null,null,null,null,null,null,null,null,null,null,null,null,null,{"$error":"#N/A"},{"$error":"#N/A"},{"$error":"#N/A"},{"$error":"#N/A"},{"$error":"#N/A"},{"$error":"#N/A"},{"$error":"#N/A"}]
[null,null,null,null,null,null,null,null,null,null,null,null,null,null,null,null,null,null,null,null,null,null,null,null,null,null,null,null,null,null,null,null,null,null,null,null,null,null,null,null,null,null,null,null,null,null,null,null,null,null,null,null,null,null,null,null,null,null,null,null,null,null,null,null,null,null,null,null,null,null,null,null,null,null,null,null,null,null,{"$error":"#N/A"},{"$error":"#N/A"},{"$error":"#N/A"},{"$error":"#N/A"},{"$error":"#N/A"},{"$error":"#N/A"},{"$error":"#N/A"}]
[null,null,null,null,null,null,null,null,null,null,null,null,null,null,null,null,null,null,null,null,null,null,null,null,null,null,null,null,null,null,null,null,null,null,null,null,null,null,null,null,null,null,null,null,null,null,null,null,null,null,null,null,null,null,null,null,null,null,null,null,null,null,null,null,null,null,null,null,null,null,null,null,null,null,null,null,null,null,{"$error":"#N/A"},{"$error":"#N/A"},{"$error":"#N/A"},{"$error":"#N/A"},{"$error":"#N/A"},{"$error":"#N/A"},{"$error":"#N/A"}]
[null,null,null,null,null,null,null,null,null,null,null,null,null,null,null,null,null,null,null,null,null,null,null,null,null,null,null,null,null,null,null,null,null,null,null,null,null,null,null,null,null,null,null,null,null,null,null,null,null,null,null,null,null,null,null,null,null,null,null,null,null,null,null,null,null,null,null,null,null,null,null,null,null,null,null,null,null,null,{"$error":"#N/A"},{"$error":"#N/A"},{"$error":"#N/A"},{"$error":"#N/A"},{"$error":"#N/A"},{"$error":"#N/A"},{"$error":"#N/A"}]
[null,null,null,null,null,null,null,null,null,null,null,null,null,null,null,null,null,null,null,null,null,null,null,null,null,null,null,null,null,null,null,null,null,null,null,null,null,null,null,null,null,null,null,null,null,null,null,null,null,null,null,null,null,null,null,null,null,null,null,null,null,null,null,null,null,null,null,null,null,null,null,null,null,null,null,null,null,null,{"$error":"#N/A"},{"$error":"#N/A"},{"$error":"#N/A"},{"$error":"#N/A"},{"$error":"#N/A"},{"$error":"#N/A"},{"$error":"#N/A"}]
[null,null,null,null,null,null,null,null,null,null,null,null,null,null,null,null,null,null,null,null,null,null,null,null,null,null,null,null,null,null,null,null,null,null,null,null,null,null,null,null,null,null,null,null,null,null,null,null,null,null,null,null,null,null,null,null,null,null,null,null,null,null,null,null,null,null,null,null,null,null,null,null,null,null,null,null,null,null,{"$error":"#N/A"},{"$error":"#N/A"},{"$error":"#N/A"},{"$error":"#N/A"},{"$error":"#N/A"},{"$error":"#N/A"},{"$error":"#N/A"}]
[null,null,null,null,null,null,null,null,null,null,null,null,null,null,null,null,null,null,null,null,null,null,null,null,null,null,null,null,null,null,null,null,null,null,null,null,null,null,null,null,null,null,null,null,null,null,null,null,null,null,null,null,null,null,null,null,null,null,null,null,null,null,null,null,null,null,null,null,null,null,null,null,null,null,null,null,null,null,{"$error":"#N/A"},{"$error":"#N/A"},{"$error":"#N/A"},{"$error":"#N/A"},{"$error":"#N/A"},{"$error":"#N/A"},{"$error":"#N/A"}]
[null,null,null,null,null,null,null,null,null,null,null,null,null,null,null,null,null,null,null,null,null,null,null,null,null,null,null,null,null,null,null,null,null,null,null,null,null,null,null,null,null,null,null,null,null,null,null,null,null,null,null,null,null,null,null,null,null,null,null,null,null,null,null,null,null,null,null,null,null,null,null,null,null,null,null,null,null,null,{"$error":"#N/A"},{"$error":"#N/A"},{"$error":"#N/A"},{"$error":"#N/A"},{"$error":"#N/A"},{"$error":"#N/A"},{"$error":"#N/A"}]
[null,null,null,null,null,null,null,null,null,null,null,null,null,null,null,null,null,null,null,null,null,null,null,null,null,null,null,null,null,null,null,null,null,null,null,null,null,null,null,null,null,null,null,null,null,null,null,null,null,null,null,null,null,null,null,null,null,null,null,null,null,null,null,null,null,null,null,null,null,null,null,null,null,null,null,null,null,null,{"$error":"#N/A"},{"$error":"#N/A"},{"$error":"#N/A"},{"$error":"#N/A"},{"$error":"#N/A"},{"$error":"#N/A"},{"$error":"#N/A"}]
[null,null,null,null,null,null,null,null,null,null,null,null,null,null,null,null,null,null,null,null,null,null,null,null,null,null,null,null,null,null,null,null,null,null,null,null,null,null,null,null,null,null,null,null,null,null,null,null,null,null,null,null,null,null,null,null,null,null,null,null,null,null,null,null,null,null,null,null,null,null,null,null,null,null,null,null,null,null,{"$error":"#N/A"},{"$error":"#N/A"},{"$error":"#N/A"},{"$error":"#N/A"},{"$error":"#N/A"},{"$error":"#N/A"},{"$error":"#N/A"}]
[]
[null,null,null,null,null,null,null,null,null,null,null,null,null,null,null,null,null,null,null,null,null,null,null,null,null,null,null,"3ème de poule"]
[null,null,null,null,null,null,null,null,null,null,null,null,null,null,null,null,null,null,null,null,null,null,null,null,null,null,null,null,"Pl","x","TAS","N°","Dos","NOM Prénom","Rang","SPIDD","a","1/2 T","1/4 T","c","d","Club, Comité ou Ligue","N° Club"]
[null,null,null,null,null,null,null,null,null,null,null,null,null,null,null,null,null,null,null,null,null,null,null,null,null,null,null,null,"P",1,null,3,{"$f":"IF(ISNA(VLOOKUP(AJ124,Liste_SPIDD,2,FALSE)),901,VLOOKUP(AJ124,Liste_SPIDD,2,FALSE))","v":301},{"$f":"IF(AG124=\"\",\"\",IF(ISNA(VLOOKUP(AG124,Liste_Dos_SPIDD,2,FALSE)),VLOOKUP(AG124,Liste_J,3,FALSE),VLOOKUP(AG124,Liste_Dos_SPIDD,2,FALSE)))","v":"LUCAS Ifig"},65,{"$f":"AD124&AF124","v":"13"},null,{"$f":"IF(AL70=\"H\",\"H\",IF(AL70=\"B\",\"B\",\"\"))","v":""},{"$f":"IF(AM70=0,0,IF(AM70=\"HH\",\"HB\",IF(AM70=\"HB\",\"HH\",IF(AM70=\"BH\",\"BB\",IF(AM70=\"BB\",\"BH\")))))","v":0},null,null,{"$f":"IF(AG124=\"\",\"\",IF(ISNA(VLOOKUP(AG124,Liste_Dos_SPIDD,3,FALSE)),VLOOKUP(AG124,Liste_J,$A$10,FALSE),VLOOKUP(AG124,Liste_Dos_SPIDD,3,FALSE)))","v":"EQUEURDREVILLE"},{"$f":"IF(ISERROR(VLOOKUP(AP124,$AT$16:$CG$110,18,FALSE)),\"\",IF($AP$9=\"HH\",VLOOKUP(AP124,$AT$16:$CG$110,37,FALSE),IF($AP$9=\"HB\",VLOOKUP(AP124,$AT$16:$CG$110,38,FALSE),IF($AP$9=\"BH\",VLOOKUP(AP124,$AT$16:$CG$110,39,FALSE),IF($AP$9=\"BB\",VLOOKUP(AP124,$AT$16:$CG$110,40,FALSE),\"\")))))","v":""}]
[null,null,null,null,null,null,null,null,null,null,null,null,null,null,null,null,null,null,null,null,null,null,null,null,null,null,null,null,"P",2,null,3,302,"VIDAL Charles",66,{"$f":"AD125&AF125","v":"23"},null,"",0,null,null,"ASSUN TT",""]
[null,null,null,null,null,null,null,null,null,null,null,null,null,null,null,null,null,null,null,null,null,null,null,null,null,null,null,null,"P",3,null,3,303,"ROBION Paul",67,"33",null,"",0,null,null,"SIOUVILLE ATTLC",""]
[null,null,null,null,null,null,null,null,null,null,null,null,null,null,null,null,null,null,null,null,null,null,null,null,null,null,null,null,"P",4,null,3,304,"LEVILLAIN Camille",68,"43",null,"",0,null,null,"ST PAIR BRICQUE",2]
[null,null,null,null,null,null,null,null,null,null,null,null,null,null,null,null,null,null,null,null,null,null,null,null,null,null,null,null,"P",5,null,3,305,"COUEDEL-COULON Eloan",69,"53",null,"",0,null,null,"TT SAINT JAMES",2]
[null,null,null,null,null,null,null,null,null,null,null,null,null,null,null,null,null,null,null,null,null,null,null,null,null,null,null,null,"P",6,null,3,306,"LECLERC Alexandre-Bao",70,"63",null,"",0,null,null,"OC AGNEAUX",""]
[null,null,null,null,null,null,null,null,null,null,null,null,null,null,null,null,null,null,null,null,null,null,null,null,null,null,null,null,"P",7,null,3,307,"NICOLLE Augustin",71,"73",null,"",0,null,null,"COUTANCES JA",""]
[null,null,null,null,null,null,null,null,null,null,null,null,null,null,null,null,null,null,null,null,null,null,null,null,null,null,null,null,"P",8,null,3,308,"NICOLLE Emile",72,"83",null,"",0,null,null,"COUTANCES JA",""]
[null,null,null,null,null,null,null,null,null,null,null,null,null,null,null,null,null,null,null,null,null,null,null,null,null,null,null,null,"P",9,null,3,309,"RIPOCHE Nathan",73,"93",null,"",0,null,null,"ST PAIR BRICQUE",2]
[null,null,null,null,null,null,null,null,null,null,null,null,null,null,null,null,null,null,null,null,null,null,null,null,null,null,null,null,"P",10,null,3,310,"PEIN Edgar",74,"103",null,"",0,null,null,"ST PAIR BRICQUE",2]
[null,null,null,null,null,null,null,null,null,null,null,null,null,null,null,null,null,null,null,null,null,null,null,null,null,null,null,null,"P",11,null,3,311,"RICOUX Bastien",75,"113",null,"",0,null,null,"ATTDUCEYAVRANCH",2]
[null,null,null,null,null,null,null,null,null,null,null,null,null,null,null,null,null,null,null,null,null,null,null,null,null,null,null,null,"P",12,null,3,312,"ROC Ferdinand",76,"123",null,"",0,null,null,"ATTDUCEYAVRANCH",2]
[null,null,null,null,null,null,null,null,null,null,null,null,null,null,null,null,null,null,null,null,null,null,null,null,null,null,null,null,"P",13,null,3,313,"RIGOT Noe",77,"133",null,"",0,null,null,"CARANTILLAISE",2]
[null,null,null,null,null,null,null,null,null,null,null,null,null,null,null,null,null,null,null,null,null,null,null,null,null,null,null,null,"P",14,null,3,314,"MASSELINE Malo",78,"143",null,"",0,null,null,"TORIGNAISE ESTT",""]
[null,null,null,null,null,null,null,null,null,null,null,null,null,null,null,null,null,null,null,null,null,null,null,null,null,null,null,null,"P",15,null,3,315,"BRILLET Pacome",79,"153",null,"",0,null,null,"TT SAINT JAMES",2]
[null,null,null,null,null,null,null,null,null,null,null,null,null,null,null,null,null,null,null,null,null,null,null,null,null,null,null,null,"P",16,null,3,316,"VARIN Louis",80,"163",null,"",0,null,null,"TORIGNAISE ESTT",""]
[null,null,null,null,null,null,null,null,null,null,null,null,null,null,null,null,null,null,null,null,null,null,null,null,null,null,null,null,"P",17,null,3,317,"LUCAS Ifig",81,"173",null,"",0,null,null,"EQUEURDREVILLE",""]
[null,null,null,null,null,null,null,null,null,null,null,null,null,null,null,null,null,null,null,null,null,null,null,null,null,null,null,null,"P",18,null,3,318,"VIDAL Charles",82,"183",null,"",0,null,null,"ASSUN TT",""]
[null,null,null,null,null,null,null,null,null,null,null,null,null,null,null,null,null,null,null,null,null,null,null,null,null,null,null,null,"P",19,null,3,319,"ROBION Paul",83,"193",null,"",0,null,null,"SIOUVILLE ATTLC",""]
[null,null,null,null,null,null,null,null,null,null,null,null,null,null,null,null,null,null,null,null,null,null,null,null,null,null,null,null,"P",20,null,3,320,"LEVILLAIN Camille",84,"203",null,"",0,null,null,"ST PAIR BRICQUE",2]
[null,null,null,null,null,null,null,null,null,null,null,null,null,null,null,null,null,null,null,null,null,null,null,null,null,null,null,null,"P",21,null,3,321,"COUEDEL-COULON Eloan",85,"213",null,"",0,null,null,"TT SAINT JAMES",2]
[null,null,null,null,null,null,null,null,null,null,null,null,null,null,null,null,null,null,null,null,null,null,null,null,null,null,null,null,"P",22,null,3,322,"LECLERC Alexandre-Bao",86,"223",null,"",0,null,null,"OC AGNEAUX",""]
[null,null,null,null,null,null,null,null,null,null,null,null,null,null,null,null,null,null,null,null,null,null,null,null,null,null,null,null,"P",23,null,3,323,"NICOLLE Augustin",87,"233",null,"",0,null,null,"COUTANCES JA",""]
[null,null,null,null,null,null,null,null,null,null,null,null,null,null,null,null,null,null,null,null,null,null,null,null,null,null,null,null,"P",24,null,3,324,"NICOLLE Emile",88,"243",null,"",0,null,null,"COUTANCES JA",""]
[null,null,null,null,null,null,null,null,null,null,null,null,null,null,null,null,null,null,null,null,null,null,null,null,null,null,null,null,"P",25,null,3,325,"RIPOCHE Nathan",89,"253",null,"",0,null,null,"ST PAIR BRICQUE",2]
[null,null,null,null,null,null,null,null,null,null,null,null,null,null,null,null,null,null,null,null,null,null,null,null,null,null,null,null,"P",26,null,3,326,"PEIN Edgar",90,"263",null,"",0,null,null,"ST PAIR BRICQUE",2]
[null,null,null,null,null,null,null,null,null,null,null,null,null,null,null,null,null,null,null,null,null,null,null,null,null,null,null,null,"P",27,null,3,327,"RICOUX Bastien",91,"273",null,"",0,null,null,"ATTDUCEYAVRANCH",2]
[null,null,null,null,null,null,null,null,null,null,null,null,null,null,null,null,null,null,null,null,null,null,null,null,null,null,null,null,"P",28,null,3,328,"ROC Ferdinand",92,"283",null,"",0,null,null,"ATTDUCEYAVRANCH",2]
[null,null,null,null,null,null,null,null,null,null,null,null,null,null,null,null,null,null,null,null,null,null,null,null,null,null,null,null,"P",29,null,3,329,"RIGOT Noe",93,"293",null,"",0,null,null,"CARANTILLAISE",2]
[null,null,null,null,null,null,null,null,null,null,null,null,null,null,null,null,null,null,null,null,null,null,null,null,null,null,null,null,"P",30,null,3,330,"MASSELINE Malo",94,"303",null,"",0,null,null,"TORIGNAISE ESTT",""]
[null,null,null,null,null,null,null,null,null,null,null,null,null,null,null,null,null,null,null,null,null,null,null,null,null,null,null,null,"P",31,null,3,331,"BRILLET Pacome",95,"313",null,"",0,null,null,"TT SAINT JAMES",2]
[null,null,null,null,null,null,null,null,null,null,null,null,null,null,null,null,null,null,null,null,null,null,null,null,null,null,null,null,"P",32,null,3,332,"VARIN Louis",96,"323",null,"",0,null,null,"TORIGNAISE ESTT",""]
[]
[]
[]
[]
[]
[]
[]
[]
[]
[]
[]
[]
[]
[]
[]
[]
[]
[]
[]
[]
[]
[]
[]
[]
[]
[]
[]
[]
[]
[]
[]
[]
[]
[]
[]
[]
[]
[]
[]
[]
[]
[]
[]
[]
[]
[]
[]
[]
[]
[]
[]
[]
[]
[]
[]
[]
[]
[]
[]
[]
[]
[]
[]
[]
[]
[]
[]
[]
[]
[]
[]
[]
[]
[]
[]
[]
[]
[]
[]
[]
[]
[]
[]
[]
[]
[]
[]
[]
[]
[]
[]
[]
[]
[]
[]
[]
[]
[]
[]
[]
[]
[]
[]
[]
[]
[]
[]
[]
[]
[]
[]
[]
[]
[]
[]
[]
[]
[]
[]
[]
[]
[]
[]
[]
[null,null,null,null,null,null,null,null,null,null,null,null,null,null,null,null,null,null,null,null,null,null,null,null,null,null,null,null,null,null,null,null,null,null,null,{"$f":"IF(AP280=AP279,AJ279+1,1)","v":1},{"$f":"COUNTIF($AP$284:$AP$336,AP280)","v":0},null,null,null,null,null,{"$f":"AJ280&\"/\"&AK280","v":"1/0"}]
[]
[]
[null,null,null,null,null,null,null,null,null,null,null,null,null,null,null,null,null,null,null,null,null,null,null,null,null,null,null,null,null,null,null,null,"Dos","NOM Prénom","x","RC","NC","1/2 T","b","c","d","Club","N° Club"]
[null,null,null,null,null,null,null,null,null,null,null,null,null,null,null,null,null,null,null,null,null,null,null,null,null,null,null,null,null,null,null,null,50,"VIDAL Charles",2,{"$f":"IF(AP284=AP283,AJ283+1,1)","v":1},{"$f":"COUNTIF($AP$284:$AP$336,AP284)","v":2},null,null,null,null,"ASSUN TT",{"$f":"AJ284&\"/\"&AK284","v":"1/2"}]
[null,null,null,null,null,null,null,null,null,null,null,null,null,null,null,null,null,null,null,null,null,null,null,null,null,null,null,null,null,null,null,null,122,"VIDAL Charles",18,2,2,null,null,null,null,"ASSUN TT","2/2"]
[null,null,null,null,null,null,null,null,null,null,null,null,null,null,null,null,null,null,null,null,null,null,null,null,null,null,null,null,null,null,null,null,54,"RICOUX Bastien",11,1,4,null,null,null,null,"ATTDUCEYAVRANCH","1/4"]
[null,null,null,null,null,null,null,null,null,null,null,null,null,null,null,null,null,null,null,null,null,null,null,null,null,null,null,null,null,null,null,null,55,"ROC Ferdinand",12,2,4,null,null,null,null,"ATTDUCEYAVRANCH","2/4"]
[null,null,null,null,null,null,null,null,null,null,null,null,null,null,null,null,null,null,null,null,null,null,null,null,null,null,null,null,null,null,null,null,131,"RICOUX Bastien",27,3,4,null,null,null,null,"ATTDUCEYAVRANCH","3/4"]
[null,null,null,null,null,null,null,null,null,null,null,null,null,null,null,null,null,null,null,null,null,null,null,null,null,null,null,null,null,null,null,null,132,"ROC Ferdinand",28,4,4,null,null,null,null,"ATTDUCEYAVRANCH","4/4"]
[null,null,null,null,null,null,null,null,null,null,null,null,null,null,null,null,null,null,null,null,null,null,null,null,null,null,null,null,null,null,null,null,57,"RIGOT Noe",13,1,2,null,null,null,null,"CARANTILLAISE","1/2"]
[null,null,null,null,null,null,null,null,null,null,null,null,null,null,null,null,null,null,null,null,null,null,null,null,null,null,null,null,null,null,null,null,133,"RIGOT Noe",29,2,2,null,null,null,null,"CARANTILLAISE","2/2"]
[null,null,null,null,null,null,null,null,null,null,null,null,null,null,null,null,null,null,null,null,null,null,null,null,null,null,null,null,null,null,null,null,46,"NICOLLE Augustin",7,1,4,null,null,null,null,"COUTANCES JA","1/4"]
[null,null,null,null,null,null,null,null,null,null,null,null,null,null,null,null,null,null,null,null,null,null,null,null,null,null,null,null,null,null,null,null,48,"NICOLLE Emile",8,2,4,null,null,null,null,"COUTANCES JA","2/4"]
[null,null,null,null,null,null,null,null,null,null,null,null,null,null,null,null,null,null,null,null,null,null,null,null,null,null,null,null,null,null,null,null,127,"NICOLLE Augustin",23,3,4,null,null,null,null,"COUTANCES JA","3/4"]
[null,null,null,null,null,null,null,null,null,null,null,null,null,null,null,null,null,null,null,null,null,null,null,null,null,null,null,null,null,null,null,null,128,"NICOLLE Emile",24,4,4,null,null,null,null,"COUTANCES JA","4/4"]
[null,null,null,null,null,null,null,null,null,null,null,null,null,null,null,null,null,null,null,null,null,null,null,null,null,null,null,null,null,null,null,null,44,"LUCAS Ifig",1,1,2,null,null,null,null,"EQUEURDREVILLE","1/2"]
[null,null,null,null,null,null,null,null,null,null,null,null,null,null,null,null,null,null,null,null,null,null,null,null,null,null,null,null,null,null,null,null,121,"LUCAS Ifig",17,2,2,null,null,null,null,"EQUEURDREVILLE","2/2"]
[null,null,null,null,null,null,null,null,null,null,null,null,null,null,null,null,null,null,null,null,null,null,null,null,null,null,null,null,null,null,null,null,45,"LECLERC Alexandre-Bao",6,1,2,null,null,null,null,"OC AGNEAUX","1/2"]
[null,null,null,null,null,null,null,null,null,null,null,null,null,null,null,null,null,null,null,null,null,null,null,null,null,null,null,null,null,null,null,null,126,"LECLERC Alexandre-Bao",22,2,2,null,null,null,null,"OC AGNEAUX","2/2"]
[null,null,null,null,null,null,null,null,null,null,null,null,null,null,null,null,null,null,null,null,null,null,null,null,null,null,null,null,null,null,null,null,49,"ROBION Paul",3,1,2,null,null,null,null,"SIOUVILLE ATTLC","1/2"]
[null,null,null,null,null,null,null,null,null,null,null,null,null,null,null,null,null,null,null,null,null,null,null,null,null,null,null,null,null,null,null,null,123,"ROBION Paul",19,2,2,null,null,null,null,"SIOUVILLE ATTLC","2/2"]
[null,null,null,null,null,null,null,null,null,null,null,null,null,null,null,null,null,null,null,null,null,null,null,null,null,null,null,null,null,null,null,null,47,"LEVILLAIN Camille",4,1,6,null,null,null,null,"ST PAIR BRICQUE","1/6"]
[null,null,null,null,null,null,null,null,null,null,null,null,null,null,null,null,null,null,null,null,null,null,null,null,null,null,null,null,null,null,null,null,51,"RIPOCHE Nathan",9,2,6,null,null,null,null,"ST PAIR BRICQUE","2/6"]
[null,null,null,null,null,null,null,null,null,null,null,null,null,null,null,null,null,null,null,null,null,null,null,null,null,null,null,null,null,null,null,null,58,"PEIN Edgar",10,3,6,null,null,null,null,"ST PAIR BRICQUE","3/6"]
[null,null,null,null,null,null,null,null,null,null,null,null,null,null,null,null,null,null,null,null,null,null,null,null,null,null,null,null,null,null,null,null,124,"LEVILLAIN Camille",20,4,6,null,null,null,null,"ST PAIR BRICQUE","4/6"]
[null,null,null,null,null,null,null,null,null,null,null,null,null,null,null,null,null,null,null,null,null,null,null,null,null,null,null,null,null,null,null,null,129,"RIPOCHE Nathan",25,5,6,null,null,null,null,"ST PAIR BRICQUE","5/6"]
[null,null,null,null,null,null,null,null,null,null,null,null,null,null,null,null,null,null,null,null,null,null,null,null,null,null,null,null,null,null,null,null,130,"PEIN Edgar",26,6,6,null,null,null,null,"ST PAIR BRICQUE","6/6"]
[null,null,null,null,null,null,null,null,null,null,null,null,null,null,null,null,null,null,null,null,null,null,null,null,null,null,null,null,null,null,null,null,53,"MASSELINE Malo",14,1,4,null,null,null,null,"TORIGNAISE ESTT","1/4"]
[null,null,null,null,null,null,null,null,null,null,null,null,null,null,null,null,null,null,null,null,null,null,null,null,null,null,null,null,null,null,null,null,56,"VARIN Louis",16,2,4,null,null,null,null,"TORIGNAISE ESTT","2/4"]
[null,null,null,null,null,null,null,null,null,null,null,null,null,null,null,null,null,null,null,null,null,null,null,null,null,null,null,null,null,null,null,null,134,"MASSELINE Malo",30,3,4,null,null,null,null,"TORIGNAISE ESTT","3/4"]
[null,null,null,null,null,null,null,null,null,null,null,null,null,null,null,null,null,null,null,null,null,null,null,null,null,null,null,null,null,null,null,null,136,"VARIN Louis",32,4,4,null,null,null,null,"TORIGNAISE ESTT","4/4"]
[null,null,null,null,null,null,null,null,null,null,null,null,null,null,null,null,null,null,null,null,null,null,null,null,null,null,null,null,null,null,null,null,52,"COUEDEL-COULON Eloan",5,1,4,null,null,null,null,"TT SAINT JAMES","1/4"]
[null,null,null,null,null,null,null,null,null,null,null,null,null,null,null,null,null,null,null,null,null,null,null,null,null,null,null,null,null,null,null,null,59,"BRILLET Pacome",15,2,4,null,null,null,null,"TT SAINT JAMES","2/4"]
[null,null,null,null,null,null,null,null,null,null,null,null,null,null,null,null,null,null,null,null,null,null,null,null,null,null,null,null,null,null,null,null,125,"COUEDEL-COULON Eloan",21,3,4,null,null,null,null,"TT SAINT JAMES","3/4"]
[null,null,null,null,null,null,null,null,null,null,null,null,null,null,null,null,null,null,null,null,null,null,null,null,null,null,null,null,null,null,null,null,135,"BRILLET Pacome",31,4,4,null,null,null,null,"TT SAINT JAMES","4/4"]
[null,null,null,null,null,null,null,null,null,null,null,null,null,null,null,null,null,null,null,null,null,null,null,null,null,null,null,null,null,null,null,null,null,null,null,1,0,null,null,null,null,null,"1/0"]
[null,null,null,null,null,null,null,null,null,null,null,null,null,null,null,null,null,null,null,null,null,null,null,null,null,null,null,null,null,null,null,null,null,null,null,2,0,null,null,null,null,null,"2/0"]
[null,null,null,null,null,null,null,null,null,null,null,null,null,null,null,null,null,null,null,null,null,null,null,null,null,null,null,null,null,null,null,null,null,null,null,3,0,null,null,null,null,null,"3/0"]
[null,null,null,null,null,null,null,null,null,null,null,null,null,null,null,null,null,null,null,null,null,null,null,null,null,null,null,null,null,null,null,null,null,null,null,4,0,null,null,null,null,null,"4/0"]
[null,null,null,null,null,null,null,null,null,null,null,null,null,null,null,null,null,null,null,null,null,null,null,null,null,null,null,null,null,null,null,null,null,null,null,5,0,null,null,null,null,null,"5/0"]
[null,null,null,null,null,null,null,null,null,null,null,null,null,null,null,null,null,null,null,null,null,null,null,null,null,null,null,null,null,null,null,null,null,null,null,6,0,null,null,null,null,null,"6/0"]
[null,null,null,null,null,null,null,null,null,null,null,null,null,null,null,null,null,null,null,null,null,null,null,null,null,null,null,null,null,null,null,null,null,null,null,7,0,null,null,null,null,null,"7/0"]
[null,null,null,null,null,null,null,null,null,null,null,null,null,null,null,null,null,null,null,null,null,null,null,null,null,null,null,null,null,null,null,null,null,null,null,8,0,null,null,null,null,null,"8/0"]
[null,null,null,null,null,null,null,null,null,null,null,null,null,null,null,null,null,null,null,null,null,null,null,null,null,null,null,null,null,null,null,null,null,null,null,9,0,null,null,null,null,null,"9/0"]
[null,null,null,null,null,null,null,null,null,null,null,null,null,null,null,null,null,null,null,null,null,null,null,null,null,null,null,null,null,null,null,null,null,null,null,10,0,null,null,null,null,null,"10/0"]
[null,null,null,null,null,null,null,null,null,null,null,null,null,null,null,null,null,null,null,null,null,null,null,null,null,null,null,null,null,null,null,null,null,null,null,11,0,null,null,null,null,null,"11/0"]
[null,null,null,null,null,null,null,null,null,null,null,null,null,null,null,null,null,null,null,null,null,null,null,null,null,null,null,null,null,null,null,null,null,null,null,12,0,null,null,null,null,null,"12/0"]
[null,null,null,null,null,null,null,null,null,null,null,null,null,null,null,null,null,null,null,null,null,null,null,null,null,null,null,null,null,null,null,null,null,null,null,13,0,null,null,null,null,null,"13/0"]
[null,null,null,null,null,null,null,null,null,null,null,null,null,null,null,null,null,null,null,null,null,null,null,null,null,null,null,null,null,null,null,null,null,null,null,14,0,null,null,null,null,null,"14/0"]
[null,null,null,null,null,null,null,null,null,null,null,null,null,null,null,null,null,null,null,null,null,null,null,null,null,null,null,null,null,null,null,null,null,null,null,15,0,null,null,null,null,null,"15/0"]
[null,null,null,null,null,null,null,null,null,null,null,null,null,null,null,null,null,null,null,null,null,null,null,null,null,null,null,null,null,null,null,null,null,null,null,16,0,null,null,null,null,null,"16/0"]

{"sheet":"G-296c","index":33,"n_rows":4,"n_cols":33,"rows_kept":4,"cut":false,"hidden":false,"merged":[]}
["Clt",1,2,3,4,5,6,7,8,9,10,11,12,13,14,15,16,17,18,19,20,21,22,23,24,25,26,27,28,29,30,31,32]
["1er",{"$f":"'TS-296c'!AE17","v":0},{"$f":"'TS-296c'!AE18","v":0},{"$f":"'TS-296c'!AE19","v":0},{"$f":"'TS-296c'!AE20","v":0},{"$f":"'TS-296c'!AE21","v":0},{"$f":"'TS-296c'!AE22","v":0},{"$f":"'TS-296c'!AE23","v":0},{"$f":"'TS-296c'!AE24","v":0},{"$f":"'TS-296c'!AE25","v":0},{"$f":"'TS-296c'!AE26","v":0},{"$f":"'TS-296c'!AE27","v":0},{"$f":"'TS-296c'!AE28","v":0},{"$f":"'TS-296c'!AE29","v":0},{"$f":"'TS-296c'!AE30","v":0},{"$f":"'TS-296c'!AE31","v":0},{"$f":"'TS-296c'!AE32","v":0},{"$f":"'TS-296c'!AE33","v":0},{"$f":"'TS-296c'!AE34","v":0},{"$f":"'TS-296c'!AE35","v":0},{"$f":"'TS-296c'!AE36","v":0},{"$f":"'TS-296c'!AE37","v":0},{"$f":"'TS-296c'!AE38","v":0},{"$f":"'TS-296c'!AE39","v":0},{"$f":"'TS-296c'!AE40","v":0},{"$f":"'TS-296c'!AE41","v":0},{"$f":"'TS-296c'!AE42","v":0},{"$f":"'TS-296c'!AE43","v":0},{"$f":"'TS-296c'!AE44","v":0},{"$f":"'TS-296c'!AE45","v":0},{"$f":"'TS-296c'!AE46","v":0},{"$f":"'TS-296c'!AE47","v":0},{"$f":"'TS-296c'!AE48","v":0}]
["2ème",{"$f":"'TS-296c'!AE70","v":0},{"$f":"'TS-296c'!AE71","v":0},{"$f":"'TS-296c'!AE72","v":0},{"$f":"'TS-296c'!AE73","v":0},{"$f":"'TS-296c'!AE74","v":0},{"$f":"'TS-296c'!AE75","v":0},{"$f":"'TS-296c'!AE76","v":0},{"$f":"'TS-296c'!AE77","v":0},{"$f":"'TS-296c'!AE78","v":0},{"$f":"'TS-296c'!AE79","v":0},{"$f":"'TS-296c'!AE80","v":0},{"$f":"'TS-296c'!AE81","v":0},{"$f":"'TS-296c'!AE82","v":0},{"$f":"'TS-296c'!AE83","v":0},{"$f":"'TS-296c'!AE84","v":0},{"$f":"'TS-296c'!AE85","v":0},{"$f":"'TS-296c'!AE86","v":0},{"$f":"'TS-296c'!AE87","v":0},{"$f":"'TS-296c'!AE88","v":0},{"$f":"'TS-296c'!AE89","v":0},{"$f":"'TS-296c'!AE90","v":0},{"$f":"'TS-296c'!AE91","v":0},{"$f":"'TS-296c'!AE92","v":0},{"$f":"'TS-296c'!AE93","v":0},{"$f":"'TS-296c'!AE94","v":0},{"$f":"'TS-296c'!AE95","v":0},{"$f":"'TS-296c'!AE96","v":0},{"$f":"'TS-296c'!AE97","v":0},{"$f":"'TS-296c'!AE98","v":0},{"$f":"'TS-296c'!AE99","v":0},{"$f":"'TS-296c'!AE100","v":0},{"$f":"'TS-296c'!AE101","v":0}]
["3ème",{"$f":"'TS-296c'!AE124","v":0},{"$f":"'TS-296c'!AE125","v":0},{"$f":"'TS-296c'!AE126","v":0},{"$f":"'TS-296c'!AE127","v":0},{"$f":"'TS-296c'!AE128","v":0},{"$f":"'TS-296c'!AE129","v":0},{"$f":"'TS-296c'!AE130","v":0},{"$f":"'TS-296c'!AE131","v":0},{"$f":"'TS-296c'!AE132","v":0},{"$f":"'TS-296c'!AE133","v":0},{"$f":"'TS-296c'!AE134","v":0},{"$f":"'TS-296c'!AE135","v":0},{"$f":"'TS-296c'!AE136","v":0},{"$f":"'TS-296c'!AE137","v":0},{"$f":"'TS-296c'!AE138","v":0},{"$f":"'TS-296c'!AE139","v":0},{"$f":"'TS-296c'!AE140","v":0},{"$f":"'TS-296c'!AE141","v":0},{"$f":"'TS-296c'!AE142","v":0},{"$f":"'TS-296c'!AE143","v":0},{"$f":"'TS-296c'!AE144","v":0},{"$f":"'TS-296c'!AE145","v":0},{"$f":"'TS-296c'!AE146","v":0},{"$f":"'TS-296c'!AE147","v":0},{"$f":"'TS-296c'!AE148","v":0},{"$f":"'TS-296c'!AE149","v":0},{"$f":"'TS-296c'!AE150","v":0},{"$f":"'TS-296c'!AE151","v":0},{"$f":"'TS-296c'!AE152","v":0},{"$f":"'TS-296c'!AE153","v":0},{"$f":"'TS-296c'!AE154","v":0},{"$f":"'TS-296c'!AE155","v":0}]

{"sheet":"TS-016c","index":34,"n_rows":58,"n_cols":20,"rows_kept":58,"cut":false,"hidden":false,"merged":[[39,1,40,1],[41,1,42,1],[43,1,44,1],[43,2,46,2],[45,1,46,1],[11,1,12,1],[15,1,16,1],[17,2,20,2],[0,0,0,40],[8,10,8,14],[9,1,10,1],[9,2,12,2],[9,3,16,3],[13,1,14,1],[13,2,16,2],[17,3,24,3],[18,10,19,14],[21,2,24,2],[35,1,36,1],[19,1,20,1],[48,10,49,14],[17,1,18,1],[32,0,32,40],[34,10,34,14],[23,1,24,1],[21,1,22,1],[43,3,50,3],[49,1,50,1],[47,2,50,2],[47,1,48,1],[37,1,38,1],[35,3,42,3],[35,2,38,2],[39,2,42,2]]}
["TABLEAU DE PREPARATION AU TIRAGE AU SORT\n16 JOUEURS"]
[]
["Ce tableau sert à préparer le tirage au sort."]
["Il permet de :"]
["- déterminer avant le début du tirage au sort les numéros à condamner"]
["- déterminer les options pour les numéros à utiliser au cours des différentes étapes du tirage au sort"]
["- déterminer à partir de quelle étape il faudra surveiller les oppositions de joueurs d'un même club"]
[]
[null,"1/8","1/4","1/2","N° tableau","Bloc\nTAS","Ordre des valeurs",null,null,"Adversaire théorique du 2ème tour","Parties du 1er tour",null,null,null,null,null,"Tableau avec   qualifiés"]
[null,"HHH\nn°1","HH\nn°1","H\nn°1",1,1,1,null,null,4,1,null,"-",2]
[null,null,null,null,2,"9=",16,null,null,13,16,null,"-",15]
[null,"HHB\nn°2",null,null,3,"9=",9,null,null,12,9,null,"-",10]
[null,null,null,null,4,"5=",8,null,null,5,8,null,"-",7]
[null,"HBH\nn°3","HB\nn°2",null,5,"5=",5,null,null,8,5,null,"-",6]
[null,null,null,null,6,"9=",12,null,null,9,12,null,"-",11]
[null,"HBB\nn°4",null,null,7,"9=",13,null,null,16,13,null,"-",14]
[null,null,null,null,8,"3=",4,null,null,1,4,null,"-",3]
[null,"BHH\nn°5","BH\nn°3","B\nn°2",9,"3=",3]
[null,null,null,null,10,"9=",14,null,null,null,"numéro à condamner avant le tirage"]
[null,"BHB\nn°6",null,null,11,"9=",11]
[null,null,null,null,12,"5=",6]
[null,"BBH\nn°7","BB\nn°4",null,13,"5=",7]
[null,null,null,null,14,"9=",10]
[null,"BBB\nn°8",null,null,15,"9=",15]
[null,null,null,null,16,2,2]
[]
[]
[]
[]
[]
[]
[]
["EXEMPLE D'UTILISATION"]
[]
[null,"1/8","1/4","1/2","N° tableau","Bloc\nTAS","Ordre des valeurs",null,null,"Adversaire théorique du 2ème tour","Parties du 1er tour",null,null,null,null,null,"Tableau avec 10 qualifiés"]
[null,"HHH\nn°1","HH\nn°1","H\nn°1",1,1,1,null,null,4,1,null,"-",2,null,null,null,5,"1er de poule"]
[null,null,null,null,2,"9=",16,null,null,13,16,null,"-",15,null,null,null,5,"2ème de poule"]
[null,"HHB\nn°2",null,null,3,"9=",9,null,null,12,9,null,"-",10,null,null,null,10]
[null,null,null,null,4,"5=",8,null,null,5,8,null,"-",7]
[null,"HBH\nn°3","HB\nn°2",null,5,"5=",5,null,null,8,5,null,"-",6,null,null,"Tirage au sort "]
[null,null,null,null,6,"9=",12,null,null,9,12,null,"-",11,null,null,null,5,"1er de poule"]
[null,"HBB\nn°4",null,null,7,"9=",13,null,null,16,13,null,"-",14,null,null,null,null,1,"premier de la poule 1 en n°1"]
[null,null,null,null,8,"3=",4,null,null,1,4,null,"-",3,null,null,null,null,1,"premier de la poule 2 en n°16"]
[null,"BHH\nn°5","BH\nn°3","B\nn°2",9,"3=",3,null,null,null,null,null,null,null,null,null,null,null,2,"premiers des poules 3 et 4 : tirage pour les n° 8 et 9"]
[null,null,null,null,10,"9=",14,null,null,null,"1er de poule",null,null,null,null,null,null,null,1,"premier de la poule 5 : tirage pour les n° 5 ou 12"]
[null,"BHB\nn°6",null,null,11,"9=",11]
[null,null,null,null,12,"5=",6,null,null,null,"2ème de poule"]
[null,"BBH\nn°7","BB\nn°4",null,13,"5=",7,null,null,null,null,null,null,null,null,null,null,5,"2ème de poule dans le demi-tableau opposé de leur 1er de poule"]
[null,null,null,null,14,"9=",10,null,null,null,"numéro à condamner avant le tirage",null,null,null,null,null,null,null,3," joueurs tirage dans les n° 4 ou 13"]
[null,"BBB\nn°8",null,null,15,"9=",15,null,null,null,null,null,null,null,null,null,null,null,2," joueurs tirage dans les n° 3, 6, 11 et 14  obligatoirement contre un autre 2ème de poule"]
[null,null,null,null,16,2,2,null,null,null,null,null,null,null,null,null,null,null,null,"en 1/8ème"]
[]
[null,null,null,null,null,null,null,null,null,null,null,null,null,null,null,null,null,4,"exempts à positionner avant le TAS : les n° 1, 16, 8 et 9"]
[null,null,null,null,null,null,null,null,null,null,null,null,null,null,null,null,null,1,"exempt à positionner pendant le TAS après le tirage du 1er de la poule 5 "]
[null,null,null,null,null,null,null,null,null,null,null,null,null,null,null,null,null,1,"exempt à positionner à la fin du TAS : 1  2ème de poule tirés dans les n° 3, 6, 11 et 14"]
[]
[null,null,null,null,null,null,null,null,null,null,null,null,null,null,null,null,null,"Surveiller les oppositions des joueurs d'un même club à partir du tirage "]
[null,null,null,null,null,null,null,null,null,null,null,null,null,null,null,null,null,"des n° 5 à 8"]

{"sheet":"TS-032c","index":35,"n_rows":77,"n_cols":20,"rows_kept":77,"cut":false,"hidden":false,"merged":[[0,0,0,39],[33,2,40,2],[33,1,36,1],[21,1,24,1],[8,10,8,14],[9,1,12,1],[9,2,16,2],[9,3,24,3],[37,1,40,1],[25,3,40,3],[25,2,32,2],[25,1,28,1],[13,1,16,1],[29,1,32,1],[17,1,20,1],[17,2,24,2],[26,10,27,14],[45,1,48,1],[45,2,52,2],[45,3,60,3],[49,1,52,1],[53,1,56,1],[53,2,60,2],[57,1,60,1],[42,0,42,39],[44,10,44,14],[66,10,67,14],[61,1,64,1],[61,2,68,2],[61,3,76,3],[65,1,68,1],[69,1,72,1],[69,2,76,2],[73,1,76,1]]}
["TABLEAU DE PREPARATION AU TIRAGE AU SORT\n32 JOUEURS"]
[]
["Ce tableau sert à préparer le tirage au sort."]
["Il permet de :"]
["- déterminer avant le début du tirage au sort les numéros à condamner"]
["- déterminer les options pour les numéros à utiliser au cours des différentes étapes du tirage au sort"]
["- déterminer à partir de quelle étape il faudra surveiller les oppositions de joueurs d'un même club"]
[]
[null,"1/8","1/4","1/2","N° tableau","Bloc\nTAS","Ordre des valeurs",null,null,"Adversaire théorique du 2ème tour","Partie du 1er tour",null,null,null,null,null,"Tableau avec    qualifiés"]
[null,"HHH\nn°1","HH\nn°1","H\nn°1",1,1,1,null,null,4,1,null,"-",2]
[null,null,null,null,2,"17=",32,null,null,29,32,null,"-",31]
[null,null,null,null,3,"17=",17,null,null,20,17,null,"-",18]
[null,null,null,null,4,"9=",16,null,null,13,16,null,"-",15]
[null,"HHB\nn°2",null,null,5,"9=",9,null,null,12,9,null,"-",10]
[null,null,null,null,6,"17=",24,null,null,21,24,null,"-",23]
[null,null,null,null,7,"17=",25,null,null,28,25,null,"-",26]
[null,null,null,null,8,"5=",8,null,null,5,8,null,"-",7]
[null,"HBH\nn°3","HB\nn°2",null,9,"5=",5,null,null,8,5,null,"-",6]
[null,null,null,null,10,"17=",28,null,null,25,28,null,"-",27]
[null,null,null,null,11,"17=",21,null,null,24,21,null,"-",22]
[null,null,null,null,12,"9=",12,null,null,9,12,null,"-",11]
[null,"HBB\nn°4",null,null,13,"9=",13,null,null,16,13,null,"-",14]
[null,null,null,null,14,"17=",20,null,null,17,20,null,"-",19]
[null,null,null,null,15,"17=",29,null,null,32,29,null,"-",30]
[null,null,null,null,16,"3=",4,null,null,1,4,null,"-",3]
[null,"BHH\nn°5","BH\nn°3","B\nn°2",17,"3=",3]
[null,null,null,null,18,"17=",30,null,null,null,"numéro à condamner avant le tirage"]
[null,null,null,null,19,"17=",19]
[null,null,null,null,20,"9=",14]
[null,"BHB\nn°6",null,null,21,"9=",11]
[null,null,null,null,22,"17=",22]
[null,null,null,null,23,"17=",27]
[null,null,null,null,24,"5=",6]
[null,"BBH\nn°7","BB\nn°4",null,25,"5=",7]
[null,null,null,null,26,"17=",26]
[null,null,null,null,27,"17=",23]
[null,null,null,null,28,"9=",10]
[null,"BBB\nn°8",null,null,29,"9=",15]
[null,null,null,null,30,"17=",18]
[null,null,null,null,31,"17=",31]
[null,null,null,null,32,2,2]
[]
["EXEMPLE D'UTILISATION"]
[]
[null,"1/8","1/4","1/2","N° tableau","Bloc\nTAS","Ordre des valeurs",null,null,"Adversaire théorique du 2ème tour","Partie du 1er tour",null,null,null,null,null,"Tableau avec 18 qualifiés"]
[null,"HHH\nn°1","HH\nn°1","H\nn°1",1,1,1,null,null,4,1,null,"-",2,null,null,null,9,"1er de poule"]
[null,null,null,null,2,"17=",32,null,null,29,32,null,"-",31,null,null,null,9,"2ème de poule"]
[null,null,null,null,3,"17=",17,null,null,20,17,null,"-",18,null,null,null,18]
[null,null,null,null,4,"9=",16,null,null,13,16,null,"-",15]
[null,"HHB\nn°2",null,null,5,"9=",9,null,null,12,9,null,"-",10,null,null,"Tirage au sort "]
[null,null,null,null,6,"17=",24,null,null,21,24,null,"-",23,null,null,null,9,"1er de poule"]
[null,null,null,null,7,"17=",25,null,null,28,25,null,"-",26,null,null,null,null,1,"premier de la poule 1 en n°1"]
[null,null,null,null,8,"5=",8,null,null,5,8,null,"-",7,null,null,null,null,1,"premier de la poule 2 en n°32"]
[null,"HBH\nn°3","HB\nn°2",null,9,"5=",5,null,null,8,5,null,"-",6,null,null,null,null,2,"premiers des poules 3 et 4 : tirage pour les n° 16 et 17"]
[null,null,null,null,10,"17=",28,null,null,25,28,null,"-",27,null,null,null,null,4,"premiers des poules 5 et 8 : tirage pour les n° 8, 9, 24 et 25"]
[null,null,null,null,11,"17=",21,null,null,24,21,null,"-",22,null,null,null,null,1,"premier de la poule 9 : tirage pour les n° 5, 12, 21 et 28"]
[null,null,null,null,12,"9=",12,null,null,9,12,null,"-",11]
[null,"HBB\nn°4",null,null,13,"9=",13,null,null,16,13,null,"-",14]
[null,null,null,null,14,"17=",20,null,null,17,20,null,"-",19,null,null,null,9,"2ème de poule dans le demi-tableau opposé opposé de leur 1er de poule"]
[null,null,null,null,15,"17=",29,null,null,32,29,null,"-",30,null,null,null,null,7," joueurs tirage dans les n° 4, 5, 12, 13, 20, 21, 28 et 29"]
[null,null,null,null,16,"3=",4,null,null,1,4,null,"-",3,null,null,null,null,2," joueurs tirage dans les n° 3, 6, 11, 14, 19, 22, 27 et 30"]
[null,"BHH\nn°5","BH\nn°3","B\nn°2",17,"3=",3,null,null,null,null,null,null,null,null,null,null,null,null," obligatoirement contre un autre 2ème de poule en 1/16ème"]
[null,null,null,null,18,"17=",30,null,null,null,"1er de poule"]
[null,null,null,null,19,"17=",19,null,null,null,null,null,null,null,null,null,null,8,"exempts à positionner avant le TAS : les n° 1, 8, 9, 16, 17, 24, 25 et 32"]
[null,null,null,null,20,"9=",14,null,null,null,"2ème de poule",null,null,null,null,null,null,1,"exempt à positionner pendant le TAS après le tirage du 1er de la poule 9 "]
[null,"BHB\nn°6",null,null,21,"9=",11,null,null,null,null,null,null,null,null,null,null,5,"exempts à positionner à la fin du TAS : des 2ème de poule tirés "]
[null,null,null,null,22,"17=",22,null,null,null,"numéro à condamner avant le tirage",null,null,null,null,null,null,null,"dans les n° 4, 5, 12, 13, 20, 21, 28 et 29"]
[null,null,null,null,23,"17=",27]
[null,null,null,null,24,"5=",6,null,null,null,null,null,null,null,null,null,null,"Surveiller les oppositions des joueurs d'un même club à partir du tirage "]
[null,"BBH\nn°7","BB\nn°4",null,25,"5=",7,null,null,null,null,null,null,null,null,null,null,"du 1er de la poule 9"]
[null,null,null,null,26,"17=",26]
[null,null,null,null,27,"17=",23]
[null,null,null,null,28,"9=",10]
[null,"BBB\nn°8",null,null,29,"9=",15]
[null,null,null,null,30,"17=",18]
[null,null,null,null,31,"17=",31]
[null,null,null,null,32,2,2]

{"sheet":"TS-064c","index":36,"n_rows":141,"n_cols":41,"rows_kept":141,"cut":false,"hidden":false,"merged":[[57,2,72,2],[57,1,64,1],[74,0,74,42],[33,1,40,1],[65,1,72,1],[41,2,56,2],[41,1,48,1],[49,1,56,1],[42,10,43,14],[41,3,72,3],[0,0,0,42],[8,10,8,14],[9,1,16,1],[9,2,24,2],[9,3,40,3],[17,1,24,1],[25,1,32,1],[25,2,40,2],[125,2,140,2],[76,10,76,14],[125,1,132,1],[101,1,108,1],[93,2,108,2],[116,10,117,14],[109,3,140,3],[117,1,124,1],[93,1,100,1],[133,1,140,1],[109,2,124,2],[109,1,116,1],[77,3,108,3],[85,1,92,1],[77,2,92,2],[77,1,84,1]]}
["TABLEAU DE PREPARATION AU TIRAGE AU SORT\n64 JOUEURS"]
[]
["Ce tableau sert à préparer le tirage au sort."]
["Il permet de :"]
["- déterminer avant le début du tirage au sort les numéros à condamner"]
["- déterminer les options pour les numéros à utiliser au cours des différentes étapes du tirage au sort"]
["- déterminer à partir de quelle étape il faudra surveiller les oppositions de joueurs d'un même club"]
[]
[null,"1/8","1/4","1/2","N° tableau","Bloc\nTAS","Ordre des valeurs",null,null,"Adversaire théorique du 2ème tour","Partie du 1er tour",null,null,null,null,null,"Tableau avec  qualifiés"]
[null,"HHH\nn°1","HH\nn°1","H\nn°1",1,1,1,null,null,4,1,null,"-",2]
[null,null,null,null,2,"33=",64,null,null,61,64,null,"-",63]
[null,null,null,null,3,"33=",33,null,null,{"$f":"K12+3","v":36},33,null,"-",34]
[null,null,null,null,4,"17=",32,null,null,{"$f":"K13-3","v":29},32,null,"-",31]
[null,null,null,null,5,"17=",17,null,null,{"$f":"K14+3","v":20},17,null,"-",18]
[null,null,null,null,6,"33=",48,null,null,{"$f":"K15-3","v":45},48,null,"-",47]
[null,null,null,null,7,"33=",49,null,null,{"$f":"K16+3","v":52},49,null,"-",50]
[null,null,null,null,8,"9=",16,null,null,{"$f":"K17-3","v":13},16,null,"-",15]
[null,"HHB\nn°2",null,null,9,"9=",9,null,null,{"$f":"K18+3","v":12},9,null,"-",10]
[null,null,null,null,10,"33=",56,null,null,{"$f":"K19-3","v":53},56,null,"-",55]
[null,null,null,null,11,"33=",41,null,null,{"$f":"K20+3","v":44},41,null,"-",42]
[null,null,null,null,12,"17=",24,null,null,{"$f":"K21-3","v":21},24,null,"-",23]
[null,null,null,null,13,"17=",25,null,null,{"$f":"K22+3","v":28},25,null,"-",26]
[null,null,null,null,14,"33=",40,null,null,{"$f":"K23-3","v":37},40,null,"-",39]
[null,null,null,null,15,"33=",57,null,null,{"$f":"K24+3","v":60},57,null,"-",58]
[null,null,null,null,16,"5=",8,null,null,{"$f":"K25-3","v":5},8,null,"-",7]
[null,"HBH\nn°3","HB\nn°2",null,17,"5=",5,null,null,{"$f":"K26+3","v":8},5,null,"-",6]
[null,null,null,null,18,"33=",60,null,null,{"$f":"K27-3","v":57},60,null,"-",59]
[null,null,null,null,19,"33=",37,null,null,{"$f":"K28+3","v":40},37,null,"-",38]
[null,null,null,null,20,"17=",28,null,null,{"$f":"K29-3","v":25},28,null,"-",27]
[null,null,null,null,21,"17=",21,null,null,{"$f":"K30+3","v":24},21,null,"-",22]
[null,null,null,null,22,"33=",44,null,null,{"$f":"K31-3","v":41},44,null,"-",43]
[null,null,null,null,23,"33=",53,null,null,{"$f":"K32+3","v":56},53,null,"-",54]
[null,null,null,null,24,"9=",12,null,null,{"$f":"K33-3","v":9},12,null,"-",11]
[null,"HBB\nn°4",null,null,25,"9=",13,null,null,{"$f":"K34+3","v":16},13,null,"-",14]
[null,null,null,null,26,"33=",52,null,null,{"$f":"K35-3","v":49},52,null,"-",51]
[null,null,null,null,27,"33=",45,null,null,{"$f":"K36+3","v":48},45,null,"-",46]
[null,null,null,null,28,"17=",20,null,null,{"$f":"K37-3","v":17},20,null,"-",19]
[null,null,null,null,29,"17=",29,null,null,{"$f":"K38+3","v":32},29,null,"-",30]
[null,null,null,null,30,"33=",36,null,null,{"$f":"K39-3","v":33},36,null,"-",35]
[null,null,null,null,31,"33=",61,null,null,{"$f":"K40+3","v":64},61,null,"-",62]
[null,null,null,null,32,"3=",4,null,null,{"$f":"K41-3","v":1},4,null,"-",3]
[null,"BHH\nn°5","BH\nn°3","B\nn°2",33,"3=",3]
[null,null,null,null,34,"33=",62,null,null,null,"numéro à condamner avant le tirage"]
[null,null,null,null,35,"33=",35]
[null,null,null,null,36,"17=",30]
[null,null,null,null,37,"17=",19]
[null,null,null,null,38,"33=",46]
[null,null,null,null,39,"33=",51]
[null,null,null,null,40,"9=",14]
[null,"BHB\nn°6",null,null,41,"9=",11]
[null,null,null,null,42,"33=",54]
[null,null,null,null,43,"33=",43]
[null,null,null,null,44,"17=",22]
[null,null,null,null,45,"17=",27]
[null,null,null,null,46,"33=",38]
[null,null,null,null,47,"33=",59]
[null,null,null,null,48,"5=",6]
[null,"BBH\nn°7","BB\nn°4",null,49,"5=",7]
[null,null,null,null,50,"33=",58]
[null,null,null,null,51,"33=",39]
[null,null,null,null,52,"17=",26]
[null,null,null,null,53,"17=",23]
[null,null,null,null,54,"33=",42]
[null,null,null,null,55,"33=",55]
[null,null,null,null,56,"9=",10]
[null,"BBB\nn°8",null,null,57,"9=",15]
[null,null,null,null,58,"33=",50]
[null,null,null,null,59,"33=",47]
[null,null,null,null,60,"17=",18]
[null,null,null,null,61,"17=",31]
[null,null,null,null,62,"33=",34]
[null,null,null,null,63,"33=",63]
[null,null,null,null,64,2,2]
[]
["EXEMPLE D'UTILISATION"]
[null,null,null,null,null,null,null,null,null,null,null,null,null,null,null,null,null,null,null,null,null,null,null,null,null,null,null,null,null,null,null,null,null,null,null,null,null,65]
[null,"1/8","1/4","1/2","N° tableau","Bloc\nTAS","Ordre des valeurs",null,null,"Adversaire théorique du 2ème tour","Partie du 1er tour",null,null,null,null,null,"Tableau avec 40 qualifiés"]
[null,"HHH\nn°1","HH\nn°1","H\nn°1",1,1,1,null,null,4,1,null,"-",2,null,null,null,16,"têtes de séries exemptes de poule"]
[null,null,null,null,2,"33=",64,null,null,61,64,null,"-",63,null,null,null,12,"1er de poule"]
[null,null,null,null,3,"33=",33,null,null,{"$f":"K80+3","v":36},33,null,"-",34,null,null,null,12,"2ème de poule"]
[null,null,null,null,4,"17=",32,null,null,{"$f":"K81-3","v":29},32,null,"-",31,null,null,null,{"$f":"SUM(R78:R80)","v":40}]
[null,null,null,null,5,"17=",17,null,null,{"$f":"K82+3","v":20},17,null,"-",18]
[null,null,null,null,6,"33=",48,null,null,{"$f":"K83-3","v":45},48,null,"-",47,null,null,"Tirage au sort "]
[null,null,null,null,7,"33=",49,null,null,{"$f":"K84+3","v":52},49,null,"-",50,null,null,null,16,"têtes de séries exemptes de poule"]
[null,null,null,null,8,"9=",16,null,null,{"$f":"K85-3","v":13},16,null,"-",15,null,null,null,null,"1 en n°1"]
[null,"HHB\nn°2",null,null,9,"9=",9,null,null,{"$f":"K86+3","v":12},9,null,"-",10,null,null,null,null,"2 en n°64"]
[null,null,null,null,10,"33=",56,null,null,{"$f":"K87-3","v":53},56,null,"-",55,null,null,null,null,"3 et 4 tirage pour les n° 32 et 33"]
[null,null,null,null,11,"33=",41,null,null,{"$f":"K88+3","v":44},41,null,"-",42,null,null,null,null,"5 à 8 tirage pour les n° 16, 17, 48 et 49"]
[null,null,null,null,12,"17=",24,null,null,{"$f":"K89-3","v":21},24,null,"-",23,null,null,null,null,"9 à 16 tirage pour les n° 8, 9, 24, 25, 40, 41, 56 et 57"]
[null,null,null,null,13,"17=",25,null,null,{"$f":"K90+3","v":28},25,null,"-",26]
[null,null,null,null,14,"33=",40,null,null,{"$f":"K91-3","v":37},40,null,"-",39,null,null,null,12,"1er de poule"]
[null,null,null,null,15,"33=",57,null,null,{"$f":"K92+3","v":60},57,null,"-",58,null,null,null,null,12,"premiers des poules 1 à 12 : tirage pour les n° 5,60,37,28,21,44,53,12,13,52,45 et 20"]
[null,null,null,null,16,"5=",8,null,null,{"$f":"K93-3","v":5},8,null,"-",7]
[null,"HBH\nn°3","HB\nn°2",null,17,"5=",5,null,null,{"$f":"K94+3","v":8},5,null,"-",6]
[null,null,null,null,18,"33=",60,null,null,{"$f":"K95-3","v":57},60,null,"-",59,null,null,null,12,"2ème de poule dans le demi-tableau opposé opposé de leur 1er de poule"]
[null,null,null,null,19,"33=",37,null,null,{"$f":"K96+3","v":40},37,null,"-",38,null,null,null,null,8," joueurs tirage dans les n° 29,36,61,4,3,62,35 et 30"]
[null,null,null,null,20,"17=",28,null,null,{"$f":"K97-3","v":25},28,null,"-",27,null,null,null,null,4," joueurs tirage dans les n° 37 à 44"]
[null,null,null,null,21,"17=",21,null,null,{"$f":"K98+3","v":24},21,null,"-",22,null,null,null,null,null,"1 par 1/8ème de tableau libre (2ème, 3ème, 6ème et 7ème 1/8ème)"]
[null,null,null,null,22,"33=",44,null,null,{"$f":"K99-3","v":41},44,null,"-",43]
[null,null,null,null,23,"33=",53,null,null,{"$f":"K100+3","v":56},53,null,"-",54]
[null,null,null,null,24,"9=",12,null,null,{"$f":"K101-3","v":9},12,null,"-",11,null,null,null,20,"exempts à positionner avant le TAS"]
[null,"HBB\nn°4",null,null,25,"9=",13,null,null,{"$f":"K102+3","v":16},13,null,"-",14,null,null,null,4,"exempts à positionner pendant le TAS"]
[null,null,null,null,26,"33=",52,null,null,{"$f":"K103-3","v":49},52,null,"-",51]
[null,null,null,null,27,"33=",45,null,null,{"$f":"K104+3","v":48},45,null,"-",46,null,null,null,20,"exempts à positionner avant le TAS : les n° 1,64,33,32,17,48,16,9,56,41,24,25,40,57,8,5,60,37 et 28"]
[null,null,null,null,28,"17=",20,null,null,{"$f":"K105-3","v":17},20,null,"-",19,null,null,null,4,"exempts à positionner pendant le TAS : "]
[null,null,null,null,29,"17=",29,null,null,{"$f":"K106+3","v":32},29,null,"-",30,null,null,null,null,"1 par quart de tableau dès qu'un n° dans les Q2, Q3, Q6 et Q7 est tiré",null,null,null,null,null,null,null,null,null,null,null,null,null,null,null,null,null,null,"Q2","Q3","Q6","Q7"]
[null,null,null,null,30,"33=",36,null,null,{"$f":"K107-3","v":33},36,null,"-",35,null,null,null,null,null,null,null,null,null,null,null,null,null,null,null,null,null,null,null,null,null,null,null,11,19,46,51]
[null,null,null,null,31,"33=",61,null,null,{"$f":"K108+3","v":64},61,null,"-",62,null,null,null,"Surveiller les oppositions des joueurs d'un même club à partir du tirage ",null,null,null,null,null,null,null,null,null,null,null,null,null,null,null,null,null,null,null,14,22,46,54]
[null,null,null,null,32,"3=",4,null,null,{"$f":"K109-3","v":1},4,null,"-",3,null,null,null,"du n° 17"]
[null,"BHH\nn°5","BH\nn°3","B\nn°2",33,"3=",3]
[null,null,null,null,34,"33=",62,null,null,null,"Tête de série"]
[null,null,null,null,35,"33=",35]
[null,null,null,null,36,"17=",30,null,null,null,"1er de poule"]
[null,null,null,null,37,"17=",19]
[null,null,null,null,38,"33=",46,null,null,null,"2ème de poule"]
[null,null,null,null,39,"33=",51]
[null,null,null,null,40,"9=",14,null,null,null,"numéro à condamner avant le tirage"]
[null,"BHB\nn°6",null,null,41,"9=",11]
[null,null,null,null,42,"33=",54]
[null,null,null,null,43,"33=",43]
[null,null,null,null,44,"17=",22]
[null,null,null,null,45,"17=",27]
[null,null,null,null,46,"33=",38]
[null,null,null,null,47,"33=",59]
[null,null,null,null,48,"5=",6]
[null,"BBH\nn°7","BB\nn°4",null,49,"5=",7]
[null,null,null,null,50,"33=",58]
[null,null,null,null,51,"33=",39]
[null,null,null,null,52,"17=",26]
[null,null,null,null,53,"17=",23]
[null,null,null,null,54,"33=",42]
[null,null,null,null,55,"33=",55]
[null,null,null,null,56,"9=",10]
[null,"BBB\nn°8",null,null,57,"9=",15]
[null,null,null,null,58,"33=",50]
[null,null,null,null,59,"33=",47]
[null,null,null,null,60,"17=",18]
[null,null,null,null,61,"17=",31]
[null,null,null,null,62,"33=",34]
[null,null,null,null,63,"33=",63]
[null,null,null,null,64,2,2]

{"sheet":"TS-128c","index":37,"n_rows":73,"n_cols":19,"rows_kept":73,"cut":false,"hidden":false,"merged":[[57,8,72,8],[0,0,0,40],[8,4,8,5],[8,12,8,16],[9,1,24,1],[9,2,40,2],[9,3,72,3],[9,6,72,6],[9,7,40,7],[9,8,24,8],[25,1,40,1],[25,8,40,8],[41,1,56,1],[41,2,72,2],[41,7,72,7],[41,8,56,8],[57,1,72,1]]}
["TABLEAU DE PREPARATION AU TIRAGE AU SORT\n128 JOUEURS"]
[]
["Ce tableau sert à préparer le tirage au sort."]
["Il permet de :"]
["- déterminer avant le début du tirage au sort les numéros à condamner"]
["- déterminer les options pour les numéros à utiliser au cours des différentes étapes du tirage au sort"]
["- déterminer à partir de quelle étape il faudra surveiller les oppositions de joueurs d'un même club"]
[]
[null,"1/8","1/4","1/2","N° du tableau",null,"1/2","1/4","1/8",null,null,"Adversaire théorique du 2ème tour","Partie du 1er tour",null,null,null,null,null,"Tableau avec  qualifiés"]
[null,"HHH\nn°1","HH\nn°1","H\nn°1",1,65,"B\nn°2","BH\nn°3","BHH\nn°5",null,null,4,1,null,"-",2]
[null,null,null,null,{"$f":"E10+1","v":2},{"$f":"F10+1","v":66},null,null,null,null,null,125,128,null,"-",127]
[null,null,null,null,{"$f":"E11+1","v":3},67,null,null,null,null,null,68,65,null,"-",66]
[null,null,null,null,4,68,null,null,null,null,null,61,64,null,"-",63]
[null,null,null,null,5,69,null,null,null,null,null,36,33,null,"-",34]
[null,null,null,null,6,70,null,null,null,null,null,93,96,null,"-",95]
[null,null,null,null,7,71,null,null,null,null,null,100,97,null,"-",98]
[null,null,null,null,8,72,null,null,null,null,null,29,32,null,"-",31]
[null,null,null,null,9,73,null,null,null,null,null,20,17,null,"-",18]
[null,null,null,null,10,74,null,null,null,null,null,109,112,null,"-",111]
[null,null,null,null,11,75,null,null,null,null,null,84,81,null,"-",82]
[null,null,null,null,12,76,null,null,null,null,null,45,48,null,"-",47]
[null,null,null,null,13,77,null,null,null,null,null,52,49,null,"-",50]
[null,null,null,null,14,78,null,null,null,null,null,77,80,null,"-",79]
[null,null,null,null,15,79,null,null,null,null,null,116,113,null,"-",114]
[null,null,null,null,16,80,null,null,null,null,null,13,16,null,"-",15]
[null,"HHB\nn°2",null,null,17,81,null,null,"BHB\nn°6",null,null,12,9,null,"-",10]
[null,null,null,null,18,82,null,null,null,null,null,117,120,null,"-",119]
[null,null,null,null,{"$f":"E27+1","v":19},83,null,null,null,null,null,76,73,null,"-",74]
[null,null,null,null,20,84,null,null,null,null,null,53,56,null,"-",55]
[null,null,null,null,21,85,null,null,null,null,null,44,41,null,"-",42]
[null,null,null,null,22,86,null,null,null,null,null,85,88,null,"-",87]
[null,null,null,null,23,87,null,null,null,null,null,108,105,null,"-",106]
[null,null,null,null,24,88,null,null,null,null,null,21,24,null,"-",23]
[null,null,null,null,25,89,null,null,null,null,null,28,25,null,"-",26]
[null,null,null,null,26,90,null,null,null,null,null,101,104,null,"-",103]
[null,null,null,null,27,91,null,null,null,null,null,92,89,null,"-",90]
[null,null,null,null,28,92,null,null,null,null,null,37,40,null,"-",39]
[null,null,null,null,29,93,null,null,null,null,null,60,57,null,"-",58]
[null,null,null,null,30,94,null,null,null,null,null,69,72,null,"-",71]
[null,null,null,null,31,95,null,null,null,null,null,124,121,null,"-",122]
[null,null,null,null,32,96,null,null,null,null,null,5,8,null,"-",7]
[null,"HBH\nn°3","HB\nn°2",null,33,97,null,"BB\nn°4","BBH\nn°7",null,null,8,5,null,"-",6]
[null,null,null,null,34,98,null,null,null,null,null,121,124,null,"-",123]
[null,null,null,null,{"$f":"E43+1","v":35},99,null,null,null,null,null,72,69,null,"-",70]
[null,null,null,null,36,100,null,null,null,null,null,57,60,null,"-",59]
[null,null,null,null,37,101,null,null,null,null,null,40,37,null,"-",38]
[null,null,null,null,38,102,null,null,null,null,null,89,92,null,"-",91]
[null,null,null,null,39,103,null,null,null,null,null,104,101,null,"-",102]
[null,null,null,null,40,104,null,null,null,null,null,25,28,null,"-",27]
[null,null,null,null,41,105,null,null,null,null,null,24,21,null,"-",22]
[null,null,null,null,42,106,null,null,null,null,null,105,108,null,"-",107]
[null,null,null,null,43,107,null,null,null,null,null,88,85,null,"-",86]
[null,null,null,null,44,108,null,null,null,null,null,41,44,null,"-",43]
[null,null,null,null,45,109,null,null,null,null,null,56,53,null,"-",54]
[null,null,null,null,46,110,null,null,null,null,null,73,76,null,"-",75]
[null,null,null,null,47,111,null,null,null,null,null,120,117,null,"-",118]
[null,null,null,null,48,112,null,null,null,null,null,9,12,null,"-",11]
[null,"HBB\nn°4",null,null,49,113,null,null,"BBB\nn°8",null,null,16,13,null,"-",14]
[null,null,null,null,50,114,null,null,null,null,null,113,116,null,"-",115]
[null,null,null,null,{"$f":"E59+1","v":51},115,null,null,null,null,null,80,77,null,"-",78]
[null,null,null,null,52,116,null,null,null,null,null,49,52,null,"-",51]
[null,null,null,null,53,117,null,null,null,null,null,48,45,null,"-",46]
[null,null,null,null,54,118,null,null,null,null,null,81,84,null,"-",83]
[null,null,null,null,55,119,null,null,null,null,null,112,109,null,"-",110]
[null,null,null,null,56,120,null,null,null,null,null,17,20,null,"-",19]
[null,null,null,null,57,121,null,null,null,null,null,32,29,null,"-",30]
[null,null,null,null,58,122,null,null,null,null,null,97,100,null,"-",99]
[null,null,null,null,59,123,null,null,null,null,null,96,93,null,"-",94]
[null,null,null,null,60,124,null,null,null,null,null,33,36,null,"-",35]
[null,null,null,null,61,125,null,null,null,null,null,64,61,null,"-",62]
[null,null,null,null,62,126,null,null,null,null,null,65,68,null,"-",67]
[null,null,null,null,63,127,null,null,null,null,null,128,125,null,"-",126]
[null,null,null,null,64,128,null,null,null,null,null,1,4,null,"-",3]